{"text_format":"1","workbook":"xlsx","n_sheets":14,"sheets":["Welcome","Company_Information","Lists","No_CMS","HAP_ID","CMS_Info","CMS_Detail","Limits_Detail","Summary_Report_CMS","Summary_Report_Limits","Description_of_CMS_Changes","Certification","Revisions","Worksheet Map"],"not_rendered":{"charts":0,"images":1,"macros":1,"external_links":0,"defined_names":6,"comments":0,"pivot_tables":0},"unopened":[],"bounds":{"document_bytes":16777216,"sheet_cells":100000,"rows_first":2000,"rows_last":500,"rows_between":2000,"halvings":0,"cell_chars":16384,"cell_head_chars":4096},"cells_cut":0,"cells_raw":0,"read":"whole","date_system":"1900"}

{"sheet":"Welcome","index":0,"n_rows":15,"n_cols":2,"rows_kept":15,"cut":false,"hidden":false,"merged":[]}
["DO NOT REMOVE OR EDIT INFORMATION IN ROWS 1 THROUGH 5\nFOR INTERNAL USE ONLY"]
["Template Name","63.5912 (d) Semiannual Compliance Report (Spreadsheet Template)"]
["CitationID","63.5912(d)"]
["Template Version","v1.01"]
["Last Updated Date",45391]
["Blank","OMB Control No.: 2060-0509"]
[null,"For further Paperwork Reduction Act information see: \nhttps://www.epa.gov/electronic-reporting-air-emissions/paperwork-reduction-act-pra-cedri-and-ert"]
["Blank","40 CFR Part 63, Subpart WWWW National Emission Standards for Hazardous Air Pollutants: Reinforced Plastic Composites Production - §63.5912(d) Semiannual Compliance Report Spreadsheet Template"]
[null,"Instructions for Spreadsheet Template\n\nPurpose:\nThis spreadsheet template was designed by the U.S. EPA to facilitate Semiannual Compliance reporting for facilities subject under the 40 CFR part 63, subpart WWWW National Emission Standards for Hazardous Air Pollutants: Reinforced Plastic Composites Production.  \n"]
[null,"Electronic reporting:\nElectronic submission of Semiannual Compliance Reports through the EPA's Compliance and Emissions Data Reporting Interface (CEDRI) is required under §63.5912(g). CEDRI is accessed through the EPA's Central Data Exchange (https://cdx.epa.gov).\n"]
["Blank","The CEDRI spreadsheet template upload feature allows you to submit data in a single report for a single company or multiple companies, as well as multiple sites, using this EPA provided Excel workbook.  Data for each company must be entered into the worksheet labeled \"Company Information\" in this Excel workbook.  Each row in the \"Company Information\" worksheet includes the data for a single company. The Company Record No. will be used to match the information on each tab to the appropriate company. \n\nFor each facility record found in the \"Company Information\" worksheet, you may reference a single file attachment that includes additional information. \n"]
[null,"IMPORTANT: The spreadsheet must be uploaded into CEDRI as a single ZIP file, which must include this Excel workbook and any related attachments that were referenced in the workbook (i.e., additional information file found in the \"Company Information\" worksheet).\n\nNote: If you are uploading file attachments for your report, the uploaded files may be in any format (e.g., zip, docx, PDF). If you would like to include an Excel file(s) as an attachment, you must first zip the excel file(s) into a separate ZIP file to the master ZIP file that will be uploaded into CEDRI.\n"]
["Blank","Once all data have been entered in the worksheet, combine this Excel workbook and all attachment files (including any ZIP file containing separate excel file(s), if applicable) into a single ZIP file for upload to CEDRI.\n\nPlease ensure your report includes all of the required data elements found in the listed citations below for this spreadsheet upload submission.\n"]
[null,"Do not submit information you claim as confidential business information (CBI) to EPA via CEDRI. EPA will make all the information submitted through this form via CEDRI available to the public without further notice to you. Anything submitted using CEDRI cannot later be claimed to be CBI. Furthermore, under CAA section 114(c) emissions data is not entitled to confidential treatment and requires EPA to make emissions data available to the public. Thus, emissions data will not be protected as CBI and will be made publicly available.\n\nAlthough we do not expect persons to assert a claim of CBI, if persons wish to assert a CBI claim, you must submit the report via CEDRI with the CBI omitted and mail a complete report, including any information claimed to be CBI, to EPA on a compact disc, flash drive, or other commonly used electronic storage media via U.S. postal service. You must mark the outside of the digital storage media as CBI and then identify electronically within the digital storage media the specific information that is claimed as CBI. Mail the media to the address in the referencing federal regulation. If no address is specified, mail the media to:\n\nU.S. EPA/OAQPS/CORE CBI Office Attention: Group Leader, \nMeasurement Policy Group MD C404-02\n4930 Old Page Rd\nDurham, North Carolina 27703"]
["Blank","Template Navigation and Tabs to Complete:\nGray Tabs:  The gray tab (Company_Information) contains general information that is likely to be unchanged from report to report.  After completing the gray tab, the workbook may be saved as a site specific template to use in subsequent reports to limit subsequent data entry.  \n\nGreen Tabs:  The green tab (Certification) is to be completed for all sources for the Semiannual report.   \n\nOrange Tabs:  The orange tab (No_CMS) is to be completed for all sources with no continuous monitoring systems (CMS).  Some cells are linked to previous tabs or are calculations dependent upon data entry.  \n\nBlue Tabs:  Blue tabs (HAP_ID, CMS_Info, CMS_Detail, Limits_Details, Summary_Report_CMS, Summary_Report_Limits, , and Description_of_CMS_Changes) are to be completed for sources which use CMS to comply with the organic HAP emission limit.  The Summary_Report_CMS and Summary_Report_Limits tabs use information entered in the Deviation_CMS_Detail and Deviation_Limits_Detail tabs to complete.       \n\nWithin the tabs, example rows are colored light red (rows 14 through 23), and the XML tags (row 13) are colored green.  These rows are locked; no data entry is made in these rows.  Some cells have dynamic dropdown menus dependant on entry on other tabs, these will be blank until the appropriate data is completed."]

{"sheet":"Company_Information","index":1,"n_rows":33,"n_cols":15,"rows_kept":33,"cut":false,"hidden":false,"merged":[[10,3,10,9],[10,1,10,2]]}
[null,"DO NOT REMOVE OR EDIT INFORMATION IN ROWS 1 THROUGH 5\nFOR INTERNAL USE ONLY"]
[null,"Template Name",{"$f":"+Welcome!B2","v":"63.5912 (d) Semiannual Compliance Report (Spreadsheet Template)"}]
[null,"CitationID",{"$f":"+Welcome!B3","v":"63.5912(d)"}]
[null,"Template Version",{"$f":"+Welcome!B4","v":"v1.01"}]
[null,"Last Updated Date",{"$f":"+Welcome!B5","v":45391}]
[]
[null,"40 CFR Part 63, Subpart WWWW National Emission Standards for Hazardous Air Pollutants: Reinforced Plastic Composites Production"]
[null,"\n"]
[]
[]
[null,"§63.5912(d) Semiannual Compliance Report Spreadsheet Template",null,"SITE INFORMATION",null,null,null,null,null,null,"REPORTING PERIOD",null,null,"ADDITIONAL INFORMATION"]
[null,"Company Record No. \n(Field value will automatically generate if a value is not entered.)","Company Name \n(§63.5910(c)(1))","Address \n(§63.5910(c)(1))","Address 2 ","City\n(§63.5910(c)(1))","County","State Abbreviation \n(§63.5910(c)(1))","Zip Code \n(§63.5910(c)(1))","Responsible Agency Facility ID \n(State Facility Identifier)","Date of Report \n(§63.5910(c)(3)","Beginning Date of Reporting Period  \n(§63.5764(c)(3))","Ending Date of\n Reporting Period\n(§63.5764(c)(3))","Please enter any additional information.","Enter associated file name reference. "]
[null,"RecordId","CompanyName","AddressLine1","AddressLine2","CityName","CountyName","StateName","ZIPCode","StateFacID","ReportDate","PeriodStartDate","PeriodEndDate","AddInfo","AddFile"]
[null,"e.g.: 1","e.g.: ABC Company","e.g.: 123 Main Street","e.g.: Suite 100","e.g.: Brooklyn","e.g.: Kings","e.g.: NY","e.g.: 11221","e.g.: 9145555555","e.g.: 7/15/2017","e.g.: 01/01/2017","e.g.: 6/30/2017",null,"e.g.: addlinfo.zip "]
[]
[]
[]
[]
[]
[]
[]
[]
[]
[null,{"$f":"IF(C24=\"\",\"\",MAX(B$23:$B23)+1)","v":""}]
[null,{"$f":"IF(C25=\"\",\"\",MAX(B$23:$B24)+1)","v":""}]
[null,{"$f":"IF(C26=\"\",\"\",MAX(B$23:$B25)+1)","v":""}]
[null,{"$f":"IF(C27=\"\",\"\",MAX(B$23:$B26)+1)","v":""}]
[null,{"$f":"IF(C28=\"\",\"\",MAX(B$23:$B27)+1)","v":""}]
[null,{"$f":"IF(C29=\"\",\"\",MAX(B$23:$B28)+1)","v":""}]
[null,{"$f":"IF(C30=\"\",\"\",MAX(B$23:$B29)+1)","v":""}]
[null,{"$f":"IF(C31=\"\",\"\",MAX(B$23:$B30)+1)","v":""}]
[null,{"$f":"IF(C32=\"\",\"\",MAX(B$23:$B31)+1)","v":""}]
[null,{"$f":"IF(C33=\"\",\"\",MAX(B$23:$B32)+1)","v":""}]

{"sheet":"Lists","index":2,"n_rows":477,"n_cols":19,"rows_kept":477,"cut":false,"hidden":true,"merged":[]}
["Num","Unit","Unitlist",null,"ApplicationMethods",null,"Num","CEM","CEMID",null,"Column1","Companylist","Column2",null,"CMSCauseslist",null,"Limits",null,"States"]
[{"$f":"+IF(B2=\"\",\"\",MAX(A1:A$1)+1)","v":""},{"$f":"IF(+HAP_ID!C24=\"\",\"\",IF(COUNTIF(HAP_ID!$C24:$C$100,HAP_ID!C24)=1,HAP_ID!C24,\"\"))","v":""},{"$f":"+IFERROR(INDEX($B$2:$B$501,MATCH(ROW()-ROW($C$1),$A$2:$A$501,0)),\"\")","v":""},null,"Atomized (Spray)",null,{"$f":"+IF(H2=\"\",\"\",MAX(G1:G$1)+1)","v":""},{"$f":"IF(+CMS_Info!D24=\"\",\"\",IF(COUNTIF(CMS_Info!$D24:$D$100,CMS_Info!D24)=1,CMS_Info!D24,\"\"))","v":""},{"$f":"+IFERROR(INDEX($H$2:$H$501,MATCH(ROW()-ROW($I$1),$G$2:$G$501,0)),\"\")","v":""},null,{"$f":"+IF(L2=\"\",\"\",MAX(K1:K$1)+1)","v":""},{"$f":"IF(Company_Information!B24=\"\",\"\",Company_Information!B24)","v":""},{"$f":"+IFERROR(INDEX($L$2:$L$11,MATCH(ROW()-ROW($M$1),$K$2:$K$11,0)),\"\")","v":""},null,"Monitoring Equipment Malfunctions",null,"Organic HAP Emissions",null,"AK"]
[{"$f":"+IF(B3=\"\",\"\",MAX(A$1:A2)+1)","v":""},{"$f":"IF(+HAP_ID!C25=\"\",\"\",IF(COUNTIF(HAP_ID!$C25:$C$100,HAP_ID!C25)=1,HAP_ID!C25,\"\"))","v":""},{"$f":"+IFERROR(INDEX($B$2:$B$501,MATCH(ROW()-ROW($C$1),$A$2:$A$501,0)),\"\")","v":""},null,"Atomized, plus vacuum bagging with roll-out",null,{"$f":"+IF(H3=\"\",\"\",MAX(G$1:G2)+1)","v":""},{"$f":"IF(+CMS_Info!D25=\"\",\"\",IF(COUNTIF(CMS_Info!$D25:$D$100,CMS_Info!D25)=1,CMS_Info!D25,\"\"))","v":""},{"$f":"+IFERROR(INDEX($H$2:$H$501,MATCH(ROW()-ROW($I$1),$G$2:$G$501,0)),\"\")","v":""},null,{"$f":"+IF(L3=\"\",\"\",MAX(K$1:K2)+1)","v":""},{"$f":"IF(Company_Information!B25=\"\",\"\",Company_Information!B25)","v":""},"",null,"Nonmonitoring Equipment Malfunctions",null,"Organic HAP Emission Reduction",null,"AL"]
[{"$f":"+IF(B4=\"\",\"\",MAX(A$1:A3)+1)","v":""},{"$f":"IF(+HAP_ID!C26=\"\",\"\",IF(COUNTIF(HAP_ID!$C26:$C$100,HAP_ID!C26)=1,HAP_ID!C26,\"\"))","v":""},"",null,"Atomized, plus vacuum bagging without roll-out",null,{"$f":"+IF(H4=\"\",\"\",MAX(G$1:G3)+1)","v":""},{"$f":"IF(+CMS_Info!D26=\"\",\"\",IF(COUNTIF(CMS_Info!$D26:$D$100,CMS_Info!D26)=1,CMS_Info!D26,\"\"))","v":""},"",null,{"$f":"+IF(L4=\"\",\"\",MAX(K$1:K3)+1)","v":""},{"$f":"IF(Company_Information!B26=\"\",\"\",Company_Information!B26)","v":""},"",null,"Quality Assurance/Quality Control Calibrations",null,"Alternative Organic HAP Emission Limits (Table 5 of Subpart WWWW)",null,"AR"]
[{"$f":"+IF(B5=\"\",\"\",MAX(A$1:A4)+1)","v":""},{"$f":"IF(+HAP_ID!C27=\"\",\"\",IF(COUNTIF(HAP_ID!$C27:$C$100,HAP_ID!C27)=1,HAP_ID!C27,\"\"))","v":""},"",null,"Nonatomized (Nonspray)",null,{"$f":"+IF(H5=\"\",\"\",MAX(G$1:G4)+1)","v":""},{"$f":"IF(+CMS_Info!D27=\"\",\"\",IF(COUNTIF(CMS_Info!$D27:$D$100,CMS_Info!D27)=1,CMS_Info!D27,\"\"))","v":""},"",null,{"$f":"+IF(L5=\"\",\"\",MAX(K$1:K4)+1)","v":""},{"$f":"IF(Company_Information!B27=\"\",\"\",Company_Information!B27)","v":""},"",null,"Other Known Causes",null,"Same Resin Across Different Operations (Table 7 of Supart WWWW)",null,"AS"]
[{"$f":"+IF(B6=\"\",\"\",MAX(A$1:A5)+1)","v":""},{"$f":"IF(+HAP_ID!C28=\"\",\"\",IF(COUNTIF(HAP_ID!$C28:$C$100,HAP_ID!C28)=1,HAP_ID!C28,\"\"))","v":""},"",null,"Nonatomized , plus vacuum bagging with roll-out",null,{"$f":"+IF(H6=\"\",\"\",MAX(G$1:G5)+1)","v":""},{"$f":"IF(+CMS_Info!D28=\"\",\"\",IF(COUNTIF(CMS_Info!$D28:$D$100,CMS_Info!D28)=1,CMS_Info!D28,\"\"))","v":""},"",null,{"$f":"+IF(L6=\"\",\"\",MAX(K$1:K5)+1)","v":""},{"$f":"IF(Company_Information!B28=\"\",\"\",Company_Information!B28)","v":""},"",null,"Other Unknown Causes",null,"Emissions Capture System - Flow Rate",null,"AZ"]
[{"$f":"+IF(B7=\"\",\"\",MAX(A$1:A6)+1)","v":""},{"$f":"IF(+HAP_ID!C29=\"\",\"\",IF(COUNTIF(HAP_ID!$C29:$C$100,HAP_ID!C29)=1,HAP_ID!C29,\"\"))","v":""},"",null,"Nonatomized, plus vacuum bagging without roll-out",null,{"$f":"+IF(H7=\"\",\"\",MAX(G$1:G6)+1)","v":""},{"$f":"IF(+CMS_Info!D29=\"\",\"\",IF(COUNTIF(CMS_Info!$D29:$D$100,CMS_Info!D29)=1,CMS_Info!D29,\"\"))","v":""},"",null,{"$f":"+IF(L7=\"\",\"\",MAX(K$1:K6)+1)","v":""},{"$f":"IF(Company_Information!B29=\"\",\"\",Company_Information!B29)","v":""},"",null,null,null,"Absorber Liquid Temperature",null,"CA"]
[{"$f":"+IF(B8=\"\",\"\",MAX(A$1:A7)+1)","v":""},{"$f":"IF(+HAP_ID!C30=\"\",\"\",IF(COUNTIF(HAP_ID!$C30:$C$100,HAP_ID!C30)=1,HAP_ID!C30,\"\"))","v":""},"",null,"Any Method",null,{"$f":"+IF(H8=\"\",\"\",MAX(G$1:G7)+1)","v":""},{"$f":"IF(+CMS_Info!D30=\"\",\"\",IF(COUNTIF(CMS_Info!$D30:$D$100,CMS_Info!D30)=1,CMS_Info!D30,\"\"))","v":""},"",null,{"$f":"+IF(L8=\"\",\"\",MAX(K$1:K7)+1)","v":""},{"$f":"IF(Company_Information!B30=\"\",\"\",Company_Information!B30)","v":""},"",null,null,null,"Absorber Specific Gravity",null,"CO"]
[{"$f":"+IF(B9=\"\",\"\",MAX(A$1:A8)+1)","v":""},{"$f":"IF(+HAP_ID!C31=\"\",\"\",IF(COUNTIF(HAP_ID!$C31:$C$100,HAP_ID!C31)=1,HAP_ID!C31,\"\"))","v":""},"",null,null,null,{"$f":"+IF(H9=\"\",\"\",MAX(G$1:G8)+1)","v":""},{"$f":"IF(+CMS_Info!D31=\"\",\"\",IF(COUNTIF(CMS_Info!$D31:$D$100,CMS_Info!D31)=1,CMS_Info!D31,\"\"))","v":""},"",null,{"$f":"+IF(L9=\"\",\"\",MAX(K$1:K8)+1)","v":""},{"$f":"IF(Company_Information!B31=\"\",\"\",Company_Information!B31)","v":""},"",null,null,null,"Condenser Exit Temperature",null,"CT"]
[{"$f":"+IF(B10=\"\",\"\",MAX(A$1:A9)+1)","v":""},{"$f":"IF(+HAP_ID!C32=\"\",\"\",IF(COUNTIF(HAP_ID!$C32:$C$100,HAP_ID!C32)=1,HAP_ID!C32,\"\"))","v":""},"",null,null,null,{"$f":"+IF(H10=\"\",\"\",MAX(G$1:G9)+1)","v":""},{"$f":"IF(+CMS_Info!D32=\"\",\"\",IF(COUNTIF(CMS_Info!$D32:$D$100,CMS_Info!D32)=1,CMS_Info!D32,\"\"))","v":""},"",null,{"$f":"+IF(L10=\"\",\"\",MAX(K$1:K9)+1)","v":""},{"$f":"IF(Company_Information!B32=\"\",\"\",Company_Information!B32)","v":""},"",null,null,null,"Carbon Absorber Regeneration Stream Flow Rate",null,"DC"]
[{"$f":"+IF(B11=\"\",\"\",MAX(A$1:A10)+1)","v":""},{"$f":"IF(+HAP_ID!C33=\"\",\"\",IF(COUNTIF(HAP_ID!$C33:$C$100,HAP_ID!C33)=1,HAP_ID!C33,\"\"))","v":""},"",null,null,null,{"$f":"+IF(H11=\"\",\"\",MAX(G$1:G10)+1)","v":""},{"$f":"IF(+CMS_Info!D33=\"\",\"\",IF(COUNTIF(CMS_Info!$D33:$D$100,CMS_Info!D33)=1,CMS_Info!D33,\"\"))","v":""},"",null,{"$f":"+IF(L11=\"\",\"\",MAX(K$1:K10)+1)","v":""},{"$f":"IF(Company_Information!B33=\"\",\"\",Company_Information!B33)","v":""},"",null,null,null,"Cabon Absorber Carbon Bed Temperature",null,"DE"]
[{"$f":"+IF(B12=\"\",\"\",MAX(A$1:A11)+1)","v":""},{"$f":"IF(+HAP_ID!C34=\"\",\"\",IF(COUNTIF(HAP_ID!$C34:$C$100,HAP_ID!C34)=1,HAP_ID!C34,\"\"))","v":""},"",null,null,null,{"$f":"+IF(H12=\"\",\"\",MAX(G$1:G11)+1)","v":""},{"$f":"IF(+CMS_Info!D34=\"\",\"\",IF(COUNTIF(CMS_Info!$D34:$D$100,CMS_Info!D34)=1,CMS_Info!D34,\"\"))","v":""},"",null,null,null,null,null,null,null,"Other Control Device Operating Parameter",null,"FL"]
[{"$f":"+IF(B13=\"\",\"\",MAX(A$1:A12)+1)","v":""},{"$f":"IF(+HAP_ID!C35=\"\",\"\",IF(COUNTIF(HAP_ID!$C35:$C$100,HAP_ID!C35)=1,HAP_ID!C35,\"\"))","v":""},"",null,null,null,{"$f":"+IF(H13=\"\",\"\",MAX(G$1:G12)+1)","v":""},{"$f":"IF(+CMS_Info!D35=\"\",\"\",IF(COUNTIF(CMS_Info!$D35:$D$100,CMS_Info!D35)=1,CMS_Info!D35,\"\"))","v":""},"",null,null,null,null,null,null,null,null,null,"GA"]
[{"$f":"+IF(B14=\"\",\"\",MAX(A$1:A13)+1)","v":""},{"$f":"IF(+HAP_ID!C36=\"\",\"\",IF(COUNTIF(HAP_ID!$C36:$C$100,HAP_ID!C36)=1,HAP_ID!C36,\"\"))","v":""},"",null,null,null,{"$f":"+IF(H14=\"\",\"\",MAX(G$1:G13)+1)","v":""},{"$f":"IF(+CMS_Info!D36=\"\",\"\",IF(COUNTIF(CMS_Info!$D36:$D$100,CMS_Info!D36)=1,CMS_Info!D36,\"\"))","v":""},"",null,null,null,null,null,null,null,null,null,"GU"]
[{"$f":"+IF(B15=\"\",\"\",MAX(A$1:A14)+1)","v":""},{"$f":"IF(+HAP_ID!C37=\"\",\"\",IF(COUNTIF(HAP_ID!$C37:$C$100,HAP_ID!C37)=1,HAP_ID!C37,\"\"))","v":""},"",null,null,null,{"$f":"+IF(H15=\"\",\"\",MAX(G$1:G14)+1)","v":""},{"$f":"IF(+CMS_Info!D37=\"\",\"\",IF(COUNTIF(CMS_Info!$D37:$D$100,CMS_Info!D37)=1,CMS_Info!D37,\"\"))","v":""},"",null,null,null,null,null,null,null,null,null,"HI"]
[{"$f":"+IF(B16=\"\",\"\",MAX(A$1:A15)+1)","v":""},{"$f":"IF(+HAP_ID!C38=\"\",\"\",IF(COUNTIF(HAP_ID!$C38:$C$100,HAP_ID!C38)=1,HAP_ID!C38,\"\"))","v":""},"",null,null,null,{"$f":"+IF(H16=\"\",\"\",MAX(G$1:G15)+1)","v":""},{"$f":"IF(+CMS_Info!D38=\"\",\"\",IF(COUNTIF(CMS_Info!$D38:$D$100,CMS_Info!D38)=1,CMS_Info!D38,\"\"))","v":""},"",null,null,null,null,null,null,null,null,null,"IA"]
[{"$f":"+IF(B17=\"\",\"\",MAX(A$1:A16)+1)","v":""},{"$f":"IF(+HAP_ID!C39=\"\",\"\",IF(COUNTIF(HAP_ID!$C39:$C$100,HAP_ID!C39)=1,HAP_ID!C39,\"\"))","v":""},"",null,null,null,{"$f":"+IF(H17=\"\",\"\",MAX(G$1:G16)+1)","v":""},{"$f":"IF(+CMS_Info!D39=\"\",\"\",IF(COUNTIF(CMS_Info!$D39:$D$100,CMS_Info!D39)=1,CMS_Info!D39,\"\"))","v":""},"",null,null,null,null,null,null,null,null,null,"ID"]
[{"$f":"+IF(B18=\"\",\"\",MAX(A$1:A17)+1)","v":""},{"$f":"IF(+HAP_ID!C40=\"\",\"\",IF(COUNTIF(HAP_ID!$C40:$C$100,HAP_ID!C40)=1,HAP_ID!C40,\"\"))","v":""},"",null,null,null,{"$f":"+IF(H18=\"\",\"\",MAX(G$1:G17)+1)","v":""},{"$f":"IF(+CMS_Info!D40=\"\",\"\",IF(COUNTIF(CMS_Info!$D40:$D$100,CMS_Info!D40)=1,CMS_Info!D40,\"\"))","v":""},"",null,null,null,null,null,null,null,null,null,"IL"]
[{"$f":"+IF(B19=\"\",\"\",MAX(A$1:A18)+1)","v":""},{"$f":"IF(+HAP_ID!C41=\"\",\"\",IF(COUNTIF(HAP_ID!$C41:$C$100,HAP_ID!C41)=1,HAP_ID!C41,\"\"))","v":""},"",null,null,null,{"$f":"+IF(H19=\"\",\"\",MAX(G$1:G18)+1)","v":""},{"$f":"IF(+CMS_Info!D41=\"\",\"\",IF(COUNTIF(CMS_Info!$D41:$D$100,CMS_Info!D41)=1,CMS_Info!D41,\"\"))","v":""},"",null,null,null,null,null,null,null,null,null,"IN"]
[{"$f":"+IF(B20=\"\",\"\",MAX(A$1:A19)+1)","v":""},{"$f":"IF(+HAP_ID!C42=\"\",\"\",IF(COUNTIF(HAP_ID!$C42:$C$100,HAP_ID!C42)=1,HAP_ID!C42,\"\"))","v":""},"",null,null,null,{"$f":"+IF(H20=\"\",\"\",MAX(G$1:G19)+1)","v":""},{"$f":"IF(+CMS_Info!D42=\"\",\"\",IF(COUNTIF(CMS_Info!$D42:$D$100,CMS_Info!D42)=1,CMS_Info!D42,\"\"))","v":""},"",null,null,null,null,null,null,null,null,null,"KS"]
[{"$f":"+IF(B21=\"\",\"\",MAX(A$1:A20)+1)","v":""},{"$f":"IF(+HAP_ID!C43=\"\",\"\",IF(COUNTIF(HAP_ID!$C43:$C$100,HAP_ID!C43)=1,HAP_ID!C43,\"\"))","v":""},"",null,null,null,{"$f":"+IF(H21=\"\",\"\",MAX(G$1:G20)+1)","v":""},{"$f":"IF(+CMS_Info!D43=\"\",\"\",IF(COUNTIF(CMS_Info!$D43:$D$100,CMS_Info!D43)=1,CMS_Info!D43,\"\"))","v":""},"",null,null,null,null,null,null,null,null,null,"KY"]
[{"$f":"+IF(B22=\"\",\"\",MAX(A$1:A21)+1)","v":""},{"$f":"IF(+HAP_ID!C44=\"\",\"\",IF(COUNTIF(HAP_ID!$C44:$C$100,HAP_ID!C44)=1,HAP_ID!C44,\"\"))","v":""},"",null,null,null,{"$f":"+IF(H22=\"\",\"\",MAX(G$1:G21)+1)","v":""},{"$f":"IF(+CMS_Info!D44=\"\",\"\",IF(COUNTIF(CMS_Info!$D44:$D$100,CMS_Info!D44)=1,CMS_Info!D44,\"\"))","v":""},"",null,null,null,null,null,null,null,null,null,"LA"]
[{"$f":"+IF(B23=\"\",\"\",MAX(A$1:A22)+1)","v":""},{"$f":"IF(+HAP_ID!C45=\"\",\"\",IF(COUNTIF(HAP_ID!$C45:$C$100,HAP_ID!C45)=1,HAP_ID!C45,\"\"))","v":""},"",null,null,null,{"$f":"+IF(H23=\"\",\"\",MAX(G$1:G22)+1)","v":""},{"$f":"IF(+CMS_Info!D45=\"\",\"\",IF(COUNTIF(CMS_Info!$D45:$D$100,CMS_Info!D45)=1,CMS_Info!D45,\"\"))","v":""},"",null,null,null,null,null,null,null,null,null,"MA"]
[{"$f":"+IF(B24=\"\",\"\",MAX(A$1:A23)+1)","v":""},{"$f":"IF(+HAP_ID!C46=\"\",\"\",IF(COUNTIF(HAP_ID!$C46:$C$100,HAP_ID!C46)=1,HAP_ID!C46,\"\"))","v":""},"",null,null,null,{"$f":"+IF(H24=\"\",\"\",MAX(G$1:G23)+1)","v":""},{"$f":"IF(+CMS_Info!D46=\"\",\"\",IF(COUNTIF(CMS_Info!$D46:$D$100,CMS_Info!D46)=1,CMS_Info!D46,\"\"))","v":""},"",null,null,null,null,null,null,null,null,null,"MD"]
[{"$f":"+IF(B25=\"\",\"\",MAX(A$1:A24)+1)","v":""},{"$f":"IF(+HAP_ID!C47=\"\",\"\",IF(COUNTIF(HAP_ID!$C47:$C$100,HAP_ID!C47)=1,HAP_ID!C47,\"\"))","v":""},"",null,null,null,{"$f":"+IF(H25=\"\",\"\",MAX(G$1:G24)+1)","v":""},{"$f":"IF(+CMS_Info!D47=\"\",\"\",IF(COUNTIF(CMS_Info!$D47:$D$100,CMS_Info!D47)=1,CMS_Info!D47,\"\"))","v":""},"",null,null,null,null,null,null,null,null,null,"ME"]
[{"$f":"+IF(B26=\"\",\"\",MAX(A$1:A25)+1)","v":""},{"$f":"IF(+HAP_ID!C48=\"\",\"\",IF(COUNTIF(HAP_ID!$C48:$C$100,HAP_ID!C48)=1,HAP_ID!C48,\"\"))","v":""},"",null,null,null,{"$f":"+IF(H26=\"\",\"\",MAX(G$1:G25)+1)","v":""},{"$f":"IF(+CMS_Info!D48=\"\",\"\",IF(COUNTIF(CMS_Info!$D48:$D$100,CMS_Info!D48)=1,CMS_Info!D48,\"\"))","v":""},"",null,null,null,null,null,null,null,null,null,"MI"]
[{"$f":"+IF(B27=\"\",\"\",MAX(A$1:A26)+1)","v":""},{"$f":"IF(+HAP_ID!C49=\"\",\"\",IF(COUNTIF(HAP_ID!$C49:$C$100,HAP_ID!C49)=1,HAP_ID!C49,\"\"))","v":""},"",null,null,null,{"$f":"+IF(H27=\"\",\"\",MAX(G$1:G26)+1)","v":""},{"$f":"IF(+CMS_Info!D49=\"\",\"\",IF(COUNTIF(CMS_Info!$D49:$D$100,CMS_Info!D49)=1,CMS_Info!D49,\"\"))","v":""},"",null,null,null,null,null,null,null,null,null,"MN"]
[{"$f":"+IF(B28=\"\",\"\",MAX(A$1:A27)+1)","v":""},{"$f":"IF(+HAP_ID!C50=\"\",\"\",IF(COUNTIF(HAP_ID!$C50:$C$100,HAP_ID!C50)=1,HAP_ID!C50,\"\"))","v":""},"",null,null,null,{"$f":"+IF(H28=\"\",\"\",MAX(G$1:G27)+1)","v":""},{"$f":"IF(+CMS_Info!D50=\"\",\"\",IF(COUNTIF(CMS_Info!$D50:$D$100,CMS_Info!D50)=1,CMS_Info!D50,\"\"))","v":""},"",null,null,null,null,null,null,null,null,null,"MO"]
[{"$f":"+IF(B29=\"\",\"\",MAX(A$1:A28)+1)","v":""},{"$f":"IF(+HAP_ID!C51=\"\",\"\",IF(COUNTIF(HAP_ID!$C51:$C$100,HAP_ID!C51)=1,HAP_ID!C51,\"\"))","v":""},"",null,null,null,{"$f":"+IF(H29=\"\",\"\",MAX(G$1:G28)+1)","v":""},{"$f":"IF(+CMS_Info!D51=\"\",\"\",IF(COUNTIF(CMS_Info!$D51:$D$100,CMS_Info!D51)=1,CMS_Info!D51,\"\"))","v":""},"",null,null,null,null,null,null,null,null,null,"MP"]
[{"$f":"+IF(B30=\"\",\"\",MAX(A$1:A29)+1)","v":""},{"$f":"IF(+HAP_ID!C52=\"\",\"\",IF(COUNTIF(HAP_ID!$C52:$C$100,HAP_ID!C52)=1,HAP_ID!C52,\"\"))","v":""},"",null,null,null,{"$f":"+IF(H30=\"\",\"\",MAX(G$1:G29)+1)","v":""},{"$f":"IF(+CMS_Info!D52=\"\",\"\",IF(COUNTIF(CMS_Info!$D52:$D$100,CMS_Info!D52)=1,CMS_Info!D52,\"\"))","v":""},"",null,null,null,null,null,null,null,null,null,"MS"]
[{"$f":"+IF(B31=\"\",\"\",MAX(A$1:A30)+1)","v":""},{"$f":"IF(+HAP_ID!C53=\"\",\"\",IF(COUNTIF(HAP_ID!$C53:$C$100,HAP_ID!C53)=1,HAP_ID!C53,\"\"))","v":""},"",null,null,null,{"$f":"+IF(H31=\"\",\"\",MAX(G$1:G30)+1)","v":""},{"$f":"IF(+CMS_Info!D53=\"\",\"\",IF(COUNTIF(CMS_Info!$D53:$D$100,CMS_Info!D53)=1,CMS_Info!D53,\"\"))","v":""},"",null,null,null,null,null,null,null,null,null,"MT"]
[{"$f":"+IF(B32=\"\",\"\",MAX(A$1:A31)+1)","v":""},{"$f":"IF(+HAP_ID!C54=\"\",\"\",IF(COUNTIF(HAP_ID!$C54:$C$100,HAP_ID!C54)=1,HAP_ID!C54,\"\"))","v":""},"",null,null,null,{"$f":"+IF(H32=\"\",\"\",MAX(G$1:G31)+1)","v":""},{"$f":"IF(+CMS_Info!D54=\"\",\"\",IF(COUNTIF(CMS_Info!$D54:$D$100,CMS_Info!D54)=1,CMS_Info!D54,\"\"))","v":""},"",null,null,null,null,null,null,null,null,null,"NC"]
[{"$f":"+IF(B33=\"\",\"\",MAX(A$1:A32)+1)","v":""},{"$f":"IF(+HAP_ID!C55=\"\",\"\",IF(COUNTIF(HAP_ID!$C55:$C$100,HAP_ID!C55)=1,HAP_ID!C55,\"\"))","v":""},"",null,null,null,{"$f":"+IF(H33=\"\",\"\",MAX(G$1:G32)+1)","v":""},{"$f":"IF(+CMS_Info!D55=\"\",\"\",IF(COUNTIF(CMS_Info!$D55:$D$100,CMS_Info!D55)=1,CMS_Info!D55,\"\"))","v":""},"",null,null,null,null,null,null,null,null,null,"ND"]
[{"$f":"+IF(B34=\"\",\"\",MAX(A$1:A33)+1)","v":""},{"$f":"IF(+HAP_ID!C56=\"\",\"\",IF(COUNTIF(HAP_ID!$C56:$C$100,HAP_ID!C56)=1,HAP_ID!C56,\"\"))","v":""},"",null,null,null,{"$f":"+IF(H34=\"\",\"\",MAX(G$1:G33)+1)","v":""},{"$f":"IF(+CMS_Info!D56=\"\",\"\",IF(COUNTIF(CMS_Info!$D56:$D$100,CMS_Info!D56)=1,CMS_Info!D56,\"\"))","v":""},"",null,null,null,null,null,null,null,null,null,"NE"]
[{"$f":"+IF(B35=\"\",\"\",MAX(A$1:A34)+1)","v":""},{"$f":"IF(+HAP_ID!C57=\"\",\"\",IF(COUNTIF(HAP_ID!$C57:$C$100,HAP_ID!C57)=1,HAP_ID!C57,\"\"))","v":""},"",null,null,null,{"$f":"+IF(H35=\"\",\"\",MAX(G$1:G34)+1)","v":""},{"$f":"IF(+CMS_Info!D57=\"\",\"\",IF(COUNTIF(CMS_Info!$D57:$D$100,CMS_Info!D57)=1,CMS_Info!D57,\"\"))","v":""},"",null,null,null,null,null,null,null,null,null,"NH"]
[{"$f":"+IF(B36=\"\",\"\",MAX(A$1:A35)+1)","v":""},{"$f":"IF(+HAP_ID!C58=\"\",\"\",IF(COUNTIF(HAP_ID!$C58:$C$100,HAP_ID!C58)=1,HAP_ID!C58,\"\"))","v":""},"",null,null,null,{"$f":"+IF(H36=\"\",\"\",MAX(G$1:G35)+1)","v":""},{"$f":"IF(+CMS_Info!D58=\"\",\"\",IF(COUNTIF(CMS_Info!$D58:$D$100,CMS_Info!D58)=1,CMS_Info!D58,\"\"))","v":""},"",null,null,null,null,null,null,null,null,null,"NJ"]
[{"$f":"+IF(B37=\"\",\"\",MAX(A$1:A36)+1)","v":""},{"$f":"IF(+HAP_ID!C59=\"\",\"\",IF(COUNTIF(HAP_ID!$C59:$C$100,HAP_ID!C59)=1,HAP_ID!C59,\"\"))","v":""},"",null,null,null,{"$f":"+IF(H37=\"\",\"\",MAX(G$1:G36)+1)","v":""},{"$f":"IF(+CMS_Info!D59=\"\",\"\",IF(COUNTIF(CMS_Info!$D59:$D$100,CMS_Info!D59)=1,CMS_Info!D59,\"\"))","v":""},"",null,null,null,null,null,null,null,null,null,"NM"]
[{"$f":"+IF(B38=\"\",\"\",MAX(A$1:A37)+1)","v":""},{"$f":"IF(+HAP_ID!C60=\"\",\"\",IF(COUNTIF(HAP_ID!$C60:$C$100,HAP_ID!C60)=1,HAP_ID!C60,\"\"))","v":""},"",null,null,null,{"$f":"+IF(H38=\"\",\"\",MAX(G$1:G37)+1)","v":""},{"$f":"IF(+CMS_Info!D60=\"\",\"\",IF(COUNTIF(CMS_Info!$D60:$D$100,CMS_Info!D60)=1,CMS_Info!D60,\"\"))","v":""},"",null,null,null,null,null,null,null,null,null,"NV"]
[{"$f":"+IF(B39=\"\",\"\",MAX(A$1:A38)+1)","v":""},{"$f":"IF(+HAP_ID!C61=\"\",\"\",IF(COUNTIF(HAP_ID!$C61:$C$100,HAP_ID!C61)=1,HAP_ID!C61,\"\"))","v":""},"",null,null,null,{"$f":"+IF(H39=\"\",\"\",MAX(G$1:G38)+1)","v":""},{"$f":"IF(+CMS_Info!D61=\"\",\"\",IF(COUNTIF(CMS_Info!$D61:$D$100,CMS_Info!D61)=1,CMS_Info!D61,\"\"))","v":""},"",null,null,null,null,null,null,null,null,null,"NY"]
[{"$f":"+IF(B40=\"\",\"\",MAX(A$1:A39)+1)","v":""},{"$f":"IF(+HAP_ID!C62=\"\",\"\",IF(COUNTIF(HAP_ID!$C62:$C$100,HAP_ID!C62)=1,HAP_ID!C62,\"\"))","v":""},"",null,null,null,{"$f":"+IF(H40=\"\",\"\",MAX(G$1:G39)+1)","v":""},{"$f":"IF(+CMS_Info!D62=\"\",\"\",IF(COUNTIF(CMS_Info!$D62:$D$100,CMS_Info!D62)=1,CMS_Info!D62,\"\"))","v":""},"",null,null,null,null,null,null,null,null,null,"OH"]
[{"$f":"+IF(B41=\"\",\"\",MAX(A$1:A40)+1)","v":""},{"$f":"IF(+HAP_ID!C63=\"\",\"\",IF(COUNTIF(HAP_ID!$C63:$C$100,HAP_ID!C63)=1,HAP_ID!C63,\"\"))","v":""},"",null,null,null,{"$f":"+IF(H41=\"\",\"\",MAX(G$1:G40)+1)","v":""},{"$f":"IF(+CMS_Info!D63=\"\",\"\",IF(COUNTIF(CMS_Info!$D63:$D$100,CMS_Info!D63)=1,CMS_Info!D63,\"\"))","v":""},"",null,null,null,null,null,null,null,null,null,"OK"]
[{"$f":"+IF(B42=\"\",\"\",MAX(A$1:A41)+1)","v":""},{"$f":"IF(+HAP_ID!C64=\"\",\"\",IF(COUNTIF(HAP_ID!$C64:$C$100,HAP_ID!C64)=1,HAP_ID!C64,\"\"))","v":""},"",null,null,null,{"$f":"+IF(H42=\"\",\"\",MAX(G$1:G41)+1)","v":""},{"$f":"IF(+CMS_Info!D64=\"\",\"\",IF(COUNTIF(CMS_Info!$D64:$D$100,CMS_Info!D64)=1,CMS_Info!D64,\"\"))","v":""},"",null,null,null,null,null,null,null,null,null,"OR"]
[{"$f":"+IF(B43=\"\",\"\",MAX(A$1:A42)+1)","v":""},{"$f":"IF(+HAP_ID!C65=\"\",\"\",IF(COUNTIF(HAP_ID!$C65:$C$100,HAP_ID!C65)=1,HAP_ID!C65,\"\"))","v":""},"",null,null,null,{"$f":"+IF(H43=\"\",\"\",MAX(G$1:G42)+1)","v":""},{"$f":"IF(+CMS_Info!D65=\"\",\"\",IF(COUNTIF(CMS_Info!$D65:$D$100,CMS_Info!D65)=1,CMS_Info!D65,\"\"))","v":""},"",null,null,null,null,null,null,null,null,null,"PA"]
[{"$f":"+IF(B44=\"\",\"\",MAX(A$1:A43)+1)","v":""},{"$f":"IF(+HAP_ID!C66=\"\",\"\",IF(COUNTIF(HAP_ID!$C66:$C$100,HAP_ID!C66)=1,HAP_ID!C66,\"\"))","v":""},"",null,null,null,{"$f":"+IF(H44=\"\",\"\",MAX(G$1:G43)+1)","v":""},{"$f":"IF(+CMS_Info!D66=\"\",\"\",IF(COUNTIF(CMS_Info!$D66:$D$100,CMS_Info!D66)=1,CMS_Info!D66,\"\"))","v":""},"",null,null,null,null,null,null,null,null,null,"PR"]
[{"$f":"+IF(B45=\"\",\"\",MAX(A$1:A44)+1)","v":""},{"$f":"IF(+HAP_ID!C67=\"\",\"\",IF(COUNTIF(HAP_ID!$C67:$C$100,HAP_ID!C67)=1,HAP_ID!C67,\"\"))","v":""},"",null,null,null,{"$f":"+IF(H45=\"\",\"\",MAX(G$1:G44)+1)","v":""},{"$f":"IF(+CMS_Info!D67=\"\",\"\",IF(COUNTIF(CMS_Info!$D67:$D$100,CMS_Info!D67)=1,CMS_Info!D67,\"\"))","v":""},"",null,null,null,null,null,null,null,null,null,"RI"]
[{"$f":"+IF(B46=\"\",\"\",MAX(A$1:A45)+1)","v":""},{"$f":"IF(+HAP_ID!C68=\"\",\"\",IF(COUNTIF(HAP_ID!$C68:$C$100,HAP_ID!C68)=1,HAP_ID!C68,\"\"))","v":""},"",null,null,null,{"$f":"+IF(H46=\"\",\"\",MAX(G$1:G45)+1)","v":""},{"$f":"IF(+CMS_Info!D68=\"\",\"\",IF(COUNTIF(CMS_Info!$D68:$D$100,CMS_Info!D68)=1,CMS_Info!D68,\"\"))","v":""},"",null,null,null,null,null,null,null,null,null,"SC"]
[{"$f":"+IF(B47=\"\",\"\",MAX(A$1:A46)+1)","v":""},{"$f":"IF(+HAP_ID!C69=\"\",\"\",IF(COUNTIF(HAP_ID!$C69:$C$100,HAP_ID!C69)=1,HAP_ID!C69,\"\"))","v":""},"",null,null,null,{"$f":"+IF(H47=\"\",\"\",MAX(G$1:G46)+1)","v":""},{"$f":"IF(+CMS_Info!D69=\"\",\"\",IF(COUNTIF(CMS_Info!$D69:$D$100,CMS_Info!D69)=1,CMS_Info!D69,\"\"))","v":""},"",null,null,null,null,null,null,null,null,null,"SD"]
[{"$f":"+IF(B48=\"\",\"\",MAX(A$1:A47)+1)","v":""},{"$f":"IF(+HAP_ID!C70=\"\",\"\",IF(COUNTIF(HAP_ID!$C70:$C$100,HAP_ID!C70)=1,HAP_ID!C70,\"\"))","v":""},"",null,null,null,{"$f":"+IF(H48=\"\",\"\",MAX(G$1:G47)+1)","v":""},{"$f":"IF(+CMS_Info!D70=\"\",\"\",IF(COUNTIF(CMS_Info!$D70:$D$100,CMS_Info!D70)=1,CMS_Info!D70,\"\"))","v":""},"",null,null,null,null,null,null,null,null,null,"TN"]
[{"$f":"+IF(B49=\"\",\"\",MAX(A$1:A48)+1)","v":""},{"$f":"IF(+HAP_ID!C71=\"\",\"\",IF(COUNTIF(HAP_ID!$C71:$C$100,HAP_ID!C71)=1,HAP_ID!C71,\"\"))","v":""},"",null,null,null,{"$f":"+IF(H49=\"\",\"\",MAX(G$1:G48)+1)","v":""},{"$f":"IF(+CMS_Info!D71=\"\",\"\",IF(COUNTIF(CMS_Info!$D71:$D$100,CMS_Info!D71)=1,CMS_Info!D71,\"\"))","v":""},"",null,null,null,null,null,null,null,null,null,"TX"]
[{"$f":"+IF(B50=\"\",\"\",MAX(A$1:A49)+1)","v":""},{"$f":"IF(+HAP_ID!C72=\"\",\"\",IF(COUNTIF(HAP_ID!$C72:$C$100,HAP_ID!C72)=1,HAP_ID!C72,\"\"))","v":""},"",null,null,null,{"$f":"+IF(H50=\"\",\"\",MAX(G$1:G49)+1)","v":""},{"$f":"IF(+CMS_Info!D72=\"\",\"\",IF(COUNTIF(CMS_Info!$D72:$D$100,CMS_Info!D72)=1,CMS_Info!D72,\"\"))","v":""},"",null,null,null,null,null,null,null,null,null,"UT"]
[{"$f":"+IF(B51=\"\",\"\",MAX(A$1:A50)+1)","v":""},{"$f":"IF(+HAP_ID!C73=\"\",\"\",IF(COUNTIF(HAP_ID!$C73:$C$100,HAP_ID!C73)=1,HAP_ID!C73,\"\"))","v":""},"",null,null,null,{"$f":"+IF(H51=\"\",\"\",MAX(G$1:G50)+1)","v":""},{"$f":"IF(+CMS_Info!D73=\"\",\"\",IF(COUNTIF(CMS_Info!$D73:$D$100,CMS_Info!D73)=1,CMS_Info!D73,\"\"))","v":""},"",null,null,null,null,null,null,null,null,null,"VA"]
[{"$f":"+IF(B52=\"\",\"\",MAX(A$1:A51)+1)","v":""},{"$f":"IF(+HAP_ID!C74=\"\",\"\",IF(COUNTIF(HAP_ID!$C74:$C$100,HAP_ID!C74)=1,HAP_ID!C74,\"\"))","v":""},"",null,null,null,{"$f":"+IF(H52=\"\",\"\",MAX(G$1:G51)+1)","v":""},{"$f":"IF(+CMS_Info!D74=\"\",\"\",IF(COUNTIF(CMS_Info!$D74:$D$100,CMS_Info!D74)=1,CMS_Info!D74,\"\"))","v":""},"",null,null,null,null,null,null,null,null,null,"VI"]
[{"$f":"+IF(B53=\"\",\"\",MAX(A$1:A52)+1)","v":""},{"$f":"IF(+HAP_ID!C75=\"\",\"\",IF(COUNTIF(HAP_ID!$C75:$C$100,HAP_ID!C75)=1,HAP_ID!C75,\"\"))","v":""},"",null,null,null,{"$f":"+IF(H53=\"\",\"\",MAX(G$1:G52)+1)","v":""},{"$f":"IF(+CMS_Info!D75=\"\",\"\",IF(COUNTIF(CMS_Info!$D75:$D$100,CMS_Info!D75)=1,CMS_Info!D75,\"\"))","v":""},"",null,null,null,null,null,null,null,null,null,"VT"]
[{"$f":"+IF(B54=\"\",\"\",MAX(A$1:A53)+1)","v":""},{"$f":"IF(+HAP_ID!C76=\"\",\"\",IF(COUNTIF(HAP_ID!$C76:$C$100,HAP_ID!C76)=1,HAP_ID!C76,\"\"))","v":""},"",null,null,null,{"$f":"+IF(H54=\"\",\"\",MAX(G$1:G53)+1)","v":""},{"$f":"IF(+CMS_Info!D76=\"\",\"\",IF(COUNTIF(CMS_Info!$D76:$D$100,CMS_Info!D76)=1,CMS_Info!D76,\"\"))","v":""},"",null,null,null,null,null,null,null,null,null,"WA"]
[{"$f":"+IF(B55=\"\",\"\",MAX(A$1:A54)+1)","v":""},{"$f":"IF(+HAP_ID!C77=\"\",\"\",IF(COUNTIF(HAP_ID!$C77:$C$100,HAP_ID!C77)=1,HAP_ID!C77,\"\"))","v":""},"",null,null,null,{"$f":"+IF(H55=\"\",\"\",MAX(G$1:G54)+1)","v":""},{"$f":"IF(+CMS_Info!D77=\"\",\"\",IF(COUNTIF(CMS_Info!$D77:$D$100,CMS_Info!D77)=1,CMS_Info!D77,\"\"))","v":""},"",null,null,null,null,null,null,null,null,null,"WI"]
[{"$f":"+IF(B56=\"\",\"\",MAX(A$1:A55)+1)","v":""},{"$f":"IF(+HAP_ID!C78=\"\",\"\",IF(COUNTIF(HAP_ID!$C78:$C$100,HAP_ID!C78)=1,HAP_ID!C78,\"\"))","v":""},"",null,null,null,{"$f":"+IF(H56=\"\",\"\",MAX(G$1:G55)+1)","v":""},{"$f":"IF(+CMS_Info!D78=\"\",\"\",IF(COUNTIF(CMS_Info!$D78:$D$100,CMS_Info!D78)=1,CMS_Info!D78,\"\"))","v":""},"",null,null,null,null,null,null,null,null,null,"WV"]
[{"$f":"+IF(B57=\"\",\"\",MAX(A$1:A56)+1)","v":""},{"$f":"IF(+HAP_ID!C79=\"\",\"\",IF(COUNTIF(HAP_ID!$C79:$C$100,HAP_ID!C79)=1,HAP_ID!C79,\"\"))","v":""},"",null,null,null,{"$f":"+IF(H57=\"\",\"\",MAX(G$1:G56)+1)","v":""},{"$f":"IF(+CMS_Info!D79=\"\",\"\",IF(COUNTIF(CMS_Info!$D79:$D$100,CMS_Info!D79)=1,CMS_Info!D79,\"\"))","v":""},"",null,null,null,null,null,null,null,null,null,"WY"]
[{"$f":"+IF(B58=\"\",\"\",MAX(A$1:A57)+1)","v":""},{"$f":"IF(+HAP_ID!C80=\"\",\"\",IF(COUNTIF(HAP_ID!$C80:$C$100,HAP_ID!C80)=1,HAP_ID!C80,\"\"))","v":""},"",null,null,null,{"$f":"+IF(H58=\"\",\"\",MAX(G$1:G57)+1)","v":""},{"$f":"IF(+CMS_Info!D80=\"\",\"\",IF(COUNTIF(CMS_Info!$D80:$D$100,CMS_Info!D80)=1,CMS_Info!D80,\"\"))","v":""},""]
[{"$f":"+IF(B59=\"\",\"\",MAX(A$1:A58)+1)","v":""},{"$f":"IF(+HAP_ID!C81=\"\",\"\",IF(COUNTIF(HAP_ID!$C81:$C$100,HAP_ID!C81)=1,HAP_ID!C81,\"\"))","v":""},"",null,null,null,{"$f":"+IF(H59=\"\",\"\",MAX(G$1:G58)+1)","v":""},{"$f":"IF(+CMS_Info!D81=\"\",\"\",IF(COUNTIF(CMS_Info!$D81:$D$100,CMS_Info!D81)=1,CMS_Info!D81,\"\"))","v":""},""]
[{"$f":"+IF(B60=\"\",\"\",MAX(A$1:A59)+1)","v":""},{"$f":"IF(+HAP_ID!C82=\"\",\"\",IF(COUNTIF(HAP_ID!$C82:$C$100,HAP_ID!C82)=1,HAP_ID!C82,\"\"))","v":""},"",null,null,null,{"$f":"+IF(H60=\"\",\"\",MAX(G$1:G59)+1)","v":""},{"$f":"IF(+CMS_Info!D82=\"\",\"\",IF(COUNTIF(CMS_Info!$D82:$D$100,CMS_Info!D82)=1,CMS_Info!D82,\"\"))","v":""},""]
[{"$f":"+IF(B61=\"\",\"\",MAX(A$1:A60)+1)","v":""},{"$f":"IF(+HAP_ID!C83=\"\",\"\",IF(COUNTIF(HAP_ID!$C83:$C$100,HAP_ID!C83)=1,HAP_ID!C83,\"\"))","v":""},"",null,null,null,{"$f":"+IF(H61=\"\",\"\",MAX(G$1:G60)+1)","v":""},{"$f":"IF(+CMS_Info!D83=\"\",\"\",IF(COUNTIF(CMS_Info!$D83:$D$100,CMS_Info!D83)=1,CMS_Info!D83,\"\"))","v":""},""]
[{"$f":"+IF(B62=\"\",\"\",MAX(A$1:A61)+1)","v":""},{"$f":"IF(+HAP_ID!C84=\"\",\"\",IF(COUNTIF(HAP_ID!$C84:$C$100,HAP_ID!C84)=1,HAP_ID!C84,\"\"))","v":""},"",null,null,null,{"$f":"+IF(H62=\"\",\"\",MAX(G$1:G61)+1)","v":""},{"$f":"IF(+CMS_Info!D84=\"\",\"\",IF(COUNTIF(CMS_Info!$D84:$D$100,CMS_Info!D84)=1,CMS_Info!D84,\"\"))","v":""},""]
[{"$f":"+IF(B63=\"\",\"\",MAX(A$1:A62)+1)","v":""},{"$f":"IF(+HAP_ID!C85=\"\",\"\",IF(COUNTIF(HAP_ID!$C85:$C$100,HAP_ID!C85)=1,HAP_ID!C85,\"\"))","v":""},"",null,null,null,{"$f":"+IF(H63=\"\",\"\",MAX(G$1:G62)+1)","v":""},{"$f":"IF(+CMS_Info!D85=\"\",\"\",IF(COUNTIF(CMS_Info!$D85:$D$100,CMS_Info!D85)=1,CMS_Info!D85,\"\"))","v":""},""]
[{"$f":"+IF(B64=\"\",\"\",MAX(A$1:A63)+1)","v":""},{"$f":"IF(+HAP_ID!C86=\"\",\"\",IF(COUNTIF(HAP_ID!$C86:$C$100,HAP_ID!C86)=1,HAP_ID!C86,\"\"))","v":""},"",null,null,null,{"$f":"+IF(H64=\"\",\"\",MAX(G$1:G63)+1)","v":""},{"$f":"IF(+CMS_Info!D86=\"\",\"\",IF(COUNTIF(CMS_Info!$D86:$D$100,CMS_Info!D86)=1,CMS_Info!D86,\"\"))","v":""},""]
[{"$f":"+IF(B65=\"\",\"\",MAX(A$1:A64)+1)","v":""},{"$f":"IF(+HAP_ID!C87=\"\",\"\",IF(COUNTIF(HAP_ID!$C87:$C$100,HAP_ID!C87)=1,HAP_ID!C87,\"\"))","v":""},"",null,null,null,{"$f":"+IF(H65=\"\",\"\",MAX(G$1:G64)+1)","v":""},{"$f":"IF(+CMS_Info!D87=\"\",\"\",IF(COUNTIF(CMS_Info!$D87:$D$100,CMS_Info!D87)=1,CMS_Info!D87,\"\"))","v":""},""]
[{"$f":"+IF(B66=\"\",\"\",MAX(A$1:A65)+1)","v":""},{"$f":"IF(+HAP_ID!C88=\"\",\"\",IF(COUNTIF(HAP_ID!$C88:$C$100,HAP_ID!C88)=1,HAP_ID!C88,\"\"))","v":""},"",null,null,null,{"$f":"+IF(H66=\"\",\"\",MAX(G$1:G65)+1)","v":""},{"$f":"IF(+CMS_Info!D88=\"\",\"\",IF(COUNTIF(CMS_Info!$D88:$D$100,CMS_Info!D88)=1,CMS_Info!D88,\"\"))","v":""},{"$f":"+IFERROR(INDEX($H$2:$H$501,MATCH(ROW()-ROW($I$1),$G$2:$G$501,0)),\"\")","v":""}]
[{"$f":"+IF(B67=\"\",\"\",MAX(A$1:A66)+1)","v":""},{"$f":"IF(+HAP_ID!C89=\"\",\"\",IF(COUNTIF(HAP_ID!$C89:$C$100,HAP_ID!C89)=1,HAP_ID!C89,\"\"))","v":""},{"$f":"+IFERROR(INDEX($B$2:$B$501,MATCH(ROW()-ROW($C$1),$A$2:$A$501,0)),\"\")","v":""},null,null,null,{"$f":"+IF(H67=\"\",\"\",MAX(G$1:G66)+1)","v":""},{"$f":"IF(+CMS_Info!D89=\"\",\"\",IF(COUNTIF(CMS_Info!$D89:$D$100,CMS_Info!D89)=1,CMS_Info!D89,\"\"))","v":""},""]
[{"$f":"+IF(B68=\"\",\"\",MAX(A$1:A67)+1)","v":""},{"$f":"IF(+HAP_ID!C90=\"\",\"\",IF(COUNTIF(HAP_ID!$C90:$C$100,HAP_ID!C90)=1,HAP_ID!C90,\"\"))","v":""},"",null,null,null,{"$f":"+IF(H68=\"\",\"\",MAX(G$1:G67)+1)","v":""},{"$f":"IF(+CMS_Info!D90=\"\",\"\",IF(COUNTIF(CMS_Info!$D90:$D$100,CMS_Info!D90)=1,CMS_Info!D90,\"\"))","v":""},""]
[{"$f":"+IF(B69=\"\",\"\",MAX(A$1:A68)+1)","v":""},{"$f":"IF(+HAP_ID!C91=\"\",\"\",IF(COUNTIF(HAP_ID!$C91:$C$100,HAP_ID!C91)=1,HAP_ID!C91,\"\"))","v":""},"",null,null,null,{"$f":"+IF(H69=\"\",\"\",MAX(G$1:G68)+1)","v":""},{"$f":"IF(+CMS_Info!D91=\"\",\"\",IF(COUNTIF(CMS_Info!$D91:$D$100,CMS_Info!D91)=1,CMS_Info!D91,\"\"))","v":""},""]
[{"$f":"+IF(B70=\"\",\"\",MAX(A$1:A69)+1)","v":""},{"$f":"IF(+HAP_ID!C92=\"\",\"\",IF(COUNTIF(HAP_ID!$C92:$C$100,HAP_ID!C92)=1,HAP_ID!C92,\"\"))","v":""},"",null,null,null,{"$f":"+IF(H70=\"\",\"\",MAX(G$1:G69)+1)","v":""},{"$f":"IF(+CMS_Info!D92=\"\",\"\",IF(COUNTIF(CMS_Info!$D92:$D$100,CMS_Info!D92)=1,CMS_Info!D92,\"\"))","v":""},""]
[{"$f":"+IF(B71=\"\",\"\",MAX(A$1:A70)+1)","v":""},{"$f":"IF(+HAP_ID!C93=\"\",\"\",IF(COUNTIF(HAP_ID!$C93:$C$100,HAP_ID!C93)=1,HAP_ID!C93,\"\"))","v":""},"",null,null,null,{"$f":"+IF(H71=\"\",\"\",MAX(G$1:G70)+1)","v":""},{"$f":"IF(+CMS_Info!D93=\"\",\"\",IF(COUNTIF(CMS_Info!$D93:$D$100,CMS_Info!D93)=1,CMS_Info!D93,\"\"))","v":""},""]
[{"$f":"+IF(B72=\"\",\"\",MAX(A$1:A71)+1)","v":""},{"$f":"IF(+HAP_ID!C94=\"\",\"\",IF(COUNTIF(HAP_ID!$C94:$C$100,HAP_ID!C94)=1,HAP_ID!C94,\"\"))","v":""},"",null,null,null,{"$f":"+IF(H72=\"\",\"\",MAX(G$1:G71)+1)","v":""},{"$f":"IF(+CMS_Info!D94=\"\",\"\",IF(COUNTIF(CMS_Info!$D94:$D$100,CMS_Info!D94)=1,CMS_Info!D94,\"\"))","v":""},""]
[{"$f":"+IF(B73=\"\",\"\",MAX(A$1:A72)+1)","v":""},{"$f":"IF(+HAP_ID!C95=\"\",\"\",IF(COUNTIF(HAP_ID!$C95:$C$100,HAP_ID!C95)=1,HAP_ID!C95,\"\"))","v":""},"",null,null,null,{"$f":"+IF(H73=\"\",\"\",MAX(G$1:G72)+1)","v":""},{"$f":"IF(+CMS_Info!D95=\"\",\"\",IF(COUNTIF(CMS_Info!$D95:$D$100,CMS_Info!D95)=1,CMS_Info!D95,\"\"))","v":""},""]
[{"$f":"+IF(B74=\"\",\"\",MAX(A$1:A73)+1)","v":""},{"$f":"IF(+HAP_ID!C96=\"\",\"\",IF(COUNTIF(HAP_ID!$C96:$C$100,HAP_ID!C96)=1,HAP_ID!C96,\"\"))","v":""},"",null,null,null,{"$f":"+IF(H74=\"\",\"\",MAX(G$1:G73)+1)","v":""},{"$f":"IF(+CMS_Info!D96=\"\",\"\",IF(COUNTIF(CMS_Info!$D96:$D$100,CMS_Info!D96)=1,CMS_Info!D96,\"\"))","v":""},""]
[{"$f":"+IF(B75=\"\",\"\",MAX(A$1:A74)+1)","v":""},{"$f":"IF(+HAP_ID!C97=\"\",\"\",IF(COUNTIF(HAP_ID!$C97:$C$100,HAP_ID!C97)=1,HAP_ID!C97,\"\"))","v":""},"",null,null,null,{"$f":"+IF(H75=\"\",\"\",MAX(G$1:G74)+1)","v":""},{"$f":"IF(+CMS_Info!D97=\"\",\"\",IF(COUNTIF(CMS_Info!$D97:$D$100,CMS_Info!D97)=1,CMS_Info!D97,\"\"))","v":""},""]
[{"$f":"+IF(B76=\"\",\"\",MAX(A$1:A75)+1)","v":""},{"$f":"IF(+HAP_ID!C98=\"\",\"\",IF(COUNTIF(HAP_ID!$C98:$C$100,HAP_ID!C98)=1,HAP_ID!C98,\"\"))","v":""},"",null,null,null,{"$f":"+IF(H76=\"\",\"\",MAX(G$1:G75)+1)","v":""},{"$f":"IF(+CMS_Info!D98=\"\",\"\",IF(COUNTIF(CMS_Info!$D98:$D$100,CMS_Info!D98)=1,CMS_Info!D98,\"\"))","v":""},""]
[{"$f":"+IF(B77=\"\",\"\",MAX(A$1:A76)+1)","v":""},{"$f":"IF(+HAP_ID!C99=\"\",\"\",IF(COUNTIF(HAP_ID!$C99:$C$100,HAP_ID!C99)=1,HAP_ID!C99,\"\"))","v":""},"",null,null,null,{"$f":"+IF(H77=\"\",\"\",MAX(G$1:G76)+1)","v":""},{"$f":"IF(+CMS_Info!D99=\"\",\"\",IF(COUNTIF(CMS_Info!$D99:$D$100,CMS_Info!D99)=1,CMS_Info!D99,\"\"))","v":""},""]
[{"$f":"+IF(B78=\"\",\"\",MAX(A$1:A77)+1)","v":""},{"$f":"IF(+HAP_ID!C100=\"\",\"\",IF(COUNTIF(HAP_ID!$C100:$C$100,HAP_ID!C100)=1,HAP_ID!C100,\"\"))","v":""},"",null,null,null,{"$f":"+IF(H78=\"\",\"\",MAX(G$1:G77)+1)","v":""},{"$f":"IF(+CMS_Info!D100=\"\",\"\",IF(COUNTIF(CMS_Info!$D100:$D$100,CMS_Info!D100)=1,CMS_Info!D100,\"\"))","v":""},""]
[{"$f":"+IF(B79=\"\",\"\",MAX(A$1:A78)+1)","v":""},{"$f":"IF(+HAP_ID!C101=\"\",\"\",IF(COUNTIF(HAP_ID!$C$100:$C101,HAP_ID!C101)=1,HAP_ID!C101,\"\"))","v":""},"",null,null,null,{"$f":"+IF(H79=\"\",\"\",MAX(G$1:G78)+1)","v":""},{"$f":"IF(+CMS_Info!D101=\"\",\"\",IF(COUNTIF(CMS_Info!$D$100:$D101,CMS_Info!D101)=1,CMS_Info!D101,\"\"))","v":""},""]
[{"$f":"+IF(B80=\"\",\"\",MAX(A$1:A79)+1)","v":""},{"$f":"IF(+HAP_ID!C102=\"\",\"\",IF(COUNTIF(HAP_ID!$C$100:$C102,HAP_ID!C102)=1,HAP_ID!C102,\"\"))","v":""},"",null,null,null,{"$f":"+IF(H80=\"\",\"\",MAX(G$1:G79)+1)","v":""},{"$f":"IF(+CMS_Info!D102=\"\",\"\",IF(COUNTIF(CMS_Info!$D$100:$D102,CMS_Info!D102)=1,CMS_Info!D102,\"\"))","v":""},""]
[{"$f":"+IF(B81=\"\",\"\",MAX(A$1:A80)+1)","v":""},{"$f":"IF(+HAP_ID!C103=\"\",\"\",IF(COUNTIF(HAP_ID!$C$100:$C103,HAP_ID!C103)=1,HAP_ID!C103,\"\"))","v":""},"",null,null,null,{"$f":"+IF(H81=\"\",\"\",MAX(G$1:G80)+1)","v":""},{"$f":"IF(+CMS_Info!D103=\"\",\"\",IF(COUNTIF(CMS_Info!$D$100:$D103,CMS_Info!D103)=1,CMS_Info!D103,\"\"))","v":""},""]
[{"$f":"+IF(B82=\"\",\"\",MAX(A$1:A81)+1)","v":""},{"$f":"IF(+HAP_ID!C104=\"\",\"\",IF(COUNTIF(HAP_ID!$C$100:$C104,HAP_ID!C104)=1,HAP_ID!C104,\"\"))","v":""},"",null,null,null,{"$f":"+IF(H82=\"\",\"\",MAX(G$1:G81)+1)","v":""},{"$f":"IF(+CMS_Info!D104=\"\",\"\",IF(COUNTIF(CMS_Info!$D$100:$D104,CMS_Info!D104)=1,CMS_Info!D104,\"\"))","v":""},""]
[{"$f":"+IF(B83=\"\",\"\",MAX(A$1:A82)+1)","v":""},{"$f":"IF(+HAP_ID!C105=\"\",\"\",IF(COUNTIF(HAP_ID!$C$100:$C105,HAP_ID!C105)=1,HAP_ID!C105,\"\"))","v":""},"",null,null,null,{"$f":"+IF(H83=\"\",\"\",MAX(G$1:G82)+1)","v":""},{"$f":"IF(+CMS_Info!D105=\"\",\"\",IF(COUNTIF(CMS_Info!$D$100:$D105,CMS_Info!D105)=1,CMS_Info!D105,\"\"))","v":""},""]
[{"$f":"+IF(B84=\"\",\"\",MAX(A$1:A83)+1)","v":""},{"$f":"IF(+HAP_ID!C106=\"\",\"\",IF(COUNTIF(HAP_ID!$C$100:$C106,HAP_ID!C106)=1,HAP_ID!C106,\"\"))","v":""},"",null,null,null,{"$f":"+IF(H84=\"\",\"\",MAX(G$1:G83)+1)","v":""},{"$f":"IF(+CMS_Info!D106=\"\",\"\",IF(COUNTIF(CMS_Info!$D$100:$D106,CMS_Info!D106)=1,CMS_Info!D106,\"\"))","v":""},""]
[{"$f":"+IF(B85=\"\",\"\",MAX(A$1:A84)+1)","v":""},{"$f":"IF(+HAP_ID!C107=\"\",\"\",IF(COUNTIF(HAP_ID!$C$100:$C107,HAP_ID!C107)=1,HAP_ID!C107,\"\"))","v":""},"",null,null,null,{"$f":"+IF(H85=\"\",\"\",MAX(G$1:G84)+1)","v":""},{"$f":"IF(+CMS_Info!D107=\"\",\"\",IF(COUNTIF(CMS_Info!$D$100:$D107,CMS_Info!D107)=1,CMS_Info!D107,\"\"))","v":""},""]
[{"$f":"+IF(B86=\"\",\"\",MAX(A$1:A85)+1)","v":""},{"$f":"IF(+HAP_ID!C108=\"\",\"\",IF(COUNTIF(HAP_ID!$C$100:$C108,HAP_ID!C108)=1,HAP_ID!C108,\"\"))","v":""},"",null,null,null,{"$f":"+IF(H86=\"\",\"\",MAX(G$1:G85)+1)","v":""},{"$f":"IF(+CMS_Info!D108=\"\",\"\",IF(COUNTIF(CMS_Info!$D$100:$D108,CMS_Info!D108)=1,CMS_Info!D108,\"\"))","v":""},""]
[{"$f":"+IF(B87=\"\",\"\",MAX(A$1:A86)+1)","v":""},{"$f":"IF(+HAP_ID!C109=\"\",\"\",IF(COUNTIF(HAP_ID!$C$100:$C109,HAP_ID!C109)=1,HAP_ID!C109,\"\"))","v":""},"",null,null,null,{"$f":"+IF(H87=\"\",\"\",MAX(G$1:G86)+1)","v":""},{"$f":"IF(+CMS_Info!D109=\"\",\"\",IF(COUNTIF(CMS_Info!$D$100:$D109,CMS_Info!D109)=1,CMS_Info!D109,\"\"))","v":""},""]
[{"$f":"+IF(B88=\"\",\"\",MAX(A$1:A87)+1)","v":""},{"$f":"IF(+HAP_ID!C110=\"\",\"\",IF(COUNTIF(HAP_ID!$C$100:$C110,HAP_ID!C110)=1,HAP_ID!C110,\"\"))","v":""},"",null,null,null,{"$f":"+IF(H88=\"\",\"\",MAX(G$1:G87)+1)","v":""},{"$f":"IF(+CMS_Info!D110=\"\",\"\",IF(COUNTIF(CMS_Info!$D$100:$D110,CMS_Info!D110)=1,CMS_Info!D110,\"\"))","v":""},""]
[{"$f":"+IF(B89=\"\",\"\",MAX(A$1:A88)+1)","v":""},{"$f":"IF(+HAP_ID!C111=\"\",\"\",IF(COUNTIF(HAP_ID!$C$100:$C111,HAP_ID!C111)=1,HAP_ID!C111,\"\"))","v":""},"",null,null,null,{"$f":"+IF(H89=\"\",\"\",MAX(G$1:G88)+1)","v":""},{"$f":"IF(+CMS_Info!D111=\"\",\"\",IF(COUNTIF(CMS_Info!$D$100:$D111,CMS_Info!D111)=1,CMS_Info!D111,\"\"))","v":""},""]
[{"$f":"+IF(B90=\"\",\"\",MAX(A$1:A89)+1)","v":""},{"$f":"IF(+HAP_ID!C112=\"\",\"\",IF(COUNTIF(HAP_ID!$C$100:$C112,HAP_ID!C112)=1,HAP_ID!C112,\"\"))","v":""},"",null,null,null,{"$f":"+IF(H90=\"\",\"\",MAX(G$1:G89)+1)","v":""},{"$f":"IF(+CMS_Info!D112=\"\",\"\",IF(COUNTIF(CMS_Info!$D$100:$D112,CMS_Info!D112)=1,CMS_Info!D112,\"\"))","v":""},""]
[{"$f":"+IF(B91=\"\",\"\",MAX(A$1:A90)+1)","v":""},{"$f":"IF(+HAP_ID!C113=\"\",\"\",IF(COUNTIF(HAP_ID!$C$100:$C113,HAP_ID!C113)=1,HAP_ID!C113,\"\"))","v":""},"",null,null,null,{"$f":"+IF(H91=\"\",\"\",MAX(G$1:G90)+1)","v":""},{"$f":"IF(+CMS_Info!D113=\"\",\"\",IF(COUNTIF(CMS_Info!$D$100:$D113,CMS_Info!D113)=1,CMS_Info!D113,\"\"))","v":""},""]
[{"$f":"+IF(B92=\"\",\"\",MAX(A$1:A91)+1)","v":""},{"$f":"IF(+HAP_ID!C114=\"\",\"\",IF(COUNTIF(HAP_ID!$C$100:$C114,HAP_ID!C114)=1,HAP_ID!C114,\"\"))","v":""},"",null,null,null,{"$f":"+IF(H92=\"\",\"\",MAX(G$1:G91)+1)","v":""},{"$f":"IF(+CMS_Info!D114=\"\",\"\",IF(COUNTIF(CMS_Info!$D$100:$D114,CMS_Info!D114)=1,CMS_Info!D114,\"\"))","v":""},""]
[{"$f":"+IF(B93=\"\",\"\",MAX(A$1:A92)+1)","v":""},{"$f":"IF(+HAP_ID!C115=\"\",\"\",IF(COUNTIF(HAP_ID!$C$100:$C115,HAP_ID!C115)=1,HAP_ID!C115,\"\"))","v":""},"",null,null,null,{"$f":"+IF(H93=\"\",\"\",MAX(G$1:G92)+1)","v":""},{"$f":"IF(+CMS_Info!D115=\"\",\"\",IF(COUNTIF(CMS_Info!$D$100:$D115,CMS_Info!D115)=1,CMS_Info!D115,\"\"))","v":""},""]
[{"$f":"+IF(B94=\"\",\"\",MAX(A$1:A93)+1)","v":""},{"$f":"IF(+HAP_ID!C116=\"\",\"\",IF(COUNTIF(HAP_ID!$C$100:$C116,HAP_ID!C116)=1,HAP_ID!C116,\"\"))","v":""},"",null,null,null,{"$f":"+IF(H94=\"\",\"\",MAX(G$1:G93)+1)","v":""},{"$f":"IF(+CMS_Info!D116=\"\",\"\",IF(COUNTIF(CMS_Info!$D$100:$D116,CMS_Info!D116)=1,CMS_Info!D116,\"\"))","v":""},""]
[{"$f":"+IF(B95=\"\",\"\",MAX(A$1:A94)+1)","v":""},{"$f":"IF(+HAP_ID!C117=\"\",\"\",IF(COUNTIF(HAP_ID!$C$100:$C117,HAP_ID!C117)=1,HAP_ID!C117,\"\"))","v":""},"",null,null,null,{"$f":"+IF(H95=\"\",\"\",MAX(G$1:G94)+1)","v":""},{"$f":"IF(+CMS_Info!D117=\"\",\"\",IF(COUNTIF(CMS_Info!$D$100:$D117,CMS_Info!D117)=1,CMS_Info!D117,\"\"))","v":""},""]
[{"$f":"+IF(B96=\"\",\"\",MAX(A$1:A95)+1)","v":""},{"$f":"IF(+HAP_ID!C118=\"\",\"\",IF(COUNTIF(HAP_ID!$C$100:$C118,HAP_ID!C118)=1,HAP_ID!C118,\"\"))","v":""},"",null,null,null,{"$f":"+IF(H96=\"\",\"\",MAX(G$1:G95)+1)","v":""},{"$f":"IF(+CMS_Info!D118=\"\",\"\",IF(COUNTIF(CMS_Info!$D$100:$D118,CMS_Info!D118)=1,CMS_Info!D118,\"\"))","v":""},""]
[{"$f":"+IF(B97=\"\",\"\",MAX(A$1:A96)+1)","v":""},{"$f":"IF(+HAP_ID!C119=\"\",\"\",IF(COUNTIF(HAP_ID!$C$100:$C119,HAP_ID!C119)=1,HAP_ID!C119,\"\"))","v":""},"",null,null,null,{"$f":"+IF(H97=\"\",\"\",MAX(G$1:G96)+1)","v":""},{"$f":"IF(+CMS_Info!D119=\"\",\"\",IF(COUNTIF(CMS_Info!$D$100:$D119,CMS_Info!D119)=1,CMS_Info!D119,\"\"))","v":""},""]
[{"$f":"+IF(B98=\"\",\"\",MAX(A$1:A97)+1)","v":""},{"$f":"IF(+HAP_ID!C120=\"\",\"\",IF(COUNTIF(HAP_ID!$C$100:$C120,HAP_ID!C120)=1,HAP_ID!C120,\"\"))","v":""},"",null,null,null,{"$f":"+IF(H98=\"\",\"\",MAX(G$1:G97)+1)","v":""},{"$f":"IF(+CMS_Info!D120=\"\",\"\",IF(COUNTIF(CMS_Info!$D$100:$D120,CMS_Info!D120)=1,CMS_Info!D120,\"\"))","v":""},""]
[{"$f":"+IF(B99=\"\",\"\",MAX(A$1:A98)+1)","v":""},{"$f":"IF(+HAP_ID!C121=\"\",\"\",IF(COUNTIF(HAP_ID!$C$100:$C121,HAP_ID!C121)=1,HAP_ID!C121,\"\"))","v":""},"",null,null,null,{"$f":"+IF(H99=\"\",\"\",MAX(G$1:G98)+1)","v":""},{"$f":"IF(+CMS_Info!D121=\"\",\"\",IF(COUNTIF(CMS_Info!$D$100:$D121,CMS_Info!D121)=1,CMS_Info!D121,\"\"))","v":""},""]
[{"$f":"+IF(B100=\"\",\"\",MAX(A$1:A99)+1)","v":""},{"$f":"IF(+HAP_ID!C122=\"\",\"\",IF(COUNTIF(HAP_ID!$C$100:$C122,HAP_ID!C122)=1,HAP_ID!C122,\"\"))","v":""},"",null,null,null,{"$f":"+IF(H100=\"\",\"\",MAX(G$1:G99)+1)","v":""},{"$f":"IF(+CMS_Info!D122=\"\",\"\",IF(COUNTIF(CMS_Info!$D$100:$D122,CMS_Info!D122)=1,CMS_Info!D122,\"\"))","v":""},""]
[{"$f":"+IF(B101=\"\",\"\",MAX(A$1:A100)+1)","v":""},{"$f":"IF(+HAP_ID!C123=\"\",\"\",IF(COUNTIF(HAP_ID!$C$100:$C123,HAP_ID!C123)=1,HAP_ID!C123,\"\"))","v":""},"",null,null,null,{"$f":"+IF(H101=\"\",\"\",MAX(G$1:G100)+1)","v":""},{"$f":"IF(+CMS_Info!D123=\"\",\"\",IF(COUNTIF(CMS_Info!$D$100:$D123,CMS_Info!D123)=1,CMS_Info!D123,\"\"))","v":""},""]
[{"$f":"+IF(B102=\"\",\"\",MAX(A$1:A101)+1)","v":""},{"$f":"IF(+HAP_ID!C124=\"\",\"\",IF(COUNTIF(HAP_ID!$C$100:$C124,HAP_ID!C124)=1,HAP_ID!C124,\"\"))","v":""},"",null,null,null,{"$f":"+IF(H102=\"\",\"\",MAX(G$1:G101)+1)","v":""},{"$f":"IF(+CMS_Info!D124=\"\",\"\",IF(COUNTIF(CMS_Info!$D$100:$D124,CMS_Info!D124)=1,CMS_Info!D124,\"\"))","v":""},""]
[{"$f":"+IF(B103=\"\",\"\",MAX(A$1:A102)+1)","v":""},{"$f":"IF(+HAP_ID!C125=\"\",\"\",IF(COUNTIF(HAP_ID!$C$100:$C125,HAP_ID!C125)=1,HAP_ID!C125,\"\"))","v":""},"",null,null,null,{"$f":"+IF(H103=\"\",\"\",MAX(G$1:G102)+1)","v":""},{"$f":"IF(+CMS_Info!D125=\"\",\"\",IF(COUNTIF(CMS_Info!$D$100:$D125,CMS_Info!D125)=1,CMS_Info!D125,\"\"))","v":""},""]
[{"$f":"+IF(B104=\"\",\"\",MAX(A$1:A103)+1)","v":""},{"$f":"IF(+HAP_ID!C126=\"\",\"\",IF(COUNTIF(HAP_ID!$C$100:$C126,HAP_ID!C126)=1,HAP_ID!C126,\"\"))","v":""},"",null,null,null,{"$f":"+IF(H104=\"\",\"\",MAX(G$1:G103)+1)","v":""},{"$f":"IF(+CMS_Info!D126=\"\",\"\",IF(COUNTIF(CMS_Info!$D$100:$D126,CMS_Info!D126)=1,CMS_Info!D126,\"\"))","v":""},""]
[{"$f":"+IF(B105=\"\",\"\",MAX(A$1:A104)+1)","v":""},{"$f":"IF(+HAP_ID!C127=\"\",\"\",IF(COUNTIF(HAP_ID!$C$100:$C127,HAP_ID!C127)=1,HAP_ID!C127,\"\"))","v":""},"",null,null,null,{"$f":"+IF(H105=\"\",\"\",MAX(G$1:G104)+1)","v":""},{"$f":"IF(+CMS_Info!D127=\"\",\"\",IF(COUNTIF(CMS_Info!$D$100:$D127,CMS_Info!D127)=1,CMS_Info!D127,\"\"))","v":""},""]
[{"$f":"+IF(B106=\"\",\"\",MAX(A$1:A105)+1)","v":""},{"$f":"IF(+HAP_ID!C128=\"\",\"\",IF(COUNTIF(HAP_ID!$C$100:$C128,HAP_ID!C128)=1,HAP_ID!C128,\"\"))","v":""},"",null,null,null,{"$f":"+IF(H106=\"\",\"\",MAX(G$1:G105)+1)","v":""},{"$f":"IF(+CMS_Info!D128=\"\",\"\",IF(COUNTIF(CMS_Info!$D$100:$D128,CMS_Info!D128)=1,CMS_Info!D128,\"\"))","v":""},""]
[{"$f":"+IF(B107=\"\",\"\",MAX(A$1:A106)+1)","v":""},{"$f":"IF(+HAP_ID!C129=\"\",\"\",IF(COUNTIF(HAP_ID!$C$100:$C129,HAP_ID!C129)=1,HAP_ID!C129,\"\"))","v":""},"",null,null,null,{"$f":"+IF(H107=\"\",\"\",MAX(G$1:G106)+1)","v":""},{"$f":"IF(+CMS_Info!D129=\"\",\"\",IF(COUNTIF(CMS_Info!$D$100:$D129,CMS_Info!D129)=1,CMS_Info!D129,\"\"))","v":""},""]
[{"$f":"+IF(B108=\"\",\"\",MAX(A$1:A107)+1)","v":""},{"$f":"IF(+HAP_ID!C130=\"\",\"\",IF(COUNTIF(HAP_ID!$C$100:$C130,HAP_ID!C130)=1,HAP_ID!C130,\"\"))","v":""},"",null,null,null,{"$f":"+IF(H108=\"\",\"\",MAX(G$1:G107)+1)","v":""},{"$f":"IF(+CMS_Info!D130=\"\",\"\",IF(COUNTIF(CMS_Info!$D$100:$D130,CMS_Info!D130)=1,CMS_Info!D130,\"\"))","v":""},""]
[{"$f":"+IF(B109=\"\",\"\",MAX(A$1:A108)+1)","v":""},{"$f":"IF(+HAP_ID!C131=\"\",\"\",IF(COUNTIF(HAP_ID!$C$100:$C131,HAP_ID!C131)=1,HAP_ID!C131,\"\"))","v":""},"",null,null,null,{"$f":"+IF(H109=\"\",\"\",MAX(G$1:G108)+1)","v":""},{"$f":"IF(+CMS_Info!D131=\"\",\"\",IF(COUNTIF(CMS_Info!$D$100:$D131,CMS_Info!D131)=1,CMS_Info!D131,\"\"))","v":""},""]
[{"$f":"+IF(B110=\"\",\"\",MAX(A$1:A109)+1)","v":""},{"$f":"IF(+HAP_ID!C132=\"\",\"\",IF(COUNTIF(HAP_ID!$C$100:$C132,HAP_ID!C132)=1,HAP_ID!C132,\"\"))","v":""},"",null,null,null,{"$f":"+IF(H110=\"\",\"\",MAX(G$1:G109)+1)","v":""},{"$f":"IF(+CMS_Info!D132=\"\",\"\",IF(COUNTIF(CMS_Info!$D$100:$D132,CMS_Info!D132)=1,CMS_Info!D132,\"\"))","v":""},""]
[{"$f":"+IF(B111=\"\",\"\",MAX(A$1:A110)+1)","v":""},{"$f":"IF(+HAP_ID!C133=\"\",\"\",IF(COUNTIF(HAP_ID!$C$100:$C133,HAP_ID!C133)=1,HAP_ID!C133,\"\"))","v":""},"",null,null,null,{"$f":"+IF(H111=\"\",\"\",MAX(G$1:G110)+1)","v":""},{"$f":"IF(+CMS_Info!D133=\"\",\"\",IF(COUNTIF(CMS_Info!$D$100:$D133,CMS_Info!D133)=1,CMS_Info!D133,\"\"))","v":""},""]
[{"$f":"+IF(B112=\"\",\"\",MAX(A$1:A111)+1)","v":""},{"$f":"IF(+HAP_ID!C134=\"\",\"\",IF(COUNTIF(HAP_ID!$C$100:$C134,HAP_ID!C134)=1,HAP_ID!C134,\"\"))","v":""},"",null,null,null,{"$f":"+IF(H112=\"\",\"\",MAX(G$1:G111)+1)","v":""},{"$f":"IF(+CMS_Info!D134=\"\",\"\",IF(COUNTIF(CMS_Info!$D$100:$D134,CMS_Info!D134)=1,CMS_Info!D134,\"\"))","v":""},""]
[{"$f":"+IF(B113=\"\",\"\",MAX(A$1:A112)+1)","v":""},{"$f":"IF(+HAP_ID!C135=\"\",\"\",IF(COUNTIF(HAP_ID!$C$100:$C135,HAP_ID!C135)=1,HAP_ID!C135,\"\"))","v":""},"",null,null,null,{"$f":"+IF(H113=\"\",\"\",MAX(G$1:G112)+1)","v":""},{"$f":"IF(+CMS_Info!D135=\"\",\"\",IF(COUNTIF(CMS_Info!$D$100:$D135,CMS_Info!D135)=1,CMS_Info!D135,\"\"))","v":""},""]
[{"$f":"+IF(B114=\"\",\"\",MAX(A$1:A113)+1)","v":""},{"$f":"IF(+HAP_ID!C136=\"\",\"\",IF(COUNTIF(HAP_ID!$C$100:$C136,HAP_ID!C136)=1,HAP_ID!C136,\"\"))","v":""},"",null,null,null,{"$f":"+IF(H114=\"\",\"\",MAX(G$1:G113)+1)","v":""},{"$f":"IF(+CMS_Info!D136=\"\",\"\",IF(COUNTIF(CMS_Info!$D$100:$D136,CMS_Info!D136)=1,CMS_Info!D136,\"\"))","v":""},""]
[{"$f":"+IF(B115=\"\",\"\",MAX(A$1:A114)+1)","v":""},{"$f":"IF(+HAP_ID!C137=\"\",\"\",IF(COUNTIF(HAP_ID!$C$100:$C137,HAP_ID!C137)=1,HAP_ID!C137,\"\"))","v":""},"",null,null,null,{"$f":"+IF(H115=\"\",\"\",MAX(G$1:G114)+1)","v":""},{"$f":"IF(+CMS_Info!D137=\"\",\"\",IF(COUNTIF(CMS_Info!$D$100:$D137,CMS_Info!D137)=1,CMS_Info!D137,\"\"))","v":""},""]
[{"$f":"+IF(B116=\"\",\"\",MAX(A$1:A115)+1)","v":""},{"$f":"IF(+HAP_ID!C138=\"\",\"\",IF(COUNTIF(HAP_ID!$C$100:$C138,HAP_ID!C138)=1,HAP_ID!C138,\"\"))","v":""},"",null,null,null,{"$f":"+IF(H116=\"\",\"\",MAX(G$1:G115)+1)","v":""},{"$f":"IF(+CMS_Info!D138=\"\",\"\",IF(COUNTIF(CMS_Info!$D$100:$D138,CMS_Info!D138)=1,CMS_Info!D138,\"\"))","v":""},""]
[{"$f":"+IF(B117=\"\",\"\",MAX(A$1:A116)+1)","v":""},{"$f":"IF(+HAP_ID!C139=\"\",\"\",IF(COUNTIF(HAP_ID!$C$100:$C139,HAP_ID!C139)=1,HAP_ID!C139,\"\"))","v":""},"",null,null,null,{"$f":"+IF(H117=\"\",\"\",MAX(G$1:G116)+1)","v":""},{"$f":"IF(+CMS_Info!D139=\"\",\"\",IF(COUNTIF(CMS_Info!$D$100:$D139,CMS_Info!D139)=1,CMS_Info!D139,\"\"))","v":""},""]
[{"$f":"+IF(B118=\"\",\"\",MAX(A$1:A117)+1)","v":""},{"$f":"IF(+HAP_ID!C140=\"\",\"\",IF(COUNTIF(HAP_ID!$C$100:$C140,HAP_ID!C140)=1,HAP_ID!C140,\"\"))","v":""},"",null,null,null,{"$f":"+IF(H118=\"\",\"\",MAX(G$1:G117)+1)","v":""},{"$f":"IF(+CMS_Info!D140=\"\",\"\",IF(COUNTIF(CMS_Info!$D$100:$D140,CMS_Info!D140)=1,CMS_Info!D140,\"\"))","v":""},""]
[{"$f":"+IF(B119=\"\",\"\",MAX(A$1:A118)+1)","v":""},{"$f":"IF(+HAP_ID!C141=\"\",\"\",IF(COUNTIF(HAP_ID!$C$100:$C141,HAP_ID!C141)=1,HAP_ID!C141,\"\"))","v":""},"",null,null,null,{"$f":"+IF(H119=\"\",\"\",MAX(G$1:G118)+1)","v":""},{"$f":"IF(+CMS_Info!D141=\"\",\"\",IF(COUNTIF(CMS_Info!$D$100:$D141,CMS_Info!D141)=1,CMS_Info!D141,\"\"))","v":""},""]
[{"$f":"+IF(B120=\"\",\"\",MAX(A$1:A119)+1)","v":""},{"$f":"IF(+HAP_ID!C142=\"\",\"\",IF(COUNTIF(HAP_ID!$C$100:$C142,HAP_ID!C142)=1,HAP_ID!C142,\"\"))","v":""},"",null,null,null,{"$f":"+IF(H120=\"\",\"\",MAX(G$1:G119)+1)","v":""},{"$f":"IF(+CMS_Info!D142=\"\",\"\",IF(COUNTIF(CMS_Info!$D$100:$D142,CMS_Info!D142)=1,CMS_Info!D142,\"\"))","v":""},""]
[{"$f":"+IF(B121=\"\",\"\",MAX(A$1:A120)+1)","v":""},{"$f":"IF(+HAP_ID!C143=\"\",\"\",IF(COUNTIF(HAP_ID!$C$100:$C143,HAP_ID!C143)=1,HAP_ID!C143,\"\"))","v":""},"",null,null,null,{"$f":"+IF(H121=\"\",\"\",MAX(G$1:G120)+1)","v":""},{"$f":"IF(+CMS_Info!D143=\"\",\"\",IF(COUNTIF(CMS_Info!$D$100:$D143,CMS_Info!D143)=1,CMS_Info!D143,\"\"))","v":""},""]
[{"$f":"+IF(B122=\"\",\"\",MAX(A$1:A121)+1)","v":""},{"$f":"IF(+HAP_ID!C144=\"\",\"\",IF(COUNTIF(HAP_ID!$C$100:$C144,HAP_ID!C144)=1,HAP_ID!C144,\"\"))","v":""},"",null,null,null,{"$f":"+IF(H122=\"\",\"\",MAX(G$1:G121)+1)","v":""},{"$f":"IF(+CMS_Info!D144=\"\",\"\",IF(COUNTIF(CMS_Info!$D$100:$D144,CMS_Info!D144)=1,CMS_Info!D144,\"\"))","v":""},""]
[{"$f":"+IF(B123=\"\",\"\",MAX(A$1:A122)+1)","v":""},{"$f":"IF(+HAP_ID!C145=\"\",\"\",IF(COUNTIF(HAP_ID!$C$100:$C145,HAP_ID!C145)=1,HAP_ID!C145,\"\"))","v":""},"",null,null,null,{"$f":"+IF(H123=\"\",\"\",MAX(G$1:G122)+1)","v":""},{"$f":"IF(+CMS_Info!D145=\"\",\"\",IF(COUNTIF(CMS_Info!$D$100:$D145,CMS_Info!D145)=1,CMS_Info!D145,\"\"))","v":""},""]
[{"$f":"+IF(B124=\"\",\"\",MAX(A$1:A123)+1)","v":""},{"$f":"IF(+HAP_ID!C146=\"\",\"\",IF(COUNTIF(HAP_ID!$C$100:$C146,HAP_ID!C146)=1,HAP_ID!C146,\"\"))","v":""},"",null,null,null,{"$f":"+IF(H124=\"\",\"\",MAX(G$1:G123)+1)","v":""},{"$f":"IF(+CMS_Info!D146=\"\",\"\",IF(COUNTIF(CMS_Info!$D$100:$D146,CMS_Info!D146)=1,CMS_Info!D146,\"\"))","v":""},""]
[{"$f":"+IF(B125=\"\",\"\",MAX(A$1:A124)+1)","v":""},{"$f":"IF(+HAP_ID!C147=\"\",\"\",IF(COUNTIF(HAP_ID!$C$100:$C147,HAP_ID!C147)=1,HAP_ID!C147,\"\"))","v":""},"",null,null,null,{"$f":"+IF(H125=\"\",\"\",MAX(G$1:G124)+1)","v":""},{"$f":"IF(+CMS_Info!D147=\"\",\"\",IF(COUNTIF(CMS_Info!$D$100:$D147,CMS_Info!D147)=1,CMS_Info!D147,\"\"))","v":""},""]
[{"$f":"+IF(B126=\"\",\"\",MAX(A$1:A125)+1)","v":""},{"$f":"IF(+HAP_ID!C148=\"\",\"\",IF(COUNTIF(HAP_ID!$C$100:$C148,HAP_ID!C148)=1,HAP_ID!C148,\"\"))","v":""},"",null,null,null,{"$f":"+IF(H126=\"\",\"\",MAX(G$1:G125)+1)","v":""},{"$f":"IF(+CMS_Info!D148=\"\",\"\",IF(COUNTIF(CMS_Info!$D$100:$D148,CMS_Info!D148)=1,CMS_Info!D148,\"\"))","v":""},""]
[{"$f":"+IF(B127=\"\",\"\",MAX(A$1:A126)+1)","v":""},{"$f":"IF(+HAP_ID!C149=\"\",\"\",IF(COUNTIF(HAP_ID!$C$100:$C149,HAP_ID!C149)=1,HAP_ID!C149,\"\"))","v":""},"",null,null,null,{"$f":"+IF(H127=\"\",\"\",MAX(G$1:G126)+1)","v":""},{"$f":"IF(+CMS_Info!D149=\"\",\"\",IF(COUNTIF(CMS_Info!$D$100:$D149,CMS_Info!D149)=1,CMS_Info!D149,\"\"))","v":""},""]
[{"$f":"+IF(B128=\"\",\"\",MAX(A$1:A127)+1)","v":""},{"$f":"IF(+HAP_ID!C150=\"\",\"\",IF(COUNTIF(HAP_ID!$C$100:$C150,HAP_ID!C150)=1,HAP_ID!C150,\"\"))","v":""},"",null,null,null,{"$f":"+IF(H128=\"\",\"\",MAX(G$1:G127)+1)","v":""},{"$f":"IF(+CMS_Info!D150=\"\",\"\",IF(COUNTIF(CMS_Info!$D$100:$D150,CMS_Info!D150)=1,CMS_Info!D150,\"\"))","v":""},""]
[{"$f":"+IF(B129=\"\",\"\",MAX(A$1:A128)+1)","v":""},{"$f":"IF(+HAP_ID!C151=\"\",\"\",IF(COUNTIF(HAP_ID!$C$100:$C151,HAP_ID!C151)=1,HAP_ID!C151,\"\"))","v":""},"",null,null,null,{"$f":"+IF(H129=\"\",\"\",MAX(G$1:G128)+1)","v":""},{"$f":"IF(+CMS_Info!D151=\"\",\"\",IF(COUNTIF(CMS_Info!$D$100:$D151,CMS_Info!D151)=1,CMS_Info!D151,\"\"))","v":""},""]
[{"$f":"+IF(B130=\"\",\"\",MAX(A$1:A129)+1)","v":""},{"$f":"IF(+HAP_ID!C152=\"\",\"\",IF(COUNTIF(HAP_ID!$C$100:$C152,HAP_ID!C152)=1,HAP_ID!C152,\"\"))","v":""},"",null,null,null,{"$f":"+IF(H130=\"\",\"\",MAX(G$1:G129)+1)","v":""},{"$f":"IF(+CMS_Info!D152=\"\",\"\",IF(COUNTIF(CMS_Info!$D$100:$D152,CMS_Info!D152)=1,CMS_Info!D152,\"\"))","v":""},{"$f":"+IFERROR(INDEX($H$2:$H$501,MATCH(ROW()-ROW($I$1),$G$2:$G$501,0)),\"\")","v":""}]
[{"$f":"+IF(B131=\"\",\"\",MAX(A$1:A130)+1)","v":""},{"$f":"IF(+HAP_ID!C153=\"\",\"\",IF(COUNTIF(HAP_ID!$C$100:$C153,HAP_ID!C153)=1,HAP_ID!C153,\"\"))","v":""},{"$f":"+IFERROR(INDEX($B$2:$B$501,MATCH(ROW()-ROW($C$1),$A$2:$A$501,0)),\"\")","v":""},null,null,null,{"$f":"+IF(H131=\"\",\"\",MAX(G$1:G130)+1)","v":""},{"$f":"IF(+CMS_Info!D153=\"\",\"\",IF(COUNTIF(CMS_Info!$D$100:$D153,CMS_Info!D153)=1,CMS_Info!D153,\"\"))","v":""},""]
[{"$f":"+IF(B132=\"\",\"\",MAX(A$1:A131)+1)","v":""},{"$f":"IF(+HAP_ID!C154=\"\",\"\",IF(COUNTIF(HAP_ID!$C$100:$C154,HAP_ID!C154)=1,HAP_ID!C154,\"\"))","v":""},"",null,null,null,{"$f":"+IF(H132=\"\",\"\",MAX(G$1:G131)+1)","v":""},{"$f":"IF(+CMS_Info!D154=\"\",\"\",IF(COUNTIF(CMS_Info!$D$100:$D154,CMS_Info!D154)=1,CMS_Info!D154,\"\"))","v":""},""]
[{"$f":"+IF(B133=\"\",\"\",MAX(A$1:A132)+1)","v":""},{"$f":"IF(+HAP_ID!C155=\"\",\"\",IF(COUNTIF(HAP_ID!$C$100:$C155,HAP_ID!C155)=1,HAP_ID!C155,\"\"))","v":""},"",null,null,null,{"$f":"+IF(H133=\"\",\"\",MAX(G$1:G132)+1)","v":""},{"$f":"IF(+CMS_Info!D155=\"\",\"\",IF(COUNTIF(CMS_Info!$D$100:$D155,CMS_Info!D155)=1,CMS_Info!D155,\"\"))","v":""},""]
[{"$f":"+IF(B134=\"\",\"\",MAX(A$1:A133)+1)","v":""},{"$f":"IF(+HAP_ID!C156=\"\",\"\",IF(COUNTIF(HAP_ID!$C$100:$C156,HAP_ID!C156)=1,HAP_ID!C156,\"\"))","v":""},"",null,null,null,{"$f":"+IF(H134=\"\",\"\",MAX(G$1:G133)+1)","v":""},{"$f":"IF(+CMS_Info!D156=\"\",\"\",IF(COUNTIF(CMS_Info!$D$100:$D156,CMS_Info!D156)=1,CMS_Info!D156,\"\"))","v":""},""]
[{"$f":"+IF(B135=\"\",\"\",MAX(A$1:A134)+1)","v":""},{"$f":"IF(+HAP_ID!C157=\"\",\"\",IF(COUNTIF(HAP_ID!$C$100:$C157,HAP_ID!C157)=1,HAP_ID!C157,\"\"))","v":""},"",null,null,null,{"$f":"+IF(H135=\"\",\"\",MAX(G$1:G134)+1)","v":""},{"$f":"IF(+CMS_Info!D157=\"\",\"\",IF(COUNTIF(CMS_Info!$D$100:$D157,CMS_Info!D157)=1,CMS_Info!D157,\"\"))","v":""},""]
[{"$f":"+IF(B136=\"\",\"\",MAX(A$1:A135)+1)","v":""},{"$f":"IF(+HAP_ID!C158=\"\",\"\",IF(COUNTIF(HAP_ID!$C$100:$C158,HAP_ID!C158)=1,HAP_ID!C158,\"\"))","v":""},"",null,null,null,{"$f":"+IF(H136=\"\",\"\",MAX(G$1:G135)+1)","v":""},{"$f":"IF(+CMS_Info!D158=\"\",\"\",IF(COUNTIF(CMS_Info!$D$100:$D158,CMS_Info!D158)=1,CMS_Info!D158,\"\"))","v":""},""]
[{"$f":"+IF(B137=\"\",\"\",MAX(A$1:A136)+1)","v":""},{"$f":"IF(+HAP_ID!C159=\"\",\"\",IF(COUNTIF(HAP_ID!$C$100:$C159,HAP_ID!C159)=1,HAP_ID!C159,\"\"))","v":""},"",null,null,null,{"$f":"+IF(H137=\"\",\"\",MAX(G$1:G136)+1)","v":""},{"$f":"IF(+CMS_Info!D159=\"\",\"\",IF(COUNTIF(CMS_Info!$D$100:$D159,CMS_Info!D159)=1,CMS_Info!D159,\"\"))","v":""},""]
[{"$f":"+IF(B138=\"\",\"\",MAX(A$1:A137)+1)","v":""},{"$f":"IF(+HAP_ID!C160=\"\",\"\",IF(COUNTIF(HAP_ID!$C$100:$C160,HAP_ID!C160)=1,HAP_ID!C160,\"\"))","v":""},"",null,null,null,{"$f":"+IF(H138=\"\",\"\",MAX(G$1:G137)+1)","v":""},{"$f":"IF(+CMS_Info!D160=\"\",\"\",IF(COUNTIF(CMS_Info!$D$100:$D160,CMS_Info!D160)=1,CMS_Info!D160,\"\"))","v":""},""]
[{"$f":"+IF(B139=\"\",\"\",MAX(A$1:A138)+1)","v":""},{"$f":"IF(+HAP_ID!C161=\"\",\"\",IF(COUNTIF(HAP_ID!$C$100:$C161,HAP_ID!C161)=1,HAP_ID!C161,\"\"))","v":""},"",null,null,null,{"$f":"+IF(H139=\"\",\"\",MAX(G$1:G138)+1)","v":""},{"$f":"IF(+CMS_Info!D161=\"\",\"\",IF(COUNTIF(CMS_Info!$D$100:$D161,CMS_Info!D161)=1,CMS_Info!D161,\"\"))","v":""},""]
[{"$f":"+IF(B140=\"\",\"\",MAX(A$1:A139)+1)","v":""},{"$f":"IF(+HAP_ID!C162=\"\",\"\",IF(COUNTIF(HAP_ID!$C$100:$C162,HAP_ID!C162)=1,HAP_ID!C162,\"\"))","v":""},"",null,null,null,{"$f":"+IF(H140=\"\",\"\",MAX(G$1:G139)+1)","v":""},{"$f":"IF(+CMS_Info!D162=\"\",\"\",IF(COUNTIF(CMS_Info!$D$100:$D162,CMS_Info!D162)=1,CMS_Info!D162,\"\"))","v":""},""]
[{"$f":"+IF(B141=\"\",\"\",MAX(A$1:A140)+1)","v":""},{"$f":"IF(+HAP_ID!C163=\"\",\"\",IF(COUNTIF(HAP_ID!$C$100:$C163,HAP_ID!C163)=1,HAP_ID!C163,\"\"))","v":""},"",null,null,null,{"$f":"+IF(H141=\"\",\"\",MAX(G$1:G140)+1)","v":""},{"$f":"IF(+CMS_Info!D163=\"\",\"\",IF(COUNTIF(CMS_Info!$D$100:$D163,CMS_Info!D163)=1,CMS_Info!D163,\"\"))","v":""},""]
[{"$f":"+IF(B142=\"\",\"\",MAX(A$1:A141)+1)","v":""},{"$f":"IF(+HAP_ID!C164=\"\",\"\",IF(COUNTIF(HAP_ID!$C$100:$C164,HAP_ID!C164)=1,HAP_ID!C164,\"\"))","v":""},"",null,null,null,{"$f":"+IF(H142=\"\",\"\",MAX(G$1:G141)+1)","v":""},{"$f":"IF(+CMS_Info!D164=\"\",\"\",IF(COUNTIF(CMS_Info!$D$100:$D164,CMS_Info!D164)=1,CMS_Info!D164,\"\"))","v":""},""]
[{"$f":"+IF(B143=\"\",\"\",MAX(A$1:A142)+1)","v":""},{"$f":"IF(+HAP_ID!C165=\"\",\"\",IF(COUNTIF(HAP_ID!$C$100:$C165,HAP_ID!C165)=1,HAP_ID!C165,\"\"))","v":""},"",null,null,null,{"$f":"+IF(H143=\"\",\"\",MAX(G$1:G142)+1)","v":""},{"$f":"IF(+CMS_Info!D165=\"\",\"\",IF(COUNTIF(CMS_Info!$D$100:$D165,CMS_Info!D165)=1,CMS_Info!D165,\"\"))","v":""},""]
[{"$f":"+IF(B144=\"\",\"\",MAX(A$1:A143)+1)","v":""},{"$f":"IF(+HAP_ID!C166=\"\",\"\",IF(COUNTIF(HAP_ID!$C$100:$C166,HAP_ID!C166)=1,HAP_ID!C166,\"\"))","v":""},"",null,null,null,{"$f":"+IF(H144=\"\",\"\",MAX(G$1:G143)+1)","v":""},{"$f":"IF(+CMS_Info!D166=\"\",\"\",IF(COUNTIF(CMS_Info!$D$100:$D166,CMS_Info!D166)=1,CMS_Info!D166,\"\"))","v":""},""]
[{"$f":"+IF(B145=\"\",\"\",MAX(A$1:A144)+1)","v":""},{"$f":"IF(+HAP_ID!C167=\"\",\"\",IF(COUNTIF(HAP_ID!$C$100:$C167,HAP_ID!C167)=1,HAP_ID!C167,\"\"))","v":""},"",null,null,null,{"$f":"+IF(H145=\"\",\"\",MAX(G$1:G144)+1)","v":""},{"$f":"IF(+CMS_Info!D167=\"\",\"\",IF(COUNTIF(CMS_Info!$D$100:$D167,CMS_Info!D167)=1,CMS_Info!D167,\"\"))","v":""},""]
[{"$f":"+IF(B146=\"\",\"\",MAX(A$1:A145)+1)","v":""},{"$f":"IF(+HAP_ID!C168=\"\",\"\",IF(COUNTIF(HAP_ID!$C$100:$C168,HAP_ID!C168)=1,HAP_ID!C168,\"\"))","v":""},"",null,null,null,{"$f":"+IF(H146=\"\",\"\",MAX(G$1:G145)+1)","v":""},{"$f":"IF(+CMS_Info!D168=\"\",\"\",IF(COUNTIF(CMS_Info!$D$100:$D168,CMS_Info!D168)=1,CMS_Info!D168,\"\"))","v":""},""]
[{"$f":"+IF(B147=\"\",\"\",MAX(A$1:A146)+1)","v":""},{"$f":"IF(+HAP_ID!C169=\"\",\"\",IF(COUNTIF(HAP_ID!$C$100:$C169,HAP_ID!C169)=1,HAP_ID!C169,\"\"))","v":""},"",null,null,null,{"$f":"+IF(H147=\"\",\"\",MAX(G$1:G146)+1)","v":""},{"$f":"IF(+CMS_Info!D169=\"\",\"\",IF(COUNTIF(CMS_Info!$D$100:$D169,CMS_Info!D169)=1,CMS_Info!D169,\"\"))","v":""},""]
[{"$f":"+IF(B148=\"\",\"\",MAX(A$1:A147)+1)","v":""},{"$f":"IF(+HAP_ID!C170=\"\",\"\",IF(COUNTIF(HAP_ID!$C$100:$C170,HAP_ID!C170)=1,HAP_ID!C170,\"\"))","v":""},"",null,null,null,{"$f":"+IF(H148=\"\",\"\",MAX(G$1:G147)+1)","v":""},{"$f":"IF(+CMS_Info!D170=\"\",\"\",IF(COUNTIF(CMS_Info!$D$100:$D170,CMS_Info!D170)=1,CMS_Info!D170,\"\"))","v":""},""]
[{"$f":"+IF(B149=\"\",\"\",MAX(A$1:A148)+1)","v":""},{"$f":"IF(+HAP_ID!C171=\"\",\"\",IF(COUNTIF(HAP_ID!$C$100:$C171,HAP_ID!C171)=1,HAP_ID!C171,\"\"))","v":""},"",null,null,null,{"$f":"+IF(H149=\"\",\"\",MAX(G$1:G148)+1)","v":""},{"$f":"IF(+CMS_Info!D171=\"\",\"\",IF(COUNTIF(CMS_Info!$D$100:$D171,CMS_Info!D171)=1,CMS_Info!D171,\"\"))","v":""},""]
[{"$f":"+IF(B150=\"\",\"\",MAX(A$1:A149)+1)","v":""},{"$f":"IF(+HAP_ID!C172=\"\",\"\",IF(COUNTIF(HAP_ID!$C$100:$C172,HAP_ID!C172)=1,HAP_ID!C172,\"\"))","v":""},"",null,null,null,{"$f":"+IF(H150=\"\",\"\",MAX(G$1:G149)+1)","v":""},{"$f":"IF(+CMS_Info!D172=\"\",\"\",IF(COUNTIF(CMS_Info!$D$100:$D172,CMS_Info!D172)=1,CMS_Info!D172,\"\"))","v":""},""]
[{"$f":"+IF(B151=\"\",\"\",MAX(A$1:A150)+1)","v":""},{"$f":"IF(+HAP_ID!C173=\"\",\"\",IF(COUNTIF(HAP_ID!$C$100:$C173,HAP_ID!C173)=1,HAP_ID!C173,\"\"))","v":""},"",null,null,null,{"$f":"+IF(H151=\"\",\"\",MAX(G$1:G150)+1)","v":""},{"$f":"IF(+CMS_Info!D173=\"\",\"\",IF(COUNTIF(CMS_Info!$D$100:$D173,CMS_Info!D173)=1,CMS_Info!D173,\"\"))","v":""},""]
[{"$f":"+IF(B152=\"\",\"\",MAX(A$1:A151)+1)","v":""},{"$f":"IF(+HAP_ID!C174=\"\",\"\",IF(COUNTIF(HAP_ID!$C$100:$C174,HAP_ID!C174)=1,HAP_ID!C174,\"\"))","v":""},"",null,null,null,{"$f":"+IF(H152=\"\",\"\",MAX(G$1:G151)+1)","v":""},{"$f":"IF(+CMS_Info!D174=\"\",\"\",IF(COUNTIF(CMS_Info!$D$100:$D174,CMS_Info!D174)=1,CMS_Info!D174,\"\"))","v":""},""]
[{"$f":"+IF(B153=\"\",\"\",MAX(A$1:A152)+1)","v":""},{"$f":"IF(+HAP_ID!C175=\"\",\"\",IF(COUNTIF(HAP_ID!$C$100:$C175,HAP_ID!C175)=1,HAP_ID!C175,\"\"))","v":""},"",null,null,null,{"$f":"+IF(H153=\"\",\"\",MAX(G$1:G152)+1)","v":""},{"$f":"IF(+CMS_Info!D175=\"\",\"\",IF(COUNTIF(CMS_Info!$D$100:$D175,CMS_Info!D175)=1,CMS_Info!D175,\"\"))","v":""},""]
[{"$f":"+IF(B154=\"\",\"\",MAX(A$1:A153)+1)","v":""},{"$f":"IF(+HAP_ID!C176=\"\",\"\",IF(COUNTIF(HAP_ID!$C$100:$C176,HAP_ID!C176)=1,HAP_ID!C176,\"\"))","v":""},"",null,null,null,{"$f":"+IF(H154=\"\",\"\",MAX(G$1:G153)+1)","v":""},{"$f":"IF(+CMS_Info!D176=\"\",\"\",IF(COUNTIF(CMS_Info!$D$100:$D176,CMS_Info!D176)=1,CMS_Info!D176,\"\"))","v":""},""]
[{"$f":"+IF(B155=\"\",\"\",MAX(A$1:A154)+1)","v":""},{"$f":"IF(+HAP_ID!C177=\"\",\"\",IF(COUNTIF(HAP_ID!$C$100:$C177,HAP_ID!C177)=1,HAP_ID!C177,\"\"))","v":""},"",null,null,null,{"$f":"+IF(H155=\"\",\"\",MAX(G$1:G154)+1)","v":""},{"$f":"IF(+CMS_Info!D177=\"\",\"\",IF(COUNTIF(CMS_Info!$D$100:$D177,CMS_Info!D177)=1,CMS_Info!D177,\"\"))","v":""},""]
[{"$f":"+IF(B156=\"\",\"\",MAX(A$1:A155)+1)","v":""},{"$f":"IF(+HAP_ID!C178=\"\",\"\",IF(COUNTIF(HAP_ID!$C$100:$C178,HAP_ID!C178)=1,HAP_ID!C178,\"\"))","v":""},"",null,null,null,{"$f":"+IF(H156=\"\",\"\",MAX(G$1:G155)+1)","v":""},{"$f":"IF(+CMS_Info!D178=\"\",\"\",IF(COUNTIF(CMS_Info!$D$100:$D178,CMS_Info!D178)=1,CMS_Info!D178,\"\"))","v":""},""]
[{"$f":"+IF(B157=\"\",\"\",MAX(A$1:A156)+1)","v":""},{"$f":"IF(+HAP_ID!C179=\"\",\"\",IF(COUNTIF(HAP_ID!$C$100:$C179,HAP_ID!C179)=1,HAP_ID!C179,\"\"))","v":""},"",null,null,null,{"$f":"+IF(H157=\"\",\"\",MAX(G$1:G156)+1)","v":""},{"$f":"IF(+CMS_Info!D179=\"\",\"\",IF(COUNTIF(CMS_Info!$D$100:$D179,CMS_Info!D179)=1,CMS_Info!D179,\"\"))","v":""},""]
[{"$f":"+IF(B158=\"\",\"\",MAX(A$1:A157)+1)","v":""},{"$f":"IF(+HAP_ID!C180=\"\",\"\",IF(COUNTIF(HAP_ID!$C$100:$C180,HAP_ID!C180)=1,HAP_ID!C180,\"\"))","v":""},"",null,null,null,{"$f":"+IF(H158=\"\",\"\",MAX(G$1:G157)+1)","v":""},{"$f":"IF(+CMS_Info!D180=\"\",\"\",IF(COUNTIF(CMS_Info!$D$100:$D180,CMS_Info!D180)=1,CMS_Info!D180,\"\"))","v":""},""]
[{"$f":"+IF(B159=\"\",\"\",MAX(A$1:A158)+1)","v":""},{"$f":"IF(+HAP_ID!C181=\"\",\"\",IF(COUNTIF(HAP_ID!$C$100:$C181,HAP_ID!C181)=1,HAP_ID!C181,\"\"))","v":""},"",null,null,null,{"$f":"+IF(H159=\"\",\"\",MAX(G$1:G158)+1)","v":""},{"$f":"IF(+CMS_Info!D181=\"\",\"\",IF(COUNTIF(CMS_Info!$D$100:$D181,CMS_Info!D181)=1,CMS_Info!D181,\"\"))","v":""},""]
[{"$f":"+IF(B160=\"\",\"\",MAX(A$1:A159)+1)","v":""},{"$f":"IF(+HAP_ID!C182=\"\",\"\",IF(COUNTIF(HAP_ID!$C$100:$C182,HAP_ID!C182)=1,HAP_ID!C182,\"\"))","v":""},"",null,null,null,{"$f":"+IF(H160=\"\",\"\",MAX(G$1:G159)+1)","v":""},{"$f":"IF(+CMS_Info!D182=\"\",\"\",IF(COUNTIF(CMS_Info!$D$100:$D182,CMS_Info!D182)=1,CMS_Info!D182,\"\"))","v":""},""]
[{"$f":"+IF(B161=\"\",\"\",MAX(A$1:A160)+1)","v":""},{"$f":"IF(+HAP_ID!C183=\"\",\"\",IF(COUNTIF(HAP_ID!$C$100:$C183,HAP_ID!C183)=1,HAP_ID!C183,\"\"))","v":""},"",null,null,null,{"$f":"+IF(H161=\"\",\"\",MAX(G$1:G160)+1)","v":""},{"$f":"IF(+CMS_Info!D183=\"\",\"\",IF(COUNTIF(CMS_Info!$D$100:$D183,CMS_Info!D183)=1,CMS_Info!D183,\"\"))","v":""},""]
[{"$f":"+IF(B162=\"\",\"\",MAX(A$1:A161)+1)","v":""},{"$f":"IF(+HAP_ID!C184=\"\",\"\",IF(COUNTIF(HAP_ID!$C$100:$C184,HAP_ID!C184)=1,HAP_ID!C184,\"\"))","v":""},"",null,null,null,{"$f":"+IF(H162=\"\",\"\",MAX(G$1:G161)+1)","v":""},{"$f":"IF(+CMS_Info!D184=\"\",\"\",IF(COUNTIF(CMS_Info!$D$100:$D184,CMS_Info!D184)=1,CMS_Info!D184,\"\"))","v":""},""]
[{"$f":"+IF(B163=\"\",\"\",MAX(A$1:A162)+1)","v":""},{"$f":"IF(+HAP_ID!C185=\"\",\"\",IF(COUNTIF(HAP_ID!$C$100:$C185,HAP_ID!C185)=1,HAP_ID!C185,\"\"))","v":""},"",null,null,null,{"$f":"+IF(H163=\"\",\"\",MAX(G$1:G162)+1)","v":""},{"$f":"IF(+CMS_Info!D185=\"\",\"\",IF(COUNTIF(CMS_Info!$D$100:$D185,CMS_Info!D185)=1,CMS_Info!D185,\"\"))","v":""},""]
[{"$f":"+IF(B164=\"\",\"\",MAX(A$1:A163)+1)","v":""},{"$f":"IF(+HAP_ID!C186=\"\",\"\",IF(COUNTIF(HAP_ID!$C$100:$C186,HAP_ID!C186)=1,HAP_ID!C186,\"\"))","v":""},"",null,null,null,{"$f":"+IF(H164=\"\",\"\",MAX(G$1:G163)+1)","v":""},{"$f":"IF(+CMS_Info!D186=\"\",\"\",IF(COUNTIF(CMS_Info!$D$100:$D186,CMS_Info!D186)=1,CMS_Info!D186,\"\"))","v":""},""]
[{"$f":"+IF(B165=\"\",\"\",MAX(A$1:A164)+1)","v":""},{"$f":"IF(+HAP_ID!C187=\"\",\"\",IF(COUNTIF(HAP_ID!$C$100:$C187,HAP_ID!C187)=1,HAP_ID!C187,\"\"))","v":""},"",null,null,null,{"$f":"+IF(H165=\"\",\"\",MAX(G$1:G164)+1)","v":""},{"$f":"IF(+CMS_Info!D187=\"\",\"\",IF(COUNTIF(CMS_Info!$D$100:$D187,CMS_Info!D187)=1,CMS_Info!D187,\"\"))","v":""},""]
[{"$f":"+IF(B166=\"\",\"\",MAX(A$1:A165)+1)","v":""},{"$f":"IF(+HAP_ID!C188=\"\",\"\",IF(COUNTIF(HAP_ID!$C$100:$C188,HAP_ID!C188)=1,HAP_ID!C188,\"\"))","v":""},"",null,null,null,{"$f":"+IF(H166=\"\",\"\",MAX(G$1:G165)+1)","v":""},{"$f":"IF(+CMS_Info!D188=\"\",\"\",IF(COUNTIF(CMS_Info!$D$100:$D188,CMS_Info!D188)=1,CMS_Info!D188,\"\"))","v":""},""]
[{"$f":"+IF(B167=\"\",\"\",MAX(A$1:A166)+1)","v":""},{"$f":"IF(+HAP_ID!C189=\"\",\"\",IF(COUNTIF(HAP_ID!$C$100:$C189,HAP_ID!C189)=1,HAP_ID!C189,\"\"))","v":""},"",null,null,null,{"$f":"+IF(H167=\"\",\"\",MAX(G$1:G166)+1)","v":""},{"$f":"IF(+CMS_Info!D189=\"\",\"\",IF(COUNTIF(CMS_Info!$D$100:$D189,CMS_Info!D189)=1,CMS_Info!D189,\"\"))","v":""},""]
[{"$f":"+IF(B168=\"\",\"\",MAX(A$1:A167)+1)","v":""},{"$f":"IF(+HAP_ID!C190=\"\",\"\",IF(COUNTIF(HAP_ID!$C$100:$C190,HAP_ID!C190)=1,HAP_ID!C190,\"\"))","v":""},"",null,null,null,{"$f":"+IF(H168=\"\",\"\",MAX(G$1:G167)+1)","v":""},{"$f":"IF(+CMS_Info!D190=\"\",\"\",IF(COUNTIF(CMS_Info!$D$100:$D190,CMS_Info!D190)=1,CMS_Info!D190,\"\"))","v":""},""]
[{"$f":"+IF(B169=\"\",\"\",MAX(A$1:A168)+1)","v":""},{"$f":"IF(+HAP_ID!C191=\"\",\"\",IF(COUNTIF(HAP_ID!$C$100:$C191,HAP_ID!C191)=1,HAP_ID!C191,\"\"))","v":""},"",null,null,null,{"$f":"+IF(H169=\"\",\"\",MAX(G$1:G168)+1)","v":""},{"$f":"IF(+CMS_Info!D191=\"\",\"\",IF(COUNTIF(CMS_Info!$D$100:$D191,CMS_Info!D191)=1,CMS_Info!D191,\"\"))","v":""},""]
[{"$f":"+IF(B170=\"\",\"\",MAX(A$1:A169)+1)","v":""},{"$f":"IF(+HAP_ID!C192=\"\",\"\",IF(COUNTIF(HAP_ID!$C$100:$C192,HAP_ID!C192)=1,HAP_ID!C192,\"\"))","v":""},"",null,null,null,{"$f":"+IF(H170=\"\",\"\",MAX(G$1:G169)+1)","v":""},{"$f":"IF(+CMS_Info!D192=\"\",\"\",IF(COUNTIF(CMS_Info!$D$100:$D192,CMS_Info!D192)=1,CMS_Info!D192,\"\"))","v":""},""]
[{"$f":"+IF(B171=\"\",\"\",MAX(A$1:A170)+1)","v":""},{"$f":"IF(+HAP_ID!C193=\"\",\"\",IF(COUNTIF(HAP_ID!$C$100:$C193,HAP_ID!C193)=1,HAP_ID!C193,\"\"))","v":""},"",null,null,null,{"$f":"+IF(H171=\"\",\"\",MAX(G$1:G170)+1)","v":""},{"$f":"IF(+CMS_Info!D193=\"\",\"\",IF(COUNTIF(CMS_Info!$D$100:$D193,CMS_Info!D193)=1,CMS_Info!D193,\"\"))","v":""},""]
[{"$f":"+IF(B172=\"\",\"\",MAX(A$1:A171)+1)","v":""},{"$f":"IF(+HAP_ID!C194=\"\",\"\",IF(COUNTIF(HAP_ID!$C$100:$C194,HAP_ID!C194)=1,HAP_ID!C194,\"\"))","v":""},"",null,null,null,{"$f":"+IF(H172=\"\",\"\",MAX(G$1:G171)+1)","v":""},{"$f":"IF(+CMS_Info!D194=\"\",\"\",IF(COUNTIF(CMS_Info!$D$100:$D194,CMS_Info!D194)=1,CMS_Info!D194,\"\"))","v":""},""]
[{"$f":"+IF(B173=\"\",\"\",MAX(A$1:A172)+1)","v":""},{"$f":"IF(+HAP_ID!C195=\"\",\"\",IF(COUNTIF(HAP_ID!$C$100:$C195,HAP_ID!C195)=1,HAP_ID!C195,\"\"))","v":""},"",null,null,null,{"$f":"+IF(H173=\"\",\"\",MAX(G$1:G172)+1)","v":""},{"$f":"IF(+CMS_Info!D195=\"\",\"\",IF(COUNTIF(CMS_Info!$D$100:$D195,CMS_Info!D195)=1,CMS_Info!D195,\"\"))","v":""},""]
[{"$f":"+IF(B174=\"\",\"\",MAX(A$1:A173)+1)","v":""},{"$f":"IF(+HAP_ID!C196=\"\",\"\",IF(COUNTIF(HAP_ID!$C$100:$C196,HAP_ID!C196)=1,HAP_ID!C196,\"\"))","v":""},"",null,null,null,{"$f":"+IF(H174=\"\",\"\",MAX(G$1:G173)+1)","v":""},{"$f":"IF(+CMS_Info!D196=\"\",\"\",IF(COUNTIF(CMS_Info!$D$100:$D196,CMS_Info!D196)=1,CMS_Info!D196,\"\"))","v":""},""]
[{"$f":"+IF(B175=\"\",\"\",MAX(A$1:A174)+1)","v":""},{"$f":"IF(+HAP_ID!C197=\"\",\"\",IF(COUNTIF(HAP_ID!$C$100:$C197,HAP_ID!C197)=1,HAP_ID!C197,\"\"))","v":""},"",null,null,null,{"$f":"+IF(H175=\"\",\"\",MAX(G$1:G174)+1)","v":""},{"$f":"IF(+CMS_Info!D197=\"\",\"\",IF(COUNTIF(CMS_Info!$D$100:$D197,CMS_Info!D197)=1,CMS_Info!D197,\"\"))","v":""},""]
[{"$f":"+IF(B176=\"\",\"\",MAX(A$1:A175)+1)","v":""},{"$f":"IF(+HAP_ID!C198=\"\",\"\",IF(COUNTIF(HAP_ID!$C$100:$C198,HAP_ID!C198)=1,HAP_ID!C198,\"\"))","v":""},"",null,null,null,{"$f":"+IF(H176=\"\",\"\",MAX(G$1:G175)+1)","v":""},{"$f":"IF(+CMS_Info!D198=\"\",\"\",IF(COUNTIF(CMS_Info!$D$100:$D198,CMS_Info!D198)=1,CMS_Info!D198,\"\"))","v":""},""]
[{"$f":"+IF(B177=\"\",\"\",MAX(A$1:A176)+1)","v":""},{"$f":"IF(+HAP_ID!C199=\"\",\"\",IF(COUNTIF(HAP_ID!$C$100:$C199,HAP_ID!C199)=1,HAP_ID!C199,\"\"))","v":""},"",null,null,null,{"$f":"+IF(H177=\"\",\"\",MAX(G$1:G176)+1)","v":""},{"$f":"IF(+CMS_Info!D199=\"\",\"\",IF(COUNTIF(CMS_Info!$D$100:$D199,CMS_Info!D199)=1,CMS_Info!D199,\"\"))","v":""},""]
[{"$f":"+IF(B178=\"\",\"\",MAX(A$1:A177)+1)","v":""},{"$f":"IF(+HAP_ID!C200=\"\",\"\",IF(COUNTIF(HAP_ID!$C$100:$C200,HAP_ID!C200)=1,HAP_ID!C200,\"\"))","v":""},"",null,null,null,{"$f":"+IF(H178=\"\",\"\",MAX(G$1:G177)+1)","v":""},{"$f":"IF(+CMS_Info!D200=\"\",\"\",IF(COUNTIF(CMS_Info!$D$100:$D200,CMS_Info!D200)=1,CMS_Info!D200,\"\"))","v":""},""]
[{"$f":"+IF(B179=\"\",\"\",MAX(A$1:A178)+1)","v":""},{"$f":"IF(+HAP_ID!C201=\"\",\"\",IF(COUNTIF(HAP_ID!$C$100:$C201,HAP_ID!C201)=1,HAP_ID!C201,\"\"))","v":""},"",null,null,null,{"$f":"+IF(H179=\"\",\"\",MAX(G$1:G178)+1)","v":""},{"$f":"IF(+CMS_Info!D201=\"\",\"\",IF(COUNTIF(CMS_Info!$D$100:$D201,CMS_Info!D201)=1,CMS_Info!D201,\"\"))","v":""},""]
[{"$f":"+IF(B180=\"\",\"\",MAX(A$1:A179)+1)","v":""},{"$f":"IF(+HAP_ID!C202=\"\",\"\",IF(COUNTIF(HAP_ID!$C$100:$C202,HAP_ID!C202)=1,HAP_ID!C202,\"\"))","v":""},"",null,null,null,{"$f":"+IF(H180=\"\",\"\",MAX(G$1:G179)+1)","v":""},{"$f":"IF(+CMS_Info!D202=\"\",\"\",IF(COUNTIF(CMS_Info!$D$100:$D202,CMS_Info!D202)=1,CMS_Info!D202,\"\"))","v":""},""]
[{"$f":"+IF(B181=\"\",\"\",MAX(A$1:A180)+1)","v":""},{"$f":"IF(+HAP_ID!C203=\"\",\"\",IF(COUNTIF(HAP_ID!$C$100:$C203,HAP_ID!C203)=1,HAP_ID!C203,\"\"))","v":""},"",null,null,null,{"$f":"+IF(H181=\"\",\"\",MAX(G$1:G180)+1)","v":""},{"$f":"IF(+CMS_Info!D203=\"\",\"\",IF(COUNTIF(CMS_Info!$D$100:$D203,CMS_Info!D203)=1,CMS_Info!D203,\"\"))","v":""},""]
[{"$f":"+IF(B182=\"\",\"\",MAX(A$1:A181)+1)","v":""},{"$f":"IF(+HAP_ID!C204=\"\",\"\",IF(COUNTIF(HAP_ID!$C$100:$C204,HAP_ID!C204)=1,HAP_ID!C204,\"\"))","v":""},"",null,null,null,{"$f":"+IF(H182=\"\",\"\",MAX(G$1:G181)+1)","v":""},{"$f":"IF(+CMS_Info!D204=\"\",\"\",IF(COUNTIF(CMS_Info!$D$100:$D204,CMS_Info!D204)=1,CMS_Info!D204,\"\"))","v":""},""]
[{"$f":"+IF(B183=\"\",\"\",MAX(A$1:A182)+1)","v":""},{"$f":"IF(+HAP_ID!C205=\"\",\"\",IF(COUNTIF(HAP_ID!$C$100:$C205,HAP_ID!C205)=1,HAP_ID!C205,\"\"))","v":""},"",null,null,null,{"$f":"+IF(H183=\"\",\"\",MAX(G$1:G182)+1)","v":""},{"$f":"IF(+CMS_Info!D205=\"\",\"\",IF(COUNTIF(CMS_Info!$D$100:$D205,CMS_Info!D205)=1,CMS_Info!D205,\"\"))","v":""},""]
[{"$f":"+IF(B184=\"\",\"\",MAX(A$1:A183)+1)","v":""},{"$f":"IF(+HAP_ID!C206=\"\",\"\",IF(COUNTIF(HAP_ID!$C$100:$C206,HAP_ID!C206)=1,HAP_ID!C206,\"\"))","v":""},"",null,null,null,{"$f":"+IF(H184=\"\",\"\",MAX(G$1:G183)+1)","v":""},{"$f":"IF(+CMS_Info!D206=\"\",\"\",IF(COUNTIF(CMS_Info!$D$100:$D206,CMS_Info!D206)=1,CMS_Info!D206,\"\"))","v":""},""]
[{"$f":"+IF(B185=\"\",\"\",MAX(A$1:A184)+1)","v":""},{"$f":"IF(+HAP_ID!C207=\"\",\"\",IF(COUNTIF(HAP_ID!$C$100:$C207,HAP_ID!C207)=1,HAP_ID!C207,\"\"))","v":""},"",null,null,null,{"$f":"+IF(H185=\"\",\"\",MAX(G$1:G184)+1)","v":""},{"$f":"IF(+CMS_Info!D207=\"\",\"\",IF(COUNTIF(CMS_Info!$D$100:$D207,CMS_Info!D207)=1,CMS_Info!D207,\"\"))","v":""},""]
[{"$f":"+IF(B186=\"\",\"\",MAX(A$1:A185)+1)","v":""},{"$f":"IF(+HAP_ID!C208=\"\",\"\",IF(COUNTIF(HAP_ID!$C$100:$C208,HAP_ID!C208)=1,HAP_ID!C208,\"\"))","v":""},"",null,null,null,{"$f":"+IF(H186=\"\",\"\",MAX(G$1:G185)+1)","v":""},{"$f":"IF(+CMS_Info!D208=\"\",\"\",IF(COUNTIF(CMS_Info!$D$100:$D208,CMS_Info!D208)=1,CMS_Info!D208,\"\"))","v":""},""]
[{"$f":"+IF(B187=\"\",\"\",MAX(A$1:A186)+1)","v":""},{"$f":"IF(+HAP_ID!C209=\"\",\"\",IF(COUNTIF(HAP_ID!$C$100:$C209,HAP_ID!C209)=1,HAP_ID!C209,\"\"))","v":""},"",null,null,null,{"$f":"+IF(H187=\"\",\"\",MAX(G$1:G186)+1)","v":""},{"$f":"IF(+CMS_Info!D209=\"\",\"\",IF(COUNTIF(CMS_Info!$D$100:$D209,CMS_Info!D209)=1,CMS_Info!D209,\"\"))","v":""},""]
[{"$f":"+IF(B188=\"\",\"\",MAX(A$1:A187)+1)","v":""},{"$f":"IF(+HAP_ID!C210=\"\",\"\",IF(COUNTIF(HAP_ID!$C$100:$C210,HAP_ID!C210)=1,HAP_ID!C210,\"\"))","v":""},"",null,null,null,{"$f":"+IF(H188=\"\",\"\",MAX(G$1:G187)+1)","v":""},{"$f":"IF(+CMS_Info!D210=\"\",\"\",IF(COUNTIF(CMS_Info!$D$100:$D210,CMS_Info!D210)=1,CMS_Info!D210,\"\"))","v":""},""]
[{"$f":"+IF(B189=\"\",\"\",MAX(A$1:A188)+1)","v":""},{"$f":"IF(+HAP_ID!C211=\"\",\"\",IF(COUNTIF(HAP_ID!$C$100:$C211,HAP_ID!C211)=1,HAP_ID!C211,\"\"))","v":""},"",null,null,null,{"$f":"+IF(H189=\"\",\"\",MAX(G$1:G188)+1)","v":""},{"$f":"IF(+CMS_Info!D211=\"\",\"\",IF(COUNTIF(CMS_Info!$D$100:$D211,CMS_Info!D211)=1,CMS_Info!D211,\"\"))","v":""},""]
[{"$f":"+IF(B190=\"\",\"\",MAX(A$1:A189)+1)","v":""},{"$f":"IF(+HAP_ID!C212=\"\",\"\",IF(COUNTIF(HAP_ID!$C$100:$C212,HAP_ID!C212)=1,HAP_ID!C212,\"\"))","v":""},"",null,null,null,{"$f":"+IF(H190=\"\",\"\",MAX(G$1:G189)+1)","v":""},{"$f":"IF(+CMS_Info!D212=\"\",\"\",IF(COUNTIF(CMS_Info!$D$100:$D212,CMS_Info!D212)=1,CMS_Info!D212,\"\"))","v":""},""]
[{"$f":"+IF(B191=\"\",\"\",MAX(A$1:A190)+1)","v":""},{"$f":"IF(+HAP_ID!C213=\"\",\"\",IF(COUNTIF(HAP_ID!$C$100:$C213,HAP_ID!C213)=1,HAP_ID!C213,\"\"))","v":""},"",null,null,null,{"$f":"+IF(H191=\"\",\"\",MAX(G$1:G190)+1)","v":""},{"$f":"IF(+CMS_Info!D213=\"\",\"\",IF(COUNTIF(CMS_Info!$D$100:$D213,CMS_Info!D213)=1,CMS_Info!D213,\"\"))","v":""},""]
[{"$f":"+IF(B192=\"\",\"\",MAX(A$1:A191)+1)","v":""},{"$f":"IF(+HAP_ID!C214=\"\",\"\",IF(COUNTIF(HAP_ID!$C$100:$C214,HAP_ID!C214)=1,HAP_ID!C214,\"\"))","v":""},"",null,null,null,{"$f":"+IF(H192=\"\",\"\",MAX(G$1:G191)+1)","v":""},{"$f":"IF(+CMS_Info!D214=\"\",\"\",IF(COUNTIF(CMS_Info!$D$100:$D214,CMS_Info!D214)=1,CMS_Info!D214,\"\"))","v":""},""]
[{"$f":"+IF(B193=\"\",\"\",MAX(A$1:A192)+1)","v":""},{"$f":"IF(+HAP_ID!C215=\"\",\"\",IF(COUNTIF(HAP_ID!$C$100:$C215,HAP_ID!C215)=1,HAP_ID!C215,\"\"))","v":""},"",null,null,null,{"$f":"+IF(H193=\"\",\"\",MAX(G$1:G192)+1)","v":""},{"$f":"IF(+CMS_Info!D215=\"\",\"\",IF(COUNTIF(CMS_Info!$D$100:$D215,CMS_Info!D215)=1,CMS_Info!D215,\"\"))","v":""},""]
[{"$f":"+IF(B194=\"\",\"\",MAX(A$1:A193)+1)","v":""},{"$f":"IF(+HAP_ID!C216=\"\",\"\",IF(COUNTIF(HAP_ID!$C$100:$C216,HAP_ID!C216)=1,HAP_ID!C216,\"\"))","v":""},"",null,null,null,{"$f":"+IF(H194=\"\",\"\",MAX(G$1:G193)+1)","v":""},{"$f":"IF(+CMS_Info!D216=\"\",\"\",IF(COUNTIF(CMS_Info!$D$100:$D216,CMS_Info!D216)=1,CMS_Info!D216,\"\"))","v":""},{"$f":"+IFERROR(INDEX($H$2:$H$501,MATCH(ROW()-ROW($I$1),$G$2:$G$501,0)),\"\")","v":""}]
[{"$f":"+IF(B195=\"\",\"\",MAX(A$1:A194)+1)","v":""},{"$f":"IF(+HAP_ID!C217=\"\",\"\",IF(COUNTIF(HAP_ID!$C$100:$C217,HAP_ID!C217)=1,HAP_ID!C217,\"\"))","v":""},{"$f":"+IFERROR(INDEX($B$2:$B$501,MATCH(ROW()-ROW($C$1),$A$2:$A$501,0)),\"\")","v":""},null,null,null,{"$f":"+IF(H195=\"\",\"\",MAX(G$1:G194)+1)","v":""},{"$f":"IF(+CMS_Info!D217=\"\",\"\",IF(COUNTIF(CMS_Info!$D$100:$D217,CMS_Info!D217)=1,CMS_Info!D217,\"\"))","v":""},""]
[{"$f":"+IF(B196=\"\",\"\",MAX(A$1:A195)+1)","v":""},{"$f":"IF(+HAP_ID!C218=\"\",\"\",IF(COUNTIF(HAP_ID!$C$100:$C218,HAP_ID!C218)=1,HAP_ID!C218,\"\"))","v":""},"",null,null,null,{"$f":"+IF(H196=\"\",\"\",MAX(G$1:G195)+1)","v":""},{"$f":"IF(+CMS_Info!D218=\"\",\"\",IF(COUNTIF(CMS_Info!$D$100:$D218,CMS_Info!D218)=1,CMS_Info!D218,\"\"))","v":""},""]
[{"$f":"+IF(B197=\"\",\"\",MAX(A$1:A196)+1)","v":""},{"$f":"IF(+HAP_ID!C219=\"\",\"\",IF(COUNTIF(HAP_ID!$C$100:$C219,HAP_ID!C219)=1,HAP_ID!C219,\"\"))","v":""},"",null,null,null,{"$f":"+IF(H197=\"\",\"\",MAX(G$1:G196)+1)","v":""},{"$f":"IF(+CMS_Info!D219=\"\",\"\",IF(COUNTIF(CMS_Info!$D$100:$D219,CMS_Info!D219)=1,CMS_Info!D219,\"\"))","v":""},""]
[{"$f":"+IF(B198=\"\",\"\",MAX(A$1:A197)+1)","v":""},{"$f":"IF(+HAP_ID!C220=\"\",\"\",IF(COUNTIF(HAP_ID!$C$100:$C220,HAP_ID!C220)=1,HAP_ID!C220,\"\"))","v":""},"",null,null,null,{"$f":"+IF(H198=\"\",\"\",MAX(G$1:G197)+1)","v":""},{"$f":"IF(+CMS_Info!D220=\"\",\"\",IF(COUNTIF(CMS_Info!$D$100:$D220,CMS_Info!D220)=1,CMS_Info!D220,\"\"))","v":""},""]
[{"$f":"+IF(B199=\"\",\"\",MAX(A$1:A198)+1)","v":""},{"$f":"IF(+HAP_ID!C221=\"\",\"\",IF(COUNTIF(HAP_ID!$C$100:$C221,HAP_ID!C221)=1,HAP_ID!C221,\"\"))","v":""},"",null,null,null,{"$f":"+IF(H199=\"\",\"\",MAX(G$1:G198)+1)","v":""},{"$f":"IF(+CMS_Info!D221=\"\",\"\",IF(COUNTIF(CMS_Info!$D$100:$D221,CMS_Info!D221)=1,CMS_Info!D221,\"\"))","v":""},""]
[{"$f":"+IF(B200=\"\",\"\",MAX(A$1:A199)+1)","v":""},{"$f":"IF(+HAP_ID!C222=\"\",\"\",IF(COUNTIF(HAP_ID!$C$100:$C222,HAP_ID!C222)=1,HAP_ID!C222,\"\"))","v":""},"",null,null,null,{"$f":"+IF(H200=\"\",\"\",MAX(G$1:G199)+1)","v":""},{"$f":"IF(+CMS_Info!D222=\"\",\"\",IF(COUNTIF(CMS_Info!$D$100:$D222,CMS_Info!D222)=1,CMS_Info!D222,\"\"))","v":""},""]
[{"$f":"+IF(B201=\"\",\"\",MAX(A$1:A200)+1)","v":""},{"$f":"IF(+HAP_ID!C223=\"\",\"\",IF(COUNTIF(HAP_ID!$C$100:$C223,HAP_ID!C223)=1,HAP_ID!C223,\"\"))","v":""},"",null,null,null,{"$f":"+IF(H201=\"\",\"\",MAX(G$1:G200)+1)","v":""},{"$f":"IF(+CMS_Info!D223=\"\",\"\",IF(COUNTIF(CMS_Info!$D$100:$D223,CMS_Info!D223)=1,CMS_Info!D223,\"\"))","v":""},""]
[{"$f":"+IF(B202=\"\",\"\",MAX(A$1:A201)+1)","v":""},{"$f":"IF(+HAP_ID!C224=\"\",\"\",IF(COUNTIF(HAP_ID!$C$100:$C224,HAP_ID!C224)=1,HAP_ID!C224,\"\"))","v":""},"",null,null,null,{"$f":"+IF(H202=\"\",\"\",MAX(G$1:G201)+1)","v":""},{"$f":"IF(+CMS_Info!D224=\"\",\"\",IF(COUNTIF(CMS_Info!$D$100:$D224,CMS_Info!D224)=1,CMS_Info!D224,\"\"))","v":""},""]
[{"$f":"+IF(B203=\"\",\"\",MAX(A$1:A202)+1)","v":""},{"$f":"IF(+HAP_ID!C225=\"\",\"\",IF(COUNTIF(HAP_ID!$C$100:$C225,HAP_ID!C225)=1,HAP_ID!C225,\"\"))","v":""},"",null,null,null,{"$f":"+IF(H203=\"\",\"\",MAX(G$1:G202)+1)","v":""},{"$f":"IF(+CMS_Info!D225=\"\",\"\",IF(COUNTIF(CMS_Info!$D$100:$D225,CMS_Info!D225)=1,CMS_Info!D225,\"\"))","v":""},""]
[{"$f":"+IF(B204=\"\",\"\",MAX(A$1:A203)+1)","v":""},{"$f":"IF(+HAP_ID!C226=\"\",\"\",IF(COUNTIF(HAP_ID!$C$100:$C226,HAP_ID!C226)=1,HAP_ID!C226,\"\"))","v":""},"",null,null,null,{"$f":"+IF(H204=\"\",\"\",MAX(G$1:G203)+1)","v":""},{"$f":"IF(+CMS_Info!D226=\"\",\"\",IF(COUNTIF(CMS_Info!$D$100:$D226,CMS_Info!D226)=1,CMS_Info!D226,\"\"))","v":""},""]
[{"$f":"+IF(B205=\"\",\"\",MAX(A$1:A204)+1)","v":""},{"$f":"IF(+HAP_ID!C227=\"\",\"\",IF(COUNTIF(HAP_ID!$C$100:$C227,HAP_ID!C227)=1,HAP_ID!C227,\"\"))","v":""},"",null,null,null,{"$f":"+IF(H205=\"\",\"\",MAX(G$1:G204)+1)","v":""},{"$f":"IF(+CMS_Info!D227=\"\",\"\",IF(COUNTIF(CMS_Info!$D$100:$D227,CMS_Info!D227)=1,CMS_Info!D227,\"\"))","v":""},""]
[{"$f":"+IF(B206=\"\",\"\",MAX(A$1:A205)+1)","v":""},{"$f":"IF(+HAP_ID!C228=\"\",\"\",IF(COUNTIF(HAP_ID!$C$100:$C228,HAP_ID!C228)=1,HAP_ID!C228,\"\"))","v":""},"",null,null,null,{"$f":"+IF(H206=\"\",\"\",MAX(G$1:G205)+1)","v":""},{"$f":"IF(+CMS_Info!D228=\"\",\"\",IF(COUNTIF(CMS_Info!$D$100:$D228,CMS_Info!D228)=1,CMS_Info!D228,\"\"))","v":""},""]
[{"$f":"+IF(B207=\"\",\"\",MAX(A$1:A206)+1)","v":""},{"$f":"IF(+HAP_ID!C229=\"\",\"\",IF(COUNTIF(HAP_ID!$C$100:$C229,HAP_ID!C229)=1,HAP_ID!C229,\"\"))","v":""},"",null,null,null,{"$f":"+IF(H207=\"\",\"\",MAX(G$1:G206)+1)","v":""},{"$f":"IF(+CMS_Info!D229=\"\",\"\",IF(COUNTIF(CMS_Info!$D$100:$D229,CMS_Info!D229)=1,CMS_Info!D229,\"\"))","v":""},""]
[{"$f":"+IF(B208=\"\",\"\",MAX(A$1:A207)+1)","v":""},{"$f":"IF(+HAP_ID!C230=\"\",\"\",IF(COUNTIF(HAP_ID!$C$100:$C230,HAP_ID!C230)=1,HAP_ID!C230,\"\"))","v":""},"",null,null,null,{"$f":"+IF(H208=\"\",\"\",MAX(G$1:G207)+1)","v":""},{"$f":"IF(+CMS_Info!D230=\"\",\"\",IF(COUNTIF(CMS_Info!$D$100:$D230,CMS_Info!D230)=1,CMS_Info!D230,\"\"))","v":""},""]
[{"$f":"+IF(B209=\"\",\"\",MAX(A$1:A208)+1)","v":""},{"$f":"IF(+HAP_ID!C231=\"\",\"\",IF(COUNTIF(HAP_ID!$C$100:$C231,HAP_ID!C231)=1,HAP_ID!C231,\"\"))","v":""},"",null,null,null,{"$f":"+IF(H209=\"\",\"\",MAX(G$1:G208)+1)","v":""},{"$f":"IF(+CMS_Info!D231=\"\",\"\",IF(COUNTIF(CMS_Info!$D$100:$D231,CMS_Info!D231)=1,CMS_Info!D231,\"\"))","v":""},""]
[{"$f":"+IF(B210=\"\",\"\",MAX(A$1:A209)+1)","v":""},{"$f":"IF(+HAP_ID!C232=\"\",\"\",IF(COUNTIF(HAP_ID!$C$100:$C232,HAP_ID!C232)=1,HAP_ID!C232,\"\"))","v":""},"",null,null,null,{"$f":"+IF(H210=\"\",\"\",MAX(G$1:G209)+1)","v":""},{"$f":"IF(+CMS_Info!D232=\"\",\"\",IF(COUNTIF(CMS_Info!$D$100:$D232,CMS_Info!D232)=1,CMS_Info!D232,\"\"))","v":""},""]
[{"$f":"+IF(B211=\"\",\"\",MAX(A$1:A210)+1)","v":""},{"$f":"IF(+HAP_ID!C233=\"\",\"\",IF(COUNTIF(HAP_ID!$C$100:$C233,HAP_ID!C233)=1,HAP_ID!C233,\"\"))","v":""},"",null,null,null,{"$f":"+IF(H211=\"\",\"\",MAX(G$1:G210)+1)","v":""},{"$f":"IF(+CMS_Info!D233=\"\",\"\",IF(COUNTIF(CMS_Info!$D$100:$D233,CMS_Info!D233)=1,CMS_Info!D233,\"\"))","v":""},""]
[{"$f":"+IF(B212=\"\",\"\",MAX(A$1:A211)+1)","v":""},{"$f":"IF(+HAP_ID!C234=\"\",\"\",IF(COUNTIF(HAP_ID!$C$100:$C234,HAP_ID!C234)=1,HAP_ID!C234,\"\"))","v":""},"",null,null,null,{"$f":"+IF(H212=\"\",\"\",MAX(G$1:G211)+1)","v":""},{"$f":"IF(+CMS_Info!D234=\"\",\"\",IF(COUNTIF(CMS_Info!$D$100:$D234,CMS_Info!D234)=1,CMS_Info!D234,\"\"))","v":""},""]
[{"$f":"+IF(B213=\"\",\"\",MAX(A$1:A212)+1)","v":""},{"$f":"IF(+HAP_ID!C235=\"\",\"\",IF(COUNTIF(HAP_ID!$C$100:$C235,HAP_ID!C235)=1,HAP_ID!C235,\"\"))","v":""},"",null,null,null,{"$f":"+IF(H213=\"\",\"\",MAX(G$1:G212)+1)","v":""},{"$f":"IF(+CMS_Info!D235=\"\",\"\",IF(COUNTIF(CMS_Info!$D$100:$D235,CMS_Info!D235)=1,CMS_Info!D235,\"\"))","v":""},""]
[{"$f":"+IF(B214=\"\",\"\",MAX(A$1:A213)+1)","v":""},{"$f":"IF(+HAP_ID!C236=\"\",\"\",IF(COUNTIF(HAP_ID!$C$100:$C236,HAP_ID!C236)=1,HAP_ID!C236,\"\"))","v":""},"",null,null,null,{"$f":"+IF(H214=\"\",\"\",MAX(G$1:G213)+1)","v":""},{"$f":"IF(+CMS_Info!D236=\"\",\"\",IF(COUNTIF(CMS_Info!$D$100:$D236,CMS_Info!D236)=1,CMS_Info!D236,\"\"))","v":""},""]
[{"$f":"+IF(B215=\"\",\"\",MAX(A$1:A214)+1)","v":""},{"$f":"IF(+HAP_ID!C237=\"\",\"\",IF(COUNTIF(HAP_ID!$C$100:$C237,HAP_ID!C237)=1,HAP_ID!C237,\"\"))","v":""},"",null,null,null,{"$f":"+IF(H215=\"\",\"\",MAX(G$1:G214)+1)","v":""},{"$f":"IF(+CMS_Info!D237=\"\",\"\",IF(COUNTIF(CMS_Info!$D$100:$D237,CMS_Info!D237)=1,CMS_Info!D237,\"\"))","v":""},""]
[{"$f":"+IF(B216=\"\",\"\",MAX(A$1:A215)+1)","v":""},{"$f":"IF(+HAP_ID!C238=\"\",\"\",IF(COUNTIF(HAP_ID!$C$100:$C238,HAP_ID!C238)=1,HAP_ID!C238,\"\"))","v":""},"",null,null,null,{"$f":"+IF(H216=\"\",\"\",MAX(G$1:G215)+1)","v":""},{"$f":"IF(+CMS_Info!D238=\"\",\"\",IF(COUNTIF(CMS_Info!$D$100:$D238,CMS_Info!D238)=1,CMS_Info!D238,\"\"))","v":""},""]
[{"$f":"+IF(B217=\"\",\"\",MAX(A$1:A216)+1)","v":""},{"$f":"IF(+HAP_ID!C239=\"\",\"\",IF(COUNTIF(HAP_ID!$C$100:$C239,HAP_ID!C239)=1,HAP_ID!C239,\"\"))","v":""},"",null,null,null,{"$f":"+IF(H217=\"\",\"\",MAX(G$1:G216)+1)","v":""},{"$f":"IF(+CMS_Info!D239=\"\",\"\",IF(COUNTIF(CMS_Info!$D$100:$D239,CMS_Info!D239)=1,CMS_Info!D239,\"\"))","v":""},""]
[{"$f":"+IF(B218=\"\",\"\",MAX(A$1:A217)+1)","v":""},{"$f":"IF(+HAP_ID!C240=\"\",\"\",IF(COUNTIF(HAP_ID!$C$100:$C240,HAP_ID!C240)=1,HAP_ID!C240,\"\"))","v":""},"",null,null,null,{"$f":"+IF(H218=\"\",\"\",MAX(G$1:G217)+1)","v":""},{"$f":"IF(+CMS_Info!D240=\"\",\"\",IF(COUNTIF(CMS_Info!$D$100:$D240,CMS_Info!D240)=1,CMS_Info!D240,\"\"))","v":""},""]
[{"$f":"+IF(B219=\"\",\"\",MAX(A$1:A218)+1)","v":""},{"$f":"IF(+HAP_ID!C241=\"\",\"\",IF(COUNTIF(HAP_ID!$C$100:$C241,HAP_ID!C241)=1,HAP_ID!C241,\"\"))","v":""},"",null,null,null,{"$f":"+IF(H219=\"\",\"\",MAX(G$1:G218)+1)","v":""},{"$f":"IF(+CMS_Info!D241=\"\",\"\",IF(COUNTIF(CMS_Info!$D$100:$D241,CMS_Info!D241)=1,CMS_Info!D241,\"\"))","v":""},""]
[{"$f":"+IF(B220=\"\",\"\",MAX(A$1:A219)+1)","v":""},{"$f":"IF(+HAP_ID!C242=\"\",\"\",IF(COUNTIF(HAP_ID!$C$100:$C242,HAP_ID!C242)=1,HAP_ID!C242,\"\"))","v":""},"",null,null,null,{"$f":"+IF(H220=\"\",\"\",MAX(G$1:G219)+1)","v":""},{"$f":"IF(+CMS_Info!D242=\"\",\"\",IF(COUNTIF(CMS_Info!$D$100:$D242,CMS_Info!D242)=1,CMS_Info!D242,\"\"))","v":""},""]
[{"$f":"+IF(B221=\"\",\"\",MAX(A$1:A220)+1)","v":""},{"$f":"IF(+HAP_ID!C243=\"\",\"\",IF(COUNTIF(HAP_ID!$C$100:$C243,HAP_ID!C243)=1,HAP_ID!C243,\"\"))","v":""},"",null,null,null,{"$f":"+IF(H221=\"\",\"\",MAX(G$1:G220)+1)","v":""},{"$f":"IF(+CMS_Info!D243=\"\",\"\",IF(COUNTIF(CMS_Info!$D$100:$D243,CMS_Info!D243)=1,CMS_Info!D243,\"\"))","v":""},""]
[{"$f":"+IF(B222=\"\",\"\",MAX(A$1:A221)+1)","v":""},{"$f":"IF(+HAP_ID!C244=\"\",\"\",IF(COUNTIF(HAP_ID!$C$100:$C244,HAP_ID!C244)=1,HAP_ID!C244,\"\"))","v":""},"",null,null,null,{"$f":"+IF(H222=\"\",\"\",MAX(G$1:G221)+1)","v":""},{"$f":"IF(+CMS_Info!D244=\"\",\"\",IF(COUNTIF(CMS_Info!$D$100:$D244,CMS_Info!D244)=1,CMS_Info!D244,\"\"))","v":""},""]
[{"$f":"+IF(B223=\"\",\"\",MAX(A$1:A222)+1)","v":""},{"$f":"IF(+HAP_ID!C245=\"\",\"\",IF(COUNTIF(HAP_ID!$C$100:$C245,HAP_ID!C245)=1,HAP_ID!C245,\"\"))","v":""},"",null,null,null,{"$f":"+IF(H223=\"\",\"\",MAX(G$1:G222)+1)","v":""},{"$f":"IF(+CMS_Info!D245=\"\",\"\",IF(COUNTIF(CMS_Info!$D$100:$D245,CMS_Info!D245)=1,CMS_Info!D245,\"\"))","v":""},""]
[{"$f":"+IF(B224=\"\",\"\",MAX(A$1:A223)+1)","v":""},{"$f":"IF(+HAP_ID!C246=\"\",\"\",IF(COUNTIF(HAP_ID!$C$100:$C246,HAP_ID!C246)=1,HAP_ID!C246,\"\"))","v":""},"",null,null,null,{"$f":"+IF(H224=\"\",\"\",MAX(G$1:G223)+1)","v":""},{"$f":"IF(+CMS_Info!D246=\"\",\"\",IF(COUNTIF(CMS_Info!$D$100:$D246,CMS_Info!D246)=1,CMS_Info!D246,\"\"))","v":""},""]
[{"$f":"+IF(B225=\"\",\"\",MAX(A$1:A224)+1)","v":""},{"$f":"IF(+HAP_ID!C247=\"\",\"\",IF(COUNTIF(HAP_ID!$C$100:$C247,HAP_ID!C247)=1,HAP_ID!C247,\"\"))","v":""},"",null,null,null,{"$f":"+IF(H225=\"\",\"\",MAX(G$1:G224)+1)","v":""},{"$f":"IF(+CMS_Info!D247=\"\",\"\",IF(COUNTIF(CMS_Info!$D$100:$D247,CMS_Info!D247)=1,CMS_Info!D247,\"\"))","v":""},""]
[{"$f":"+IF(B226=\"\",\"\",MAX(A$1:A225)+1)","v":""},{"$f":"IF(+HAP_ID!C248=\"\",\"\",IF(COUNTIF(HAP_ID!$C$100:$C248,HAP_ID!C248)=1,HAP_ID!C248,\"\"))","v":""},"",null,null,null,{"$f":"+IF(H226=\"\",\"\",MAX(G$1:G225)+1)","v":""},{"$f":"IF(+CMS_Info!D248=\"\",\"\",IF(COUNTIF(CMS_Info!$D$100:$D248,CMS_Info!D248)=1,CMS_Info!D248,\"\"))","v":""},""]
[{"$f":"+IF(B227=\"\",\"\",MAX(A$1:A226)+1)","v":""},{"$f":"IF(+HAP_ID!C249=\"\",\"\",IF(COUNTIF(HAP_ID!$C$100:$C249,HAP_ID!C249)=1,HAP_ID!C249,\"\"))","v":""},"",null,null,null,{"$f":"+IF(H227=\"\",\"\",MAX(G$1:G226)+1)","v":""},{"$f":"IF(+CMS_Info!D249=\"\",\"\",IF(COUNTIF(CMS_Info!$D$100:$D249,CMS_Info!D249)=1,CMS_Info!D249,\"\"))","v":""},""]
[{"$f":"+IF(B228=\"\",\"\",MAX(A$1:A227)+1)","v":""},{"$f":"IF(+HAP_ID!C250=\"\",\"\",IF(COUNTIF(HAP_ID!$C$100:$C250,HAP_ID!C250)=1,HAP_ID!C250,\"\"))","v":""},"",null,null,null,{"$f":"+IF(H228=\"\",\"\",MAX(G$1:G227)+1)","v":""},{"$f":"IF(+CMS_Info!D250=\"\",\"\",IF(COUNTIF(CMS_Info!$D$100:$D250,CMS_Info!D250)=1,CMS_Info!D250,\"\"))","v":""},""]
[{"$f":"+IF(B229=\"\",\"\",MAX(A$1:A228)+1)","v":""},{"$f":"IF(+HAP_ID!C251=\"\",\"\",IF(COUNTIF(HAP_ID!$C$100:$C251,HAP_ID!C251)=1,HAP_ID!C251,\"\"))","v":""},"",null,null,null,{"$f":"+IF(H229=\"\",\"\",MAX(G$1:G228)+1)","v":""},{"$f":"IF(+CMS_Info!D251=\"\",\"\",IF(COUNTIF(CMS_Info!$D$100:$D251,CMS_Info!D251)=1,CMS_Info!D251,\"\"))","v":""},""]
[{"$f":"+IF(B230=\"\",\"\",MAX(A$1:A229)+1)","v":""},{"$f":"IF(+HAP_ID!C252=\"\",\"\",IF(COUNTIF(HAP_ID!$C$100:$C252,HAP_ID!C252)=1,HAP_ID!C252,\"\"))","v":""},"",null,null,null,{"$f":"+IF(H230=\"\",\"\",MAX(G$1:G229)+1)","v":""},{"$f":"IF(+CMS_Info!D252=\"\",\"\",IF(COUNTIF(CMS_Info!$D$100:$D252,CMS_Info!D252)=1,CMS_Info!D252,\"\"))","v":""},""]
[{"$f":"+IF(B231=\"\",\"\",MAX(A$1:A230)+1)","v":""},{"$f":"IF(+HAP_ID!C253=\"\",\"\",IF(COUNTIF(HAP_ID!$C$100:$C253,HAP_ID!C253)=1,HAP_ID!C253,\"\"))","v":""},"",null,null,null,{"$f":"+IF(H231=\"\",\"\",MAX(G$1:G230)+1)","v":""},{"$f":"IF(+CMS_Info!D253=\"\",\"\",IF(COUNTIF(CMS_Info!$D$100:$D253,CMS_Info!D253)=1,CMS_Info!D253,\"\"))","v":""},""]
[{"$f":"+IF(B232=\"\",\"\",MAX(A$1:A231)+1)","v":""},{"$f":"IF(+HAP_ID!C254=\"\",\"\",IF(COUNTIF(HAP_ID!$C$100:$C254,HAP_ID!C254)=1,HAP_ID!C254,\"\"))","v":""},"",null,null,null,{"$f":"+IF(H232=\"\",\"\",MAX(G$1:G231)+1)","v":""},{"$f":"IF(+CMS_Info!D254=\"\",\"\",IF(COUNTIF(CMS_Info!$D$100:$D254,CMS_Info!D254)=1,CMS_Info!D254,\"\"))","v":""},""]
[{"$f":"+IF(B233=\"\",\"\",MAX(A$1:A232)+1)","v":""},{"$f":"IF(+HAP_ID!C255=\"\",\"\",IF(COUNTIF(HAP_ID!$C$100:$C255,HAP_ID!C255)=1,HAP_ID!C255,\"\"))","v":""},"",null,null,null,{"$f":"+IF(H233=\"\",\"\",MAX(G$1:G232)+1)","v":""},{"$f":"IF(+CMS_Info!D255=\"\",\"\",IF(COUNTIF(CMS_Info!$D$100:$D255,CMS_Info!D255)=1,CMS_Info!D255,\"\"))","v":""},""]
[{"$f":"+IF(B234=\"\",\"\",MAX(A$1:A233)+1)","v":""},{"$f":"IF(+HAP_ID!C256=\"\",\"\",IF(COUNTIF(HAP_ID!$C$100:$C256,HAP_ID!C256)=1,HAP_ID!C256,\"\"))","v":""},"",null,null,null,{"$f":"+IF(H234=\"\",\"\",MAX(G$1:G233)+1)","v":""},{"$f":"IF(+CMS_Info!D256=\"\",\"\",IF(COUNTIF(CMS_Info!$D$100:$D256,CMS_Info!D256)=1,CMS_Info!D256,\"\"))","v":""},""]
[{"$f":"+IF(B235=\"\",\"\",MAX(A$1:A234)+1)","v":""},{"$f":"IF(+HAP_ID!C257=\"\",\"\",IF(COUNTIF(HAP_ID!$C$100:$C257,HAP_ID!C257)=1,HAP_ID!C257,\"\"))","v":""},"",null,null,null,{"$f":"+IF(H235=\"\",\"\",MAX(G$1:G234)+1)","v":""},{"$f":"IF(+CMS_Info!D257=\"\",\"\",IF(COUNTIF(CMS_Info!$D$100:$D257,CMS_Info!D257)=1,CMS_Info!D257,\"\"))","v":""},""]
[{"$f":"+IF(B236=\"\",\"\",MAX(A$1:A235)+1)","v":""},{"$f":"IF(+HAP_ID!C258=\"\",\"\",IF(COUNTIF(HAP_ID!$C$100:$C258,HAP_ID!C258)=1,HAP_ID!C258,\"\"))","v":""},"",null,null,null,{"$f":"+IF(H236=\"\",\"\",MAX(G$1:G235)+1)","v":""},{"$f":"IF(+CMS_Info!D258=\"\",\"\",IF(COUNTIF(CMS_Info!$D$100:$D258,CMS_Info!D258)=1,CMS_Info!D258,\"\"))","v":""},""]
[{"$f":"+IF(B237=\"\",\"\",MAX(A$1:A236)+1)","v":""},{"$f":"IF(+HAP_ID!C259=\"\",\"\",IF(COUNTIF(HAP_ID!$C$100:$C259,HAP_ID!C259)=1,HAP_ID!C259,\"\"))","v":""},"",null,null,null,{"$f":"+IF(H237=\"\",\"\",MAX(G$1:G236)+1)","v":""},{"$f":"IF(+CMS_Info!D259=\"\",\"\",IF(COUNTIF(CMS_Info!$D$100:$D259,CMS_Info!D259)=1,CMS_Info!D259,\"\"))","v":""},""]
[{"$f":"+IF(B238=\"\",\"\",MAX(A$1:A237)+1)","v":""},{"$f":"IF(+HAP_ID!C260=\"\",\"\",IF(COUNTIF(HAP_ID!$C$100:$C260,HAP_ID!C260)=1,HAP_ID!C260,\"\"))","v":""},"",null,null,null,{"$f":"+IF(H238=\"\",\"\",MAX(G$1:G237)+1)","v":""},{"$f":"IF(+CMS_Info!D260=\"\",\"\",IF(COUNTIF(CMS_Info!$D$100:$D260,CMS_Info!D260)=1,CMS_Info!D260,\"\"))","v":""},""]
[{"$f":"+IF(B239=\"\",\"\",MAX(A$1:A238)+1)","v":""},{"$f":"IF(+HAP_ID!C261=\"\",\"\",IF(COUNTIF(HAP_ID!$C$100:$C261,HAP_ID!C261)=1,HAP_ID!C261,\"\"))","v":""},"",null,null,null,{"$f":"+IF(H239=\"\",\"\",MAX(G$1:G238)+1)","v":""},{"$f":"IF(+CMS_Info!D261=\"\",\"\",IF(COUNTIF(CMS_Info!$D$100:$D261,CMS_Info!D261)=1,CMS_Info!D261,\"\"))","v":""},""]
[{"$f":"+IF(B240=\"\",\"\",MAX(A$1:A239)+1)","v":""},{"$f":"IF(+HAP_ID!C262=\"\",\"\",IF(COUNTIF(HAP_ID!$C$100:$C262,HAP_ID!C262)=1,HAP_ID!C262,\"\"))","v":""},"",null,null,null,{"$f":"+IF(H240=\"\",\"\",MAX(G$1:G239)+1)","v":""},{"$f":"IF(+CMS_Info!D262=\"\",\"\",IF(COUNTIF(CMS_Info!$D$100:$D262,CMS_Info!D262)=1,CMS_Info!D262,\"\"))","v":""},""]
[{"$f":"+IF(B241=\"\",\"\",MAX(A$1:A240)+1)","v":""},{"$f":"IF(+HAP_ID!C263=\"\",\"\",IF(COUNTIF(HAP_ID!$C$100:$C263,HAP_ID!C263)=1,HAP_ID!C263,\"\"))","v":""},"",null,null,null,{"$f":"+IF(H241=\"\",\"\",MAX(G$1:G240)+1)","v":""},{"$f":"IF(+CMS_Info!D263=\"\",\"\",IF(COUNTIF(CMS_Info!$D$100:$D263,CMS_Info!D263)=1,CMS_Info!D263,\"\"))","v":""},""]
[{"$f":"+IF(B242=\"\",\"\",MAX(A$1:A241)+1)","v":""},{"$f":"IF(+HAP_ID!C264=\"\",\"\",IF(COUNTIF(HAP_ID!$C$100:$C264,HAP_ID!C264)=1,HAP_ID!C264,\"\"))","v":""},"",null,null,null,{"$f":"+IF(H242=\"\",\"\",MAX(G$1:G241)+1)","v":""},{"$f":"IF(+CMS_Info!D264=\"\",\"\",IF(COUNTIF(CMS_Info!$D$100:$D264,CMS_Info!D264)=1,CMS_Info!D264,\"\"))","v":""},""]
[{"$f":"+IF(B243=\"\",\"\",MAX(A$1:A242)+1)","v":""},{"$f":"IF(+HAP_ID!C265=\"\",\"\",IF(COUNTIF(HAP_ID!$C$100:$C265,HAP_ID!C265)=1,HAP_ID!C265,\"\"))","v":""},"",null,null,null,{"$f":"+IF(H243=\"\",\"\",MAX(G$1:G242)+1)","v":""},{"$f":"IF(+CMS_Info!D265=\"\",\"\",IF(COUNTIF(CMS_Info!$D$100:$D265,CMS_Info!D265)=1,CMS_Info!D265,\"\"))","v":""},""]
[{"$f":"+IF(B244=\"\",\"\",MAX(A$1:A243)+1)","v":""},{"$f":"IF(+HAP_ID!C266=\"\",\"\",IF(COUNTIF(HAP_ID!$C$100:$C266,HAP_ID!C266)=1,HAP_ID!C266,\"\"))","v":""},"",null,null,null,{"$f":"+IF(H244=\"\",\"\",MAX(G$1:G243)+1)","v":""},{"$f":"IF(+CMS_Info!D266=\"\",\"\",IF(COUNTIF(CMS_Info!$D$100:$D266,CMS_Info!D266)=1,CMS_Info!D266,\"\"))","v":""},""]
[{"$f":"+IF(B245=\"\",\"\",MAX(A$1:A244)+1)","v":""},{"$f":"IF(+HAP_ID!C267=\"\",\"\",IF(COUNTIF(HAP_ID!$C$100:$C267,HAP_ID!C267)=1,HAP_ID!C267,\"\"))","v":""},"",null,null,null,{"$f":"+IF(H245=\"\",\"\",MAX(G$1:G244)+1)","v":""},{"$f":"IF(+CMS_Info!D267=\"\",\"\",IF(COUNTIF(CMS_Info!$D$100:$D267,CMS_Info!D267)=1,CMS_Info!D267,\"\"))","v":""},""]
[{"$f":"+IF(B246=\"\",\"\",MAX(A$1:A245)+1)","v":""},{"$f":"IF(+HAP_ID!C268=\"\",\"\",IF(COUNTIF(HAP_ID!$C$100:$C268,HAP_ID!C268)=1,HAP_ID!C268,\"\"))","v":""},"",null,null,null,{"$f":"+IF(H246=\"\",\"\",MAX(G$1:G245)+1)","v":""},{"$f":"IF(+CMS_Info!D268=\"\",\"\",IF(COUNTIF(CMS_Info!$D$100:$D268,CMS_Info!D268)=1,CMS_Info!D268,\"\"))","v":""},""]
[{"$f":"+IF(B247=\"\",\"\",MAX(A$1:A246)+1)","v":""},{"$f":"IF(+HAP_ID!C269=\"\",\"\",IF(COUNTIF(HAP_ID!$C$100:$C269,HAP_ID!C269)=1,HAP_ID!C269,\"\"))","v":""},"",null,null,null,{"$f":"+IF(H247=\"\",\"\",MAX(G$1:G246)+1)","v":""},{"$f":"IF(+CMS_Info!D269=\"\",\"\",IF(COUNTIF(CMS_Info!$D$100:$D269,CMS_Info!D269)=1,CMS_Info!D269,\"\"))","v":""},""]
[{"$f":"+IF(B248=\"\",\"\",MAX(A$1:A247)+1)","v":""},{"$f":"IF(+HAP_ID!C270=\"\",\"\",IF(COUNTIF(HAP_ID!$C$100:$C270,HAP_ID!C270)=1,HAP_ID!C270,\"\"))","v":""},"",null,null,null,{"$f":"+IF(H248=\"\",\"\",MAX(G$1:G247)+1)","v":""},{"$f":"IF(+CMS_Info!D270=\"\",\"\",IF(COUNTIF(CMS_Info!$D$100:$D270,CMS_Info!D270)=1,CMS_Info!D270,\"\"))","v":""},""]
[{"$f":"+IF(B249=\"\",\"\",MAX(A$1:A248)+1)","v":""},{"$f":"IF(+HAP_ID!C271=\"\",\"\",IF(COUNTIF(HAP_ID!$C$100:$C271,HAP_ID!C271)=1,HAP_ID!C271,\"\"))","v":""},"",null,null,null,{"$f":"+IF(H249=\"\",\"\",MAX(G$1:G248)+1)","v":""},{"$f":"IF(+CMS_Info!D271=\"\",\"\",IF(COUNTIF(CMS_Info!$D$100:$D271,CMS_Info!D271)=1,CMS_Info!D271,\"\"))","v":""},""]
[{"$f":"+IF(B250=\"\",\"\",MAX(A$1:A249)+1)","v":""},{"$f":"IF(+HAP_ID!C272=\"\",\"\",IF(COUNTIF(HAP_ID!$C$100:$C272,HAP_ID!C272)=1,HAP_ID!C272,\"\"))","v":""},"",null,null,null,{"$f":"+IF(H250=\"\",\"\",MAX(G$1:G249)+1)","v":""},{"$f":"IF(+CMS_Info!D272=\"\",\"\",IF(COUNTIF(CMS_Info!$D$100:$D272,CMS_Info!D272)=1,CMS_Info!D272,\"\"))","v":""},""]
[{"$f":"+IF(B251=\"\",\"\",MAX(A$1:A250)+1)","v":""},{"$f":"IF(+HAP_ID!C273=\"\",\"\",IF(COUNTIF(HAP_ID!$C$100:$C273,HAP_ID!C273)=1,HAP_ID!C273,\"\"))","v":""},"",null,null,null,{"$f":"+IF(H251=\"\",\"\",MAX(G$1:G250)+1)","v":""},{"$f":"IF(+CMS_Info!D273=\"\",\"\",IF(COUNTIF(CMS_Info!$D$100:$D273,CMS_Info!D273)=1,CMS_Info!D273,\"\"))","v":""},""]
[{"$f":"+IF(B252=\"\",\"\",MAX(A$1:A251)+1)","v":""},{"$f":"IF(+HAP_ID!C274=\"\",\"\",IF(COUNTIF(HAP_ID!$C$100:$C274,HAP_ID!C274)=1,HAP_ID!C274,\"\"))","v":""},"",null,null,null,{"$f":"+IF(H252=\"\",\"\",MAX(G$1:G251)+1)","v":""},{"$f":"IF(+CMS_Info!D274=\"\",\"\",IF(COUNTIF(CMS_Info!$D$100:$D274,CMS_Info!D274)=1,CMS_Info!D274,\"\"))","v":""},""]
[{"$f":"+IF(B253=\"\",\"\",MAX(A$1:A252)+1)","v":""},{"$f":"IF(+HAP_ID!C275=\"\",\"\",IF(COUNTIF(HAP_ID!$C$100:$C275,HAP_ID!C275)=1,HAP_ID!C275,\"\"))","v":""},"",null,null,null,{"$f":"+IF(H253=\"\",\"\",MAX(G$1:G252)+1)","v":""},{"$f":"IF(+CMS_Info!D275=\"\",\"\",IF(COUNTIF(CMS_Info!$D$100:$D275,CMS_Info!D275)=1,CMS_Info!D275,\"\"))","v":""},""]
[{"$f":"+IF(B254=\"\",\"\",MAX(A$1:A253)+1)","v":""},{"$f":"IF(+HAP_ID!C276=\"\",\"\",IF(COUNTIF(HAP_ID!$C$100:$C276,HAP_ID!C276)=1,HAP_ID!C276,\"\"))","v":""},"",null,null,null,{"$f":"+IF(H254=\"\",\"\",MAX(G$1:G253)+1)","v":""},{"$f":"IF(+CMS_Info!D276=\"\",\"\",IF(COUNTIF(CMS_Info!$D$100:$D276,CMS_Info!D276)=1,CMS_Info!D276,\"\"))","v":""},""]
[{"$f":"+IF(B255=\"\",\"\",MAX(A$1:A254)+1)","v":""},{"$f":"IF(+HAP_ID!C277=\"\",\"\",IF(COUNTIF(HAP_ID!$C$100:$C277,HAP_ID!C277)=1,HAP_ID!C277,\"\"))","v":""},"",null,null,null,{"$f":"+IF(H255=\"\",\"\",MAX(G$1:G254)+1)","v":""},{"$f":"IF(+CMS_Info!D277=\"\",\"\",IF(COUNTIF(CMS_Info!$D$100:$D277,CMS_Info!D277)=1,CMS_Info!D277,\"\"))","v":""},""]
[{"$f":"+IF(B256=\"\",\"\",MAX(A$1:A255)+1)","v":""},{"$f":"IF(+HAP_ID!C278=\"\",\"\",IF(COUNTIF(HAP_ID!$C$100:$C278,HAP_ID!C278)=1,HAP_ID!C278,\"\"))","v":""},"",null,null,null,{"$f":"+IF(H256=\"\",\"\",MAX(G$1:G255)+1)","v":""},{"$f":"IF(+CMS_Info!D278=\"\",\"\",IF(COUNTIF(CMS_Info!$D$100:$D278,CMS_Info!D278)=1,CMS_Info!D278,\"\"))","v":""},""]
[{"$f":"+IF(B257=\"\",\"\",MAX(A$1:A256)+1)","v":""},{"$f":"IF(+HAP_ID!C279=\"\",\"\",IF(COUNTIF(HAP_ID!$C$100:$C279,HAP_ID!C279)=1,HAP_ID!C279,\"\"))","v":""},"",null,null,null,{"$f":"+IF(H257=\"\",\"\",MAX(G$1:G256)+1)","v":""},{"$f":"IF(+CMS_Info!D279=\"\",\"\",IF(COUNTIF(CMS_Info!$D$100:$D279,CMS_Info!D279)=1,CMS_Info!D279,\"\"))","v":""},""]
[{"$f":"+IF(B258=\"\",\"\",MAX(A$1:A257)+1)","v":""},{"$f":"IF(+HAP_ID!C280=\"\",\"\",IF(COUNTIF(HAP_ID!$C$100:$C280,HAP_ID!C280)=1,HAP_ID!C280,\"\"))","v":""},"",null,null,null,{"$f":"+IF(H258=\"\",\"\",MAX(G$1:G257)+1)","v":""},{"$f":"IF(+CMS_Info!D280=\"\",\"\",IF(COUNTIF(CMS_Info!$D$100:$D280,CMS_Info!D280)=1,CMS_Info!D280,\"\"))","v":""},{"$f":"+IFERROR(INDEX($H$2:$H$501,MATCH(ROW()-ROW($I$1),$G$2:$G$501,0)),\"\")","v":""}]
[{"$f":"+IF(B259=\"\",\"\",MAX(A$1:A258)+1)","v":""},{"$f":"IF(+HAP_ID!C281=\"\",\"\",IF(COUNTIF(HAP_ID!$C$100:$C281,HAP_ID!C281)=1,HAP_ID!C281,\"\"))","v":""},{"$f":"+IFERROR(INDEX($B$2:$B$501,MATCH(ROW()-ROW($C$1),$A$2:$A$501,0)),\"\")","v":""},null,null,null,{"$f":"+IF(H259=\"\",\"\",MAX(G$1:G258)+1)","v":""},{"$f":"IF(+CMS_Info!D281=\"\",\"\",IF(COUNTIF(CMS_Info!$D$100:$D281,CMS_Info!D281)=1,CMS_Info!D281,\"\"))","v":""},""]
[{"$f":"+IF(B260=\"\",\"\",MAX(A$1:A259)+1)","v":""},{"$f":"IF(+HAP_ID!C282=\"\",\"\",IF(COUNTIF(HAP_ID!$C$100:$C282,HAP_ID!C282)=1,HAP_ID!C282,\"\"))","v":""},"",null,null,null,{"$f":"+IF(H260=\"\",\"\",MAX(G$1:G259)+1)","v":""},{"$f":"IF(+CMS_Info!D282=\"\",\"\",IF(COUNTIF(CMS_Info!$D$100:$D282,CMS_Info!D282)=1,CMS_Info!D282,\"\"))","v":""},""]
[{"$f":"+IF(B261=\"\",\"\",MAX(A$1:A260)+1)","v":""},{"$f":"IF(+HAP_ID!C283=\"\",\"\",IF(COUNTIF(HAP_ID!$C$100:$C283,HAP_ID!C283)=1,HAP_ID!C283,\"\"))","v":""},"",null,null,null,{"$f":"+IF(H261=\"\",\"\",MAX(G$1:G260)+1)","v":""},{"$f":"IF(+CMS_Info!D283=\"\",\"\",IF(COUNTIF(CMS_Info!$D$100:$D283,CMS_Info!D283)=1,CMS_Info!D283,\"\"))","v":""},""]
[{"$f":"+IF(B262=\"\",\"\",MAX(A$1:A261)+1)","v":""},{"$f":"IF(+HAP_ID!C284=\"\",\"\",IF(COUNTIF(HAP_ID!$C$100:$C284,HAP_ID!C284)=1,HAP_ID!C284,\"\"))","v":""},"",null,null,null,{"$f":"+IF(H262=\"\",\"\",MAX(G$1:G261)+1)","v":""},{"$f":"IF(+CMS_Info!D284=\"\",\"\",IF(COUNTIF(CMS_Info!$D$100:$D284,CMS_Info!D284)=1,CMS_Info!D284,\"\"))","v":""},""]
[{"$f":"+IF(B263=\"\",\"\",MAX(A$1:A262)+1)","v":""},{"$f":"IF(+HAP_ID!C285=\"\",\"\",IF(COUNTIF(HAP_ID!$C$100:$C285,HAP_ID!C285)=1,HAP_ID!C285,\"\"))","v":""},"",null,null,null,{"$f":"+IF(H263=\"\",\"\",MAX(G$1:G262)+1)","v":""},{"$f":"IF(+CMS_Info!D285=\"\",\"\",IF(COUNTIF(CMS_Info!$D$100:$D285,CMS_Info!D285)=1,CMS_Info!D285,\"\"))","v":""},""]
[{"$f":"+IF(B264=\"\",\"\",MAX(A$1:A263)+1)","v":""},{"$f":"IF(+HAP_ID!C286=\"\",\"\",IF(COUNTIF(HAP_ID!$C$100:$C286,HAP_ID!C286)=1,HAP_ID!C286,\"\"))","v":""},"",null,null,null,{"$f":"+IF(H264=\"\",\"\",MAX(G$1:G263)+1)","v":""},{"$f":"IF(+CMS_Info!D286=\"\",\"\",IF(COUNTIF(CMS_Info!$D$100:$D286,CMS_Info!D286)=1,CMS_Info!D286,\"\"))","v":""},""]
[{"$f":"+IF(B265=\"\",\"\",MAX(A$1:A264)+1)","v":""},{"$f":"IF(+HAP_ID!C287=\"\",\"\",IF(COUNTIF(HAP_ID!$C$100:$C287,HAP_ID!C287)=1,HAP_ID!C287,\"\"))","v":""},"",null,null,null,{"$f":"+IF(H265=\"\",\"\",MAX(G$1:G264)+1)","v":""},{"$f":"IF(+CMS_Info!D287=\"\",\"\",IF(COUNTIF(CMS_Info!$D$100:$D287,CMS_Info!D287)=1,CMS_Info!D287,\"\"))","v":""},""]
[{"$f":"+IF(B266=\"\",\"\",MAX(A$1:A265)+1)","v":""},{"$f":"IF(+HAP_ID!C288=\"\",\"\",IF(COUNTIF(HAP_ID!$C$100:$C288,HAP_ID!C288)=1,HAP_ID!C288,\"\"))","v":""},"",null,null,null,{"$f":"+IF(H266=\"\",\"\",MAX(G$1:G265)+1)","v":""},{"$f":"IF(+CMS_Info!D288=\"\",\"\",IF(COUNTIF(CMS_Info!$D$100:$D288,CMS_Info!D288)=1,CMS_Info!D288,\"\"))","v":""},""]
[{"$f":"+IF(B267=\"\",\"\",MAX(A$1:A266)+1)","v":""},{"$f":"IF(+HAP_ID!C289=\"\",\"\",IF(COUNTIF(HAP_ID!$C$100:$C289,HAP_ID!C289)=1,HAP_ID!C289,\"\"))","v":""},"",null,null,null,{"$f":"+IF(H267=\"\",\"\",MAX(G$1:G266)+1)","v":""},{"$f":"IF(+CMS_Info!D289=\"\",\"\",IF(COUNTIF(CMS_Info!$D$100:$D289,CMS_Info!D289)=1,CMS_Info!D289,\"\"))","v":""},""]
[{"$f":"+IF(B268=\"\",\"\",MAX(A$1:A267)+1)","v":""},{"$f":"IF(+HAP_ID!C290=\"\",\"\",IF(COUNTIF(HAP_ID!$C$100:$C290,HAP_ID!C290)=1,HAP_ID!C290,\"\"))","v":""},"",null,null,null,{"$f":"+IF(H268=\"\",\"\",MAX(G$1:G267)+1)","v":""},{"$f":"IF(+CMS_Info!D290=\"\",\"\",IF(COUNTIF(CMS_Info!$D$100:$D290,CMS_Info!D290)=1,CMS_Info!D290,\"\"))","v":""},""]
[{"$f":"+IF(B269=\"\",\"\",MAX(A$1:A268)+1)","v":""},{"$f":"IF(+HAP_ID!C291=\"\",\"\",IF(COUNTIF(HAP_ID!$C$100:$C291,HAP_ID!C291)=1,HAP_ID!C291,\"\"))","v":""},"",null,null,null,{"$f":"+IF(H269=\"\",\"\",MAX(G$1:G268)+1)","v":""},{"$f":"IF(+CMS_Info!D291=\"\",\"\",IF(COUNTIF(CMS_Info!$D$100:$D291,CMS_Info!D291)=1,CMS_Info!D291,\"\"))","v":""},""]
[{"$f":"+IF(B270=\"\",\"\",MAX(A$1:A269)+1)","v":""},{"$f":"IF(+HAP_ID!C292=\"\",\"\",IF(COUNTIF(HAP_ID!$C$100:$C292,HAP_ID!C292)=1,HAP_ID!C292,\"\"))","v":""},"",null,null,null,{"$f":"+IF(H270=\"\",\"\",MAX(G$1:G269)+1)","v":""},{"$f":"IF(+CMS_Info!D292=\"\",\"\",IF(COUNTIF(CMS_Info!$D$100:$D292,CMS_Info!D292)=1,CMS_Info!D292,\"\"))","v":""},""]
[{"$f":"+IF(B271=\"\",\"\",MAX(A$1:A270)+1)","v":""},{"$f":"IF(+HAP_ID!C293=\"\",\"\",IF(COUNTIF(HAP_ID!$C$100:$C293,HAP_ID!C293)=1,HAP_ID!C293,\"\"))","v":""},"",null,null,null,{"$f":"+IF(H271=\"\",\"\",MAX(G$1:G270)+1)","v":""},{"$f":"IF(+CMS_Info!D293=\"\",\"\",IF(COUNTIF(CMS_Info!$D$100:$D293,CMS_Info!D293)=1,CMS_Info!D293,\"\"))","v":""},""]
[{"$f":"+IF(B272=\"\",\"\",MAX(A$1:A271)+1)","v":""},{"$f":"IF(+HAP_ID!C294=\"\",\"\",IF(COUNTIF(HAP_ID!$C$100:$C294,HAP_ID!C294)=1,HAP_ID!C294,\"\"))","v":""},"",null,null,null,{"$f":"+IF(H272=\"\",\"\",MAX(G$1:G271)+1)","v":""},{"$f":"IF(+CMS_Info!D294=\"\",\"\",IF(COUNTIF(CMS_Info!$D$100:$D294,CMS_Info!D294)=1,CMS_Info!D294,\"\"))","v":""},""]
[{"$f":"+IF(B273=\"\",\"\",MAX(A$1:A272)+1)","v":""},{"$f":"IF(+HAP_ID!C295=\"\",\"\",IF(COUNTIF(HAP_ID!$C$100:$C295,HAP_ID!C295)=1,HAP_ID!C295,\"\"))","v":""},"",null,null,null,{"$f":"+IF(H273=\"\",\"\",MAX(G$1:G272)+1)","v":""},{"$f":"IF(+CMS_Info!D295=\"\",\"\",IF(COUNTIF(CMS_Info!$D$100:$D295,CMS_Info!D295)=1,CMS_Info!D295,\"\"))","v":""},""]
[{"$f":"+IF(B274=\"\",\"\",MAX(A$1:A273)+1)","v":""},{"$f":"IF(+HAP_ID!C296=\"\",\"\",IF(COUNTIF(HAP_ID!$C$100:$C296,HAP_ID!C296)=1,HAP_ID!C296,\"\"))","v":""},"",null,null,null,{"$f":"+IF(H274=\"\",\"\",MAX(G$1:G273)+1)","v":""},{"$f":"IF(+CMS_Info!D296=\"\",\"\",IF(COUNTIF(CMS_Info!$D$100:$D296,CMS_Info!D296)=1,CMS_Info!D296,\"\"))","v":""},""]
[{"$f":"+IF(B275=\"\",\"\",MAX(A$1:A274)+1)","v":""},{"$f":"IF(+HAP_ID!C297=\"\",\"\",IF(COUNTIF(HAP_ID!$C$100:$C297,HAP_ID!C297)=1,HAP_ID!C297,\"\"))","v":""},"",null,null,null,{"$f":"+IF(H275=\"\",\"\",MAX(G$1:G274)+1)","v":""},{"$f":"IF(+CMS_Info!D297=\"\",\"\",IF(COUNTIF(CMS_Info!$D$100:$D297,CMS_Info!D297)=1,CMS_Info!D297,\"\"))","v":""},""]
[{"$f":"+IF(B276=\"\",\"\",MAX(A$1:A275)+1)","v":""},{"$f":"IF(+HAP_ID!C298=\"\",\"\",IF(COUNTIF(HAP_ID!$C$100:$C298,HAP_ID!C298)=1,HAP_ID!C298,\"\"))","v":""},"",null,null,null,{"$f":"+IF(H276=\"\",\"\",MAX(G$1:G275)+1)","v":""},{"$f":"IF(+CMS_Info!D298=\"\",\"\",IF(COUNTIF(CMS_Info!$D$100:$D298,CMS_Info!D298)=1,CMS_Info!D298,\"\"))","v":""},""]
[{"$f":"+IF(B277=\"\",\"\",MAX(A$1:A276)+1)","v":""},{"$f":"IF(+HAP_ID!C299=\"\",\"\",IF(COUNTIF(HAP_ID!$C$100:$C299,HAP_ID!C299)=1,HAP_ID!C299,\"\"))","v":""},"",null,null,null,{"$f":"+IF(H277=\"\",\"\",MAX(G$1:G276)+1)","v":""},{"$f":"IF(+CMS_Info!D299=\"\",\"\",IF(COUNTIF(CMS_Info!$D$100:$D299,CMS_Info!D299)=1,CMS_Info!D299,\"\"))","v":""},""]
[{"$f":"+IF(B278=\"\",\"\",MAX(A$1:A277)+1)","v":""},{"$f":"IF(+HAP_ID!C300=\"\",\"\",IF(COUNTIF(HAP_ID!$C$100:$C300,HAP_ID!C300)=1,HAP_ID!C300,\"\"))","v":""},"",null,null,null,{"$f":"+IF(H278=\"\",\"\",MAX(G$1:G277)+1)","v":""},{"$f":"IF(+CMS_Info!D300=\"\",\"\",IF(COUNTIF(CMS_Info!$D$100:$D300,CMS_Info!D300)=1,CMS_Info!D300,\"\"))","v":""},""]
[{"$f":"+IF(B279=\"\",\"\",MAX(A$1:A278)+1)","v":""},{"$f":"IF(+HAP_ID!C301=\"\",\"\",IF(COUNTIF(HAP_ID!$C$100:$C301,HAP_ID!C301)=1,HAP_ID!C301,\"\"))","v":""},"",null,null,null,{"$f":"+IF(H279=\"\",\"\",MAX(G$1:G278)+1)","v":""},{"$f":"IF(+CMS_Info!D301=\"\",\"\",IF(COUNTIF(CMS_Info!$D$100:$D301,CMS_Info!D301)=1,CMS_Info!D301,\"\"))","v":""},""]
[{"$f":"+IF(B280=\"\",\"\",MAX(A$1:A279)+1)","v":""},{"$f":"IF(+HAP_ID!C302=\"\",\"\",IF(COUNTIF(HAP_ID!$C$100:$C302,HAP_ID!C302)=1,HAP_ID!C302,\"\"))","v":""},"",null,null,null,{"$f":"+IF(H280=\"\",\"\",MAX(G$1:G279)+1)","v":""},{"$f":"IF(+CMS_Info!D302=\"\",\"\",IF(COUNTIF(CMS_Info!$D$100:$D302,CMS_Info!D302)=1,CMS_Info!D302,\"\"))","v":""},""]
[{"$f":"+IF(B281=\"\",\"\",MAX(A$1:A280)+1)","v":""},{"$f":"IF(+HAP_ID!C303=\"\",\"\",IF(COUNTIF(HAP_ID!$C$100:$C303,HAP_ID!C303)=1,HAP_ID!C303,\"\"))","v":""},"",null,null,null,{"$f":"+IF(H281=\"\",\"\",MAX(G$1:G280)+1)","v":""},{"$f":"IF(+CMS_Info!D303=\"\",\"\",IF(COUNTIF(CMS_Info!$D$100:$D303,CMS_Info!D303)=1,CMS_Info!D303,\"\"))","v":""},""]
[{"$f":"+IF(B282=\"\",\"\",MAX(A$1:A281)+1)","v":""},{"$f":"IF(+HAP_ID!C304=\"\",\"\",IF(COUNTIF(HAP_ID!$C$100:$C304,HAP_ID!C304)=1,HAP_ID!C304,\"\"))","v":""},"",null,null,null,{"$f":"+IF(H282=\"\",\"\",MAX(G$1:G281)+1)","v":""},{"$f":"IF(+CMS_Info!D304=\"\",\"\",IF(COUNTIF(CMS_Info!$D$100:$D304,CMS_Info!D304)=1,CMS_Info!D304,\"\"))","v":""},""]
[{"$f":"+IF(B283=\"\",\"\",MAX(A$1:A282)+1)","v":""},{"$f":"IF(+HAP_ID!C305=\"\",\"\",IF(COUNTIF(HAP_ID!$C$100:$C305,HAP_ID!C305)=1,HAP_ID!C305,\"\"))","v":""},"",null,null,null,{"$f":"+IF(H283=\"\",\"\",MAX(G$1:G282)+1)","v":""},{"$f":"IF(+CMS_Info!D305=\"\",\"\",IF(COUNTIF(CMS_Info!$D$100:$D305,CMS_Info!D305)=1,CMS_Info!D305,\"\"))","v":""},""]
[{"$f":"+IF(B284=\"\",\"\",MAX(A$1:A283)+1)","v":""},{"$f":"IF(+HAP_ID!C306=\"\",\"\",IF(COUNTIF(HAP_ID!$C$100:$C306,HAP_ID!C306)=1,HAP_ID!C306,\"\"))","v":""},"",null,null,null,{"$f":"+IF(H284=\"\",\"\",MAX(G$1:G283)+1)","v":""},{"$f":"IF(+CMS_Info!D306=\"\",\"\",IF(COUNTIF(CMS_Info!$D$100:$D306,CMS_Info!D306)=1,CMS_Info!D306,\"\"))","v":""},""]
[{"$f":"+IF(B285=\"\",\"\",MAX(A$1:A284)+1)","v":""},{"$f":"IF(+HAP_ID!C307=\"\",\"\",IF(COUNTIF(HAP_ID!$C$100:$C307,HAP_ID!C307)=1,HAP_ID!C307,\"\"))","v":""},"",null,null,null,{"$f":"+IF(H285=\"\",\"\",MAX(G$1:G284)+1)","v":""},{"$f":"IF(+CMS_Info!D307=\"\",\"\",IF(COUNTIF(CMS_Info!$D$100:$D307,CMS_Info!D307)=1,CMS_Info!D307,\"\"))","v":""},""]
[{"$f":"+IF(B286=\"\",\"\",MAX(A$1:A285)+1)","v":""},{"$f":"IF(+HAP_ID!C308=\"\",\"\",IF(COUNTIF(HAP_ID!$C$100:$C308,HAP_ID!C308)=1,HAP_ID!C308,\"\"))","v":""},"",null,null,null,{"$f":"+IF(H286=\"\",\"\",MAX(G$1:G285)+1)","v":""},{"$f":"IF(+CMS_Info!D308=\"\",\"\",IF(COUNTIF(CMS_Info!$D$100:$D308,CMS_Info!D308)=1,CMS_Info!D308,\"\"))","v":""},""]
[{"$f":"+IF(B287=\"\",\"\",MAX(A$1:A286)+1)","v":""},{"$f":"IF(+HAP_ID!C309=\"\",\"\",IF(COUNTIF(HAP_ID!$C$100:$C309,HAP_ID!C309)=1,HAP_ID!C309,\"\"))","v":""},"",null,null,null,{"$f":"+IF(H287=\"\",\"\",MAX(G$1:G286)+1)","v":""},{"$f":"IF(+CMS_Info!D309=\"\",\"\",IF(COUNTIF(CMS_Info!$D$100:$D309,CMS_Info!D309)=1,CMS_Info!D309,\"\"))","v":""},""]
[{"$f":"+IF(B288=\"\",\"\",MAX(A$1:A287)+1)","v":""},{"$f":"IF(+HAP_ID!C310=\"\",\"\",IF(COUNTIF(HAP_ID!$C$100:$C310,HAP_ID!C310)=1,HAP_ID!C310,\"\"))","v":""},"",null,null,null,{"$f":"+IF(H288=\"\",\"\",MAX(G$1:G287)+1)","v":""},{"$f":"IF(+CMS_Info!D310=\"\",\"\",IF(COUNTIF(CMS_Info!$D$100:$D310,CMS_Info!D310)=1,CMS_Info!D310,\"\"))","v":""},""]
[{"$f":"+IF(B289=\"\",\"\",MAX(A$1:A288)+1)","v":""},{"$f":"IF(+HAP_ID!C311=\"\",\"\",IF(COUNTIF(HAP_ID!$C$100:$C311,HAP_ID!C311)=1,HAP_ID!C311,\"\"))","v":""},"",null,null,null,{"$f":"+IF(H289=\"\",\"\",MAX(G$1:G288)+1)","v":""},{"$f":"IF(+CMS_Info!D311=\"\",\"\",IF(COUNTIF(CMS_Info!$D$100:$D311,CMS_Info!D311)=1,CMS_Info!D311,\"\"))","v":""},""]
[{"$f":"+IF(B290=\"\",\"\",MAX(A$1:A289)+1)","v":""},{"$f":"IF(+HAP_ID!C312=\"\",\"\",IF(COUNTIF(HAP_ID!$C$100:$C312,HAP_ID!C312)=1,HAP_ID!C312,\"\"))","v":""},"",null,null,null,{"$f":"+IF(H290=\"\",\"\",MAX(G$1:G289)+1)","v":""},{"$f":"IF(+CMS_Info!D312=\"\",\"\",IF(COUNTIF(CMS_Info!$D$100:$D312,CMS_Info!D312)=1,CMS_Info!D312,\"\"))","v":""},""]
[{"$f":"+IF(B291=\"\",\"\",MAX(A$1:A290)+1)","v":""},{"$f":"IF(+HAP_ID!C313=\"\",\"\",IF(COUNTIF(HAP_ID!$C$100:$C313,HAP_ID!C313)=1,HAP_ID!C313,\"\"))","v":""},"",null,null,null,{"$f":"+IF(H291=\"\",\"\",MAX(G$1:G290)+1)","v":""},{"$f":"IF(+CMS_Info!D313=\"\",\"\",IF(COUNTIF(CMS_Info!$D$100:$D313,CMS_Info!D313)=1,CMS_Info!D313,\"\"))","v":""},""]
[{"$f":"+IF(B292=\"\",\"\",MAX(A$1:A291)+1)","v":""},{"$f":"IF(+HAP_ID!C314=\"\",\"\",IF(COUNTIF(HAP_ID!$C$100:$C314,HAP_ID!C314)=1,HAP_ID!C314,\"\"))","v":""},"",null,null,null,{"$f":"+IF(H292=\"\",\"\",MAX(G$1:G291)+1)","v":""},{"$f":"IF(+CMS_Info!D314=\"\",\"\",IF(COUNTIF(CMS_Info!$D$100:$D314,CMS_Info!D314)=1,CMS_Info!D314,\"\"))","v":""},""]
[{"$f":"+IF(B293=\"\",\"\",MAX(A$1:A292)+1)","v":""},{"$f":"IF(+HAP_ID!C315=\"\",\"\",IF(COUNTIF(HAP_ID!$C$100:$C315,HAP_ID!C315)=1,HAP_ID!C315,\"\"))","v":""},"",null,null,null,{"$f":"+IF(H293=\"\",\"\",MAX(G$1:G292)+1)","v":""},{"$f":"IF(+CMS_Info!D315=\"\",\"\",IF(COUNTIF(CMS_Info!$D$100:$D315,CMS_Info!D315)=1,CMS_Info!D315,\"\"))","v":""},""]
[{"$f":"+IF(B294=\"\",\"\",MAX(A$1:A293)+1)","v":""},{"$f":"IF(+HAP_ID!C316=\"\",\"\",IF(COUNTIF(HAP_ID!$C$100:$C316,HAP_ID!C316)=1,HAP_ID!C316,\"\"))","v":""},"",null,null,null,{"$f":"+IF(H294=\"\",\"\",MAX(G$1:G293)+1)","v":""},{"$f":"IF(+CMS_Info!D316=\"\",\"\",IF(COUNTIF(CMS_Info!$D$100:$D316,CMS_Info!D316)=1,CMS_Info!D316,\"\"))","v":""},""]
[{"$f":"+IF(B295=\"\",\"\",MAX(A$1:A294)+1)","v":""},{"$f":"IF(+HAP_ID!C317=\"\",\"\",IF(COUNTIF(HAP_ID!$C$100:$C317,HAP_ID!C317)=1,HAP_ID!C317,\"\"))","v":""},"",null,null,null,{"$f":"+IF(H295=\"\",\"\",MAX(G$1:G294)+1)","v":""},{"$f":"IF(+CMS_Info!D317=\"\",\"\",IF(COUNTIF(CMS_Info!$D$100:$D317,CMS_Info!D317)=1,CMS_Info!D317,\"\"))","v":""},""]
[{"$f":"+IF(B296=\"\",\"\",MAX(A$1:A295)+1)","v":""},{"$f":"IF(+HAP_ID!C318=\"\",\"\",IF(COUNTIF(HAP_ID!$C$100:$C318,HAP_ID!C318)=1,HAP_ID!C318,\"\"))","v":""},"",null,null,null,{"$f":"+IF(H296=\"\",\"\",MAX(G$1:G295)+1)","v":""},{"$f":"IF(+CMS_Info!D318=\"\",\"\",IF(COUNTIF(CMS_Info!$D$100:$D318,CMS_Info!D318)=1,CMS_Info!D318,\"\"))","v":""},""]
[{"$f":"+IF(B297=\"\",\"\",MAX(A$1:A296)+1)","v":""},{"$f":"IF(+HAP_ID!C319=\"\",\"\",IF(COUNTIF(HAP_ID!$C$100:$C319,HAP_ID!C319)=1,HAP_ID!C319,\"\"))","v":""},"",null,null,null,{"$f":"+IF(H297=\"\",\"\",MAX(G$1:G296)+1)","v":""},{"$f":"IF(+CMS_Info!D319=\"\",\"\",IF(COUNTIF(CMS_Info!$D$100:$D319,CMS_Info!D319)=1,CMS_Info!D319,\"\"))","v":""},""]
[{"$f":"+IF(B298=\"\",\"\",MAX(A$1:A297)+1)","v":""},{"$f":"IF(+HAP_ID!C320=\"\",\"\",IF(COUNTIF(HAP_ID!$C$100:$C320,HAP_ID!C320)=1,HAP_ID!C320,\"\"))","v":""},"",null,null,null,{"$f":"+IF(H298=\"\",\"\",MAX(G$1:G297)+1)","v":""},{"$f":"IF(+CMS_Info!D320=\"\",\"\",IF(COUNTIF(CMS_Info!$D$100:$D320,CMS_Info!D320)=1,CMS_Info!D320,\"\"))","v":""},""]
[{"$f":"+IF(B299=\"\",\"\",MAX(A$1:A298)+1)","v":""},{"$f":"IF(+HAP_ID!C321=\"\",\"\",IF(COUNTIF(HAP_ID!$C$100:$C321,HAP_ID!C321)=1,HAP_ID!C321,\"\"))","v":""},"",null,null,null,{"$f":"+IF(H299=\"\",\"\",MAX(G$1:G298)+1)","v":""},{"$f":"IF(+CMS_Info!D321=\"\",\"\",IF(COUNTIF(CMS_Info!$D$100:$D321,CMS_Info!D321)=1,CMS_Info!D321,\"\"))","v":""},""]
[{"$f":"+IF(B300=\"\",\"\",MAX(A$1:A299)+1)","v":""},{"$f":"IF(+HAP_ID!C322=\"\",\"\",IF(COUNTIF(HAP_ID!$C$100:$C322,HAP_ID!C322)=1,HAP_ID!C322,\"\"))","v":""},"",null,null,null,{"$f":"+IF(H300=\"\",\"\",MAX(G$1:G299)+1)","v":""},{"$f":"IF(+CMS_Info!D322=\"\",\"\",IF(COUNTIF(CMS_Info!$D$100:$D322,CMS_Info!D322)=1,CMS_Info!D322,\"\"))","v":""},""]
[{"$f":"+IF(B301=\"\",\"\",MAX(A$1:A300)+1)","v":""},{"$f":"IF(+HAP_ID!C323=\"\",\"\",IF(COUNTIF(HAP_ID!$C$100:$C323,HAP_ID!C323)=1,HAP_ID!C323,\"\"))","v":""},"",null,null,null,{"$f":"+IF(H301=\"\",\"\",MAX(G$1:G300)+1)","v":""},{"$f":"IF(+CMS_Info!D323=\"\",\"\",IF(COUNTIF(CMS_Info!$D$100:$D323,CMS_Info!D323)=1,CMS_Info!D323,\"\"))","v":""},""]
[{"$f":"+IF(B302=\"\",\"\",MAX(A$1:A301)+1)","v":""},{"$f":"IF(+HAP_ID!C324=\"\",\"\",IF(COUNTIF(HAP_ID!$C$100:$C324,HAP_ID!C324)=1,HAP_ID!C324,\"\"))","v":""},"",null,null,null,{"$f":"+IF(H302=\"\",\"\",MAX(G$1:G301)+1)","v":""},{"$f":"IF(+CMS_Info!D324=\"\",\"\",IF(COUNTIF(CMS_Info!$D$100:$D324,CMS_Info!D324)=1,CMS_Info!D324,\"\"))","v":""},""]
[{"$f":"+IF(B303=\"\",\"\",MAX(A$1:A302)+1)","v":""},{"$f":"IF(+HAP_ID!C325=\"\",\"\",IF(COUNTIF(HAP_ID!$C$100:$C325,HAP_ID!C325)=1,HAP_ID!C325,\"\"))","v":""},"",null,null,null,{"$f":"+IF(H303=\"\",\"\",MAX(G$1:G302)+1)","v":""},{"$f":"IF(+CMS_Info!D325=\"\",\"\",IF(COUNTIF(CMS_Info!$D$100:$D325,CMS_Info!D325)=1,CMS_Info!D325,\"\"))","v":""},""]
[{"$f":"+IF(B304=\"\",\"\",MAX(A$1:A303)+1)","v":""},{"$f":"IF(+HAP_ID!C326=\"\",\"\",IF(COUNTIF(HAP_ID!$C$100:$C326,HAP_ID!C326)=1,HAP_ID!C326,\"\"))","v":""},"",null,null,null,{"$f":"+IF(H304=\"\",\"\",MAX(G$1:G303)+1)","v":""},{"$f":"IF(+CMS_Info!D326=\"\",\"\",IF(COUNTIF(CMS_Info!$D$100:$D326,CMS_Info!D326)=1,CMS_Info!D326,\"\"))","v":""},""]
[{"$f":"+IF(B305=\"\",\"\",MAX(A$1:A304)+1)","v":""},{"$f":"IF(+HAP_ID!C327=\"\",\"\",IF(COUNTIF(HAP_ID!$C$100:$C327,HAP_ID!C327)=1,HAP_ID!C327,\"\"))","v":""},"",null,null,null,{"$f":"+IF(H305=\"\",\"\",MAX(G$1:G304)+1)","v":""},{"$f":"IF(+CMS_Info!D327=\"\",\"\",IF(COUNTIF(CMS_Info!$D$100:$D327,CMS_Info!D327)=1,CMS_Info!D327,\"\"))","v":""},""]
[{"$f":"+IF(B306=\"\",\"\",MAX(A$1:A305)+1)","v":""},{"$f":"IF(+HAP_ID!C328=\"\",\"\",IF(COUNTIF(HAP_ID!$C$100:$C328,HAP_ID!C328)=1,HAP_ID!C328,\"\"))","v":""},"",null,null,null,{"$f":"+IF(H306=\"\",\"\",MAX(G$1:G305)+1)","v":""},{"$f":"IF(+CMS_Info!D328=\"\",\"\",IF(COUNTIF(CMS_Info!$D$100:$D328,CMS_Info!D328)=1,CMS_Info!D328,\"\"))","v":""},""]
[{"$f":"+IF(B307=\"\",\"\",MAX(A$1:A306)+1)","v":""},{"$f":"IF(+HAP_ID!C329=\"\",\"\",IF(COUNTIF(HAP_ID!$C$100:$C329,HAP_ID!C329)=1,HAP_ID!C329,\"\"))","v":""},"",null,null,null,{"$f":"+IF(H307=\"\",\"\",MAX(G$1:G306)+1)","v":""},{"$f":"IF(+CMS_Info!D329=\"\",\"\",IF(COUNTIF(CMS_Info!$D$100:$D329,CMS_Info!D329)=1,CMS_Info!D329,\"\"))","v":""},""]
[{"$f":"+IF(B308=\"\",\"\",MAX(A$1:A307)+1)","v":""},{"$f":"IF(+HAP_ID!C330=\"\",\"\",IF(COUNTIF(HAP_ID!$C$100:$C330,HAP_ID!C330)=1,HAP_ID!C330,\"\"))","v":""},"",null,null,null,{"$f":"+IF(H308=\"\",\"\",MAX(G$1:G307)+1)","v":""},{"$f":"IF(+CMS_Info!D330=\"\",\"\",IF(COUNTIF(CMS_Info!$D$100:$D330,CMS_Info!D330)=1,CMS_Info!D330,\"\"))","v":""},""]
[{"$f":"+IF(B309=\"\",\"\",MAX(A$1:A308)+1)","v":""},{"$f":"IF(+HAP_ID!C331=\"\",\"\",IF(COUNTIF(HAP_ID!$C$100:$C331,HAP_ID!C331)=1,HAP_ID!C331,\"\"))","v":""},"",null,null,null,{"$f":"+IF(H309=\"\",\"\",MAX(G$1:G308)+1)","v":""},{"$f":"IF(+CMS_Info!D331=\"\",\"\",IF(COUNTIF(CMS_Info!$D$100:$D331,CMS_Info!D331)=1,CMS_Info!D331,\"\"))","v":""},""]
[{"$f":"+IF(B310=\"\",\"\",MAX(A$1:A309)+1)","v":""},{"$f":"IF(+HAP_ID!C332=\"\",\"\",IF(COUNTIF(HAP_ID!$C$100:$C332,HAP_ID!C332)=1,HAP_ID!C332,\"\"))","v":""},"",null,null,null,{"$f":"+IF(H310=\"\",\"\",MAX(G$1:G309)+1)","v":""},{"$f":"IF(+CMS_Info!D332=\"\",\"\",IF(COUNTIF(CMS_Info!$D$100:$D332,CMS_Info!D332)=1,CMS_Info!D332,\"\"))","v":""},""]
[{"$f":"+IF(B311=\"\",\"\",MAX(A$1:A310)+1)","v":""},{"$f":"IF(+HAP_ID!C333=\"\",\"\",IF(COUNTIF(HAP_ID!$C$100:$C333,HAP_ID!C333)=1,HAP_ID!C333,\"\"))","v":""},"",null,null,null,{"$f":"+IF(H311=\"\",\"\",MAX(G$1:G310)+1)","v":""},{"$f":"IF(+CMS_Info!D333=\"\",\"\",IF(COUNTIF(CMS_Info!$D$100:$D333,CMS_Info!D333)=1,CMS_Info!D333,\"\"))","v":""},""]
[{"$f":"+IF(B312=\"\",\"\",MAX(A$1:A311)+1)","v":""},{"$f":"IF(+HAP_ID!C334=\"\",\"\",IF(COUNTIF(HAP_ID!$C$100:$C334,HAP_ID!C334)=1,HAP_ID!C334,\"\"))","v":""},"",null,null,null,{"$f":"+IF(H312=\"\",\"\",MAX(G$1:G311)+1)","v":""},{"$f":"IF(+CMS_Info!D334=\"\",\"\",IF(COUNTIF(CMS_Info!$D$100:$D334,CMS_Info!D334)=1,CMS_Info!D334,\"\"))","v":""},""]
[{"$f":"+IF(B313=\"\",\"\",MAX(A$1:A312)+1)","v":""},{"$f":"IF(+HAP_ID!C335=\"\",\"\",IF(COUNTIF(HAP_ID!$C$100:$C335,HAP_ID!C335)=1,HAP_ID!C335,\"\"))","v":""},"",null,null,null,{"$f":"+IF(H313=\"\",\"\",MAX(G$1:G312)+1)","v":""},{"$f":"IF(+CMS_Info!D335=\"\",\"\",IF(COUNTIF(CMS_Info!$D$100:$D335,CMS_Info!D335)=1,CMS_Info!D335,\"\"))","v":""},""]
[{"$f":"+IF(B314=\"\",\"\",MAX(A$1:A313)+1)","v":""},{"$f":"IF(+HAP_ID!C336=\"\",\"\",IF(COUNTIF(HAP_ID!$C$100:$C336,HAP_ID!C336)=1,HAP_ID!C336,\"\"))","v":""},"",null,null,null,{"$f":"+IF(H314=\"\",\"\",MAX(G$1:G313)+1)","v":""},{"$f":"IF(+CMS_Info!D336=\"\",\"\",IF(COUNTIF(CMS_Info!$D$100:$D336,CMS_Info!D336)=1,CMS_Info!D336,\"\"))","v":""},""]
[{"$f":"+IF(B315=\"\",\"\",MAX(A$1:A314)+1)","v":""},{"$f":"IF(+HAP_ID!C337=\"\",\"\",IF(COUNTIF(HAP_ID!$C$100:$C337,HAP_ID!C337)=1,HAP_ID!C337,\"\"))","v":""},"",null,null,null,{"$f":"+IF(H315=\"\",\"\",MAX(G$1:G314)+1)","v":""},{"$f":"IF(+CMS_Info!D337=\"\",\"\",IF(COUNTIF(CMS_Info!$D$100:$D337,CMS_Info!D337)=1,CMS_Info!D337,\"\"))","v":""},""]
[{"$f":"+IF(B316=\"\",\"\",MAX(A$1:A315)+1)","v":""},{"$f":"IF(+HAP_ID!C338=\"\",\"\",IF(COUNTIF(HAP_ID!$C$100:$C338,HAP_ID!C338)=1,HAP_ID!C338,\"\"))","v":""},"",null,null,null,{"$f":"+IF(H316=\"\",\"\",MAX(G$1:G315)+1)","v":""},{"$f":"IF(+CMS_Info!D338=\"\",\"\",IF(COUNTIF(CMS_Info!$D$100:$D338,CMS_Info!D338)=1,CMS_Info!D338,\"\"))","v":""},""]
[{"$f":"+IF(B317=\"\",\"\",MAX(A$1:A316)+1)","v":""},{"$f":"IF(+HAP_ID!C339=\"\",\"\",IF(COUNTIF(HAP_ID!$C$100:$C339,HAP_ID!C339)=1,HAP_ID!C339,\"\"))","v":""},"",null,null,null,{"$f":"+IF(H317=\"\",\"\",MAX(G$1:G316)+1)","v":""},{"$f":"IF(+CMS_Info!D339=\"\",\"\",IF(COUNTIF(CMS_Info!$D$100:$D339,CMS_Info!D339)=1,CMS_Info!D339,\"\"))","v":""},""]
[{"$f":"+IF(B318=\"\",\"\",MAX(A$1:A317)+1)","v":""},{"$f":"IF(+HAP_ID!C340=\"\",\"\",IF(COUNTIF(HAP_ID!$C$100:$C340,HAP_ID!C340)=1,HAP_ID!C340,\"\"))","v":""},"",null,null,null,{"$f":"+IF(H318=\"\",\"\",MAX(G$1:G317)+1)","v":""},{"$f":"IF(+CMS_Info!D340=\"\",\"\",IF(COUNTIF(CMS_Info!$D$100:$D340,CMS_Info!D340)=1,CMS_Info!D340,\"\"))","v":""},""]
[{"$f":"+IF(B319=\"\",\"\",MAX(A$1:A318)+1)","v":""},{"$f":"IF(+HAP_ID!C341=\"\",\"\",IF(COUNTIF(HAP_ID!$C$100:$C341,HAP_ID!C341)=1,HAP_ID!C341,\"\"))","v":""},"",null,null,null,{"$f":"+IF(H319=\"\",\"\",MAX(G$1:G318)+1)","v":""},{"$f":"IF(+CMS_Info!D341=\"\",\"\",IF(COUNTIF(CMS_Info!$D$100:$D341,CMS_Info!D341)=1,CMS_Info!D341,\"\"))","v":""},""]
[{"$f":"+IF(B320=\"\",\"\",MAX(A$1:A319)+1)","v":""},{"$f":"IF(+HAP_ID!C342=\"\",\"\",IF(COUNTIF(HAP_ID!$C$100:$C342,HAP_ID!C342)=1,HAP_ID!C342,\"\"))","v":""},"",null,null,null,{"$f":"+IF(H320=\"\",\"\",MAX(G$1:G319)+1)","v":""},{"$f":"IF(+CMS_Info!D342=\"\",\"\",IF(COUNTIF(CMS_Info!$D$100:$D342,CMS_Info!D342)=1,CMS_Info!D342,\"\"))","v":""},""]
[{"$f":"+IF(B321=\"\",\"\",MAX(A$1:A320)+1)","v":""},{"$f":"IF(+HAP_ID!C343=\"\",\"\",IF(COUNTIF(HAP_ID!$C$100:$C343,HAP_ID!C343)=1,HAP_ID!C343,\"\"))","v":""},"",null,null,null,{"$f":"+IF(H321=\"\",\"\",MAX(G$1:G320)+1)","v":""},{"$f":"IF(+CMS_Info!D343=\"\",\"\",IF(COUNTIF(CMS_Info!$D$100:$D343,CMS_Info!D343)=1,CMS_Info!D343,\"\"))","v":""},""]
[{"$f":"+IF(B322=\"\",\"\",MAX(A$1:A321)+1)","v":""},{"$f":"IF(+HAP_ID!C344=\"\",\"\",IF(COUNTIF(HAP_ID!$C$100:$C344,HAP_ID!C344)=1,HAP_ID!C344,\"\"))","v":""},"",null,null,null,{"$f":"+IF(H322=\"\",\"\",MAX(G$1:G321)+1)","v":""},{"$f":"IF(+CMS_Info!D344=\"\",\"\",IF(COUNTIF(CMS_Info!$D$100:$D344,CMS_Info!D344)=1,CMS_Info!D344,\"\"))","v":""},{"$f":"+IFERROR(INDEX($H$2:$H$501,MATCH(ROW()-ROW($I$1),$G$2:$G$501,0)),\"\")","v":""}]
[{"$f":"+IF(B323=\"\",\"\",MAX(A$1:A322)+1)","v":""},{"$f":"IF(+HAP_ID!C345=\"\",\"\",IF(COUNTIF(HAP_ID!$C$100:$C345,HAP_ID!C345)=1,HAP_ID!C345,\"\"))","v":""},{"$f":"+IFERROR(INDEX($B$2:$B$501,MATCH(ROW()-ROW($C$1),$A$2:$A$501,0)),\"\")","v":""},null,null,null,{"$f":"+IF(H323=\"\",\"\",MAX(G$1:G322)+1)","v":""},{"$f":"IF(+CMS_Info!D345=\"\",\"\",IF(COUNTIF(CMS_Info!$D$100:$D345,CMS_Info!D345)=1,CMS_Info!D345,\"\"))","v":""},""]
[{"$f":"+IF(B324=\"\",\"\",MAX(A$1:A323)+1)","v":""},{"$f":"IF(+HAP_ID!C346=\"\",\"\",IF(COUNTIF(HAP_ID!$C$100:$C346,HAP_ID!C346)=1,HAP_ID!C346,\"\"))","v":""},"",null,null,null,{"$f":"+IF(H324=\"\",\"\",MAX(G$1:G323)+1)","v":""},{"$f":"IF(+CMS_Info!D346=\"\",\"\",IF(COUNTIF(CMS_Info!$D$100:$D346,CMS_Info!D346)=1,CMS_Info!D346,\"\"))","v":""},""]
[{"$f":"+IF(B325=\"\",\"\",MAX(A$1:A324)+1)","v":""},{"$f":"IF(+HAP_ID!C347=\"\",\"\",IF(COUNTIF(HAP_ID!$C$100:$C347,HAP_ID!C347)=1,HAP_ID!C347,\"\"))","v":""},"",null,null,null,{"$f":"+IF(H325=\"\",\"\",MAX(G$1:G324)+1)","v":""},{"$f":"IF(+CMS_Info!D347=\"\",\"\",IF(COUNTIF(CMS_Info!$D$100:$D347,CMS_Info!D347)=1,CMS_Info!D347,\"\"))","v":""},""]
[{"$f":"+IF(B326=\"\",\"\",MAX(A$1:A325)+1)","v":""},{"$f":"IF(+HAP_ID!C348=\"\",\"\",IF(COUNTIF(HAP_ID!$C$100:$C348,HAP_ID!C348)=1,HAP_ID!C348,\"\"))","v":""},"",null,null,null,{"$f":"+IF(H326=\"\",\"\",MAX(G$1:G325)+1)","v":""},{"$f":"IF(+CMS_Info!D348=\"\",\"\",IF(COUNTIF(CMS_Info!$D$100:$D348,CMS_Info!D348)=1,CMS_Info!D348,\"\"))","v":""},""]
[{"$f":"+IF(B327=\"\",\"\",MAX(A$1:A326)+1)","v":""},{"$f":"IF(+HAP_ID!C349=\"\",\"\",IF(COUNTIF(HAP_ID!$C$100:$C349,HAP_ID!C349)=1,HAP_ID!C349,\"\"))","v":""},"",null,null,null,{"$f":"+IF(H327=\"\",\"\",MAX(G$1:G326)+1)","v":""},{"$f":"IF(+CMS_Info!D349=\"\",\"\",IF(COUNTIF(CMS_Info!$D$100:$D349,CMS_Info!D349)=1,CMS_Info!D349,\"\"))","v":""},""]
[{"$f":"+IF(B328=\"\",\"\",MAX(A$1:A327)+1)","v":""},{"$f":"IF(+HAP_ID!C350=\"\",\"\",IF(COUNTIF(HAP_ID!$C$100:$C350,HAP_ID!C350)=1,HAP_ID!C350,\"\"))","v":""},"",null,null,null,{"$f":"+IF(H328=\"\",\"\",MAX(G$1:G327)+1)","v":""},{"$f":"IF(+CMS_Info!D350=\"\",\"\",IF(COUNTIF(CMS_Info!$D$100:$D350,CMS_Info!D350)=1,CMS_Info!D350,\"\"))","v":""},""]
[{"$f":"+IF(B329=\"\",\"\",MAX(A$1:A328)+1)","v":""},{"$f":"IF(+HAP_ID!C351=\"\",\"\",IF(COUNTIF(HAP_ID!$C$100:$C351,HAP_ID!C351)=1,HAP_ID!C351,\"\"))","v":""},"",null,null,null,{"$f":"+IF(H329=\"\",\"\",MAX(G$1:G328)+1)","v":""},{"$f":"IF(+CMS_Info!D351=\"\",\"\",IF(COUNTIF(CMS_Info!$D$100:$D351,CMS_Info!D351)=1,CMS_Info!D351,\"\"))","v":""},""]
[{"$f":"+IF(B330=\"\",\"\",MAX(A$1:A329)+1)","v":""},{"$f":"IF(+HAP_ID!C352=\"\",\"\",IF(COUNTIF(HAP_ID!$C$100:$C352,HAP_ID!C352)=1,HAP_ID!C352,\"\"))","v":""},"",null,null,null,{"$f":"+IF(H330=\"\",\"\",MAX(G$1:G329)+1)","v":""},{"$f":"IF(+CMS_Info!D352=\"\",\"\",IF(COUNTIF(CMS_Info!$D$100:$D352,CMS_Info!D352)=1,CMS_Info!D352,\"\"))","v":""},""]
[{"$f":"+IF(B331=\"\",\"\",MAX(A$1:A330)+1)","v":""},{"$f":"IF(+HAP_ID!C353=\"\",\"\",IF(COUNTIF(HAP_ID!$C$100:$C353,HAP_ID!C353)=1,HAP_ID!C353,\"\"))","v":""},"",null,null,null,{"$f":"+IF(H331=\"\",\"\",MAX(G$1:G330)+1)","v":""},{"$f":"IF(+CMS_Info!D353=\"\",\"\",IF(COUNTIF(CMS_Info!$D$100:$D353,CMS_Info!D353)=1,CMS_Info!D353,\"\"))","v":""},""]
[{"$f":"+IF(B332=\"\",\"\",MAX(A$1:A331)+1)","v":""},{"$f":"IF(+HAP_ID!C354=\"\",\"\",IF(COUNTIF(HAP_ID!$C$100:$C354,HAP_ID!C354)=1,HAP_ID!C354,\"\"))","v":""},"",null,null,null,{"$f":"+IF(H332=\"\",\"\",MAX(G$1:G331)+1)","v":""},{"$f":"IF(+CMS_Info!D354=\"\",\"\",IF(COUNTIF(CMS_Info!$D$100:$D354,CMS_Info!D354)=1,CMS_Info!D354,\"\"))","v":""},""]
[{"$f":"+IF(B333=\"\",\"\",MAX(A$1:A332)+1)","v":""},{"$f":"IF(+HAP_ID!C355=\"\",\"\",IF(COUNTIF(HAP_ID!$C$100:$C355,HAP_ID!C355)=1,HAP_ID!C355,\"\"))","v":""},"",null,null,null,{"$f":"+IF(H333=\"\",\"\",MAX(G$1:G332)+1)","v":""},{"$f":"IF(+CMS_Info!D355=\"\",\"\",IF(COUNTIF(CMS_Info!$D$100:$D355,CMS_Info!D355)=1,CMS_Info!D355,\"\"))","v":""},""]
[{"$f":"+IF(B334=\"\",\"\",MAX(A$1:A333)+1)","v":""},{"$f":"IF(+HAP_ID!C356=\"\",\"\",IF(COUNTIF(HAP_ID!$C$100:$C356,HAP_ID!C356)=1,HAP_ID!C356,\"\"))","v":""},"",null,null,null,{"$f":"+IF(H334=\"\",\"\",MAX(G$1:G333)+1)","v":""},{"$f":"IF(+CMS_Info!D356=\"\",\"\",IF(COUNTIF(CMS_Info!$D$100:$D356,CMS_Info!D356)=1,CMS_Info!D356,\"\"))","v":""},""]
[{"$f":"+IF(B335=\"\",\"\",MAX(A$1:A334)+1)","v":""},{"$f":"IF(+HAP_ID!C357=\"\",\"\",IF(COUNTIF(HAP_ID!$C$100:$C357,HAP_ID!C357)=1,HAP_ID!C357,\"\"))","v":""},"",null,null,null,{"$f":"+IF(H335=\"\",\"\",MAX(G$1:G334)+1)","v":""},{"$f":"IF(+CMS_Info!D357=\"\",\"\",IF(COUNTIF(CMS_Info!$D$100:$D357,CMS_Info!D357)=1,CMS_Info!D357,\"\"))","v":""},""]
[{"$f":"+IF(B336=\"\",\"\",MAX(A$1:A335)+1)","v":""},{"$f":"IF(+HAP_ID!C358=\"\",\"\",IF(COUNTIF(HAP_ID!$C$100:$C358,HAP_ID!C358)=1,HAP_ID!C358,\"\"))","v":""},"",null,null,null,{"$f":"+IF(H336=\"\",\"\",MAX(G$1:G335)+1)","v":""},{"$f":"IF(+CMS_Info!D358=\"\",\"\",IF(COUNTIF(CMS_Info!$D$100:$D358,CMS_Info!D358)=1,CMS_Info!D358,\"\"))","v":""},""]
[{"$f":"+IF(B337=\"\",\"\",MAX(A$1:A336)+1)","v":""},{"$f":"IF(+HAP_ID!C359=\"\",\"\",IF(COUNTIF(HAP_ID!$C$100:$C359,HAP_ID!C359)=1,HAP_ID!C359,\"\"))","v":""},"",null,null,null,{"$f":"+IF(H337=\"\",\"\",MAX(G$1:G336)+1)","v":""},{"$f":"IF(+CMS_Info!D359=\"\",\"\",IF(COUNTIF(CMS_Info!$D$100:$D359,CMS_Info!D359)=1,CMS_Info!D359,\"\"))","v":""},""]
[{"$f":"+IF(B338=\"\",\"\",MAX(A$1:A337)+1)","v":""},{"$f":"IF(+HAP_ID!C360=\"\",\"\",IF(COUNTIF(HAP_ID!$C$100:$C360,HAP_ID!C360)=1,HAP_ID!C360,\"\"))","v":""},"",null,null,null,{"$f":"+IF(H338=\"\",\"\",MAX(G$1:G337)+1)","v":""},{"$f":"IF(+CMS_Info!D360=\"\",\"\",IF(COUNTIF(CMS_Info!$D$100:$D360,CMS_Info!D360)=1,CMS_Info!D360,\"\"))","v":""},""]
[{"$f":"+IF(B339=\"\",\"\",MAX(A$1:A338)+1)","v":""},{"$f":"IF(+HAP_ID!C361=\"\",\"\",IF(COUNTIF(HAP_ID!$C$100:$C361,HAP_ID!C361)=1,HAP_ID!C361,\"\"))","v":""},"",null,null,null,{"$f":"+IF(H339=\"\",\"\",MAX(G$1:G338)+1)","v":""},{"$f":"IF(+CMS_Info!D361=\"\",\"\",IF(COUNTIF(CMS_Info!$D$100:$D361,CMS_Info!D361)=1,CMS_Info!D361,\"\"))","v":""},""]
[{"$f":"+IF(B340=\"\",\"\",MAX(A$1:A339)+1)","v":""},{"$f":"IF(+HAP_ID!C362=\"\",\"\",IF(COUNTIF(HAP_ID!$C$100:$C362,HAP_ID!C362)=1,HAP_ID!C362,\"\"))","v":""},"",null,null,null,{"$f":"+IF(H340=\"\",\"\",MAX(G$1:G339)+1)","v":""},{"$f":"IF(+CMS_Info!D362=\"\",\"\",IF(COUNTIF(CMS_Info!$D$100:$D362,CMS_Info!D362)=1,CMS_Info!D362,\"\"))","v":""},""]
[{"$f":"+IF(B341=\"\",\"\",MAX(A$1:A340)+1)","v":""},{"$f":"IF(+HAP_ID!C363=\"\",\"\",IF(COUNTIF(HAP_ID!$C$100:$C363,HAP_ID!C363)=1,HAP_ID!C363,\"\"))","v":""},"",null,null,null,{"$f":"+IF(H341=\"\",\"\",MAX(G$1:G340)+1)","v":""},{"$f":"IF(+CMS_Info!D363=\"\",\"\",IF(COUNTIF(CMS_Info!$D$100:$D363,CMS_Info!D363)=1,CMS_Info!D363,\"\"))","v":""},""]
[{"$f":"+IF(B342=\"\",\"\",MAX(A$1:A341)+1)","v":""},{"$f":"IF(+HAP_ID!C364=\"\",\"\",IF(COUNTIF(HAP_ID!$C$100:$C364,HAP_ID!C364)=1,HAP_ID!C364,\"\"))","v":""},"",null,null,null,{"$f":"+IF(H342=\"\",\"\",MAX(G$1:G341)+1)","v":""},{"$f":"IF(+CMS_Info!D364=\"\",\"\",IF(COUNTIF(CMS_Info!$D$100:$D364,CMS_Info!D364)=1,CMS_Info!D364,\"\"))","v":""},""]
[{"$f":"+IF(B343=\"\",\"\",MAX(A$1:A342)+1)","v":""},{"$f":"IF(+HAP_ID!C365=\"\",\"\",IF(COUNTIF(HAP_ID!$C$100:$C365,HAP_ID!C365)=1,HAP_ID!C365,\"\"))","v":""},"",null,null,null,{"$f":"+IF(H343=\"\",\"\",MAX(G$1:G342)+1)","v":""},{"$f":"IF(+CMS_Info!D365=\"\",\"\",IF(COUNTIF(CMS_Info!$D$100:$D365,CMS_Info!D365)=1,CMS_Info!D365,\"\"))","v":""},""]
[{"$f":"+IF(B344=\"\",\"\",MAX(A$1:A343)+1)","v":""},{"$f":"IF(+HAP_ID!C366=\"\",\"\",IF(COUNTIF(HAP_ID!$C$100:$C366,HAP_ID!C366)=1,HAP_ID!C366,\"\"))","v":""},"",null,null,null,{"$f":"+IF(H344=\"\",\"\",MAX(G$1:G343)+1)","v":""},{"$f":"IF(+CMS_Info!D366=\"\",\"\",IF(COUNTIF(CMS_Info!$D$100:$D366,CMS_Info!D366)=1,CMS_Info!D366,\"\"))","v":""},""]
[{"$f":"+IF(B345=\"\",\"\",MAX(A$1:A344)+1)","v":""},{"$f":"IF(+HAP_ID!C367=\"\",\"\",IF(COUNTIF(HAP_ID!$C$100:$C367,HAP_ID!C367)=1,HAP_ID!C367,\"\"))","v":""},"",null,null,null,{"$f":"+IF(H345=\"\",\"\",MAX(G$1:G344)+1)","v":""},{"$f":"IF(+CMS_Info!D367=\"\",\"\",IF(COUNTIF(CMS_Info!$D$100:$D367,CMS_Info!D367)=1,CMS_Info!D367,\"\"))","v":""},""]
[{"$f":"+IF(B346=\"\",\"\",MAX(A$1:A345)+1)","v":""},{"$f":"IF(+HAP_ID!C368=\"\",\"\",IF(COUNTIF(HAP_ID!$C$100:$C368,HAP_ID!C368)=1,HAP_ID!C368,\"\"))","v":""},"",null,null,null,{"$f":"+IF(H346=\"\",\"\",MAX(G$1:G345)+1)","v":""},{"$f":"IF(+CMS_Info!D368=\"\",\"\",IF(COUNTIF(CMS_Info!$D$100:$D368,CMS_Info!D368)=1,CMS_Info!D368,\"\"))","v":""},""]
[{"$f":"+IF(B347=\"\",\"\",MAX(A$1:A346)+1)","v":""},{"$f":"IF(+HAP_ID!C369=\"\",\"\",IF(COUNTIF(HAP_ID!$C$100:$C369,HAP_ID!C369)=1,HAP_ID!C369,\"\"))","v":""},"",null,null,null,{"$f":"+IF(H347=\"\",\"\",MAX(G$1:G346)+1)","v":""},{"$f":"IF(+CMS_Info!D369=\"\",\"\",IF(COUNTIF(CMS_Info!$D$100:$D369,CMS_Info!D369)=1,CMS_Info!D369,\"\"))","v":""},""]
[{"$f":"+IF(B348=\"\",\"\",MAX(A$1:A347)+1)","v":""},{"$f":"IF(+HAP_ID!C370=\"\",\"\",IF(COUNTIF(HAP_ID!$C$100:$C370,HAP_ID!C370)=1,HAP_ID!C370,\"\"))","v":""},"",null,null,null,{"$f":"+IF(H348=\"\",\"\",MAX(G$1:G347)+1)","v":""},{"$f":"IF(+CMS_Info!D370=\"\",\"\",IF(COUNTIF(CMS_Info!$D$100:$D370,CMS_Info!D370)=1,CMS_Info!D370,\"\"))","v":""},""]
[{"$f":"+IF(B349=\"\",\"\",MAX(A$1:A348)+1)","v":""},{"$f":"IF(+HAP_ID!C371=\"\",\"\",IF(COUNTIF(HAP_ID!$C$100:$C371,HAP_ID!C371)=1,HAP_ID!C371,\"\"))","v":""},"",null,null,null,{"$f":"+IF(H349=\"\",\"\",MAX(G$1:G348)+1)","v":""},{"$f":"IF(+CMS_Info!D371=\"\",\"\",IF(COUNTIF(CMS_Info!$D$100:$D371,CMS_Info!D371)=1,CMS_Info!D371,\"\"))","v":""},""]
[{"$f":"+IF(B350=\"\",\"\",MAX(A$1:A349)+1)","v":""},{"$f":"IF(+HAP_ID!C372=\"\",\"\",IF(COUNTIF(HAP_ID!$C$100:$C372,HAP_ID!C372)=1,HAP_ID!C372,\"\"))","v":""},"",null,null,null,{"$f":"+IF(H350=\"\",\"\",MAX(G$1:G349)+1)","v":""},{"$f":"IF(+CMS_Info!D372=\"\",\"\",IF(COUNTIF(CMS_Info!$D$100:$D372,CMS_Info!D372)=1,CMS_Info!D372,\"\"))","v":""},""]
[{"$f":"+IF(B351=\"\",\"\",MAX(A$1:A350)+1)","v":""},{"$f":"IF(+HAP_ID!C373=\"\",\"\",IF(COUNTIF(HAP_ID!$C$100:$C373,HAP_ID!C373)=1,HAP_ID!C373,\"\"))","v":""},"",null,null,null,{"$f":"+IF(H351=\"\",\"\",MAX(G$1:G350)+1)","v":""},{"$f":"IF(+CMS_Info!D373=\"\",\"\",IF(COUNTIF(CMS_Info!$D$100:$D373,CMS_Info!D373)=1,CMS_Info!D373,\"\"))","v":""},""]
[{"$f":"+IF(B352=\"\",\"\",MAX(A$1:A351)+1)","v":""},{"$f":"IF(+HAP_ID!C374=\"\",\"\",IF(COUNTIF(HAP_ID!$C$100:$C374,HAP_ID!C374)=1,HAP_ID!C374,\"\"))","v":""},"",null,null,null,{"$f":"+IF(H352=\"\",\"\",MAX(G$1:G351)+1)","v":""},{"$f":"IF(+CMS_Info!D374=\"\",\"\",IF(COUNTIF(CMS_Info!$D$100:$D374,CMS_Info!D374)=1,CMS_Info!D374,\"\"))","v":""},""]
[{"$f":"+IF(B353=\"\",\"\",MAX(A$1:A352)+1)","v":""},{"$f":"IF(+HAP_ID!C375=\"\",\"\",IF(COUNTIF(HAP_ID!$C$100:$C375,HAP_ID!C375)=1,HAP_ID!C375,\"\"))","v":""},"",null,null,null,{"$f":"+IF(H353=\"\",\"\",MAX(G$1:G352)+1)","v":""},{"$f":"IF(+CMS_Info!D375=\"\",\"\",IF(COUNTIF(CMS_Info!$D$100:$D375,CMS_Info!D375)=1,CMS_Info!D375,\"\"))","v":""},""]
[{"$f":"+IF(B354=\"\",\"\",MAX(A$1:A353)+1)","v":""},{"$f":"IF(+HAP_ID!C376=\"\",\"\",IF(COUNTIF(HAP_ID!$C$100:$C376,HAP_ID!C376)=1,HAP_ID!C376,\"\"))","v":""},"",null,null,null,{"$f":"+IF(H354=\"\",\"\",MAX(G$1:G353)+1)","v":""},{"$f":"IF(+CMS_Info!D376=\"\",\"\",IF(COUNTIF(CMS_Info!$D$100:$D376,CMS_Info!D376)=1,CMS_Info!D376,\"\"))","v":""},""]
[{"$f":"+IF(B355=\"\",\"\",MAX(A$1:A354)+1)","v":""},{"$f":"IF(+HAP_ID!C377=\"\",\"\",IF(COUNTIF(HAP_ID!$C$100:$C377,HAP_ID!C377)=1,HAP_ID!C377,\"\"))","v":""},"",null,null,null,{"$f":"+IF(H355=\"\",\"\",MAX(G$1:G354)+1)","v":""},{"$f":"IF(+CMS_Info!D377=\"\",\"\",IF(COUNTIF(CMS_Info!$D$100:$D377,CMS_Info!D377)=1,CMS_Info!D377,\"\"))","v":""},""]
[{"$f":"+IF(B356=\"\",\"\",MAX(A$1:A355)+1)","v":""},{"$f":"IF(+HAP_ID!C378=\"\",\"\",IF(COUNTIF(HAP_ID!$C$100:$C378,HAP_ID!C378)=1,HAP_ID!C378,\"\"))","v":""},"",null,null,null,{"$f":"+IF(H356=\"\",\"\",MAX(G$1:G355)+1)","v":""},{"$f":"IF(+CMS_Info!D378=\"\",\"\",IF(COUNTIF(CMS_Info!$D$100:$D378,CMS_Info!D378)=1,CMS_Info!D378,\"\"))","v":""},""]
[{"$f":"+IF(B357=\"\",\"\",MAX(A$1:A356)+1)","v":""},{"$f":"IF(+HAP_ID!C379=\"\",\"\",IF(COUNTIF(HAP_ID!$C$100:$C379,HAP_ID!C379)=1,HAP_ID!C379,\"\"))","v":""},"",null,null,null,{"$f":"+IF(H357=\"\",\"\",MAX(G$1:G356)+1)","v":""},{"$f":"IF(+CMS_Info!D379=\"\",\"\",IF(COUNTIF(CMS_Info!$D$100:$D379,CMS_Info!D379)=1,CMS_Info!D379,\"\"))","v":""},""]
[{"$f":"+IF(B358=\"\",\"\",MAX(A$1:A357)+1)","v":""},{"$f":"IF(+HAP_ID!C380=\"\",\"\",IF(COUNTIF(HAP_ID!$C$100:$C380,HAP_ID!C380)=1,HAP_ID!C380,\"\"))","v":""},"",null,null,null,{"$f":"+IF(H358=\"\",\"\",MAX(G$1:G357)+1)","v":""},{"$f":"IF(+CMS_Info!D380=\"\",\"\",IF(COUNTIF(CMS_Info!$D$100:$D380,CMS_Info!D380)=1,CMS_Info!D380,\"\"))","v":""},""]
[{"$f":"+IF(B359=\"\",\"\",MAX(A$1:A358)+1)","v":""},{"$f":"IF(+HAP_ID!C381=\"\",\"\",IF(COUNTIF(HAP_ID!$C$100:$C381,HAP_ID!C381)=1,HAP_ID!C381,\"\"))","v":""},"",null,null,null,{"$f":"+IF(H359=\"\",\"\",MAX(G$1:G358)+1)","v":""},{"$f":"IF(+CMS_Info!D381=\"\",\"\",IF(COUNTIF(CMS_Info!$D$100:$D381,CMS_Info!D381)=1,CMS_Info!D381,\"\"))","v":""},""]
[{"$f":"+IF(B360=\"\",\"\",MAX(A$1:A359)+1)","v":""},{"$f":"IF(+HAP_ID!C382=\"\",\"\",IF(COUNTIF(HAP_ID!$C$100:$C382,HAP_ID!C382)=1,HAP_ID!C382,\"\"))","v":""},"",null,null,null,{"$f":"+IF(H360=\"\",\"\",MAX(G$1:G359)+1)","v":""},{"$f":"IF(+CMS_Info!D382=\"\",\"\",IF(COUNTIF(CMS_Info!$D$100:$D382,CMS_Info!D382)=1,CMS_Info!D382,\"\"))","v":""},""]
[{"$f":"+IF(B361=\"\",\"\",MAX(A$1:A360)+1)","v":""},{"$f":"IF(+HAP_ID!C383=\"\",\"\",IF(COUNTIF(HAP_ID!$C$100:$C383,HAP_ID!C383)=1,HAP_ID!C383,\"\"))","v":""},"",null,null,null,{"$f":"+IF(H361=\"\",\"\",MAX(G$1:G360)+1)","v":""},{"$f":"IF(+CMS_Info!D383=\"\",\"\",IF(COUNTIF(CMS_Info!$D$100:$D383,CMS_Info!D383)=1,CMS_Info!D383,\"\"))","v":""},""]
[{"$f":"+IF(B362=\"\",\"\",MAX(A$1:A361)+1)","v":""},{"$f":"IF(+HAP_ID!C384=\"\",\"\",IF(COUNTIF(HAP_ID!$C$100:$C384,HAP_ID!C384)=1,HAP_ID!C384,\"\"))","v":""},"",null,null,null,{"$f":"+IF(H362=\"\",\"\",MAX(G$1:G361)+1)","v":""},{"$f":"IF(+CMS_Info!D384=\"\",\"\",IF(COUNTIF(CMS_Info!$D$100:$D384,CMS_Info!D384)=1,CMS_Info!D384,\"\"))","v":""},""]
[{"$f":"+IF(B363=\"\",\"\",MAX(A$1:A362)+1)","v":""},{"$f":"IF(+HAP_ID!C385=\"\",\"\",IF(COUNTIF(HAP_ID!$C$100:$C385,HAP_ID!C385)=1,HAP_ID!C385,\"\"))","v":""},"",null,null,null,{"$f":"+IF(H363=\"\",\"\",MAX(G$1:G362)+1)","v":""},{"$f":"IF(+CMS_Info!D385=\"\",\"\",IF(COUNTIF(CMS_Info!$D$100:$D385,CMS_Info!D385)=1,CMS_Info!D385,\"\"))","v":""},""]
[{"$f":"+IF(B364=\"\",\"\",MAX(A$1:A363)+1)","v":""},{"$f":"IF(+HAP_ID!C386=\"\",\"\",IF(COUNTIF(HAP_ID!$C$100:$C386,HAP_ID!C386)=1,HAP_ID!C386,\"\"))","v":""},"",null,null,null,{"$f":"+IF(H364=\"\",\"\",MAX(G$1:G363)+1)","v":""},{"$f":"IF(+CMS_Info!D386=\"\",\"\",IF(COUNTIF(CMS_Info!$D$100:$D386,CMS_Info!D386)=1,CMS_Info!D386,\"\"))","v":""},""]
[{"$f":"+IF(B365=\"\",\"\",MAX(A$1:A364)+1)","v":""},{"$f":"IF(+HAP_ID!C387=\"\",\"\",IF(COUNTIF(HAP_ID!$C$100:$C387,HAP_ID!C387)=1,HAP_ID!C387,\"\"))","v":""},"",null,null,null,{"$f":"+IF(H365=\"\",\"\",MAX(G$1:G364)+1)","v":""},{"$f":"IF(+CMS_Info!D387=\"\",\"\",IF(COUNTIF(CMS_Info!$D$100:$D387,CMS_Info!D387)=1,CMS_Info!D387,\"\"))","v":""},""]
[{"$f":"+IF(B366=\"\",\"\",MAX(A$1:A365)+1)","v":""},{"$f":"IF(+HAP_ID!C388=\"\",\"\",IF(COUNTIF(HAP_ID!$C$100:$C388,HAP_ID!C388)=1,HAP_ID!C388,\"\"))","v":""},"",null,null,null,{"$f":"+IF(H366=\"\",\"\",MAX(G$1:G365)+1)","v":""},{"$f":"IF(+CMS_Info!D388=\"\",\"\",IF(COUNTIF(CMS_Info!$D$100:$D388,CMS_Info!D388)=1,CMS_Info!D388,\"\"))","v":""},""]
[{"$f":"+IF(B367=\"\",\"\",MAX(A$1:A366)+1)","v":""},{"$f":"IF(+HAP_ID!C389=\"\",\"\",IF(COUNTIF(HAP_ID!$C$100:$C389,HAP_ID!C389)=1,HAP_ID!C389,\"\"))","v":""},"",null,null,null,{"$f":"+IF(H367=\"\",\"\",MAX(G$1:G366)+1)","v":""},{"$f":"IF(+CMS_Info!D389=\"\",\"\",IF(COUNTIF(CMS_Info!$D$100:$D389,CMS_Info!D389)=1,CMS_Info!D389,\"\"))","v":""},""]
[{"$f":"+IF(B368=\"\",\"\",MAX(A$1:A367)+1)","v":""},{"$f":"IF(+HAP_ID!C390=\"\",\"\",IF(COUNTIF(HAP_ID!$C$100:$C390,HAP_ID!C390)=1,HAP_ID!C390,\"\"))","v":""},"",null,null,null,{"$f":"+IF(H368=\"\",\"\",MAX(G$1:G367)+1)","v":""},{"$f":"IF(+CMS_Info!D390=\"\",\"\",IF(COUNTIF(CMS_Info!$D$100:$D390,CMS_Info!D390)=1,CMS_Info!D390,\"\"))","v":""},""]
[{"$f":"+IF(B369=\"\",\"\",MAX(A$1:A368)+1)","v":""},{"$f":"IF(+HAP_ID!C391=\"\",\"\",IF(COUNTIF(HAP_ID!$C$100:$C391,HAP_ID!C391)=1,HAP_ID!C391,\"\"))","v":""},"",null,null,null,{"$f":"+IF(H369=\"\",\"\",MAX(G$1:G368)+1)","v":""},{"$f":"IF(+CMS_Info!D391=\"\",\"\",IF(COUNTIF(CMS_Info!$D$100:$D391,CMS_Info!D391)=1,CMS_Info!D391,\"\"))","v":""},""]
[{"$f":"+IF(B370=\"\",\"\",MAX(A$1:A369)+1)","v":""},{"$f":"IF(+HAP_ID!C392=\"\",\"\",IF(COUNTIF(HAP_ID!$C$100:$C392,HAP_ID!C392)=1,HAP_ID!C392,\"\"))","v":""},"",null,null,null,{"$f":"+IF(H370=\"\",\"\",MAX(G$1:G369)+1)","v":""},{"$f":"IF(+CMS_Info!D392=\"\",\"\",IF(COUNTIF(CMS_Info!$D$100:$D392,CMS_Info!D392)=1,CMS_Info!D392,\"\"))","v":""},""]
[{"$f":"+IF(B371=\"\",\"\",MAX(A$1:A370)+1)","v":""},{"$f":"IF(+HAP_ID!C393=\"\",\"\",IF(COUNTIF(HAP_ID!$C$100:$C393,HAP_ID!C393)=1,HAP_ID!C393,\"\"))","v":""},"",null,null,null,{"$f":"+IF(H371=\"\",\"\",MAX(G$1:G370)+1)","v":""},{"$f":"IF(+CMS_Info!D393=\"\",\"\",IF(COUNTIF(CMS_Info!$D$100:$D393,CMS_Info!D393)=1,CMS_Info!D393,\"\"))","v":""},""]
[{"$f":"+IF(B372=\"\",\"\",MAX(A$1:A371)+1)","v":""},{"$f":"IF(+HAP_ID!C394=\"\",\"\",IF(COUNTIF(HAP_ID!$C$100:$C394,HAP_ID!C394)=1,HAP_ID!C394,\"\"))","v":""},"",null,null,null,{"$f":"+IF(H372=\"\",\"\",MAX(G$1:G371)+1)","v":""},{"$f":"IF(+CMS_Info!D394=\"\",\"\",IF(COUNTIF(CMS_Info!$D$100:$D394,CMS_Info!D394)=1,CMS_Info!D394,\"\"))","v":""},""]
[{"$f":"+IF(B373=\"\",\"\",MAX(A$1:A372)+1)","v":""},{"$f":"IF(+HAP_ID!C395=\"\",\"\",IF(COUNTIF(HAP_ID!$C$100:$C395,HAP_ID!C395)=1,HAP_ID!C395,\"\"))","v":""},"",null,null,null,{"$f":"+IF(H373=\"\",\"\",MAX(G$1:G372)+1)","v":""},{"$f":"IF(+CMS_Info!D395=\"\",\"\",IF(COUNTIF(CMS_Info!$D$100:$D395,CMS_Info!D395)=1,CMS_Info!D395,\"\"))","v":""},""]
[{"$f":"+IF(B374=\"\",\"\",MAX(A$1:A373)+1)","v":""},{"$f":"IF(+HAP_ID!C396=\"\",\"\",IF(COUNTIF(HAP_ID!$C$100:$C396,HAP_ID!C396)=1,HAP_ID!C396,\"\"))","v":""},"",null,null,null,{"$f":"+IF(H374=\"\",\"\",MAX(G$1:G373)+1)","v":""},{"$f":"IF(+CMS_Info!D396=\"\",\"\",IF(COUNTIF(CMS_Info!$D$100:$D396,CMS_Info!D396)=1,CMS_Info!D396,\"\"))","v":""},""]
[{"$f":"+IF(B375=\"\",\"\",MAX(A$1:A374)+1)","v":""},{"$f":"IF(+HAP_ID!C397=\"\",\"\",IF(COUNTIF(HAP_ID!$C$100:$C397,HAP_ID!C397)=1,HAP_ID!C397,\"\"))","v":""},"",null,null,null,{"$f":"+IF(H375=\"\",\"\",MAX(G$1:G374)+1)","v":""},{"$f":"IF(+CMS_Info!D397=\"\",\"\",IF(COUNTIF(CMS_Info!$D$100:$D397,CMS_Info!D397)=1,CMS_Info!D397,\"\"))","v":""},""]
[{"$f":"+IF(B376=\"\",\"\",MAX(A$1:A375)+1)","v":""},{"$f":"IF(+HAP_ID!C398=\"\",\"\",IF(COUNTIF(HAP_ID!$C$100:$C398,HAP_ID!C398)=1,HAP_ID!C398,\"\"))","v":""},"",null,null,null,{"$f":"+IF(H376=\"\",\"\",MAX(G$1:G375)+1)","v":""},{"$f":"IF(+CMS_Info!D398=\"\",\"\",IF(COUNTIF(CMS_Info!$D$100:$D398,CMS_Info!D398)=1,CMS_Info!D398,\"\"))","v":""},""]
[{"$f":"+IF(B377=\"\",\"\",MAX(A$1:A376)+1)","v":""},{"$f":"IF(+HAP_ID!C399=\"\",\"\",IF(COUNTIF(HAP_ID!$C$100:$C399,HAP_ID!C399)=1,HAP_ID!C399,\"\"))","v":""},"",null,null,null,{"$f":"+IF(H377=\"\",\"\",MAX(G$1:G376)+1)","v":""},{"$f":"IF(+CMS_Info!D399=\"\",\"\",IF(COUNTIF(CMS_Info!$D$100:$D399,CMS_Info!D399)=1,CMS_Info!D399,\"\"))","v":""},""]
[{"$f":"+IF(B378=\"\",\"\",MAX(A$1:A377)+1)","v":""},{"$f":"IF(+HAP_ID!C400=\"\",\"\",IF(COUNTIF(HAP_ID!$C$100:$C400,HAP_ID!C400)=1,HAP_ID!C400,\"\"))","v":""},"",null,null,null,{"$f":"+IF(H378=\"\",\"\",MAX(G$1:G377)+1)","v":""},{"$f":"IF(+CMS_Info!D400=\"\",\"\",IF(COUNTIF(CMS_Info!$D$100:$D400,CMS_Info!D400)=1,CMS_Info!D400,\"\"))","v":""},""]
[{"$f":"+IF(B379=\"\",\"\",MAX(A$1:A378)+1)","v":""},{"$f":"IF(+HAP_ID!C401=\"\",\"\",IF(COUNTIF(HAP_ID!$C$100:$C401,HAP_ID!C401)=1,HAP_ID!C401,\"\"))","v":""},"",null,null,null,{"$f":"+IF(H379=\"\",\"\",MAX(G$1:G378)+1)","v":""},{"$f":"IF(+CMS_Info!D401=\"\",\"\",IF(COUNTIF(CMS_Info!$D$100:$D401,CMS_Info!D401)=1,CMS_Info!D401,\"\"))","v":""},""]
[{"$f":"+IF(B380=\"\",\"\",MAX(A$1:A379)+1)","v":""},{"$f":"IF(+HAP_ID!C402=\"\",\"\",IF(COUNTIF(HAP_ID!$C$100:$C402,HAP_ID!C402)=1,HAP_ID!C402,\"\"))","v":""},"",null,null,null,{"$f":"+IF(H380=\"\",\"\",MAX(G$1:G379)+1)","v":""},{"$f":"IF(+CMS_Info!D402=\"\",\"\",IF(COUNTIF(CMS_Info!$D$100:$D402,CMS_Info!D402)=1,CMS_Info!D402,\"\"))","v":""},""]
[{"$f":"+IF(B381=\"\",\"\",MAX(A$1:A380)+1)","v":""},{"$f":"IF(+HAP_ID!C403=\"\",\"\",IF(COUNTIF(HAP_ID!$C$100:$C403,HAP_ID!C403)=1,HAP_ID!C403,\"\"))","v":""},"",null,null,null,{"$f":"+IF(H381=\"\",\"\",MAX(G$1:G380)+1)","v":""},{"$f":"IF(+CMS_Info!D403=\"\",\"\",IF(COUNTIF(CMS_Info!$D$100:$D403,CMS_Info!D403)=1,CMS_Info!D403,\"\"))","v":""},""]
[{"$f":"+IF(B382=\"\",\"\",MAX(A$1:A381)+1)","v":""},{"$f":"IF(+HAP_ID!C404=\"\",\"\",IF(COUNTIF(HAP_ID!$C$100:$C404,HAP_ID!C404)=1,HAP_ID!C404,\"\"))","v":""},"",null,null,null,{"$f":"+IF(H382=\"\",\"\",MAX(G$1:G381)+1)","v":""},{"$f":"IF(+CMS_Info!D404=\"\",\"\",IF(COUNTIF(CMS_Info!$D$100:$D404,CMS_Info!D404)=1,CMS_Info!D404,\"\"))","v":""},""]
[{"$f":"+IF(B383=\"\",\"\",MAX(A$1:A382)+1)","v":""},{"$f":"IF(+HAP_ID!C405=\"\",\"\",IF(COUNTIF(HAP_ID!$C$100:$C405,HAP_ID!C405)=1,HAP_ID!C405,\"\"))","v":""},"",null,null,null,{"$f":"+IF(H383=\"\",\"\",MAX(G$1:G382)+1)","v":""},{"$f":"IF(+CMS_Info!D405=\"\",\"\",IF(COUNTIF(CMS_Info!$D$100:$D405,CMS_Info!D405)=1,CMS_Info!D405,\"\"))","v":""},""]
[{"$f":"+IF(B384=\"\",\"\",MAX(A$1:A383)+1)","v":""},{"$f":"IF(+HAP_ID!C406=\"\",\"\",IF(COUNTIF(HAP_ID!$C$100:$C406,HAP_ID!C406)=1,HAP_ID!C406,\"\"))","v":""},"",null,null,null,{"$f":"+IF(H384=\"\",\"\",MAX(G$1:G383)+1)","v":""},{"$f":"IF(+CMS_Info!D406=\"\",\"\",IF(COUNTIF(CMS_Info!$D$100:$D406,CMS_Info!D406)=1,CMS_Info!D406,\"\"))","v":""},""]
[{"$f":"+IF(B385=\"\",\"\",MAX(A$1:A384)+1)","v":""},{"$f":"IF(+HAP_ID!C407=\"\",\"\",IF(COUNTIF(HAP_ID!$C$100:$C407,HAP_ID!C407)=1,HAP_ID!C407,\"\"))","v":""},"",null,null,null,{"$f":"+IF(H385=\"\",\"\",MAX(G$1:G384)+1)","v":""},{"$f":"IF(+CMS_Info!D407=\"\",\"\",IF(COUNTIF(CMS_Info!$D$100:$D407,CMS_Info!D407)=1,CMS_Info!D407,\"\"))","v":""},""]
[{"$f":"+IF(B386=\"\",\"\",MAX(A$1:A385)+1)","v":""},{"$f":"IF(+HAP_ID!C408=\"\",\"\",IF(COUNTIF(HAP_ID!$C$100:$C408,HAP_ID!C408)=1,HAP_ID!C408,\"\"))","v":""},"",null,null,null,{"$f":"+IF(H386=\"\",\"\",MAX(G$1:G385)+1)","v":""},{"$f":"IF(+CMS_Info!D408=\"\",\"\",IF(COUNTIF(CMS_Info!$D$100:$D408,CMS_Info!D408)=1,CMS_Info!D408,\"\"))","v":""},{"$f":"+IFERROR(INDEX($H$2:$H$501,MATCH(ROW()-ROW($I$1),$G$2:$G$501,0)),\"\")","v":""}]
[{"$f":"+IF(B387=\"\",\"\",MAX(A$1:A386)+1)","v":""},{"$f":"IF(+HAP_ID!C409=\"\",\"\",IF(COUNTIF(HAP_ID!$C$100:$C409,HAP_ID!C409)=1,HAP_ID!C409,\"\"))","v":""},{"$f":"+IFERROR(INDEX($B$2:$B$501,MATCH(ROW()-ROW($C$1),$A$2:$A$501,0)),\"\")","v":""},null,null,null,{"$f":"+IF(H387=\"\",\"\",MAX(G$1:G386)+1)","v":""},{"$f":"IF(+CMS_Info!D409=\"\",\"\",IF(COUNTIF(CMS_Info!$D$100:$D409,CMS_Info!D409)=1,CMS_Info!D409,\"\"))","v":""},""]
[{"$f":"+IF(B388=\"\",\"\",MAX(A$1:A387)+1)","v":""},{"$f":"IF(+HAP_ID!C410=\"\",\"\",IF(COUNTIF(HAP_ID!$C$100:$C410,HAP_ID!C410)=1,HAP_ID!C410,\"\"))","v":""},"",null,null,null,{"$f":"+IF(H388=\"\",\"\",MAX(G$1:G387)+1)","v":""},{"$f":"IF(+CMS_Info!D410=\"\",\"\",IF(COUNTIF(CMS_Info!$D$100:$D410,CMS_Info!D410)=1,CMS_Info!D410,\"\"))","v":""},""]
[{"$f":"+IF(B389=\"\",\"\",MAX(A$1:A388)+1)","v":""},{"$f":"IF(+HAP_ID!C411=\"\",\"\",IF(COUNTIF(HAP_ID!$C$100:$C411,HAP_ID!C411)=1,HAP_ID!C411,\"\"))","v":""},"",null,null,null,{"$f":"+IF(H389=\"\",\"\",MAX(G$1:G388)+1)","v":""},{"$f":"IF(+CMS_Info!D411=\"\",\"\",IF(COUNTIF(CMS_Info!$D$100:$D411,CMS_Info!D411)=1,CMS_Info!D411,\"\"))","v":""},""]
[{"$f":"+IF(B390=\"\",\"\",MAX(A$1:A389)+1)","v":""},{"$f":"IF(+HAP_ID!C412=\"\",\"\",IF(COUNTIF(HAP_ID!$C$100:$C412,HAP_ID!C412)=1,HAP_ID!C412,\"\"))","v":""},"",null,null,null,{"$f":"+IF(H390=\"\",\"\",MAX(G$1:G389)+1)","v":""},{"$f":"IF(+CMS_Info!D412=\"\",\"\",IF(COUNTIF(CMS_Info!$D$100:$D412,CMS_Info!D412)=1,CMS_Info!D412,\"\"))","v":""},""]
[{"$f":"+IF(B391=\"\",\"\",MAX(A$1:A390)+1)","v":""},{"$f":"IF(+HAP_ID!C413=\"\",\"\",IF(COUNTIF(HAP_ID!$C$100:$C413,HAP_ID!C413)=1,HAP_ID!C413,\"\"))","v":""},"",null,null,null,{"$f":"+IF(H391=\"\",\"\",MAX(G$1:G390)+1)","v":""},{"$f":"IF(+CMS_Info!D413=\"\",\"\",IF(COUNTIF(CMS_Info!$D$100:$D413,CMS_Info!D413)=1,CMS_Info!D413,\"\"))","v":""},""]
[{"$f":"+IF(B392=\"\",\"\",MAX(A$1:A391)+1)","v":""},{"$f":"IF(+HAP_ID!C414=\"\",\"\",IF(COUNTIF(HAP_ID!$C$100:$C414,HAP_ID!C414)=1,HAP_ID!C414,\"\"))","v":""},"",null,null,null,{"$f":"+IF(H392=\"\",\"\",MAX(G$1:G391)+1)","v":""},{"$f":"IF(+CMS_Info!D414=\"\",\"\",IF(COUNTIF(CMS_Info!$D$100:$D414,CMS_Info!D414)=1,CMS_Info!D414,\"\"))","v":""},""]
[{"$f":"+IF(B393=\"\",\"\",MAX(A$1:A392)+1)","v":""},{"$f":"IF(+HAP_ID!C415=\"\",\"\",IF(COUNTIF(HAP_ID!$C$100:$C415,HAP_ID!C415)=1,HAP_ID!C415,\"\"))","v":""},"",null,null,null,{"$f":"+IF(H393=\"\",\"\",MAX(G$1:G392)+1)","v":""},{"$f":"IF(+CMS_Info!D415=\"\",\"\",IF(COUNTIF(CMS_Info!$D$100:$D415,CMS_Info!D415)=1,CMS_Info!D415,\"\"))","v":""},""]
[{"$f":"+IF(B394=\"\",\"\",MAX(A$1:A393)+1)","v":""},{"$f":"IF(+HAP_ID!C416=\"\",\"\",IF(COUNTIF(HAP_ID!$C$100:$C416,HAP_ID!C416)=1,HAP_ID!C416,\"\"))","v":""},"",null,null,null,{"$f":"+IF(H394=\"\",\"\",MAX(G$1:G393)+1)","v":""},{"$f":"IF(+CMS_Info!D416=\"\",\"\",IF(COUNTIF(CMS_Info!$D$100:$D416,CMS_Info!D416)=1,CMS_Info!D416,\"\"))","v":""},""]
[{"$f":"+IF(B395=\"\",\"\",MAX(A$1:A394)+1)","v":""},{"$f":"IF(+HAP_ID!C417=\"\",\"\",IF(COUNTIF(HAP_ID!$C$100:$C417,HAP_ID!C417)=1,HAP_ID!C417,\"\"))","v":""},"",null,null,null,{"$f":"+IF(H395=\"\",\"\",MAX(G$1:G394)+1)","v":""},{"$f":"IF(+CMS_Info!D417=\"\",\"\",IF(COUNTIF(CMS_Info!$D$100:$D417,CMS_Info!D417)=1,CMS_Info!D417,\"\"))","v":""},""]
[{"$f":"+IF(B396=\"\",\"\",MAX(A$1:A395)+1)","v":""},{"$f":"IF(+HAP_ID!C418=\"\",\"\",IF(COUNTIF(HAP_ID!$C$100:$C418,HAP_ID!C418)=1,HAP_ID!C418,\"\"))","v":""},"",null,null,null,{"$f":"+IF(H396=\"\",\"\",MAX(G$1:G395)+1)","v":""},{"$f":"IF(+CMS_Info!D418=\"\",\"\",IF(COUNTIF(CMS_Info!$D$100:$D418,CMS_Info!D418)=1,CMS_Info!D418,\"\"))","v":""},""]
[{"$f":"+IF(B397=\"\",\"\",MAX(A$1:A396)+1)","v":""},{"$f":"IF(+HAP_ID!C419=\"\",\"\",IF(COUNTIF(HAP_ID!$C$100:$C419,HAP_ID!C419)=1,HAP_ID!C419,\"\"))","v":""},"",null,null,null,{"$f":"+IF(H397=\"\",\"\",MAX(G$1:G396)+1)","v":""},{"$f":"IF(+CMS_Info!D419=\"\",\"\",IF(COUNTIF(CMS_Info!$D$100:$D419,CMS_Info!D419)=1,CMS_Info!D419,\"\"))","v":""},""]
[{"$f":"+IF(B398=\"\",\"\",MAX(A$1:A397)+1)","v":""},{"$f":"IF(+HAP_ID!C420=\"\",\"\",IF(COUNTIF(HAP_ID!$C$100:$C420,HAP_ID!C420)=1,HAP_ID!C420,\"\"))","v":""},"",null,null,null,{"$f":"+IF(H398=\"\",\"\",MAX(G$1:G397)+1)","v":""},{"$f":"IF(+CMS_Info!D420=\"\",\"\",IF(COUNTIF(CMS_Info!$D$100:$D420,CMS_Info!D420)=1,CMS_Info!D420,\"\"))","v":""},""]
[{"$f":"+IF(B399=\"\",\"\",MAX(A$1:A398)+1)","v":""},{"$f":"IF(+HAP_ID!C421=\"\",\"\",IF(COUNTIF(HAP_ID!$C$100:$C421,HAP_ID!C421)=1,HAP_ID!C421,\"\"))","v":""},"",null,null,null,{"$f":"+IF(H399=\"\",\"\",MAX(G$1:G398)+1)","v":""},{"$f":"IF(+CMS_Info!D421=\"\",\"\",IF(COUNTIF(CMS_Info!$D$100:$D421,CMS_Info!D421)=1,CMS_Info!D421,\"\"))","v":""},""]
[{"$f":"+IF(B400=\"\",\"\",MAX(A$1:A399)+1)","v":""},{"$f":"IF(+HAP_ID!C422=\"\",\"\",IF(COUNTIF(HAP_ID!$C$100:$C422,HAP_ID!C422)=1,HAP_ID!C422,\"\"))","v":""},"",null,null,null,{"$f":"+IF(H400=\"\",\"\",MAX(G$1:G399)+1)","v":""},{"$f":"IF(+CMS_Info!D422=\"\",\"\",IF(COUNTIF(CMS_Info!$D$100:$D422,CMS_Info!D422)=1,CMS_Info!D422,\"\"))","v":""},""]
[{"$f":"+IF(B401=\"\",\"\",MAX(A$1:A400)+1)","v":""},{"$f":"IF(+HAP_ID!C423=\"\",\"\",IF(COUNTIF(HAP_ID!$C$100:$C423,HAP_ID!C423)=1,HAP_ID!C423,\"\"))","v":""},"",null,null,null,{"$f":"+IF(H401=\"\",\"\",MAX(G$1:G400)+1)","v":""},{"$f":"IF(+CMS_Info!D423=\"\",\"\",IF(COUNTIF(CMS_Info!$D$100:$D423,CMS_Info!D423)=1,CMS_Info!D423,\"\"))","v":""},""]
[{"$f":"+IF(B402=\"\",\"\",MAX(A$1:A401)+1)","v":""},{"$f":"IF(+HAP_ID!C424=\"\",\"\",IF(COUNTIF(HAP_ID!$C$100:$C424,HAP_ID!C424)=1,HAP_ID!C424,\"\"))","v":""},"",null,null,null,{"$f":"+IF(H402=\"\",\"\",MAX(G$1:G401)+1)","v":""},{"$f":"IF(+CMS_Info!D424=\"\",\"\",IF(COUNTIF(CMS_Info!$D$100:$D424,CMS_Info!D424)=1,CMS_Info!D424,\"\"))","v":""},""]
[{"$f":"+IF(B403=\"\",\"\",MAX(A$1:A402)+1)","v":""},{"$f":"IF(+HAP_ID!C425=\"\",\"\",IF(COUNTIF(HAP_ID!$C$100:$C425,HAP_ID!C425)=1,HAP_ID!C425,\"\"))","v":""},"",null,null,null,{"$f":"+IF(H403=\"\",\"\",MAX(G$1:G402)+1)","v":""},{"$f":"IF(+CMS_Info!D425=\"\",\"\",IF(COUNTIF(CMS_Info!$D$100:$D425,CMS_Info!D425)=1,CMS_Info!D425,\"\"))","v":""},""]
[{"$f":"+IF(B404=\"\",\"\",MAX(A$1:A403)+1)","v":""},{"$f":"IF(+HAP_ID!C426=\"\",\"\",IF(COUNTIF(HAP_ID!$C$100:$C426,HAP_ID!C426)=1,HAP_ID!C426,\"\"))","v":""},"",null,null,null,{"$f":"+IF(H404=\"\",\"\",MAX(G$1:G403)+1)","v":""},{"$f":"IF(+CMS_Info!D426=\"\",\"\",IF(COUNTIF(CMS_Info!$D$100:$D426,CMS_Info!D426)=1,CMS_Info!D426,\"\"))","v":""},""]
[{"$f":"+IF(B405=\"\",\"\",MAX(A$1:A404)+1)","v":""},{"$f":"IF(+HAP_ID!C427=\"\",\"\",IF(COUNTIF(HAP_ID!$C$100:$C427,HAP_ID!C427)=1,HAP_ID!C427,\"\"))","v":""},"",null,null,null,{"$f":"+IF(H405=\"\",\"\",MAX(G$1:G404)+1)","v":""},{"$f":"IF(+CMS_Info!D427=\"\",\"\",IF(COUNTIF(CMS_Info!$D$100:$D427,CMS_Info!D427)=1,CMS_Info!D427,\"\"))","v":""},""]
[{"$f":"+IF(B406=\"\",\"\",MAX(A$1:A405)+1)","v":""},{"$f":"IF(+HAP_ID!C428=\"\",\"\",IF(COUNTIF(HAP_ID!$C$100:$C428,HAP_ID!C428)=1,HAP_ID!C428,\"\"))","v":""},"",null,null,null,{"$f":"+IF(H406=\"\",\"\",MAX(G$1:G405)+1)","v":""},{"$f":"IF(+CMS_Info!D428=\"\",\"\",IF(COUNTIF(CMS_Info!$D$100:$D428,CMS_Info!D428)=1,CMS_Info!D428,\"\"))","v":""},""]
[{"$f":"+IF(B407=\"\",\"\",MAX(A$1:A406)+1)","v":""},{"$f":"IF(+HAP_ID!C429=\"\",\"\",IF(COUNTIF(HAP_ID!$C$100:$C429,HAP_ID!C429)=1,HAP_ID!C429,\"\"))","v":""},"",null,null,null,{"$f":"+IF(H407=\"\",\"\",MAX(G$1:G406)+1)","v":""},{"$f":"IF(+CMS_Info!D429=\"\",\"\",IF(COUNTIF(CMS_Info!$D$100:$D429,CMS_Info!D429)=1,CMS_Info!D429,\"\"))","v":""},""]
[{"$f":"+IF(B408=\"\",\"\",MAX(A$1:A407)+1)","v":""},{"$f":"IF(+HAP_ID!C430=\"\",\"\",IF(COUNTIF(HAP_ID!$C$100:$C430,HAP_ID!C430)=1,HAP_ID!C430,\"\"))","v":""},"",null,null,null,{"$f":"+IF(H408=\"\",\"\",MAX(G$1:G407)+1)","v":""},{"$f":"IF(+CMS_Info!D430=\"\",\"\",IF(COUNTIF(CMS_Info!$D$100:$D430,CMS_Info!D430)=1,CMS_Info!D430,\"\"))","v":""},""]
[{"$f":"+IF(B409=\"\",\"\",MAX(A$1:A408)+1)","v":""},{"$f":"IF(+HAP_ID!C431=\"\",\"\",IF(COUNTIF(HAP_ID!$C$100:$C431,HAP_ID!C431)=1,HAP_ID!C431,\"\"))","v":""},"",null,null,null,{"$f":"+IF(H409=\"\",\"\",MAX(G$1:G408)+1)","v":""},{"$f":"IF(+CMS_Info!D431=\"\",\"\",IF(COUNTIF(CMS_Info!$D$100:$D431,CMS_Info!D431)=1,CMS_Info!D431,\"\"))","v":""},""]
[{"$f":"+IF(B410=\"\",\"\",MAX(A$1:A409)+1)","v":""},{"$f":"IF(+HAP_ID!C432=\"\",\"\",IF(COUNTIF(HAP_ID!$C$100:$C432,HAP_ID!C432)=1,HAP_ID!C432,\"\"))","v":""},"",null,null,null,{"$f":"+IF(H410=\"\",\"\",MAX(G$1:G409)+1)","v":""},{"$f":"IF(+CMS_Info!D432=\"\",\"\",IF(COUNTIF(CMS_Info!$D$100:$D432,CMS_Info!D432)=1,CMS_Info!D432,\"\"))","v":""},""]
[{"$f":"+IF(B411=\"\",\"\",MAX(A$1:A410)+1)","v":""},{"$f":"IF(+HAP_ID!C433=\"\",\"\",IF(COUNTIF(HAP_ID!$C$100:$C433,HAP_ID!C433)=1,HAP_ID!C433,\"\"))","v":""},"",null,null,null,{"$f":"+IF(H411=\"\",\"\",MAX(G$1:G410)+1)","v":""},{"$f":"IF(+CMS_Info!D433=\"\",\"\",IF(COUNTIF(CMS_Info!$D$100:$D433,CMS_Info!D433)=1,CMS_Info!D433,\"\"))","v":""},""]
[{"$f":"+IF(B412=\"\",\"\",MAX(A$1:A411)+1)","v":""},{"$f":"IF(+HAP_ID!C434=\"\",\"\",IF(COUNTIF(HAP_ID!$C$100:$C434,HAP_ID!C434)=1,HAP_ID!C434,\"\"))","v":""},"",null,null,null,{"$f":"+IF(H412=\"\",\"\",MAX(G$1:G411)+1)","v":""},{"$f":"IF(+CMS_Info!D434=\"\",\"\",IF(COUNTIF(CMS_Info!$D$100:$D434,CMS_Info!D434)=1,CMS_Info!D434,\"\"))","v":""},""]
[{"$f":"+IF(B413=\"\",\"\",MAX(A$1:A412)+1)","v":""},{"$f":"IF(+HAP_ID!C435=\"\",\"\",IF(COUNTIF(HAP_ID!$C$100:$C435,HAP_ID!C435)=1,HAP_ID!C435,\"\"))","v":""},"",null,null,null,{"$f":"+IF(H413=\"\",\"\",MAX(G$1:G412)+1)","v":""},{"$f":"IF(+CMS_Info!D435=\"\",\"\",IF(COUNTIF(CMS_Info!$D$100:$D435,CMS_Info!D435)=1,CMS_Info!D435,\"\"))","v":""},""]
[{"$f":"+IF(B414=\"\",\"\",MAX(A$1:A413)+1)","v":""},{"$f":"IF(+HAP_ID!C436=\"\",\"\",IF(COUNTIF(HAP_ID!$C$100:$C436,HAP_ID!C436)=1,HAP_ID!C436,\"\"))","v":""},"",null,null,null,{"$f":"+IF(H414=\"\",\"\",MAX(G$1:G413)+1)","v":""},{"$f":"IF(+CMS_Info!D436=\"\",\"\",IF(COUNTIF(CMS_Info!$D$100:$D436,CMS_Info!D436)=1,CMS_Info!D436,\"\"))","v":""},""]
[{"$f":"+IF(B415=\"\",\"\",MAX(A$1:A414)+1)","v":""},{"$f":"IF(+HAP_ID!C437=\"\",\"\",IF(COUNTIF(HAP_ID!$C$100:$C437,HAP_ID!C437)=1,HAP_ID!C437,\"\"))","v":""},"",null,null,null,{"$f":"+IF(H415=\"\",\"\",MAX(G$1:G414)+1)","v":""},{"$f":"IF(+CMS_Info!D437=\"\",\"\",IF(COUNTIF(CMS_Info!$D$100:$D437,CMS_Info!D437)=1,CMS_Info!D437,\"\"))","v":""},""]
[{"$f":"+IF(B416=\"\",\"\",MAX(A$1:A415)+1)","v":""},{"$f":"IF(+HAP_ID!C438=\"\",\"\",IF(COUNTIF(HAP_ID!$C$100:$C438,HAP_ID!C438)=1,HAP_ID!C438,\"\"))","v":""},"",null,null,null,{"$f":"+IF(H416=\"\",\"\",MAX(G$1:G415)+1)","v":""},{"$f":"IF(+CMS_Info!D438=\"\",\"\",IF(COUNTIF(CMS_Info!$D$100:$D438,CMS_Info!D438)=1,CMS_Info!D438,\"\"))","v":""},""]
[{"$f":"+IF(B417=\"\",\"\",MAX(A$1:A416)+1)","v":""},{"$f":"IF(+HAP_ID!C439=\"\",\"\",IF(COUNTIF(HAP_ID!$C$100:$C439,HAP_ID!C439)=1,HAP_ID!C439,\"\"))","v":""},"",null,null,null,{"$f":"+IF(H417=\"\",\"\",MAX(G$1:G416)+1)","v":""},{"$f":"IF(+CMS_Info!D439=\"\",\"\",IF(COUNTIF(CMS_Info!$D$100:$D439,CMS_Info!D439)=1,CMS_Info!D439,\"\"))","v":""},""]
[{"$f":"+IF(B418=\"\",\"\",MAX(A$1:A417)+1)","v":""},{"$f":"IF(+HAP_ID!C440=\"\",\"\",IF(COUNTIF(HAP_ID!$C$100:$C440,HAP_ID!C440)=1,HAP_ID!C440,\"\"))","v":""},"",null,null,null,{"$f":"+IF(H418=\"\",\"\",MAX(G$1:G417)+1)","v":""},{"$f":"IF(+CMS_Info!D440=\"\",\"\",IF(COUNTIF(CMS_Info!$D$100:$D440,CMS_Info!D440)=1,CMS_Info!D440,\"\"))","v":""},""]
[{"$f":"+IF(B419=\"\",\"\",MAX(A$1:A418)+1)","v":""},{"$f":"IF(+HAP_ID!C441=\"\",\"\",IF(COUNTIF(HAP_ID!$C$100:$C441,HAP_ID!C441)=1,HAP_ID!C441,\"\"))","v":""},"",null,null,null,{"$f":"+IF(H419=\"\",\"\",MAX(G$1:G418)+1)","v":""},{"$f":"IF(+CMS_Info!D441=\"\",\"\",IF(COUNTIF(CMS_Info!$D$100:$D441,CMS_Info!D441)=1,CMS_Info!D441,\"\"))","v":""},""]
[{"$f":"+IF(B420=\"\",\"\",MAX(A$1:A419)+1)","v":""},{"$f":"IF(+HAP_ID!C442=\"\",\"\",IF(COUNTIF(HAP_ID!$C$100:$C442,HAP_ID!C442)=1,HAP_ID!C442,\"\"))","v":""},"",null,null,null,{"$f":"+IF(H420=\"\",\"\",MAX(G$1:G419)+1)","v":""},{"$f":"IF(+CMS_Info!D442=\"\",\"\",IF(COUNTIF(CMS_Info!$D$100:$D442,CMS_Info!D442)=1,CMS_Info!D442,\"\"))","v":""},""]
[{"$f":"+IF(B421=\"\",\"\",MAX(A$1:A420)+1)","v":""},{"$f":"IF(+HAP_ID!C443=\"\",\"\",IF(COUNTIF(HAP_ID!$C$100:$C443,HAP_ID!C443)=1,HAP_ID!C443,\"\"))","v":""},"",null,null,null,{"$f":"+IF(H421=\"\",\"\",MAX(G$1:G420)+1)","v":""},{"$f":"IF(+CMS_Info!D443=\"\",\"\",IF(COUNTIF(CMS_Info!$D$100:$D443,CMS_Info!D443)=1,CMS_Info!D443,\"\"))","v":""},""]
[{"$f":"+IF(B422=\"\",\"\",MAX(A$1:A421)+1)","v":""},{"$f":"IF(+HAP_ID!C444=\"\",\"\",IF(COUNTIF(HAP_ID!$C$100:$C444,HAP_ID!C444)=1,HAP_ID!C444,\"\"))","v":""},"",null,null,null,{"$f":"+IF(H422=\"\",\"\",MAX(G$1:G421)+1)","v":""},{"$f":"IF(+CMS_Info!D444=\"\",\"\",IF(COUNTIF(CMS_Info!$D$100:$D444,CMS_Info!D444)=1,CMS_Info!D444,\"\"))","v":""},""]
[{"$f":"+IF(B423=\"\",\"\",MAX(A$1:A422)+1)","v":""},{"$f":"IF(+HAP_ID!C445=\"\",\"\",IF(COUNTIF(HAP_ID!$C$100:$C445,HAP_ID!C445)=1,HAP_ID!C445,\"\"))","v":""},"",null,null,null,{"$f":"+IF(H423=\"\",\"\",MAX(G$1:G422)+1)","v":""},{"$f":"IF(+CMS_Info!D445=\"\",\"\",IF(COUNTIF(CMS_Info!$D$100:$D445,CMS_Info!D445)=1,CMS_Info!D445,\"\"))","v":""},""]
[{"$f":"+IF(B424=\"\",\"\",MAX(A$1:A423)+1)","v":""},{"$f":"IF(+HAP_ID!C446=\"\",\"\",IF(COUNTIF(HAP_ID!$C$100:$C446,HAP_ID!C446)=1,HAP_ID!C446,\"\"))","v":""},"",null,null,null,{"$f":"+IF(H424=\"\",\"\",MAX(G$1:G423)+1)","v":""},{"$f":"IF(+CMS_Info!D446=\"\",\"\",IF(COUNTIF(CMS_Info!$D$100:$D446,CMS_Info!D446)=1,CMS_Info!D446,\"\"))","v":""},""]
[{"$f":"+IF(B425=\"\",\"\",MAX(A$1:A424)+1)","v":""},{"$f":"IF(+HAP_ID!C447=\"\",\"\",IF(COUNTIF(HAP_ID!$C$100:$C447,HAP_ID!C447)=1,HAP_ID!C447,\"\"))","v":""},"",null,null,null,{"$f":"+IF(H425=\"\",\"\",MAX(G$1:G424)+1)","v":""},{"$f":"IF(+CMS_Info!D447=\"\",\"\",IF(COUNTIF(CMS_Info!$D$100:$D447,CMS_Info!D447)=1,CMS_Info!D447,\"\"))","v":""},""]
[{"$f":"+IF(B426=\"\",\"\",MAX(A$1:A425)+1)","v":""},{"$f":"IF(+HAP_ID!C448=\"\",\"\",IF(COUNTIF(HAP_ID!$C$100:$C448,HAP_ID!C448)=1,HAP_ID!C448,\"\"))","v":""},"",null,null,null,{"$f":"+IF(H426=\"\",\"\",MAX(G$1:G425)+1)","v":""},{"$f":"IF(+CMS_Info!D448=\"\",\"\",IF(COUNTIF(CMS_Info!$D$100:$D448,CMS_Info!D448)=1,CMS_Info!D448,\"\"))","v":""},""]
[{"$f":"+IF(B427=\"\",\"\",MAX(A$1:A426)+1)","v":""},{"$f":"IF(+HAP_ID!C449=\"\",\"\",IF(COUNTIF(HAP_ID!$C$100:$C449,HAP_ID!C449)=1,HAP_ID!C449,\"\"))","v":""},"",null,null,null,{"$f":"+IF(H427=\"\",\"\",MAX(G$1:G426)+1)","v":""},{"$f":"IF(+CMS_Info!D449=\"\",\"\",IF(COUNTIF(CMS_Info!$D$100:$D449,CMS_Info!D449)=1,CMS_Info!D449,\"\"))","v":""},""]
[{"$f":"+IF(B428=\"\",\"\",MAX(A$1:A427)+1)","v":""},{"$f":"IF(+HAP_ID!C450=\"\",\"\",IF(COUNTIF(HAP_ID!$C$100:$C450,HAP_ID!C450)=1,HAP_ID!C450,\"\"))","v":""},"",null,null,null,{"$f":"+IF(H428=\"\",\"\",MAX(G$1:G427)+1)","v":""},{"$f":"IF(+CMS_Info!D450=\"\",\"\",IF(COUNTIF(CMS_Info!$D$100:$D450,CMS_Info!D450)=1,CMS_Info!D450,\"\"))","v":""},""]
[{"$f":"+IF(B429=\"\",\"\",MAX(A$1:A428)+1)","v":""},{"$f":"IF(+HAP_ID!C451=\"\",\"\",IF(COUNTIF(HAP_ID!$C$100:$C451,HAP_ID!C451)=1,HAP_ID!C451,\"\"))","v":""},"",null,null,null,{"$f":"+IF(H429=\"\",\"\",MAX(G$1:G428)+1)","v":""},{"$f":"IF(+CMS_Info!D451=\"\",\"\",IF(COUNTIF(CMS_Info!$D$100:$D451,CMS_Info!D451)=1,CMS_Info!D451,\"\"))","v":""},""]
[{"$f":"+IF(B430=\"\",\"\",MAX(A$1:A429)+1)","v":""},{"$f":"IF(+HAP_ID!C452=\"\",\"\",IF(COUNTIF(HAP_ID!$C$100:$C452,HAP_ID!C452)=1,HAP_ID!C452,\"\"))","v":""},"",null,null,null,{"$f":"+IF(H430=\"\",\"\",MAX(G$1:G429)+1)","v":""},{"$f":"IF(+CMS_Info!D452=\"\",\"\",IF(COUNTIF(CMS_Info!$D$100:$D452,CMS_Info!D452)=1,CMS_Info!D452,\"\"))","v":""},""]
[{"$f":"+IF(B431=\"\",\"\",MAX(A$1:A430)+1)","v":""},{"$f":"IF(+HAP_ID!C453=\"\",\"\",IF(COUNTIF(HAP_ID!$C$100:$C453,HAP_ID!C453)=1,HAP_ID!C453,\"\"))","v":""},"",null,null,null,{"$f":"+IF(H431=\"\",\"\",MAX(G$1:G430)+1)","v":""},{"$f":"IF(+CMS_Info!D453=\"\",\"\",IF(COUNTIF(CMS_Info!$D$100:$D453,CMS_Info!D453)=1,CMS_Info!D453,\"\"))","v":""},""]
[{"$f":"+IF(B432=\"\",\"\",MAX(A$1:A431)+1)","v":""},{"$f":"IF(+HAP_ID!C454=\"\",\"\",IF(COUNTIF(HAP_ID!$C$100:$C454,HAP_ID!C454)=1,HAP_ID!C454,\"\"))","v":""},"",null,null,null,{"$f":"+IF(H432=\"\",\"\",MAX(G$1:G431)+1)","v":""},{"$f":"IF(+CMS_Info!D454=\"\",\"\",IF(COUNTIF(CMS_Info!$D$100:$D454,CMS_Info!D454)=1,CMS_Info!D454,\"\"))","v":""},""]
[{"$f":"+IF(B433=\"\",\"\",MAX(A$1:A432)+1)","v":""},{"$f":"IF(+HAP_ID!C455=\"\",\"\",IF(COUNTIF(HAP_ID!$C$100:$C455,HAP_ID!C455)=1,HAP_ID!C455,\"\"))","v":""},"",null,null,null,{"$f":"+IF(H433=\"\",\"\",MAX(G$1:G432)+1)","v":""},{"$f":"IF(+CMS_Info!D455=\"\",\"\",IF(COUNTIF(CMS_Info!$D$100:$D455,CMS_Info!D455)=1,CMS_Info!D455,\"\"))","v":""},""]
[{"$f":"+IF(B434=\"\",\"\",MAX(A$1:A433)+1)","v":""},{"$f":"IF(+HAP_ID!C456=\"\",\"\",IF(COUNTIF(HAP_ID!$C$100:$C456,HAP_ID!C456)=1,HAP_ID!C456,\"\"))","v":""},"",null,null,null,{"$f":"+IF(H434=\"\",\"\",MAX(G$1:G433)+1)","v":""},{"$f":"IF(+CMS_Info!D456=\"\",\"\",IF(COUNTIF(CMS_Info!$D$100:$D456,CMS_Info!D456)=1,CMS_Info!D456,\"\"))","v":""},""]
[{"$f":"+IF(B435=\"\",\"\",MAX(A$1:A434)+1)","v":""},{"$f":"IF(+HAP_ID!C457=\"\",\"\",IF(COUNTIF(HAP_ID!$C$100:$C457,HAP_ID!C457)=1,HAP_ID!C457,\"\"))","v":""},"",null,null,null,{"$f":"+IF(H435=\"\",\"\",MAX(G$1:G434)+1)","v":""},{"$f":"IF(+CMS_Info!D457=\"\",\"\",IF(COUNTIF(CMS_Info!$D$100:$D457,CMS_Info!D457)=1,CMS_Info!D457,\"\"))","v":""},""]
[{"$f":"+IF(B436=\"\",\"\",MAX(A$1:A435)+1)","v":""},{"$f":"IF(+HAP_ID!C458=\"\",\"\",IF(COUNTIF(HAP_ID!$C$100:$C458,HAP_ID!C458)=1,HAP_ID!C458,\"\"))","v":""},"",null,null,null,{"$f":"+IF(H436=\"\",\"\",MAX(G$1:G435)+1)","v":""},{"$f":"IF(+CMS_Info!D458=\"\",\"\",IF(COUNTIF(CMS_Info!$D$100:$D458,CMS_Info!D458)=1,CMS_Info!D458,\"\"))","v":""},""]
[{"$f":"+IF(B437=\"\",\"\",MAX(A$1:A436)+1)","v":""},{"$f":"IF(+HAP_ID!C459=\"\",\"\",IF(COUNTIF(HAP_ID!$C$100:$C459,HAP_ID!C459)=1,HAP_ID!C459,\"\"))","v":""},"",null,null,null,{"$f":"+IF(H437=\"\",\"\",MAX(G$1:G436)+1)","v":""},{"$f":"IF(+CMS_Info!D459=\"\",\"\",IF(COUNTIF(CMS_Info!$D$100:$D459,CMS_Info!D459)=1,CMS_Info!D459,\"\"))","v":""},""]
[{"$f":"+IF(B438=\"\",\"\",MAX(A$1:A437)+1)","v":""},{"$f":"IF(+HAP_ID!C460=\"\",\"\",IF(COUNTIF(HAP_ID!$C$100:$C460,HAP_ID!C460)=1,HAP_ID!C460,\"\"))","v":""},"",null,null,null,{"$f":"+IF(H438=\"\",\"\",MAX(G$1:G437)+1)","v":""},{"$f":"IF(+CMS_Info!D460=\"\",\"\",IF(COUNTIF(CMS_Info!$D$100:$D460,CMS_Info!D460)=1,CMS_Info!D460,\"\"))","v":""},""]
[{"$f":"+IF(B439=\"\",\"\",MAX(A$1:A438)+1)","v":""},{"$f":"IF(+HAP_ID!C461=\"\",\"\",IF(COUNTIF(HAP_ID!$C$100:$C461,HAP_ID!C461)=1,HAP_ID!C461,\"\"))","v":""},"",null,null,null,{"$f":"+IF(H439=\"\",\"\",MAX(G$1:G438)+1)","v":""},{"$f":"IF(+CMS_Info!D461=\"\",\"\",IF(COUNTIF(CMS_Info!$D$100:$D461,CMS_Info!D461)=1,CMS_Info!D461,\"\"))","v":""},""]
[{"$f":"+IF(B440=\"\",\"\",MAX(A$1:A439)+1)","v":""},{"$f":"IF(+HAP_ID!C462=\"\",\"\",IF(COUNTIF(HAP_ID!$C$100:$C462,HAP_ID!C462)=1,HAP_ID!C462,\"\"))","v":""},"",null,null,null,{"$f":"+IF(H440=\"\",\"\",MAX(G$1:G439)+1)","v":""},{"$f":"IF(+CMS_Info!D462=\"\",\"\",IF(COUNTIF(CMS_Info!$D$100:$D462,CMS_Info!D462)=1,CMS_Info!D462,\"\"))","v":""},""]
[{"$f":"+IF(B441=\"\",\"\",MAX(A$1:A440)+1)","v":""},{"$f":"IF(+HAP_ID!C463=\"\",\"\",IF(COUNTIF(HAP_ID!$C$100:$C463,HAP_ID!C463)=1,HAP_ID!C463,\"\"))","v":""},"",null,null,null,{"$f":"+IF(H441=\"\",\"\",MAX(G$1:G440)+1)","v":""},{"$f":"IF(+CMS_Info!D463=\"\",\"\",IF(COUNTIF(CMS_Info!$D$100:$D463,CMS_Info!D463)=1,CMS_Info!D463,\"\"))","v":""},""]
[{"$f":"+IF(B442=\"\",\"\",MAX(A$1:A441)+1)","v":""},{"$f":"IF(+HAP_ID!C464=\"\",\"\",IF(COUNTIF(HAP_ID!$C$100:$C464,HAP_ID!C464)=1,HAP_ID!C464,\"\"))","v":""},"",null,null,null,{"$f":"+IF(H442=\"\",\"\",MAX(G$1:G441)+1)","v":""},{"$f":"IF(+CMS_Info!D464=\"\",\"\",IF(COUNTIF(CMS_Info!$D$100:$D464,CMS_Info!D464)=1,CMS_Info!D464,\"\"))","v":""},""]
[{"$f":"+IF(B443=\"\",\"\",MAX(A$1:A442)+1)","v":""},{"$f":"IF(+HAP_ID!C465=\"\",\"\",IF(COUNTIF(HAP_ID!$C$100:$C465,HAP_ID!C465)=1,HAP_ID!C465,\"\"))","v":""},"",null,null,null,{"$f":"+IF(H443=\"\",\"\",MAX(G$1:G442)+1)","v":""},{"$f":"IF(+CMS_Info!D465=\"\",\"\",IF(COUNTIF(CMS_Info!$D$100:$D465,CMS_Info!D465)=1,CMS_Info!D465,\"\"))","v":""},""]
[{"$f":"+IF(B444=\"\",\"\",MAX(A$1:A443)+1)","v":""},{"$f":"IF(+HAP_ID!C466=\"\",\"\",IF(COUNTIF(HAP_ID!$C$100:$C466,HAP_ID!C466)=1,HAP_ID!C466,\"\"))","v":""},"",null,null,null,{"$f":"+IF(H444=\"\",\"\",MAX(G$1:G443)+1)","v":""},{"$f":"IF(+CMS_Info!D466=\"\",\"\",IF(COUNTIF(CMS_Info!$D$100:$D466,CMS_Info!D466)=1,CMS_Info!D466,\"\"))","v":""},""]
[{"$f":"+IF(B445=\"\",\"\",MAX(A$1:A444)+1)","v":""},{"$f":"IF(+HAP_ID!C467=\"\",\"\",IF(COUNTIF(HAP_ID!$C$100:$C467,HAP_ID!C467)=1,HAP_ID!C467,\"\"))","v":""},"",null,null,null,{"$f":"+IF(H445=\"\",\"\",MAX(G$1:G444)+1)","v":""},{"$f":"IF(+CMS_Info!D467=\"\",\"\",IF(COUNTIF(CMS_Info!$D$100:$D467,CMS_Info!D467)=1,CMS_Info!D467,\"\"))","v":""},""]
[{"$f":"+IF(B446=\"\",\"\",MAX(A$1:A445)+1)","v":""},{"$f":"IF(+HAP_ID!C468=\"\",\"\",IF(COUNTIF(HAP_ID!$C$100:$C468,HAP_ID!C468)=1,HAP_ID!C468,\"\"))","v":""},"",null,null,null,{"$f":"+IF(H446=\"\",\"\",MAX(G$1:G445)+1)","v":""},{"$f":"IF(+CMS_Info!D468=\"\",\"\",IF(COUNTIF(CMS_Info!$D$100:$D468,CMS_Info!D468)=1,CMS_Info!D468,\"\"))","v":""},""]
[{"$f":"+IF(B447=\"\",\"\",MAX(A$1:A446)+1)","v":""},{"$f":"IF(+HAP_ID!C469=\"\",\"\",IF(COUNTIF(HAP_ID!$C$100:$C469,HAP_ID!C469)=1,HAP_ID!C469,\"\"))","v":""},"",null,null,null,{"$f":"+IF(H447=\"\",\"\",MAX(G$1:G446)+1)","v":""},{"$f":"IF(+CMS_Info!D469=\"\",\"\",IF(COUNTIF(CMS_Info!$D$100:$D469,CMS_Info!D469)=1,CMS_Info!D469,\"\"))","v":""},""]
[{"$f":"+IF(B448=\"\",\"\",MAX(A$1:A447)+1)","v":""},{"$f":"IF(+HAP_ID!C470=\"\",\"\",IF(COUNTIF(HAP_ID!$C$100:$C470,HAP_ID!C470)=1,HAP_ID!C470,\"\"))","v":""},"",null,null,null,{"$f":"+IF(H448=\"\",\"\",MAX(G$1:G447)+1)","v":""},{"$f":"IF(+CMS_Info!D470=\"\",\"\",IF(COUNTIF(CMS_Info!$D$100:$D470,CMS_Info!D470)=1,CMS_Info!D470,\"\"))","v":""},""]
[{"$f":"+IF(B449=\"\",\"\",MAX(A$1:A448)+1)","v":""},{"$f":"IF(+HAP_ID!C471=\"\",\"\",IF(COUNTIF(HAP_ID!$C$100:$C471,HAP_ID!C471)=1,HAP_ID!C471,\"\"))","v":""},"",null,null,null,{"$f":"+IF(H449=\"\",\"\",MAX(G$1:G448)+1)","v":""},{"$f":"IF(+CMS_Info!D471=\"\",\"\",IF(COUNTIF(CMS_Info!$D$100:$D471,CMS_Info!D471)=1,CMS_Info!D471,\"\"))","v":""},""]
[{"$f":"+IF(B450=\"\",\"\",MAX(A$1:A449)+1)","v":""},{"$f":"IF(+HAP_ID!C472=\"\",\"\",IF(COUNTIF(HAP_ID!$C$100:$C472,HAP_ID!C472)=1,HAP_ID!C472,\"\"))","v":""},"",null,null,null,{"$f":"+IF(H450=\"\",\"\",MAX(G$1:G449)+1)","v":""},{"$f":"IF(+CMS_Info!D472=\"\",\"\",IF(COUNTIF(CMS_Info!$D$100:$D472,CMS_Info!D472)=1,CMS_Info!D472,\"\"))","v":""},{"$f":"+IFERROR(INDEX($H$2:$H$501,MATCH(ROW()-ROW($I$1),$G$2:$G$501,0)),\"\")","v":""}]
[{"$f":"+IF(B451=\"\",\"\",MAX(A$1:A450)+1)","v":""},{"$f":"IF(+HAP_ID!C473=\"\",\"\",IF(COUNTIF(HAP_ID!$C$100:$C473,HAP_ID!C473)=1,HAP_ID!C473,\"\"))","v":""},{"$f":"+IFERROR(INDEX($B$2:$B$501,MATCH(ROW()-ROW($C$1),$A$2:$A$501,0)),\"\")","v":""},null,null,null,{"$f":"+IF(H451=\"\",\"\",MAX(G$1:G450)+1)","v":""},{"$f":"IF(+CMS_Info!D473=\"\",\"\",IF(COUNTIF(CMS_Info!$D$100:$D473,CMS_Info!D473)=1,CMS_Info!D473,\"\"))","v":""},""]
[{"$f":"+IF(B452=\"\",\"\",MAX(A$1:A451)+1)","v":""},{"$f":"IF(+HAP_ID!C474=\"\",\"\",IF(COUNTIF(HAP_ID!$C$100:$C474,HAP_ID!C474)=1,HAP_ID!C474,\"\"))","v":""},"",null,null,null,{"$f":"+IF(H452=\"\",\"\",MAX(G$1:G451)+1)","v":""},{"$f":"IF(+CMS_Info!D474=\"\",\"\",IF(COUNTIF(CMS_Info!$D$100:$D474,CMS_Info!D474)=1,CMS_Info!D474,\"\"))","v":""},""]
[{"$f":"+IF(B453=\"\",\"\",MAX(A$1:A452)+1)","v":""},{"$f":"IF(+HAP_ID!C475=\"\",\"\",IF(COUNTIF(HAP_ID!$C$100:$C475,HAP_ID!C475)=1,HAP_ID!C475,\"\"))","v":""},"",null,null,null,{"$f":"+IF(H453=\"\",\"\",MAX(G$1:G452)+1)","v":""},{"$f":"IF(+CMS_Info!D475=\"\",\"\",IF(COUNTIF(CMS_Info!$D$100:$D475,CMS_Info!D475)=1,CMS_Info!D475,\"\"))","v":""},""]
[{"$f":"+IF(B454=\"\",\"\",MAX(A$1:A453)+1)","v":""},{"$f":"IF(+HAP_ID!C476=\"\",\"\",IF(COUNTIF(HAP_ID!$C$100:$C476,HAP_ID!C476)=1,HAP_ID!C476,\"\"))","v":""},"",null,null,null,{"$f":"+IF(H454=\"\",\"\",MAX(G$1:G453)+1)","v":""},{"$f":"IF(+CMS_Info!D476=\"\",\"\",IF(COUNTIF(CMS_Info!$D$100:$D476,CMS_Info!D476)=1,CMS_Info!D476,\"\"))","v":""},""]
[{"$f":"+IF(B455=\"\",\"\",MAX(A$1:A454)+1)","v":""},{"$f":"IF(+HAP_ID!C477=\"\",\"\",IF(COUNTIF(HAP_ID!$C$100:$C477,HAP_ID!C477)=1,HAP_ID!C477,\"\"))","v":""},"",null,null,null,{"$f":"+IF(H455=\"\",\"\",MAX(G$1:G454)+1)","v":""},{"$f":"IF(+CMS_Info!D477=\"\",\"\",IF(COUNTIF(CMS_Info!$D$100:$D477,CMS_Info!D477)=1,CMS_Info!D477,\"\"))","v":""},""]
[{"$f":"+IF(B456=\"\",\"\",MAX(A$1:A455)+1)","v":""},{"$f":"IF(+HAP_ID!C478=\"\",\"\",IF(COUNTIF(HAP_ID!$C$100:$C478,HAP_ID!C478)=1,HAP_ID!C478,\"\"))","v":""},"",null,null,null,{"$f":"+IF(H456=\"\",\"\",MAX(G$1:G455)+1)","v":""},{"$f":"IF(+CMS_Info!D478=\"\",\"\",IF(COUNTIF(CMS_Info!$D$100:$D478,CMS_Info!D478)=1,CMS_Info!D478,\"\"))","v":""},""]
[{"$f":"+IF(B457=\"\",\"\",MAX(A$1:A456)+1)","v":""},{"$f":"IF(+HAP_ID!C479=\"\",\"\",IF(COUNTIF(HAP_ID!$C$100:$C479,HAP_ID!C479)=1,HAP_ID!C479,\"\"))","v":""},"",null,null,null,{"$f":"+IF(H457=\"\",\"\",MAX(G$1:G456)+1)","v":""},{"$f":"IF(+CMS_Info!D479=\"\",\"\",IF(COUNTIF(CMS_Info!$D$100:$D479,CMS_Info!D479)=1,CMS_Info!D479,\"\"))","v":""},""]
[{"$f":"+IF(B458=\"\",\"\",MAX(A$1:A457)+1)","v":""},{"$f":"IF(+HAP_ID!C480=\"\",\"\",IF(COUNTIF(HAP_ID!$C$100:$C480,HAP_ID!C480)=1,HAP_ID!C480,\"\"))","v":""},"",null,null,null,{"$f":"+IF(H458=\"\",\"\",MAX(G$1:G457)+1)","v":""},{"$f":"IF(+CMS_Info!D480=\"\",\"\",IF(COUNTIF(CMS_Info!$D$100:$D480,CMS_Info!D480)=1,CMS_Info!D480,\"\"))","v":""},""]
[{"$f":"+IF(B459=\"\",\"\",MAX(A$1:A458)+1)","v":""},{"$f":"IF(+HAP_ID!C481=\"\",\"\",IF(COUNTIF(HAP_ID!$C$100:$C481,HAP_ID!C481)=1,HAP_ID!C481,\"\"))","v":""},"",null,null,null,{"$f":"+IF(H459=\"\",\"\",MAX(G$1:G458)+1)","v":""},{"$f":"IF(+CMS_Info!D481=\"\",\"\",IF(COUNTIF(CMS_Info!$D$100:$D481,CMS_Info!D481)=1,CMS_Info!D481,\"\"))","v":""},""]
[{"$f":"+IF(B460=\"\",\"\",MAX(A$1:A459)+1)","v":""},{"$f":"IF(+HAP_ID!C482=\"\",\"\",IF(COUNTIF(HAP_ID!$C$100:$C482,HAP_ID!C482)=1,HAP_ID!C482,\"\"))","v":""},"",null,null,null,{"$f":"+IF(H460=\"\",\"\",MAX(G$1:G459)+1)","v":""},{"$f":"IF(+CMS_Info!D482=\"\",\"\",IF(COUNTIF(CMS_Info!$D$100:$D482,CMS_Info!D482)=1,CMS_Info!D482,\"\"))","v":""},""]
[{"$f":"+IF(B461=\"\",\"\",MAX(A$1:A460)+1)","v":""},{"$f":"IF(+HAP_ID!C483=\"\",\"\",IF(COUNTIF(HAP_ID!$C$100:$C483,HAP_ID!C483)=1,HAP_ID!C483,\"\"))","v":""},"",null,null,null,{"$f":"+IF(H461=\"\",\"\",MAX(G$1:G460)+1)","v":""},{"$f":"IF(+CMS_Info!D483=\"\",\"\",IF(COUNTIF(CMS_Info!$D$100:$D483,CMS_Info!D483)=1,CMS_Info!D483,\"\"))","v":""},""]
[{"$f":"+IF(B462=\"\",\"\",MAX(A$1:A461)+1)","v":""},{"$f":"IF(+HAP_ID!C484=\"\",\"\",IF(COUNTIF(HAP_ID!$C$100:$C484,HAP_ID!C484)=1,HAP_ID!C484,\"\"))","v":""},"",null,null,null,{"$f":"+IF(H462=\"\",\"\",MAX(G$1:G461)+1)","v":""},{"$f":"IF(+CMS_Info!D484=\"\",\"\",IF(COUNTIF(CMS_Info!$D$100:$D484,CMS_Info!D484)=1,CMS_Info!D484,\"\"))","v":""},""]
[{"$f":"+IF(B463=\"\",\"\",MAX(A$1:A462)+1)","v":""},{"$f":"IF(+HAP_ID!C485=\"\",\"\",IF(COUNTIF(HAP_ID!$C$100:$C485,HAP_ID!C485)=1,HAP_ID!C485,\"\"))","v":""},"",null,null,null,{"$f":"+IF(H463=\"\",\"\",MAX(G$1:G462)+1)","v":""},{"$f":"IF(+CMS_Info!D485=\"\",\"\",IF(COUNTIF(CMS_Info!$D$100:$D485,CMS_Info!D485)=1,CMS_Info!D485,\"\"))","v":""},""]
[{"$f":"+IF(B464=\"\",\"\",MAX(A$1:A463)+1)","v":""},{"$f":"IF(+HAP_ID!C486=\"\",\"\",IF(COUNTIF(HAP_ID!$C$100:$C486,HAP_ID!C486)=1,HAP_ID!C486,\"\"))","v":""},"",null,null,null,{"$f":"+IF(H464=\"\",\"\",MAX(G$1:G463)+1)","v":""},{"$f":"IF(+CMS_Info!D486=\"\",\"\",IF(COUNTIF(CMS_Info!$D$100:$D486,CMS_Info!D486)=1,CMS_Info!D486,\"\"))","v":""},""]
[{"$f":"+IF(B465=\"\",\"\",MAX(A$1:A464)+1)","v":""},{"$f":"IF(+HAP_ID!C487=\"\",\"\",IF(COUNTIF(HAP_ID!$C$100:$C487,HAP_ID!C487)=1,HAP_ID!C487,\"\"))","v":""},"",null,null,null,{"$f":"+IF(H465=\"\",\"\",MAX(G$1:G464)+1)","v":""},{"$f":"IF(+CMS_Info!D487=\"\",\"\",IF(COUNTIF(CMS_Info!$D$100:$D487,CMS_Info!D487)=1,CMS_Info!D487,\"\"))","v":""},""]
[{"$f":"+IF(B466=\"\",\"\",MAX(A$1:A465)+1)","v":""},{"$f":"IF(+HAP_ID!C488=\"\",\"\",IF(COUNTIF(HAP_ID!$C$100:$C488,HAP_ID!C488)=1,HAP_ID!C488,\"\"))","v":""},"",null,null,null,{"$f":"+IF(H466=\"\",\"\",MAX(G$1:G465)+1)","v":""},{"$f":"IF(+CMS_Info!D488=\"\",\"\",IF(COUNTIF(CMS_Info!$D$100:$D488,CMS_Info!D488)=1,CMS_Info!D488,\"\"))","v":""},""]
[{"$f":"+IF(B467=\"\",\"\",MAX(A$1:A466)+1)","v":""},{"$f":"IF(+HAP_ID!C489=\"\",\"\",IF(COUNTIF(HAP_ID!$C$100:$C489,HAP_ID!C489)=1,HAP_ID!C489,\"\"))","v":""},"",null,null,null,{"$f":"+IF(H467=\"\",\"\",MAX(G$1:G466)+1)","v":""},{"$f":"IF(+CMS_Info!D489=\"\",\"\",IF(COUNTIF(CMS_Info!$D$100:$D489,CMS_Info!D489)=1,CMS_Info!D489,\"\"))","v":""},""]
[{"$f":"+IF(B468=\"\",\"\",MAX(A$1:A467)+1)","v":""},{"$f":"IF(+HAP_ID!C490=\"\",\"\",IF(COUNTIF(HAP_ID!$C$100:$C490,HAP_ID!C490)=1,HAP_ID!C490,\"\"))","v":""},"",null,null,null,{"$f":"+IF(H468=\"\",\"\",MAX(G$1:G467)+1)","v":""},{"$f":"IF(+CMS_Info!D490=\"\",\"\",IF(COUNTIF(CMS_Info!$D$100:$D490,CMS_Info!D490)=1,CMS_Info!D490,\"\"))","v":""},""]
[{"$f":"+IF(B469=\"\",\"\",MAX(A$1:A468)+1)","v":""},{"$f":"IF(+HAP_ID!C491=\"\",\"\",IF(COUNTIF(HAP_ID!$C$100:$C491,HAP_ID!C491)=1,HAP_ID!C491,\"\"))","v":""},"",null,null,null,{"$f":"+IF(H469=\"\",\"\",MAX(G$1:G468)+1)","v":""},{"$f":"IF(+CMS_Info!D491=\"\",\"\",IF(COUNTIF(CMS_Info!$D$100:$D491,CMS_Info!D491)=1,CMS_Info!D491,\"\"))","v":""},""]
[{"$f":"+IF(B470=\"\",\"\",MAX(A$1:A469)+1)","v":""},{"$f":"IF(+HAP_ID!C492=\"\",\"\",IF(COUNTIF(HAP_ID!$C$100:$C492,HAP_ID!C492)=1,HAP_ID!C492,\"\"))","v":""},"",null,null,null,{"$f":"+IF(H470=\"\",\"\",MAX(G$1:G469)+1)","v":""},{"$f":"IF(+CMS_Info!D492=\"\",\"\",IF(COUNTIF(CMS_Info!$D$100:$D492,CMS_Info!D492)=1,CMS_Info!D492,\"\"))","v":""},""]
[{"$f":"+IF(B471=\"\",\"\",MAX(A$1:A470)+1)","v":""},{"$f":"IF(+HAP_ID!C493=\"\",\"\",IF(COUNTIF(HAP_ID!$C$100:$C493,HAP_ID!C493)=1,HAP_ID!C493,\"\"))","v":""},"",null,null,null,{"$f":"+IF(H471=\"\",\"\",MAX(G$1:G470)+1)","v":""},{"$f":"IF(+CMS_Info!D493=\"\",\"\",IF(COUNTIF(CMS_Info!$D$100:$D493,CMS_Info!D493)=1,CMS_Info!D493,\"\"))","v":""},""]
[{"$f":"+IF(B472=\"\",\"\",MAX(A$1:A471)+1)","v":""},{"$f":"IF(+HAP_ID!C494=\"\",\"\",IF(COUNTIF(HAP_ID!$C$100:$C494,HAP_ID!C494)=1,HAP_ID!C494,\"\"))","v":""},"",null,null,null,{"$f":"+IF(H472=\"\",\"\",MAX(G$1:G471)+1)","v":""},{"$f":"IF(+CMS_Info!D494=\"\",\"\",IF(COUNTIF(CMS_Info!$D$100:$D494,CMS_Info!D494)=1,CMS_Info!D494,\"\"))","v":""},""]
[{"$f":"+IF(B473=\"\",\"\",MAX(A$1:A472)+1)","v":""},{"$f":"IF(+HAP_ID!C495=\"\",\"\",IF(COUNTIF(HAP_ID!$C$100:$C495,HAP_ID!C495)=1,HAP_ID!C495,\"\"))","v":""},"",null,null,null,{"$f":"+IF(H473=\"\",\"\",MAX(G$1:G472)+1)","v":""},{"$f":"IF(+CMS_Info!D495=\"\",\"\",IF(COUNTIF(CMS_Info!$D$100:$D495,CMS_Info!D495)=1,CMS_Info!D495,\"\"))","v":""},""]
[{"$f":"+IF(B474=\"\",\"\",MAX(A$1:A473)+1)","v":""},{"$f":"IF(+HAP_ID!C496=\"\",\"\",IF(COUNTIF(HAP_ID!$C$100:$C496,HAP_ID!C496)=1,HAP_ID!C496,\"\"))","v":""},"",null,null,null,{"$f":"+IF(H474=\"\",\"\",MAX(G$1:G473)+1)","v":""},{"$f":"IF(+CMS_Info!D496=\"\",\"\",IF(COUNTIF(CMS_Info!$D$100:$D496,CMS_Info!D496)=1,CMS_Info!D496,\"\"))","v":""},""]
[{"$f":"+IF(B475=\"\",\"\",MAX(A$1:A474)+1)","v":""},{"$f":"IF(+HAP_ID!C497=\"\",\"\",IF(COUNTIF(HAP_ID!$C$100:$C497,HAP_ID!C497)=1,HAP_ID!C497,\"\"))","v":""},"",null,null,null,{"$f":"+IF(H475=\"\",\"\",MAX(G$1:G474)+1)","v":""},{"$f":"IF(+CMS_Info!D497=\"\",\"\",IF(COUNTIF(CMS_Info!$D$100:$D497,CMS_Info!D497)=1,CMS_Info!D497,\"\"))","v":""},""]
[{"$f":"+IF(B476=\"\",\"\",MAX(A$1:A475)+1)","v":""},{"$f":"IF(+HAP_ID!C498=\"\",\"\",IF(COUNTIF(HAP_ID!$C$100:$C498,HAP_ID!C498)=1,HAP_ID!C498,\"\"))","v":""},"",null,null,null,{"$f":"+IF(H476=\"\",\"\",MAX(G$1:G475)+1)","v":""},{"$f":"IF(+CMS_Info!D498=\"\",\"\",IF(COUNTIF(CMS_Info!$D$100:$D498,CMS_Info!D498)=1,CMS_Info!D498,\"\"))","v":""},""]
[{"$f":"+IF(B477=\"\",\"\",MAX(A$1:A476)+1)","v":""},{"$f":"IF(+HAP_ID!C499=\"\",\"\",IF(COUNTIF(HAP_ID!$C$100:$C499,HAP_ID!C499)=1,HAP_ID!C499,\"\"))","v":""},"",null,null,null,{"$f":"+IF(H477=\"\",\"\",MAX(G$1:G476)+1)","v":""},{"$f":"IF(+CMS_Info!D499=\"\",\"\",IF(COUNTIF(CMS_Info!$D$100:$D499,CMS_Info!D499)=1,CMS_Info!D499,\"\"))","v":""},""]

{"sheet":"No_CMS","index":3,"n_rows":14,"n_cols":9,"rows_kept":14,"cut":false,"hidden":false,"merged":[]}
[null,"DO NOT REMOVE OR EDIT INFORMATION IN ROWS 1 THROUGH 5\nFOR INTERNAL USE ONLY"]
[null,"Template Name",{"$f":"+Welcome!B2","v":"63.5912 (d) Semiannual Compliance Report (Spreadsheet Template)"}]
[null,"CitationID",{"$f":"+Welcome!B3","v":"63.5912(d)"}]
[null,"Template Version",{"$f":"+Welcome!B4","v":"v1.01"}]
[null,"Last Updated Date",{"$f":"+Welcome!B5","v":45391}]
[]
[null,"40 CFR Part 63, Subpart WWWW National Emission Standards for Hazardous Air Pollutants: Reinforced Plastic Composites Production"]
[null,"\n"]
[]
[]
[null,"§63.5912(d) Semiannual Compliance Report Spreadsheet Template"]
[null,"Company Record No.  \n(Select from dropdown)","Operation/Process Unit \n(§63.5910(d))","Organic HAP Emission Limit or Work Practice Standard Deviated From \n(§63.5910(d))","Total Operating Time of Affected Source (Hours)\n(§63.5910(d)(1))","Number of Deviations\n(§63.5910(d)(2))","Duration of Deviations\n(Hours)\n(§63.5910(d)(2))","Cause of Deviation\n(§63.5910(d)(2))\n(Select From dropdown)","Corrective Action Taken \n(§63.5910(d)(2))"]
[null,"RecordId","ProcessUnitDesc","HAPDeviation","TotalOperatingTime","NumberOfDeviations","DeviationDuration","DeviationCause","CorrectiveAction"]
[null,"e.g.: 1","e.g.: Spray Nozzle Cleaning","e.g.:  Not Use Cleaning solvent that contain HAP","e.g.: 3120","e.g.: 5","e.g.: 5.05","e.g.: Other Known Causes","e.g.: Replaced cleaner with HAP free"]

{"sheet":"HAP_ID","index":4,"n_rows":14,"n_cols":5,"rows_kept":14,"cut":false,"hidden":false,"merged":[]}
[null,"DO NOT REMOVE OR EDIT INFORMATION IN ROWS 1 THROUGH 5\nFOR INTERNAL USE ONLY"]
[null,"Template Name",{"$f":"+Welcome!B2","v":"63.5912 (d) Semiannual Compliance Report (Spreadsheet Template)"}]
[null,"CitationID",{"$f":"+Welcome!B3","v":"63.5912(d)"}]
[null,"Template Version",{"$f":"+Welcome!B4","v":"v1.01"}]
[null,"Last Updated Date",{"$f":"+Welcome!B5","v":45391}]
[null,"40 CFR Part 63, Subpart WWWW National Emission Standards for Hazardous Air Pollutants: Reinforced Plastic Composites Production "]
[null,"§63.5912(d) Semiannual Compliance Report Spreadsheet Template"]
[null,"\n"]
[]
[]
[]
[null,"Company Record No.  \n(Select from dropdown)","Process Unit Description \n(§63.5910(e)(9))","Identification of Hazardous Air Pollutant Monitored \n(§63.5910(e)(8))\n","Identification of Emission or Operating Parameter Limit \n(§63.10(e)(3)(vi)(E))"]
[null,"RecordId","ProcessUnitDesc","HAPMonitored","ParameterLimit"]
[null,"e.g.: 1","e.g.: North Production Line","e.g.: Total Organic HAP","e.g.: Total Organic HAP 95% Reduction"]

{"sheet":"CMS_Info","index":5,"n_rows":14,"n_cols":5,"rows_kept":14,"cut":false,"hidden":false,"merged":[]}
[null,"DO NOT REMOVE OR EDIT INFORMATION IN ROWS 1 THROUGH 5\nFOR INTERNAL USE ONLY"]
[null,"Template Name",{"$f":"+Welcome!B2","v":"63.5912 (d) Semiannual Compliance Report (Spreadsheet Template)"}]
[null,"CitationID",{"$f":"+Welcome!B3","v":"63.5912(d)"}]
[null,"Template Version",{"$f":"+Welcome!B4","v":"v1.01"}]
[null,"Last Updated Date",{"$f":"+Welcome!B5","v":45391}]
[null,"40 CFR Part 63, Subpart WWWW National Emission Standards for Hazardous Air Pollutants: Reinforced Plastic Composites Production"]
[null,"§63.5912(d) Semiannual Compliance Report Spreadsheet Template"]
[null,"\n"]
[]
[]
[]
[null,"Company Record No.  \n(Select from dropdown)","Process Unit Description \n(§63.5910(e)(9))\n(Select from dropdown)","Brief Description of CMS/Monitoring Equipment Manufacturer and Model Number\n(§63.5910(e)(10) and §63.10(e)(3)(vi)(F))","Date of Latest CMS Certification or Audit \n(§63.5910(e)(11))"]
[null,"RecordId","ProcessUnitDesc","CMSDescription","CMSAuditDate"]
[null,"e.g.: 1","e.g.: North Production Line","e.g. Omega NB1-ICSS-14U-12","e.g. 5/7/2017"]

{"sheet":"CMS_Detail","index":6,"n_rows":500,"n_cols":12,"rows_kept":500,"cut":false,"hidden":false,"merged":[]}
[null,"DO NOT REMOVE OR EDIT INFORMATION IN ROWS 1 THROUGH 5\nFOR INTERNAL USE ONLY"]
[null,"Template Name",{"$f":"+Welcome!B2","v":"63.5912 (d) Semiannual Compliance Report (Spreadsheet Template)"}]
[null,"CitationID",{"$f":"+Welcome!B3","v":"63.5912(d)"}]
[null,"Template Version",{"$f":"+Welcome!B4","v":"v1.01"}]
[null,"Last Updated Date",{"$f":"+Welcome!B5","v":45391}]
[null,"40 CFR Part 63, Subpart WWWW National Emission Standards for Hazardous Air Pollutants: Reinforced Plastic Composites Production"]
[null,"§63.5912(d) Semiannual Compliance Report Spreadsheet Template"]
[null,"\n"]
[]
[]
[]
[null,"Company Record No. \n(Select from dropdown)","Process Unit Description \n(§63.5910(e)(9))\n(Select from dropdown)","Brief Description of CMS/Monitoring Equipment Manufacturer and Model Number\n(§63.5910(e)(10) and §63.10(e)(3)(vi)(F))\n(Select From dropdown)","Type of Deviation: CMS Inoperative or \nOut of Control\n(Select from dropdown)","Starting Date CMS \nInoperative or \nOut of Control \n(§63.5910(e)(2) or (3))","Starting Time CMS Inoperative or \nOut of Control \n(§63.5910(e)(2) or (3))","Ending Date CMS \nInoperative or \nOut of Control \n(§63.5910(e)(2) or (3))","Ending Time CMS Inoperative or \nOut of Control \n(§63.5910(e)(2) or (3))","Duration CMS Inoperative \nor Out of Control * (hours)\n(Calculated value for use in Total Deviation Calculations on Summary Report tab)","Cause of CMS Being\n Inoperative or Out of Control \n(§63.10(c)(10))\n(Select From dropdown)","Nature of Repairs or Adjustment to CMS \n(§63.10(c)(12))"]
[null,"RecordId","ProcessUnitDesc","CMSDescription","CMSOutageDescription","CMSOutageStartDate","CMSOutageStartTime","CMSOutageEndDate","CMSOutageEndTime","CMSOutageDuration","CMSOutageCause","CMSAdjustment"]
[null,"e.g.: 1","e.g. North Production Line","e.g. Omega NB1-ICSS-14U-12","e.g. CMS Inoperative","e.g.: 3/2/2017","e.g.: 15:52","e.g.: 3/2/2017","e.g.: 19:15","e.g.: 72.00","e.g.: Other known causes","e.g.: replaced thermocouple"]
[]
[]
[]
[]
[]
[]
[]
[]
[]
[null,null,null,null,null,null,null,null,null,{"$f":"IF(I24=\"\",\"\",(VALUE(TEXT(H24,\"m/dd/yy \")&TEXT(I24,\"hh:mm:ss\"))-(VALUE(TEXT(F24,\"m/dd/yy \")&TEXT(G24,\"hh:mm:ss\"))))*24)","v":""}]
[null,null,null,null,null,null,null,null,null,""]
[null,null,null,null,null,null,null,null,null,""]
[null,null,null,null,null,null,null,null,null,""]
[null,null,null,null,null,null,null,null,null,""]
[null,null,null,null,null,null,null,null,null,""]
[null,null,null,null,null,null,null,null,null,""]
[null,null,null,null,null,null,null,null,null,{"$f":"IF(I31=\"\",\"\",(VALUE(TEXT(H31,\"m/dd/yy \")&TEXT(I31,\"hh:mm:ss\"))-(VALUE(TEXT(F31,\"m/dd/yy \")&TEXT(G31,\"hh:mm:ss\"))))*24)","v":""}]
[null,null,null,null,null,null,null,null,null,""]
[null,null,null,null,null,null,null,null,null,""]
[null,null,null,null,null,null,null,null,null,""]
[null,null,null,null,null,null,null,null,null,""]
[null,null,null,null,null,null,null,null,null,""]
[null,null,null,null,null,null,null,null,null,""]
[null,null,null,null,null,null,null,null,null,""]
[null,null,null,null,null,null,null,null,null,""]
[null,null,null,null,null,null,null,null,null,""]
[null,null,null,null,null,null,null,null,null,""]
[null,null,null,null,null,null,null,null,null,""]
[null,null,null,null,null,null,null,null,null,""]
[null,null,null,null,null,null,null,null,null,""]
[null,null,null,null,null,null,null,null,null,""]
[null,null,null,null,null,null,null,null,null,""]
[null,null,null,null,null,null,null,null,null,""]
[null,null,null,null,null,null,null,null,null,""]
[null,null,null,null,null,null,null,null,null,""]
[null,null,null,null,null,null,null,null,null,""]
[null,null,null,null,null,null,null,null,null,""]
[null,null,null,null,null,null,null,null,null,""]
[null,null,null,null,null,null,null,null,null,""]
[null,null,null,null,null,null,null,null,null,""]
[null,null,null,null,null,null,null,null,null,""]
[null,null,null,null,null,null,null,null,null,""]
[null,null,null,null,null,null,null,null,null,""]
[null,null,null,null,null,null,null,null,null,""]
[null,null,null,null,null,null,null,null,null,""]
[null,null,null,null,null,null,null,null,null,""]
[null,null,null,null,null,null,null,null,null,""]
[null,null,null,null,null,null,null,null,null,""]
[null,null,null,null,null,null,null,null,null,""]
[null,null,null,null,null,null,null,null,null,""]
[null,null,null,null,null,null,null,null,null,""]
[null,null,null,null,null,null,null,null,null,""]
[null,null,null,null,null,null,null,null,null,""]
[null,null,null,null,null,null,null,null,null,""]
[null,null,null,null,null,null,null,null,null,""]
[null,null,null,null,null,null,null,null,null,""]
[null,null,null,null,null,null,null,null,null,""]
[null,null,null,null,null,null,null,null,null,""]
[null,null,null,null,null,null,null,null,null,""]
[null,null,null,null,null,null,null,null,null,""]
[null,null,null,null,null,null,null,null,null,""]
[null,null,null,null,null,null,null,null,null,""]
[null,null,null,null,null,null,null,null,null,""]
[null,null,null,null,null,null,null,null,null,""]
[null,null,null,null,null,null,null,null,null,""]
[null,null,null,null,null,null,null,null,null,""]
[null,null,null,null,null,null,null,null,null,""]
[null,null,null,null,null,null,null,null,null,""]
[null,null,null,null,null,null,null,null,null,""]
[null,null,null,null,null,null,null,null,null,""]
[null,null,null,null,null,null,null,null,null,""]
[null,null,null,null,null,null,null,null,null,""]
[null,null,null,null,null,null,null,null,null,""]
[null,null,null,null,null,null,null,null,null,""]
[null,null,null,null,null,null,null,null,null,{"$f":"IF(I89=\"\",\"\",(VALUE(TEXT(H89,\"m/dd/yy \")&TEXT(I89,\"hh:mm:ss\"))-(VALUE(TEXT(F89,\"m/dd/yy \")&TEXT(G89,\"hh:mm:ss\"))))*24)","v":""}]
[null,null,null,null,null,null,null,null,null,""]
[null,null,null,null,null,null,null,null,null,""]
[null,null,null,null,null,null,null,null,null,""]
[null,null,null,null,null,null,null,null,null,""]
[null,null,null,null,null,null,null,null,null,""]
[null,null,null,null,null,null,null,null,null,""]
[null,null,null,null,null,null,null,null,null,""]
[null,null,null,null,null,null,null,null,null,""]
[null,null,null,null,null,null,null,null,null,""]
[null,null,null,null,null,null,null,null,null,""]
[null,null,null,null,null,null,null,null,null,""]
[null,null,null,null,null,null,null,null,null,""]
[null,null,null,null,null,null,null,null,null,""]
[null,null,null,null,null,null,null,null,null,""]
[null,null,null,null,null,null,null,null,null,""]
[null,null,null,null,null,null,null,null,null,""]
[null,null,null,null,null,null,null,null,null,""]
[null,null,null,null,null,null,null,null,null,""]
[null,null,null,null,null,null,null,null,null,""]
[null,null,null,null,null,null,null,null,null,""]
[null,null,null,null,null,null,null,null,null,""]
[null,null,null,null,null,null,null,null,null,""]
[null,null,null,null,null,null,null,null,null,""]
[null,null,null,null,null,null,null,null,null,""]
[null,null,null,null,null,null,null,null,null,""]
[null,null,null,null,null,null,null,null,null,""]
[null,null,null,null,null,null,null,null,null,""]
[null,null,null,null,null,null,null,null,null,""]
[null,null,null,null,null,null,null,null,null,""]
[null,null,null,null,null,null,null,null,null,""]
[null,null,null,null,null,null,null,null,null,""]
[null,null,null,null,null,null,null,null,null,""]
[null,null,null,null,null,null,null,null,null,""]
[null,null,null,null,null,null,null,null,null,""]
[null,null,null,null,null,null,null,null,null,""]
[null,null,null,null,null,null,null,null,null,""]
[null,null,null,null,null,null,null,null,null,""]
[null,null,null,null,null,null,null,null,null,""]
[null,null,null,null,null,null,null,null,null,""]
[null,null,null,null,null,null,null,null,null,""]
[null,null,null,null,null,null,null,null,null,""]
[null,null,null,null,null,null,null,null,null,""]
[null,null,null,null,null,null,null,null,null,""]
[null,null,null,null,null,null,null,null,null,""]
[null,null,null,null,null,null,null,null,null,""]
[null,null,null,null,null,null,null,null,null,""]
[null,null,null,null,null,null,null,null,null,""]
[null,null,null,null,null,null,null,null,null,""]
[null,null,null,null,null,null,null,null,null,""]
[null,null,null,null,null,null,null,null,null,""]
[null,null,null,null,null,null,null,null,null,""]
[null,null,null,null,null,null,null,null,null,""]
[null,null,null,null,null,null,null,null,null,""]
[null,null,null,null,null,null,null,null,null,""]
[null,null,null,null,null,null,null,null,null,""]
[null,null,null,null,null,null,null,null,null,""]
[null,null,null,null,null,null,null,null,null,""]
[null,null,null,null,null,null,null,null,null,""]
[null,null,null,null,null,null,null,null,null,""]
[null,null,null,null,null,null,null,null,null,""]
[null,null,null,null,null,null,null,null,null,""]
[null,null,null,null,null,null,null,null,null,""]
[null,null,null,null,null,null,null,null,null,""]
[null,null,null,null,null,null,null,null,null,{"$f":"IF(I153=\"\",\"\",(VALUE(TEXT(H153,\"m/dd/yy \")&TEXT(I153,\"hh:mm:ss\"))-(VALUE(TEXT(F153,\"m/dd/yy \")&TEXT(G153,\"hh:mm:ss\"))))*24)","v":""}]
[null,null,null,null,null,null,null,null,null,""]
[null,null,null,null,null,null,null,null,null,""]
[null,null,null,null,null,null,null,null,null,""]
[null,null,null,null,null,null,null,null,null,""]
[null,null,null,null,null,null,null,null,null,""]
[null,null,null,null,null,null,null,null,null,""]
[null,null,null,null,null,null,null,null,null,""]
[null,null,null,null,null,null,null,null,null,""]
[null,null,null,null,null,null,null,null,null,""]
[null,null,null,null,null,null,null,null,null,""]
[null,null,null,null,null,null,null,null,null,""]
[null,null,null,null,null,null,null,null,null,""]
[null,null,null,null,null,null,null,null,null,""]
[null,null,null,null,null,null,null,null,null,""]
[null,null,null,null,null,null,null,null,null,""]
[null,null,null,null,null,null,null,null,null,""]
[null,null,null,null,null,null,null,null,null,""]
[null,null,null,null,null,null,null,null,null,""]
[null,null,null,null,null,null,null,null,null,""]
[null,null,null,null,null,null,null,null,null,""]
[null,null,null,null,null,null,null,null,null,""]
[null,null,null,null,null,null,null,null,null,""]
[null,null,null,null,null,null,null,null,null,""]
[null,null,null,null,null,null,null,null,null,""]
[null,null,null,null,null,null,null,null,null,""]
[null,null,null,null,null,null,null,null,null,""]
[null,null,null,null,null,null,null,null,null,""]
[null,null,null,null,null,null,null,null,null,""]
[null,null,null,null,null,null,null,null,null,""]
[null,null,null,null,null,null,null,null,null,""]
[null,null,null,null,null,null,null,null,null,""]
[null,null,null,null,null,null,null,null,null,""]
[null,null,null,null,null,null,null,null,null,""]
[null,null,null,null,null,null,null,null,null,""]
[null,null,null,null,null,null,null,null,null,""]
[null,null,null,null,null,null,null,null,null,""]
[null,null,null,null,null,null,null,null,null,""]
[null,null,null,null,null,null,null,null,null,""]
[null,null,null,null,null,null,null,null,null,""]
[null,null,null,null,null,null,null,null,null,""]
[null,null,null,null,null,null,null,null,null,""]
[null,null,null,null,null,null,null,null,null,""]
[null,null,null,null,null,null,null,null,null,""]
[null,null,null,null,null,null,null,null,null,""]
[null,null,null,null,null,null,null,null,null,""]
[null,null,null,null,null,null,null,null,null,""]
[null,null,null,null,null,null,null,null,null,""]
[null,null,null,null,null,null,null,null,null,""]
[null,null,null,null,null,null,null,null,null,""]
[null,null,null,null,null,null,null,null,null,""]
[null,null,null,null,null,null,null,null,null,""]
[null,null,null,null,null,null,null,null,null,""]
[null,null,null,null,null,null,null,null,null,""]
[null,null,null,null,null,null,null,null,null,""]
[null,null,null,null,null,null,null,null,null,""]
[null,null,null,null,null,null,null,null,null,""]
[null,null,null,null,null,null,null,null,null,""]
[null,null,null,null,null,null,null,null,null,""]
[null,null,null,null,null,null,null,null,null,""]
[null,null,null,null,null,null,null,null,null,""]
[null,null,null,null,null,null,null,null,null,""]
[null,null,null,null,null,null,null,null,null,""]
[null,null,null,null,null,null,null,null,null,""]
[null,null,null,null,null,null,null,null,null,{"$f":"IF(I217=\"\",\"\",(VALUE(TEXT(H217,\"m/dd/yy \")&TEXT(I217,\"hh:mm:ss\"))-(VALUE(TEXT(F217,\"m/dd/yy \")&TEXT(G217,\"hh:mm:ss\"))))*24)","v":""}]
[null,null,null,null,null,null,null,null,null,""]
[null,null,null,null,null,null,null,null,null,""]
[null,null,null,null,null,null,null,null,null,""]
[null,null,null,null,null,null,null,null,null,""]
[null,null,null,null,null,null,null,null,null,""]
[null,null,null,null,null,null,null,null,null,""]
[null,null,null,null,null,null,null,null,null,""]
[null,null,null,null,null,null,null,null,null,""]
[null,null,null,null,null,null,null,null,null,""]
[null,null,null,null,null,null,null,null,null,""]
[null,null,null,null,null,null,null,null,null,""]
[null,null,null,null,null,null,null,null,null,""]
[null,null,null,null,null,null,null,null,null,""]
[null,null,null,null,null,null,null,null,null,""]
[null,null,null,null,null,null,null,null,null,""]
[null,null,null,null,null,null,null,null,null,""]
[null,null,null,null,null,null,null,null,null,""]
[null,null,null,null,null,null,null,null,null,""]
[null,null,null,null,null,null,null,null,null,""]
[null,null,null,null,null,null,null,null,null,""]
[null,null,null,null,null,null,null,null,null,""]
[null,null,null,null,null,null,null,null,null,""]
[null,null,null,null,null,null,null,null,null,""]
[null,null,null,null,null,null,null,null,null,""]
[null,null,null,null,null,null,null,null,null,""]
[null,null,null,null,null,null,null,null,null,""]
[null,null,null,null,null,null,null,null,null,""]
[null,null,null,null,null,null,null,null,null,""]
[null,null,null,null,null,null,null,null,null,""]
[null,null,null,null,null,null,null,null,null,""]
[null,null,null,null,null,null,null,null,null,""]
[null,null,null,null,null,null,null,null,null,""]
[null,null,null,null,null,null,null,null,null,""]
[null,null,null,null,null,null,null,null,null,""]
[null,null,null,null,null,null,null,null,null,""]
[null,null,null,null,null,null,null,null,null,""]
[null,null,null,null,null,null,null,null,null,""]
[null,null,null,null,null,null,null,null,null,""]
[null,null,null,null,null,null,null,null,null,""]
[null,null,null,null,null,null,null,null,null,""]
[null,null,null,null,null,null,null,null,null,""]
[null,null,null,null,null,null,null,null,null,""]
[null,null,null,null,null,null,null,null,null,""]
[null,null,null,null,null,null,null,null,null,""]
[null,null,null,null,null,null,null,null,null,""]
[null,null,null,null,null,null,null,null,null,""]
[null,null,null,null,null,null,null,null,null,""]
[null,null,null,null,null,null,null,null,null,""]
[null,null,null,null,null,null,null,null,null,""]
[null,null,null,null,null,null,null,null,null,""]
[null,null,null,null,null,null,null,null,null,""]
[null,null,null,null,null,null,null,null,null,""]
[null,null,null,null,null,null,null,null,null,""]
[null,null,null,null,null,null,null,null,null,""]
[null,null,null,null,null,null,null,null,null,""]
[null,null,null,null,null,null,null,null,null,""]
[null,null,null,null,null,null,null,null,null,""]
[null,null,null,null,null,null,null,null,null,""]
[null,null,null,null,null,null,null,null,null,""]
[null,null,null,null,null,null,null,null,null,""]
[null,null,null,null,null,null,null,null,null,""]
[null,null,null,null,null,null,null,null,null,""]
[null,null,null,null,null,null,null,null,null,""]
[null,null,null,null,null,null,null,null,null,{"$f":"IF(I281=\"\",\"\",(VALUE(TEXT(H281,\"m/dd/yy \")&TEXT(I281,\"hh:mm:ss\"))-(VALUE(TEXT(F281,\"m/dd/yy \")&TEXT(G281,\"hh:mm:ss\"))))*24)","v":""}]
[null,null,null,null,null,null,null,null,null,""]
[null,null,null,null,null,null,null,null,null,""]
[null,null,null,null,null,null,null,null,null,""]
[null,null,null,null,null,null,null,null,null,""]
[null,null,null,null,null,null,null,null,null,""]
[null,null,null,null,null,null,null,null,null,""]
[null,null,null,null,null,null,null,null,null,""]
[null,null,null,null,null,null,null,null,null,""]
[null,null,null,null,null,null,null,null,null,""]
[null,null,null,null,null,null,null,null,null,""]
[null,null,null,null,null,null,null,null,null,""]
[null,null,null,null,null,null,null,null,null,""]
[null,null,null,null,null,null,null,null,null,""]
[null,null,null,null,null,null,null,null,null,""]
[null,null,null,null,null,null,null,null,null,""]
[null,null,null,null,null,null,null,null,null,""]
[null,null,null,null,null,null,null,null,null,""]
[null,null,null,null,null,null,null,null,null,""]
[null,null,null,null,null,null,null,null,null,""]
[null,null,null,null,null,null,null,null,null,""]
[null,null,null,null,null,null,null,null,null,""]
[null,null,null,null,null,null,null,null,null,""]
[null,null,null,null,null,null,null,null,null,""]
[null,null,null,null,null,null,null,null,null,""]
[null,null,null,null,null,null,null,null,null,""]
[null,null,null,null,null,null,null,null,null,""]
[null,null,null,null,null,null,null,null,null,""]
[null,null,null,null,null,null,null,null,null,""]
[null,null,null,null,null,null,null,null,null,""]
[null,null,null,null,null,null,null,null,null,""]
[null,null,null,null,null,null,null,null,null,""]
[null,null,null,null,null,null,null,null,null,""]
[null,null,null,null,null,null,null,null,null,""]
[null,null,null,null,null,null,null,null,null,""]
[null,null,null,null,null,null,null,null,null,""]
[null,null,null,null,null,null,null,null,null,""]
[null,null,null,null,null,null,null,null,null,""]
[null,null,null,null,null,null,null,null,null,""]
[null,null,null,null,null,null,null,null,null,""]
[null,null,null,null,null,null,null,null,null,""]
[null,null,null,null,null,null,null,null,null,""]
[null,null,null,null,null,null,null,null,null,""]
[null,null,null,null,null,null,null,null,null,""]
[null,null,null,null,null,null,null,null,null,""]
[null,null,null,null,null,null,null,null,null,""]
[null,null,null,null,null,null,null,null,null,""]
[null,null,null,null,null,null,null,null,null,""]
[null,null,null,null,null,null,null,null,null,""]
[null,null,null,null,null,null,null,null,null,""]
[null,null,null,null,null,null,null,null,null,""]
[null,null,null,null,null,null,null,null,null,""]
[null,null,null,null,null,null,null,null,null,""]
[null,null,null,null,null,null,null,null,null,""]
[null,null,null,null,null,null,null,null,null,""]
[null,null,null,null,null,null,null,null,null,""]
[null,null,null,null,null,null,null,null,null,""]
[null,null,null,null,null,null,null,null,null,""]
[null,null,null,null,null,null,null,null,null,""]
[null,null,null,null,null,null,null,null,null,""]
[null,null,null,null,null,null,null,null,null,""]
[null,null,null,null,null,null,null,null,null,""]
[null,null,null,null,null,null,null,null,null,""]
[null,null,null,null,null,null,null,null,null,""]
[null,null,null,null,null,null,null,null,null,{"$f":"IF(I345=\"\",\"\",(VALUE(TEXT(H345,\"m/dd/yy \")&TEXT(I345,\"hh:mm:ss\"))-(VALUE(TEXT(F345,\"m/dd/yy \")&TEXT(G345,\"hh:mm:ss\"))))*24)","v":""}]
[null,null,null,null,null,null,null,null,null,""]
[null,null,null,null,null,null,null,null,null,""]
[null,null,null,null,null,null,null,null,null,""]
[null,null,null,null,null,null,null,null,null,""]
[null,null,null,null,null,null,null,null,null,""]
[null,null,null,null,null,null,null,null,null,""]
[null,null,null,null,null,null,null,null,null,""]
[null,null,null,null,null,null,null,null,null,""]
[null,null,null,null,null,null,null,null,null,""]
[null,null,null,null,null,null,null,null,null,""]
[null,null,null,null,null,null,null,null,null,""]
[null,null,null,null,null,null,null,null,null,""]
[null,null,null,null,null,null,null,null,null,""]
[null,null,null,null,null,null,null,null,null,""]
[null,null,null,null,null,null,null,null,null,""]
[null,null,null,null,null,null,null,null,null,""]
[null,null,null,null,null,null,null,null,null,""]
[null,null,null,null,null,null,null,null,null,""]
[null,null,null,null,null,null,null,null,null,""]
[null,null,null,null,null,null,null,null,null,""]
[null,null,null,null,null,null,null,null,null,""]
[null,null,null,null,null,null,null,null,null,""]
[null,null,null,null,null,null,null,null,null,""]
[null,null,null,null,null,null,null,null,null,""]
[null,null,null,null,null,null,null,null,null,""]
[null,null,null,null,null,null,null,null,null,""]
[null,null,null,null,null,null,null,null,null,""]
[null,null,null,null,null,null,null,null,null,""]
[null,null,null,null,null,null,null,null,null,""]
[null,null,null,null,null,null,null,null,null,""]
[null,null,null,null,null,null,null,null,null,""]
[null,null,null,null,null,null,null,null,null,""]
[null,null,null,null,null,null,null,null,null,""]
[null,null,null,null,null,null,null,null,null,""]
[null,null,null,null,null,null,null,null,null,""]
[null,null,null,null,null,null,null,null,null,""]
[null,null,null,null,null,null,null,null,null,""]
[null,null,null,null,null,null,null,null,null,""]
[null,null,null,null,null,null,null,null,null,""]
[null,null,null,null,null,null,null,null,null,""]
[null,null,null,null,null,null,null,null,null,""]
[null,null,null,null,null,null,null,null,null,""]
[null,null,null,null,null,null,null,null,null,""]
[null,null,null,null,null,null,null,null,null,""]
[null,null,null,null,null,null,null,null,null,""]
[null,null,null,null,null,null,null,null,null,""]
[null,null,null,null,null,null,null,null,null,""]
[null,null,null,null,null,null,null,null,null,""]
[null,null,null,null,null,null,null,null,null,""]
[null,null,null,null,null,null,null,null,null,""]
[null,null,null,null,null,null,null,null,null,""]
[null,null,null,null,null,null,null,null,null,""]
[null,null,null,null,null,null,null,null,null,""]
[null,null,null,null,null,null,null,null,null,""]
[null,null,null,null,null,null,null,null,null,""]
[null,null,null,null,null,null,null,null,null,""]
[null,null,null,null,null,null,null,null,null,""]
[null,null,null,null,null,null,null,null,null,""]
[null,null,null,null,null,null,null,null,null,""]
[null,null,null,null,null,null,null,null,null,""]
[null,null,null,null,null,null,null,null,null,""]
[null,null,null,null,null,null,null,null,null,""]
[null,null,null,null,null,null,null,null,null,""]
[null,null,null,null,null,null,null,null,null,{"$f":"IF(I409=\"\",\"\",(VALUE(TEXT(H409,\"m/dd/yy \")&TEXT(I409,\"hh:mm:ss\"))-(VALUE(TEXT(F409,\"m/dd/yy \")&TEXT(G409,\"hh:mm:ss\"))))*24)","v":""}]
[null,null,null,null,null,null,null,null,null,""]
[null,null,null,null,null,null,null,null,null,""]
[null,null,null,null,null,null,null,null,null,""]
[null,null,null,null,null,null,null,null,null,""]
[null,null,null,null,null,null,null,null,null,""]
[null,null,null,null,null,null,null,null,null,""]
[null,null,null,null,null,null,null,null,null,""]
[null,null,null,null,null,null,null,null,null,""]
[null,null,null,null,null,null,null,null,null,""]
[null,null,null,null,null,null,null,null,null,""]
[null,null,null,null,null,null,null,null,null,""]
[null,null,null,null,null,null,null,null,null,""]
[null,null,null,null,null,null,null,null,null,""]
[null,null,null,null,null,null,null,null,null,""]
[null,null,null,null,null,null,null,null,null,""]
[null,null,null,null,null,null,null,null,null,""]
[null,null,null,null,null,null,null,null,null,""]
[null,null,null,null,null,null,null,null,null,""]
[null,null,null,null,null,null,null,null,null,""]
[null,null,null,null,null,null,null,null,null,""]
[null,null,null,null,null,null,null,null,null,""]
[null,null,null,null,null,null,null,null,null,""]
[null,null,null,null,null,null,null,null,null,""]
[null,null,null,null,null,null,null,null,null,""]
[null,null,null,null,null,null,null,null,null,""]
[null,null,null,null,null,null,null,null,null,""]
[null,null,null,null,null,null,null,null,null,""]
[null,null,null,null,null,null,null,null,null,""]
[null,null,null,null,null,null,null,null,null,""]
[null,null,null,null,null,null,null,null,null,""]
[null,null,null,null,null,null,null,null,null,""]
[null,null,null,null,null,null,null,null,null,""]
[null,null,null,null,null,null,null,null,null,""]
[null,null,null,null,null,null,null,null,null,""]
[null,null,null,null,null,null,null,null,null,""]
[null,null,null,null,null,null,null,null,null,""]
[null,null,null,null,null,null,null,null,null,""]
[null,null,null,null,null,null,null,null,null,""]
[null,null,null,null,null,null,null,null,null,""]
[null,null,null,null,null,null,null,null,null,""]
[null,null,null,null,null,null,null,null,null,""]
[null,null,null,null,null,null,null,null,null,""]
[null,null,null,null,null,null,null,null,null,""]
[null,null,null,null,null,null,null,null,null,""]
[null,null,null,null,null,null,null,null,null,""]
[null,null,null,null,null,null,null,null,null,""]
[null,null,null,null,null,null,null,null,null,""]
[null,null,null,null,null,null,null,null,null,""]
[null,null,null,null,null,null,null,null,null,""]
[null,null,null,null,null,null,null,null,null,""]
[null,null,null,null,null,null,null,null,null,""]
[null,null,null,null,null,null,null,null,null,""]
[null,null,null,null,null,null,null,null,null,""]
[null,null,null,null,null,null,null,null,null,""]
[null,null,null,null,null,null,null,null,null,""]
[null,null,null,null,null,null,null,null,null,""]
[null,null,null,null,null,null,null,null,null,""]
[null,null,null,null,null,null,null,null,null,""]
[null,null,null,null,null,null,null,null,null,""]
[null,null,null,null,null,null,null,null,null,""]
[null,null,null,null,null,null,null,null,null,""]
[null,null,null,null,null,null,null,null,null,""]
[null,null,null,null,null,null,null,null,null,""]
[null,null,null,null,null,null,null,null,null,{"$f":"IF(I473=\"\",\"\",(VALUE(TEXT(H473,\"m/dd/yy \")&TEXT(I473,\"hh:mm:ss\"))-(VALUE(TEXT(F473,\"m/dd/yy \")&TEXT(G473,\"hh:mm:ss\"))))*24)","v":""}]
[null,null,null,null,null,null,null,null,null,""]
[null,null,null,null,null,null,null,null,null,""]
[null,null,null,null,null,null,null,null,null,""]
[null,null,null,null,null,null,null,null,null,""]
[null,null,null,null,null,null,null,null,null,""]
[null,null,null,null,null,null,null,null,null,""]
[null,null,null,null,null,null,null,null,null,""]
[null,null,null,null,null,null,null,null,null,""]
[null,null,null,null,null,null,null,null,null,""]
[null,null,null,null,null,null,null,null,null,""]
[null,null,null,null,null,null,null,null,null,""]
[null,null,null,null,null,null,null,null,null,""]
[null,null,null,null,null,null,null,null,null,""]
[null,null,null,null,null,null,null,null,null,""]
[null,null,null,null,null,null,null,null,null,""]
[null,null,null,null,null,null,null,null,null,""]
[null,null,null,null,null,null,null,null,null,""]
[null,null,null,null,null,null,null,null,null,""]
[null,null,null,null,null,null,null,null,null,""]
[null,null,null,null,null,null,null,null,null,""]
[null,null,null,null,null,null,null,null,null,""]
[null,null,null,null,null,null,null,null,null,""]
[null,null,null,null,null,null,null,null,null,""]
[null,null,null,null,null,null,null,null,null,""]
[null,null,null,null,null,null,null,null,null,""]
[null,null,null,null,null,null,null,null,null,""]
[null,null,null,null,null,null,null,null,null,""]

{"sheet":"Limits_Detail","index":7,"n_rows":500,"n_cols":11,"rows_kept":500,"cut":false,"hidden":false,"merged":[]}
[null,"DO NOT REMOVE OR EDIT INFORMATION IN ROWS 1 THROUGH 5\nFOR INTERNAL USE ONLY"]
[null,"Template Name",{"$f":"+Welcome!B2","v":"63.5912 (d) Semiannual Compliance Report (Spreadsheet Template)"}]
[null,"CitationID",{"$f":"+Welcome!B3","v":"63.5912(d)"}]
[null,"Template Version",{"$f":"+Welcome!B4","v":"v1.01"}]
[null,"Last Updated Date",{"$f":"+Welcome!B5","v":45391}]
[null,null,null,null,"40 CFR Part 63, Subpart WWWW National Emission Standards for Hazardous Air Pollutants: Reinforced Plastic Composites Production"]
[null,"40 CFR Part 63, Subpart WWWW National Emission Standards for Hazardous Air Pollutants: Reinforced Plastic Composites Production - §63.5910(c) Semiannual Compliance Report Spreadsheet Template",null,null,"§63.5912(d) Semiannual Compliance Report Spreadsheet Template"]
[null,"\n"]
[]
[]
[]
[null,"Company Record No.  \n(Select from dropdown)","Process Unit Description \n(§63.5910(e)(9))\n(Select from dropdown)","Emission and Operating Parameter Limitations \n(§63.10(e)(3)(vi)(E))\n","Starting Date Emission Limit or Operating Parameter Limit Exceeded \n(§63.10(c)(7) or (8) and §63.5910(e)(4))","Starting Time Emission Limit or Operating Parameter Limit Exceeded \n(§63.10(c)(7) or (8) and §63.5910(e)(4))","Ending Date Emission Limit or Operating Parameter Limit Exceeded \n(§63.10(c)(7) or (8) and §63.5910(e)(4))","Ending Time Emission Limit or Operating Parameter Limit Exceeded \n(§63.10(c)(7) or (8) and §63.5910(e)(4))","Cause of Exceedance \n(§63.10(c)(10) and §63.5910(e)(4)))\n(Select from dropdown)","Corrective Action Taken \n(§63.10(c)(11) and §63.5910(e)(4))\n(Select from dropdown)","Calculated Duration (hours)\n(Calculated value used to complete Summary Report)"]
[null,"RecordId","ProcessUnitDesc","ParameterLimit","ParameterExcessStartDate","ParameterExcessStartTime","ParameterExcessEndDate","ParameterExcessEndTime","ExceedanceCause","CorrectiveAction","ParameterExcessDuration"]
[null,"e.g.: 1","e.g.: Open Molding","e.g.: Carbon Absorber Carbon Bed Temperature","e.g.: 3/2/2017","e.g.: 15:52","e.g.: 3/3/2017","e.g.: 15:00","e.g.: Other known causes","e.g.: increased natural gas service pressure","e.g.: 23.13"]
[]
[]
[]
[]
[]
[]
[]
[]
[]
[null,null,null,null,null,null,null,null,null,null,{"$f":"IF(H24=\"\",\"\",(VALUE(TEXT(G24,\"m/dd/yy \")&TEXT(H24,\"hh:mm:ss\"))-(VALUE(TEXT(E24,\"m/dd/yy \")&TEXT(F24,\"hh:mm:ss\"))))*24)","v":""}]
[null,null,null,null,null,null,null,null,null,null,{"$f":"IF(H25=\"\",\"\",(VALUE(TEXT(G25,\"m/dd/yy \")&TEXT(H25,\"hh:mm:ss\"))-(VALUE(TEXT(E25,\"m/dd/yy \")&TEXT(F25,\"hh:mm:ss\"))))*24)","v":""}]
[null,null,null,null,null,null,null,null,null,null,""]
[null,null,null,null,null,null,null,null,null,null,""]
[null,null,null,null,null,null,null,null,null,null,""]
[null,null,null,null,null,null,null,null,null,null,""]
[null,null,null,null,null,null,null,null,null,null,""]
[null,null,null,null,null,null,null,null,null,null,""]
[null,null,null,null,null,null,null,null,null,null,""]
[null,null,null,null,null,null,null,null,null,null,""]
[null,null,null,null,null,null,null,null,null,null,""]
[null,null,null,null,null,null,null,null,null,null,""]
[null,null,null,null,null,null,null,null,null,null,""]
[null,null,null,null,null,null,null,null,null,null,""]
[null,null,null,null,null,null,null,null,null,null,""]
[null,null,null,null,null,null,null,null,null,null,""]
[null,null,null,null,null,null,null,null,null,null,""]
[null,null,null,null,null,null,null,null,null,null,""]
[null,null,null,null,null,null,null,null,null,null,""]
[null,null,null,null,null,null,null,null,null,null,""]
[null,null,null,null,null,null,null,null,null,null,""]
[null,null,null,null,null,null,null,null,null,null,""]
[null,null,null,null,null,null,null,null,null,null,""]
[null,null,null,null,null,null,null,null,null,null,""]
[null,null,null,null,null,null,null,null,null,null,""]
[null,null,null,null,null,null,null,null,null,null,""]
[null,null,null,null,null,null,null,null,null,null,""]
[null,null,null,null,null,null,null,null,null,null,""]
[null,null,null,null,null,null,null,null,null,null,""]
[null,null,null,null,null,null,null,null,null,null,""]
[null,null,null,null,null,null,null,null,null,null,""]
[null,null,null,null,null,null,null,null,null,null,""]
[null,null,null,null,null,null,null,null,null,null,""]
[null,null,null,null,null,null,null,null,null,null,""]
[null,null,null,null,null,null,null,null,null,null,""]
[null,null,null,null,null,null,null,null,null,null,""]
[null,null,null,null,null,null,null,null,null,null,""]
[null,null,null,null,null,null,null,null,null,null,""]
[null,null,null,null,null,null,null,null,null,null,""]
[null,null,null,null,null,null,null,null,null,null,""]
[null,null,null,null,null,null,null,null,null,null,""]
[null,null,null,null,null,null,null,null,null,null,""]
[null,null,null,null,null,null,null,null,null,null,""]
[null,null,null,null,null,null,null,null,null,null,""]
[null,null,null,null,null,null,null,null,null,null,""]
[null,null,null,null,null,null,null,null,null,null,""]
[null,null,null,null,null,null,null,null,null,null,""]
[null,null,null,null,null,null,null,null,null,null,""]
[null,null,null,null,null,null,null,null,null,null,""]
[null,null,null,null,null,null,null,null,null,null,""]
[null,null,null,null,null,null,null,null,null,null,""]
[null,null,null,null,null,null,null,null,null,null,""]
[null,null,null,null,null,null,null,null,null,null,""]
[null,null,null,null,null,null,null,null,null,null,""]
[null,null,null,null,null,null,null,null,null,null,""]
[null,null,null,null,null,null,null,null,null,null,""]
[null,null,null,null,null,null,null,null,null,null,""]
[null,null,null,null,null,null,null,null,null,null,""]
[null,null,null,null,null,null,null,null,null,null,""]
[null,null,null,null,null,null,null,null,null,null,""]
[null,null,null,null,null,null,null,null,null,null,""]
[null,null,null,null,null,null,null,null,null,null,""]
[null,null,null,null,null,null,null,null,null,null,""]
[null,null,null,null,null,null,null,null,null,null,""]
[null,null,null,null,null,null,null,null,null,null,""]
[null,null,null,null,null,null,null,null,null,null,{"$f":"IF(H89=\"\",\"\",(VALUE(TEXT(G89,\"m/dd/yy \")&TEXT(H89,\"hh:mm:ss\"))-(VALUE(TEXT(E89,\"m/dd/yy \")&TEXT(F89,\"hh:mm:ss\"))))*24)","v":""}]
[null,null,null,null,null,null,null,null,null,null,""]
[null,null,null,null,null,null,null,null,null,null,""]
[null,null,null,null,null,null,null,null,null,null,""]
[null,null,null,null,null,null,null,null,null,null,""]
[null,null,null,null,null,null,null,null,null,null,""]
[null,null,null,null,null,null,null,null,null,null,""]
[null,null,null,null,null,null,null,null,null,null,""]
[null,null,null,null,null,null,null,null,null,null,""]
[null,null,null,null,null,null,null,null,null,null,""]
[null,null,null,null,null,null,null,null,null,null,""]
[null,null,null,null,null,null,null,null,null,null,""]
[null,null,null,null,null,null,null,null,null,null,""]
[null,null,null,null,null,null,null,null,null,null,""]
[null,null,null,null,null,null,null,null,null,null,""]
[null,null,null,null,null,null,null,null,null,null,""]
[null,null,null,null,null,null,null,null,null,null,""]
[null,null,null,null,null,null,null,null,null,null,""]
[null,null,null,null,null,null,null,null,null,null,""]
[null,null,null,null,null,null,null,null,null,null,""]
[null,null,null,null,null,null,null,null,null,null,""]
[null,null,null,null,null,null,null,null,null,null,""]
[null,null,null,null,null,null,null,null,null,null,""]
[null,null,null,null,null,null,null,null,null,null,""]
[null,null,null,null,null,null,null,null,null,null,""]
[null,null,null,null,null,null,null,null,null,null,""]
[null,null,null,null,null,null,null,null,null,null,""]
[null,null,null,null,null,null,null,null,null,null,""]
[null,null,null,null,null,null,null,null,null,null,""]
[null,null,null,null,null,null,null,null,null,null,""]
[null,null,null,null,null,null,null,null,null,null,""]
[null,null,null,null,null,null,null,null,null,null,""]
[null,null,null,null,null,null,null,null,null,null,""]
[null,null,null,null,null,null,null,null,null,null,""]
[null,null,null,null,null,null,null,null,null,null,""]
[null,null,null,null,null,null,null,null,null,null,""]
[null,null,null,null,null,null,null,null,null,null,""]
[null,null,null,null,null,null,null,null,null,null,""]
[null,null,null,null,null,null,null,null,null,null,""]
[null,null,null,null,null,null,null,null,null,null,""]
[null,null,null,null,null,null,null,null,null,null,""]
[null,null,null,null,null,null,null,null,null,null,""]
[null,null,null,null,null,null,null,null,null,null,""]
[null,null,null,null,null,null,null,null,null,null,""]
[null,null,null,null,null,null,null,null,null,null,""]
[null,null,null,null,null,null,null,null,null,null,""]
[null,null,null,null,null,null,null,null,null,null,""]
[null,null,null,null,null,null,null,null,null,null,""]
[null,null,null,null,null,null,null,null,null,null,""]
[null,null,null,null,null,null,null,null,null,null,""]
[null,null,null,null,null,null,null,null,null,null,""]
[null,null,null,null,null,null,null,null,null,null,""]
[null,null,null,null,null,null,null,null,null,null,""]
[null,null,null,null,null,null,null,null,null,null,""]
[null,null,null,null,null,null,null,null,null,null,""]
[null,null,null,null,null,null,null,null,null,null,""]
[null,null,null,null,null,null,null,null,null,null,""]
[null,null,null,null,null,null,null,null,null,null,""]
[null,null,null,null,null,null,null,null,null,null,""]
[null,null,null,null,null,null,null,null,null,null,""]
[null,null,null,null,null,null,null,null,null,null,""]
[null,null,null,null,null,null,null,null,null,null,""]
[null,null,null,null,null,null,null,null,null,null,""]
[null,null,null,null,null,null,null,null,null,null,""]
[null,null,null,null,null,null,null,null,null,null,{"$f":"IF(H153=\"\",\"\",(VALUE(TEXT(G153,\"m/dd/yy \")&TEXT(H153,\"hh:mm:ss\"))-(VALUE(TEXT(E153,\"m/dd/yy \")&TEXT(F153,\"hh:mm:ss\"))))*24)","v":""}]
[null,null,null,null,null,null,null,null,null,null,""]
[null,null,null,null,null,null,null,null,null,null,""]
[null,null,null,null,null,null,null,null,null,null,""]
[null,null,null,null,null,null,null,null,null,null,""]
[null,null,null,null,null,null,null,null,null,null,""]
[null,null,null,null,null,null,null,null,null,null,""]
[null,null,null,null,null,null,null,null,null,null,""]
[null,null,null,null,null,null,null,null,null,null,""]
[null,null,null,null,null,null,null,null,null,null,""]
[null,null,null,null,null,null,null,null,null,null,""]
[null,null,null,null,null,null,null,null,null,null,""]
[null,null,null,null,null,null,null,null,null,null,""]
[null,null,null,null,null,null,null,null,null,null,""]
[null,null,null,null,null,null,null,null,null,null,""]
[null,null,null,null,null,null,null,null,null,null,""]
[null,null,null,null,null,null,null,null,null,null,""]
[null,null,null,null,null,null,null,null,null,null,""]
[null,null,null,null,null,null,null,null,null,null,""]
[null,null,null,null,null,null,null,null,null,null,""]
[null,null,null,null,null,null,null,null,null,null,""]
[null,null,null,null,null,null,null,null,null,null,""]
[null,null,null,null,null,null,null,null,null,null,""]
[null,null,null,null,null,null,null,null,null,null,""]
[null,null,null,null,null,null,null,null,null,null,""]
[null,null,null,null,null,null,null,null,null,null,""]
[null,null,null,null,null,null,null,null,null,null,""]
[null,null,null,null,null,null,null,null,null,null,""]
[null,null,null,null,null,null,null,null,null,null,""]
[null,null,null,null,null,null,null,null,null,null,""]
[null,null,null,null,null,null,null,null,null,null,""]
[null,null,null,null,null,null,null,null,null,null,""]
[null,null,null,null,null,null,null,null,null,null,""]
[null,null,null,null,null,null,null,null,null,null,""]
[null,null,null,null,null,null,null,null,null,null,""]
[null,null,null,null,null,null,null,null,null,null,""]
[null,null,null,null,null,null,null,null,null,null,""]
[null,null,null,null,null,null,null,null,null,null,""]
[null,null,null,null,null,null,null,null,null,null,""]
[null,null,null,null,null,null,null,null,null,null,""]
[null,null,null,null,null,null,null,null,null,null,""]
[null,null,null,null,null,null,null,null,null,null,""]
[null,null,null,null,null,null,null,null,null,null,""]
[null,null,null,null,null,null,null,null,null,null,""]
[null,null,null,null,null,null,null,null,null,null,""]
[null,null,null,null,null,null,null,null,null,null,""]
[null,null,null,null,null,null,null,null,null,null,""]
[null,null,null,null,null,null,null,null,null,null,""]
[null,null,null,null,null,null,null,null,null,null,""]
[null,null,null,null,null,null,null,null,null,null,""]
[null,null,null,null,null,null,null,null,null,null,""]
[null,null,null,null,null,null,null,null,null,null,""]
[null,null,null,null,null,null,null,null,null,null,""]
[null,null,null,null,null,null,null,null,null,null,""]
[null,null,null,null,null,null,null,null,null,null,""]
[null,null,null,null,null,null,null,null,null,null,""]
[null,null,null,null,null,null,null,null,null,null,""]
[null,null,null,null,null,null,null,null,null,null,""]
[null,null,null,null,null,null,null,null,null,null,""]
[null,null,null,null,null,null,null,null,null,null,""]
[null,null,null,null,null,null,null,null,null,null,""]
[null,null,null,null,null,null,null,null,null,null,""]
[null,null,null,null,null,null,null,null,null,null,""]
[null,null,null,null,null,null,null,null,null,null,""]
[null,null,null,null,null,null,null,null,null,null,{"$f":"IF(H217=\"\",\"\",(VALUE(TEXT(G217,\"m/dd/yy \")&TEXT(H217,\"hh:mm:ss\"))-(VALUE(TEXT(E217,\"m/dd/yy \")&TEXT(F217,\"hh:mm:ss\"))))*24)","v":""}]
[null,null,null,null,null,null,null,null,null,null,""]
[null,null,null,null,null,null,null,null,null,null,""]
[null,null,null,null,null,null,null,null,null,null,""]
[null,null,null,null,null,null,null,null,null,null,""]
[null,null,null,null,null,null,null,null,null,null,""]
[null,null,null,null,null,null,null,null,null,null,""]
[null,null,null,null,null,null,null,null,null,null,""]
[null,null,null,null,null,null,null,null,null,null,""]
[null,null,null,null,null,null,null,null,null,null,""]
[null,null,null,null,null,null,null,null,null,null,""]
[null,null,null,null,null,null,null,null,null,null,""]
[null,null,null,null,null,null,null,null,null,null,""]
[null,null,null,null,null,null,null,null,null,null,""]
[null,null,null,null,null,null,null,null,null,null,""]
[null,null,null,null,null,null,null,null,null,null,""]
[null,null,null,null,null,null,null,null,null,null,""]
[null,null,null,null,null,null,null,null,null,null,""]
[null,null,null,null,null,null,null,null,null,null,""]
[null,null,null,null,null,null,null,null,null,null,""]
[null,null,null,null,null,null,null,null,null,null,""]
[null,null,null,null,null,null,null,null,null,null,""]
[null,null,null,null,null,null,null,null,null,null,""]
[null,null,null,null,null,null,null,null,null,null,""]
[null,null,null,null,null,null,null,null,null,null,""]
[null,null,null,null,null,null,null,null,null,null,""]
[null,null,null,null,null,null,null,null,null,null,""]
[null,null,null,null,null,null,null,null,null,null,""]
[null,null,null,null,null,null,null,null,null,null,""]
[null,null,null,null,null,null,null,null,null,null,""]
[null,null,null,null,null,null,null,null,null,null,""]
[null,null,null,null,null,null,null,null,null,null,""]
[null,null,null,null,null,null,null,null,null,null,""]
[null,null,null,null,null,null,null,null,null,null,""]
[null,null,null,null,null,null,null,null,null,null,""]
[null,null,null,null,null,null,null,null,null,null,""]
[null,null,null,null,null,null,null,null,null,null,""]
[null,null,null,null,null,null,null,null,null,null,""]
[null,null,null,null,null,null,null,null,null,null,""]
[null,null,null,null,null,null,null,null,null,null,""]
[null,null,null,null,null,null,null,null,null,null,""]
[null,null,null,null,null,null,null,null,null,null,""]
[null,null,null,null,null,null,null,null,null,null,""]
[null,null,null,null,null,null,null,null,null,null,""]
[null,null,null,null,null,null,null,null,null,null,""]
[null,null,null,null,null,null,null,null,null,null,""]
[null,null,null,null,null,null,null,null,null,null,""]
[null,null,null,null,null,null,null,null,null,null,""]
[null,null,null,null,null,null,null,null,null,null,""]
[null,null,null,null,null,null,null,null,null,null,""]
[null,null,null,null,null,null,null,null,null,null,""]
[null,null,null,null,null,null,null,null,null,null,""]
[null,null,null,null,null,null,null,null,null,null,""]
[null,null,null,null,null,null,null,null,null,null,""]
[null,null,null,null,null,null,null,null,null,null,""]
[null,null,null,null,null,null,null,null,null,null,""]
[null,null,null,null,null,null,null,null,null,null,""]
[null,null,null,null,null,null,null,null,null,null,""]
[null,null,null,null,null,null,null,null,null,null,""]
[null,null,null,null,null,null,null,null,null,null,""]
[null,null,null,null,null,null,null,null,null,null,""]
[null,null,null,null,null,null,null,null,null,null,""]
[null,null,null,null,null,null,null,null,null,null,""]
[null,null,null,null,null,null,null,null,null,null,""]
[null,null,null,null,null,null,null,null,null,null,{"$f":"IF(H281=\"\",\"\",(VALUE(TEXT(G281,\"m/dd/yy \")&TEXT(H281,\"hh:mm:ss\"))-(VALUE(TEXT(E281,\"m/dd/yy \")&TEXT(F281,\"hh:mm:ss\"))))*24)","v":""}]
[null,null,null,null,null,null,null,null,null,null,""]
[null,null,null,null,null,null,null,null,null,null,""]
[null,null,null,null,null,null,null,null,null,null,""]
[null,null,null,null,null,null,null,null,null,null,""]
[null,null,null,null,null,null,null,null,null,null,""]
[null,null,null,null,null,null,null,null,null,null,""]
[null,null,null,null,null,null,null,null,null,null,""]
[null,null,null,null,null,null,null,null,null,null,""]
[null,null,null,null,null,null,null,null,null,null,""]
[null,null,null,null,null,null,null,null,null,null,""]
[null,null,null,null,null,null,null,null,null,null,""]
[null,null,null,null,null,null,null,null,null,null,""]
[null,null,null,null,null,null,null,null,null,null,""]
[null,null,null,null,null,null,null,null,null,null,""]
[null,null,null,null,null,null,null,null,null,null,""]
[null,null,null,null,null,null,null,null,null,null,""]
[null,null,null,null,null,null,null,null,null,null,""]
[null,null,null,null,null,null,null,null,null,null,""]
[null,null,null,null,null,null,null,null,null,null,""]
[null,null,null,null,null,null,null,null,null,null,""]
[null,null,null,null,null,null,null,null,null,null,""]
[null,null,null,null,null,null,null,null,null,null,""]
[null,null,null,null,null,null,null,null,null,null,""]
[null,null,null,null,null,null,null,null,null,null,""]
[null,null,null,null,null,null,null,null,null,null,""]
[null,null,null,null,null,null,null,null,null,null,""]
[null,null,null,null,null,null,null,null,null,null,""]
[null,null,null,null,null,null,null,null,null,null,""]
[null,null,null,null,null,null,null,null,null,null,""]
[null,null,null,null,null,null,null,null,null,null,""]
[null,null,null,null,null,null,null,null,null,null,""]
[null,null,null,null,null,null,null,null,null,null,""]
[null,null,null,null,null,null,null,null,null,null,""]
[null,null,null,null,null,null,null,null,null,null,""]
[null,null,null,null,null,null,null,null,null,null,""]
[null,null,null,null,null,null,null,null,null,null,""]
[null,null,null,null,null,null,null,null,null,null,""]
[null,null,null,null,null,null,null,null,null,null,""]
[null,null,null,null,null,null,null,null,null,null,""]
[null,null,null,null,null,null,null,null,null,null,""]
[null,null,null,null,null,null,null,null,null,null,""]
[null,null,null,null,null,null,null,null,null,null,""]
[null,null,null,null,null,null,null,null,null,null,""]
[null,null,null,null,null,null,null,null,null,null,""]
[null,null,null,null,null,null,null,null,null,null,""]
[null,null,null,null,null,null,null,null,null,null,""]
[null,null,null,null,null,null,null,null,null,null,""]
[null,null,null,null,null,null,null,null,null,null,""]
[null,null,null,null,null,null,null,null,null,null,""]
[null,null,null,null,null,null,null,null,null,null,""]
[null,null,null,null,null,null,null,null,null,null,""]
[null,null,null,null,null,null,null,null,null,null,""]
[null,null,null,null,null,null,null,null,null,null,""]
[null,null,null,null,null,null,null,null,null,null,""]
[null,null,null,null,null,null,null,null,null,null,""]
[null,null,null,null,null,null,null,null,null,null,""]
[null,null,null,null,null,null,null,null,null,null,""]
[null,null,null,null,null,null,null,null,null,null,""]
[null,null,null,null,null,null,null,null,null,null,""]
[null,null,null,null,null,null,null,null,null,null,""]
[null,null,null,null,null,null,null,null,null,null,""]
[null,null,null,null,null,null,null,null,null,null,""]
[null,null,null,null,null,null,null,null,null,null,""]
[null,null,null,null,null,null,null,null,null,null,{"$f":"IF(H345=\"\",\"\",(VALUE(TEXT(G345,\"m/dd/yy \")&TEXT(H345,\"hh:mm:ss\"))-(VALUE(TEXT(E345,\"m/dd/yy \")&TEXT(F345,\"hh:mm:ss\"))))*24)","v":""}]
[null,null,null,null,null,null,null,null,null,null,""]
[null,null,null,null,null,null,null,null,null,null,""]
[null,null,null,null,null,null,null,null,null,null,""]
[null,null,null,null,null,null,null,null,null,null,""]
[null,null,null,null,null,null,null,null,null,null,""]
[null,null,null,null,null,null,null,null,null,null,""]
[null,null,null,null,null,null,null,null,null,null,""]
[null,null,null,null,null,null,null,null,null,null,""]
[null,null,null,null,null,null,null,null,null,null,""]
[null,null,null,null,null,null,null,null,null,null,""]
[null,null,null,null,null,null,null,null,null,null,""]
[null,null,null,null,null,null,null,null,null,null,""]
[null,null,null,null,null,null,null,null,null,null,""]
[null,null,null,null,null,null,null,null,null,null,""]
[null,null,null,null,null,null,null,null,null,null,""]
[null,null,null,null,null,null,null,null,null,null,""]
[null,null,null,null,null,null,null,null,null,null,""]
[null,null,null,null,null,null,null,null,null,null,""]
[null,null,null,null,null,null,null,null,null,null,""]
[null,null,null,null,null,null,null,null,null,null,""]
[null,null,null,null,null,null,null,null,null,null,""]
[null,null,null,null,null,null,null,null,null,null,""]
[null,null,null,null,null,null,null,null,null,null,""]
[null,null,null,null,null,null,null,null,null,null,""]
[null,null,null,null,null,null,null,null,null,null,""]
[null,null,null,null,null,null,null,null,null,null,""]
[null,null,null,null,null,null,null,null,null,null,""]
[null,null,null,null,null,null,null,null,null,null,""]
[null,null,null,null,null,null,null,null,null,null,""]
[null,null,null,null,null,null,null,null,null,null,""]
[null,null,null,null,null,null,null,null,null,null,""]
[null,null,null,null,null,null,null,null,null,null,""]
[null,null,null,null,null,null,null,null,null,null,""]
[null,null,null,null,null,null,null,null,null,null,""]
[null,null,null,null,null,null,null,null,null,null,""]
[null,null,null,null,null,null,null,null,null,null,""]
[null,null,null,null,null,null,null,null,null,null,""]
[null,null,null,null,null,null,null,null,null,null,""]
[null,null,null,null,null,null,null,null,null,null,""]
[null,null,null,null,null,null,null,null,null,null,""]
[null,null,null,null,null,null,null,null,null,null,""]
[null,null,null,null,null,null,null,null,null,null,""]
[null,null,null,null,null,null,null,null,null,null,""]
[null,null,null,null,null,null,null,null,null,null,""]
[null,null,null,null,null,null,null,null,null,null,""]
[null,null,null,null,null,null,null,null,null,null,""]
[null,null,null,null,null,null,null,null,null,null,""]
[null,null,null,null,null,null,null,null,null,null,""]
[null,null,null,null,null,null,null,null,null,null,""]
[null,null,null,null,null,null,null,null,null,null,""]
[null,null,null,null,null,null,null,null,null,null,""]
[null,null,null,null,null,null,null,null,null,null,""]
[null,null,null,null,null,null,null,null,null,null,""]
[null,null,null,null,null,null,null,null,null,null,""]
[null,null,null,null,null,null,null,null,null,null,""]
[null,null,null,null,null,null,null,null,null,null,""]
[null,null,null,null,null,null,null,null,null,null,""]
[null,null,null,null,null,null,null,null,null,null,""]
[null,null,null,null,null,null,null,null,null,null,""]
[null,null,null,null,null,null,null,null,null,null,""]
[null,null,null,null,null,null,null,null,null,null,""]
[null,null,null,null,null,null,null,null,null,null,""]
[null,null,null,null,null,null,null,null,null,null,""]
[null,null,null,null,null,null,null,null,null,null,{"$f":"IF(H409=\"\",\"\",(VALUE(TEXT(G409,\"m/dd/yy \")&TEXT(H409,\"hh:mm:ss\"))-(VALUE(TEXT(E409,\"m/dd/yy \")&TEXT(F409,\"hh:mm:ss\"))))*24)","v":""}]
[null,null,null,null,null,null,null,null,null,null,""]
[null,null,null,null,null,null,null,null,null,null,""]
[null,null,null,null,null,null,null,null,null,null,""]
[null,null,null,null,null,null,null,null,null,null,""]
[null,null,null,null,null,null,null,null,null,null,""]
[null,null,null,null,null,null,null,null,null,null,""]
[null,null,null,null,null,null,null,null,null,null,""]
[null,null,null,null,null,null,null,null,null,null,""]
[null,null,null,null,null,null,null,null,null,null,""]
[null,null,null,null,null,null,null,null,null,null,""]
[null,null,null,null,null,null,null,null,null,null,""]
[null,null,null,null,null,null,null,null,null,null,""]
[null,null,null,null,null,null,null,null,null,null,""]
[null,null,null,null,null,null,null,null,null,null,""]
[null,null,null,null,null,null,null,null,null,null,""]
[null,null,null,null,null,null,null,null,null,null,""]
[null,null,null,null,null,null,null,null,null,null,""]
[null,null,null,null,null,null,null,null,null,null,""]
[null,null,null,null,null,null,null,null,null,null,""]
[null,null,null,null,null,null,null,null,null,null,""]
[null,null,null,null,null,null,null,null,null,null,""]
[null,null,null,null,null,null,null,null,null,null,""]
[null,null,null,null,null,null,null,null,null,null,""]
[null,null,null,null,null,null,null,null,null,null,""]
[null,null,null,null,null,null,null,null,null,null,""]
[null,null,null,null,null,null,null,null,null,null,""]
[null,null,null,null,null,null,null,null,null,null,""]
[null,null,null,null,null,null,null,null,null,null,""]
[null,null,null,null,null,null,null,null,null,null,""]
[null,null,null,null,null,null,null,null,null,null,""]
[null,null,null,null,null,null,null,null,null,null,""]
[null,null,null,null,null,null,null,null,null,null,""]
[null,null,null,null,null,null,null,null,null,null,""]
[null,null,null,null,null,null,null,null,null,null,""]
[null,null,null,null,null,null,null,null,null,null,""]
[null,null,null,null,null,null,null,null,null,null,""]
[null,null,null,null,null,null,null,null,null,null,""]
[null,null,null,null,null,null,null,null,null,null,""]
[null,null,null,null,null,null,null,null,null,null,""]
[null,null,null,null,null,null,null,null,null,null,""]
[null,null,null,null,null,null,null,null,null,null,""]
[null,null,null,null,null,null,null,null,null,null,""]
[null,null,null,null,null,null,null,null,null,null,""]
[null,null,null,null,null,null,null,null,null,null,""]
[null,null,null,null,null,null,null,null,null,null,""]
[null,null,null,null,null,null,null,null,null,null,""]
[null,null,null,null,null,null,null,null,null,null,""]
[null,null,null,null,null,null,null,null,null,null,""]
[null,null,null,null,null,null,null,null,null,null,""]
[null,null,null,null,null,null,null,null,null,null,""]
[null,null,null,null,null,null,null,null,null,null,""]
[null,null,null,null,null,null,null,null,null,null,""]
[null,null,null,null,null,null,null,null,null,null,""]
[null,null,null,null,null,null,null,null,null,null,""]
[null,null,null,null,null,null,null,null,null,null,""]
[null,null,null,null,null,null,null,null,null,null,""]
[null,null,null,null,null,null,null,null,null,null,""]
[null,null,null,null,null,null,null,null,null,null,""]
[null,null,null,null,null,null,null,null,null,null,""]
[null,null,null,null,null,null,null,null,null,null,""]
[null,null,null,null,null,null,null,null,null,null,""]
[null,null,null,null,null,null,null,null,null,null,""]
[null,null,null,null,null,null,null,null,null,null,""]
[null,null,null,null,null,null,null,null,null,null,{"$f":"IF(H473=\"\",\"\",(VALUE(TEXT(G473,\"m/dd/yy \")&TEXT(H473,\"hh:mm:ss\"))-(VALUE(TEXT(E473,\"m/dd/yy \")&TEXT(F473,\"hh:mm:ss\"))))*24)","v":""}]
[null,null,null,null,null,null,null,null,null,null,""]
[null,null,null,null,null,null,null,null,null,null,""]
[null,null,null,null,null,null,null,null,null,null,""]
[null,null,null,null,null,null,null,null,null,null,""]
[null,null,null,null,null,null,null,null,null,null,""]
[null,null,null,null,null,null,null,null,null,null,""]
[null,null,null,null,null,null,null,null,null,null,""]
[null,null,null,null,null,null,null,null,null,null,""]
[null,null,null,null,null,null,null,null,null,null,""]
[null,null,null,null,null,null,null,null,null,null,""]
[null,null,null,null,null,null,null,null,null,null,""]
[null,null,null,null,null,null,null,null,null,null,""]
[null,null,null,null,null,null,null,null,null,null,""]
[null,null,null,null,null,null,null,null,null,null,""]
[null,null,null,null,null,null,null,null,null,null,""]
[null,null,null,null,null,null,null,null,null,null,""]
[null,null,null,null,null,null,null,null,null,null,""]
[null,null,null,null,null,null,null,null,null,null,""]
[null,null,null,null,null,null,null,null,null,null,""]
[null,null,null,null,null,null,null,null,null,null,""]
[null,null,null,null,null,null,null,null,null,null,""]
[null,null,null,null,null,null,null,null,null,null,""]
[null,null,null,null,null,null,null,null,null,null,""]
[null,null,null,null,null,null,null,null,null,null,""]
[null,null,null,null,null,null,null,null,null,null,""]
[null,null,null,null,null,null,null,null,null,null,""]
[null,null,null,null,null,null,null,null,null,null,""]

{"sheet":"Summary_Report_CMS","index":8,"n_rows":100,"n_cols":12,"rows_kept":100,"cut":false,"hidden":false,"merged":[]}
[null,"DO NOT REMOVE OR EDIT INFORMATION IN ROWS 1 THROUGH 5\nFOR INTERNAL USE ONLY"]
[null,"Template Name",{"$f":"+Welcome!B2","v":"63.5912 (d) Semiannual Compliance Report (Spreadsheet Template)"}]
[null,"CitationID",{"$f":"+Welcome!B3","v":"63.5912(d)"}]
[null,"Template Version",{"$f":"+Welcome!B4","v":"v1.01"}]
[null,"Last Updated Date",{"$f":"+Welcome!B5","v":45391}]
[null,"40 CFR Part 63, Subpart WWWW National Emission Standards for Hazardous Air Pollutants: Reinforced Plastic Composites Production"]
[null,"§63.5912(d) Semiannual Compliance Report Spreadsheet Template"]
[null,"\n"]
[]
[]
[]
[null,"Company Record No. \n(Select from Dropdown)"," Process Unit Description\n(§63.5910(e)(9)) and\n(§63.10(e)(3)(vi)(D))\n(Select from Dropdown)","Brief Description of CMS/Monitoring Equipment Manufacturer and Model Number\n(§63.5910(e)(10) and §63.10(e)(3)(vi)(F))\n(Select From dropdown)","Total Source\nOperating Time \n(hours)\n(§63.10(e)(3)(vi)(H) and §63.10(c)(13)))","Total Duration of\n CMS, CEMS, or COMS\n Downtime (hours) \n(§63.10(e)(3)(vi)(J) and §63.5910(e)(7))\n(Direct import from CMS Detail)","Total Duration of\n CMS Downtime as\n a per cent of Total\n Source Operating Time \n(§63.10(e)(3)(vi)(J) and §63.5910(e)(7))\n(Calculated result)","Total Duration of\n CMS Downtime Due\n to Monitoring Equipment\n Malfunctions (hours)   \n(§63.10(e)(3)(vi)(J))\n(Direct import from CMS Detail Report)","Total Duration of\n CMS Downtime\n Due to Nonmonitoring Equipment Malfunctions (hours)  \n(§63.10(e)(3)(vi)(J))\n(Direct import from CMS Detail Report)","Total Duration of\n CMS Downtime\n Due to Quality Assurance/Quality Control Calibrations  (hours)  \n(§63.10(e)(3)(vi)(J))\n(Direct import from CMS Detail Report)","Total Duration of \nCMS Downtime \nDue to Other Known \nCauses (hours)   \n(§63.10(e)(3)(vi)(J))\n(Direct import from CMS Detail Report)","Total Duration of\n CMS Downtime \nDue to Other Unknown\n Causes (hours)   \n(§63.10(e)(3)(vi)(J))\n(Direct import from CMS Detail Report)"]
[null,"RecordId","ProcessUnitDesc","CMSDescription","TotalOperatingTime","CMSDowntimeDuration","CMSDowntimePercent","CMSDowntimeMonitoringMal","CMSDowntimeNonmonitoringMal","CMSDowntimeQuality","CMSDowntimeOtherKnown","CMSDowntimeUnknown"]
[null,"e.g.: 1","e.g.: Open Molding","e.g. Omega NB1-ICSS-14U-12","e.g.: 6240","e.g.: 0","e.g.: N/A","e.g.: 0","e.g.: 0","e.g.: 0","e.g.: 0","e.g.: 0"]
[]
[]
[]
[]
[]
[]
[]
[]
[]
[null,null,null,null,null,{"$f":"IF(E24=\"\",\"\",SUMIFS(CMS_Detail!$J$24:$J$500,CMS_Detail!$B$24:$B$500,B24,CMS_Detail!$C$24:$C$500,C24,CMS_Detail!$D$24:$D$500,D24))","v":""},{"$f":"IF($E24=\"\",\"\",IF(F24=0,\"N/A\",F24/$E24))","v":""},{"$f":"IF($E24=\"\",\"\",SUMIFS(CMS_Detail!$J$24:$J$500,CMS_Detail!$B$24:$B$500,Summary_Report_CMS!B24,CMS_Detail!$C$24:$C$500,Summary_Report_CMS!C24,CMS_Detail!$D$24:$D$500,D24,CMS_Detail!$K$24:$K$500,\"Monitoring Equipment Malfunctions\"))","v":""},{"$f":"IF($E24=\"\",\"\",SUMIFS(CMS_Detail!$J$24:$J$500,CMS_Detail!$B$24:$B$500,Summary_Report_CMS!B24,CMS_Detail!$C$24:$C$500,Summary_Report_CMS!C24,CMS_Detail!$D$24:$D$500,D24,CMS_Detail!$K$24:$K$500,\"Nonmonitoring Equipment Malfunctions\"))","v":""},{"$f":"IF($E24=\"\",\"\",SUMIFS(CMS_Detail!$J$24:$J$500,CMS_Detail!$B$24:$B$500,Summary_Report_CMS!B24,CMS_Detail!$C$24:$C$500,Summary_Report_CMS!C24,CMS_Detail!$D$24:$D$500,D24,CMS_Detail!$K$24:$K$500,\"Quality Assurance/Quality Control Calibrations\"))","v":""},{"$f":"IF($E24=\"\",\"\",SUMIFS(CMS_Detail!$J$24:$J$500,CMS_Detail!$B$24:$B$500,Summary_Report_CMS!B24,CMS_Detail!$C$24:$C$500,Summary_Report_CMS!C24,CMS_Detail!$D$24:$D$500,D24,CMS_Detail!$K$24:$K$500,\"Other Known Causes\"))","v":""},{"$f":"IF($E24=\"\",\"\",SUMIFS(CMS_Detail!$J$24:$J$500,CMS_Detail!$B$24:$B$500,Summary_Report_CMS!B24,CMS_Detail!$C$24:$C$500,Summary_Report_CMS!C24,CMS_Detail!$D$24:$D$500,D24,CMS_Detail!$K$24:$K$500,\"Other Unknown Causes\"))","v":""}]
[null,null,null,null,null,{"$f":"IF(E25=\"\",\"\",SUMIFS(CMS_Detail!$J$24:$J$500,CMS_Detail!$B$24:$B$500,B25,CMS_Detail!$C$24:$C$500,C25,CMS_Detail!$D$24:$D$500,D25))","v":""},{"$f":"IF($E25=\"\",\"\",IF(F25=0,\"N/A\",F25/$E25))","v":""},{"$f":"IF($E25=\"\",\"\",SUMIFS(CMS_Detail!$J$24:$J$500,CMS_Detail!$B$24:$B$500,Summary_Report_CMS!B25,CMS_Detail!$C$24:$C$500,Summary_Report_CMS!C25,CMS_Detail!$D$24:$D$500,D25,CMS_Detail!$K$24:$K$500,\"Monitoring Equipment Malfunctions\"))","v":""},{"$f":"IF($E25=\"\",\"\",SUMIFS(CMS_Detail!$J$24:$J$500,CMS_Detail!$B$24:$B$500,Summary_Report_CMS!B25,CMS_Detail!$C$24:$C$500,Summary_Report_CMS!C25,CMS_Detail!$D$24:$D$500,D25,CMS_Detail!$K$24:$K$500,\"Nonmonitoring Equipment Malfunctions\"))","v":""},{"$f":"IF($E25=\"\",\"\",SUMIFS(CMS_Detail!$J$24:$J$500,CMS_Detail!$B$24:$B$500,Summary_Report_CMS!B25,CMS_Detail!$C$24:$C$500,Summary_Report_CMS!C25,CMS_Detail!$D$24:$D$500,D25,CMS_Detail!$K$24:$K$500,\"Quality Assurance/Quality Control Calibrations\"))","v":""},{"$f":"IF($E25=\"\",\"\",SUMIFS(CMS_Detail!$J$24:$J$500,CMS_Detail!$B$24:$B$500,Summary_Report_CMS!B25,CMS_Detail!$C$24:$C$500,Summary_Report_CMS!C25,CMS_Detail!$D$24:$D$500,D25,CMS_Detail!$K$24:$K$500,\"Other Known Causes\"))","v":""},{"$f":"IF($E25=\"\",\"\",SUMIFS(CMS_Detail!$J$24:$J$500,CMS_Detail!$B$24:$B$500,Summary_Report_CMS!B25,CMS_Detail!$C$24:$C$500,Summary_Report_CMS!C25,CMS_Detail!$D$24:$D$500,D25,CMS_Detail!$K$24:$K$500,\"Other Unknown Causes\"))","v":""}]
[null,null,null,null,null,{"$f":"IF(E26=\"\",\"\",SUMIFS(CMS_Detail!$J$24:$J$500,CMS_Detail!$B$24:$B$500,B26,CMS_Detail!$C$24:$C$500,C26,CMS_Detail!$D$24:$D$500,D26))","v":""},"",{"$f":"IF($E26=\"\",\"\",SUMIFS(CMS_Detail!$J$24:$J$500,CMS_Detail!$B$24:$B$500,Summary_Report_CMS!B26,CMS_Detail!$C$24:$C$500,Summary_Report_CMS!C26,CMS_Detail!$D$24:$D$500,D26,CMS_Detail!$K$24:$K$500,\"Monitoring Equipment Malfunctions\"))","v":""},{"$f":"IF($E26=\"\",\"\",SUMIFS(CMS_Detail!$J$24:$J$500,CMS_Detail!$B$24:$B$500,Summary_Report_CMS!B26,CMS_Detail!$C$24:$C$500,Summary_Report_CMS!C26,CMS_Detail!$D$24:$D$500,D26,CMS_Detail!$K$24:$K$500,\"Nonmonitoring Equipment Malfunctions\"))","v":""},{"$f":"IF($E26=\"\",\"\",SUMIFS(CMS_Detail!$J$24:$J$500,CMS_Detail!$B$24:$B$500,Summary_Report_CMS!B26,CMS_Detail!$C$24:$C$500,Summary_Report_CMS!C26,CMS_Detail!$D$24:$D$500,D26,CMS_Detail!$K$24:$K$500,\"Quality Assurance/Quality Control Calibrations\"))","v":""},{"$f":"IF($E26=\"\",\"\",SUMIFS(CMS_Detail!$J$24:$J$500,CMS_Detail!$B$24:$B$500,Summary_Report_CMS!B26,CMS_Detail!$C$24:$C$500,Summary_Report_CMS!C26,CMS_Detail!$D$24:$D$500,D26,CMS_Detail!$K$24:$K$500,\"Other Known Causes\"))","v":""},{"$f":"IF($E26=\"\",\"\",SUMIFS(CMS_Detail!$J$24:$J$500,CMS_Detail!$B$24:$B$500,Summary_Report_CMS!B26,CMS_Detail!$C$24:$C$500,Summary_Report_CMS!C26,CMS_Detail!$D$24:$D$500,D26,CMS_Detail!$K$24:$K$500,\"Other Unknown Causes\"))","v":""}]
[null,null,null,null,null,{"$f":"IF(E27=\"\",\"\",SUMIFS(CMS_Detail!$J$24:$J$500,CMS_Detail!$B$24:$B$500,B27,CMS_Detail!$C$24:$C$500,C27,CMS_Detail!$D$24:$D$500,D27))","v":""},"",{"$f":"IF($E27=\"\",\"\",SUMIFS(CMS_Detail!$J$24:$J$500,CMS_Detail!$B$24:$B$500,Summary_Report_CMS!B27,CMS_Detail!$C$24:$C$500,Summary_Report_CMS!C27,CMS_Detail!$D$24:$D$500,D27,CMS_Detail!$K$24:$K$500,\"Monitoring Equipment Malfunctions\"))","v":""},{"$f":"IF($E27=\"\",\"\",SUMIFS(CMS_Detail!$J$24:$J$500,CMS_Detail!$B$24:$B$500,Summary_Report_CMS!B27,CMS_Detail!$C$24:$C$500,Summary_Report_CMS!C27,CMS_Detail!$D$24:$D$500,D27,CMS_Detail!$K$24:$K$500,\"Nonmonitoring Equipment Malfunctions\"))","v":""},{"$f":"IF($E27=\"\",\"\",SUMIFS(CMS_Detail!$J$24:$J$500,CMS_Detail!$B$24:$B$500,Summary_Report_CMS!B27,CMS_Detail!$C$24:$C$500,Summary_Report_CMS!C27,CMS_Detail!$D$24:$D$500,D27,CMS_Detail!$K$24:$K$500,\"Quality Assurance/Quality Control Calibrations\"))","v":""},{"$f":"IF($E27=\"\",\"\",SUMIFS(CMS_Detail!$J$24:$J$500,CMS_Detail!$B$24:$B$500,Summary_Report_CMS!B27,CMS_Detail!$C$24:$C$500,Summary_Report_CMS!C27,CMS_Detail!$D$24:$D$500,D27,CMS_Detail!$K$24:$K$500,\"Other Known Causes\"))","v":""},{"$f":"IF($E27=\"\",\"\",SUMIFS(CMS_Detail!$J$24:$J$500,CMS_Detail!$B$24:$B$500,Summary_Report_CMS!B27,CMS_Detail!$C$24:$C$500,Summary_Report_CMS!C27,CMS_Detail!$D$24:$D$500,D27,CMS_Detail!$K$24:$K$500,\"Other Unknown Causes\"))","v":""}]
[null,null,null,null,null,{"$f":"IF(E28=\"\",\"\",SUMIFS(CMS_Detail!$J$24:$J$500,CMS_Detail!$B$24:$B$500,B28,CMS_Detail!$C$24:$C$500,C28,CMS_Detail!$D$24:$D$500,D28))","v":""},"",{"$f":"IF($E28=\"\",\"\",SUMIFS(CMS_Detail!$J$24:$J$500,CMS_Detail!$B$24:$B$500,Summary_Report_CMS!B28,CMS_Detail!$C$24:$C$500,Summary_Report_CMS!C28,CMS_Detail!$D$24:$D$500,D28,CMS_Detail!$K$24:$K$500,\"Monitoring Equipment Malfunctions\"))","v":""},{"$f":"IF($E28=\"\",\"\",SUMIFS(CMS_Detail!$J$24:$J$500,CMS_Detail!$B$24:$B$500,Summary_Report_CMS!B28,CMS_Detail!$C$24:$C$500,Summary_Report_CMS!C28,CMS_Detail!$D$24:$D$500,D28,CMS_Detail!$K$24:$K$500,\"Nonmonitoring Equipment Malfunctions\"))","v":""},{"$f":"IF($E28=\"\",\"\",SUMIFS(CMS_Detail!$J$24:$J$500,CMS_Detail!$B$24:$B$500,Summary_Report_CMS!B28,CMS_Detail!$C$24:$C$500,Summary_Report_CMS!C28,CMS_Detail!$D$24:$D$500,D28,CMS_Detail!$K$24:$K$500,\"Quality Assurance/Quality Control Calibrations\"))","v":""},{"$f":"IF($E28=\"\",\"\",SUMIFS(CMS_Detail!$J$24:$J$500,CMS_Detail!$B$24:$B$500,Summary_Report_CMS!B28,CMS_Detail!$C$24:$C$500,Summary_Report_CMS!C28,CMS_Detail!$D$24:$D$500,D28,CMS_Detail!$K$24:$K$500,\"Other Known Causes\"))","v":""},{"$f":"IF($E28=\"\",\"\",SUMIFS(CMS_Detail!$J$24:$J$500,CMS_Detail!$B$24:$B$500,Summary_Report_CMS!B28,CMS_Detail!$C$24:$C$500,Summary_Report_CMS!C28,CMS_Detail!$D$24:$D$500,D28,CMS_Detail!$K$24:$K$500,\"Other Unknown Causes\"))","v":""}]
[null,null,null,null,null,{"$f":"IF(E29=\"\",\"\",SUMIFS(CMS_Detail!$J$24:$J$500,CMS_Detail!$B$24:$B$500,B29,CMS_Detail!$C$24:$C$500,C29,CMS_Detail!$D$24:$D$500,D29))","v":""},"",{"$f":"IF($E29=\"\",\"\",SUMIFS(CMS_Detail!$J$24:$J$500,CMS_Detail!$B$24:$B$500,Summary_Report_CMS!B29,CMS_Detail!$C$24:$C$500,Summary_Report_CMS!C29,CMS_Detail!$D$24:$D$500,D29,CMS_Detail!$K$24:$K$500,\"Monitoring Equipment Malfunctions\"))","v":""},{"$f":"IF($E29=\"\",\"\",SUMIFS(CMS_Detail!$J$24:$J$500,CMS_Detail!$B$24:$B$500,Summary_Report_CMS!B29,CMS_Detail!$C$24:$C$500,Summary_Report_CMS!C29,CMS_Detail!$D$24:$D$500,D29,CMS_Detail!$K$24:$K$500,\"Nonmonitoring Equipment Malfunctions\"))","v":""},{"$f":"IF($E29=\"\",\"\",SUMIFS(CMS_Detail!$J$24:$J$500,CMS_Detail!$B$24:$B$500,Summary_Report_CMS!B29,CMS_Detail!$C$24:$C$500,Summary_Report_CMS!C29,CMS_Detail!$D$24:$D$500,D29,CMS_Detail!$K$24:$K$500,\"Quality Assurance/Quality Control Calibrations\"))","v":""},{"$f":"IF($E29=\"\",\"\",SUMIFS(CMS_Detail!$J$24:$J$500,CMS_Detail!$B$24:$B$500,Summary_Report_CMS!B29,CMS_Detail!$C$24:$C$500,Summary_Report_CMS!C29,CMS_Detail!$D$24:$D$500,D29,CMS_Detail!$K$24:$K$500,\"Other Known Causes\"))","v":""},{"$f":"IF($E29=\"\",\"\",SUMIFS(CMS_Detail!$J$24:$J$500,CMS_Detail!$B$24:$B$500,Summary_Report_CMS!B29,CMS_Detail!$C$24:$C$500,Summary_Report_CMS!C29,CMS_Detail!$D$24:$D$500,D29,CMS_Detail!$K$24:$K$500,\"Other Unknown Causes\"))","v":""}]
[null,null,null,null,null,{"$f":"IF(E30=\"\",\"\",SUMIFS(CMS_Detail!$J$24:$J$500,CMS_Detail!$B$24:$B$500,B30,CMS_Detail!$C$24:$C$500,C30,CMS_Detail!$D$24:$D$500,D30))","v":""},"",{"$f":"IF($E30=\"\",\"\",SUMIFS(CMS_Detail!$J$24:$J$500,CMS_Detail!$B$24:$B$500,Summary_Report_CMS!B30,CMS_Detail!$C$24:$C$500,Summary_Report_CMS!C30,CMS_Detail!$D$24:$D$500,D30,CMS_Detail!$K$24:$K$500,\"Monitoring Equipment Malfunctions\"))","v":""},{"$f":"IF($E30=\"\",\"\",SUMIFS(CMS_Detail!$J$24:$J$500,CMS_Detail!$B$24:$B$500,Summary_Report_CMS!B30,CMS_Detail!$C$24:$C$500,Summary_Report_CMS!C30,CMS_Detail!$D$24:$D$500,D30,CMS_Detail!$K$24:$K$500,\"Nonmonitoring Equipment Malfunctions\"))","v":""},{"$f":"IF($E30=\"\",\"\",SUMIFS(CMS_Detail!$J$24:$J$500,CMS_Detail!$B$24:$B$500,Summary_Report_CMS!B30,CMS_Detail!$C$24:$C$500,Summary_Report_CMS!C30,CMS_Detail!$D$24:$D$500,D30,CMS_Detail!$K$24:$K$500,\"Quality Assurance/Quality Control Calibrations\"))","v":""},{"$f":"IF($E30=\"\",\"\",SUMIFS(CMS_Detail!$J$24:$J$500,CMS_Detail!$B$24:$B$500,Summary_Report_CMS!B30,CMS_Detail!$C$24:$C$500,Summary_Report_CMS!C30,CMS_Detail!$D$24:$D$500,D30,CMS_Detail!$K$24:$K$500,\"Other Known Causes\"))","v":""},{"$f":"IF($E30=\"\",\"\",SUMIFS(CMS_Detail!$J$24:$J$500,CMS_Detail!$B$24:$B$500,Summary_Report_CMS!B30,CMS_Detail!$C$24:$C$500,Summary_Report_CMS!C30,CMS_Detail!$D$24:$D$500,D30,CMS_Detail!$K$24:$K$500,\"Other Unknown Causes\"))","v":""}]
[null,null,null,null,null,{"$f":"IF(E31=\"\",\"\",SUMIFS(CMS_Detail!$J$24:$J$500,CMS_Detail!$B$24:$B$500,B31,CMS_Detail!$C$24:$C$500,C31,CMS_Detail!$D$24:$D$500,D31))","v":""},"",{"$f":"IF($E31=\"\",\"\",SUMIFS(CMS_Detail!$J$24:$J$500,CMS_Detail!$B$24:$B$500,Summary_Report_CMS!B31,CMS_Detail!$C$24:$C$500,Summary_Report_CMS!C31,CMS_Detail!$D$24:$D$500,D31,CMS_Detail!$K$24:$K$500,\"Monitoring Equipment Malfunctions\"))","v":""},{"$f":"IF($E31=\"\",\"\",SUMIFS(CMS_Detail!$J$24:$J$500,CMS_Detail!$B$24:$B$500,Summary_Report_CMS!B31,CMS_Detail!$C$24:$C$500,Summary_Report_CMS!C31,CMS_Detail!$D$24:$D$500,D31,CMS_Detail!$K$24:$K$500,\"Nonmonitoring Equipment Malfunctions\"))","v":""},{"$f":"IF($E31=\"\",\"\",SUMIFS(CMS_Detail!$J$24:$J$500,CMS_Detail!$B$24:$B$500,Summary_Report_CMS!B31,CMS_Detail!$C$24:$C$500,Summary_Report_CMS!C31,CMS_Detail!$D$24:$D$500,D31,CMS_Detail!$K$24:$K$500,\"Quality Assurance/Quality Control Calibrations\"))","v":""},{"$f":"IF($E31=\"\",\"\",SUMIFS(CMS_Detail!$J$24:$J$500,CMS_Detail!$B$24:$B$500,Summary_Report_CMS!B31,CMS_Detail!$C$24:$C$500,Summary_Report_CMS!C31,CMS_Detail!$D$24:$D$500,D31,CMS_Detail!$K$24:$K$500,\"Other Known Causes\"))","v":""},{"$f":"IF($E31=\"\",\"\",SUMIFS(CMS_Detail!$J$24:$J$500,CMS_Detail!$B$24:$B$500,Summary_Report_CMS!B31,CMS_Detail!$C$24:$C$500,Summary_Report_CMS!C31,CMS_Detail!$D$24:$D$500,D31,CMS_Detail!$K$24:$K$500,\"Other Unknown Causes\"))","v":""}]
[null,null,null,null,null,{"$f":"IF(E32=\"\",\"\",SUMIFS(CMS_Detail!$J$24:$J$500,CMS_Detail!$B$24:$B$500,B32,CMS_Detail!$C$24:$C$500,C32,CMS_Detail!$D$24:$D$500,D32))","v":""},"",{"$f":"IF($E32=\"\",\"\",SUMIFS(CMS_Detail!$J$24:$J$500,CMS_Detail!$B$24:$B$500,Summary_Report_CMS!B32,CMS_Detail!$C$24:$C$500,Summary_Report_CMS!C32,CMS_Detail!$D$24:$D$500,D32,CMS_Detail!$K$24:$K$500,\"Monitoring Equipment Malfunctions\"))","v":""},{"$f":"IF($E32=\"\",\"\",SUMIFS(CMS_Detail!$J$24:$J$500,CMS_Detail!$B$24:$B$500,Summary_Report_CMS!B32,CMS_Detail!$C$24:$C$500,Summary_Report_CMS!C32,CMS_Detail!$D$24:$D$500,D32,CMS_Detail!$K$24:$K$500,\"Nonmonitoring Equipment Malfunctions\"))","v":""},{"$f":"IF($E32=\"\",\"\",SUMIFS(CMS_Detail!$J$24:$J$500,CMS_Detail!$B$24:$B$500,Summary_Report_CMS!B32,CMS_Detail!$C$24:$C$500,Summary_Report_CMS!C32,CMS_Detail!$D$24:$D$500,D32,CMS_Detail!$K$24:$K$500,\"Quality Assurance/Quality Control Calibrations\"))","v":""},{"$f":"IF($E32=\"\",\"\",SUMIFS(CMS_Detail!$J$24:$J$500,CMS_Detail!$B$24:$B$500,Summary_Report_CMS!B32,CMS_Detail!$C$24:$C$500,Summary_Report_CMS!C32,CMS_Detail!$D$24:$D$500,D32,CMS_Detail!$K$24:$K$500,\"Other Known Causes\"))","v":""},{"$f":"IF($E32=\"\",\"\",SUMIFS(CMS_Detail!$J$24:$J$500,CMS_Detail!$B$24:$B$500,Summary_Report_CMS!B32,CMS_Detail!$C$24:$C$500,Summary_Report_CMS!C32,CMS_Detail!$D$24:$D$500,D32,CMS_Detail!$K$24:$K$500,\"Other Unknown Causes\"))","v":""}]
[null,null,null,null,null,{"$f":"IF(E33=\"\",\"\",SUMIFS(CMS_Detail!$J$24:$J$500,CMS_Detail!$B$24:$B$500,B33,CMS_Detail!$C$24:$C$500,C33,CMS_Detail!$D$24:$D$500,D33))","v":""},"",{"$f":"IF($E33=\"\",\"\",SUMIFS(CMS_Detail!$J$24:$J$500,CMS_Detail!$B$24:$B$500,Summary_Report_CMS!B33,CMS_Detail!$C$24:$C$500,Summary_Report_CMS!C33,CMS_Detail!$D$24:$D$500,D33,CMS_Detail!$K$24:$K$500,\"Monitoring Equipment Malfunctions\"))","v":""},{"$f":"IF($E33=\"\",\"\",SUMIFS(CMS_Detail!$J$24:$J$500,CMS_Detail!$B$24:$B$500,Summary_Report_CMS!B33,CMS_Detail!$C$24:$C$500,Summary_Report_CMS!C33,CMS_Detail!$D$24:$D$500,D33,CMS_Detail!$K$24:$K$500,\"Nonmonitoring Equipment Malfunctions\"))","v":""},{"$f":"IF($E33=\"\",\"\",SUMIFS(CMS_Detail!$J$24:$J$500,CMS_Detail!$B$24:$B$500,Summary_Report_CMS!B33,CMS_Detail!$C$24:$C$500,Summary_Report_CMS!C33,CMS_Detail!$D$24:$D$500,D33,CMS_Detail!$K$24:$K$500,\"Quality Assurance/Quality Control Calibrations\"))","v":""},{"$f":"IF($E33=\"\",\"\",SUMIFS(CMS_Detail!$J$24:$J$500,CMS_Detail!$B$24:$B$500,Summary_Report_CMS!B33,CMS_Detail!$C$24:$C$500,Summary_Report_CMS!C33,CMS_Detail!$D$24:$D$500,D33,CMS_Detail!$K$24:$K$500,\"Other Known Causes\"))","v":""},{"$f":"IF($E33=\"\",\"\",SUMIFS(CMS_Detail!$J$24:$J$500,CMS_Detail!$B$24:$B$500,Summary_Report_CMS!B33,CMS_Detail!$C$24:$C$500,Summary_Report_CMS!C33,CMS_Detail!$D$24:$D$500,D33,CMS_Detail!$K$24:$K$500,\"Other Unknown Causes\"))","v":""}]
[null,null,null,null,null,{"$f":"IF(E34=\"\",\"\",SUMIFS(CMS_Detail!$J$24:$J$500,CMS_Detail!$B$24:$B$500,B34,CMS_Detail!$C$24:$C$500,C34,CMS_Detail!$D$24:$D$500,D34))","v":""},"",{"$f":"IF($E34=\"\",\"\",SUMIFS(CMS_Detail!$J$24:$J$500,CMS_Detail!$B$24:$B$500,Summary_Report_CMS!B34,CMS_Detail!$C$24:$C$500,Summary_Report_CMS!C34,CMS_Detail!$D$24:$D$500,D34,CMS_Detail!$K$24:$K$500,\"Monitoring Equipment Malfunctions\"))","v":""},{"$f":"IF($E34=\"\",\"\",SUMIFS(CMS_Detail!$J$24:$J$500,CMS_Detail!$B$24:$B$500,Summary_Report_CMS!B34,CMS_Detail!$C$24:$C$500,Summary_Report_CMS!C34,CMS_Detail!$D$24:$D$500,D34,CMS_Detail!$K$24:$K$500,\"Nonmonitoring Equipment Malfunctions\"))","v":""},{"$f":"IF($E34=\"\",\"\",SUMIFS(CMS_Detail!$J$24:$J$500,CMS_Detail!$B$24:$B$500,Summary_Report_CMS!B34,CMS_Detail!$C$24:$C$500,Summary_Report_CMS!C34,CMS_Detail!$D$24:$D$500,D34,CMS_Detail!$K$24:$K$500,\"Quality Assurance/Quality Control Calibrations\"))","v":""},{"$f":"IF($E34=\"\",\"\",SUMIFS(CMS_Detail!$J$24:$J$500,CMS_Detail!$B$24:$B$500,Summary_Report_CMS!B34,CMS_Detail!$C$24:$C$500,Summary_Report_CMS!C34,CMS_Detail!$D$24:$D$500,D34,CMS_Detail!$K$24:$K$500,\"Other Known Causes\"))","v":""},{"$f":"IF($E34=\"\",\"\",SUMIFS(CMS_Detail!$J$24:$J$500,CMS_Detail!$B$24:$B$500,Summary_Report_CMS!B34,CMS_Detail!$C$24:$C$500,Summary_Report_CMS!C34,CMS_Detail!$D$24:$D$500,D34,CMS_Detail!$K$24:$K$500,\"Other Unknown Causes\"))","v":""}]
[null,null,null,null,null,{"$f":"IF(E35=\"\",\"\",SUMIFS(CMS_Detail!$J$24:$J$500,CMS_Detail!$B$24:$B$500,B35,CMS_Detail!$C$24:$C$500,C35,CMS_Detail!$D$24:$D$500,D35))","v":""},"",{"$f":"IF($E35=\"\",\"\",SUMIFS(CMS_Detail!$J$24:$J$500,CMS_Detail!$B$24:$B$500,Summary_Report_CMS!B35,CMS_Detail!$C$24:$C$500,Summary_Report_CMS!C35,CMS_Detail!$D$24:$D$500,D35,CMS_Detail!$K$24:$K$500,\"Monitoring Equipment Malfunctions\"))","v":""},{"$f":"IF($E35=\"\",\"\",SUMIFS(CMS_Detail!$J$24:$J$500,CMS_Detail!$B$24:$B$500,Summary_Report_CMS!B35,CMS_Detail!$C$24:$C$500,Summary_Report_CMS!C35,CMS_Detail!$D$24:$D$500,D35,CMS_Detail!$K$24:$K$500,\"Nonmonitoring Equipment Malfunctions\"))","v":""},{"$f":"IF($E35=\"\",\"\",SUMIFS(CMS_Detail!$J$24:$J$500,CMS_Detail!$B$24:$B$500,Summary_Report_CMS!B35,CMS_Detail!$C$24:$C$500,Summary_Report_CMS!C35,CMS_Detail!$D$24:$D$500,D35,CMS_Detail!$K$24:$K$500,\"Quality Assurance/Quality Control Calibrations\"))","v":""},{"$f":"IF($E35=\"\",\"\",SUMIFS(CMS_Detail!$J$24:$J$500,CMS_Detail!$B$24:$B$500,Summary_Report_CMS!B35,CMS_Detail!$C$24:$C$500,Summary_Report_CMS!C35,CMS_Detail!$D$24:$D$500,D35,CMS_Detail!$K$24:$K$500,\"Other Known Causes\"))","v":""},{"$f":"IF($E35=\"\",\"\",SUMIFS(CMS_Detail!$J$24:$J$500,CMS_Detail!$B$24:$B$500,Summary_Report_CMS!B35,CMS_Detail!$C$24:$C$500,Summary_Report_CMS!C35,CMS_Detail!$D$24:$D$500,D35,CMS_Detail!$K$24:$K$500,\"Other Unknown Causes\"))","v":""}]
[null,null,null,null,null,{"$f":"IF(E36=\"\",\"\",SUMIFS(CMS_Detail!$J$24:$J$500,CMS_Detail!$B$24:$B$500,B36,CMS_Detail!$C$24:$C$500,C36,CMS_Detail!$D$24:$D$500,D36))","v":""},"",{"$f":"IF($E36=\"\",\"\",SUMIFS(CMS_Detail!$J$24:$J$500,CMS_Detail!$B$24:$B$500,Summary_Report_CMS!B36,CMS_Detail!$C$24:$C$500,Summary_Report_CMS!C36,CMS_Detail!$D$24:$D$500,D36,CMS_Detail!$K$24:$K$500,\"Monitoring Equipment Malfunctions\"))","v":""},{"$f":"IF($E36=\"\",\"\",SUMIFS(CMS_Detail!$J$24:$J$500,CMS_Detail!$B$24:$B$500,Summary_Report_CMS!B36,CMS_Detail!$C$24:$C$500,Summary_Report_CMS!C36,CMS_Detail!$D$24:$D$500,D36,CMS_Detail!$K$24:$K$500,\"Nonmonitoring Equipment Malfunctions\"))","v":""},{"$f":"IF($E36=\"\",\"\",SUMIFS(CMS_Detail!$J$24:$J$500,CMS_Detail!$B$24:$B$500,Summary_Report_CMS!B36,CMS_Detail!$C$24:$C$500,Summary_Report_CMS!C36,CMS_Detail!$D$24:$D$500,D36,CMS_Detail!$K$24:$K$500,\"Quality Assurance/Quality Control Calibrations\"))","v":""},{"$f":"IF($E36=\"\",\"\",SUMIFS(CMS_Detail!$J$24:$J$500,CMS_Detail!$B$24:$B$500,Summary_Report_CMS!B36,CMS_Detail!$C$24:$C$500,Summary_Report_CMS!C36,CMS_Detail!$D$24:$D$500,D36,CMS_Detail!$K$24:$K$500,\"Other Known Causes\"))","v":""},{"$f":"IF($E36=\"\",\"\",SUMIFS(CMS_Detail!$J$24:$J$500,CMS_Detail!$B$24:$B$500,Summary_Report_CMS!B36,CMS_Detail!$C$24:$C$500,Summary_Report_CMS!C36,CMS_Detail!$D$24:$D$500,D36,CMS_Detail!$K$24:$K$500,\"Other Unknown Causes\"))","v":""}]
[null,null,null,null,null,{"$f":"IF(E37=\"\",\"\",SUMIFS(CMS_Detail!$J$24:$J$500,CMS_Detail!$B$24:$B$500,B37,CMS_Detail!$C$24:$C$500,C37,CMS_Detail!$D$24:$D$500,D37))","v":""},"",{"$f":"IF($E37=\"\",\"\",SUMIFS(CMS_Detail!$J$24:$J$500,CMS_Detail!$B$24:$B$500,Summary_Report_CMS!B37,CMS_Detail!$C$24:$C$500,Summary_Report_CMS!C37,CMS_Detail!$D$24:$D$500,D37,CMS_Detail!$K$24:$K$500,\"Monitoring Equipment Malfunctions\"))","v":""},{"$f":"IF($E37=\"\",\"\",SUMIFS(CMS_Detail!$J$24:$J$500,CMS_Detail!$B$24:$B$500,Summary_Report_CMS!B37,CMS_Detail!$C$24:$C$500,Summary_Report_CMS!C37,CMS_Detail!$D$24:$D$500,D37,CMS_Detail!$K$24:$K$500,\"Nonmonitoring Equipment Malfunctions\"))","v":""},{"$f":"IF($E37=\"\",\"\",SUMIFS(CMS_Detail!$J$24:$J$500,CMS_Detail!$B$24:$B$500,Summary_Report_CMS!B37,CMS_Detail!$C$24:$C$500,Summary_Report_CMS!C37,CMS_Detail!$D$24:$D$500,D37,CMS_Detail!$K$24:$K$500,\"Quality Assurance/Quality Control Calibrations\"))","v":""},{"$f":"IF($E37=\"\",\"\",SUMIFS(CMS_Detail!$J$24:$J$500,CMS_Detail!$B$24:$B$500,Summary_Report_CMS!B37,CMS_Detail!$C$24:$C$500,Summary_Report_CMS!C37,CMS_Detail!$D$24:$D$500,D37,CMS_Detail!$K$24:$K$500,\"Other Known Causes\"))","v":""},{"$f":"IF($E37=\"\",\"\",SUMIFS(CMS_Detail!$J$24:$J$500,CMS_Detail!$B$24:$B$500,Summary_Report_CMS!B37,CMS_Detail!$C$24:$C$500,Summary_Report_CMS!C37,CMS_Detail!$D$24:$D$500,D37,CMS_Detail!$K$24:$K$500,\"Other Unknown Causes\"))","v":""}]
[null,null,null,null,null,{"$f":"IF(E38=\"\",\"\",SUMIFS(CMS_Detail!$J$24:$J$500,CMS_Detail!$B$24:$B$500,B38,CMS_Detail!$C$24:$C$500,C38,CMS_Detail!$D$24:$D$500,D38))","v":""},"",{"$f":"IF($E38=\"\",\"\",SUMIFS(CMS_Detail!$J$24:$J$500,CMS_Detail!$B$24:$B$500,Summary_Report_CMS!B38,CMS_Detail!$C$24:$C$500,Summary_Report_CMS!C38,CMS_Detail!$D$24:$D$500,D38,CMS_Detail!$K$24:$K$500,\"Monitoring Equipment Malfunctions\"))","v":""},{"$f":"IF($E38=\"\",\"\",SUMIFS(CMS_Detail!$J$24:$J$500,CMS_Detail!$B$24:$B$500,Summary_Report_CMS!B38,CMS_Detail!$C$24:$C$500,Summary_Report_CMS!C38,CMS_Detail!$D$24:$D$500,D38,CMS_Detail!$K$24:$K$500,\"Nonmonitoring Equipment Malfunctions\"))","v":""},{"$f":"IF($E38=\"\",\"\",SUMIFS(CMS_Detail!$J$24:$J$500,CMS_Detail!$B$24:$B$500,Summary_Report_CMS!B38,CMS_Detail!$C$24:$C$500,Summary_Report_CMS!C38,CMS_Detail!$D$24:$D$500,D38,CMS_Detail!$K$24:$K$500,\"Quality Assurance/Quality Control Calibrations\"))","v":""},{"$f":"IF($E38=\"\",\"\",SUMIFS(CMS_Detail!$J$24:$J$500,CMS_Detail!$B$24:$B$500,Summary_Report_CMS!B38,CMS_Detail!$C$24:$C$500,Summary_Report_CMS!C38,CMS_Detail!$D$24:$D$500,D38,CMS_Detail!$K$24:$K$500,\"Other Known Causes\"))","v":""},{"$f":"IF($E38=\"\",\"\",SUMIFS(CMS_Detail!$J$24:$J$500,CMS_Detail!$B$24:$B$500,Summary_Report_CMS!B38,CMS_Detail!$C$24:$C$500,Summary_Report_CMS!C38,CMS_Detail!$D$24:$D$500,D38,CMS_Detail!$K$24:$K$500,\"Other Unknown Causes\"))","v":""}]
[null,null,null,null,null,{"$f":"IF(E39=\"\",\"\",SUMIFS(CMS_Detail!$J$24:$J$500,CMS_Detail!$B$24:$B$500,B39,CMS_Detail!$C$24:$C$500,C39,CMS_Detail!$D$24:$D$500,D39))","v":""},"",{"$f":"IF($E39=\"\",\"\",SUMIFS(CMS_Detail!$J$24:$J$500,CMS_Detail!$B$24:$B$500,Summary_Report_CMS!B39,CMS_Detail!$C$24:$C$500,Summary_Report_CMS!C39,CMS_Detail!$D$24:$D$500,D39,CMS_Detail!$K$24:$K$500,\"Monitoring Equipment Malfunctions\"))","v":""},{"$f":"IF($E39=\"\",\"\",SUMIFS(CMS_Detail!$J$24:$J$500,CMS_Detail!$B$24:$B$500,Summary_Report_CMS!B39,CMS_Detail!$C$24:$C$500,Summary_Report_CMS!C39,CMS_Detail!$D$24:$D$500,D39,CMS_Detail!$K$24:$K$500,\"Nonmonitoring Equipment Malfunctions\"))","v":""},{"$f":"IF($E39=\"\",\"\",SUMIFS(CMS_Detail!$J$24:$J$500,CMS_Detail!$B$24:$B$500,Summary_Report_CMS!B39,CMS_Detail!$C$24:$C$500,Summary_Report_CMS!C39,CMS_Detail!$D$24:$D$500,D39,CMS_Detail!$K$24:$K$500,\"Quality Assurance/Quality Control Calibrations\"))","v":""},{"$f":"IF($E39=\"\",\"\",SUMIFS(CMS_Detail!$J$24:$J$500,CMS_Detail!$B$24:$B$500,Summary_Report_CMS!B39,CMS_Detail!$C$24:$C$500,Summary_Report_CMS!C39,CMS_Detail!$D$24:$D$500,D39,CMS_Detail!$K$24:$K$500,\"Other Known Causes\"))","v":""},{"$f":"IF($E39=\"\",\"\",SUMIFS(CMS_Detail!$J$24:$J$500,CMS_Detail!$B$24:$B$500,Summary_Report_CMS!B39,CMS_Detail!$C$24:$C$500,Summary_Report_CMS!C39,CMS_Detail!$D$24:$D$500,D39,CMS_Detail!$K$24:$K$500,\"Other Unknown Causes\"))","v":""}]
[null,null,null,null,null,{"$f":"IF(E40=\"\",\"\",SUMIFS(CMS_Detail!$J$24:$J$500,CMS_Detail!$B$24:$B$500,B40,CMS_Detail!$C$24:$C$500,C40,CMS_Detail!$D$24:$D$500,D40))","v":""},"",{"$f":"IF($E40=\"\",\"\",SUMIFS(CMS_Detail!$J$24:$J$500,CMS_Detail!$B$24:$B$500,Summary_Report_CMS!B40,CMS_Detail!$C$24:$C$500,Summary_Report_CMS!C40,CMS_Detail!$D$24:$D$500,D40,CMS_Detail!$K$24:$K$500,\"Monitoring Equipment Malfunctions\"))","v":""},{"$f":"IF($E40=\"\",\"\",SUMIFS(CMS_Detail!$J$24:$J$500,CMS_Detail!$B$24:$B$500,Summary_Report_CMS!B40,CMS_Detail!$C$24:$C$500,Summary_Report_CMS!C40,CMS_Detail!$D$24:$D$500,D40,CMS_Detail!$K$24:$K$500,\"Nonmonitoring Equipment Malfunctions\"))","v":""},{"$f":"IF($E40=\"\",\"\",SUMIFS(CMS_Detail!$J$24:$J$500,CMS_Detail!$B$24:$B$500,Summary_Report_CMS!B40,CMS_Detail!$C$24:$C$500,Summary_Report_CMS!C40,CMS_Detail!$D$24:$D$500,D40,CMS_Detail!$K$24:$K$500,\"Quality Assurance/Quality Control Calibrations\"))","v":""},{"$f":"IF($E40=\"\",\"\",SUMIFS(CMS_Detail!$J$24:$J$500,CMS_Detail!$B$24:$B$500,Summary_Report_CMS!B40,CMS_Detail!$C$24:$C$500,Summary_Report_CMS!C40,CMS_Detail!$D$24:$D$500,D40,CMS_Detail!$K$24:$K$500,\"Other Known Causes\"))","v":""},{"$f":"IF($E40=\"\",\"\",SUMIFS(CMS_Detail!$J$24:$J$500,CMS_Detail!$B$24:$B$500,Summary_Report_CMS!B40,CMS_Detail!$C$24:$C$500,Summary_Report_CMS!C40,CMS_Detail!$D$24:$D$500,D40,CMS_Detail!$K$24:$K$500,\"Other Unknown Causes\"))","v":""}]
[null,null,null,null,null,{"$f":"IF(E41=\"\",\"\",SUMIFS(CMS_Detail!$J$24:$J$500,CMS_Detail!$B$24:$B$500,B41,CMS_Detail!$C$24:$C$500,C41,CMS_Detail!$D$24:$D$500,D41))","v":""},"",{"$f":"IF($E41=\"\",\"\",SUMIFS(CMS_Detail!$J$24:$J$500,CMS_Detail!$B$24:$B$500,Summary_Report_CMS!B41,CMS_Detail!$C$24:$C$500,Summary_Report_CMS!C41,CMS_Detail!$D$24:$D$500,D41,CMS_Detail!$K$24:$K$500,\"Monitoring Equipment Malfunctions\"))","v":""},{"$f":"IF($E41=\"\",\"\",SUMIFS(CMS_Detail!$J$24:$J$500,CMS_Detail!$B$24:$B$500,Summary_Report_CMS!B41,CMS_Detail!$C$24:$C$500,Summary_Report_CMS!C41,CMS_Detail!$D$24:$D$500,D41,CMS_Detail!$K$24:$K$500,\"Nonmonitoring Equipment Malfunctions\"))","v":""},{"$f":"IF($E41=\"\",\"\",SUMIFS(CMS_Detail!$J$24:$J$500,CMS_Detail!$B$24:$B$500,Summary_Report_CMS!B41,CMS_Detail!$C$24:$C$500,Summary_Report_CMS!C41,CMS_Detail!$D$24:$D$500,D41,CMS_Detail!$K$24:$K$500,\"Quality Assurance/Quality Control Calibrations\"))","v":""},{"$f":"IF($E41=\"\",\"\",SUMIFS(CMS_Detail!$J$24:$J$500,CMS_Detail!$B$24:$B$500,Summary_Report_CMS!B41,CMS_Detail!$C$24:$C$500,Summary_Report_CMS!C41,CMS_Detail!$D$24:$D$500,D41,CMS_Detail!$K$24:$K$500,\"Other Known Causes\"))","v":""},{"$f":"IF($E41=\"\",\"\",SUMIFS(CMS_Detail!$J$24:$J$500,CMS_Detail!$B$24:$B$500,Summary_Report_CMS!B41,CMS_Detail!$C$24:$C$500,Summary_Report_CMS!C41,CMS_Detail!$D$24:$D$500,D41,CMS_Detail!$K$24:$K$500,\"Other Unknown Causes\"))","v":""}]
[null,null,null,null,null,{"$f":"IF(E42=\"\",\"\",SUMIFS(CMS_Detail!$J$24:$J$500,CMS_Detail!$B$24:$B$500,B42,CMS_Detail!$C$24:$C$500,C42,CMS_Detail!$D$24:$D$500,D42))","v":""},"",{"$f":"IF($E42=\"\",\"\",SUMIFS(CMS_Detail!$J$24:$J$500,CMS_Detail!$B$24:$B$500,Summary_Report_CMS!B42,CMS_Detail!$C$24:$C$500,Summary_Report_CMS!C42,CMS_Detail!$D$24:$D$500,D42,CMS_Detail!$K$24:$K$500,\"Monitoring Equipment Malfunctions\"))","v":""},{"$f":"IF($E42=\"\",\"\",SUMIFS(CMS_Detail!$J$24:$J$500,CMS_Detail!$B$24:$B$500,Summary_Report_CMS!B42,CMS_Detail!$C$24:$C$500,Summary_Report_CMS!C42,CMS_Detail!$D$24:$D$500,D42,CMS_Detail!$K$24:$K$500,\"Nonmonitoring Equipment Malfunctions\"))","v":""},{"$f":"IF($E42=\"\",\"\",SUMIFS(CMS_Detail!$J$24:$J$500,CMS_Detail!$B$24:$B$500,Summary_Report_CMS!B42,CMS_Detail!$C$24:$C$500,Summary_Report_CMS!C42,CMS_Detail!$D$24:$D$500,D42,CMS_Detail!$K$24:$K$500,\"Quality Assurance/Quality Control Calibrations\"))","v":""},{"$f":"IF($E42=\"\",\"\",SUMIFS(CMS_Detail!$J$24:$J$500,CMS_Detail!$B$24:$B$500,Summary_Report_CMS!B42,CMS_Detail!$C$24:$C$500,Summary_Report_CMS!C42,CMS_Detail!$D$24:$D$500,D42,CMS_Detail!$K$24:$K$500,\"Other Known Causes\"))","v":""},{"$f":"IF($E42=\"\",\"\",SUMIFS(CMS_Detail!$J$24:$J$500,CMS_Detail!$B$24:$B$500,Summary_Report_CMS!B42,CMS_Detail!$C$24:$C$500,Summary_Report_CMS!C42,CMS_Detail!$D$24:$D$500,D42,CMS_Detail!$K$24:$K$500,\"Other Unknown Causes\"))","v":""}]
[null,null,null,null,null,{"$f":"IF(E43=\"\",\"\",SUMIFS(CMS_Detail!$J$24:$J$500,CMS_Detail!$B$24:$B$500,B43,CMS_Detail!$C$24:$C$500,C43,CMS_Detail!$D$24:$D$500,D43))","v":""},"",{"$f":"IF($E43=\"\",\"\",SUMIFS(CMS_Detail!$J$24:$J$500,CMS_Detail!$B$24:$B$500,Summary_Report_CMS!B43,CMS_Detail!$C$24:$C$500,Summary_Report_CMS!C43,CMS_Detail!$D$24:$D$500,D43,CMS_Detail!$K$24:$K$500,\"Monitoring Equipment Malfunctions\"))","v":""},{"$f":"IF($E43=\"\",\"\",SUMIFS(CMS_Detail!$J$24:$J$500,CMS_Detail!$B$24:$B$500,Summary_Report_CMS!B43,CMS_Detail!$C$24:$C$500,Summary_Report_CMS!C43,CMS_Detail!$D$24:$D$500,D43,CMS_Detail!$K$24:$K$500,\"Nonmonitoring Equipment Malfunctions\"))","v":""},{"$f":"IF($E43=\"\",\"\",SUMIFS(CMS_Detail!$J$24:$J$500,CMS_Detail!$B$24:$B$500,Summary_Report_CMS!B43,CMS_Detail!$C$24:$C$500,Summary_Report_CMS!C43,CMS_Detail!$D$24:$D$500,D43,CMS_Detail!$K$24:$K$500,\"Quality Assurance/Quality Control Calibrations\"))","v":""},{"$f":"IF($E43=\"\",\"\",SUMIFS(CMS_Detail!$J$24:$J$500,CMS_Detail!$B$24:$B$500,Summary_Report_CMS!B43,CMS_Detail!$C$24:$C$500,Summary_Report_CMS!C43,CMS_Detail!$D$24:$D$500,D43,CMS_Detail!$K$24:$K$500,\"Other Known Causes\"))","v":""},{"$f":"IF($E43=\"\",\"\",SUMIFS(CMS_Detail!$J$24:$J$500,CMS_Detail!$B$24:$B$500,Summary_Report_CMS!B43,CMS_Detail!$C$24:$C$500,Summary_Report_CMS!C43,CMS_Detail!$D$24:$D$500,D43,CMS_Detail!$K$24:$K$500,\"Other Unknown Causes\"))","v":""}]
[null,null,null,null,null,{"$f":"IF(E44=\"\",\"\",SUMIFS(CMS_Detail!$J$24:$J$500,CMS_Detail!$B$24:$B$500,B44,CMS_Detail!$C$24:$C$500,C44,CMS_Detail!$D$24:$D$500,D44))","v":""},"",{"$f":"IF($E44=\"\",\"\",SUMIFS(CMS_Detail!$J$24:$J$500,CMS_Detail!$B$24:$B$500,Summary_Report_CMS!B44,CMS_Detail!$C$24:$C$500,Summary_Report_CMS!C44,CMS_Detail!$D$24:$D$500,D44,CMS_Detail!$K$24:$K$500,\"Monitoring Equipment Malfunctions\"))","v":""},{"$f":"IF($E44=\"\",\"\",SUMIFS(CMS_Detail!$J$24:$J$500,CMS_Detail!$B$24:$B$500,Summary_Report_CMS!B44,CMS_Detail!$C$24:$C$500,Summary_Report_CMS!C44,CMS_Detail!$D$24:$D$500,D44,CMS_Detail!$K$24:$K$500,\"Nonmonitoring Equipment Malfunctions\"))","v":""},{"$f":"IF($E44=\"\",\"\",SUMIFS(CMS_Detail!$J$24:$J$500,CMS_Detail!$B$24:$B$500,Summary_Report_CMS!B44,CMS_Detail!$C$24:$C$500,Summary_Report_CMS!C44,CMS_Detail!$D$24:$D$500,D44,CMS_Detail!$K$24:$K$500,\"Quality Assurance/Quality Control Calibrations\"))","v":""},{"$f":"IF($E44=\"\",\"\",SUMIFS(CMS_Detail!$J$24:$J$500,CMS_Detail!$B$24:$B$500,Summary_Report_CMS!B44,CMS_Detail!$C$24:$C$500,Summary_Report_CMS!C44,CMS_Detail!$D$24:$D$500,D44,CMS_Detail!$K$24:$K$500,\"Other Known Causes\"))","v":""},{"$f":"IF($E44=\"\",\"\",SUMIFS(CMS_Detail!$J$24:$J$500,CMS_Detail!$B$24:$B$500,Summary_Report_CMS!B44,CMS_Detail!$C$24:$C$500,Summary_Report_CMS!C44,CMS_Detail!$D$24:$D$500,D44,CMS_Detail!$K$24:$K$500,\"Other Unknown Causes\"))","v":""}]
[null,null,null,null,null,{"$f":"IF(E45=\"\",\"\",SUMIFS(CMS_Detail!$J$24:$J$500,CMS_Detail!$B$24:$B$500,B45,CMS_Detail!$C$24:$C$500,C45,CMS_Detail!$D$24:$D$500,D45))","v":""},"",{"$f":"IF($E45=\"\",\"\",SUMIFS(CMS_Detail!$J$24:$J$500,CMS_Detail!$B$24:$B$500,Summary_Report_CMS!B45,CMS_Detail!$C$24:$C$500,Summary_Report_CMS!C45,CMS_Detail!$D$24:$D$500,D45,CMS_Detail!$K$24:$K$500,\"Monitoring Equipment Malfunctions\"))","v":""},{"$f":"IF($E45=\"\",\"\",SUMIFS(CMS_Detail!$J$24:$J$500,CMS_Detail!$B$24:$B$500,Summary_Report_CMS!B45,CMS_Detail!$C$24:$C$500,Summary_Report_CMS!C45,CMS_Detail!$D$24:$D$500,D45,CMS_Detail!$K$24:$K$500,\"Nonmonitoring Equipment Malfunctions\"))","v":""},{"$f":"IF($E45=\"\",\"\",SUMIFS(CMS_Detail!$J$24:$J$500,CMS_Detail!$B$24:$B$500,Summary_Report_CMS!B45,CMS_Detail!$C$24:$C$500,Summary_Report_CMS!C45,CMS_Detail!$D$24:$D$500,D45,CMS_Detail!$K$24:$K$500,\"Quality Assurance/Quality Control Calibrations\"))","v":""},{"$f":"IF($E45=\"\",\"\",SUMIFS(CMS_Detail!$J$24:$J$500,CMS_Detail!$B$24:$B$500,Summary_Report_CMS!B45,CMS_Detail!$C$24:$C$500,Summary_Report_CMS!C45,CMS_Detail!$D$24:$D$500,D45,CMS_Detail!$K$24:$K$500,\"Other Known Causes\"))","v":""},{"$f":"IF($E45=\"\",\"\",SUMIFS(CMS_Detail!$J$24:$J$500,CMS_Detail!$B$24:$B$500,Summary_Report_CMS!B45,CMS_Detail!$C$24:$C$500,Summary_Report_CMS!C45,CMS_Detail!$D$24:$D$500,D45,CMS_Detail!$K$24:$K$500,\"Other Unknown Causes\"))","v":""}]
[null,null,null,null,null,{"$f":"IF(E46=\"\",\"\",SUMIFS(CMS_Detail!$J$24:$J$500,CMS_Detail!$B$24:$B$500,B46,CMS_Detail!$C$24:$C$500,C46,CMS_Detail!$D$24:$D$500,D46))","v":""},"",{"$f":"IF($E46=\"\",\"\",SUMIFS(CMS_Detail!$J$24:$J$500,CMS_Detail!$B$24:$B$500,Summary_Report_CMS!B46,CMS_Detail!$C$24:$C$500,Summary_Report_CMS!C46,CMS_Detail!$D$24:$D$500,D46,CMS_Detail!$K$24:$K$500,\"Monitoring Equipment Malfunctions\"))","v":""},{"$f":"IF($E46=\"\",\"\",SUMIFS(CMS_Detail!$J$24:$J$500,CMS_Detail!$B$24:$B$500,Summary_Report_CMS!B46,CMS_Detail!$C$24:$C$500,Summary_Report_CMS!C46,CMS_Detail!$D$24:$D$500,D46,CMS_Detail!$K$24:$K$500,\"Nonmonitoring Equipment Malfunctions\"))","v":""},{"$f":"IF($E46=\"\",\"\",SUMIFS(CMS_Detail!$J$24:$J$500,CMS_Detail!$B$24:$B$500,Summary_Report_CMS!B46,CMS_Detail!$C$24:$C$500,Summary_Report_CMS!C46,CMS_Detail!$D$24:$D$500,D46,CMS_Detail!$K$24:$K$500,\"Quality Assurance/Quality Control Calibrations\"))","v":""},{"$f":"IF($E46=\"\",\"\",SUMIFS(CMS_Detail!$J$24:$J$500,CMS_Detail!$B$24:$B$500,Summary_Report_CMS!B46,CMS_Detail!$C$24:$C$500,Summary_Report_CMS!C46,CMS_Detail!$D$24:$D$500,D46,CMS_Detail!$K$24:$K$500,\"Other Known Causes\"))","v":""},{"$f":"IF($E46=\"\",\"\",SUMIFS(CMS_Detail!$J$24:$J$500,CMS_Detail!$B$24:$B$500,Summary_Report_CMS!B46,CMS_Detail!$C$24:$C$500,Summary_Report_CMS!C46,CMS_Detail!$D$24:$D$500,D46,CMS_Detail!$K$24:$K$500,\"Other Unknown Causes\"))","v":""}]
[null,null,null,null,null,{"$f":"IF(E47=\"\",\"\",SUMIFS(CMS_Detail!$J$24:$J$500,CMS_Detail!$B$24:$B$500,B47,CMS_Detail!$C$24:$C$500,C47,CMS_Detail!$D$24:$D$500,D47))","v":""},"",{"$f":"IF($E47=\"\",\"\",SUMIFS(CMS_Detail!$J$24:$J$500,CMS_Detail!$B$24:$B$500,Summary_Report_CMS!B47,CMS_Detail!$C$24:$C$500,Summary_Report_CMS!C47,CMS_Detail!$D$24:$D$500,D47,CMS_Detail!$K$24:$K$500,\"Monitoring Equipment Malfunctions\"))","v":""},{"$f":"IF($E47=\"\",\"\",SUMIFS(CMS_Detail!$J$24:$J$500,CMS_Detail!$B$24:$B$500,Summary_Report_CMS!B47,CMS_Detail!$C$24:$C$500,Summary_Report_CMS!C47,CMS_Detail!$D$24:$D$500,D47,CMS_Detail!$K$24:$K$500,\"Nonmonitoring Equipment Malfunctions\"))","v":""},{"$f":"IF($E47=\"\",\"\",SUMIFS(CMS_Detail!$J$24:$J$500,CMS_Detail!$B$24:$B$500,Summary_Report_CMS!B47,CMS_Detail!$C$24:$C$500,Summary_Report_CMS!C47,CMS_Detail!$D$24:$D$500,D47,CMS_Detail!$K$24:$K$500,\"Quality Assurance/Quality Control Calibrations\"))","v":""},{"$f":"IF($E47=\"\",\"\",SUMIFS(CMS_Detail!$J$24:$J$500,CMS_Detail!$B$24:$B$500,Summary_Report_CMS!B47,CMS_Detail!$C$24:$C$500,Summary_Report_CMS!C47,CMS_Detail!$D$24:$D$500,D47,CMS_Detail!$K$24:$K$500,\"Other Known Causes\"))","v":""},{"$f":"IF($E47=\"\",\"\",SUMIFS(CMS_Detail!$J$24:$J$500,CMS_Detail!$B$24:$B$500,Summary_Report_CMS!B47,CMS_Detail!$C$24:$C$500,Summary_Report_CMS!C47,CMS_Detail!$D$24:$D$500,D47,CMS_Detail!$K$24:$K$500,\"Other Unknown Causes\"))","v":""}]
[null,null,null,null,null,{"$f":"IF(E48=\"\",\"\",SUMIFS(CMS_Detail!$J$24:$J$500,CMS_Detail!$B$24:$B$500,B48,CMS_Detail!$C$24:$C$500,C48,CMS_Detail!$D$24:$D$500,D48))","v":""},"",{"$f":"IF($E48=\"\",\"\",SUMIFS(CMS_Detail!$J$24:$J$500,CMS_Detail!$B$24:$B$500,Summary_Report_CMS!B48,CMS_Detail!$C$24:$C$500,Summary_Report_CMS!C48,CMS_Detail!$D$24:$D$500,D48,CMS_Detail!$K$24:$K$500,\"Monitoring Equipment Malfunctions\"))","v":""},{"$f":"IF($E48=\"\",\"\",SUMIFS(CMS_Detail!$J$24:$J$500,CMS_Detail!$B$24:$B$500,Summary_Report_CMS!B48,CMS_Detail!$C$24:$C$500,Summary_Report_CMS!C48,CMS_Detail!$D$24:$D$500,D48,CMS_Detail!$K$24:$K$500,\"Nonmonitoring Equipment Malfunctions\"))","v":""},{"$f":"IF($E48=\"\",\"\",SUMIFS(CMS_Detail!$J$24:$J$500,CMS_Detail!$B$24:$B$500,Summary_Report_CMS!B48,CMS_Detail!$C$24:$C$500,Summary_Report_CMS!C48,CMS_Detail!$D$24:$D$500,D48,CMS_Detail!$K$24:$K$500,\"Quality Assurance/Quality Control Calibrations\"))","v":""},{"$f":"IF($E48=\"\",\"\",SUMIFS(CMS_Detail!$J$24:$J$500,CMS_Detail!$B$24:$B$500,Summary_Report_CMS!B48,CMS_Detail!$C$24:$C$500,Summary_Report_CMS!C48,CMS_Detail!$D$24:$D$500,D48,CMS_Detail!$K$24:$K$500,\"Other Known Causes\"))","v":""},{"$f":"IF($E48=\"\",\"\",SUMIFS(CMS_Detail!$J$24:$J$500,CMS_Detail!$B$24:$B$500,Summary_Report_CMS!B48,CMS_Detail!$C$24:$C$500,Summary_Report_CMS!C48,CMS_Detail!$D$24:$D$500,D48,CMS_Detail!$K$24:$K$500,\"Other Unknown Causes\"))","v":""}]
[null,null,null,null,null,{"$f":"IF(E49=\"\",\"\",SUMIFS(CMS_Detail!$J$24:$J$500,CMS_Detail!$B$24:$B$500,B49,CMS_Detail!$C$24:$C$500,C49,CMS_Detail!$D$24:$D$500,D49))","v":""},"",{"$f":"IF($E49=\"\",\"\",SUMIFS(CMS_Detail!$J$24:$J$500,CMS_Detail!$B$24:$B$500,Summary_Report_CMS!B49,CMS_Detail!$C$24:$C$500,Summary_Report_CMS!C49,CMS_Detail!$D$24:$D$500,D49,CMS_Detail!$K$24:$K$500,\"Monitoring Equipment Malfunctions\"))","v":""},{"$f":"IF($E49=\"\",\"\",SUMIFS(CMS_Detail!$J$24:$J$500,CMS_Detail!$B$24:$B$500,Summary_Report_CMS!B49,CMS_Detail!$C$24:$C$500,Summary_Report_CMS!C49,CMS_Detail!$D$24:$D$500,D49,CMS_Detail!$K$24:$K$500,\"Nonmonitoring Equipment Malfunctions\"))","v":""},{"$f":"IF($E49=\"\",\"\",SUMIFS(CMS_Detail!$J$24:$J$500,CMS_Detail!$B$24:$B$500,Summary_Report_CMS!B49,CMS_Detail!$C$24:$C$500,Summary_Report_CMS!C49,CMS_Detail!$D$24:$D$500,D49,CMS_Detail!$K$24:$K$500,\"Quality Assurance/Quality Control Calibrations\"))","v":""},{"$f":"IF($E49=\"\",\"\",SUMIFS(CMS_Detail!$J$24:$J$500,CMS_Detail!$B$24:$B$500,Summary_Report_CMS!B49,CMS_Detail!$C$24:$C$500,Summary_Report_CMS!C49,CMS_Detail!$D$24:$D$500,D49,CMS_Detail!$K$24:$K$500,\"Other Known Causes\"))","v":""},{"$f":"IF($E49=\"\",\"\",SUMIFS(CMS_Detail!$J$24:$J$500,CMS_Detail!$B$24:$B$500,Summary_Report_CMS!B49,CMS_Detail!$C$24:$C$500,Summary_Report_CMS!C49,CMS_Detail!$D$24:$D$500,D49,CMS_Detail!$K$24:$K$500,\"Other Unknown Causes\"))","v":""}]
[null,null,null,null,null,{"$f":"IF(E50=\"\",\"\",SUMIFS(CMS_Detail!$J$24:$J$500,CMS_Detail!$B$24:$B$500,B50,CMS_Detail!$C$24:$C$500,C50,CMS_Detail!$D$24:$D$500,D50))","v":""},"",{"$f":"IF($E50=\"\",\"\",SUMIFS(CMS_Detail!$J$24:$J$500,CMS_Detail!$B$24:$B$500,Summary_Report_CMS!B50,CMS_Detail!$C$24:$C$500,Summary_Report_CMS!C50,CMS_Detail!$D$24:$D$500,D50,CMS_Detail!$K$24:$K$500,\"Monitoring Equipment Malfunctions\"))","v":""},{"$f":"IF($E50=\"\",\"\",SUMIFS(CMS_Detail!$J$24:$J$500,CMS_Detail!$B$24:$B$500,Summary_Report_CMS!B50,CMS_Detail!$C$24:$C$500,Summary_Report_CMS!C50,CMS_Detail!$D$24:$D$500,D50,CMS_Detail!$K$24:$K$500,\"Nonmonitoring Equipment Malfunctions\"))","v":""},{"$f":"IF($E50=\"\",\"\",SUMIFS(CMS_Detail!$J$24:$J$500,CMS_Detail!$B$24:$B$500,Summary_Report_CMS!B50,CMS_Detail!$C$24:$C$500,Summary_Report_CMS!C50,CMS_Detail!$D$24:$D$500,D50,CMS_Detail!$K$24:$K$500,\"Quality Assurance/Quality Control Calibrations\"))","v":""},{"$f":"IF($E50=\"\",\"\",SUMIFS(CMS_Detail!$J$24:$J$500,CMS_Detail!$B$24:$B$500,Summary_Report_CMS!B50,CMS_Detail!$C$24:$C$500,Summary_Report_CMS!C50,CMS_Detail!$D$24:$D$500,D50,CMS_Detail!$K$24:$K$500,\"Other Known Causes\"))","v":""},{"$f":"IF($E50=\"\",\"\",SUMIFS(CMS_Detail!$J$24:$J$500,CMS_Detail!$B$24:$B$500,Summary_Report_CMS!B50,CMS_Detail!$C$24:$C$500,Summary_Report_CMS!C50,CMS_Detail!$D$24:$D$500,D50,CMS_Detail!$K$24:$K$500,\"Other Unknown Causes\"))","v":""}]
[null,null,null,null,null,{"$f":"IF(E51=\"\",\"\",SUMIFS(CMS_Detail!$J$24:$J$500,CMS_Detail!$B$24:$B$500,B51,CMS_Detail!$C$24:$C$500,C51,CMS_Detail!$D$24:$D$500,D51))","v":""},"",{"$f":"IF($E51=\"\",\"\",SUMIFS(CMS_Detail!$J$24:$J$500,CMS_Detail!$B$24:$B$500,Summary_Report_CMS!B51,CMS_Detail!$C$24:$C$500,Summary_Report_CMS!C51,CMS_Detail!$D$24:$D$500,D51,CMS_Detail!$K$24:$K$500,\"Monitoring Equipment Malfunctions\"))","v":""},{"$f":"IF($E51=\"\",\"\",SUMIFS(CMS_Detail!$J$24:$J$500,CMS_Detail!$B$24:$B$500,Summary_Report_CMS!B51,CMS_Detail!$C$24:$C$500,Summary_Report_CMS!C51,CMS_Detail!$D$24:$D$500,D51,CMS_Detail!$K$24:$K$500,\"Nonmonitoring Equipment Malfunctions\"))","v":""},{"$f":"IF($E51=\"\",\"\",SUMIFS(CMS_Detail!$J$24:$J$500,CMS_Detail!$B$24:$B$500,Summary_Report_CMS!B51,CMS_Detail!$C$24:$C$500,Summary_Report_CMS!C51,CMS_Detail!$D$24:$D$500,D51,CMS_Detail!$K$24:$K$500,\"Quality Assurance/Quality Control Calibrations\"))","v":""},{"$f":"IF($E51=\"\",\"\",SUMIFS(CMS_Detail!$J$24:$J$500,CMS_Detail!$B$24:$B$500,Summary_Report_CMS!B51,CMS_Detail!$C$24:$C$500,Summary_Report_CMS!C51,CMS_Detail!$D$24:$D$500,D51,CMS_Detail!$K$24:$K$500,\"Other Known Causes\"))","v":""},{"$f":"IF($E51=\"\",\"\",SUMIFS(CMS_Detail!$J$24:$J$500,CMS_Detail!$B$24:$B$500,Summary_Report_CMS!B51,CMS_Detail!$C$24:$C$500,Summary_Report_CMS!C51,CMS_Detail!$D$24:$D$500,D51,CMS_Detail!$K$24:$K$500,\"Other Unknown Causes\"))","v":""}]
[null,null,null,null,null,{"$f":"IF(E52=\"\",\"\",SUMIFS(CMS_Detail!$J$24:$J$500,CMS_Detail!$B$24:$B$500,B52,CMS_Detail!$C$24:$C$500,C52,CMS_Detail!$D$24:$D$500,D52))","v":""},"",{"$f":"IF($E52=\"\",\"\",SUMIFS(CMS_Detail!$J$24:$J$500,CMS_Detail!$B$24:$B$500,Summary_Report_CMS!B52,CMS_Detail!$C$24:$C$500,Summary_Report_CMS!C52,CMS_Detail!$D$24:$D$500,D52,CMS_Detail!$K$24:$K$500,\"Monitoring Equipment Malfunctions\"))","v":""},{"$f":"IF($E52=\"\",\"\",SUMIFS(CMS_Detail!$J$24:$J$500,CMS_Detail!$B$24:$B$500,Summary_Report_CMS!B52,CMS_Detail!$C$24:$C$500,Summary_Report_CMS!C52,CMS_Detail!$D$24:$D$500,D52,CMS_Detail!$K$24:$K$500,\"Nonmonitoring Equipment Malfunctions\"))","v":""},{"$f":"IF($E52=\"\",\"\",SUMIFS(CMS_Detail!$J$24:$J$500,CMS_Detail!$B$24:$B$500,Summary_Report_CMS!B52,CMS_Detail!$C$24:$C$500,Summary_Report_CMS!C52,CMS_Detail!$D$24:$D$500,D52,CMS_Detail!$K$24:$K$500,\"Quality Assurance/Quality Control Calibrations\"))","v":""},{"$f":"IF($E52=\"\",\"\",SUMIFS(CMS_Detail!$J$24:$J$500,CMS_Detail!$B$24:$B$500,Summary_Report_CMS!B52,CMS_Detail!$C$24:$C$500,Summary_Report_CMS!C52,CMS_Detail!$D$24:$D$500,D52,CMS_Detail!$K$24:$K$500,\"Other Known Causes\"))","v":""},{"$f":"IF($E52=\"\",\"\",SUMIFS(CMS_Detail!$J$24:$J$500,CMS_Detail!$B$24:$B$500,Summary_Report_CMS!B52,CMS_Detail!$C$24:$C$500,Summary_Report_CMS!C52,CMS_Detail!$D$24:$D$500,D52,CMS_Detail!$K$24:$K$500,\"Other Unknown Causes\"))","v":""}]
[null,null,null,null,null,{"$f":"IF(E53=\"\",\"\",SUMIFS(CMS_Detail!$J$24:$J$500,CMS_Detail!$B$24:$B$500,B53,CMS_Detail!$C$24:$C$500,C53,CMS_Detail!$D$24:$D$500,D53))","v":""},"",{"$f":"IF($E53=\"\",\"\",SUMIFS(CMS_Detail!$J$24:$J$500,CMS_Detail!$B$24:$B$500,Summary_Report_CMS!B53,CMS_Detail!$C$24:$C$500,Summary_Report_CMS!C53,CMS_Detail!$D$24:$D$500,D53,CMS_Detail!$K$24:$K$500,\"Monitoring Equipment Malfunctions\"))","v":""},{"$f":"IF($E53=\"\",\"\",SUMIFS(CMS_Detail!$J$24:$J$500,CMS_Detail!$B$24:$B$500,Summary_Report_CMS!B53,CMS_Detail!$C$24:$C$500,Summary_Report_CMS!C53,CMS_Detail!$D$24:$D$500,D53,CMS_Detail!$K$24:$K$500,\"Nonmonitoring Equipment Malfunctions\"))","v":""},{"$f":"IF($E53=\"\",\"\",SUMIFS(CMS_Detail!$J$24:$J$500,CMS_Detail!$B$24:$B$500,Summary_Report_CMS!B53,CMS_Detail!$C$24:$C$500,Summary_Report_CMS!C53,CMS_Detail!$D$24:$D$500,D53,CMS_Detail!$K$24:$K$500,\"Quality Assurance/Quality Control Calibrations\"))","v":""},{"$f":"IF($E53=\"\",\"\",SUMIFS(CMS_Detail!$J$24:$J$500,CMS_Detail!$B$24:$B$500,Summary_Report_CMS!B53,CMS_Detail!$C$24:$C$500,Summary_Report_CMS!C53,CMS_Detail!$D$24:$D$500,D53,CMS_Detail!$K$24:$K$500,\"Other Known Causes\"))","v":""},{"$f":"IF($E53=\"\",\"\",SUMIFS(CMS_Detail!$J$24:$J$500,CMS_Detail!$B$24:$B$500,Summary_Report_CMS!B53,CMS_Detail!$C$24:$C$500,Summary_Report_CMS!C53,CMS_Detail!$D$24:$D$500,D53,CMS_Detail!$K$24:$K$500,\"Other Unknown Causes\"))","v":""}]
[null,null,null,null,null,{"$f":"IF(E54=\"\",\"\",SUMIFS(CMS_Detail!$J$24:$J$500,CMS_Detail!$B$24:$B$500,B54,CMS_Detail!$C$24:$C$500,C54,CMS_Detail!$D$24:$D$500,D54))","v":""},"",{"$f":"IF($E54=\"\",\"\",SUMIFS(CMS_Detail!$J$24:$J$500,CMS_Detail!$B$24:$B$500,Summary_Report_CMS!B54,CMS_Detail!$C$24:$C$500,Summary_Report_CMS!C54,CMS_Detail!$D$24:$D$500,D54,CMS_Detail!$K$24:$K$500,\"Monitoring Equipment Malfunctions\"))","v":""},{"$f":"IF($E54=\"\",\"\",SUMIFS(CMS_Detail!$J$24:$J$500,CMS_Detail!$B$24:$B$500,Summary_Report_CMS!B54,CMS_Detail!$C$24:$C$500,Summary_Report_CMS!C54,CMS_Detail!$D$24:$D$500,D54,CMS_Detail!$K$24:$K$500,\"Nonmonitoring Equipment Malfunctions\"))","v":""},{"$f":"IF($E54=\"\",\"\",SUMIFS(CMS_Detail!$J$24:$J$500,CMS_Detail!$B$24:$B$500,Summary_Report_CMS!B54,CMS_Detail!$C$24:$C$500,Summary_Report_CMS!C54,CMS_Detail!$D$24:$D$500,D54,CMS_Detail!$K$24:$K$500,\"Quality Assurance/Quality Control Calibrations\"))","v":""},{"$f":"IF($E54=\"\",\"\",SUMIFS(CMS_Detail!$J$24:$J$500,CMS_Detail!$B$24:$B$500,Summary_Report_CMS!B54,CMS_Detail!$C$24:$C$500,Summary_Report_CMS!C54,CMS_Detail!$D$24:$D$500,D54,CMS_Detail!$K$24:$K$500,\"Other Known Causes\"))","v":""},{"$f":"IF($E54=\"\",\"\",SUMIFS(CMS_Detail!$J$24:$J$500,CMS_Detail!$B$24:$B$500,Summary_Report_CMS!B54,CMS_Detail!$C$24:$C$500,Summary_Report_CMS!C54,CMS_Detail!$D$24:$D$500,D54,CMS_Detail!$K$24:$K$500,\"Other Unknown Causes\"))","v":""}]
[null,null,null,null,null,{"$f":"IF(E55=\"\",\"\",SUMIFS(CMS_Detail!$J$24:$J$500,CMS_Detail!$B$24:$B$500,B55,CMS_Detail!$C$24:$C$500,C55,CMS_Detail!$D$24:$D$500,D55))","v":""},"",{"$f":"IF($E55=\"\",\"\",SUMIFS(CMS_Detail!$J$24:$J$500,CMS_Detail!$B$24:$B$500,Summary_Report_CMS!B55,CMS_Detail!$C$24:$C$500,Summary_Report_CMS!C55,CMS_Detail!$D$24:$D$500,D55,CMS_Detail!$K$24:$K$500,\"Monitoring Equipment Malfunctions\"))","v":""},{"$f":"IF($E55=\"\",\"\",SUMIFS(CMS_Detail!$J$24:$J$500,CMS_Detail!$B$24:$B$500,Summary_Report_CMS!B55,CMS_Detail!$C$24:$C$500,Summary_Report_CMS!C55,CMS_Detail!$D$24:$D$500,D55,CMS_Detail!$K$24:$K$500,\"Nonmonitoring Equipment Malfunctions\"))","v":""},{"$f":"IF($E55=\"\",\"\",SUMIFS(CMS_Detail!$J$24:$J$500,CMS_Detail!$B$24:$B$500,Summary_Report_CMS!B55,CMS_Detail!$C$24:$C$500,Summary_Report_CMS!C55,CMS_Detail!$D$24:$D$500,D55,CMS_Detail!$K$24:$K$500,\"Quality Assurance/Quality Control Calibrations\"))","v":""},{"$f":"IF($E55=\"\",\"\",SUMIFS(CMS_Detail!$J$24:$J$500,CMS_Detail!$B$24:$B$500,Summary_Report_CMS!B55,CMS_Detail!$C$24:$C$500,Summary_Report_CMS!C55,CMS_Detail!$D$24:$D$500,D55,CMS_Detail!$K$24:$K$500,\"Other Known Causes\"))","v":""},{"$f":"IF($E55=\"\",\"\",SUMIFS(CMS_Detail!$J$24:$J$500,CMS_Detail!$B$24:$B$500,Summary_Report_CMS!B55,CMS_Detail!$C$24:$C$500,Summary_Report_CMS!C55,CMS_Detail!$D$24:$D$500,D55,CMS_Detail!$K$24:$K$500,\"Other Unknown Causes\"))","v":""}]
[null,null,null,null,null,{"$f":"IF(E56=\"\",\"\",SUMIFS(CMS_Detail!$J$24:$J$500,CMS_Detail!$B$24:$B$500,B56,CMS_Detail!$C$24:$C$500,C56,CMS_Detail!$D$24:$D$500,D56))","v":""},"",{"$f":"IF($E56=\"\",\"\",SUMIFS(CMS_Detail!$J$24:$J$500,CMS_Detail!$B$24:$B$500,Summary_Report_CMS!B56,CMS_Detail!$C$24:$C$500,Summary_Report_CMS!C56,CMS_Detail!$D$24:$D$500,D56,CMS_Detail!$K$24:$K$500,\"Monitoring Equipment Malfunctions\"))","v":""},{"$f":"IF($E56=\"\",\"\",SUMIFS(CMS_Detail!$J$24:$J$500,CMS_Detail!$B$24:$B$500,Summary_Report_CMS!B56,CMS_Detail!$C$24:$C$500,Summary_Report_CMS!C56,CMS_Detail!$D$24:$D$500,D56,CMS_Detail!$K$24:$K$500,\"Nonmonitoring Equipment Malfunctions\"))","v":""},{"$f":"IF($E56=\"\",\"\",SUMIFS(CMS_Detail!$J$24:$J$500,CMS_Detail!$B$24:$B$500,Summary_Report_CMS!B56,CMS_Detail!$C$24:$C$500,Summary_Report_CMS!C56,CMS_Detail!$D$24:$D$500,D56,CMS_Detail!$K$24:$K$500,\"Quality Assurance/Quality Control Calibrations\"))","v":""},{"$f":"IF($E56=\"\",\"\",SUMIFS(CMS_Detail!$J$24:$J$500,CMS_Detail!$B$24:$B$500,Summary_Report_CMS!B56,CMS_Detail!$C$24:$C$500,Summary_Report_CMS!C56,CMS_Detail!$D$24:$D$500,D56,CMS_Detail!$K$24:$K$500,\"Other Known Causes\"))","v":""},{"$f":"IF($E56=\"\",\"\",SUMIFS(CMS_Detail!$J$24:$J$500,CMS_Detail!$B$24:$B$500,Summary_Report_CMS!B56,CMS_Detail!$C$24:$C$500,Summary_Report_CMS!C56,CMS_Detail!$D$24:$D$500,D56,CMS_Detail!$K$24:$K$500,\"Other Unknown Causes\"))","v":""}]
[null,null,null,null,null,{"$f":"IF(E57=\"\",\"\",SUMIFS(CMS_Detail!$J$24:$J$500,CMS_Detail!$B$24:$B$500,B57,CMS_Detail!$C$24:$C$500,C57,CMS_Detail!$D$24:$D$500,D57))","v":""},"",{"$f":"IF($E57=\"\",\"\",SUMIFS(CMS_Detail!$J$24:$J$500,CMS_Detail!$B$24:$B$500,Summary_Report_CMS!B57,CMS_Detail!$C$24:$C$500,Summary_Report_CMS!C57,CMS_Detail!$D$24:$D$500,D57,CMS_Detail!$K$24:$K$500,\"Monitoring Equipment Malfunctions\"))","v":""},{"$f":"IF($E57=\"\",\"\",SUMIFS(CMS_Detail!$J$24:$J$500,CMS_Detail!$B$24:$B$500,Summary_Report_CMS!B57,CMS_Detail!$C$24:$C$500,Summary_Report_CMS!C57,CMS_Detail!$D$24:$D$500,D57,CMS_Detail!$K$24:$K$500,\"Nonmonitoring Equipment Malfunctions\"))","v":""},{"$f":"IF($E57=\"\",\"\",SUMIFS(CMS_Detail!$J$24:$J$500,CMS_Detail!$B$24:$B$500,Summary_Report_CMS!B57,CMS_Detail!$C$24:$C$500,Summary_Report_CMS!C57,CMS_Detail!$D$24:$D$500,D57,CMS_Detail!$K$24:$K$500,\"Quality Assurance/Quality Control Calibrations\"))","v":""},{"$f":"IF($E57=\"\",\"\",SUMIFS(CMS_Detail!$J$24:$J$500,CMS_Detail!$B$24:$B$500,Summary_Report_CMS!B57,CMS_Detail!$C$24:$C$500,Summary_Report_CMS!C57,CMS_Detail!$D$24:$D$500,D57,CMS_Detail!$K$24:$K$500,\"Other Known Causes\"))","v":""},{"$f":"IF($E57=\"\",\"\",SUMIFS(CMS_Detail!$J$24:$J$500,CMS_Detail!$B$24:$B$500,Summary_Report_CMS!B57,CMS_Detail!$C$24:$C$500,Summary_Report_CMS!C57,CMS_Detail!$D$24:$D$500,D57,CMS_Detail!$K$24:$K$500,\"Other Unknown Causes\"))","v":""}]
[null,null,null,null,null,{"$f":"IF(E58=\"\",\"\",SUMIFS(CMS_Detail!$J$24:$J$500,CMS_Detail!$B$24:$B$500,B58,CMS_Detail!$C$24:$C$500,C58,CMS_Detail!$D$24:$D$500,D58))","v":""},"",{"$f":"IF($E58=\"\",\"\",SUMIFS(CMS_Detail!$J$24:$J$500,CMS_Detail!$B$24:$B$500,Summary_Report_CMS!B58,CMS_Detail!$C$24:$C$500,Summary_Report_CMS!C58,CMS_Detail!$D$24:$D$500,D58,CMS_Detail!$K$24:$K$500,\"Monitoring Equipment Malfunctions\"))","v":""},{"$f":"IF($E58=\"\",\"\",SUMIFS(CMS_Detail!$J$24:$J$500,CMS_Detail!$B$24:$B$500,Summary_Report_CMS!B58,CMS_Detail!$C$24:$C$500,Summary_Report_CMS!C58,CMS_Detail!$D$24:$D$500,D58,CMS_Detail!$K$24:$K$500,\"Nonmonitoring Equipment Malfunctions\"))","v":""},{"$f":"IF($E58=\"\",\"\",SUMIFS(CMS_Detail!$J$24:$J$500,CMS_Detail!$B$24:$B$500,Summary_Report_CMS!B58,CMS_Detail!$C$24:$C$500,Summary_Report_CMS!C58,CMS_Detail!$D$24:$D$500,D58,CMS_Detail!$K$24:$K$500,\"Quality Assurance/Quality Control Calibrations\"))","v":""},{"$f":"IF($E58=\"\",\"\",SUMIFS(CMS_Detail!$J$24:$J$500,CMS_Detail!$B$24:$B$500,Summary_Report_CMS!B58,CMS_Detail!$C$24:$C$500,Summary_Report_CMS!C58,CMS_Detail!$D$24:$D$500,D58,CMS_Detail!$K$24:$K$500,\"Other Known Causes\"))","v":""},{"$f":"IF($E58=\"\",\"\",SUMIFS(CMS_Detail!$J$24:$J$500,CMS_Detail!$B$24:$B$500,Summary_Report_CMS!B58,CMS_Detail!$C$24:$C$500,Summary_Report_CMS!C58,CMS_Detail!$D$24:$D$500,D58,CMS_Detail!$K$24:$K$500,\"Other Unknown Causes\"))","v":""}]
[null,null,null,null,null,{"$f":"IF(E59=\"\",\"\",SUMIFS(CMS_Detail!$J$24:$J$500,CMS_Detail!$B$24:$B$500,B59,CMS_Detail!$C$24:$C$500,C59,CMS_Detail!$D$24:$D$500,D59))","v":""},"",{"$f":"IF($E59=\"\",\"\",SUMIFS(CMS_Detail!$J$24:$J$500,CMS_Detail!$B$24:$B$500,Summary_Report_CMS!B59,CMS_Detail!$C$24:$C$500,Summary_Report_CMS!C59,CMS_Detail!$D$24:$D$500,D59,CMS_Detail!$K$24:$K$500,\"Monitoring Equipment Malfunctions\"))","v":""},{"$f":"IF($E59=\"\",\"\",SUMIFS(CMS_Detail!$J$24:$J$500,CMS_Detail!$B$24:$B$500,Summary_Report_CMS!B59,CMS_Detail!$C$24:$C$500,Summary_Report_CMS!C59,CMS_Detail!$D$24:$D$500,D59,CMS_Detail!$K$24:$K$500,\"Nonmonitoring Equipment Malfunctions\"))","v":""},{"$f":"IF($E59=\"\",\"\",SUMIFS(CMS_Detail!$J$24:$J$500,CMS_Detail!$B$24:$B$500,Summary_Report_CMS!B59,CMS_Detail!$C$24:$C$500,Summary_Report_CMS!C59,CMS_Detail!$D$24:$D$500,D59,CMS_Detail!$K$24:$K$500,\"Quality Assurance/Quality Control Calibrations\"))","v":""},{"$f":"IF($E59=\"\",\"\",SUMIFS(CMS_Detail!$J$24:$J$500,CMS_Detail!$B$24:$B$500,Summary_Report_CMS!B59,CMS_Detail!$C$24:$C$500,Summary_Report_CMS!C59,CMS_Detail!$D$24:$D$500,D59,CMS_Detail!$K$24:$K$500,\"Other Known Causes\"))","v":""},{"$f":"IF($E59=\"\",\"\",SUMIFS(CMS_Detail!$J$24:$J$500,CMS_Detail!$B$24:$B$500,Summary_Report_CMS!B59,CMS_Detail!$C$24:$C$500,Summary_Report_CMS!C59,CMS_Detail!$D$24:$D$500,D59,CMS_Detail!$K$24:$K$500,\"Other Unknown Causes\"))","v":""}]
[null,null,null,null,null,{"$f":"IF(E60=\"\",\"\",SUMIFS(CMS_Detail!$J$24:$J$500,CMS_Detail!$B$24:$B$500,B60,CMS_Detail!$C$24:$C$500,C60,CMS_Detail!$D$24:$D$500,D60))","v":""},"",{"$f":"IF($E60=\"\",\"\",SUMIFS(CMS_Detail!$J$24:$J$500,CMS_Detail!$B$24:$B$500,Summary_Report_CMS!B60,CMS_Detail!$C$24:$C$500,Summary_Report_CMS!C60,CMS_Detail!$D$24:$D$500,D60,CMS_Detail!$K$24:$K$500,\"Monitoring Equipment Malfunctions\"))","v":""},{"$f":"IF($E60=\"\",\"\",SUMIFS(CMS_Detail!$J$24:$J$500,CMS_Detail!$B$24:$B$500,Summary_Report_CMS!B60,CMS_Detail!$C$24:$C$500,Summary_Report_CMS!C60,CMS_Detail!$D$24:$D$500,D60,CMS_Detail!$K$24:$K$500,\"Nonmonitoring Equipment Malfunctions\"))","v":""},{"$f":"IF($E60=\"\",\"\",SUMIFS(CMS_Detail!$J$24:$J$500,CMS_Detail!$B$24:$B$500,Summary_Report_CMS!B60,CMS_Detail!$C$24:$C$500,Summary_Report_CMS!C60,CMS_Detail!$D$24:$D$500,D60,CMS_Detail!$K$24:$K$500,\"Quality Assurance/Quality Control Calibrations\"))","v":""},{"$f":"IF($E60=\"\",\"\",SUMIFS(CMS_Detail!$J$24:$J$500,CMS_Detail!$B$24:$B$500,Summary_Report_CMS!B60,CMS_Detail!$C$24:$C$500,Summary_Report_CMS!C60,CMS_Detail!$D$24:$D$500,D60,CMS_Detail!$K$24:$K$500,\"Other Known Causes\"))","v":""},{"$f":"IF($E60=\"\",\"\",SUMIFS(CMS_Detail!$J$24:$J$500,CMS_Detail!$B$24:$B$500,Summary_Report_CMS!B60,CMS_Detail!$C$24:$C$500,Summary_Report_CMS!C60,CMS_Detail!$D$24:$D$500,D60,CMS_Detail!$K$24:$K$500,\"Other Unknown Causes\"))","v":""}]
[null,null,null,null,null,{"$f":"IF(E61=\"\",\"\",SUMIFS(CMS_Detail!$J$24:$J$500,CMS_Detail!$B$24:$B$500,B61,CMS_Detail!$C$24:$C$500,C61,CMS_Detail!$D$24:$D$500,D61))","v":""},"",{"$f":"IF($E61=\"\",\"\",SUMIFS(CMS_Detail!$J$24:$J$500,CMS_Detail!$B$24:$B$500,Summary_Report_CMS!B61,CMS_Detail!$C$24:$C$500,Summary_Report_CMS!C61,CMS_Detail!$D$24:$D$500,D61,CMS_Detail!$K$24:$K$500,\"Monitoring Equipment Malfunctions\"))","v":""},{"$f":"IF($E61=\"\",\"\",SUMIFS(CMS_Detail!$J$24:$J$500,CMS_Detail!$B$24:$B$500,Summary_Report_CMS!B61,CMS_Detail!$C$24:$C$500,Summary_Report_CMS!C61,CMS_Detail!$D$24:$D$500,D61,CMS_Detail!$K$24:$K$500,\"Nonmonitoring Equipment Malfunctions\"))","v":""},{"$f":"IF($E61=\"\",\"\",SUMIFS(CMS_Detail!$J$24:$J$500,CMS_Detail!$B$24:$B$500,Summary_Report_CMS!B61,CMS_Detail!$C$24:$C$500,Summary_Report_CMS!C61,CMS_Detail!$D$24:$D$500,D61,CMS_Detail!$K$24:$K$500,\"Quality Assurance/Quality Control Calibrations\"))","v":""},{"$f":"IF($E61=\"\",\"\",SUMIFS(CMS_Detail!$J$24:$J$500,CMS_Detail!$B$24:$B$500,Summary_Report_CMS!B61,CMS_Detail!$C$24:$C$500,Summary_Report_CMS!C61,CMS_Detail!$D$24:$D$500,D61,CMS_Detail!$K$24:$K$500,\"Other Known Causes\"))","v":""},{"$f":"IF($E61=\"\",\"\",SUMIFS(CMS_Detail!$J$24:$J$500,CMS_Detail!$B$24:$B$500,Summary_Report_CMS!B61,CMS_Detail!$C$24:$C$500,Summary_Report_CMS!C61,CMS_Detail!$D$24:$D$500,D61,CMS_Detail!$K$24:$K$500,\"Other Unknown Causes\"))","v":""}]
[null,null,null,null,null,{"$f":"IF(E62=\"\",\"\",SUMIFS(CMS_Detail!$J$24:$J$500,CMS_Detail!$B$24:$B$500,B62,CMS_Detail!$C$24:$C$500,C62,CMS_Detail!$D$24:$D$500,D62))","v":""},"",{"$f":"IF($E62=\"\",\"\",SUMIFS(CMS_Detail!$J$24:$J$500,CMS_Detail!$B$24:$B$500,Summary_Report_CMS!B62,CMS_Detail!$C$24:$C$500,Summary_Report_CMS!C62,CMS_Detail!$D$24:$D$500,D62,CMS_Detail!$K$24:$K$500,\"Monitoring Equipment Malfunctions\"))","v":""},{"$f":"IF($E62=\"\",\"\",SUMIFS(CMS_Detail!$J$24:$J$500,CMS_Detail!$B$24:$B$500,Summary_Report_CMS!B62,CMS_Detail!$C$24:$C$500,Summary_Report_CMS!C62,CMS_Detail!$D$24:$D$500,D62,CMS_Detail!$K$24:$K$500,\"Nonmonitoring Equipment Malfunctions\"))","v":""},{"$f":"IF($E62=\"\",\"\",SUMIFS(CMS_Detail!$J$24:$J$500,CMS_Detail!$B$24:$B$500,Summary_Report_CMS!B62,CMS_Detail!$C$24:$C$500,Summary_Report_CMS!C62,CMS_Detail!$D$24:$D$500,D62,CMS_Detail!$K$24:$K$500,\"Quality Assurance/Quality Control Calibrations\"))","v":""},{"$f":"IF($E62=\"\",\"\",SUMIFS(CMS_Detail!$J$24:$J$500,CMS_Detail!$B$24:$B$500,Summary_Report_CMS!B62,CMS_Detail!$C$24:$C$500,Summary_Report_CMS!C62,CMS_Detail!$D$24:$D$500,D62,CMS_Detail!$K$24:$K$500,\"Other Known Causes\"))","v":""},{"$f":"IF($E62=\"\",\"\",SUMIFS(CMS_Detail!$J$24:$J$500,CMS_Detail!$B$24:$B$500,Summary_Report_CMS!B62,CMS_Detail!$C$24:$C$500,Summary_Report_CMS!C62,CMS_Detail!$D$24:$D$500,D62,CMS_Detail!$K$24:$K$500,\"Other Unknown Causes\"))","v":""}]
[null,null,null,null,null,{"$f":"IF(E63=\"\",\"\",SUMIFS(CMS_Detail!$J$24:$J$500,CMS_Detail!$B$24:$B$500,B63,CMS_Detail!$C$24:$C$500,C63,CMS_Detail!$D$24:$D$500,D63))","v":""},"",{"$f":"IF($E63=\"\",\"\",SUMIFS(CMS_Detail!$J$24:$J$500,CMS_Detail!$B$24:$B$500,Summary_Report_CMS!B63,CMS_Detail!$C$24:$C$500,Summary_Report_CMS!C63,CMS_Detail!$D$24:$D$500,D63,CMS_Detail!$K$24:$K$500,\"Monitoring Equipment Malfunctions\"))","v":""},{"$f":"IF($E63=\"\",\"\",SUMIFS(CMS_Detail!$J$24:$J$500,CMS_Detail!$B$24:$B$500,Summary_Report_CMS!B63,CMS_Detail!$C$24:$C$500,Summary_Report_CMS!C63,CMS_Detail!$D$24:$D$500,D63,CMS_Detail!$K$24:$K$500,\"Nonmonitoring Equipment Malfunctions\"))","v":""},{"$f":"IF($E63=\"\",\"\",SUMIFS(CMS_Detail!$J$24:$J$500,CMS_Detail!$B$24:$B$500,Summary_Report_CMS!B63,CMS_Detail!$C$24:$C$500,Summary_Report_CMS!C63,CMS_Detail!$D$24:$D$500,D63,CMS_Detail!$K$24:$K$500,\"Quality Assurance/Quality Control Calibrations\"))","v":""},{"$f":"IF($E63=\"\",\"\",SUMIFS(CMS_Detail!$J$24:$J$500,CMS_Detail!$B$24:$B$500,Summary_Report_CMS!B63,CMS_Detail!$C$24:$C$500,Summary_Report_CMS!C63,CMS_Detail!$D$24:$D$500,D63,CMS_Detail!$K$24:$K$500,\"Other Known Causes\"))","v":""},{"$f":"IF($E63=\"\",\"\",SUMIFS(CMS_Detail!$J$24:$J$500,CMS_Detail!$B$24:$B$500,Summary_Report_CMS!B63,CMS_Detail!$C$24:$C$500,Summary_Report_CMS!C63,CMS_Detail!$D$24:$D$500,D63,CMS_Detail!$K$24:$K$500,\"Other Unknown Causes\"))","v":""}]
[null,null,null,null,null,{"$f":"IF(E64=\"\",\"\",SUMIFS(CMS_Detail!$J$24:$J$500,CMS_Detail!$B$24:$B$500,B64,CMS_Detail!$C$24:$C$500,C64,CMS_Detail!$D$24:$D$500,D64))","v":""},"",{"$f":"IF($E64=\"\",\"\",SUMIFS(CMS_Detail!$J$24:$J$500,CMS_Detail!$B$24:$B$500,Summary_Report_CMS!B64,CMS_Detail!$C$24:$C$500,Summary_Report_CMS!C64,CMS_Detail!$D$24:$D$500,D64,CMS_Detail!$K$24:$K$500,\"Monitoring Equipment Malfunctions\"))","v":""},{"$f":"IF($E64=\"\",\"\",SUMIFS(CMS_Detail!$J$24:$J$500,CMS_Detail!$B$24:$B$500,Summary_Report_CMS!B64,CMS_Detail!$C$24:$C$500,Summary_Report_CMS!C64,CMS_Detail!$D$24:$D$500,D64,CMS_Detail!$K$24:$K$500,\"Nonmonitoring Equipment Malfunctions\"))","v":""},{"$f":"IF($E64=\"\",\"\",SUMIFS(CMS_Detail!$J$24:$J$500,CMS_Detail!$B$24:$B$500,Summary_Report_CMS!B64,CMS_Detail!$C$24:$C$500,Summary_Report_CMS!C64,CMS_Detail!$D$24:$D$500,D64,CMS_Detail!$K$24:$K$500,\"Quality Assurance/Quality Control Calibrations\"))","v":""},{"$f":"IF($E64=\"\",\"\",SUMIFS(CMS_Detail!$J$24:$J$500,CMS_Detail!$B$24:$B$500,Summary_Report_CMS!B64,CMS_Detail!$C$24:$C$500,Summary_Report_CMS!C64,CMS_Detail!$D$24:$D$500,D64,CMS_Detail!$K$24:$K$500,\"Other Known Causes\"))","v":""},{"$f":"IF($E64=\"\",\"\",SUMIFS(CMS_Detail!$J$24:$J$500,CMS_Detail!$B$24:$B$500,Summary_Report_CMS!B64,CMS_Detail!$C$24:$C$500,Summary_Report_CMS!C64,CMS_Detail!$D$24:$D$500,D64,CMS_Detail!$K$24:$K$500,\"Other Unknown Causes\"))","v":""}]
[null,null,null,null,null,{"$f":"IF(E65=\"\",\"\",SUMIFS(CMS_Detail!$J$24:$J$500,CMS_Detail!$B$24:$B$500,B65,CMS_Detail!$C$24:$C$500,C65,CMS_Detail!$D$24:$D$500,D65))","v":""},"",{"$f":"IF($E65=\"\",\"\",SUMIFS(CMS_Detail!$J$24:$J$500,CMS_Detail!$B$24:$B$500,Summary_Report_CMS!B65,CMS_Detail!$C$24:$C$500,Summary_Report_CMS!C65,CMS_Detail!$D$24:$D$500,D65,CMS_Detail!$K$24:$K$500,\"Monitoring Equipment Malfunctions\"))","v":""},{"$f":"IF($E65=\"\",\"\",SUMIFS(CMS_Detail!$J$24:$J$500,CMS_Detail!$B$24:$B$500,Summary_Report_CMS!B65,CMS_Detail!$C$24:$C$500,Summary_Report_CMS!C65,CMS_Detail!$D$24:$D$500,D65,CMS_Detail!$K$24:$K$500,\"Nonmonitoring Equipment Malfunctions\"))","v":""},{"$f":"IF($E65=\"\",\"\",SUMIFS(CMS_Detail!$J$24:$J$500,CMS_Detail!$B$24:$B$500,Summary_Report_CMS!B65,CMS_Detail!$C$24:$C$500,Summary_Report_CMS!C65,CMS_Detail!$D$24:$D$500,D65,CMS_Detail!$K$24:$K$500,\"Quality Assurance/Quality Control Calibrations\"))","v":""},{"$f":"IF($E65=\"\",\"\",SUMIFS(CMS_Detail!$J$24:$J$500,CMS_Detail!$B$24:$B$500,Summary_Report_CMS!B65,CMS_Detail!$C$24:$C$500,Summary_Report_CMS!C65,CMS_Detail!$D$24:$D$500,D65,CMS_Detail!$K$24:$K$500,\"Other Known Causes\"))","v":""},{"$f":"IF($E65=\"\",\"\",SUMIFS(CMS_Detail!$J$24:$J$500,CMS_Detail!$B$24:$B$500,Summary_Report_CMS!B65,CMS_Detail!$C$24:$C$500,Summary_Report_CMS!C65,CMS_Detail!$D$24:$D$500,D65,CMS_Detail!$K$24:$K$500,\"Other Unknown Causes\"))","v":""}]
[null,null,null,null,null,{"$f":"IF(E66=\"\",\"\",SUMIFS(CMS_Detail!$J$24:$J$500,CMS_Detail!$B$24:$B$500,B66,CMS_Detail!$C$24:$C$500,C66,CMS_Detail!$D$24:$D$500,D66))","v":""},"",{"$f":"IF($E66=\"\",\"\",SUMIFS(CMS_Detail!$J$24:$J$500,CMS_Detail!$B$24:$B$500,Summary_Report_CMS!B66,CMS_Detail!$C$24:$C$500,Summary_Report_CMS!C66,CMS_Detail!$D$24:$D$500,D66,CMS_Detail!$K$24:$K$500,\"Monitoring Equipment Malfunctions\"))","v":""},{"$f":"IF($E66=\"\",\"\",SUMIFS(CMS_Detail!$J$24:$J$500,CMS_Detail!$B$24:$B$500,Summary_Report_CMS!B66,CMS_Detail!$C$24:$C$500,Summary_Report_CMS!C66,CMS_Detail!$D$24:$D$500,D66,CMS_Detail!$K$24:$K$500,\"Nonmonitoring Equipment Malfunctions\"))","v":""},{"$f":"IF($E66=\"\",\"\",SUMIFS(CMS_Detail!$J$24:$J$500,CMS_Detail!$B$24:$B$500,Summary_Report_CMS!B66,CMS_Detail!$C$24:$C$500,Summary_Report_CMS!C66,CMS_Detail!$D$24:$D$500,D66,CMS_Detail!$K$24:$K$500,\"Quality Assurance/Quality Control Calibrations\"))","v":""},{"$f":"IF($E66=\"\",\"\",SUMIFS(CMS_Detail!$J$24:$J$500,CMS_Detail!$B$24:$B$500,Summary_Report_CMS!B66,CMS_Detail!$C$24:$C$500,Summary_Report_CMS!C66,CMS_Detail!$D$24:$D$500,D66,CMS_Detail!$K$24:$K$500,\"Other Known Causes\"))","v":""},{"$f":"IF($E66=\"\",\"\",SUMIFS(CMS_Detail!$J$24:$J$500,CMS_Detail!$B$24:$B$500,Summary_Report_CMS!B66,CMS_Detail!$C$24:$C$500,Summary_Report_CMS!C66,CMS_Detail!$D$24:$D$500,D66,CMS_Detail!$K$24:$K$500,\"Other Unknown Causes\"))","v":""}]
[null,null,null,null,null,{"$f":"IF(E67=\"\",\"\",SUMIFS(CMS_Detail!$J$24:$J$500,CMS_Detail!$B$24:$B$500,B67,CMS_Detail!$C$24:$C$500,C67,CMS_Detail!$D$24:$D$500,D67))","v":""},"",{"$f":"IF($E67=\"\",\"\",SUMIFS(CMS_Detail!$J$24:$J$500,CMS_Detail!$B$24:$B$500,Summary_Report_CMS!B67,CMS_Detail!$C$24:$C$500,Summary_Report_CMS!C67,CMS_Detail!$D$24:$D$500,D67,CMS_Detail!$K$24:$K$500,\"Monitoring Equipment Malfunctions\"))","v":""},{"$f":"IF($E67=\"\",\"\",SUMIFS(CMS_Detail!$J$24:$J$500,CMS_Detail!$B$24:$B$500,Summary_Report_CMS!B67,CMS_Detail!$C$24:$C$500,Summary_Report_CMS!C67,CMS_Detail!$D$24:$D$500,D67,CMS_Detail!$K$24:$K$500,\"Nonmonitoring Equipment Malfunctions\"))","v":""},{"$f":"IF($E67=\"\",\"\",SUMIFS(CMS_Detail!$J$24:$J$500,CMS_Detail!$B$24:$B$500,Summary_Report_CMS!B67,CMS_Detail!$C$24:$C$500,Summary_Report_CMS!C67,CMS_Detail!$D$24:$D$500,D67,CMS_Detail!$K$24:$K$500,\"Quality Assurance/Quality Control Calibrations\"))","v":""},{"$f":"IF($E67=\"\",\"\",SUMIFS(CMS_Detail!$J$24:$J$500,CMS_Detail!$B$24:$B$500,Summary_Report_CMS!B67,CMS_Detail!$C$24:$C$500,Summary_Report_CMS!C67,CMS_Detail!$D$24:$D$500,D67,CMS_Detail!$K$24:$K$500,\"Other Known Causes\"))","v":""},{"$f":"IF($E67=\"\",\"\",SUMIFS(CMS_Detail!$J$24:$J$500,CMS_Detail!$B$24:$B$500,Summary_Report_CMS!B67,CMS_Detail!$C$24:$C$500,Summary_Report_CMS!C67,CMS_Detail!$D$24:$D$500,D67,CMS_Detail!$K$24:$K$500,\"Other Unknown Causes\"))","v":""}]
[null,null,null,null,null,{"$f":"IF(E68=\"\",\"\",SUMIFS(CMS_Detail!$J$24:$J$500,CMS_Detail!$B$24:$B$500,B68,CMS_Detail!$C$24:$C$500,C68,CMS_Detail!$D$24:$D$500,D68))","v":""},"",{"$f":"IF($E68=\"\",\"\",SUMIFS(CMS_Detail!$J$24:$J$500,CMS_Detail!$B$24:$B$500,Summary_Report_CMS!B68,CMS_Detail!$C$24:$C$500,Summary_Report_CMS!C68,CMS_Detail!$D$24:$D$500,D68,CMS_Detail!$K$24:$K$500,\"Monitoring Equipment Malfunctions\"))","v":""},{"$f":"IF($E68=\"\",\"\",SUMIFS(CMS_Detail!$J$24:$J$500,CMS_Detail!$B$24:$B$500,Summary_Report_CMS!B68,CMS_Detail!$C$24:$C$500,Summary_Report_CMS!C68,CMS_Detail!$D$24:$D$500,D68,CMS_Detail!$K$24:$K$500,\"Nonmonitoring Equipment Malfunctions\"))","v":""},{"$f":"IF($E68=\"\",\"\",SUMIFS(CMS_Detail!$J$24:$J$500,CMS_Detail!$B$24:$B$500,Summary_Report_CMS!B68,CMS_Detail!$C$24:$C$500,Summary_Report_CMS!C68,CMS_Detail!$D$24:$D$500,D68,CMS_Detail!$K$24:$K$500,\"Quality Assurance/Quality Control Calibrations\"))","v":""},{"$f":"IF($E68=\"\",\"\",SUMIFS(CMS_Detail!$J$24:$J$500,CMS_Detail!$B$24:$B$500,Summary_Report_CMS!B68,CMS_Detail!$C$24:$C$500,Summary_Report_CMS!C68,CMS_Detail!$D$24:$D$500,D68,CMS_Detail!$K$24:$K$500,\"Other Known Causes\"))","v":""},{"$f":"IF($E68=\"\",\"\",SUMIFS(CMS_Detail!$J$24:$J$500,CMS_Detail!$B$24:$B$500,Summary_Report_CMS!B68,CMS_Detail!$C$24:$C$500,Summary_Report_CMS!C68,CMS_Detail!$D$24:$D$500,D68,CMS_Detail!$K$24:$K$500,\"Other Unknown Causes\"))","v":""}]
[null,null,null,null,null,{"$f":"IF(E69=\"\",\"\",SUMIFS(CMS_Detail!$J$24:$J$500,CMS_Detail!$B$24:$B$500,B69,CMS_Detail!$C$24:$C$500,C69,CMS_Detail!$D$24:$D$500,D69))","v":""},"",{"$f":"IF($E69=\"\",\"\",SUMIFS(CMS_Detail!$J$24:$J$500,CMS_Detail!$B$24:$B$500,Summary_Report_CMS!B69,CMS_Detail!$C$24:$C$500,Summary_Report_CMS!C69,CMS_Detail!$D$24:$D$500,D69,CMS_Detail!$K$24:$K$500,\"Monitoring Equipment Malfunctions\"))","v":""},{"$f":"IF($E69=\"\",\"\",SUMIFS(CMS_Detail!$J$24:$J$500,CMS_Detail!$B$24:$B$500,Summary_Report_CMS!B69,CMS_Detail!$C$24:$C$500,Summary_Report_CMS!C69,CMS_Detail!$D$24:$D$500,D69,CMS_Detail!$K$24:$K$500,\"Nonmonitoring Equipment Malfunctions\"))","v":""},{"$f":"IF($E69=\"\",\"\",SUMIFS(CMS_Detail!$J$24:$J$500,CMS_Detail!$B$24:$B$500,Summary_Report_CMS!B69,CMS_Detail!$C$24:$C$500,Summary_Report_CMS!C69,CMS_Detail!$D$24:$D$500,D69,CMS_Detail!$K$24:$K$500,\"Quality Assurance/Quality Control Calibrations\"))","v":""},{"$f":"IF($E69=\"\",\"\",SUMIFS(CMS_Detail!$J$24:$J$500,CMS_Detail!$B$24:$B$500,Summary_Report_CMS!B69,CMS_Detail!$C$24:$C$500,Summary_Report_CMS!C69,CMS_Detail!$D$24:$D$500,D69,CMS_Detail!$K$24:$K$500,\"Other Known Causes\"))","v":""},{"$f":"IF($E69=\"\",\"\",SUMIFS(CMS_Detail!$J$24:$J$500,CMS_Detail!$B$24:$B$500,Summary_Report_CMS!B69,CMS_Detail!$C$24:$C$500,Summary_Report_CMS!C69,CMS_Detail!$D$24:$D$500,D69,CMS_Detail!$K$24:$K$500,\"Other Unknown Causes\"))","v":""}]
[null,null,null,null,null,{"$f":"IF(E70=\"\",\"\",SUMIFS(CMS_Detail!$J$24:$J$500,CMS_Detail!$B$24:$B$500,B70,CMS_Detail!$C$24:$C$500,C70,CMS_Detail!$D$24:$D$500,D70))","v":""},"",{"$f":"IF($E70=\"\",\"\",SUMIFS(CMS_Detail!$J$24:$J$500,CMS_Detail!$B$24:$B$500,Summary_Report_CMS!B70,CMS_Detail!$C$24:$C$500,Summary_Report_CMS!C70,CMS_Detail!$D$24:$D$500,D70,CMS_Detail!$K$24:$K$500,\"Monitoring Equipment Malfunctions\"))","v":""},{"$f":"IF($E70=\"\",\"\",SUMIFS(CMS_Detail!$J$24:$J$500,CMS_Detail!$B$24:$B$500,Summary_Report_CMS!B70,CMS_Detail!$C$24:$C$500,Summary_Report_CMS!C70,CMS_Detail!$D$24:$D$500,D70,CMS_Detail!$K$24:$K$500,\"Nonmonitoring Equipment Malfunctions\"))","v":""},{"$f":"IF($E70=\"\",\"\",SUMIFS(CMS_Detail!$J$24:$J$500,CMS_Detail!$B$24:$B$500,Summary_Report_CMS!B70,CMS_Detail!$C$24:$C$500,Summary_Report_CMS!C70,CMS_Detail!$D$24:$D$500,D70,CMS_Detail!$K$24:$K$500,\"Quality Assurance/Quality Control Calibrations\"))","v":""},{"$f":"IF($E70=\"\",\"\",SUMIFS(CMS_Detail!$J$24:$J$500,CMS_Detail!$B$24:$B$500,Summary_Report_CMS!B70,CMS_Detail!$C$24:$C$500,Summary_Report_CMS!C70,CMS_Detail!$D$24:$D$500,D70,CMS_Detail!$K$24:$K$500,\"Other Known Causes\"))","v":""},{"$f":"IF($E70=\"\",\"\",SUMIFS(CMS_Detail!$J$24:$J$500,CMS_Detail!$B$24:$B$500,Summary_Report_CMS!B70,CMS_Detail!$C$24:$C$500,Summary_Report_CMS!C70,CMS_Detail!$D$24:$D$500,D70,CMS_Detail!$K$24:$K$500,\"Other Unknown Causes\"))","v":""}]
[null,null,null,null,null,{"$f":"IF(E71=\"\",\"\",SUMIFS(CMS_Detail!$J$24:$J$500,CMS_Detail!$B$24:$B$500,B71,CMS_Detail!$C$24:$C$500,C71,CMS_Detail!$D$24:$D$500,D71))","v":""},"",{"$f":"IF($E71=\"\",\"\",SUMIFS(CMS_Detail!$J$24:$J$500,CMS_Detail!$B$24:$B$500,Summary_Report_CMS!B71,CMS_Detail!$C$24:$C$500,Summary_Report_CMS!C71,CMS_Detail!$D$24:$D$500,D71,CMS_Detail!$K$24:$K$500,\"Monitoring Equipment Malfunctions\"))","v":""},{"$f":"IF($E71=\"\",\"\",SUMIFS(CMS_Detail!$J$24:$J$500,CMS_Detail!$B$24:$B$500,Summary_Report_CMS!B71,CMS_Detail!$C$24:$C$500,Summary_Report_CMS!C71,CMS_Detail!$D$24:$D$500,D71,CMS_Detail!$K$24:$K$500,\"Nonmonitoring Equipment Malfunctions\"))","v":""},{"$f":"IF($E71=\"\",\"\",SUMIFS(CMS_Detail!$J$24:$J$500,CMS_Detail!$B$24:$B$500,Summary_Report_CMS!B71,CMS_Detail!$C$24:$C$500,Summary_Report_CMS!C71,CMS_Detail!$D$24:$D$500,D71,CMS_Detail!$K$24:$K$500,\"Quality Assurance/Quality Control Calibrations\"))","v":""},{"$f":"IF($E71=\"\",\"\",SUMIFS(CMS_Detail!$J$24:$J$500,CMS_Detail!$B$24:$B$500,Summary_Report_CMS!B71,CMS_Detail!$C$24:$C$500,Summary_Report_CMS!C71,CMS_Detail!$D$24:$D$500,D71,CMS_Detail!$K$24:$K$500,\"Other Known Causes\"))","v":""},{"$f":"IF($E71=\"\",\"\",SUMIFS(CMS_Detail!$J$24:$J$500,CMS_Detail!$B$24:$B$500,Summary_Report_CMS!B71,CMS_Detail!$C$24:$C$500,Summary_Report_CMS!C71,CMS_Detail!$D$24:$D$500,D71,CMS_Detail!$K$24:$K$500,\"Other Unknown Causes\"))","v":""}]
[null,null,null,null,null,{"$f":"IF(E72=\"\",\"\",SUMIFS(CMS_Detail!$J$24:$J$500,CMS_Detail!$B$24:$B$500,B72,CMS_Detail!$C$24:$C$500,C72,CMS_Detail!$D$24:$D$500,D72))","v":""},"",{"$f":"IF($E72=\"\",\"\",SUMIFS(CMS_Detail!$J$24:$J$500,CMS_Detail!$B$24:$B$500,Summary_Report_CMS!B72,CMS_Detail!$C$24:$C$500,Summary_Report_CMS!C72,CMS_Detail!$D$24:$D$500,D72,CMS_Detail!$K$24:$K$500,\"Monitoring Equipment Malfunctions\"))","v":""},{"$f":"IF($E72=\"\",\"\",SUMIFS(CMS_Detail!$J$24:$J$500,CMS_Detail!$B$24:$B$500,Summary_Report_CMS!B72,CMS_Detail!$C$24:$C$500,Summary_Report_CMS!C72,CMS_Detail!$D$24:$D$500,D72,CMS_Detail!$K$24:$K$500,\"Nonmonitoring Equipment Malfunctions\"))","v":""},{"$f":"IF($E72=\"\",\"\",SUMIFS(CMS_Detail!$J$24:$J$500,CMS_Detail!$B$24:$B$500,Summary_Report_CMS!B72,CMS_Detail!$C$24:$C$500,Summary_Report_CMS!C72,CMS_Detail!$D$24:$D$500,D72,CMS_Detail!$K$24:$K$500,\"Quality Assurance/Quality Control Calibrations\"))","v":""},{"$f":"IF($E72=\"\",\"\",SUMIFS(CMS_Detail!$J$24:$J$500,CMS_Detail!$B$24:$B$500,Summary_Report_CMS!B72,CMS_Detail!$C$24:$C$500,Summary_Report_CMS!C72,CMS_Detail!$D$24:$D$500,D72,CMS_Detail!$K$24:$K$500,\"Other Known Causes\"))","v":""},{"$f":"IF($E72=\"\",\"\",SUMIFS(CMS_Detail!$J$24:$J$500,CMS_Detail!$B$24:$B$500,Summary_Report_CMS!B72,CMS_Detail!$C$24:$C$500,Summary_Report_CMS!C72,CMS_Detail!$D$24:$D$500,D72,CMS_Detail!$K$24:$K$500,\"Other Unknown Causes\"))","v":""}]
[null,null,null,null,null,{"$f":"IF(E73=\"\",\"\",SUMIFS(CMS_Detail!$J$24:$J$500,CMS_Detail!$B$24:$B$500,B73,CMS_Detail!$C$24:$C$500,C73,CMS_Detail!$D$24:$D$500,D73))","v":""},"",{"$f":"IF($E73=\"\",\"\",SUMIFS(CMS_Detail!$J$24:$J$500,CMS_Detail!$B$24:$B$500,Summary_Report_CMS!B73,CMS_Detail!$C$24:$C$500,Summary_Report_CMS!C73,CMS_Detail!$D$24:$D$500,D73,CMS_Detail!$K$24:$K$500,\"Monitoring Equipment Malfunctions\"))","v":""},{"$f":"IF($E73=\"\",\"\",SUMIFS(CMS_Detail!$J$24:$J$500,CMS_Detail!$B$24:$B$500,Summary_Report_CMS!B73,CMS_Detail!$C$24:$C$500,Summary_Report_CMS!C73,CMS_Detail!$D$24:$D$500,D73,CMS_Detail!$K$24:$K$500,\"Nonmonitoring Equipment Malfunctions\"))","v":""},{"$f":"IF($E73=\"\",\"\",SUMIFS(CMS_Detail!$J$24:$J$500,CMS_Detail!$B$24:$B$500,Summary_Report_CMS!B73,CMS_Detail!$C$24:$C$500,Summary_Report_CMS!C73,CMS_Detail!$D$24:$D$500,D73,CMS_Detail!$K$24:$K$500,\"Quality Assurance/Quality Control Calibrations\"))","v":""},{"$f":"IF($E73=\"\",\"\",SUMIFS(CMS_Detail!$J$24:$J$500,CMS_Detail!$B$24:$B$500,Summary_Report_CMS!B73,CMS_Detail!$C$24:$C$500,Summary_Report_CMS!C73,CMS_Detail!$D$24:$D$500,D73,CMS_Detail!$K$24:$K$500,\"Other Known Causes\"))","v":""},{"$f":"IF($E73=\"\",\"\",SUMIFS(CMS_Detail!$J$24:$J$500,CMS_Detail!$B$24:$B$500,Summary_Report_CMS!B73,CMS_Detail!$C$24:$C$500,Summary_Report_CMS!C73,CMS_Detail!$D$24:$D$500,D73,CMS_Detail!$K$24:$K$500,\"Other Unknown Causes\"))","v":""}]
[null,null,null,null,null,{"$f":"IF(E74=\"\",\"\",SUMIFS(CMS_Detail!$J$24:$J$500,CMS_Detail!$B$24:$B$500,B74,CMS_Detail!$C$24:$C$500,C74,CMS_Detail!$D$24:$D$500,D74))","v":""},"",{"$f":"IF($E74=\"\",\"\",SUMIFS(CMS_Detail!$J$24:$J$500,CMS_Detail!$B$24:$B$500,Summary_Report_CMS!B74,CMS_Detail!$C$24:$C$500,Summary_Report_CMS!C74,CMS_Detail!$D$24:$D$500,D74,CMS_Detail!$K$24:$K$500,\"Monitoring Equipment Malfunctions\"))","v":""},{"$f":"IF($E74=\"\",\"\",SUMIFS(CMS_Detail!$J$24:$J$500,CMS_Detail!$B$24:$B$500,Summary_Report_CMS!B74,CMS_Detail!$C$24:$C$500,Summary_Report_CMS!C74,CMS_Detail!$D$24:$D$500,D74,CMS_Detail!$K$24:$K$500,\"Nonmonitoring Equipment Malfunctions\"))","v":""},{"$f":"IF($E74=\"\",\"\",SUMIFS(CMS_Detail!$J$24:$J$500,CMS_Detail!$B$24:$B$500,Summary_Report_CMS!B74,CMS_Detail!$C$24:$C$500,Summary_Report_CMS!C74,CMS_Detail!$D$24:$D$500,D74,CMS_Detail!$K$24:$K$500,\"Quality Assurance/Quality Control Calibrations\"))","v":""},{"$f":"IF($E74=\"\",\"\",SUMIFS(CMS_Detail!$J$24:$J$500,CMS_Detail!$B$24:$B$500,Summary_Report_CMS!B74,CMS_Detail!$C$24:$C$500,Summary_Report_CMS!C74,CMS_Detail!$D$24:$D$500,D74,CMS_Detail!$K$24:$K$500,\"Other Known Causes\"))","v":""},{"$f":"IF($E74=\"\",\"\",SUMIFS(CMS_Detail!$J$24:$J$500,CMS_Detail!$B$24:$B$500,Summary_Report_CMS!B74,CMS_Detail!$C$24:$C$500,Summary_Report_CMS!C74,CMS_Detail!$D$24:$D$500,D74,CMS_Detail!$K$24:$K$500,\"Other Unknown Causes\"))","v":""}]
[null,null,null,null,null,{"$f":"IF(E75=\"\",\"\",SUMIFS(CMS_Detail!$J$24:$J$500,CMS_Detail!$B$24:$B$500,B75,CMS_Detail!$C$24:$C$500,C75,CMS_Detail!$D$24:$D$500,D75))","v":""},"",{"$f":"IF($E75=\"\",\"\",SUMIFS(CMS_Detail!$J$24:$J$500,CMS_Detail!$B$24:$B$500,Summary_Report_CMS!B75,CMS_Detail!$C$24:$C$500,Summary_Report_CMS!C75,CMS_Detail!$D$24:$D$500,D75,CMS_Detail!$K$24:$K$500,\"Monitoring Equipment Malfunctions\"))","v":""},{"$f":"IF($E75=\"\",\"\",SUMIFS(CMS_Detail!$J$24:$J$500,CMS_Detail!$B$24:$B$500,Summary_Report_CMS!B75,CMS_Detail!$C$24:$C$500,Summary_Report_CMS!C75,CMS_Detail!$D$24:$D$500,D75,CMS_Detail!$K$24:$K$500,\"Nonmonitoring Equipment Malfunctions\"))","v":""},{"$f":"IF($E75=\"\",\"\",SUMIFS(CMS_Detail!$J$24:$J$500,CMS_Detail!$B$24:$B$500,Summary_Report_CMS!B75,CMS_Detail!$C$24:$C$500,Summary_Report_CMS!C75,CMS_Detail!$D$24:$D$500,D75,CMS_Detail!$K$24:$K$500,\"Quality Assurance/Quality Control Calibrations\"))","v":""},{"$f":"IF($E75=\"\",\"\",SUMIFS(CMS_Detail!$J$24:$J$500,CMS_Detail!$B$24:$B$500,Summary_Report_CMS!B75,CMS_Detail!$C$24:$C$500,Summary_Report_CMS!C75,CMS_Detail!$D$24:$D$500,D75,CMS_Detail!$K$24:$K$500,\"Other Known Causes\"))","v":""},{"$f":"IF($E75=\"\",\"\",SUMIFS(CMS_Detail!$J$24:$J$500,CMS_Detail!$B$24:$B$500,Summary_Report_CMS!B75,CMS_Detail!$C$24:$C$500,Summary_Report_CMS!C75,CMS_Detail!$D$24:$D$500,D75,CMS_Detail!$K$24:$K$500,\"Other Unknown Causes\"))","v":""}]
[null,null,null,null,null,{"$f":"IF(E76=\"\",\"\",SUMIFS(CMS_Detail!$J$24:$J$500,CMS_Detail!$B$24:$B$500,B76,CMS_Detail!$C$24:$C$500,C76,CMS_Detail!$D$24:$D$500,D76))","v":""},"",{"$f":"IF($E76=\"\",\"\",SUMIFS(CMS_Detail!$J$24:$J$500,CMS_Detail!$B$24:$B$500,Summary_Report_CMS!B76,CMS_Detail!$C$24:$C$500,Summary_Report_CMS!C76,CMS_Detail!$D$24:$D$500,D76,CMS_Detail!$K$24:$K$500,\"Monitoring Equipment Malfunctions\"))","v":""},{"$f":"IF($E76=\"\",\"\",SUMIFS(CMS_Detail!$J$24:$J$500,CMS_Detail!$B$24:$B$500,Summary_Report_CMS!B76,CMS_Detail!$C$24:$C$500,Summary_Report_CMS!C76,CMS_Detail!$D$24:$D$500,D76,CMS_Detail!$K$24:$K$500,\"Nonmonitoring Equipment Malfunctions\"))","v":""},{"$f":"IF($E76=\"\",\"\",SUMIFS(CMS_Detail!$J$24:$J$500,CMS_Detail!$B$24:$B$500,Summary_Report_CMS!B76,CMS_Detail!$C$24:$C$500,Summary_Report_CMS!C76,CMS_Detail!$D$24:$D$500,D76,CMS_Detail!$K$24:$K$500,\"Quality Assurance/Quality Control Calibrations\"))","v":""},{"$f":"IF($E76=\"\",\"\",SUMIFS(CMS_Detail!$J$24:$J$500,CMS_Detail!$B$24:$B$500,Summary_Report_CMS!B76,CMS_Detail!$C$24:$C$500,Summary_Report_CMS!C76,CMS_Detail!$D$24:$D$500,D76,CMS_Detail!$K$24:$K$500,\"Other Known Causes\"))","v":""},{"$f":"IF($E76=\"\",\"\",SUMIFS(CMS_Detail!$J$24:$J$500,CMS_Detail!$B$24:$B$500,Summary_Report_CMS!B76,CMS_Detail!$C$24:$C$500,Summary_Report_CMS!C76,CMS_Detail!$D$24:$D$500,D76,CMS_Detail!$K$24:$K$500,\"Other Unknown Causes\"))","v":""}]
[null,null,null,null,null,{"$f":"IF(E77=\"\",\"\",SUMIFS(CMS_Detail!$J$24:$J$500,CMS_Detail!$B$24:$B$500,B77,CMS_Detail!$C$24:$C$500,C77,CMS_Detail!$D$24:$D$500,D77))","v":""},"",{"$f":"IF($E77=\"\",\"\",SUMIFS(CMS_Detail!$J$24:$J$500,CMS_Detail!$B$24:$B$500,Summary_Report_CMS!B77,CMS_Detail!$C$24:$C$500,Summary_Report_CMS!C77,CMS_Detail!$D$24:$D$500,D77,CMS_Detail!$K$24:$K$500,\"Monitoring Equipment Malfunctions\"))","v":""},{"$f":"IF($E77=\"\",\"\",SUMIFS(CMS_Detail!$J$24:$J$500,CMS_Detail!$B$24:$B$500,Summary_Report_CMS!B77,CMS_Detail!$C$24:$C$500,Summary_Report_CMS!C77,CMS_Detail!$D$24:$D$500,D77,CMS_Detail!$K$24:$K$500,\"Nonmonitoring Equipment Malfunctions\"))","v":""},{"$f":"IF($E77=\"\",\"\",SUMIFS(CMS_Detail!$J$24:$J$500,CMS_Detail!$B$24:$B$500,Summary_Report_CMS!B77,CMS_Detail!$C$24:$C$500,Summary_Report_CMS!C77,CMS_Detail!$D$24:$D$500,D77,CMS_Detail!$K$24:$K$500,\"Quality Assurance/Quality Control Calibrations\"))","v":""},{"$f":"IF($E77=\"\",\"\",SUMIFS(CMS_Detail!$J$24:$J$500,CMS_Detail!$B$24:$B$500,Summary_Report_CMS!B77,CMS_Detail!$C$24:$C$500,Summary_Report_CMS!C77,CMS_Detail!$D$24:$D$500,D77,CMS_Detail!$K$24:$K$500,\"Other Known Causes\"))","v":""},{"$f":"IF($E77=\"\",\"\",SUMIFS(CMS_Detail!$J$24:$J$500,CMS_Detail!$B$24:$B$500,Summary_Report_CMS!B77,CMS_Detail!$C$24:$C$500,Summary_Report_CMS!C77,CMS_Detail!$D$24:$D$500,D77,CMS_Detail!$K$24:$K$500,\"Other Unknown Causes\"))","v":""}]
[null,null,null,null,null,{"$f":"IF(E78=\"\",\"\",SUMIFS(CMS_Detail!$J$24:$J$500,CMS_Detail!$B$24:$B$500,B78,CMS_Detail!$C$24:$C$500,C78,CMS_Detail!$D$24:$D$500,D78))","v":""},"",{"$f":"IF($E78=\"\",\"\",SUMIFS(CMS_Detail!$J$24:$J$500,CMS_Detail!$B$24:$B$500,Summary_Report_CMS!B78,CMS_Detail!$C$24:$C$500,Summary_Report_CMS!C78,CMS_Detail!$D$24:$D$500,D78,CMS_Detail!$K$24:$K$500,\"Monitoring Equipment Malfunctions\"))","v":""},{"$f":"IF($E78=\"\",\"\",SUMIFS(CMS_Detail!$J$24:$J$500,CMS_Detail!$B$24:$B$500,Summary_Report_CMS!B78,CMS_Detail!$C$24:$C$500,Summary_Report_CMS!C78,CMS_Detail!$D$24:$D$500,D78,CMS_Detail!$K$24:$K$500,\"Nonmonitoring Equipment Malfunctions\"))","v":""},{"$f":"IF($E78=\"\",\"\",SUMIFS(CMS_Detail!$J$24:$J$500,CMS_Detail!$B$24:$B$500,Summary_Report_CMS!B78,CMS_Detail!$C$24:$C$500,Summary_Report_CMS!C78,CMS_Detail!$D$24:$D$500,D78,CMS_Detail!$K$24:$K$500,\"Quality Assurance/Quality Control Calibrations\"))","v":""},{"$f":"IF($E78=\"\",\"\",SUMIFS(CMS_Detail!$J$24:$J$500,CMS_Detail!$B$24:$B$500,Summary_Report_CMS!B78,CMS_Detail!$C$24:$C$500,Summary_Report_CMS!C78,CMS_Detail!$D$24:$D$500,D78,CMS_Detail!$K$24:$K$500,\"Other Known Causes\"))","v":""},{"$f":"IF($E78=\"\",\"\",SUMIFS(CMS_Detail!$J$24:$J$500,CMS_Detail!$B$24:$B$500,Summary_Report_CMS!B78,CMS_Detail!$C$24:$C$500,Summary_Report_CMS!C78,CMS_Detail!$D$24:$D$500,D78,CMS_Detail!$K$24:$K$500,\"Other Unknown Causes\"))","v":""}]
[null,null,null,null,null,{"$f":"IF(E79=\"\",\"\",SUMIFS(CMS_Detail!$J$24:$J$500,CMS_Detail!$B$24:$B$500,B79,CMS_Detail!$C$24:$C$500,C79,CMS_Detail!$D$24:$D$500,D79))","v":""},"",{"$f":"IF($E79=\"\",\"\",SUMIFS(CMS_Detail!$J$24:$J$500,CMS_Detail!$B$24:$B$500,Summary_Report_CMS!B79,CMS_Detail!$C$24:$C$500,Summary_Report_CMS!C79,CMS_Detail!$D$24:$D$500,D79,CMS_Detail!$K$24:$K$500,\"Monitoring Equipment Malfunctions\"))","v":""},{"$f":"IF($E79=\"\",\"\",SUMIFS(CMS_Detail!$J$24:$J$500,CMS_Detail!$B$24:$B$500,Summary_Report_CMS!B79,CMS_Detail!$C$24:$C$500,Summary_Report_CMS!C79,CMS_Detail!$D$24:$D$500,D79,CMS_Detail!$K$24:$K$500,\"Nonmonitoring Equipment Malfunctions\"))","v":""},{"$f":"IF($E79=\"\",\"\",SUMIFS(CMS_Detail!$J$24:$J$500,CMS_Detail!$B$24:$B$500,Summary_Report_CMS!B79,CMS_Detail!$C$24:$C$500,Summary_Report_CMS!C79,CMS_Detail!$D$24:$D$500,D79,CMS_Detail!$K$24:$K$500,\"Quality Assurance/Quality Control Calibrations\"))","v":""},{"$f":"IF($E79=\"\",\"\",SUMIFS(CMS_Detail!$J$24:$J$500,CMS_Detail!$B$24:$B$500,Summary_Report_CMS!B79,CMS_Detail!$C$24:$C$500,Summary_Report_CMS!C79,CMS_Detail!$D$24:$D$500,D79,CMS_Detail!$K$24:$K$500,\"Other Known Causes\"))","v":""},{"$f":"IF($E79=\"\",\"\",SUMIFS(CMS_Detail!$J$24:$J$500,CMS_Detail!$B$24:$B$500,Summary_Report_CMS!B79,CMS_Detail!$C$24:$C$500,Summary_Report_CMS!C79,CMS_Detail!$D$24:$D$500,D79,CMS_Detail!$K$24:$K$500,\"Other Unknown Causes\"))","v":""}]
[null,null,null,null,null,{"$f":"IF(E80=\"\",\"\",SUMIFS(CMS_Detail!$J$24:$J$500,CMS_Detail!$B$24:$B$500,B80,CMS_Detail!$C$24:$C$500,C80,CMS_Detail!$D$24:$D$500,D80))","v":""},"",{"$f":"IF($E80=\"\",\"\",SUMIFS(CMS_Detail!$J$24:$J$500,CMS_Detail!$B$24:$B$500,Summary_Report_CMS!B80,CMS_Detail!$C$24:$C$500,Summary_Report_CMS!C80,CMS_Detail!$D$24:$D$500,D80,CMS_Detail!$K$24:$K$500,\"Monitoring Equipment Malfunctions\"))","v":""},{"$f":"IF($E80=\"\",\"\",SUMIFS(CMS_Detail!$J$24:$J$500,CMS_Detail!$B$24:$B$500,Summary_Report_CMS!B80,CMS_Detail!$C$24:$C$500,Summary_Report_CMS!C80,CMS_Detail!$D$24:$D$500,D80,CMS_Detail!$K$24:$K$500,\"Nonmonitoring Equipment Malfunctions\"))","v":""},{"$f":"IF($E80=\"\",\"\",SUMIFS(CMS_Detail!$J$24:$J$500,CMS_Detail!$B$24:$B$500,Summary_Report_CMS!B80,CMS_Detail!$C$24:$C$500,Summary_Report_CMS!C80,CMS_Detail!$D$24:$D$500,D80,CMS_Detail!$K$24:$K$500,\"Quality Assurance/Quality Control Calibrations\"))","v":""},{"$f":"IF($E80=\"\",\"\",SUMIFS(CMS_Detail!$J$24:$J$500,CMS_Detail!$B$24:$B$500,Summary_Report_CMS!B80,CMS_Detail!$C$24:$C$500,Summary_Report_CMS!C80,CMS_Detail!$D$24:$D$500,D80,CMS_Detail!$K$24:$K$500,\"Other Known Causes\"))","v":""},{"$f":"IF($E80=\"\",\"\",SUMIFS(CMS_Detail!$J$24:$J$500,CMS_Detail!$B$24:$B$500,Summary_Report_CMS!B80,CMS_Detail!$C$24:$C$500,Summary_Report_CMS!C80,CMS_Detail!$D$24:$D$500,D80,CMS_Detail!$K$24:$K$500,\"Other Unknown Causes\"))","v":""}]
[null,null,null,null,null,{"$f":"IF(E81=\"\",\"\",SUMIFS(CMS_Detail!$J$24:$J$500,CMS_Detail!$B$24:$B$500,B81,CMS_Detail!$C$24:$C$500,C81,CMS_Detail!$D$24:$D$500,D81))","v":""},"",{"$f":"IF($E81=\"\",\"\",SUMIFS(CMS_Detail!$J$24:$J$500,CMS_Detail!$B$24:$B$500,Summary_Report_CMS!B81,CMS_Detail!$C$24:$C$500,Summary_Report_CMS!C81,CMS_Detail!$D$24:$D$500,D81,CMS_Detail!$K$24:$K$500,\"Monitoring Equipment Malfunctions\"))","v":""},{"$f":"IF($E81=\"\",\"\",SUMIFS(CMS_Detail!$J$24:$J$500,CMS_Detail!$B$24:$B$500,Summary_Report_CMS!B81,CMS_Detail!$C$24:$C$500,Summary_Report_CMS!C81,CMS_Detail!$D$24:$D$500,D81,CMS_Detail!$K$24:$K$500,\"Nonmonitoring Equipment Malfunctions\"))","v":""},{"$f":"IF($E81=\"\",\"\",SUMIFS(CMS_Detail!$J$24:$J$500,CMS_Detail!$B$24:$B$500,Summary_Report_CMS!B81,CMS_Detail!$C$24:$C$500,Summary_Report_CMS!C81,CMS_Detail!$D$24:$D$500,D81,CMS_Detail!$K$24:$K$500,\"Quality Assurance/Quality Control Calibrations\"))","v":""},{"$f":"IF($E81=\"\",\"\",SUMIFS(CMS_Detail!$J$24:$J$500,CMS_Detail!$B$24:$B$500,Summary_Report_CMS!B81,CMS_Detail!$C$24:$C$500,Summary_Report_CMS!C81,CMS_Detail!$D$24:$D$500,D81,CMS_Detail!$K$24:$K$500,\"Other Known Causes\"))","v":""},{"$f":"IF($E81=\"\",\"\",SUMIFS(CMS_Detail!$J$24:$J$500,CMS_Detail!$B$24:$B$500,Summary_Report_CMS!B81,CMS_Detail!$C$24:$C$500,Summary_Report_CMS!C81,CMS_Detail!$D$24:$D$500,D81,CMS_Detail!$K$24:$K$500,\"Other Unknown Causes\"))","v":""}]
[null,null,null,null,null,{"$f":"IF(E82=\"\",\"\",SUMIFS(CMS_Detail!$J$24:$J$500,CMS_Detail!$B$24:$B$500,B82,CMS_Detail!$C$24:$C$500,C82,CMS_Detail!$D$24:$D$500,D82))","v":""},"",{"$f":"IF($E82=\"\",\"\",SUMIFS(CMS_Detail!$J$24:$J$500,CMS_Detail!$B$24:$B$500,Summary_Report_CMS!B82,CMS_Detail!$C$24:$C$500,Summary_Report_CMS!C82,CMS_Detail!$D$24:$D$500,D82,CMS_Detail!$K$24:$K$500,\"Monitoring Equipment Malfunctions\"))","v":""},{"$f":"IF($E82=\"\",\"\",SUMIFS(CMS_Detail!$J$24:$J$500,CMS_Detail!$B$24:$B$500,Summary_Report_CMS!B82,CMS_Detail!$C$24:$C$500,Summary_Report_CMS!C82,CMS_Detail!$D$24:$D$500,D82,CMS_Detail!$K$24:$K$500,\"Nonmonitoring Equipment Malfunctions\"))","v":""},{"$f":"IF($E82=\"\",\"\",SUMIFS(CMS_Detail!$J$24:$J$500,CMS_Detail!$B$24:$B$500,Summary_Report_CMS!B82,CMS_Detail!$C$24:$C$500,Summary_Report_CMS!C82,CMS_Detail!$D$24:$D$500,D82,CMS_Detail!$K$24:$K$500,\"Quality Assurance/Quality Control Calibrations\"))","v":""},{"$f":"IF($E82=\"\",\"\",SUMIFS(CMS_Detail!$J$24:$J$500,CMS_Detail!$B$24:$B$500,Summary_Report_CMS!B82,CMS_Detail!$C$24:$C$500,Summary_Report_CMS!C82,CMS_Detail!$D$24:$D$500,D82,CMS_Detail!$K$24:$K$500,\"Other Known Causes\"))","v":""},{"$f":"IF($E82=\"\",\"\",SUMIFS(CMS_Detail!$J$24:$J$500,CMS_Detail!$B$24:$B$500,Summary_Report_CMS!B82,CMS_Detail!$C$24:$C$500,Summary_Report_CMS!C82,CMS_Detail!$D$24:$D$500,D82,CMS_Detail!$K$24:$K$500,\"Other Unknown Causes\"))","v":""}]
[null,null,null,null,null,{"$f":"IF(E83=\"\",\"\",SUMIFS(CMS_Detail!$J$24:$J$500,CMS_Detail!$B$24:$B$500,B83,CMS_Detail!$C$24:$C$500,C83,CMS_Detail!$D$24:$D$500,D83))","v":""},"",{"$f":"IF($E83=\"\",\"\",SUMIFS(CMS_Detail!$J$24:$J$500,CMS_Detail!$B$24:$B$500,Summary_Report_CMS!B83,CMS_Detail!$C$24:$C$500,Summary_Report_CMS!C83,CMS_Detail!$D$24:$D$500,D83,CMS_Detail!$K$24:$K$500,\"Monitoring Equipment Malfunctions\"))","v":""},{"$f":"IF($E83=\"\",\"\",SUMIFS(CMS_Detail!$J$24:$J$500,CMS_Detail!$B$24:$B$500,Summary_Report_CMS!B83,CMS_Detail!$C$24:$C$500,Summary_Report_CMS!C83,CMS_Detail!$D$24:$D$500,D83,CMS_Detail!$K$24:$K$500,\"Nonmonitoring Equipment Malfunctions\"))","v":""},{"$f":"IF($E83=\"\",\"\",SUMIFS(CMS_Detail!$J$24:$J$500,CMS_Detail!$B$24:$B$500,Summary_Report_CMS!B83,CMS_Detail!$C$24:$C$500,Summary_Report_CMS!C83,CMS_Detail!$D$24:$D$500,D83,CMS_Detail!$K$24:$K$500,\"Quality Assurance/Quality Control Calibrations\"))","v":""},{"$f":"IF($E83=\"\",\"\",SUMIFS(CMS_Detail!$J$24:$J$500,CMS_Detail!$B$24:$B$500,Summary_Report_CMS!B83,CMS_Detail!$C$24:$C$500,Summary_Report_CMS!C83,CMS_Detail!$D$24:$D$500,D83,CMS_Detail!$K$24:$K$500,\"Other Known Causes\"))","v":""},{"$f":"IF($E83=\"\",\"\",SUMIFS(CMS_Detail!$J$24:$J$500,CMS_Detail!$B$24:$B$500,Summary_Report_CMS!B83,CMS_Detail!$C$24:$C$500,Summary_Report_CMS!C83,CMS_Detail!$D$24:$D$500,D83,CMS_Detail!$K$24:$K$500,\"Other Unknown Causes\"))","v":""}]
[null,null,null,null,null,{"$f":"IF(E84=\"\",\"\",SUMIFS(CMS_Detail!$J$24:$J$500,CMS_Detail!$B$24:$B$500,B84,CMS_Detail!$C$24:$C$500,C84,CMS_Detail!$D$24:$D$500,D84))","v":""},"",{"$f":"IF($E84=\"\",\"\",SUMIFS(CMS_Detail!$J$24:$J$500,CMS_Detail!$B$24:$B$500,Summary_Report_CMS!B84,CMS_Detail!$C$24:$C$500,Summary_Report_CMS!C84,CMS_Detail!$D$24:$D$500,D84,CMS_Detail!$K$24:$K$500,\"Monitoring Equipment Malfunctions\"))","v":""},{"$f":"IF($E84=\"\",\"\",SUMIFS(CMS_Detail!$J$24:$J$500,CMS_Detail!$B$24:$B$500,Summary_Report_CMS!B84,CMS_Detail!$C$24:$C$500,Summary_Report_CMS!C84,CMS_Detail!$D$24:$D$500,D84,CMS_Detail!$K$24:$K$500,\"Nonmonitoring Equipment Malfunctions\"))","v":""},{"$f":"IF($E84=\"\",\"\",SUMIFS(CMS_Detail!$J$24:$J$500,CMS_Detail!$B$24:$B$500,Summary_Report_CMS!B84,CMS_Detail!$C$24:$C$500,Summary_Report_CMS!C84,CMS_Detail!$D$24:$D$500,D84,CMS_Detail!$K$24:$K$500,\"Quality Assurance/Quality Control Calibrations\"))","v":""},{"$f":"IF($E84=\"\",\"\",SUMIFS(CMS_Detail!$J$24:$J$500,CMS_Detail!$B$24:$B$500,Summary_Report_CMS!B84,CMS_Detail!$C$24:$C$500,Summary_Report_CMS!C84,CMS_Detail!$D$24:$D$500,D84,CMS_Detail!$K$24:$K$500,\"Other Known Causes\"))","v":""},{"$f":"IF($E84=\"\",\"\",SUMIFS(CMS_Detail!$J$24:$J$500,CMS_Detail!$B$24:$B$500,Summary_Report_CMS!B84,CMS_Detail!$C$24:$C$500,Summary_Report_CMS!C84,CMS_Detail!$D$24:$D$500,D84,CMS_Detail!$K$24:$K$500,\"Other Unknown Causes\"))","v":""}]
[null,null,null,null,null,{"$f":"IF(E85=\"\",\"\",SUMIFS(CMS_Detail!$J$24:$J$500,CMS_Detail!$B$24:$B$500,B85,CMS_Detail!$C$24:$C$500,C85,CMS_Detail!$D$24:$D$500,D85))","v":""},"",{"$f":"IF($E85=\"\",\"\",SUMIFS(CMS_Detail!$J$24:$J$500,CMS_Detail!$B$24:$B$500,Summary_Report_CMS!B85,CMS_Detail!$C$24:$C$500,Summary_Report_CMS!C85,CMS_Detail!$D$24:$D$500,D85,CMS_Detail!$K$24:$K$500,\"Monitoring Equipment Malfunctions\"))","v":""},{"$f":"IF($E85=\"\",\"\",SUMIFS(CMS_Detail!$J$24:$J$500,CMS_Detail!$B$24:$B$500,Summary_Report_CMS!B85,CMS_Detail!$C$24:$C$500,Summary_Report_CMS!C85,CMS_Detail!$D$24:$D$500,D85,CMS_Detail!$K$24:$K$500,\"Nonmonitoring Equipment Malfunctions\"))","v":""},{"$f":"IF($E85=\"\",\"\",SUMIFS(CMS_Detail!$J$24:$J$500,CMS_Detail!$B$24:$B$500,Summary_Report_CMS!B85,CMS_Detail!$C$24:$C$500,Summary_Report_CMS!C85,CMS_Detail!$D$24:$D$500,D85,CMS_Detail!$K$24:$K$500,\"Quality Assurance/Quality Control Calibrations\"))","v":""},{"$f":"IF($E85=\"\",\"\",SUMIFS(CMS_Detail!$J$24:$J$500,CMS_Detail!$B$24:$B$500,Summary_Report_CMS!B85,CMS_Detail!$C$24:$C$500,Summary_Report_CMS!C85,CMS_Detail!$D$24:$D$500,D85,CMS_Detail!$K$24:$K$500,\"Other Known Causes\"))","v":""},{"$f":"IF($E85=\"\",\"\",SUMIFS(CMS_Detail!$J$24:$J$500,CMS_Detail!$B$24:$B$500,Summary_Report_CMS!B85,CMS_Detail!$C$24:$C$500,Summary_Report_CMS!C85,CMS_Detail!$D$24:$D$500,D85,CMS_Detail!$K$24:$K$500,\"Other Unknown Causes\"))","v":""}]
[null,null,null,null,null,{"$f":"IF(E86=\"\",\"\",SUMIFS(CMS_Detail!$J$24:$J$500,CMS_Detail!$B$24:$B$500,B86,CMS_Detail!$C$24:$C$500,C86,CMS_Detail!$D$24:$D$500,D86))","v":""},"",{"$f":"IF($E86=\"\",\"\",SUMIFS(CMS_Detail!$J$24:$J$500,CMS_Detail!$B$24:$B$500,Summary_Report_CMS!B86,CMS_Detail!$C$24:$C$500,Summary_Report_CMS!C86,CMS_Detail!$D$24:$D$500,D86,CMS_Detail!$K$24:$K$500,\"Monitoring Equipment Malfunctions\"))","v":""},{"$f":"IF($E86=\"\",\"\",SUMIFS(CMS_Detail!$J$24:$J$500,CMS_Detail!$B$24:$B$500,Summary_Report_CMS!B86,CMS_Detail!$C$24:$C$500,Summary_Report_CMS!C86,CMS_Detail!$D$24:$D$500,D86,CMS_Detail!$K$24:$K$500,\"Nonmonitoring Equipment Malfunctions\"))","v":""},{"$f":"IF($E86=\"\",\"\",SUMIFS(CMS_Detail!$J$24:$J$500,CMS_Detail!$B$24:$B$500,Summary_Report_CMS!B86,CMS_Detail!$C$24:$C$500,Summary_Report_CMS!C86,CMS_Detail!$D$24:$D$500,D86,CMS_Detail!$K$24:$K$500,\"Quality Assurance/Quality Control Calibrations\"))","v":""},{"$f":"IF($E86=\"\",\"\",SUMIFS(CMS_Detail!$J$24:$J$500,CMS_Detail!$B$24:$B$500,Summary_Report_CMS!B86,CMS_Detail!$C$24:$C$500,Summary_Report_CMS!C86,CMS_Detail!$D$24:$D$500,D86,CMS_Detail!$K$24:$K$500,\"Other Known Causes\"))","v":""},{"$f":"IF($E86=\"\",\"\",SUMIFS(CMS_Detail!$J$24:$J$500,CMS_Detail!$B$24:$B$500,Summary_Report_CMS!B86,CMS_Detail!$C$24:$C$500,Summary_Report_CMS!C86,CMS_Detail!$D$24:$D$500,D86,CMS_Detail!$K$24:$K$500,\"Other Unknown Causes\"))","v":""}]
[null,null,null,null,null,{"$f":"IF(E87=\"\",\"\",SUMIFS(CMS_Detail!$J$24:$J$500,CMS_Detail!$B$24:$B$500,B87,CMS_Detail!$C$24:$C$500,C87,CMS_Detail!$D$24:$D$500,D87))","v":""},"",{"$f":"IF($E87=\"\",\"\",SUMIFS(CMS_Detail!$J$24:$J$500,CMS_Detail!$B$24:$B$500,Summary_Report_CMS!B87,CMS_Detail!$C$24:$C$500,Summary_Report_CMS!C87,CMS_Detail!$D$24:$D$500,D87,CMS_Detail!$K$24:$K$500,\"Monitoring Equipment Malfunctions\"))","v":""},{"$f":"IF($E87=\"\",\"\",SUMIFS(CMS_Detail!$J$24:$J$500,CMS_Detail!$B$24:$B$500,Summary_Report_CMS!B87,CMS_Detail!$C$24:$C$500,Summary_Report_CMS!C87,CMS_Detail!$D$24:$D$500,D87,CMS_Detail!$K$24:$K$500,\"Nonmonitoring Equipment Malfunctions\"))","v":""},{"$f":"IF($E87=\"\",\"\",SUMIFS(CMS_Detail!$J$24:$J$500,CMS_Detail!$B$24:$B$500,Summary_Report_CMS!B87,CMS_Detail!$C$24:$C$500,Summary_Report_CMS!C87,CMS_Detail!$D$24:$D$500,D87,CMS_Detail!$K$24:$K$500,\"Quality Assurance/Quality Control Calibrations\"))","v":""},{"$f":"IF($E87=\"\",\"\",SUMIFS(CMS_Detail!$J$24:$J$500,CMS_Detail!$B$24:$B$500,Summary_Report_CMS!B87,CMS_Detail!$C$24:$C$500,Summary_Report_CMS!C87,CMS_Detail!$D$24:$D$500,D87,CMS_Detail!$K$24:$K$500,\"Other Known Causes\"))","v":""},{"$f":"IF($E87=\"\",\"\",SUMIFS(CMS_Detail!$J$24:$J$500,CMS_Detail!$B$24:$B$500,Summary_Report_CMS!B87,CMS_Detail!$C$24:$C$500,Summary_Report_CMS!C87,CMS_Detail!$D$24:$D$500,D87,CMS_Detail!$K$24:$K$500,\"Other Unknown Causes\"))","v":""}]
[null,null,null,null,null,{"$f":"IF(E88=\"\",\"\",SUMIFS(CMS_Detail!$J$24:$J$500,CMS_Detail!$B$24:$B$500,B88,CMS_Detail!$C$24:$C$500,C88,CMS_Detail!$D$24:$D$500,D88))","v":""},"",{"$f":"IF($E88=\"\",\"\",SUMIFS(CMS_Detail!$J$24:$J$500,CMS_Detail!$B$24:$B$500,Summary_Report_CMS!B88,CMS_Detail!$C$24:$C$500,Summary_Report_CMS!C88,CMS_Detail!$D$24:$D$500,D88,CMS_Detail!$K$24:$K$500,\"Monitoring Equipment Malfunctions\"))","v":""},{"$f":"IF($E88=\"\",\"\",SUMIFS(CMS_Detail!$J$24:$J$500,CMS_Detail!$B$24:$B$500,Summary_Report_CMS!B88,CMS_Detail!$C$24:$C$500,Summary_Report_CMS!C88,CMS_Detail!$D$24:$D$500,D88,CMS_Detail!$K$24:$K$500,\"Nonmonitoring Equipment Malfunctions\"))","v":""},{"$f":"IF($E88=\"\",\"\",SUMIFS(CMS_Detail!$J$24:$J$500,CMS_Detail!$B$24:$B$500,Summary_Report_CMS!B88,CMS_Detail!$C$24:$C$500,Summary_Report_CMS!C88,CMS_Detail!$D$24:$D$500,D88,CMS_Detail!$K$24:$K$500,\"Quality Assurance/Quality Control Calibrations\"))","v":""},{"$f":"IF($E88=\"\",\"\",SUMIFS(CMS_Detail!$J$24:$J$500,CMS_Detail!$B$24:$B$500,Summary_Report_CMS!B88,CMS_Detail!$C$24:$C$500,Summary_Report_CMS!C88,CMS_Detail!$D$24:$D$500,D88,CMS_Detail!$K$24:$K$500,\"Other Known Causes\"))","v":""},{"$f":"IF($E88=\"\",\"\",SUMIFS(CMS_Detail!$J$24:$J$500,CMS_Detail!$B$24:$B$500,Summary_Report_CMS!B88,CMS_Detail!$C$24:$C$500,Summary_Report_CMS!C88,CMS_Detail!$D$24:$D$500,D88,CMS_Detail!$K$24:$K$500,\"Other Unknown Causes\"))","v":""}]
[null,null,null,null,null,{"$f":"IF(E89=\"\",\"\",SUMIFS(CMS_Detail!$J$24:$J$500,CMS_Detail!$B$24:$B$500,B89,CMS_Detail!$C$24:$C$500,C89,CMS_Detail!$D$24:$D$500,D89))","v":""},{"$f":"IF($E89=\"\",\"\",IF(F89=0,\"N/A\",F89/$E89))","v":""},{"$f":"IF($E89=\"\",\"\",SUMIFS(CMS_Detail!$J$24:$J$500,CMS_Detail!$B$24:$B$500,Summary_Report_CMS!B89,CMS_Detail!$C$24:$C$500,Summary_Report_CMS!C89,CMS_Detail!$D$24:$D$500,D89,CMS_Detail!$K$24:$K$500,\"Monitoring Equipment Malfunctions\"))","v":""},{"$f":"IF($E89=\"\",\"\",SUMIFS(CMS_Detail!$J$24:$J$500,CMS_Detail!$B$24:$B$500,Summary_Report_CMS!B89,CMS_Detail!$C$24:$C$500,Summary_Report_CMS!C89,CMS_Detail!$D$24:$D$500,D89,CMS_Detail!$K$24:$K$500,\"Nonmonitoring Equipment Malfunctions\"))","v":""},{"$f":"IF($E89=\"\",\"\",SUMIFS(CMS_Detail!$J$24:$J$500,CMS_Detail!$B$24:$B$500,Summary_Report_CMS!B89,CMS_Detail!$C$24:$C$500,Summary_Report_CMS!C89,CMS_Detail!$D$24:$D$500,D89,CMS_Detail!$K$24:$K$500,\"Quality Assurance/Quality Control Calibrations\"))","v":""},{"$f":"IF($E89=\"\",\"\",SUMIFS(CMS_Detail!$J$24:$J$500,CMS_Detail!$B$24:$B$500,Summary_Report_CMS!B89,CMS_Detail!$C$24:$C$500,Summary_Report_CMS!C89,CMS_Detail!$D$24:$D$500,D89,CMS_Detail!$K$24:$K$500,\"Other Known Causes\"))","v":""},{"$f":"IF($E89=\"\",\"\",SUMIFS(CMS_Detail!$J$24:$J$500,CMS_Detail!$B$24:$B$500,Summary_Report_CMS!B89,CMS_Detail!$C$24:$C$500,Summary_Report_CMS!C89,CMS_Detail!$D$24:$D$500,D89,CMS_Detail!$K$24:$K$500,\"Other Unknown Causes\"))","v":""}]
[null,null,null,null,null,{"$f":"IF(E90=\"\",\"\",SUMIFS(CMS_Detail!$J$24:$J$500,CMS_Detail!$B$24:$B$500,B90,CMS_Detail!$C$24:$C$500,C90,CMS_Detail!$D$24:$D$500,D90))","v":""},"",{"$f":"IF($E90=\"\",\"\",SUMIFS(CMS_Detail!$J$24:$J$500,CMS_Detail!$B$24:$B$500,Summary_Report_CMS!B90,CMS_Detail!$C$24:$C$500,Summary_Report_CMS!C90,CMS_Detail!$D$24:$D$500,D90,CMS_Detail!$K$24:$K$500,\"Monitoring Equipment Malfunctions\"))","v":""},{"$f":"IF($E90=\"\",\"\",SUMIFS(CMS_Detail!$J$24:$J$500,CMS_Detail!$B$24:$B$500,Summary_Report_CMS!B90,CMS_Detail!$C$24:$C$500,Summary_Report_CMS!C90,CMS_Detail!$D$24:$D$500,D90,CMS_Detail!$K$24:$K$500,\"Nonmonitoring Equipment Malfunctions\"))","v":""},{"$f":"IF($E90=\"\",\"\",SUMIFS(CMS_Detail!$J$24:$J$500,CMS_Detail!$B$24:$B$500,Summary_Report_CMS!B90,CMS_Detail!$C$24:$C$500,Summary_Report_CMS!C90,CMS_Detail!$D$24:$D$500,D90,CMS_Detail!$K$24:$K$500,\"Quality Assurance/Quality Control Calibrations\"))","v":""},{"$f":"IF($E90=\"\",\"\",SUMIFS(CMS_Detail!$J$24:$J$500,CMS_Detail!$B$24:$B$500,Summary_Report_CMS!B90,CMS_Detail!$C$24:$C$500,Summary_Report_CMS!C90,CMS_Detail!$D$24:$D$500,D90,CMS_Detail!$K$24:$K$500,\"Other Known Causes\"))","v":""},{"$f":"IF($E90=\"\",\"\",SUMIFS(CMS_Detail!$J$24:$J$500,CMS_Detail!$B$24:$B$500,Summary_Report_CMS!B90,CMS_Detail!$C$24:$C$500,Summary_Report_CMS!C90,CMS_Detail!$D$24:$D$500,D90,CMS_Detail!$K$24:$K$500,\"Other Unknown Causes\"))","v":""}]
[null,null,null,null,null,{"$f":"IF(E91=\"\",\"\",SUMIFS(CMS_Detail!$J$24:$J$500,CMS_Detail!$B$24:$B$500,B91,CMS_Detail!$C$24:$C$500,C91,CMS_Detail!$D$24:$D$500,D91))","v":""},"",{"$f":"IF($E91=\"\",\"\",SUMIFS(CMS_Detail!$J$24:$J$500,CMS_Detail!$B$24:$B$500,Summary_Report_CMS!B91,CMS_Detail!$C$24:$C$500,Summary_Report_CMS!C91,CMS_Detail!$D$24:$D$500,D91,CMS_Detail!$K$24:$K$500,\"Monitoring Equipment Malfunctions\"))","v":""},{"$f":"IF($E91=\"\",\"\",SUMIFS(CMS_Detail!$J$24:$J$500,CMS_Detail!$B$24:$B$500,Summary_Report_CMS!B91,CMS_Detail!$C$24:$C$500,Summary_Report_CMS!C91,CMS_Detail!$D$24:$D$500,D91,CMS_Detail!$K$24:$K$500,\"Nonmonitoring Equipment Malfunctions\"))","v":""},{"$f":"IF($E91=\"\",\"\",SUMIFS(CMS_Detail!$J$24:$J$500,CMS_Detail!$B$24:$B$500,Summary_Report_CMS!B91,CMS_Detail!$C$24:$C$500,Summary_Report_CMS!C91,CMS_Detail!$D$24:$D$500,D91,CMS_Detail!$K$24:$K$500,\"Quality Assurance/Quality Control Calibrations\"))","v":""},{"$f":"IF($E91=\"\",\"\",SUMIFS(CMS_Detail!$J$24:$J$500,CMS_Detail!$B$24:$B$500,Summary_Report_CMS!B91,CMS_Detail!$C$24:$C$500,Summary_Report_CMS!C91,CMS_Detail!$D$24:$D$500,D91,CMS_Detail!$K$24:$K$500,\"Other Known Causes\"))","v":""},{"$f":"IF($E91=\"\",\"\",SUMIFS(CMS_Detail!$J$24:$J$500,CMS_Detail!$B$24:$B$500,Summary_Report_CMS!B91,CMS_Detail!$C$24:$C$500,Summary_Report_CMS!C91,CMS_Detail!$D$24:$D$500,D91,CMS_Detail!$K$24:$K$500,\"Other Unknown Causes\"))","v":""}]
[null,null,null,null,null,{"$f":"IF(E92=\"\",\"\",SUMIFS(CMS_Detail!$J$24:$J$500,CMS_Detail!$B$24:$B$500,B92,CMS_Detail!$C$24:$C$500,C92,CMS_Detail!$D$24:$D$500,D92))","v":""},"",{"$f":"IF($E92=\"\",\"\",SUMIFS(CMS_Detail!$J$24:$J$500,CMS_Detail!$B$24:$B$500,Summary_Report_CMS!B92,CMS_Detail!$C$24:$C$500,Summary_Report_CMS!C92,CMS_Detail!$D$24:$D$500,D92,CMS_Detail!$K$24:$K$500,\"Monitoring Equipment Malfunctions\"))","v":""},{"$f":"IF($E92=\"\",\"\",SUMIFS(CMS_Detail!$J$24:$J$500,CMS_Detail!$B$24:$B$500,Summary_Report_CMS!B92,CMS_Detail!$C$24:$C$500,Summary_Report_CMS!C92,CMS_Detail!$D$24:$D$500,D92,CMS_Detail!$K$24:$K$500,\"Nonmonitoring Equipment Malfunctions\"))","v":""},{"$f":"IF($E92=\"\",\"\",SUMIFS(CMS_Detail!$J$24:$J$500,CMS_Detail!$B$24:$B$500,Summary_Report_CMS!B92,CMS_Detail!$C$24:$C$500,Summary_Report_CMS!C92,CMS_Detail!$D$24:$D$500,D92,CMS_Detail!$K$24:$K$500,\"Quality Assurance/Quality Control Calibrations\"))","v":""},{"$f":"IF($E92=\"\",\"\",SUMIFS(CMS_Detail!$J$24:$J$500,CMS_Detail!$B$24:$B$500,Summary_Report_CMS!B92,CMS_Detail!$C$24:$C$500,Summary_Report_CMS!C92,CMS_Detail!$D$24:$D$500,D92,CMS_Detail!$K$24:$K$500,\"Other Known Causes\"))","v":""},{"$f":"IF($E92=\"\",\"\",SUMIFS(CMS_Detail!$J$24:$J$500,CMS_Detail!$B$24:$B$500,Summary_Report_CMS!B92,CMS_Detail!$C$24:$C$500,Summary_Report_CMS!C92,CMS_Detail!$D$24:$D$500,D92,CMS_Detail!$K$24:$K$500,\"Other Unknown Causes\"))","v":""}]
[null,null,null,null,null,{"$f":"IF(E93=\"\",\"\",SUMIFS(CMS_Detail!$J$24:$J$500,CMS_Detail!$B$24:$B$500,B93,CMS_Detail!$C$24:$C$500,C93,CMS_Detail!$D$24:$D$500,D93))","v":""},"",{"$f":"IF($E93=\"\",\"\",SUMIFS(CMS_Detail!$J$24:$J$500,CMS_Detail!$B$24:$B$500,Summary_Report_CMS!B93,CMS_Detail!$C$24:$C$500,Summary_Report_CMS!C93,CMS_Detail!$D$24:$D$500,D93,CMS_Detail!$K$24:$K$500,\"Monitoring Equipment Malfunctions\"))","v":""},{"$f":"IF($E93=\"\",\"\",SUMIFS(CMS_Detail!$J$24:$J$500,CMS_Detail!$B$24:$B$500,Summary_Report_CMS!B93,CMS_Detail!$C$24:$C$500,Summary_Report_CMS!C93,CMS_Detail!$D$24:$D$500,D93,CMS_Detail!$K$24:$K$500,\"Nonmonitoring Equipment Malfunctions\"))","v":""},{"$f":"IF($E93=\"\",\"\",SUMIFS(CMS_Detail!$J$24:$J$500,CMS_Detail!$B$24:$B$500,Summary_Report_CMS!B93,CMS_Detail!$C$24:$C$500,Summary_Report_CMS!C93,CMS_Detail!$D$24:$D$500,D93,CMS_Detail!$K$24:$K$500,\"Quality Assurance/Quality Control Calibrations\"))","v":""},{"$f":"IF($E93=\"\",\"\",SUMIFS(CMS_Detail!$J$24:$J$500,CMS_Detail!$B$24:$B$500,Summary_Report_CMS!B93,CMS_Detail!$C$24:$C$500,Summary_Report_CMS!C93,CMS_Detail!$D$24:$D$500,D93,CMS_Detail!$K$24:$K$500,\"Other Known Causes\"))","v":""},{"$f":"IF($E93=\"\",\"\",SUMIFS(CMS_Detail!$J$24:$J$500,CMS_Detail!$B$24:$B$500,Summary_Report_CMS!B93,CMS_Detail!$C$24:$C$500,Summary_Report_CMS!C93,CMS_Detail!$D$24:$D$500,D93,CMS_Detail!$K$24:$K$500,\"Other Unknown Causes\"))","v":""}]
[null,null,null,null,null,{"$f":"IF(E94=\"\",\"\",SUMIFS(CMS_Detail!$J$24:$J$500,CMS_Detail!$B$24:$B$500,B94,CMS_Detail!$C$24:$C$500,C94,CMS_Detail!$D$24:$D$500,D94))","v":""},"",{"$f":"IF($E94=\"\",\"\",SUMIFS(CMS_Detail!$J$24:$J$500,CMS_Detail!$B$24:$B$500,Summary_Report_CMS!B94,CMS_Detail!$C$24:$C$500,Summary_Report_CMS!C94,CMS_Detail!$D$24:$D$500,D94,CMS_Detail!$K$24:$K$500,\"Monitoring Equipment Malfunctions\"))","v":""},{"$f":"IF($E94=\"\",\"\",SUMIFS(CMS_Detail!$J$24:$J$500,CMS_Detail!$B$24:$B$500,Summary_Report_CMS!B94,CMS_Detail!$C$24:$C$500,Summary_Report_CMS!C94,CMS_Detail!$D$24:$D$500,D94,CMS_Detail!$K$24:$K$500,\"Nonmonitoring Equipment Malfunctions\"))","v":""},{"$f":"IF($E94=\"\",\"\",SUMIFS(CMS_Detail!$J$24:$J$500,CMS_Detail!$B$24:$B$500,Summary_Report_CMS!B94,CMS_Detail!$C$24:$C$500,Summary_Report_CMS!C94,CMS_Detail!$D$24:$D$500,D94,CMS_Detail!$K$24:$K$500,\"Quality Assurance/Quality Control Calibrations\"))","v":""},{"$f":"IF($E94=\"\",\"\",SUMIFS(CMS_Detail!$J$24:$J$500,CMS_Detail!$B$24:$B$500,Summary_Report_CMS!B94,CMS_Detail!$C$24:$C$500,Summary_Report_CMS!C94,CMS_Detail!$D$24:$D$500,D94,CMS_Detail!$K$24:$K$500,\"Other Known Causes\"))","v":""},{"$f":"IF($E94=\"\",\"\",SUMIFS(CMS_Detail!$J$24:$J$500,CMS_Detail!$B$24:$B$500,Summary_Report_CMS!B94,CMS_Detail!$C$24:$C$500,Summary_Report_CMS!C94,CMS_Detail!$D$24:$D$500,D94,CMS_Detail!$K$24:$K$500,\"Other Unknown Causes\"))","v":""}]
[null,null,null,null,null,{"$f":"IF(E95=\"\",\"\",SUMIFS(CMS_Detail!$J$24:$J$500,CMS_Detail!$B$24:$B$500,B95,CMS_Detail!$C$24:$C$500,C95,CMS_Detail!$D$24:$D$500,D95))","v":""},"",{"$f":"IF($E95=\"\",\"\",SUMIFS(CMS_Detail!$J$24:$J$500,CMS_Detail!$B$24:$B$500,Summary_Report_CMS!B95,CMS_Detail!$C$24:$C$500,Summary_Report_CMS!C95,CMS_Detail!$D$24:$D$500,D95,CMS_Detail!$K$24:$K$500,\"Monitoring Equipment Malfunctions\"))","v":""},{"$f":"IF($E95=\"\",\"\",SUMIFS(CMS_Detail!$J$24:$J$500,CMS_Detail!$B$24:$B$500,Summary_Report_CMS!B95,CMS_Detail!$C$24:$C$500,Summary_Report_CMS!C95,CMS_Detail!$D$24:$D$500,D95,CMS_Detail!$K$24:$K$500,\"Nonmonitoring Equipment Malfunctions\"))","v":""},{"$f":"IF($E95=\"\",\"\",SUMIFS(CMS_Detail!$J$24:$J$500,CMS_Detail!$B$24:$B$500,Summary_Report_CMS!B95,CMS_Detail!$C$24:$C$500,Summary_Report_CMS!C95,CMS_Detail!$D$24:$D$500,D95,CMS_Detail!$K$24:$K$500,\"Quality Assurance/Quality Control Calibrations\"))","v":""},{"$f":"IF($E95=\"\",\"\",SUMIFS(CMS_Detail!$J$24:$J$500,CMS_Detail!$B$24:$B$500,Summary_Report_CMS!B95,CMS_Detail!$C$24:$C$500,Summary_Report_CMS!C95,CMS_Detail!$D$24:$D$500,D95,CMS_Detail!$K$24:$K$500,\"Other Known Causes\"))","v":""},{"$f":"IF($E95=\"\",\"\",SUMIFS(CMS_Detail!$J$24:$J$500,CMS_Detail!$B$24:$B$500,Summary_Report_CMS!B95,CMS_Detail!$C$24:$C$500,Summary_Report_CMS!C95,CMS_Detail!$D$24:$D$500,D95,CMS_Detail!$K$24:$K$500,\"Other Unknown Causes\"))","v":""}]
[null,null,null,null,null,{"$f":"IF(E96=\"\",\"\",SUMIFS(CMS_Detail!$J$24:$J$500,CMS_Detail!$B$24:$B$500,B96,CMS_Detail!$C$24:$C$500,C96,CMS_Detail!$D$24:$D$500,D96))","v":""},"",{"$f":"IF($E96=\"\",\"\",SUMIFS(CMS_Detail!$J$24:$J$500,CMS_Detail!$B$24:$B$500,Summary_Report_CMS!B96,CMS_Detail!$C$24:$C$500,Summary_Report_CMS!C96,CMS_Detail!$D$24:$D$500,D96,CMS_Detail!$K$24:$K$500,\"Monitoring Equipment Malfunctions\"))","v":""},{"$f":"IF($E96=\"\",\"\",SUMIFS(CMS_Detail!$J$24:$J$500,CMS_Detail!$B$24:$B$500,Summary_Report_CMS!B96,CMS_Detail!$C$24:$C$500,Summary_Report_CMS!C96,CMS_Detail!$D$24:$D$500,D96,CMS_Detail!$K$24:$K$500,\"Nonmonitoring Equipment Malfunctions\"))","v":""},{"$f":"IF($E96=\"\",\"\",SUMIFS(CMS_Detail!$J$24:$J$500,CMS_Detail!$B$24:$B$500,Summary_Report_CMS!B96,CMS_Detail!$C$24:$C$500,Summary_Report_CMS!C96,CMS_Detail!$D$24:$D$500,D96,CMS_Detail!$K$24:$K$500,\"Quality Assurance/Quality Control Calibrations\"))","v":""},{"$f":"IF($E96=\"\",\"\",SUMIFS(CMS_Detail!$J$24:$J$500,CMS_Detail!$B$24:$B$500,Summary_Report_CMS!B96,CMS_Detail!$C$24:$C$500,Summary_Report_CMS!C96,CMS_Detail!$D$24:$D$500,D96,CMS_Detail!$K$24:$K$500,\"Other Known Causes\"))","v":""},{"$f":"IF($E96=\"\",\"\",SUMIFS(CMS_Detail!$J$24:$J$500,CMS_Detail!$B$24:$B$500,Summary_Report_CMS!B96,CMS_Detail!$C$24:$C$500,Summary_Report_CMS!C96,CMS_Detail!$D$24:$D$500,D96,CMS_Detail!$K$24:$K$500,\"Other Unknown Causes\"))","v":""}]
[null,null,null,null,null,{"$f":"IF(E97=\"\",\"\",SUMIFS(CMS_Detail!$J$24:$J$500,CMS_Detail!$B$24:$B$500,B97,CMS_Detail!$C$24:$C$500,C97,CMS_Detail!$D$24:$D$500,D97))","v":""},"",{"$f":"IF($E97=\"\",\"\",SUMIFS(CMS_Detail!$J$24:$J$500,CMS_Detail!$B$24:$B$500,Summary_Report_CMS!B97,CMS_Detail!$C$24:$C$500,Summary_Report_CMS!C97,CMS_Detail!$D$24:$D$500,D97,CMS_Detail!$K$24:$K$500,\"Monitoring Equipment Malfunctions\"))","v":""},{"$f":"IF($E97=\"\",\"\",SUMIFS(CMS_Detail!$J$24:$J$500,CMS_Detail!$B$24:$B$500,Summary_Report_CMS!B97,CMS_Detail!$C$24:$C$500,Summary_Report_CMS!C97,CMS_Detail!$D$24:$D$500,D97,CMS_Detail!$K$24:$K$500,\"Nonmonitoring Equipment Malfunctions\"))","v":""},{"$f":"IF($E97=\"\",\"\",SUMIFS(CMS_Detail!$J$24:$J$500,CMS_Detail!$B$24:$B$500,Summary_Report_CMS!B97,CMS_Detail!$C$24:$C$500,Summary_Report_CMS!C97,CMS_Detail!$D$24:$D$500,D97,CMS_Detail!$K$24:$K$500,\"Quality Assurance/Quality Control Calibrations\"))","v":""},{"$f":"IF($E97=\"\",\"\",SUMIFS(CMS_Detail!$J$24:$J$500,CMS_Detail!$B$24:$B$500,Summary_Report_CMS!B97,CMS_Detail!$C$24:$C$500,Summary_Report_CMS!C97,CMS_Detail!$D$24:$D$500,D97,CMS_Detail!$K$24:$K$500,\"Other Known Causes\"))","v":""},{"$f":"IF($E97=\"\",\"\",SUMIFS(CMS_Detail!$J$24:$J$500,CMS_Detail!$B$24:$B$500,Summary_Report_CMS!B97,CMS_Detail!$C$24:$C$500,Summary_Report_CMS!C97,CMS_Detail!$D$24:$D$500,D97,CMS_Detail!$K$24:$K$500,\"Other Unknown Causes\"))","v":""}]
[null,null,null,null,null,{"$f":"IF(E98=\"\",\"\",SUMIFS(CMS_Detail!$J$24:$J$500,CMS_Detail!$B$24:$B$500,B98,CMS_Detail!$C$24:$C$500,C98,CMS_Detail!$D$24:$D$500,D98))","v":""},"",{"$f":"IF($E98=\"\",\"\",SUMIFS(CMS_Detail!$J$24:$J$500,CMS_Detail!$B$24:$B$500,Summary_Report_CMS!B98,CMS_Detail!$C$24:$C$500,Summary_Report_CMS!C98,CMS_Detail!$D$24:$D$500,D98,CMS_Detail!$K$24:$K$500,\"Monitoring Equipment Malfunctions\"))","v":""},{"$f":"IF($E98=\"\",\"\",SUMIFS(CMS_Detail!$J$24:$J$500,CMS_Detail!$B$24:$B$500,Summary_Report_CMS!B98,CMS_Detail!$C$24:$C$500,Summary_Report_CMS!C98,CMS_Detail!$D$24:$D$500,D98,CMS_Detail!$K$24:$K$500,\"Nonmonitoring Equipment Malfunctions\"))","v":""},{"$f":"IF($E98=\"\",\"\",SUMIFS(CMS_Detail!$J$24:$J$500,CMS_Detail!$B$24:$B$500,Summary_Report_CMS!B98,CMS_Detail!$C$24:$C$500,Summary_Report_CMS!C98,CMS_Detail!$D$24:$D$500,D98,CMS_Detail!$K$24:$K$500,\"Quality Assurance/Quality Control Calibrations\"))","v":""},{"$f":"IF($E98=\"\",\"\",SUMIFS(CMS_Detail!$J$24:$J$500,CMS_Detail!$B$24:$B$500,Summary_Report_CMS!B98,CMS_Detail!$C$24:$C$500,Summary_Report_CMS!C98,CMS_Detail!$D$24:$D$500,D98,CMS_Detail!$K$24:$K$500,\"Other Known Causes\"))","v":""},{"$f":"IF($E98=\"\",\"\",SUMIFS(CMS_Detail!$J$24:$J$500,CMS_Detail!$B$24:$B$500,Summary_Report_CMS!B98,CMS_Detail!$C$24:$C$500,Summary_Report_CMS!C98,CMS_Detail!$D$24:$D$500,D98,CMS_Detail!$K$24:$K$500,\"Other Unknown Causes\"))","v":""}]
[null,null,null,null,null,{"$f":"IF(E99=\"\",\"\",SUMIFS(CMS_Detail!$J$24:$J$500,CMS_Detail!$B$24:$B$500,B99,CMS_Detail!$C$24:$C$500,C99,CMS_Detail!$D$24:$D$500,D99))","v":""},"",{"$f":"IF($E99=\"\",\"\",SUMIFS(CMS_Detail!$J$24:$J$500,CMS_Detail!$B$24:$B$500,Summary_Report_CMS!B99,CMS_Detail!$C$24:$C$500,Summary_Report_CMS!C99,CMS_Detail!$D$24:$D$500,D99,CMS_Detail!$K$24:$K$500,\"Monitoring Equipment Malfunctions\"))","v":""},{"$f":"IF($E99=\"\",\"\",SUMIFS(CMS_Detail!$J$24:$J$500,CMS_Detail!$B$24:$B$500,Summary_Report_CMS!B99,CMS_Detail!$C$24:$C$500,Summary_Report_CMS!C99,CMS_Detail!$D$24:$D$500,D99,CMS_Detail!$K$24:$K$500,\"Nonmonitoring Equipment Malfunctions\"))","v":""},{"$f":"IF($E99=\"\",\"\",SUMIFS(CMS_Detail!$J$24:$J$500,CMS_Detail!$B$24:$B$500,Summary_Report_CMS!B99,CMS_Detail!$C$24:$C$500,Summary_Report_CMS!C99,CMS_Detail!$D$24:$D$500,D99,CMS_Detail!$K$24:$K$500,\"Quality Assurance/Quality Control Calibrations\"))","v":""},{"$f":"IF($E99=\"\",\"\",SUMIFS(CMS_Detail!$J$24:$J$500,CMS_Detail!$B$24:$B$500,Summary_Report_CMS!B99,CMS_Detail!$C$24:$C$500,Summary_Report_CMS!C99,CMS_Detail!$D$24:$D$500,D99,CMS_Detail!$K$24:$K$500,\"Other Known Causes\"))","v":""},{"$f":"IF($E99=\"\",\"\",SUMIFS(CMS_Detail!$J$24:$J$500,CMS_Detail!$B$24:$B$500,Summary_Report_CMS!B99,CMS_Detail!$C$24:$C$500,Summary_Report_CMS!C99,CMS_Detail!$D$24:$D$500,D99,CMS_Detail!$K$24:$K$500,\"Other Unknown Causes\"))","v":""}]
[null,null,null,null,null,{"$f":"IF(E100=\"\",\"\",SUMIFS(CMS_Detail!$J$24:$J$500,CMS_Detail!$B$24:$B$500,B100,CMS_Detail!$C$24:$C$500,C100,CMS_Detail!$D$24:$D$500,D100))","v":""},"",{"$f":"IF($E100=\"\",\"\",SUMIFS(CMS_Detail!$J$24:$J$500,CMS_Detail!$B$24:$B$500,Summary_Report_CMS!B100,CMS_Detail!$C$24:$C$500,Summary_Report_CMS!C100,CMS_Detail!$D$24:$D$500,D100,CMS_Detail!$K$24:$K$500,\"Monitoring Equipment Malfunctions\"))","v":""},{"$f":"IF($E100=\"\",\"\",SUMIFS(CMS_Detail!$J$24:$J$500,CMS_Detail!$B$24:$B$500,Summary_Report_CMS!B100,CMS_Detail!$C$24:$C$500,Summary_Report_CMS!C100,CMS_Detail!$D$24:$D$500,D100,CMS_Detail!$K$24:$K$500,\"Nonmonitoring Equipment Malfunctions\"))","v":""},{"$f":"IF($E100=\"\",\"\",SUMIFS(CMS_Detail!$J$24:$J$500,CMS_Detail!$B$24:$B$500,Summary_Report_CMS!B100,CMS_Detail!$C$24:$C$500,Summary_Report_CMS!C100,CMS_Detail!$D$24:$D$500,D100,CMS_Detail!$K$24:$K$500,\"Quality Assurance/Quality Control Calibrations\"))","v":""},{"$f":"IF($E100=\"\",\"\",SUMIFS(CMS_Detail!$J$24:$J$500,CMS_Detail!$B$24:$B$500,Summary_Report_CMS!B100,CMS_Detail!$C$24:$C$500,Summary_Report_CMS!C100,CMS_Detail!$D$24:$D$500,D100,CMS_Detail!$K$24:$K$500,\"Other Known Causes\"))","v":""},{"$f":"IF($E100=\"\",\"\",SUMIFS(CMS_Detail!$J$24:$J$500,CMS_Detail!$B$24:$B$500,Summary_Report_CMS!B100,CMS_Detail!$C$24:$C$500,Summary_Report_CMS!C100,CMS_Detail!$D$24:$D$500,D100,CMS_Detail!$K$24:$K$500,\"Other Unknown Causes\"))","v":""}]

{"sheet":"Summary_Report_Limits","index":9,"n_rows":100,"n_cols":11,"rows_kept":100,"cut":false,"hidden":false,"merged":[]}
[null,"DO NOT REMOVE OR EDIT INFORMATION IN ROWS 1 THROUGH 5\nFOR INTERNAL USE ONLY"]
[null,"Template Name",{"$f":"+Welcome!B2","v":"63.5912 (d) Semiannual Compliance Report (Spreadsheet Template)"}]
[null,"CitationID",{"$f":"+Welcome!B3","v":"63.5912(d)"}]
[null,"Template Version",{"$f":"+Welcome!B4","v":"v1.01"}]
[null,"Last Updated Date",{"$f":"+Welcome!B5","v":45391}]
[null,"40 CFR Part 63, Subpart WWWW National Emission Standards for Hazardous Air Pollutants: Reinforced Plastic Composites Production"]
[null,"§63.5912(d) Semiannual Compliance Report Spreadsheet Template"]
[null,"\n"]
[]
[]
[]
[null,"Company Record No. \n(Select from Dropdown)","Process Unit Description\n(§63.10(e)(3)(vi)(D))\n(Select from Dropdown)","Emission and Operating Parameter Limitations \n(§63.10(e)(3)(vi)(E))\n(Select from dropdown)\n","Total Source\nOperating Time \n(hours)\n(§63.10(e)(3)(vi)(H) and §63.10(c)(13)))","Total Duration of \nDeviations from \nEmission, Operating, \nOpacity, or Visible \nEmissions Limits \n(hours) \n(§63.10(e)(3)(vi)(I))\n(Direct import from Limits Detail)","Total Duration of \nDeviations from\nEmission, Operating, \nOpacity, or Visible \nEmissions Limits as a \nper cent of \nTotal Source Operating Time \n(§63.10(e)(3)(vi)(I))\n(Calculated result)","Total Duration of \nDeviations from \nEmission, Operating, \nOpacity, or Visible \nEmissions Limits Due to \nControl Equipment Problems \n(hours)  \n(§63.10(e)(3)(vi)(I))\n(Direct import from Limits Detail)","Total Duration of \nDeviations from\nEmission, Operating, \nOpacity, or Visible \nEmissions Limits Due to \nProcess Problems \n(hours)  \n(§63.10(e)(3)(vi)(I))\n(Direct import from Limits Detail)","Total Duration of\nDeviations from \nEmission, Operating, \nOpacity, or Visible \nEmissions Limits Due to \nOther Known Causes \n(hours)  \n(§63.10(e)(3)(vi)(I))\n(Direct import from Limits Detail)","Total Duration of Deviations from Emission, Operating, Opacity, or Visible Emissions Limits Due to Other Unknown Causes (hours)  \n(§63.10(e)(3)(vi)(I))\n(Direct import from Limits Detail)"]
[null,"RecordId","ProcessUnitDesc","ParameterLimit","TotalOperatingTime","EmissionsDeviationDuration","EmissionsDeviationPercent","EmissionsDeviationEquipment","EmissionsDeviationProcess","EmissionsDeviationOther","EmissionsDeviationUnknown"]
[null,"e.g.: 1","e.g.: Open Molding","e.g.: Carbon Absorber Carbon Bed Temperature","e.g.: 6240","e.g.: 23.13","e.g.: 0.58%","e.g.: 23.13","e.g.: 0","e.g.: 0","e.g.: 0"]
[]
[]
[]
[]
[]
[]
[]
[]
[]
[null,null,null,null,null,{"$f":"IF(E24=\"\",\"\",SUMIFS(Limits_Detail!$K$24:$K$500,Limits_Detail!$B$24:$B$500,B24,Limits_Detail!$C$24:$C$500,C24,Limits_Detail!$D$24:$D$500,D24))","v":""},{"$f":"IF($E24=\"\",\"\",IF(F24=0,\"N/A\",F24/$E24))","v":""},{"$f":"IF(E24=\"\",\"\",SUMIFS(Limits_Detail!$K$24:$K$500,Limits_Detail!$B$24:$B$500,B24,Limits_Detail!$C$24:$C$500,C24,Limits_Detail!$D$24:$D$500,D24,Limits_Detail!$I$24:$I$500,\"Control Equipment Problems\"))","v":""},{"$f":"IF(E24=\"\",\"\",SUMIFS(Limits_Detail!$K$24:$K$500,Limits_Detail!$B$24:$B$500,B24,Limits_Detail!$C$24:$C$500,C24,Limits_Detail!$D$24:$D$500,D24,Limits_Detail!$I$24:$I$500,\"Process Problems\"))","v":""},{"$f":"IF(E24=\"\",\"\",SUMIFS(Limits_Detail!$K$24:$K$500,Limits_Detail!$B$24:$B$500,B24,Limits_Detail!$C$24:$C$500,C24,Limits_Detail!$D$24:$D$500,D24,Limits_Detail!$I$24:$I$500,\"Other Known Causes\"))","v":""},{"$f":"IF(E24=\"\",\"\",SUMIFS(Limits_Detail!$K$24:$K$500,Limits_Detail!$B$24:$B$500,B24,Limits_Detail!$C$24:$C$500,C24,Limits_Detail!$D$24:$D$500,D24,Limits_Detail!$I$24:$I$500,\"Other Unknown Causes\"))","v":""}]
[null,null,null,null,null,{"$f":"IF(E25=\"\",\"\",SUMIFS(Limits_Detail!$K$24:$K$500,Limits_Detail!$B$24:$B$500,B25,Limits_Detail!$C$24:$C$500,C25,Limits_Detail!$D$24:$D$500,D25))","v":""},{"$f":"IF($E25=\"\",\"\",IF(F25=0,\"N/A\",F25/$E25))","v":""},{"$f":"IF(E25=\"\",\"\",SUMIFS(Limits_Detail!$K$24:$K$500,Limits_Detail!$B$24:$B$500,B25,Limits_Detail!$C$24:$C$500,C25,Limits_Detail!$D$24:$D$500,D25,Limits_Detail!$I$24:$I$500,\"Control Equipment Problems\"))","v":""},{"$f":"IF(E25=\"\",\"\",SUMIFS(Limits_Detail!$K$24:$K$500,Limits_Detail!$B$24:$B$500,B25,Limits_Detail!$C$24:$C$500,C25,Limits_Detail!$D$24:$D$500,D25,Limits_Detail!$I$24:$I$500,\"Process Problems\"))","v":""},{"$f":"IF(E25=\"\",\"\",SUMIFS(Limits_Detail!$K$24:$K$500,Limits_Detail!$B$24:$B$500,B25,Limits_Detail!$C$24:$C$500,C25,Limits_Detail!$D$24:$D$500,D25,Limits_Detail!$I$24:$I$500,\"Other Known Causes\"))","v":""},{"$f":"IF(E25=\"\",\"\",SUMIFS(Limits_Detail!$K$24:$K$500,Limits_Detail!$B$24:$B$500,B25,Limits_Detail!$C$24:$C$500,C25,Limits_Detail!$D$24:$D$500,D25,Limits_Detail!$I$24:$I$500,\"Other Unknown Causes\"))","v":""}]
[null,null,null,null,null,{"$f":"IF(E26=\"\",\"\",SUMIFS(Limits_Detail!$K$24:$K$500,Limits_Detail!$B$24:$B$500,B26,Limits_Detail!$C$24:$C$500,C26,Limits_Detail!$D$24:$D$500,D26))","v":""},"",{"$f":"IF(E26=\"\",\"\",SUMIFS(Limits_Detail!$K$24:$K$500,Limits_Detail!$B$24:$B$500,B26,Limits_Detail!$C$24:$C$500,C26,Limits_Detail!$D$24:$D$500,D26,Limits_Detail!$I$24:$I$500,\"Control Equipment Problems\"))","v":""},{"$f":"IF(E26=\"\",\"\",SUMIFS(Limits_Detail!$K$24:$K$500,Limits_Detail!$B$24:$B$500,B26,Limits_Detail!$C$24:$C$500,C26,Limits_Detail!$D$24:$D$500,D26,Limits_Detail!$I$24:$I$500,\"Process Problems\"))","v":""},{"$f":"IF(E26=\"\",\"\",SUMIFS(Limits_Detail!$K$24:$K$500,Limits_Detail!$B$24:$B$500,B26,Limits_Detail!$C$24:$C$500,C26,Limits_Detail!$D$24:$D$500,D26,Limits_Detail!$I$24:$I$500,\"Other Known Causes\"))","v":""},{"$f":"IF(E26=\"\",\"\",SUMIFS(Limits_Detail!$K$24:$K$500,Limits_Detail!$B$24:$B$500,B26,Limits_Detail!$C$24:$C$500,C26,Limits_Detail!$D$24:$D$500,D26,Limits_Detail!$I$24:$I$500,\"Other Unknown Causes\"))","v":""}]
[null,null,null,null,null,{"$f":"IF(E27=\"\",\"\",SUMIFS(Limits_Detail!$K$24:$K$500,Limits_Detail!$B$24:$B$500,B27,Limits_Detail!$C$24:$C$500,C27,Limits_Detail!$D$24:$D$500,D27))","v":""},"",{"$f":"IF(E27=\"\",\"\",SUMIFS(Limits_Detail!$K$24:$K$500,Limits_Detail!$B$24:$B$500,B27,Limits_Detail!$C$24:$C$500,C27,Limits_Detail!$D$24:$D$500,D27,Limits_Detail!$I$24:$I$500,\"Control Equipment Problems\"))","v":""},{"$f":"IF(E27=\"\",\"\",SUMIFS(Limits_Detail!$K$24:$K$500,Limits_Detail!$B$24:$B$500,B27,Limits_Detail!$C$24:$C$500,C27,Limits_Detail!$D$24:$D$500,D27,Limits_Detail!$I$24:$I$500,\"Process Problems\"))","v":""},{"$f":"IF(E27=\"\",\"\",SUMIFS(Limits_Detail!$K$24:$K$500,Limits_Detail!$B$24:$B$500,B27,Limits_Detail!$C$24:$C$500,C27,Limits_Detail!$D$24:$D$500,D27,Limits_Detail!$I$24:$I$500,\"Other Known Causes\"))","v":""},{"$f":"IF(E27=\"\",\"\",SUMIFS(Limits_Detail!$K$24:$K$500,Limits_Detail!$B$24:$B$500,B27,Limits_Detail!$C$24:$C$500,C27,Limits_Detail!$D$24:$D$500,D27,Limits_Detail!$I$24:$I$500,\"Other Unknown Causes\"))","v":""}]
[null,null,null,null,null,{"$f":"IF(E28=\"\",\"\",SUMIFS(Limits_Detail!$K$24:$K$500,Limits_Detail!$B$24:$B$500,B28,Limits_Detail!$C$24:$C$500,C28,Limits_Detail!$D$24:$D$500,D28))","v":""},"",{"$f":"IF(E28=\"\",\"\",SUMIFS(Limits_Detail!$K$24:$K$500,Limits_Detail!$B$24:$B$500,B28,Limits_Detail!$C$24:$C$500,C28,Limits_Detail!$D$24:$D$500,D28,Limits_Detail!$I$24:$I$500,\"Control Equipment Problems\"))","v":""},{"$f":"IF(E28=\"\",\"\",SUMIFS(Limits_Detail!$K$24:$K$500,Limits_Detail!$B$24:$B$500,B28,Limits_Detail!$C$24:$C$500,C28,Limits_Detail!$D$24:$D$500,D28,Limits_Detail!$I$24:$I$500,\"Process Problems\"))","v":""},{"$f":"IF(E28=\"\",\"\",SUMIFS(Limits_Detail!$K$24:$K$500,Limits_Detail!$B$24:$B$500,B28,Limits_Detail!$C$24:$C$500,C28,Limits_Detail!$D$24:$D$500,D28,Limits_Detail!$I$24:$I$500,\"Other Known Causes\"))","v":""},{"$f":"IF(E28=\"\",\"\",SUMIFS(Limits_Detail!$K$24:$K$500,Limits_Detail!$B$24:$B$500,B28,Limits_Detail!$C$24:$C$500,C28,Limits_Detail!$D$24:$D$500,D28,Limits_Detail!$I$24:$I$500,\"Other Unknown Causes\"))","v":""}]
[null,null,null,null,null,{"$f":"IF(E29=\"\",\"\",SUMIFS(Limits_Detail!$K$24:$K$500,Limits_Detail!$B$24:$B$500,B29,Limits_Detail!$C$24:$C$500,C29,Limits_Detail!$D$24:$D$500,D29))","v":""},"",{"$f":"IF(E29=\"\",\"\",SUMIFS(Limits_Detail!$K$24:$K$500,Limits_Detail!$B$24:$B$500,B29,Limits_Detail!$C$24:$C$500,C29,Limits_Detail!$D$24:$D$500,D29,Limits_Detail!$I$24:$I$500,\"Control Equipment Problems\"))","v":""},{"$f":"IF(E29=\"\",\"\",SUMIFS(Limits_Detail!$K$24:$K$500,Limits_Detail!$B$24:$B$500,B29,Limits_Detail!$C$24:$C$500,C29,Limits_Detail!$D$24:$D$500,D29,Limits_Detail!$I$24:$I$500,\"Process Problems\"))","v":""},{"$f":"IF(E29=\"\",\"\",SUMIFS(Limits_Detail!$K$24:$K$500,Limits_Detail!$B$24:$B$500,B29,Limits_Detail!$C$24:$C$500,C29,Limits_Detail!$D$24:$D$500,D29,Limits_Detail!$I$24:$I$500,\"Other Known Causes\"))","v":""},{"$f":"IF(E29=\"\",\"\",SUMIFS(Limits_Detail!$K$24:$K$500,Limits_Detail!$B$24:$B$500,B29,Limits_Detail!$C$24:$C$500,C29,Limits_Detail!$D$24:$D$500,D29,Limits_Detail!$I$24:$I$500,\"Other Unknown Causes\"))","v":""}]
[null,null,null,null,null,{"$f":"IF(E30=\"\",\"\",SUMIFS(Limits_Detail!$K$24:$K$500,Limits_Detail!$B$24:$B$500,B30,Limits_Detail!$C$24:$C$500,C30,Limits_Detail!$D$24:$D$500,D30))","v":""},"",{"$f":"IF(E30=\"\",\"\",SUMIFS(Limits_Detail!$K$24:$K$500,Limits_Detail!$B$24:$B$500,B30,Limits_Detail!$C$24:$C$500,C30,Limits_Detail!$D$24:$D$500,D30,Limits_Detail!$I$24:$I$500,\"Control Equipment Problems\"))","v":""},{"$f":"IF(E30=\"\",\"\",SUMIFS(Limits_Detail!$K$24:$K$500,Limits_Detail!$B$24:$B$500,B30,Limits_Detail!$C$24:$C$500,C30,Limits_Detail!$D$24:$D$500,D30,Limits_Detail!$I$24:$I$500,\"Process Problems\"))","v":""},{"$f":"IF(E30=\"\",\"\",SUMIFS(Limits_Detail!$K$24:$K$500,Limits_Detail!$B$24:$B$500,B30,Limits_Detail!$C$24:$C$500,C30,Limits_Detail!$D$24:$D$500,D30,Limits_Detail!$I$24:$I$500,\"Other Known Causes\"))","v":""},{"$f":"IF(E30=\"\",\"\",SUMIFS(Limits_Detail!$K$24:$K$500,Limits_Detail!$B$24:$B$500,B30,Limits_Detail!$C$24:$C$500,C30,Limits_Detail!$D$24:$D$500,D30,Limits_Detail!$I$24:$I$500,\"Other Unknown Causes\"))","v":""}]
[null,null,null,null,null,{"$f":"IF(E31=\"\",\"\",SUMIFS(Limits_Detail!$K$24:$K$500,Limits_Detail!$B$24:$B$500,B31,Limits_Detail!$C$24:$C$500,C31,Limits_Detail!$D$24:$D$500,D31))","v":""},"",{"$f":"IF(E31=\"\",\"\",SUMIFS(Limits_Detail!$K$24:$K$500,Limits_Detail!$B$24:$B$500,B31,Limits_Detail!$C$24:$C$500,C31,Limits_Detail!$D$24:$D$500,D31,Limits_Detail!$I$24:$I$500,\"Control Equipment Problems\"))","v":""},{"$f":"IF(E31=\"\",\"\",SUMIFS(Limits_Detail!$K$24:$K$500,Limits_Detail!$B$24:$B$500,B31,Limits_Detail!$C$24:$C$500,C31,Limits_Detail!$D$24:$D$500,D31,Limits_Detail!$I$24:$I$500,\"Process Problems\"))","v":""},{"$f":"IF(E31=\"\",\"\",SUMIFS(Limits_Detail!$K$24:$K$500,Limits_Detail!$B$24:$B$500,B31,Limits_Detail!$C$24:$C$500,C31,Limits_Detail!$D$24:$D$500,D31,Limits_Detail!$I$24:$I$500,\"Other Known Causes\"))","v":""},{"$f":"IF(E31=\"\",\"\",SUMIFS(Limits_Detail!$K$24:$K$500,Limits_Detail!$B$24:$B$500,B31,Limits_Detail!$C$24:$C$500,C31,Limits_Detail!$D$24:$D$500,D31,Limits_Detail!$I$24:$I$500,\"Other Unknown Causes\"))","v":""}]
[null,null,null,null,null,{"$f":"IF(E32=\"\",\"\",SUMIFS(Limits_Detail!$K$24:$K$500,Limits_Detail!$B$24:$B$500,B32,Limits_Detail!$C$24:$C$500,C32,Limits_Detail!$D$24:$D$500,D32))","v":""},"",{"$f":"IF(E32=\"\",\"\",SUMIFS(Limits_Detail!$K$24:$K$500,Limits_Detail!$B$24:$B$500,B32,Limits_Detail!$C$24:$C$500,C32,Limits_Detail!$D$24:$D$500,D32,Limits_Detail!$I$24:$I$500,\"Control Equipment Problems\"))","v":""},{"$f":"IF(E32=\"\",\"\",SUMIFS(Limits_Detail!$K$24:$K$500,Limits_Detail!$B$24:$B$500,B32,Limits_Detail!$C$24:$C$500,C32,Limits_Detail!$D$24:$D$500,D32,Limits_Detail!$I$24:$I$500,\"Process Problems\"))","v":""},{"$f":"IF(E32=\"\",\"\",SUMIFS(Limits_Detail!$K$24:$K$500,Limits_Detail!$B$24:$B$500,B32,Limits_Detail!$C$24:$C$500,C32,Limits_Detail!$D$24:$D$500,D32,Limits_Detail!$I$24:$I$500,\"Other Known Causes\"))","v":""},{"$f":"IF(E32=\"\",\"\",SUMIFS(Limits_Detail!$K$24:$K$500,Limits_Detail!$B$24:$B$500,B32,Limits_Detail!$C$24:$C$500,C32,Limits_Detail!$D$24:$D$500,D32,Limits_Detail!$I$24:$I$500,\"Other Unknown Causes\"))","v":""}]
[null,null,null,null,null,{"$f":"IF(E33=\"\",\"\",SUMIFS(Limits_Detail!$K$24:$K$500,Limits_Detail!$B$24:$B$500,B33,Limits_Detail!$C$24:$C$500,C33,Limits_Detail!$D$24:$D$500,D33))","v":""},"",{"$f":"IF(E33=\"\",\"\",SUMIFS(Limits_Detail!$K$24:$K$500,Limits_Detail!$B$24:$B$500,B33,Limits_Detail!$C$24:$C$500,C33,Limits_Detail!$D$24:$D$500,D33,Limits_Detail!$I$24:$I$500,\"Control Equipment Problems\"))","v":""},{"$f":"IF(E33=\"\",\"\",SUMIFS(Limits_Detail!$K$24:$K$500,Limits_Detail!$B$24:$B$500,B33,Limits_Detail!$C$24:$C$500,C33,Limits_Detail!$D$24:$D$500,D33,Limits_Detail!$I$24:$I$500,\"Process Problems\"))","v":""},{"$f":"IF(E33=\"\",\"\",SUMIFS(Limits_Detail!$K$24:$K$500,Limits_Detail!$B$24:$B$500,B33,Limits_Detail!$C$24:$C$500,C33,Limits_Detail!$D$24:$D$500,D33,Limits_Detail!$I$24:$I$500,\"Other Known Causes\"))","v":""},{"$f":"IF(E33=\"\",\"\",SUMIFS(Limits_Detail!$K$24:$K$500,Limits_Detail!$B$24:$B$500,B33,Limits_Detail!$C$24:$C$500,C33,Limits_Detail!$D$24:$D$500,D33,Limits_Detail!$I$24:$I$500,\"Other Unknown Causes\"))","v":""}]
[null,null,null,null,null,{"$f":"IF(E34=\"\",\"\",SUMIFS(Limits_Detail!$K$24:$K$500,Limits_Detail!$B$24:$B$500,B34,Limits_Detail!$C$24:$C$500,C34,Limits_Detail!$D$24:$D$500,D34))","v":""},"",{"$f":"IF(E34=\"\",\"\",SUMIFS(Limits_Detail!$K$24:$K$500,Limits_Detail!$B$24:$B$500,B34,Limits_Detail!$C$24:$C$500,C34,Limits_Detail!$D$24:$D$500,D34,Limits_Detail!$I$24:$I$500,\"Control Equipment Problems\"))","v":""},{"$f":"IF(E34=\"\",\"\",SUMIFS(Limits_Detail!$K$24:$K$500,Limits_Detail!$B$24:$B$500,B34,Limits_Detail!$C$24:$C$500,C34,Limits_Detail!$D$24:$D$500,D34,Limits_Detail!$I$24:$I$500,\"Process Problems\"))","v":""},{"$f":"IF(E34=\"\",\"\",SUMIFS(Limits_Detail!$K$24:$K$500,Limits_Detail!$B$24:$B$500,B34,Limits_Detail!$C$24:$C$500,C34,Limits_Detail!$D$24:$D$500,D34,Limits_Detail!$I$24:$I$500,\"Other Known Causes\"))","v":""},{"$f":"IF(E34=\"\",\"\",SUMIFS(Limits_Detail!$K$24:$K$500,Limits_Detail!$B$24:$B$500,B34,Limits_Detail!$C$24:$C$500,C34,Limits_Detail!$D$24:$D$500,D34,Limits_Detail!$I$24:$I$500,\"Other Unknown Causes\"))","v":""}]
[null,null,null,null,null,{"$f":"IF(E35=\"\",\"\",SUMIFS(Limits_Detail!$K$24:$K$500,Limits_Detail!$B$24:$B$500,B35,Limits_Detail!$C$24:$C$500,C35,Limits_Detail!$D$24:$D$500,D35))","v":""},"",{"$f":"IF(E35=\"\",\"\",SUMIFS(Limits_Detail!$K$24:$K$500,Limits_Detail!$B$24:$B$500,B35,Limits_Detail!$C$24:$C$500,C35,Limits_Detail!$D$24:$D$500,D35,Limits_Detail!$I$24:$I$500,\"Control Equipment Problems\"))","v":""},{"$f":"IF(E35=\"\",\"\",SUMIFS(Limits_Detail!$K$24:$K$500,Limits_Detail!$B$24:$B$500,B35,Limits_Detail!$C$24:$C$500,C35,Limits_Detail!$D$24:$D$500,D35,Limits_Detail!$I$24:$I$500,\"Process Problems\"))","v":""},{"$f":"IF(E35=\"\",\"\",SUMIFS(Limits_Detail!$K$24:$K$500,Limits_Detail!$B$24:$B$500,B35,Limits_Detail!$C$24:$C$500,C35,Limits_Detail!$D$24:$D$500,D35,Limits_Detail!$I$24:$I$500,\"Other Known Causes\"))","v":""},{"$f":"IF(E35=\"\",\"\",SUMIFS(Limits_Detail!$K$24:$K$500,Limits_Detail!$B$24:$B$500,B35,Limits_Detail!$C$24:$C$500,C35,Limits_Detail!$D$24:$D$500,D35,Limits_Detail!$I$24:$I$500,\"Other Unknown Causes\"))","v":""}]
[null,null,null,null,null,{"$f":"IF(E36=\"\",\"\",SUMIFS(Limits_Detail!$K$24:$K$500,Limits_Detail!$B$24:$B$500,B36,Limits_Detail!$C$24:$C$500,C36,Limits_Detail!$D$24:$D$500,D36))","v":""},"",{"$f":"IF(E36=\"\",\"\",SUMIFS(Limits_Detail!$K$24:$K$500,Limits_Detail!$B$24:$B$500,B36,Limits_Detail!$C$24:$C$500,C36,Limits_Detail!$D$24:$D$500,D36,Limits_Detail!$I$24:$I$500,\"Control Equipment Problems\"))","v":""},{"$f":"IF(E36=\"\",\"\",SUMIFS(Limits_Detail!$K$24:$K$500,Limits_Detail!$B$24:$B$500,B36,Limits_Detail!$C$24:$C$500,C36,Limits_Detail!$D$24:$D$500,D36,Limits_Detail!$I$24:$I$500,\"Process Problems\"))","v":""},{"$f":"IF(E36=\"\",\"\",SUMIFS(Limits_Detail!$K$24:$K$500,Limits_Detail!$B$24:$B$500,B36,Limits_Detail!$C$24:$C$500,C36,Limits_Detail!$D$24:$D$500,D36,Limits_Detail!$I$24:$I$500,\"Other Known Causes\"))","v":""},{"$f":"IF(E36=\"\",\"\",SUMIFS(Limits_Detail!$K$24:$K$500,Limits_Detail!$B$24:$B$500,B36,Limits_Detail!$C$24:$C$500,C36,Limits_Detail!$D$24:$D$500,D36,Limits_Detail!$I$24:$I$500,\"Other Unknown Causes\"))","v":""}]
[null,null,null,null,null,{"$f":"IF(E37=\"\",\"\",SUMIFS(Limits_Detail!$K$24:$K$500,Limits_Detail!$B$24:$B$500,B37,Limits_Detail!$C$24:$C$500,C37,Limits_Detail!$D$24:$D$500,D37))","v":""},"",{"$f":"IF(E37=\"\",\"\",SUMIFS(Limits_Detail!$K$24:$K$500,Limits_Detail!$B$24:$B$500,B37,Limits_Detail!$C$24:$C$500,C37,Limits_Detail!$D$24:$D$500,D37,Limits_Detail!$I$24:$I$500,\"Control Equipment Problems\"))","v":""},{"$f":"IF(E37=\"\",\"\",SUMIFS(Limits_Detail!$K$24:$K$500,Limits_Detail!$B$24:$B$500,B37,Limits_Detail!$C$24:$C$500,C37,Limits_Detail!$D$24:$D$500,D37,Limits_Detail!$I$24:$I$500,\"Process Problems\"))","v":""},{"$f":"IF(E37=\"\",\"\",SUMIFS(Limits_Detail!$K$24:$K$500,Limits_Detail!$B$24:$B$500,B37,Limits_Detail!$C$24:$C$500,C37,Limits_Detail!$D$24:$D$500,D37,Limits_Detail!$I$24:$I$500,\"Other Known Causes\"))","v":""},{"$f":"IF(E37=\"\",\"\",SUMIFS(Limits_Detail!$K$24:$K$500,Limits_Detail!$B$24:$B$500,B37,Limits_Detail!$C$24:$C$500,C37,Limits_Detail!$D$24:$D$500,D37,Limits_Detail!$I$24:$I$500,\"Other Unknown Causes\"))","v":""}]
[null,null,null,null,null,{"$f":"IF(E38=\"\",\"\",SUMIFS(Limits_Detail!$K$24:$K$500,Limits_Detail!$B$24:$B$500,B38,Limits_Detail!$C$24:$C$500,C38,Limits_Detail!$D$24:$D$500,D38))","v":""},"",{"$f":"IF(E38=\"\",\"\",SUMIFS(Limits_Detail!$K$24:$K$500,Limits_Detail!$B$24:$B$500,B38,Limits_Detail!$C$24:$C$500,C38,Limits_Detail!$D$24:$D$500,D38,Limits_Detail!$I$24:$I$500,\"Control Equipment Problems\"))","v":""},{"$f":"IF(E38=\"\",\"\",SUMIFS(Limits_Detail!$K$24:$K$500,Limits_Detail!$B$24:$B$500,B38,Limits_Detail!$C$24:$C$500,C38,Limits_Detail!$D$24:$D$500,D38,Limits_Detail!$I$24:$I$500,\"Process Problems\"))","v":""},{"$f":"IF(E38=\"\",\"\",SUMIFS(Limits_Detail!$K$24:$K$500,Limits_Detail!$B$24:$B$500,B38,Limits_Detail!$C$24:$C$500,C38,Limits_Detail!$D$24:$D$500,D38,Limits_Detail!$I$24:$I$500,\"Other Known Causes\"))","v":""},{"$f":"IF(E38=\"\",\"\",SUMIFS(Limits_Detail!$K$24:$K$500,Limits_Detail!$B$24:$B$500,B38,Limits_Detail!$C$24:$C$500,C38,Limits_Detail!$D$24:$D$500,D38,Limits_Detail!$I$24:$I$500,\"Other Unknown Causes\"))","v":""}]
[null,null,null,null,null,{"$f":"IF(E39=\"\",\"\",SUMIFS(Limits_Detail!$K$24:$K$500,Limits_Detail!$B$24:$B$500,B39,Limits_Detail!$C$24:$C$500,C39,Limits_Detail!$D$24:$D$500,D39))","v":""},"",{"$f":"IF(E39=\"\",\"\",SUMIFS(Limits_Detail!$K$24:$K$500,Limits_Detail!$B$24:$B$500,B39,Limits_Detail!$C$24:$C$500,C39,Limits_Detail!$D$24:$D$500,D39,Limits_Detail!$I$24:$I$500,\"Control Equipment Problems\"))","v":""},{"$f":"IF(E39=\"\",\"\",SUMIFS(Limits_Detail!$K$24:$K$500,Limits_Detail!$B$24:$B$500,B39,Limits_Detail!$C$24:$C$500,C39,Limits_Detail!$D$24:$D$500,D39,Limits_Detail!$I$24:$I$500,\"Process Problems\"))","v":""},{"$f":"IF(E39=\"\",\"\",SUMIFS(Limits_Detail!$K$24:$K$500,Limits_Detail!$B$24:$B$500,B39,Limits_Detail!$C$24:$C$500,C39,Limits_Detail!$D$24:$D$500,D39,Limits_Detail!$I$24:$I$500,\"Other Known Causes\"))","v":""},{"$f":"IF(E39=\"\",\"\",SUMIFS(Limits_Detail!$K$24:$K$500,Limits_Detail!$B$24:$B$500,B39,Limits_Detail!$C$24:$C$500,C39,Limits_Detail!$D$24:$D$500,D39,Limits_Detail!$I$24:$I$500,\"Other Unknown Causes\"))","v":""}]
[null,null,null,null,null,{"$f":"IF(E40=\"\",\"\",SUMIFS(Limits_Detail!$K$24:$K$500,Limits_Detail!$B$24:$B$500,B40,Limits_Detail!$C$24:$C$500,C40,Limits_Detail!$D$24:$D$500,D40))","v":""},"",{"$f":"IF(E40=\"\",\"\",SUMIFS(Limits_Detail!$K$24:$K$500,Limits_Detail!$B$24:$B$500,B40,Limits_Detail!$C$24:$C$500,C40,Limits_Detail!$D$24:$D$500,D40,Limits_Detail!$I$24:$I$500,\"Control Equipment Problems\"))","v":""},{"$f":"IF(E40=\"\",\"\",SUMIFS(Limits_Detail!$K$24:$K$500,Limits_Detail!$B$24:$B$500,B40,Limits_Detail!$C$24:$C$500,C40,Limits_Detail!$D$24:$D$500,D40,Limits_Detail!$I$24:$I$500,\"Process Problems\"))","v":""},{"$f":"IF(E40=\"\",\"\",SUMIFS(Limits_Detail!$K$24:$K$500,Limits_Detail!$B$24:$B$500,B40,Limits_Detail!$C$24:$C$500,C40,Limits_Detail!$D$24:$D$500,D40,Limits_Detail!$I$24:$I$500,\"Other Known Causes\"))","v":""},{"$f":"IF(E40=\"\",\"\",SUMIFS(Limits_Detail!$K$24:$K$500,Limits_Detail!$B$24:$B$500,B40,Limits_Detail!$C$24:$C$500,C40,Limits_Detail!$D$24:$D$500,D40,Limits_Detail!$I$24:$I$500,\"Other Unknown Causes\"))","v":""}]
[null,null,null,null,null,{"$f":"IF(E41=\"\",\"\",SUMIFS(Limits_Detail!$K$24:$K$500,Limits_Detail!$B$24:$B$500,B41,Limits_Detail!$C$24:$C$500,C41,Limits_Detail!$D$24:$D$500,D41))","v":""},"",{"$f":"IF(E41=\"\",\"\",SUMIFS(Limits_Detail!$K$24:$K$500,Limits_Detail!$B$24:$B$500,B41,Limits_Detail!$C$24:$C$500,C41,Limits_Detail!$D$24:$D$500,D41,Limits_Detail!$I$24:$I$500,\"Control Equipment Problems\"))","v":""},{"$f":"IF(E41=\"\",\"\",SUMIFS(Limits_Detail!$K$24:$K$500,Limits_Detail!$B$24:$B$500,B41,Limits_Detail!$C$24:$C$500,C41,Limits_Detail!$D$24:$D$500,D41,Limits_Detail!$I$24:$I$500,\"Process Problems\"))","v":""},{"$f":"IF(E41=\"\",\"\",SUMIFS(Limits_Detail!$K$24:$K$500,Limits_Detail!$B$24:$B$500,B41,Limits_Detail!$C$24:$C$500,C41,Limits_Detail!$D$24:$D$500,D41,Limits_Detail!$I$24:$I$500,\"Other Known Causes\"))","v":""},{"$f":"IF(E41=\"\",\"\",SUMIFS(Limits_Detail!$K$24:$K$500,Limits_Detail!$B$24:$B$500,B41,Limits_Detail!$C$24:$C$500,C41,Limits_Detail!$D$24:$D$500,D41,Limits_Detail!$I$24:$I$500,\"Other Unknown Causes\"))","v":""}]
[null,null,null,null,null,{"$f":"IF(E42=\"\",\"\",SUMIFS(Limits_Detail!$K$24:$K$500,Limits_Detail!$B$24:$B$500,B42,Limits_Detail!$C$24:$C$500,C42,Limits_Detail!$D$24:$D$500,D42))","v":""},"",{"$f":"IF(E42=\"\",\"\",SUMIFS(Limits_Detail!$K$24:$K$500,Limits_Detail!$B$24:$B$500,B42,Limits_Detail!$C$24:$C$500,C42,Limits_Detail!$D$24:$D$500,D42,Limits_Detail!$I$24:$I$500,\"Control Equipment Problems\"))","v":""},{"$f":"IF(E42=\"\",\"\",SUMIFS(Limits_Detail!$K$24:$K$500,Limits_Detail!$B$24:$B$500,B42,Limits_Detail!$C$24:$C$500,C42,Limits_Detail!$D$24:$D$500,D42,Limits_Detail!$I$24:$I$500,\"Process Problems\"))","v":""},{"$f":"IF(E42=\"\",\"\",SUMIFS(Limits_Detail!$K$24:$K$500,Limits_Detail!$B$24:$B$500,B42,Limits_Detail!$C$24:$C$500,C42,Limits_Detail!$D$24:$D$500,D42,Limits_Detail!$I$24:$I$500,\"Other Known Causes\"))","v":""},{"$f":"IF(E42=\"\",\"\",SUMIFS(Limits_Detail!$K$24:$K$500,Limits_Detail!$B$24:$B$500,B42,Limits_Detail!$C$24:$C$500,C42,Limits_Detail!$D$24:$D$500,D42,Limits_Detail!$I$24:$I$500,\"Other Unknown Causes\"))","v":""}]
[null,null,null,null,null,{"$f":"IF(E43=\"\",\"\",SUMIFS(Limits_Detail!$K$24:$K$500,Limits_Detail!$B$24:$B$500,B43,Limits_Detail!$C$24:$C$500,C43,Limits_Detail!$D$24:$D$500,D43))","v":""},"",{"$f":"IF(E43=\"\",\"\",SUMIFS(Limits_Detail!$K$24:$K$500,Limits_Detail!$B$24:$B$500,B43,Limits_Detail!$C$24:$C$500,C43,Limits_Detail!$D$24:$D$500,D43,Limits_Detail!$I$24:$I$500,\"Control Equipment Problems\"))","v":""},{"$f":"IF(E43=\"\",\"\",SUMIFS(Limits_Detail!$K$24:$K$500,Limits_Detail!$B$24:$B$500,B43,Limits_Detail!$C$24:$C$500,C43,Limits_Detail!$D$24:$D$500,D43,Limits_Detail!$I$24:$I$500,\"Process Problems\"))","v":""},{"$f":"IF(E43=\"\",\"\",SUMIFS(Limits_Detail!$K$24:$K$500,Limits_Detail!$B$24:$B$500,B43,Limits_Detail!$C$24:$C$500,C43,Limits_Detail!$D$24:$D$500,D43,Limits_Detail!$I$24:$I$500,\"Other Known Causes\"))","v":""},{"$f":"IF(E43=\"\",\"\",SUMIFS(Limits_Detail!$K$24:$K$500,Limits_Detail!$B$24:$B$500,B43,Limits_Detail!$C$24:$C$500,C43,Limits_Detail!$D$24:$D$500,D43,Limits_Detail!$I$24:$I$500,\"Other Unknown Causes\"))","v":""}]
[null,null,null,null,null,{"$f":"IF(E44=\"\",\"\",SUMIFS(Limits_Detail!$K$24:$K$500,Limits_Detail!$B$24:$B$500,B44,Limits_Detail!$C$24:$C$500,C44,Limits_Detail!$D$24:$D$500,D44))","v":""},"",{"$f":"IF(E44=\"\",\"\",SUMIFS(Limits_Detail!$K$24:$K$500,Limits_Detail!$B$24:$B$500,B44,Limits_Detail!$C$24:$C$500,C44,Limits_Detail!$D$24:$D$500,D44,Limits_Detail!$I$24:$I$500,\"Control Equipment Problems\"))","v":""},{"$f":"IF(E44=\"\",\"\",SUMIFS(Limits_Detail!$K$24:$K$500,Limits_Detail!$B$24:$B$500,B44,Limits_Detail!$C$24:$C$500,C44,Limits_Detail!$D$24:$D$500,D44,Limits_Detail!$I$24:$I$500,\"Process Problems\"))","v":""},{"$f":"IF(E44=\"\",\"\",SUMIFS(Limits_Detail!$K$24:$K$500,Limits_Detail!$B$24:$B$500,B44,Limits_Detail!$C$24:$C$500,C44,Limits_Detail!$D$24:$D$500,D44,Limits_Detail!$I$24:$I$500,\"Other Known Causes\"))","v":""},{"$f":"IF(E44=\"\",\"\",SUMIFS(Limits_Detail!$K$24:$K$500,Limits_Detail!$B$24:$B$500,B44,Limits_Detail!$C$24:$C$500,C44,Limits_Detail!$D$24:$D$500,D44,Limits_Detail!$I$24:$I$500,\"Other Unknown Causes\"))","v":""}]
[null,null,null,null,null,{"$f":"IF(E45=\"\",\"\",SUMIFS(Limits_Detail!$K$24:$K$500,Limits_Detail!$B$24:$B$500,B45,Limits_Detail!$C$24:$C$500,C45,Limits_Detail!$D$24:$D$500,D45))","v":""},"",{"$f":"IF(E45=\"\",\"\",SUMIFS(Limits_Detail!$K$24:$K$500,Limits_Detail!$B$24:$B$500,B45,Limits_Detail!$C$24:$C$500,C45,Limits_Detail!$D$24:$D$500,D45,Limits_Detail!$I$24:$I$500,\"Control Equipment Problems\"))","v":""},{"$f":"IF(E45=\"\",\"\",SUMIFS(Limits_Detail!$K$24:$K$500,Limits_Detail!$B$24:$B$500,B45,Limits_Detail!$C$24:$C$500,C45,Limits_Detail!$D$24:$D$500,D45,Limits_Detail!$I$24:$I$500,\"Process Problems\"))","v":""},{"$f":"IF(E45=\"\",\"\",SUMIFS(Limits_Detail!$K$24:$K$500,Limits_Detail!$B$24:$B$500,B45,Limits_Detail!$C$24:$C$500,C45,Limits_Detail!$D$24:$D$500,D45,Limits_Detail!$I$24:$I$500,\"Other Known Causes\"))","v":""},{"$f":"IF(E45=\"\",\"\",SUMIFS(Limits_Detail!$K$24:$K$500,Limits_Detail!$B$24:$B$500,B45,Limits_Detail!$C$24:$C$500,C45,Limits_Detail!$D$24:$D$500,D45,Limits_Detail!$I$24:$I$500,\"Other Unknown Causes\"))","v":""}]
[null,null,null,null,null,{"$f":"IF(E46=\"\",\"\",SUMIFS(Limits_Detail!$K$24:$K$500,Limits_Detail!$B$24:$B$500,B46,Limits_Detail!$C$24:$C$500,C46,Limits_Detail!$D$24:$D$500,D46))","v":""},"",{"$f":"IF(E46=\"\",\"\",SUMIFS(Limits_Detail!$K$24:$K$500,Limits_Detail!$B$24:$B$500,B46,Limits_Detail!$C$24:$C$500,C46,Limits_Detail!$D$24:$D$500,D46,Limits_Detail!$I$24:$I$500,\"Control Equipment Problems\"))","v":""},{"$f":"IF(E46=\"\",\"\",SUMIFS(Limits_Detail!$K$24:$K$500,Limits_Detail!$B$24:$B$500,B46,Limits_Detail!$C$24:$C$500,C46,Limits_Detail!$D$24:$D$500,D46,Limits_Detail!$I$24:$I$500,\"Process Problems\"))","v":""},{"$f":"IF(E46=\"\",\"\",SUMIFS(Limits_Detail!$K$24:$K$500,Limits_Detail!$B$24:$B$500,B46,Limits_Detail!$C$24:$C$500,C46,Limits_Detail!$D$24:$D$500,D46,Limits_Detail!$I$24:$I$500,\"Other Known Causes\"))","v":""},{"$f":"IF(E46=\"\",\"\",SUMIFS(Limits_Detail!$K$24:$K$500,Limits_Detail!$B$24:$B$500,B46,Limits_Detail!$C$24:$C$500,C46,Limits_Detail!$D$24:$D$500,D46,Limits_Detail!$I$24:$I$500,\"Other Unknown Causes\"))","v":""}]
[null,null,null,null,null,{"$f":"IF(E47=\"\",\"\",SUMIFS(Limits_Detail!$K$24:$K$500,Limits_Detail!$B$24:$B$500,B47,Limits_Detail!$C$24:$C$500,C47,Limits_Detail!$D$24:$D$500,D47))","v":""},"",{"$f":"IF(E47=\"\",\"\",SUMIFS(Limits_Detail!$K$24:$K$500,Limits_Detail!$B$24:$B$500,B47,Limits_Detail!$C$24:$C$500,C47,Limits_Detail!$D$24:$D$500,D47,Limits_Detail!$I$24:$I$500,\"Control Equipment Problems\"))","v":""},{"$f":"IF(E47=\"\",\"\",SUMIFS(Limits_Detail!$K$24:$K$500,Limits_Detail!$B$24:$B$500,B47,Limits_Detail!$C$24:$C$500,C47,Limits_Detail!$D$24:$D$500,D47,Limits_Detail!$I$24:$I$500,\"Process Problems\"))","v":""},{"$f":"IF(E47=\"\",\"\",SUMIFS(Limits_Detail!$K$24:$K$500,Limits_Detail!$B$24:$B$500,B47,Limits_Detail!$C$24:$C$500,C47,Limits_Detail!$D$24:$D$500,D47,Limits_Detail!$I$24:$I$500,\"Other Known Causes\"))","v":""},{"$f":"IF(E47=\"\",\"\",SUMIFS(Limits_Detail!$K$24:$K$500,Limits_Detail!$B$24:$B$500,B47,Limits_Detail!$C$24:$C$500,C47,Limits_Detail!$D$24:$D$500,D47,Limits_Detail!$I$24:$I$500,\"Other Unknown Causes\"))","v":""}]
[null,null,null,null,null,{"$f":"IF(E48=\"\",\"\",SUMIFS(Limits_Detail!$K$24:$K$500,Limits_Detail!$B$24:$B$500,B48,Limits_Detail!$C$24:$C$500,C48,Limits_Detail!$D$24:$D$500,D48))","v":""},"",{"$f":"IF(E48=\"\",\"\",SUMIFS(Limits_Detail!$K$24:$K$500,Limits_Detail!$B$24:$B$500,B48,Limits_Detail!$C$24:$C$500,C48,Limits_Detail!$D$24:$D$500,D48,Limits_Detail!$I$24:$I$500,\"Control Equipment Problems\"))","v":""},{"$f":"IF(E48=\"\",\"\",SUMIFS(Limits_Detail!$K$24:$K$500,Limits_Detail!$B$24:$B$500,B48,Limits_Detail!$C$24:$C$500,C48,Limits_Detail!$D$24:$D$500,D48,Limits_Detail!$I$24:$I$500,\"Process Problems\"))","v":""},{"$f":"IF(E48=\"\",\"\",SUMIFS(Limits_Detail!$K$24:$K$500,Limits_Detail!$B$24:$B$500,B48,Limits_Detail!$C$24:$C$500,C48,Limits_Detail!$D$24:$D$500,D48,Limits_Detail!$I$24:$I$500,\"Other Known Causes\"))","v":""},{"$f":"IF(E48=\"\",\"\",SUMIFS(Limits_Detail!$K$24:$K$500,Limits_Detail!$B$24:$B$500,B48,Limits_Detail!$C$24:$C$500,C48,Limits_Detail!$D$24:$D$500,D48,Limits_Detail!$I$24:$I$500,\"Other Unknown Causes\"))","v":""}]
[null,null,null,null,null,{"$f":"IF(E49=\"\",\"\",SUMIFS(Limits_Detail!$K$24:$K$500,Limits_Detail!$B$24:$B$500,B49,Limits_Detail!$C$24:$C$500,C49,Limits_Detail!$D$24:$D$500,D49))","v":""},"",{"$f":"IF(E49=\"\",\"\",SUMIFS(Limits_Detail!$K$24:$K$500,Limits_Detail!$B$24:$B$500,B49,Limits_Detail!$C$24:$C$500,C49,Limits_Detail!$D$24:$D$500,D49,Limits_Detail!$I$24:$I$500,\"Control Equipment Problems\"))","v":""},{"$f":"IF(E49=\"\",\"\",SUMIFS(Limits_Detail!$K$24:$K$500,Limits_Detail!$B$24:$B$500,B49,Limits_Detail!$C$24:$C$500,C49,Limits_Detail!$D$24:$D$500,D49,Limits_Detail!$I$24:$I$500,\"Process Problems\"))","v":""},{"$f":"IF(E49=\"\",\"\",SUMIFS(Limits_Detail!$K$24:$K$500,Limits_Detail!$B$24:$B$500,B49,Limits_Detail!$C$24:$C$500,C49,Limits_Detail!$D$24:$D$500,D49,Limits_Detail!$I$24:$I$500,\"Other Known Causes\"))","v":""},{"$f":"IF(E49=\"\",\"\",SUMIFS(Limits_Detail!$K$24:$K$500,Limits_Detail!$B$24:$B$500,B49,Limits_Detail!$C$24:$C$500,C49,Limits_Detail!$D$24:$D$500,D49,Limits_Detail!$I$24:$I$500,\"Other Unknown Causes\"))","v":""}]
[null,null,null,null,null,{"$f":"IF(E50=\"\",\"\",SUMIFS(Limits_Detail!$K$24:$K$500,Limits_Detail!$B$24:$B$500,B50,Limits_Detail!$C$24:$C$500,C50,Limits_Detail!$D$24:$D$500,D50))","v":""},"",{"$f":"IF(E50=\"\",\"\",SUMIFS(Limits_Detail!$K$24:$K$500,Limits_Detail!$B$24:$B$500,B50,Limits_Detail!$C$24:$C$500,C50,Limits_Detail!$D$24:$D$500,D50,Limits_Detail!$I$24:$I$500,\"Control Equipment Problems\"))","v":""},{"$f":"IF(E50=\"\",\"\",SUMIFS(Limits_Detail!$K$24:$K$500,Limits_Detail!$B$24:$B$500,B50,Limits_Detail!$C$24:$C$500,C50,Limits_Detail!$D$24:$D$500,D50,Limits_Detail!$I$24:$I$500,\"Process Problems\"))","v":""},{"$f":"IF(E50=\"\",\"\",SUMIFS(Limits_Detail!$K$24:$K$500,Limits_Detail!$B$24:$B$500,B50,Limits_Detail!$C$24:$C$500,C50,Limits_Detail!$D$24:$D$500,D50,Limits_Detail!$I$24:$I$500,\"Other Known Causes\"))","v":""},{"$f":"IF(E50=\"\",\"\",SUMIFS(Limits_Detail!$K$24:$K$500,Limits_Detail!$B$24:$B$500,B50,Limits_Detail!$C$24:$C$500,C50,Limits_Detail!$D$24:$D$500,D50,Limits_Detail!$I$24:$I$500,\"Other Unknown Causes\"))","v":""}]
[null,null,null,null,null,{"$f":"IF(E51=\"\",\"\",SUMIFS(Limits_Detail!$K$24:$K$500,Limits_Detail!$B$24:$B$500,B51,Limits_Detail!$C$24:$C$500,C51,Limits_Detail!$D$24:$D$500,D51))","v":""},"",{"$f":"IF(E51=\"\",\"\",SUMIFS(Limits_Detail!$K$24:$K$500,Limits_Detail!$B$24:$B$500,B51,Limits_Detail!$C$24:$C$500,C51,Limits_Detail!$D$24:$D$500,D51,Limits_Detail!$I$24:$I$500,\"Control Equipment Problems\"))","v":""},{"$f":"IF(E51=\"\",\"\",SUMIFS(Limits_Detail!$K$24:$K$500,Limits_Detail!$B$24:$B$500,B51,Limits_Detail!$C$24:$C$500,C51,Limits_Detail!$D$24:$D$500,D51,Limits_Detail!$I$24:$I$500,\"Process Problems\"))","v":""},{"$f":"IF(E51=\"\",\"\",SUMIFS(Limits_Detail!$K$24:$K$500,Limits_Detail!$B$24:$B$500,B51,Limits_Detail!$C$24:$C$500,C51,Limits_Detail!$D$24:$D$500,D51,Limits_Detail!$I$24:$I$500,\"Other Known Causes\"))","v":""},{"$f":"IF(E51=\"\",\"\",SUMIFS(Limits_Detail!$K$24:$K$500,Limits_Detail!$B$24:$B$500,B51,Limits_Detail!$C$24:$C$500,C51,Limits_Detail!$D$24:$D$500,D51,Limits_Detail!$I$24:$I$500,\"Other Unknown Causes\"))","v":""}]
[null,null,null,null,null,{"$f":"IF(E52=\"\",\"\",SUMIFS(Limits_Detail!$K$24:$K$500,Limits_Detail!$B$24:$B$500,B52,Limits_Detail!$C$24:$C$500,C52,Limits_Detail!$D$24:$D$500,D52))","v":""},"",{"$f":"IF(E52=\"\",\"\",SUMIFS(Limits_Detail!$K$24:$K$500,Limits_Detail!$B$24:$B$500,B52,Limits_Detail!$C$24:$C$500,C52,Limits_Detail!$D$24:$D$500,D52,Limits_Detail!$I$24:$I$500,\"Control Equipment Problems\"))","v":""},{"$f":"IF(E52=\"\",\"\",SUMIFS(Limits_Detail!$K$24:$K$500,Limits_Detail!$B$24:$B$500,B52,Limits_Detail!$C$24:$C$500,C52,Limits_Detail!$D$24:$D$500,D52,Limits_Detail!$I$24:$I$500,\"Process Problems\"))","v":""},{"$f":"IF(E52=\"\",\"\",SUMIFS(Limits_Detail!$K$24:$K$500,Limits_Detail!$B$24:$B$500,B52,Limits_Detail!$C$24:$C$500,C52,Limits_Detail!$D$24:$D$500,D52,Limits_Detail!$I$24:$I$500,\"Other Known Causes\"))","v":""},{"$f":"IF(E52=\"\",\"\",SUMIFS(Limits_Detail!$K$24:$K$500,Limits_Detail!$B$24:$B$500,B52,Limits_Detail!$C$24:$C$500,C52,Limits_Detail!$D$24:$D$500,D52,Limits_Detail!$I$24:$I$500,\"Other Unknown Causes\"))","v":""}]
[null,null,null,null,null,{"$f":"IF(E53=\"\",\"\",SUMIFS(Limits_Detail!$K$24:$K$500,Limits_Detail!$B$24:$B$500,B53,Limits_Detail!$C$24:$C$500,C53,Limits_Detail!$D$24:$D$500,D53))","v":""},"",{"$f":"IF(E53=\"\",\"\",SUMIFS(Limits_Detail!$K$24:$K$500,Limits_Detail!$B$24:$B$500,B53,Limits_Detail!$C$24:$C$500,C53,Limits_Detail!$D$24:$D$500,D53,Limits_Detail!$I$24:$I$500,\"Control Equipment Problems\"))","v":""},{"$f":"IF(E53=\"\",\"\",SUMIFS(Limits_Detail!$K$24:$K$500,Limits_Detail!$B$24:$B$500,B53,Limits_Detail!$C$24:$C$500,C53,Limits_Detail!$D$24:$D$500,D53,Limits_Detail!$I$24:$I$500,\"Process Problems\"))","v":""},{"$f":"IF(E53=\"\",\"\",SUMIFS(Limits_Detail!$K$24:$K$500,Limits_Detail!$B$24:$B$500,B53,Limits_Detail!$C$24:$C$500,C53,Limits_Detail!$D$24:$D$500,D53,Limits_Detail!$I$24:$I$500,\"Other Known Causes\"))","v":""},{"$f":"IF(E53=\"\",\"\",SUMIFS(Limits_Detail!$K$24:$K$500,Limits_Detail!$B$24:$B$500,B53,Limits_Detail!$C$24:$C$500,C53,Limits_Detail!$D$24:$D$500,D53,Limits_Detail!$I$24:$I$500,\"Other Unknown Causes\"))","v":""}]
[null,null,null,null,null,{"$f":"IF(E54=\"\",\"\",SUMIFS(Limits_Detail!$K$24:$K$500,Limits_Detail!$B$24:$B$500,B54,Limits_Detail!$C$24:$C$500,C54,Limits_Detail!$D$24:$D$500,D54))","v":""},"",{"$f":"IF(E54=\"\",\"\",SUMIFS(Limits_Detail!$K$24:$K$500,Limits_Detail!$B$24:$B$500,B54,Limits_Detail!$C$24:$C$500,C54,Limits_Detail!$D$24:$D$500,D54,Limits_Detail!$I$24:$I$500,\"Control Equipment Problems\"))","v":""},{"$f":"IF(E54=\"\",\"\",SUMIFS(Limits_Detail!$K$24:$K$500,Limits_Detail!$B$24:$B$500,B54,Limits_Detail!$C$24:$C$500,C54,Limits_Detail!$D$24:$D$500,D54,Limits_Detail!$I$24:$I$500,\"Process Problems\"))","v":""},{"$f":"IF(E54=\"\",\"\",SUMIFS(Limits_Detail!$K$24:$K$500,Limits_Detail!$B$24:$B$500,B54,Limits_Detail!$C$24:$C$500,C54,Limits_Detail!$D$24:$D$500,D54,Limits_Detail!$I$24:$I$500,\"Other Known Causes\"))","v":""},{"$f":"IF(E54=\"\",\"\",SUMIFS(Limits_Detail!$K$24:$K$500,Limits_Detail!$B$24:$B$500,B54,Limits_Detail!$C$24:$C$500,C54,Limits_Detail!$D$24:$D$500,D54,Limits_Detail!$I$24:$I$500,\"Other Unknown Causes\"))","v":""}]
[null,null,null,null,null,{"$f":"IF(E55=\"\",\"\",SUMIFS(Limits_Detail!$K$24:$K$500,Limits_Detail!$B$24:$B$500,B55,Limits_Detail!$C$24:$C$500,C55,Limits_Detail!$D$24:$D$500,D55))","v":""},"",{"$f":"IF(E55=\"\",\"\",SUMIFS(Limits_Detail!$K$24:$K$500,Limits_Detail!$B$24:$B$500,B55,Limits_Detail!$C$24:$C$500,C55,Limits_Detail!$D$24:$D$500,D55,Limits_Detail!$I$24:$I$500,\"Control Equipment Problems\"))","v":""},{"$f":"IF(E55=\"\",\"\",SUMIFS(Limits_Detail!$K$24:$K$500,Limits_Detail!$B$24:$B$500,B55,Limits_Detail!$C$24:$C$500,C55,Limits_Detail!$D$24:$D$500,D55,Limits_Detail!$I$24:$I$500,\"Process Problems\"))","v":""},{"$f":"IF(E55=\"\",\"\",SUMIFS(Limits_Detail!$K$24:$K$500,Limits_Detail!$B$24:$B$500,B55,Limits_Detail!$C$24:$C$500,C55,Limits_Detail!$D$24:$D$500,D55,Limits_Detail!$I$24:$I$500,\"Other Known Causes\"))","v":""},{"$f":"IF(E55=\"\",\"\",SUMIFS(Limits_Detail!$K$24:$K$500,Limits_Detail!$B$24:$B$500,B55,Limits_Detail!$C$24:$C$500,C55,Limits_Detail!$D$24:$D$500,D55,Limits_Detail!$I$24:$I$500,\"Other Unknown Causes\"))","v":""}]
[null,null,null,null,null,{"$f":"IF(E56=\"\",\"\",SUMIFS(Limits_Detail!$K$24:$K$500,Limits_Detail!$B$24:$B$500,B56,Limits_Detail!$C$24:$C$500,C56,Limits_Detail!$D$24:$D$500,D56))","v":""},"",{"$f":"IF(E56=\"\",\"\",SUMIFS(Limits_Detail!$K$24:$K$500,Limits_Detail!$B$24:$B$500,B56,Limits_Detail!$C$24:$C$500,C56,Limits_Detail!$D$24:$D$500,D56,Limits_Detail!$I$24:$I$500,\"Control Equipment Problems\"))","v":""},{"$f":"IF(E56=\"\",\"\",SUMIFS(Limits_Detail!$K$24:$K$500,Limits_Detail!$B$24:$B$500,B56,Limits_Detail!$C$24:$C$500,C56,Limits_Detail!$D$24:$D$500,D56,Limits_Detail!$I$24:$I$500,\"Process Problems\"))","v":""},{"$f":"IF(E56=\"\",\"\",SUMIFS(Limits_Detail!$K$24:$K$500,Limits_Detail!$B$24:$B$500,B56,Limits_Detail!$C$24:$C$500,C56,Limits_Detail!$D$24:$D$500,D56,Limits_Detail!$I$24:$I$500,\"Other Known Causes\"))","v":""},{"$f":"IF(E56=\"\",\"\",SUMIFS(Limits_Detail!$K$24:$K$500,Limits_Detail!$B$24:$B$500,B56,Limits_Detail!$C$24:$C$500,C56,Limits_Detail!$D$24:$D$500,D56,Limits_Detail!$I$24:$I$500,\"Other Unknown Causes\"))","v":""}]
[null,null,null,null,null,{"$f":"IF(E57=\"\",\"\",SUMIFS(Limits_Detail!$K$24:$K$500,Limits_Detail!$B$24:$B$500,B57,Limits_Detail!$C$24:$C$500,C57,Limits_Detail!$D$24:$D$500,D57))","v":""},"",{"$f":"IF(E57=\"\",\"\",SUMIFS(Limits_Detail!$K$24:$K$500,Limits_Detail!$B$24:$B$500,B57,Limits_Detail!$C$24:$C$500,C57,Limits_Detail!$D$24:$D$500,D57,Limits_Detail!$I$24:$I$500,\"Control Equipment Problems\"))","v":""},{"$f":"IF(E57=\"\",\"\",SUMIFS(Limits_Detail!$K$24:$K$500,Limits_Detail!$B$24:$B$500,B57,Limits_Detail!$C$24:$C$500,C57,Limits_Detail!$D$24:$D$500,D57,Limits_Detail!$I$24:$I$500,\"Process Problems\"))","v":""},{"$f":"IF(E57=\"\",\"\",SUMIFS(Limits_Detail!$K$24:$K$500,Limits_Detail!$B$24:$B$500,B57,Limits_Detail!$C$24:$C$500,C57,Limits_Detail!$D$24:$D$500,D57,Limits_Detail!$I$24:$I$500,\"Other Known Causes\"))","v":""},{"$f":"IF(E57=\"\",\"\",SUMIFS(Limits_Detail!$K$24:$K$500,Limits_Detail!$B$24:$B$500,B57,Limits_Detail!$C$24:$C$500,C57,Limits_Detail!$D$24:$D$500,D57,Limits_Detail!$I$24:$I$500,\"Other Unknown Causes\"))","v":""}]
[null,null,null,null,null,{"$f":"IF(E58=\"\",\"\",SUMIFS(Limits_Detail!$K$24:$K$500,Limits_Detail!$B$24:$B$500,B58,Limits_Detail!$C$24:$C$500,C58,Limits_Detail!$D$24:$D$500,D58))","v":""},"",{"$f":"IF(E58=\"\",\"\",SUMIFS(Limits_Detail!$K$24:$K$500,Limits_Detail!$B$24:$B$500,B58,Limits_Detail!$C$24:$C$500,C58,Limits_Detail!$D$24:$D$500,D58,Limits_Detail!$I$24:$I$500,\"Control Equipment Problems\"))","v":""},{"$f":"IF(E58=\"\",\"\",SUMIFS(Limits_Detail!$K$24:$K$500,Limits_Detail!$B$24:$B$500,B58,Limits_Detail!$C$24:$C$500,C58,Limits_Detail!$D$24:$D$500,D58,Limits_Detail!$I$24:$I$500,\"Process Problems\"))","v":""},{"$f":"IF(E58=\"\",\"\",SUMIFS(Limits_Detail!$K$24:$K$500,Limits_Detail!$B$24:$B$500,B58,Limits_Detail!$C$24:$C$500,C58,Limits_Detail!$D$24:$D$500,D58,Limits_Detail!$I$24:$I$500,\"Other Known Causes\"))","v":""},{"$f":"IF(E58=\"\",\"\",SUMIFS(Limits_Detail!$K$24:$K$500,Limits_Detail!$B$24:$B$500,B58,Limits_Detail!$C$24:$C$500,C58,Limits_Detail!$D$24:$D$500,D58,Limits_Detail!$I$24:$I$500,\"Other Unknown Causes\"))","v":""}]
[null,null,null,null,null,{"$f":"IF(E59=\"\",\"\",SUMIFS(Limits_Detail!$K$24:$K$500,Limits_Detail!$B$24:$B$500,B59,Limits_Detail!$C$24:$C$500,C59,Limits_Detail!$D$24:$D$500,D59))","v":""},"",{"$f":"IF(E59=\"\",\"\",SUMIFS(Limits_Detail!$K$24:$K$500,Limits_Detail!$B$24:$B$500,B59,Limits_Detail!$C$24:$C$500,C59,Limits_Detail!$D$24:$D$500,D59,Limits_Detail!$I$24:$I$500,\"Control Equipment Problems\"))","v":""},{"$f":"IF(E59=\"\",\"\",SUMIFS(Limits_Detail!$K$24:$K$500,Limits_Detail!$B$24:$B$500,B59,Limits_Detail!$C$24:$C$500,C59,Limits_Detail!$D$24:$D$500,D59,Limits_Detail!$I$24:$I$500,\"Process Problems\"))","v":""},{"$f":"IF(E59=\"\",\"\",SUMIFS(Limits_Detail!$K$24:$K$500,Limits_Detail!$B$24:$B$500,B59,Limits_Detail!$C$24:$C$500,C59,Limits_Detail!$D$24:$D$500,D59,Limits_Detail!$I$24:$I$500,\"Other Known Causes\"))","v":""},{"$f":"IF(E59=\"\",\"\",SUMIFS(Limits_Detail!$K$24:$K$500,Limits_Detail!$B$24:$B$500,B59,Limits_Detail!$C$24:$C$500,C59,Limits_Detail!$D$24:$D$500,D59,Limits_Detail!$I$24:$I$500,\"Other Unknown Causes\"))","v":""}]
[null,null,null,null,null,{"$f":"IF(E60=\"\",\"\",SUMIFS(Limits_Detail!$K$24:$K$500,Limits_Detail!$B$24:$B$500,B60,Limits_Detail!$C$24:$C$500,C60,Limits_Detail!$D$24:$D$500,D60))","v":""},"",{"$f":"IF(E60=\"\",\"\",SUMIFS(Limits_Detail!$K$24:$K$500,Limits_Detail!$B$24:$B$500,B60,Limits_Detail!$C$24:$C$500,C60,Limits_Detail!$D$24:$D$500,D60,Limits_Detail!$I$24:$I$500,\"Control Equipment Problems\"))","v":""},{"$f":"IF(E60=\"\",\"\",SUMIFS(Limits_Detail!$K$24:$K$500,Limits_Detail!$B$24:$B$500,B60,Limits_Detail!$C$24:$C$500,C60,Limits_Detail!$D$24:$D$500,D60,Limits_Detail!$I$24:$I$500,\"Process Problems\"))","v":""},{"$f":"IF(E60=\"\",\"\",SUMIFS(Limits_Detail!$K$24:$K$500,Limits_Detail!$B$24:$B$500,B60,Limits_Detail!$C$24:$C$500,C60,Limits_Detail!$D$24:$D$500,D60,Limits_Detail!$I$24:$I$500,\"Other Known Causes\"))","v":""},{"$f":"IF(E60=\"\",\"\",SUMIFS(Limits_Detail!$K$24:$K$500,Limits_Detail!$B$24:$B$500,B60,Limits_Detail!$C$24:$C$500,C60,Limits_Detail!$D$24:$D$500,D60,Limits_Detail!$I$24:$I$500,\"Other Unknown Causes\"))","v":""}]
[null,null,null,null,null,{"$f":"IF(E61=\"\",\"\",SUMIFS(Limits_Detail!$K$24:$K$500,Limits_Detail!$B$24:$B$500,B61,Limits_Detail!$C$24:$C$500,C61,Limits_Detail!$D$24:$D$500,D61))","v":""},"",{"$f":"IF(E61=\"\",\"\",SUMIFS(Limits_Detail!$K$24:$K$500,Limits_Detail!$B$24:$B$500,B61,Limits_Detail!$C$24:$C$500,C61,Limits_Detail!$D$24:$D$500,D61,Limits_Detail!$I$24:$I$500,\"Control Equipment Problems\"))","v":""},{"$f":"IF(E61=\"\",\"\",SUMIFS(Limits_Detail!$K$24:$K$500,Limits_Detail!$B$24:$B$500,B61,Limits_Detail!$C$24:$C$500,C61,Limits_Detail!$D$24:$D$500,D61,Limits_Detail!$I$24:$I$500,\"Process Problems\"))","v":""},{"$f":"IF(E61=\"\",\"\",SUMIFS(Limits_Detail!$K$24:$K$500,Limits_Detail!$B$24:$B$500,B61,Limits_Detail!$C$24:$C$500,C61,Limits_Detail!$D$24:$D$500,D61,Limits_Detail!$I$24:$I$500,\"Other Known Causes\"))","v":""},{"$f":"IF(E61=\"\",\"\",SUMIFS(Limits_Detail!$K$24:$K$500,Limits_Detail!$B$24:$B$500,B61,Limits_Detail!$C$24:$C$500,C61,Limits_Detail!$D$24:$D$500,D61,Limits_Detail!$I$24:$I$500,\"Other Unknown Causes\"))","v":""}]
[null,null,null,null,null,{"$f":"IF(E62=\"\",\"\",SUMIFS(Limits_Detail!$K$24:$K$500,Limits_Detail!$B$24:$B$500,B62,Limits_Detail!$C$24:$C$500,C62,Limits_Detail!$D$24:$D$500,D62))","v":""},"",{"$f":"IF(E62=\"\",\"\",SUMIFS(Limits_Detail!$K$24:$K$500,Limits_Detail!$B$24:$B$500,B62,Limits_Detail!$C$24:$C$500,C62,Limits_Detail!$D$24:$D$500,D62,Limits_Detail!$I$24:$I$500,\"Control Equipment Problems\"))","v":""},{"$f":"IF(E62=\"\",\"\",SUMIFS(Limits_Detail!$K$24:$K$500,Limits_Detail!$B$24:$B$500,B62,Limits_Detail!$C$24:$C$500,C62,Limits_Detail!$D$24:$D$500,D62,Limits_Detail!$I$24:$I$500,\"Process Problems\"))","v":""},{"$f":"IF(E62=\"\",\"\",SUMIFS(Limits_Detail!$K$24:$K$500,Limits_Detail!$B$24:$B$500,B62,Limits_Detail!$C$24:$C$500,C62,Limits_Detail!$D$24:$D$500,D62,Limits_Detail!$I$24:$I$500,\"Other Known Causes\"))","v":""},{"$f":"IF(E62=\"\",\"\",SUMIFS(Limits_Detail!$K$24:$K$500,Limits_Detail!$B$24:$B$500,B62,Limits_Detail!$C$24:$C$500,C62,Limits_Detail!$D$24:$D$500,D62,Limits_Detail!$I$24:$I$500,\"Other Unknown Causes\"))","v":""}]
[null,null,null,null,null,{"$f":"IF(E63=\"\",\"\",SUMIFS(Limits_Detail!$K$24:$K$500,Limits_Detail!$B$24:$B$500,B63,Limits_Detail!$C$24:$C$500,C63,Limits_Detail!$D$24:$D$500,D63))","v":""},"",{"$f":"IF(E63=\"\",\"\",SUMIFS(Limits_Detail!$K$24:$K$500,Limits_Detail!$B$24:$B$500,B63,Limits_Detail!$C$24:$C$500,C63,Limits_Detail!$D$24:$D$500,D63,Limits_Detail!$I$24:$I$500,\"Control Equipment Problems\"))","v":""},{"$f":"IF(E63=\"\",\"\",SUMIFS(Limits_Detail!$K$24:$K$500,Limits_Detail!$B$24:$B$500,B63,Limits_Detail!$C$24:$C$500,C63,Limits_Detail!$D$24:$D$500,D63,Limits_Detail!$I$24:$I$500,\"Process Problems\"))","v":""},{"$f":"IF(E63=\"\",\"\",SUMIFS(Limits_Detail!$K$24:$K$500,Limits_Detail!$B$24:$B$500,B63,Limits_Detail!$C$24:$C$500,C63,Limits_Detail!$D$24:$D$500,D63,Limits_Detail!$I$24:$I$500,\"Other Known Causes\"))","v":""},{"$f":"IF(E63=\"\",\"\",SUMIFS(Limits_Detail!$K$24:$K$500,Limits_Detail!$B$24:$B$500,B63,Limits_Detail!$C$24:$C$500,C63,Limits_Detail!$D$24:$D$500,D63,Limits_Detail!$I$24:$I$500,\"Other Unknown Causes\"))","v":""}]
[null,null,null,null,null,{"$f":"IF(E64=\"\",\"\",SUMIFS(Limits_Detail!$K$24:$K$500,Limits_Detail!$B$24:$B$500,B64,Limits_Detail!$C$24:$C$500,C64,Limits_Detail!$D$24:$D$500,D64))","v":""},"",{"$f":"IF(E64=\"\",\"\",SUMIFS(Limits_Detail!$K$24:$K$500,Limits_Detail!$B$24:$B$500,B64,Limits_Detail!$C$24:$C$500,C64,Limits_Detail!$D$24:$D$500,D64,Limits_Detail!$I$24:$I$500,\"Control Equipment Problems\"))","v":""},{"$f":"IF(E64=\"\",\"\",SUMIFS(Limits_Detail!$K$24:$K$500,Limits_Detail!$B$24:$B$500,B64,Limits_Detail!$C$24:$C$500,C64,Limits_Detail!$D$24:$D$500,D64,Limits_Detail!$I$24:$I$500,\"Process Problems\"))","v":""},{"$f":"IF(E64=\"\",\"\",SUMIFS(Limits_Detail!$K$24:$K$500,Limits_Detail!$B$24:$B$500,B64,Limits_Detail!$C$24:$C$500,C64,Limits_Detail!$D$24:$D$500,D64,Limits_Detail!$I$24:$I$500,\"Other Known Causes\"))","v":""},{"$f":"IF(E64=\"\",\"\",SUMIFS(Limits_Detail!$K$24:$K$500,Limits_Detail!$B$24:$B$500,B64,Limits_Detail!$C$24:$C$500,C64,Limits_Detail!$D$24:$D$500,D64,Limits_Detail!$I$24:$I$500,\"Other Unknown Causes\"))","v":""}]
[null,null,null,null,null,{"$f":"IF(E65=\"\",\"\",SUMIFS(Limits_Detail!$K$24:$K$500,Limits_Detail!$B$24:$B$500,B65,Limits_Detail!$C$24:$C$500,C65,Limits_Detail!$D$24:$D$500,D65))","v":""},"",{"$f":"IF(E65=\"\",\"\",SUMIFS(Limits_Detail!$K$24:$K$500,Limits_Detail!$B$24:$B$500,B65,Limits_Detail!$C$24:$C$500,C65,Limits_Detail!$D$24:$D$500,D65,Limits_Detail!$I$24:$I$500,\"Control Equipment Problems\"))","v":""},{"$f":"IF(E65=\"\",\"\",SUMIFS(Limits_Detail!$K$24:$K$500,Limits_Detail!$B$24:$B$500,B65,Limits_Detail!$C$24:$C$500,C65,Limits_Detail!$D$24:$D$500,D65,Limits_Detail!$I$24:$I$500,\"Process Problems\"))","v":""},{"$f":"IF(E65=\"\",\"\",SUMIFS(Limits_Detail!$K$24:$K$500,Limits_Detail!$B$24:$B$500,B65,Limits_Detail!$C$24:$C$500,C65,Limits_Detail!$D$24:$D$500,D65,Limits_Detail!$I$24:$I$500,\"Other Known Causes\"))","v":""},{"$f":"IF(E65=\"\",\"\",SUMIFS(Limits_Detail!$K$24:$K$500,Limits_Detail!$B$24:$B$500,B65,Limits_Detail!$C$24:$C$500,C65,Limits_Detail!$D$24:$D$500,D65,Limits_Detail!$I$24:$I$500,\"Other Unknown Causes\"))","v":""}]
[null,null,null,null,null,{"$f":"IF(E66=\"\",\"\",SUMIFS(Limits_Detail!$K$24:$K$500,Limits_Detail!$B$24:$B$500,B66,Limits_Detail!$C$24:$C$500,C66,Limits_Detail!$D$24:$D$500,D66))","v":""},"",{"$f":"IF(E66=\"\",\"\",SUMIFS(Limits_Detail!$K$24:$K$500,Limits_Detail!$B$24:$B$500,B66,Limits_Detail!$C$24:$C$500,C66,Limits_Detail!$D$24:$D$500,D66,Limits_Detail!$I$24:$I$500,\"Control Equipment Problems\"))","v":""},{"$f":"IF(E66=\"\",\"\",SUMIFS(Limits_Detail!$K$24:$K$500,Limits_Detail!$B$24:$B$500,B66,Limits_Detail!$C$24:$C$500,C66,Limits_Detail!$D$24:$D$500,D66,Limits_Detail!$I$24:$I$500,\"Process Problems\"))","v":""},{"$f":"IF(E66=\"\",\"\",SUMIFS(Limits_Detail!$K$24:$K$500,Limits_Detail!$B$24:$B$500,B66,Limits_Detail!$C$24:$C$500,C66,Limits_Detail!$D$24:$D$500,D66,Limits_Detail!$I$24:$I$500,\"Other Known Causes\"))","v":""},{"$f":"IF(E66=\"\",\"\",SUMIFS(Limits_Detail!$K$24:$K$500,Limits_Detail!$B$24:$B$500,B66,Limits_Detail!$C$24:$C$500,C66,Limits_Detail!$D$24:$D$500,D66,Limits_Detail!$I$24:$I$500,\"Other Unknown Causes\"))","v":""}]
[null,null,null,null,null,{"$f":"IF(E67=\"\",\"\",SUMIFS(Limits_Detail!$K$24:$K$500,Limits_Detail!$B$24:$B$500,B67,Limits_Detail!$C$24:$C$500,C67,Limits_Detail!$D$24:$D$500,D67))","v":""},"",{"$f":"IF(E67=\"\",\"\",SUMIFS(Limits_Detail!$K$24:$K$500,Limits_Detail!$B$24:$B$500,B67,Limits_Detail!$C$24:$C$500,C67,Limits_Detail!$D$24:$D$500,D67,Limits_Detail!$I$24:$I$500,\"Control Equipment Problems\"))","v":""},{"$f":"IF(E67=\"\",\"\",SUMIFS(Limits_Detail!$K$24:$K$500,Limits_Detail!$B$24:$B$500,B67,Limits_Detail!$C$24:$C$500,C67,Limits_Detail!$D$24:$D$500,D67,Limits_Detail!$I$24:$I$500,\"Process Problems\"))","v":""},{"$f":"IF(E67=\"\",\"\",SUMIFS(Limits_Detail!$K$24:$K$500,Limits_Detail!$B$24:$B$500,B67,Limits_Detail!$C$24:$C$500,C67,Limits_Detail!$D$24:$D$500,D67,Limits_Detail!$I$24:$I$500,\"Other Known Causes\"))","v":""},{"$f":"IF(E67=\"\",\"\",SUMIFS(Limits_Detail!$K$24:$K$500,Limits_Detail!$B$24:$B$500,B67,Limits_Detail!$C$24:$C$500,C67,Limits_Detail!$D$24:$D$500,D67,Limits_Detail!$I$24:$I$500,\"Other Unknown Causes\"))","v":""}]
[null,null,null,null,null,{"$f":"IF(E68=\"\",\"\",SUMIFS(Limits_Detail!$K$24:$K$500,Limits_Detail!$B$24:$B$500,B68,Limits_Detail!$C$24:$C$500,C68,Limits_Detail!$D$24:$D$500,D68))","v":""},"",{"$f":"IF(E68=\"\",\"\",SUMIFS(Limits_Detail!$K$24:$K$500,Limits_Detail!$B$24:$B$500,B68,Limits_Detail!$C$24:$C$500,C68,Limits_Detail!$D$24:$D$500,D68,Limits_Detail!$I$24:$I$500,\"Control Equipment Problems\"))","v":""},{"$f":"IF(E68=\"\",\"\",SUMIFS(Limits_Detail!$K$24:$K$500,Limits_Detail!$B$24:$B$500,B68,Limits_Detail!$C$24:$C$500,C68,Limits_Detail!$D$24:$D$500,D68,Limits_Detail!$I$24:$I$500,\"Process Problems\"))","v":""},{"$f":"IF(E68=\"\",\"\",SUMIFS(Limits_Detail!$K$24:$K$500,Limits_Detail!$B$24:$B$500,B68,Limits_Detail!$C$24:$C$500,C68,Limits_Detail!$D$24:$D$500,D68,Limits_Detail!$I$24:$I$500,\"Other Known Causes\"))","v":""},{"$f":"IF(E68=\"\",\"\",SUMIFS(Limits_Detail!$K$24:$K$500,Limits_Detail!$B$24:$B$500,B68,Limits_Detail!$C$24:$C$500,C68,Limits_Detail!$D$24:$D$500,D68,Limits_Detail!$I$24:$I$500,\"Other Unknown Causes\"))","v":""}]
[null,null,null,null,null,{"$f":"IF(E69=\"\",\"\",SUMIFS(Limits_Detail!$K$24:$K$500,Limits_Detail!$B$24:$B$500,B69,Limits_Detail!$C$24:$C$500,C69,Limits_Detail!$D$24:$D$500,D69))","v":""},"",{"$f":"IF(E69=\"\",\"\",SUMIFS(Limits_Detail!$K$24:$K$500,Limits_Detail!$B$24:$B$500,B69,Limits_Detail!$C$24:$C$500,C69,Limits_Detail!$D$24:$D$500,D69,Limits_Detail!$I$24:$I$500,\"Control Equipment Problems\"))","v":""},{"$f":"IF(E69=\"\",\"\",SUMIFS(Limits_Detail!$K$24:$K$500,Limits_Detail!$B$24:$B$500,B69,Limits_Detail!$C$24:$C$500,C69,Limits_Detail!$D$24:$D$500,D69,Limits_Detail!$I$24:$I$500,\"Process Problems\"))","v":""},{"$f":"IF(E69=\"\",\"\",SUMIFS(Limits_Detail!$K$24:$K$500,Limits_Detail!$B$24:$B$500,B69,Limits_Detail!$C$24:$C$500,C69,Limits_Detail!$D$24:$D$500,D69,Limits_Detail!$I$24:$I$500,\"Other Known Causes\"))","v":""},{"$f":"IF(E69=\"\",\"\",SUMIFS(Limits_Detail!$K$24:$K$500,Limits_Detail!$B$24:$B$500,B69,Limits_Detail!$C$24:$C$500,C69,Limits_Detail!$D$24:$D$500,D69,Limits_Detail!$I$24:$I$500,\"Other Unknown Causes\"))","v":""}]
[null,null,null,null,null,{"$f":"IF(E70=\"\",\"\",SUMIFS(Limits_Detail!$K$24:$K$500,Limits_Detail!$B$24:$B$500,B70,Limits_Detail!$C$24:$C$500,C70,Limits_Detail!$D$24:$D$500,D70))","v":""},"",{"$f":"IF(E70=\"\",\"\",SUMIFS(Limits_Detail!$K$24:$K$500,Limits_Detail!$B$24:$B$500,B70,Limits_Detail!$C$24:$C$500,C70,Limits_Detail!$D$24:$D$500,D70,Limits_Detail!$I$24:$I$500,\"Control Equipment Problems\"))","v":""},{"$f":"IF(E70=\"\",\"\",SUMIFS(Limits_Detail!$K$24:$K$500,Limits_Detail!$B$24:$B$500,B70,Limits_Detail!$C$24:$C$500,C70,Limits_Detail!$D$24:$D$500,D70,Limits_Detail!$I$24:$I$500,\"Process Problems\"))","v":""},{"$f":"IF(E70=\"\",\"\",SUMIFS(Limits_Detail!$K$24:$K$500,Limits_Detail!$B$24:$B$500,B70,Limits_Detail!$C$24:$C$500,C70,Limits_Detail!$D$24:$D$500,D70,Limits_Detail!$I$24:$I$500,\"Other Known Causes\"))","v":""},{"$f":"IF(E70=\"\",\"\",SUMIFS(Limits_Detail!$K$24:$K$500,Limits_Detail!$B$24:$B$500,B70,Limits_Detail!$C$24:$C$500,C70,Limits_Detail!$D$24:$D$500,D70,Limits_Detail!$I$24:$I$500,\"Other Unknown Causes\"))","v":""}]
[null,null,null,null,null,{"$f":"IF(E71=\"\",\"\",SUMIFS(Limits_Detail!$K$24:$K$500,Limits_Detail!$B$24:$B$500,B71,Limits_Detail!$C$24:$C$500,C71,Limits_Detail!$D$24:$D$500,D71))","v":""},"",{"$f":"IF(E71=\"\",\"\",SUMIFS(Limits_Detail!$K$24:$K$500,Limits_Detail!$B$24:$B$500,B71,Limits_Detail!$C$24:$C$500,C71,Limits_Detail!$D$24:$D$500,D71,Limits_Detail!$I$24:$I$500,\"Control Equipment Problems\"))","v":""},{"$f":"IF(E71=\"\",\"\",SUMIFS(Limits_Detail!$K$24:$K$500,Limits_Detail!$B$24:$B$500,B71,Limits_Detail!$C$24:$C$500,C71,Limits_Detail!$D$24:$D$500,D71,Limits_Detail!$I$24:$I$500,\"Process Problems\"))","v":""},{"$f":"IF(E71=\"\",\"\",SUMIFS(Limits_Detail!$K$24:$K$500,Limits_Detail!$B$24:$B$500,B71,Limits_Detail!$C$24:$C$500,C71,Limits_Detail!$D$24:$D$500,D71,Limits_Detail!$I$24:$I$500,\"Other Known Causes\"))","v":""},{"$f":"IF(E71=\"\",\"\",SUMIFS(Limits_Detail!$K$24:$K$500,Limits_Detail!$B$24:$B$500,B71,Limits_Detail!$C$24:$C$500,C71,Limits_Detail!$D$24:$D$500,D71,Limits_Detail!$I$24:$I$500,\"Other Unknown Causes\"))","v":""}]
[null,null,null,null,null,{"$f":"IF(E72=\"\",\"\",SUMIFS(Limits_Detail!$K$24:$K$500,Limits_Detail!$B$24:$B$500,B72,Limits_Detail!$C$24:$C$500,C72,Limits_Detail!$D$24:$D$500,D72))","v":""},"",{"$f":"IF(E72=\"\",\"\",SUMIFS(Limits_Detail!$K$24:$K$500,Limits_Detail!$B$24:$B$500,B72,Limits_Detail!$C$24:$C$500,C72,Limits_Detail!$D$24:$D$500,D72,Limits_Detail!$I$24:$I$500,\"Control Equipment Problems\"))","v":""},{"$f":"IF(E72=\"\",\"\",SUMIFS(Limits_Detail!$K$24:$K$500,Limits_Detail!$B$24:$B$500,B72,Limits_Detail!$C$24:$C$500,C72,Limits_Detail!$D$24:$D$500,D72,Limits_Detail!$I$24:$I$500,\"Process Problems\"))","v":""},{"$f":"IF(E72=\"\",\"\",SUMIFS(Limits_Detail!$K$24:$K$500,Limits_Detail!$B$24:$B$500,B72,Limits_Detail!$C$24:$C$500,C72,Limits_Detail!$D$24:$D$500,D72,Limits_Detail!$I$24:$I$500,\"Other Known Causes\"))","v":""},{"$f":"IF(E72=\"\",\"\",SUMIFS(Limits_Detail!$K$24:$K$500,Limits_Detail!$B$24:$B$500,B72,Limits_Detail!$C$24:$C$500,C72,Limits_Detail!$D$24:$D$500,D72,Limits_Detail!$I$24:$I$500,\"Other Unknown Causes\"))","v":""}]
[null,null,null,null,null,{"$f":"IF(E73=\"\",\"\",SUMIFS(Limits_Detail!$K$24:$K$500,Limits_Detail!$B$24:$B$500,B73,Limits_Detail!$C$24:$C$500,C73,Limits_Detail!$D$24:$D$500,D73))","v":""},"",{"$f":"IF(E73=\"\",\"\",SUMIFS(Limits_Detail!$K$24:$K$500,Limits_Detail!$B$24:$B$500,B73,Limits_Detail!$C$24:$C$500,C73,Limits_Detail!$D$24:$D$500,D73,Limits_Detail!$I$24:$I$500,\"Control Equipment Problems\"))","v":""},{"$f":"IF(E73=\"\",\"\",SUMIFS(Limits_Detail!$K$24:$K$500,Limits_Detail!$B$24:$B$500,B73,Limits_Detail!$C$24:$C$500,C73,Limits_Detail!$D$24:$D$500,D73,Limits_Detail!$I$24:$I$500,\"Process Problems\"))","v":""},{"$f":"IF(E73=\"\",\"\",SUMIFS(Limits_Detail!$K$24:$K$500,Limits_Detail!$B$24:$B$500,B73,Limits_Detail!$C$24:$C$500,C73,Limits_Detail!$D$24:$D$500,D73,Limits_Detail!$I$24:$I$500,\"Other Known Causes\"))","v":""},{"$f":"IF(E73=\"\",\"\",SUMIFS(Limits_Detail!$K$24:$K$500,Limits_Detail!$B$24:$B$500,B73,Limits_Detail!$C$24:$C$500,C73,Limits_Detail!$D$24:$D$500,D73,Limits_Detail!$I$24:$I$500,\"Other Unknown Causes\"))","v":""}]
[null,null,null,null,null,{"$f":"IF(E74=\"\",\"\",SUMIFS(Limits_Detail!$K$24:$K$500,Limits_Detail!$B$24:$B$500,B74,Limits_Detail!$C$24:$C$500,C74,Limits_Detail!$D$24:$D$500,D74))","v":""},"",{"$f":"IF(E74=\"\",\"\",SUMIFS(Limits_Detail!$K$24:$K$500,Limits_Detail!$B$24:$B$500,B74,Limits_Detail!$C$24:$C$500,C74,Limits_Detail!$D$24:$D$500,D74,Limits_Detail!$I$24:$I$500,\"Control Equipment Problems\"))","v":""},{"$f":"IF(E74=\"\",\"\",SUMIFS(Limits_Detail!$K$24:$K$500,Limits_Detail!$B$24:$B$500,B74,Limits_Detail!$C$24:$C$500,C74,Limits_Detail!$D$24:$D$500,D74,Limits_Detail!$I$24:$I$500,\"Process Problems\"))","v":""},{"$f":"IF(E74=\"\",\"\",SUMIFS(Limits_Detail!$K$24:$K$500,Limits_Detail!$B$24:$B$500,B74,Limits_Detail!$C$24:$C$500,C74,Limits_Detail!$D$24:$D$500,D74,Limits_Detail!$I$24:$I$500,\"Other Known Causes\"))","v":""},{"$f":"IF(E74=\"\",\"\",SUMIFS(Limits_Detail!$K$24:$K$500,Limits_Detail!$B$24:$B$500,B74,Limits_Detail!$C$24:$C$500,C74,Limits_Detail!$D$24:$D$500,D74,Limits_Detail!$I$24:$I$500,\"Other Unknown Causes\"))","v":""}]
[null,null,null,null,null,{"$f":"IF(E75=\"\",\"\",SUMIFS(Limits_Detail!$K$24:$K$500,Limits_Detail!$B$24:$B$500,B75,Limits_Detail!$C$24:$C$500,C75,Limits_Detail!$D$24:$D$500,D75))","v":""},"",{"$f":"IF(E75=\"\",\"\",SUMIFS(Limits_Detail!$K$24:$K$500,Limits_Detail!$B$24:$B$500,B75,Limits_Detail!$C$24:$C$500,C75,Limits_Detail!$D$24:$D$500,D75,Limits_Detail!$I$24:$I$500,\"Control Equipment Problems\"))","v":""},{"$f":"IF(E75=\"\",\"\",SUMIFS(Limits_Detail!$K$24:$K$500,Limits_Detail!$B$24:$B$500,B75,Limits_Detail!$C$24:$C$500,C75,Limits_Detail!$D$24:$D$500,D75,Limits_Detail!$I$24:$I$500,\"Process Problems\"))","v":""},{"$f":"IF(E75=\"\",\"\",SUMIFS(Limits_Detail!$K$24:$K$500,Limits_Detail!$B$24:$B$500,B75,Limits_Detail!$C$24:$C$500,C75,Limits_Detail!$D$24:$D$500,D75,Limits_Detail!$I$24:$I$500,\"Other Known Causes\"))","v":""},{"$f":"IF(E75=\"\",\"\",SUMIFS(Limits_Detail!$K$24:$K$500,Limits_Detail!$B$24:$B$500,B75,Limits_Detail!$C$24:$C$500,C75,Limits_Detail!$D$24:$D$500,D75,Limits_Detail!$I$24:$I$500,\"Other Unknown Causes\"))","v":""}]
[null,null,null,null,null,{"$f":"IF(E76=\"\",\"\",SUMIFS(Limits_Detail!$K$24:$K$500,Limits_Detail!$B$24:$B$500,B76,Limits_Detail!$C$24:$C$500,C76,Limits_Detail!$D$24:$D$500,D76))","v":""},"",{"$f":"IF(E76=\"\",\"\",SUMIFS(Limits_Detail!$K$24:$K$500,Limits_Detail!$B$24:$B$500,B76,Limits_Detail!$C$24:$C$500,C76,Limits_Detail!$D$24:$D$500,D76,Limits_Detail!$I$24:$I$500,\"Control Equipment Problems\"))","v":""},{"$f":"IF(E76=\"\",\"\",SUMIFS(Limits_Detail!$K$24:$K$500,Limits_Detail!$B$24:$B$500,B76,Limits_Detail!$C$24:$C$500,C76,Limits_Detail!$D$24:$D$500,D76,Limits_Detail!$I$24:$I$500,\"Process Problems\"))","v":""},{"$f":"IF(E76=\"\",\"\",SUMIFS(Limits_Detail!$K$24:$K$500,Limits_Detail!$B$24:$B$500,B76,Limits_Detail!$C$24:$C$500,C76,Limits_Detail!$D$24:$D$500,D76,Limits_Detail!$I$24:$I$500,\"Other Known Causes\"))","v":""},{"$f":"IF(E76=\"\",\"\",SUMIFS(Limits_Detail!$K$24:$K$500,Limits_Detail!$B$24:$B$500,B76,Limits_Detail!$C$24:$C$500,C76,Limits_Detail!$D$24:$D$500,D76,Limits_Detail!$I$24:$I$500,\"Other Unknown Causes\"))","v":""}]
[null,null,null,null,null,{"$f":"IF(E77=\"\",\"\",SUMIFS(Limits_Detail!$K$24:$K$500,Limits_Detail!$B$24:$B$500,B77,Limits_Detail!$C$24:$C$500,C77,Limits_Detail!$D$24:$D$500,D77))","v":""},"",{"$f":"IF(E77=\"\",\"\",SUMIFS(Limits_Detail!$K$24:$K$500,Limits_Detail!$B$24:$B$500,B77,Limits_Detail!$C$24:$C$500,C77,Limits_Detail!$D$24:$D$500,D77,Limits_Detail!$I$24:$I$500,\"Control Equipment Problems\"))","v":""},{"$f":"IF(E77=\"\",\"\",SUMIFS(Limits_Detail!$K$24:$K$500,Limits_Detail!$B$24:$B$500,B77,Limits_Detail!$C$24:$C$500,C77,Limits_Detail!$D$24:$D$500,D77,Limits_Detail!$I$24:$I$500,\"Process Problems\"))","v":""},{"$f":"IF(E77=\"\",\"\",SUMIFS(Limits_Detail!$K$24:$K$500,Limits_Detail!$B$24:$B$500,B77,Limits_Detail!$C$24:$C$500,C77,Limits_Detail!$D$24:$D$500,D77,Limits_Detail!$I$24:$I$500,\"Other Known Causes\"))","v":""},{"$f":"IF(E77=\"\",\"\",SUMIFS(Limits_Detail!$K$24:$K$500,Limits_Detail!$B$24:$B$500,B77,Limits_Detail!$C$24:$C$500,C77,Limits_Detail!$D$24:$D$500,D77,Limits_Detail!$I$24:$I$500,\"Other Unknown Causes\"))","v":""}]
[null,null,null,null,null,{"$f":"IF(E78=\"\",\"\",SUMIFS(Limits_Detail!$K$24:$K$500,Limits_Detail!$B$24:$B$500,B78,Limits_Detail!$C$24:$C$500,C78,Limits_Detail!$D$24:$D$500,D78))","v":""},"",{"$f":"IF(E78=\"\",\"\",SUMIFS(Limits_Detail!$K$24:$K$500,Limits_Detail!$B$24:$B$500,B78,Limits_Detail!$C$24:$C$500,C78,Limits_Detail!$D$24:$D$500,D78,Limits_Detail!$I$24:$I$500,\"Control Equipment Problems\"))","v":""},{"$f":"IF(E78=\"\",\"\",SUMIFS(Limits_Detail!$K$24:$K$500,Limits_Detail!$B$24:$B$500,B78,Limits_Detail!$C$24:$C$500,C78,Limits_Detail!$D$24:$D$500,D78,Limits_Detail!$I$24:$I$500,\"Process Problems\"))","v":""},{"$f":"IF(E78=\"\",\"\",SUMIFS(Limits_Detail!$K$24:$K$500,Limits_Detail!$B$24:$B$500,B78,Limits_Detail!$C$24:$C$500,C78,Limits_Detail!$D$24:$D$500,D78,Limits_Detail!$I$24:$I$500,\"Other Known Causes\"))","v":""},{"$f":"IF(E78=\"\",\"\",SUMIFS(Limits_Detail!$K$24:$K$500,Limits_Detail!$B$24:$B$500,B78,Limits_Detail!$C$24:$C$500,C78,Limits_Detail!$D$24:$D$500,D78,Limits_Detail!$I$24:$I$500,\"Other Unknown Causes\"))","v":""}]
[null,null,null,null,null,{"$f":"IF(E79=\"\",\"\",SUMIFS(Limits_Detail!$K$24:$K$500,Limits_Detail!$B$24:$B$500,B79,Limits_Detail!$C$24:$C$500,C79,Limits_Detail!$D$24:$D$500,D79))","v":""},"",{"$f":"IF(E79=\"\",\"\",SUMIFS(Limits_Detail!$K$24:$K$500,Limits_Detail!$B$24:$B$500,B79,Limits_Detail!$C$24:$C$500,C79,Limits_Detail!$D$24:$D$500,D79,Limits_Detail!$I$24:$I$500,\"Control Equipment Problems\"))","v":""},{"$f":"IF(E79=\"\",\"\",SUMIFS(Limits_Detail!$K$24:$K$500,Limits_Detail!$B$24:$B$500,B79,Limits_Detail!$C$24:$C$500,C79,Limits_Detail!$D$24:$D$500,D79,Limits_Detail!$I$24:$I$500,\"Process Problems\"))","v":""},{"$f":"IF(E79=\"\",\"\",SUMIFS(Limits_Detail!$K$24:$K$500,Limits_Detail!$B$24:$B$500,B79,Limits_Detail!$C$24:$C$500,C79,Limits_Detail!$D$24:$D$500,D79,Limits_Detail!$I$24:$I$500,\"Other Known Causes\"))","v":""},{"$f":"IF(E79=\"\",\"\",SUMIFS(Limits_Detail!$K$24:$K$500,Limits_Detail!$B$24:$B$500,B79,Limits_Detail!$C$24:$C$500,C79,Limits_Detail!$D$24:$D$500,D79,Limits_Detail!$I$24:$I$500,\"Other Unknown Causes\"))","v":""}]
[null,null,null,null,null,{"$f":"IF(E80=\"\",\"\",SUMIFS(Limits_Detail!$K$24:$K$500,Limits_Detail!$B$24:$B$500,B80,Limits_Detail!$C$24:$C$500,C80,Limits_Detail!$D$24:$D$500,D80))","v":""},"",{"$f":"IF(E80=\"\",\"\",SUMIFS(Limits_Detail!$K$24:$K$500,Limits_Detail!$B$24:$B$500,B80,Limits_Detail!$C$24:$C$500,C80,Limits_Detail!$D$24:$D$500,D80,Limits_Detail!$I$24:$I$500,\"Control Equipment Problems\"))","v":""},{"$f":"IF(E80=\"\",\"\",SUMIFS(Limits_Detail!$K$24:$K$500,Limits_Detail!$B$24:$B$500,B80,Limits_Detail!$C$24:$C$500,C80,Limits_Detail!$D$24:$D$500,D80,Limits_Detail!$I$24:$I$500,\"Process Problems\"))","v":""},{"$f":"IF(E80=\"\",\"\",SUMIFS(Limits_Detail!$K$24:$K$500,Limits_Detail!$B$24:$B$500,B80,Limits_Detail!$C$24:$C$500,C80,Limits_Detail!$D$24:$D$500,D80,Limits_Detail!$I$24:$I$500,\"Other Known Causes\"))","v":""},{"$f":"IF(E80=\"\",\"\",SUMIFS(Limits_Detail!$K$24:$K$500,Limits_Detail!$B$24:$B$500,B80,Limits_Detail!$C$24:$C$500,C80,Limits_Detail!$D$24:$D$500,D80,Limits_Detail!$I$24:$I$500,\"Other Unknown Causes\"))","v":""}]
[null,null,null,null,null,{"$f":"IF(E81=\"\",\"\",SUMIFS(Limits_Detail!$K$24:$K$500,Limits_Detail!$B$24:$B$500,B81,Limits_Detail!$C$24:$C$500,C81,Limits_Detail!$D$24:$D$500,D81))","v":""},"",{"$f":"IF(E81=\"\",\"\",SUMIFS(Limits_Detail!$K$24:$K$500,Limits_Detail!$B$24:$B$500,B81,Limits_Detail!$C$24:$C$500,C81,Limits_Detail!$D$24:$D$500,D81,Limits_Detail!$I$24:$I$500,\"Control Equipment Problems\"))","v":""},{"$f":"IF(E81=\"\",\"\",SUMIFS(Limits_Detail!$K$24:$K$500,Limits_Detail!$B$24:$B$500,B81,Limits_Detail!$C$24:$C$500,C81,Limits_Detail!$D$24:$D$500,D81,Limits_Detail!$I$24:$I$500,\"Process Problems\"))","v":""},{"$f":"IF(E81=\"\",\"\",SUMIFS(Limits_Detail!$K$24:$K$500,Limits_Detail!$B$24:$B$500,B81,Limits_Detail!$C$24:$C$500,C81,Limits_Detail!$D$24:$D$500,D81,Limits_Detail!$I$24:$I$500,\"Other Known Causes\"))","v":""},{"$f":"IF(E81=\"\",\"\",SUMIFS(Limits_Detail!$K$24:$K$500,Limits_Detail!$B$24:$B$500,B81,Limits_Detail!$C$24:$C$500,C81,Limits_Detail!$D$24:$D$500,D81,Limits_Detail!$I$24:$I$500,\"Other Unknown Causes\"))","v":""}]
[null,null,null,null,null,{"$f":"IF(E82=\"\",\"\",SUMIFS(Limits_Detail!$K$24:$K$500,Limits_Detail!$B$24:$B$500,B82,Limits_Detail!$C$24:$C$500,C82,Limits_Detail!$D$24:$D$500,D82))","v":""},"",{"$f":"IF(E82=\"\",\"\",SUMIFS(Limits_Detail!$K$24:$K$500,Limits_Detail!$B$24:$B$500,B82,Limits_Detail!$C$24:$C$500,C82,Limits_Detail!$D$24:$D$500,D82,Limits_Detail!$I$24:$I$500,\"Control Equipment Problems\"))","v":""},{"$f":"IF(E82=\"\",\"\",SUMIFS(Limits_Detail!$K$24:$K$500,Limits_Detail!$B$24:$B$500,B82,Limits_Detail!$C$24:$C$500,C82,Limits_Detail!$D$24:$D$500,D82,Limits_Detail!$I$24:$I$500,\"Process Problems\"))","v":""},{"$f":"IF(E82=\"\",\"\",SUMIFS(Limits_Detail!$K$24:$K$500,Limits_Detail!$B$24:$B$500,B82,Limits_Detail!$C$24:$C$500,C82,Limits_Detail!$D$24:$D$500,D82,Limits_Detail!$I$24:$I$500,\"Other Known Causes\"))","v":""},{"$f":"IF(E82=\"\",\"\",SUMIFS(Limits_Detail!$K$24:$K$500,Limits_Detail!$B$24:$B$500,B82,Limits_Detail!$C$24:$C$500,C82,Limits_Detail!$D$24:$D$500,D82,Limits_Detail!$I$24:$I$500,\"Other Unknown Causes\"))","v":""}]
[null,null,null,null,null,{"$f":"IF(E83=\"\",\"\",SUMIFS(Limits_Detail!$K$24:$K$500,Limits_Detail!$B$24:$B$500,B83,Limits_Detail!$C$24:$C$500,C83,Limits_Detail!$D$24:$D$500,D83))","v":""},"",{"$f":"IF(E83=\"\",\"\",SUMIFS(Limits_Detail!$K$24:$K$500,Limits_Detail!$B$24:$B$500,B83,Limits_Detail!$C$24:$C$500,C83,Limits_Detail!$D$24:$D$500,D83,Limits_Detail!$I$24:$I$500,\"Control Equipment Problems\"))","v":""},{"$f":"IF(E83=\"\",\"\",SUMIFS(Limits_Detail!$K$24:$K$500,Limits_Detail!$B$24:$B$500,B83,Limits_Detail!$C$24:$C$500,C83,Limits_Detail!$D$24:$D$500,D83,Limits_Detail!$I$24:$I$500,\"Process Problems\"))","v":""},{"$f":"IF(E83=\"\",\"\",SUMIFS(Limits_Detail!$K$24:$K$500,Limits_Detail!$B$24:$B$500,B83,Limits_Detail!$C$24:$C$500,C83,Limits_Detail!$D$24:$D$500,D83,Limits_Detail!$I$24:$I$500,\"Other Known Causes\"))","v":""},{"$f":"IF(E83=\"\",\"\",SUMIFS(Limits_Detail!$K$24:$K$500,Limits_Detail!$B$24:$B$500,B83,Limits_Detail!$C$24:$C$500,C83,Limits_Detail!$D$24:$D$500,D83,Limits_Detail!$I$24:$I$500,\"Other Unknown Causes\"))","v":""}]
[null,null,null,null,null,{"$f":"IF(E84=\"\",\"\",SUMIFS(Limits_Detail!$K$24:$K$500,Limits_Detail!$B$24:$B$500,B84,Limits_Detail!$C$24:$C$500,C84,Limits_Detail!$D$24:$D$500,D84))","v":""},"",{"$f":"IF(E84=\"\",\"\",SUMIFS(Limits_Detail!$K$24:$K$500,Limits_Detail!$B$24:$B$500,B84,Limits_Detail!$C$24:$C$500,C84,Limits_Detail!$D$24:$D$500,D84,Limits_Detail!$I$24:$I$500,\"Control Equipment Problems\"))","v":""},{"$f":"IF(E84=\"\",\"\",SUMIFS(Limits_Detail!$K$24:$K$500,Limits_Detail!$B$24:$B$500,B84,Limits_Detail!$C$24:$C$500,C84,Limits_Detail!$D$24:$D$500,D84,Limits_Detail!$I$24:$I$500,\"Process Problems\"))","v":""},{"$f":"IF(E84=\"\",\"\",SUMIFS(Limits_Detail!$K$24:$K$500,Limits_Detail!$B$24:$B$500,B84,Limits_Detail!$C$24:$C$500,C84,Limits_Detail!$D$24:$D$500,D84,Limits_Detail!$I$24:$I$500,\"Other Known Causes\"))","v":""},{"$f":"IF(E84=\"\",\"\",SUMIFS(Limits_Detail!$K$24:$K$500,Limits_Detail!$B$24:$B$500,B84,Limits_Detail!$C$24:$C$500,C84,Limits_Detail!$D$24:$D$500,D84,Limits_Detail!$I$24:$I$500,\"Other Unknown Causes\"))","v":""}]
[null,null,null,null,null,{"$f":"IF(E85=\"\",\"\",SUMIFS(Limits_Detail!$K$24:$K$500,Limits_Detail!$B$24:$B$500,B85,Limits_Detail!$C$24:$C$500,C85,Limits_Detail!$D$24:$D$500,D85))","v":""},"",{"$f":"IF(E85=\"\",\"\",SUMIFS(Limits_Detail!$K$24:$K$500,Limits_Detail!$B$24:$B$500,B85,Limits_Detail!$C$24:$C$500,C85,Limits_Detail!$D$24:$D$500,D85,Limits_Detail!$I$24:$I$500,\"Control Equipment Problems\"))","v":""},{"$f":"IF(E85=\"\",\"\",SUMIFS(Limits_Detail!$K$24:$K$500,Limits_Detail!$B$24:$B$500,B85,Limits_Detail!$C$24:$C$500,C85,Limits_Detail!$D$24:$D$500,D85,Limits_Detail!$I$24:$I$500,\"Process Problems\"))","v":""},{"$f":"IF(E85=\"\",\"\",SUMIFS(Limits_Detail!$K$24:$K$500,Limits_Detail!$B$24:$B$500,B85,Limits_Detail!$C$24:$C$500,C85,Limits_Detail!$D$24:$D$500,D85,Limits_Detail!$I$24:$I$500,\"Other Known Causes\"))","v":""},{"$f":"IF(E85=\"\",\"\",SUMIFS(Limits_Detail!$K$24:$K$500,Limits_Detail!$B$24:$B$500,B85,Limits_Detail!$C$24:$C$500,C85,Limits_Detail!$D$24:$D$500,D85,Limits_Detail!$I$24:$I$500,\"Other Unknown Causes\"))","v":""}]
[null,null,null,null,null,{"$f":"IF(E86=\"\",\"\",SUMIFS(Limits_Detail!$K$24:$K$500,Limits_Detail!$B$24:$B$500,B86,Limits_Detail!$C$24:$C$500,C86,Limits_Detail!$D$24:$D$500,D86))","v":""},"",{"$f":"IF(E86=\"\",\"\",SUMIFS(Limits_Detail!$K$24:$K$500,Limits_Detail!$B$24:$B$500,B86,Limits_Detail!$C$24:$C$500,C86,Limits_Detail!$D$24:$D$500,D86,Limits_Detail!$I$24:$I$500,\"Control Equipment Problems\"))","v":""},{"$f":"IF(E86=\"\",\"\",SUMIFS(Limits_Detail!$K$24:$K$500,Limits_Detail!$B$24:$B$500,B86,Limits_Detail!$C$24:$C$500,C86,Limits_Detail!$D$24:$D$500,D86,Limits_Detail!$I$24:$I$500,\"Process Problems\"))","v":""},{"$f":"IF(E86=\"\",\"\",SUMIFS(Limits_Detail!$K$24:$K$500,Limits_Detail!$B$24:$B$500,B86,Limits_Detail!$C$24:$C$500,C86,Limits_Detail!$D$24:$D$500,D86,Limits_Detail!$I$24:$I$500,\"Other Known Causes\"))","v":""},{"$f":"IF(E86=\"\",\"\",SUMIFS(Limits_Detail!$K$24:$K$500,Limits_Detail!$B$24:$B$500,B86,Limits_Detail!$C$24:$C$500,C86,Limits_Detail!$D$24:$D$500,D86,Limits_Detail!$I$24:$I$500,\"Other Unknown Causes\"))","v":""}]
[null,null,null,null,null,{"$f":"IF(E87=\"\",\"\",SUMIFS(Limits_Detail!$K$24:$K$500,Limits_Detail!$B$24:$B$500,B87,Limits_Detail!$C$24:$C$500,C87,Limits_Detail!$D$24:$D$500,D87))","v":""},"",{"$f":"IF(E87=\"\",\"\",SUMIFS(Limits_Detail!$K$24:$K$500,Limits_Detail!$B$24:$B$500,B87,Limits_Detail!$C$24:$C$500,C87,Limits_Detail!$D$24:$D$500,D87,Limits_Detail!$I$24:$I$500,\"Control Equipment Problems\"))","v":""},{"$f":"IF(E87=\"\",\"\",SUMIFS(Limits_Detail!$K$24:$K$500,Limits_Detail!$B$24:$B$500,B87,Limits_Detail!$C$24:$C$500,C87,Limits_Detail!$D$24:$D$500,D87,Limits_Detail!$I$24:$I$500,\"Process Problems\"))","v":""},{"$f":"IF(E87=\"\",\"\",SUMIFS(Limits_Detail!$K$24:$K$500,Limits_Detail!$B$24:$B$500,B87,Limits_Detail!$C$24:$C$500,C87,Limits_Detail!$D$24:$D$500,D87,Limits_Detail!$I$24:$I$500,\"Other Known Causes\"))","v":""},{"$f":"IF(E87=\"\",\"\",SUMIFS(Limits_Detail!$K$24:$K$500,Limits_Detail!$B$24:$B$500,B87,Limits_Detail!$C$24:$C$500,C87,Limits_Detail!$D$24:$D$500,D87,Limits_Detail!$I$24:$I$500,\"Other Unknown Causes\"))","v":""}]
[null,null,null,null,null,{"$f":"IF(E88=\"\",\"\",SUMIFS(Limits_Detail!$K$24:$K$500,Limits_Detail!$B$24:$B$500,B88,Limits_Detail!$C$24:$C$500,C88,Limits_Detail!$D$24:$D$500,D88))","v":""},"",{"$f":"IF(E88=\"\",\"\",SUMIFS(Limits_Detail!$K$24:$K$500,Limits_Detail!$B$24:$B$500,B88,Limits_Detail!$C$24:$C$500,C88,Limits_Detail!$D$24:$D$500,D88,Limits_Detail!$I$24:$I$500,\"Control Equipment Problems\"))","v":""},{"$f":"IF(E88=\"\",\"\",SUMIFS(Limits_Detail!$K$24:$K$500,Limits_Detail!$B$24:$B$500,B88,Limits_Detail!$C$24:$C$500,C88,Limits_Detail!$D$24:$D$500,D88,Limits_Detail!$I$24:$I$500,\"Process Problems\"))","v":""},{"$f":"IF(E88=\"\",\"\",SUMIFS(Limits_Detail!$K$24:$K$500,Limits_Detail!$B$24:$B$500,B88,Limits_Detail!$C$24:$C$500,C88,Limits_Detail!$D$24:$D$500,D88,Limits_Detail!$I$24:$I$500,\"Other Known Causes\"))","v":""},{"$f":"IF(E88=\"\",\"\",SUMIFS(Limits_Detail!$K$24:$K$500,Limits_Detail!$B$24:$B$500,B88,Limits_Detail!$C$24:$C$500,C88,Limits_Detail!$D$24:$D$500,D88,Limits_Detail!$I$24:$I$500,\"Other Unknown Causes\"))","v":""}]
[null,null,null,null,null,{"$f":"IF(E89=\"\",\"\",SUMIFS(Limits_Detail!$K$24:$K$500,Limits_Detail!$B$24:$B$500,B89,Limits_Detail!$C$24:$C$500,C89,Limits_Detail!$D$24:$D$500,D89))","v":""},{"$f":"IF($E89=\"\",\"\",IF(F89=0,\"N/A\",F89/$E89))","v":""},{"$f":"IF(E89=\"\",\"\",SUMIFS(Limits_Detail!$K$24:$K$500,Limits_Detail!$B$24:$B$500,B89,Limits_Detail!$C$24:$C$500,C89,Limits_Detail!$D$24:$D$500,D89,Limits_Detail!$I$24:$I$500,\"Control Equipment Problems\"))","v":""},{"$f":"IF(E89=\"\",\"\",SUMIFS(Limits_Detail!$K$24:$K$500,Limits_Detail!$B$24:$B$500,B89,Limits_Detail!$C$24:$C$500,C89,Limits_Detail!$D$24:$D$500,D89,Limits_Detail!$I$24:$I$500,\"Process Problems\"))","v":""},{"$f":"IF(E89=\"\",\"\",SUMIFS(Limits_Detail!$K$24:$K$500,Limits_Detail!$B$24:$B$500,B89,Limits_Detail!$C$24:$C$500,C89,Limits_Detail!$D$24:$D$500,D89,Limits_Detail!$I$24:$I$500,\"Other Known Causes\"))","v":""},{"$f":"IF(E89=\"\",\"\",SUMIFS(Limits_Detail!$K$24:$K$500,Limits_Detail!$B$24:$B$500,B89,Limits_Detail!$C$24:$C$500,C89,Limits_Detail!$D$24:$D$500,D89,Limits_Detail!$I$24:$I$500,\"Other Unknown Causes\"))","v":""}]
[null,null,null,null,null,{"$f":"IF(E90=\"\",\"\",SUMIFS(Limits_Detail!$K$24:$K$500,Limits_Detail!$B$24:$B$500,B90,Limits_Detail!$C$24:$C$500,C90,Limits_Detail!$D$24:$D$500,D90))","v":""},"",{"$f":"IF(E90=\"\",\"\",SUMIFS(Limits_Detail!$K$24:$K$500,Limits_Detail!$B$24:$B$500,B90,Limits_Detail!$C$24:$C$500,C90,Limits_Detail!$D$24:$D$500,D90,Limits_Detail!$I$24:$I$500,\"Control Equipment Problems\"))","v":""},{"$f":"IF(E90=\"\",\"\",SUMIFS(Limits_Detail!$K$24:$K$500,Limits_Detail!$B$24:$B$500,B90,Limits_Detail!$C$24:$C$500,C90,Limits_Detail!$D$24:$D$500,D90,Limits_Detail!$I$24:$I$500,\"Process Problems\"))","v":""},{"$f":"IF(E90=\"\",\"\",SUMIFS(Limits_Detail!$K$24:$K$500,Limits_Detail!$B$24:$B$500,B90,Limits_Detail!$C$24:$C$500,C90,Limits_Detail!$D$24:$D$500,D90,Limits_Detail!$I$24:$I$500,\"Other Known Causes\"))","v":""},{"$f":"IF(E90=\"\",\"\",SUMIFS(Limits_Detail!$K$24:$K$500,Limits_Detail!$B$24:$B$500,B90,Limits_Detail!$C$24:$C$500,C90,Limits_Detail!$D$24:$D$500,D90,Limits_Detail!$I$24:$I$500,\"Other Unknown Causes\"))","v":""}]
[null,null,null,null,null,{"$f":"IF(E91=\"\",\"\",SUMIFS(Limits_Detail!$K$24:$K$500,Limits_Detail!$B$24:$B$500,B91,Limits_Detail!$C$24:$C$500,C91,Limits_Detail!$D$24:$D$500,D91))","v":""},"",{"$f":"IF(E91=\"\",\"\",SUMIFS(Limits_Detail!$K$24:$K$500,Limits_Detail!$B$24:$B$500,B91,Limits_Detail!$C$24:$C$500,C91,Limits_Detail!$D$24:$D$500,D91,Limits_Detail!$I$24:$I$500,\"Control Equipment Problems\"))","v":""},{"$f":"IF(E91=\"\",\"\",SUMIFS(Limits_Detail!$K$24:$K$500,Limits_Detail!$B$24:$B$500,B91,Limits_Detail!$C$24:$C$500,C91,Limits_Detail!$D$24:$D$500,D91,Limits_Detail!$I$24:$I$500,\"Process Problems\"))","v":""},{"$f":"IF(E91=\"\",\"\",SUMIFS(Limits_Detail!$K$24:$K$500,Limits_Detail!$B$24:$B$500,B91,Limits_Detail!$C$24:$C$500,C91,Limits_Detail!$D$24:$D$500,D91,Limits_Detail!$I$24:$I$500,\"Other Known Causes\"))","v":""},{"$f":"IF(E91=\"\",\"\",SUMIFS(Limits_Detail!$K$24:$K$500,Limits_Detail!$B$24:$B$500,B91,Limits_Detail!$C$24:$C$500,C91,Limits_Detail!$D$24:$D$500,D91,Limits_Detail!$I$24:$I$500,\"Other Unknown Causes\"))","v":""}]
[null,null,null,null,null,{"$f":"IF(E92=\"\",\"\",SUMIFS(Limits_Detail!$K$24:$K$500,Limits_Detail!$B$24:$B$500,B92,Limits_Detail!$C$24:$C$500,C92,Limits_Detail!$D$24:$D$500,D92))","v":""},"",{"$f":"IF(E92=\"\",\"\",SUMIFS(Limits_Detail!$K$24:$K$500,Limits_Detail!$B$24:$B$500,B92,Limits_Detail!$C$24:$C$500,C92,Limits_Detail!$D$24:$D$500,D92,Limits_Detail!$I$24:$I$500,\"Control Equipment Problems\"))","v":""},{"$f":"IF(E92=\"\",\"\",SUMIFS(Limits_Detail!$K$24:$K$500,Limits_Detail!$B$24:$B$500,B92,Limits_Detail!$C$24:$C$500,C92,Limits_Detail!$D$24:$D$500,D92,Limits_Detail!$I$24:$I$500,\"Process Problems\"))","v":""},{"$f":"IF(E92=\"\",\"\",SUMIFS(Limits_Detail!$K$24:$K$500,Limits_Detail!$B$24:$B$500,B92,Limits_Detail!$C$24:$C$500,C92,Limits_Detail!$D$24:$D$500,D92,Limits_Detail!$I$24:$I$500,\"Other Known Causes\"))","v":""},{"$f":"IF(E92=\"\",\"\",SUMIFS(Limits_Detail!$K$24:$K$500,Limits_Detail!$B$24:$B$500,B92,Limits_Detail!$C$24:$C$500,C92,Limits_Detail!$D$24:$D$500,D92,Limits_Detail!$I$24:$I$500,\"Other Unknown Causes\"))","v":""}]
[null,null,null,null,null,{"$f":"IF(E93=\"\",\"\",SUMIFS(Limits_Detail!$K$24:$K$500,Limits_Detail!$B$24:$B$500,B93,Limits_Detail!$C$24:$C$500,C93,Limits_Detail!$D$24:$D$500,D93))","v":""},"",{"$f":"IF(E93=\"\",\"\",SUMIFS(Limits_Detail!$K$24:$K$500,Limits_Detail!$B$24:$B$500,B93,Limits_Detail!$C$24:$C$500,C93,Limits_Detail!$D$24:$D$500,D93,Limits_Detail!$I$24:$I$500,\"Control Equipment Problems\"))","v":""},{"$f":"IF(E93=\"\",\"\",SUMIFS(Limits_Detail!$K$24:$K$500,Limits_Detail!$B$24:$B$500,B93,Limits_Detail!$C$24:$C$500,C93,Limits_Detail!$D$24:$D$500,D93,Limits_Detail!$I$24:$I$500,\"Process Problems\"))","v":""},{"$f":"IF(E93=\"\",\"\",SUMIFS(Limits_Detail!$K$24:$K$500,Limits_Detail!$B$24:$B$500,B93,Limits_Detail!$C$24:$C$500,C93,Limits_Detail!$D$24:$D$500,D93,Limits_Detail!$I$24:$I$500,\"Other Known Causes\"))","v":""},{"$f":"IF(E93=\"\",\"\",SUMIFS(Limits_Detail!$K$24:$K$500,Limits_Detail!$B$24:$B$500,B93,Limits_Detail!$C$24:$C$500,C93,Limits_Detail!$D$24:$D$500,D93,Limits_Detail!$I$24:$I$500,\"Other Unknown Causes\"))","v":""}]
[null,null,null,null,null,{"$f":"IF(E94=\"\",\"\",SUMIFS(Limits_Detail!$K$24:$K$500,Limits_Detail!$B$24:$B$500,B94,Limits_Detail!$C$24:$C$500,C94,Limits_Detail!$D$24:$D$500,D94))","v":""},"",{"$f":"IF(E94=\"\",\"\",SUMIFS(Limits_Detail!$K$24:$K$500,Limits_Detail!$B$24:$B$500,B94,Limits_Detail!$C$24:$C$500,C94,Limits_Detail!$D$24:$D$500,D94,Limits_Detail!$I$24:$I$500,\"Control Equipment Problems\"))","v":""},{"$f":"IF(E94=\"\",\"\",SUMIFS(Limits_Detail!$K$24:$K$500,Limits_Detail!$B$24:$B$500,B94,Limits_Detail!$C$24:$C$500,C94,Limits_Detail!$D$24:$D$500,D94,Limits_Detail!$I$24:$I$500,\"Process Problems\"))","v":""},{"$f":"IF(E94=\"\",\"\",SUMIFS(Limits_Detail!$K$24:$K$500,Limits_Detail!$B$24:$B$500,B94,Limits_Detail!$C$24:$C$500,C94,Limits_Detail!$D$24:$D$500,D94,Limits_Detail!$I$24:$I$500,\"Other Known Causes\"))","v":""},{"$f":"IF(E94=\"\",\"\",SUMIFS(Limits_Detail!$K$24:$K$500,Limits_Detail!$B$24:$B$500,B94,Limits_Detail!$C$24:$C$500,C94,Limits_Detail!$D$24:$D$500,D94,Limits_Detail!$I$24:$I$500,\"Other Unknown Causes\"))","v":""}]
[null,null,null,null,null,{"$f":"IF(E95=\"\",\"\",SUMIFS(Limits_Detail!$K$24:$K$500,Limits_Detail!$B$24:$B$500,B95,Limits_Detail!$C$24:$C$500,C95,Limits_Detail!$D$24:$D$500,D95))","v":""},"",{"$f":"IF(E95=\"\",\"\",SUMIFS(Limits_Detail!$K$24:$K$500,Limits_Detail!$B$24:$B$500,B95,Limits_Detail!$C$24:$C$500,C95,Limits_Detail!$D$24:$D$500,D95,Limits_Detail!$I$24:$I$500,\"Control Equipment Problems\"))","v":""},{"$f":"IF(E95=\"\",\"\",SUMIFS(Limits_Detail!$K$24:$K$500,Limits_Detail!$B$24:$B$500,B95,Limits_Detail!$C$24:$C$500,C95,Limits_Detail!$D$24:$D$500,D95,Limits_Detail!$I$24:$I$500,\"Process Problems\"))","v":""},{"$f":"IF(E95=\"\",\"\",SUMIFS(Limits_Detail!$K$24:$K$500,Limits_Detail!$B$24:$B$500,B95,Limits_Detail!$C$24:$C$500,C95,Limits_Detail!$D$24:$D$500,D95,Limits_Detail!$I$24:$I$500,\"Other Known Causes\"))","v":""},{"$f":"IF(E95=\"\",\"\",SUMIFS(Limits_Detail!$K$24:$K$500,Limits_Detail!$B$24:$B$500,B95,Limits_Detail!$C$24:$C$500,C95,Limits_Detail!$D$24:$D$500,D95,Limits_Detail!$I$24:$I$500,\"Other Unknown Causes\"))","v":""}]
[null,null,null,null,null,{"$f":"IF(E96=\"\",\"\",SUMIFS(Limits_Detail!$K$24:$K$500,Limits_Detail!$B$24:$B$500,B96,Limits_Detail!$C$24:$C$500,C96,Limits_Detail!$D$24:$D$500,D96))","v":""},"",{"$f":"IF(E96=\"\",\"\",SUMIFS(Limits_Detail!$K$24:$K$500,Limits_Detail!$B$24:$B$500,B96,Limits_Detail!$C$24:$C$500,C96,Limits_Detail!$D$24:$D$500,D96,Limits_Detail!$I$24:$I$500,\"Control Equipment Problems\"))","v":""},{"$f":"IF(E96=\"\",\"\",SUMIFS(Limits_Detail!$K$24:$K$500,Limits_Detail!$B$24:$B$500,B96,Limits_Detail!$C$24:$C$500,C96,Limits_Detail!$D$24:$D$500,D96,Limits_Detail!$I$24:$I$500,\"Process Problems\"))","v":""},{"$f":"IF(E96=\"\",\"\",SUMIFS(Limits_Detail!$K$24:$K$500,Limits_Detail!$B$24:$B$500,B96,Limits_Detail!$C$24:$C$500,C96,Limits_Detail!$D$24:$D$500,D96,Limits_Detail!$I$24:$I$500,\"Other Known Causes\"))","v":""},{"$f":"IF(E96=\"\",\"\",SUMIFS(Limits_Detail!$K$24:$K$500,Limits_Detail!$B$24:$B$500,B96,Limits_Detail!$C$24:$C$500,C96,Limits_Detail!$D$24:$D$500,D96,Limits_Detail!$I$24:$I$500,\"Other Unknown Causes\"))","v":""}]
[null,null,null,null,null,{"$f":"IF(E97=\"\",\"\",SUMIFS(Limits_Detail!$K$24:$K$500,Limits_Detail!$B$24:$B$500,B97,Limits_Detail!$C$24:$C$500,C97,Limits_Detail!$D$24:$D$500,D97))","v":""},"",{"$f":"IF(E97=\"\",\"\",SUMIFS(Limits_Detail!$K$24:$K$500,Limits_Detail!$B$24:$B$500,B97,Limits_Detail!$C$24:$C$500,C97,Limits_Detail!$D$24:$D$500,D97,Limits_Detail!$I$24:$I$500,\"Control Equipment Problems\"))","v":""},{"$f":"IF(E97=\"\",\"\",SUMIFS(Limits_Detail!$K$24:$K$500,Limits_Detail!$B$24:$B$500,B97,Limits_Detail!$C$24:$C$500,C97,Limits_Detail!$D$24:$D$500,D97,Limits_Detail!$I$24:$I$500,\"Process Problems\"))","v":""},{"$f":"IF(E97=\"\",\"\",SUMIFS(Limits_Detail!$K$24:$K$500,Limits_Detail!$B$24:$B$500,B97,Limits_Detail!$C$24:$C$500,C97,Limits_Detail!$D$24:$D$500,D97,Limits_Detail!$I$24:$I$500,\"Other Known Causes\"))","v":""},{"$f":"IF(E97=\"\",\"\",SUMIFS(Limits_Detail!$K$24:$K$500,Limits_Detail!$B$24:$B$500,B97,Limits_Detail!$C$24:$C$500,C97,Limits_Detail!$D$24:$D$500,D97,Limits_Detail!$I$24:$I$500,\"Other Unknown Causes\"))","v":""}]
[null,null,null,null,null,{"$f":"IF(E98=\"\",\"\",SUMIFS(Limits_Detail!$K$24:$K$500,Limits_Detail!$B$24:$B$500,B98,Limits_Detail!$C$24:$C$500,C98,Limits_Detail!$D$24:$D$500,D98))","v":""},"",{"$f":"IF(E98=\"\",\"\",SUMIFS(Limits_Detail!$K$24:$K$500,Limits_Detail!$B$24:$B$500,B98,Limits_Detail!$C$24:$C$500,C98,Limits_Detail!$D$24:$D$500,D98,Limits_Detail!$I$24:$I$500,\"Control Equipment Problems\"))","v":""},{"$f":"IF(E98=\"\",\"\",SUMIFS(Limits_Detail!$K$24:$K$500,Limits_Detail!$B$24:$B$500,B98,Limits_Detail!$C$24:$C$500,C98,Limits_Detail!$D$24:$D$500,D98,Limits_Detail!$I$24:$I$500,\"Process Problems\"))","v":""},{"$f":"IF(E98=\"\",\"\",SUMIFS(Limits_Detail!$K$24:$K$500,Limits_Detail!$B$24:$B$500,B98,Limits_Detail!$C$24:$C$500,C98,Limits_Detail!$D$24:$D$500,D98,Limits_Detail!$I$24:$I$500,\"Other Known Causes\"))","v":""},{"$f":"IF(E98=\"\",\"\",SUMIFS(Limits_Detail!$K$24:$K$500,Limits_Detail!$B$24:$B$500,B98,Limits_Detail!$C$24:$C$500,C98,Limits_Detail!$D$24:$D$500,D98,Limits_Detail!$I$24:$I$500,\"Other Unknown Causes\"))","v":""}]
[null,null,null,null,null,{"$f":"IF(E99=\"\",\"\",SUMIFS(Limits_Detail!$K$24:$K$500,Limits_Detail!$B$24:$B$500,B99,Limits_Detail!$C$24:$C$500,C99,Limits_Detail!$D$24:$D$500,D99))","v":""},"",{"$f":"IF(E99=\"\",\"\",SUMIFS(Limits_Detail!$K$24:$K$500,Limits_Detail!$B$24:$B$500,B99,Limits_Detail!$C$24:$C$500,C99,Limits_Detail!$D$24:$D$500,D99,Limits_Detail!$I$24:$I$500,\"Control Equipment Problems\"))","v":""},{"$f":"IF(E99=\"\",\"\",SUMIFS(Limits_Detail!$K$24:$K$500,Limits_Detail!$B$24:$B$500,B99,Limits_Detail!$C$24:$C$500,C99,Limits_Detail!$D$24:$D$500,D99,Limits_Detail!$I$24:$I$500,\"Process Problems\"))","v":""},{"$f":"IF(E99=\"\",\"\",SUMIFS(Limits_Detail!$K$24:$K$500,Limits_Detail!$B$24:$B$500,B99,Limits_Detail!$C$24:$C$500,C99,Limits_Detail!$D$24:$D$500,D99,Limits_Detail!$I$24:$I$500,\"Other Known Causes\"))","v":""},{"$f":"IF(E99=\"\",\"\",SUMIFS(Limits_Detail!$K$24:$K$500,Limits_Detail!$B$24:$B$500,B99,Limits_Detail!$C$24:$C$500,C99,Limits_Detail!$D$24:$D$500,D99,Limits_Detail!$I$24:$I$500,\"Other Unknown Causes\"))","v":""}]
[null,null,null,null,null,{"$f":"IF(E100=\"\",\"\",SUMIFS(Limits_Detail!$K$24:$K$500,Limits_Detail!$B$24:$B$500,B100,Limits_Detail!$C$24:$C$500,C100,Limits_Detail!$D$24:$D$500,D100))","v":""},"",{"$f":"IF(E100=\"\",\"\",SUMIFS(Limits_Detail!$K$24:$K$500,Limits_Detail!$B$24:$B$500,B100,Limits_Detail!$C$24:$C$500,C100,Limits_Detail!$D$24:$D$500,D100,Limits_Detail!$I$24:$I$500,\"Control Equipment Problems\"))","v":""},{"$f":"IF(E100=\"\",\"\",SUMIFS(Limits_Detail!$K$24:$K$500,Limits_Detail!$B$24:$B$500,B100,Limits_Detail!$C$24:$C$500,C100,Limits_Detail!$D$24:$D$500,D100,Limits_Detail!$I$24:$I$500,\"Process Problems\"))","v":""},{"$f":"IF(E100=\"\",\"\",SUMIFS(Limits_Detail!$K$24:$K$500,Limits_Detail!$B$24:$B$500,B100,Limits_Detail!$C$24:$C$500,C100,Limits_Detail!$D$24:$D$500,D100,Limits_Detail!$I$24:$I$500,\"Other Known Causes\"))","v":""},{"$f":"IF(E100=\"\",\"\",SUMIFS(Limits_Detail!$K$24:$K$500,Limits_Detail!$B$24:$B$500,B100,Limits_Detail!$C$24:$C$500,C100,Limits_Detail!$D$24:$D$500,D100,Limits_Detail!$I$24:$I$500,\"Other Unknown Causes\"))","v":""}]

{"sheet":"Description_of_CMS_Changes","index":10,"n_rows":14,"n_cols":3,"rows_kept":14,"cut":false,"hidden":false,"merged":[]}
[null,"DO NOT REMOVE OR EDIT INFORMATION IN ROWS 1 THROUGH 5\nFOR INTERNAL USE ONLY"]
[null,"Template Name",{"$f":"+Welcome!B2","v":"63.5912 (d) Semiannual Compliance Report (Spreadsheet Template)"}]
[null,"CitationID",{"$f":"+Welcome!B3","v":"63.5912(d)"}]
[null,"Template Version",{"$f":"+Welcome!B4","v":"v1.01"}]
[null,"Last Updated Date",{"$f":"+Welcome!B5","v":45391}]
[null,"Intentionally Blank"]
[null,"40 CFR Part 63, Subpart WWWW National Emission Standards for Hazardous Air Pollutants: Reinforced Plastic Composites Production"]
[null,"§63.5912(d) Semiannual Compliance Report Spreadsheet Template"]
[null,"CPMS, CEMS, COMS, Processes, or Control Changes"]
[null,"A description of any changes in the CPMS, CEMS, COMS, processes or controls since the last semiannual reporting period."]
[]
[null,"Company Record No. \n(Select from Dropdown)","Description of any CMS, processes, or controls which have occurred since the last reporting period (§63.5910(e)(12))"]
[null,"RecordId","CMSChangesDesc"]
[null,"e.g.: 1"]

{"sheet":"Certification","index":11,"n_rows":33,"n_cols":6,"rows_kept":33,"cut":false,"hidden":false,"merged":[]}
[null,"DO NOT REMOVE OR EDIT INFORMATION IN ROWS 1 THROUGH 5\nFOR INTERNAL USE ONLY"]
[null,"Template Name",{"$f":"+Welcome!B2","v":"63.5912 (d) Semiannual Compliance Report (Spreadsheet Template)"}]
[null,"CitationID",{"$f":"+Welcome!B3","v":"63.5912(d)"}]
[null,"Template Version",{"$f":"+Welcome!B4","v":"v1.01"}]
[null,"Last Updated Date",{"$f":"+Welcome!B5","v":45391}]
[]
[null,"40 CFR Part 63, Subpart WWWW National Emission Standards for Hazardous Air Pollutants: Reinforced Plastic Composites Production"]
[null,"§63.5912(d) Semiannual Compliance Report Spreadsheet Template"]
[null,"Complete this form when you have completed the semiannual compliance report."]
[]
[]
[null,"Company Record No. \n(Autocompleted)","There were no deviations from the organic HAP emissions limitations or work practice standards during the reporting period. (§63.5910(c)(5)) \n(Select from dropdown)","There were no periods during which the CMS, including CEMS, and an operating parameter system were out of control during the reporting period. (§63.5910(c)(6)) \n(Select from dropdown)","Compliance options have changed since the last compliance report. (§63.5910(i)) \n(Select from dropdown)","The 100 tpy organic HAP emissions threshold was exceeded making the facility subject to §63.5805(a)(1) or (d).  (Any Relevant Exemption Requests Under §63.5805(e) Attached) \n(§63.5910(f)) \n(Select from dropdown)"]
[null,"RecordId","HAPDeviationsFlag","CMSOutOfControlFlag","ComplianceFlag","HAPEmissionsFlag"]
[null,"e.g.: 1"]
[]
[]
[]
[]
[]
[]
[]
[]
[]
[null,{"$f":"IF(Lists!M2=\"\",\"\",Lists!M2)","v":""}]
[null,{"$f":"IF(Lists!M3=\"\",\"\",Lists!M3)","v":""}]
[null,{"$f":"IF(Lists!M4=\"\",\"\",Lists!M4)","v":""}]
[null,{"$f":"IF(Lists!M5=\"\",\"\",Lists!M5)","v":""}]
[null,{"$f":"IF(Lists!M6=\"\",\"\",Lists!M6)","v":""}]
[null,{"$f":"IF(Lists!M7=\"\",\"\",Lists!M7)","v":""}]
[null,{"$f":"IF(Lists!M8=\"\",\"\",Lists!M8)","v":""}]
[null,{"$f":"IF(Lists!M9=\"\",\"\",Lists!M9)","v":""}]
[null,{"$f":"IF(Lists!M10=\"\",\"\",Lists!M10)","v":""}]
[null,{"$f":"IF(Lists!M11=\"\",\"\",Lists!M11)","v":""}]

{"sheet":"Revisions","index":12,"n_rows":3,"n_cols":3,"rows_kept":3,"cut":false,"hidden":false,"merged":[]}
["Revision Number","Date","Revisions"]
[1,43969,"Initial Release Version"]
[1.01,45391,"Updated Welcome tab"]

{"sheet":"Worksheet Map","index":13,"n_rows":11,"n_cols":5,"rows_kept":11,"cut":false,"hidden":true,"merged":[]}
["Worksheet Name","Parent","JSON Key","Parent Primary Key","Child Foreign Key"]
["Company_Information",null,"records"]
["No_CMS","records","NoCMS","RecordId","RecordId"]
["HAP_ID","records","HAPID","RecordId","RecordId"]
["CMS_Info","records","CMSInfo","RecordId","RecordId"]
["CMS_Detail","records","CMSDetail","RecordId","RecordId"]
["Limits_Detail","records","LimitsDetail","RecordId","RecordId"]
["Summary_Report_CMS","records","SummaryReportCMS","RecordId","RecordId"]
["Summary_Report_Limits","records","SummaryReportLimits","RecordId","RecordId"]
["Description_of_CMS_Changes","records","DescriptionOfCMSChanges","RecordId","RecordId"]
["Certification","records","Certification","RecordId","RecordId"]