{"text_format":"1","workbook":"xlsx","n_sheets":19,"sheets":["Control","Dataframe2","Dataframe","Dataframe_Sum","CH4 from Coal Mining","CH4 from Abandoned Coal Mines","Summary Abandoned Coal Mines","Abandoned Data","Abandoned Data Inputs","Additional Emission Sources","Summary","Uncertainty","Coal codes","Coal data","Data Sources","constants","Documentation","AbandonedMethods","Notes"],"not_rendered":{"charts":2,"images":85,"macros":1,"external_links":0,"defined_names":71,"comments":6,"pivot_tables":0},"unopened":[],"bounds":{"document_bytes":16777216,"sheet_cells":100000,"rows_first":2000,"rows_last":500,"rows_between":2000,"halvings":0,"cell_chars":16384,"cell_head_chars":4096},"cells_cut":0,"cells_raw":0,"read":"whole","date_system":"1900"}

{"sheet":"Control","index":0,"n_rows":47,"n_cols":6,"rows_kept":47,"cut":false,"hidden":false,"merged":[[0,0,0,5]]}
["State Inventory Tool - Methane Emissions from Coal Mining\nVersion 2024.1"]
["This module provides default activity data, emission factors, and other relevant metrics for 1990-2021. Emissions factors are proxied for 2022-2025"]
["1. Choose a State."]
["This is very important - it selects the correct default variables for your state."]
[]
["2. Fill In the variables that are used in this tool and click to proceed to the respective worksheets."]
["Either type in the value or click the default box. The default GWPs used in this module are from the IPCC Fifth Assessment Report (AR5) but can be adjusted in the Constants tab to reflect other sources."]
[]
["Coal Mining Emission Factors (EF)"]
[null,"Default Factor","Factor Used","Use Default?"]
["Mines","(ft3 methane / short ton coal)","(ft3 methane / short ton coal)","(Check for Yes)"]
["Surface Mines"]
[{"$f":"VLOOKUP(VLOOKUP(St,coalbasins,5,FALSE),'Coal codes'!$I$27:$J$40,2,FALSE)","v":"---"},{"$f":"VLOOKUP(A13,Scoaldata,3,FALSE)","v":0}]
[{"$f":"VLOOKUP(VLOOKUP(St,coalbasins,6,FALSE),'Coal codes'!$I$27:$J$40,2,FALSE)","v":"---"},{"$f":"VLOOKUP(A14,Scoaldata,3,FALSE)","v":0},null,null,null," "]
[]
["Post-Mining Activities"]
["Underground"]
[{"$f":"VLOOKUP(VLOOKUP(St,coalbasins,3,FALSE),'Coal codes'!$I$5:$J$23,2,FALSE)","v":"---"},{"$f":"VLOOKUP(A18,Ucoaldata,3,FALSE)","v":0}]
[{"$f":"VLOOKUP(VLOOKUP(St,coalbasins,4,FALSE),'Coal codes'!$I$5:$J$23,2,FALSE)","v":"---"},{"$f":"VLOOKUP(A19,Ucoaldata,3,FALSE)","v":0}]
["Surface"]
[{"$f":"VLOOKUP(VLOOKUP(St,coalbasins,5,FALSE),'Coal codes'!$I$27:$J$40,2,FALSE)","v":"---"},{"$f":"VLOOKUP(A21,Scoaldata,4,FALSE)","v":0}]
[{"$f":"VLOOKUP(VLOOKUP(St,coalbasins,6,FALSE),'Coal codes'!$I$27:$J$40,2,FALSE)","v":"---"},{"$f":"VLOOKUP(A22,Scoaldata,4,FALSE)","v":0}]
[]
[]
["3. Proceed to the Coal Mining worksheet."]
[]
[]
[]
["4. Proceed to the Abandoned Coal Mines worksheet."]
[]
[]
[]
[]
[]
["5. Proceed to the Additional Emission Sources worksheet."]
[]
[]
[]
[{"$f":"\"6. Proceed to Summary worksheet for emissions summary for \"&State&\".\"","v":"6. Proceed to Summary worksheet for emissions summary for Select a State . . . ."}]
[]
[]
[]
[]
[]
[]
[]
["7. Export the results for use in the Synthesis Tool."]

{"sheet":"Dataframe2","index":1,"n_rows":6,"n_cols":38,"rows_kept":6,"cut":false,"hidden":true,"merged":[]}
["Emissions (MTCO2E)","Category",1990,1991,1992,1993,1994,1995,1996,1997,1998,1999,2000,2001,2002,2003,2004,2005,2006,2007,2008,2009,2010,2011,2012,2013,2014,2015,2016,2017,2018,2019,2020,2021,2022,2023,2024,2025]
["CH4 - Coal Mining",{"$f":"\"Energy - \"&A2","v":"Energy - CH4 - Coal Mining"},{"$f":"Summary!C9","v":0},{"$f":"Summary!D9","v":0},{"$f":"Summary!E9","v":0},{"$f":"Summary!F9","v":0},{"$f":"Summary!G9","v":0},{"$f":"Summary!H9","v":0},{"$f":"Summary!I9","v":0},{"$f":"Summary!J9","v":0},{"$f":"Summary!K9","v":0},{"$f":"Summary!L9","v":0},{"$f":"Summary!M9","v":0},{"$f":"Summary!N9","v":0},{"$f":"Summary!O9","v":0},{"$f":"Summary!P9","v":0},{"$f":"Summary!Q9","v":0},{"$f":"Summary!R9","v":0},{"$f":"Summary!S9","v":0},{"$f":"Summary!T9","v":0},{"$f":"Summary!U9","v":0},{"$f":"Summary!V9","v":0},{"$f":"Summary!W9","v":0},{"$f":"Summary!X9","v":0},{"$f":"Summary!Y9","v":0},{"$f":"Summary!Z9","v":0},{"$f":"Summary!AA9","v":0},{"$f":"Summary!AB9","v":0},{"$f":"Summary!AC9","v":0},{"$f":"Summary!AD9","v":0},{"$f":"Summary!AE9","v":0},{"$f":"Summary!AF9","v":0},{"$f":"Summary!AG9","v":0},{"$f":"Summary!AH9","v":0},{"$f":"Summary!AI9","v":0},{"$f":"Summary!AJ9","v":0},{"$f":"Summary!AK9","v":0},{"$f":"Summary!AL9","v":0}]
["CH4 - Abandoned Coal Mines",{"$f":"\"Energy - \"&A3","v":"Energy - CH4 - Abandoned Coal Mines"},{"$f":"Summary!C10","v":0},{"$f":"Summary!D10","v":0},{"$f":"Summary!E10","v":0},{"$f":"Summary!F10","v":0},{"$f":"Summary!G10","v":0},{"$f":"Summary!H10","v":0},{"$f":"Summary!I10","v":0},{"$f":"Summary!J10","v":0},{"$f":"Summary!K10","v":0},{"$f":"Summary!L10","v":0},{"$f":"Summary!M10","v":0},{"$f":"Summary!N10","v":0},{"$f":"Summary!O10","v":0},{"$f":"Summary!P10","v":0},{"$f":"Summary!Q10","v":0},{"$f":"Summary!R10","v":0},{"$f":"Summary!S10","v":0},{"$f":"Summary!T10","v":0},{"$f":"Summary!U10","v":0},{"$f":"Summary!V10","v":0},{"$f":"Summary!W10","v":0},{"$f":"Summary!X10","v":0},{"$f":"Summary!Y10","v":0},{"$f":"Summary!Z10","v":0},{"$f":"Summary!AA10","v":0},{"$f":"Summary!AB10","v":0},{"$f":"Summary!AC10","v":0},{"$f":"Summary!AD10","v":0},{"$f":"Summary!AE10","v":0},{"$f":"Summary!AF10","v":0},{"$f":"Summary!AG10","v":0},{"$f":"Summary!AH10","v":0},{"$f":"Summary!AI10","v":0},{"$f":"Summary!AJ10","v":0},{"$f":"Summary!AK10","v":0},{"$f":"Summary!AL10","v":0}]
["Vented",{"$f":"\"Energy - \"&$A$3&\" - \"&A4","v":"Energy - CH4 - Abandoned Coal Mines - Vented"},{"$f":"Summary!C11","v":0},{"$f":"Summary!D11","v":0},{"$f":"Summary!E11","v":0},{"$f":"Summary!F11","v":0},{"$f":"Summary!G11","v":0},{"$f":"Summary!H11","v":0},{"$f":"Summary!I11","v":0},{"$f":"Summary!J11","v":0},{"$f":"Summary!K11","v":0},{"$f":"Summary!L11","v":0},{"$f":"Summary!M11","v":0},{"$f":"Summary!N11","v":0},{"$f":"Summary!O11","v":0},{"$f":"Summary!P11","v":0},{"$f":"Summary!Q11","v":0},{"$f":"Summary!R11","v":0},{"$f":"Summary!S11","v":0},{"$f":"Summary!T11","v":0},{"$f":"Summary!U11","v":0},{"$f":"Summary!V11","v":0},{"$f":"Summary!W11","v":0},{"$f":"Summary!X11","v":0},{"$f":"Summary!Y11","v":0},{"$f":"Summary!Z11","v":0},{"$f":"Summary!AA11","v":0},{"$f":"Summary!AB11","v":0},{"$f":"Summary!AC11","v":0},{"$f":"Summary!AD11","v":0},{"$f":"Summary!AE11","v":0},{"$f":"Summary!AF11","v":0},{"$f":"Summary!AG11","v":0},{"$f":"Summary!AH11","v":0},{"$f":"Summary!AI11","v":0},{"$f":"Summary!AJ11","v":0},{"$f":"Summary!AK11","v":0},{"$f":"Summary!AL11","v":0}]
["Sealed",{"$f":"\"Energy - \"&$A$3&\" - \"&A5","v":"Energy - CH4 - Abandoned Coal Mines - Sealed"},{"$f":"Summary!C12","v":0},{"$f":"Summary!D12","v":0},{"$f":"Summary!E12","v":0},{"$f":"Summary!F12","v":0},{"$f":"Summary!G12","v":0},{"$f":"Summary!H12","v":0},{"$f":"Summary!I12","v":0},{"$f":"Summary!J12","v":0},{"$f":"Summary!K12","v":0},{"$f":"Summary!L12","v":0},{"$f":"Summary!M12","v":0},{"$f":"Summary!N12","v":0},{"$f":"Summary!O12","v":0},{"$f":"Summary!P12","v":0},{"$f":"Summary!Q12","v":0},{"$f":"Summary!R12","v":0},{"$f":"Summary!S12","v":0},{"$f":"Summary!T12","v":0},{"$f":"Summary!U12","v":0},{"$f":"Summary!V12","v":0},{"$f":"Summary!W12","v":0},{"$f":"Summary!X12","v":0},{"$f":"Summary!Y12","v":0},{"$f":"Summary!Z12","v":0},{"$f":"Summary!AA12","v":0},{"$f":"Summary!AB12","v":0},{"$f":"Summary!AC12","v":0},{"$f":"Summary!AD12","v":0},{"$f":"Summary!AE12","v":0},{"$f":"Summary!AF12","v":0},{"$f":"Summary!AG12","v":0},{"$f":"Summary!AH12","v":0},{"$f":"Summary!AI12","v":0},{"$f":"Summary!AJ12","v":0},{"$f":"Summary!AK12","v":0},{"$f":"Summary!AL12","v":0}]
["Flooded","Energy - CH4 - Abandoned Coal Mines - Flooded",{"$f":"Summary!C13","v":0},{"$f":"Summary!D13","v":0},{"$f":"Summary!E13","v":0},{"$f":"Summary!F13","v":0},{"$f":"Summary!G13","v":0},{"$f":"Summary!H13","v":0},{"$f":"Summary!I13","v":0},{"$f":"Summary!J13","v":0},{"$f":"Summary!K13","v":0},{"$f":"Summary!L13","v":0},{"$f":"Summary!M13","v":0},{"$f":"Summary!N13","v":0},{"$f":"Summary!O13","v":0},{"$f":"Summary!P13","v":0},{"$f":"Summary!Q13","v":0},{"$f":"Summary!R13","v":0},{"$f":"Summary!S13","v":0},{"$f":"Summary!T13","v":0},{"$f":"Summary!U13","v":0},{"$f":"Summary!V13","v":0},{"$f":"Summary!W13","v":0},{"$f":"Summary!X13","v":0},{"$f":"Summary!Y13","v":0},{"$f":"Summary!Z13","v":0},{"$f":"Summary!AA13","v":0},{"$f":"Summary!AB13","v":0},{"$f":"Summary!AC13","v":0},{"$f":"Summary!AD13","v":0},{"$f":"Summary!AE13","v":0},{"$f":"Summary!AF13","v":0},{"$f":"Summary!AG13","v":0},{"$f":"Summary!AH13","v":0},{"$f":"Summary!AI13","v":0},{"$f":"Summary!AJ13","v":0},{"$f":"Summary!AK13","v":0},{"$f":"Summary!AL13","v":0}]

{"sheet":"Dataframe","index":2,"n_rows":6,"n_cols":38,"rows_kept":6,"cut":false,"hidden":true,"merged":[]}
["Emissions (MTCO2E)","Category",1990,1991,1992,1993,1994,1995,1996,1997,1998,1999,2000,2001,2002,2003,2004,2005,2006,2007,2008,2009,2010,2011,2012,2013,2014,2015,2016,2017,2018,2019,2020,2021,2022,2023,2024,2025]
["CH4 - Coal Mining",{"$f":"\"Energy - \"&A2","v":"Energy - CH4 - Coal Mining"},{"$f":"Summary!C9","v":0},{"$f":"Summary!D9","v":0},{"$f":"Summary!E9","v":0},{"$f":"Summary!F9","v":0},{"$f":"Summary!G9","v":0},{"$f":"Summary!H9","v":0},{"$f":"Summary!I9","v":0},{"$f":"Summary!J9","v":0},{"$f":"Summary!K9","v":0},{"$f":"Summary!L9","v":0},{"$f":"Summary!M9","v":0},{"$f":"Summary!N9","v":0},{"$f":"Summary!O9","v":0},{"$f":"Summary!P9","v":0},{"$f":"Summary!Q9","v":0},{"$f":"Summary!R9","v":0},{"$f":"Summary!S9","v":0},{"$f":"Summary!T9","v":0},{"$f":"Summary!U9","v":0},{"$f":"Summary!V9","v":0},{"$f":"Summary!W9","v":0},{"$f":"Summary!X9","v":0},{"$f":"Summary!Y9","v":0},{"$f":"Summary!Z9","v":0},{"$f":"Summary!AA9","v":0},{"$f":"Summary!AB9","v":0},{"$f":"Summary!AC9","v":0},{"$f":"Summary!AD9","v":0},{"$f":"Summary!AE9","v":0},{"$f":"Summary!AF9","v":0},{"$f":"Summary!AG9","v":0},{"$f":"Summary!AH9","v":0},{"$f":"Summary!AI9","v":0},{"$f":"Summary!AJ9","v":0},{"$f":"Summary!AK9","v":0},{"$f":"Summary!AL9","v":0}]
["CH4 - Abandoned Coal Mines",{"$f":"\"Energy - \"&A3","v":"Energy - CH4 - Abandoned Coal Mines"},{"$f":"Summary!C10","v":0},{"$f":"Summary!D10","v":0},{"$f":"Summary!E10","v":0},{"$f":"Summary!F10","v":0},{"$f":"Summary!G10","v":0},{"$f":"Summary!H10","v":0},{"$f":"Summary!I10","v":0},{"$f":"Summary!J10","v":0},{"$f":"Summary!K10","v":0},{"$f":"Summary!L10","v":0},{"$f":"Summary!M10","v":0},{"$f":"Summary!N10","v":0},{"$f":"Summary!O10","v":0},{"$f":"Summary!P10","v":0},{"$f":"Summary!Q10","v":0},{"$f":"Summary!R10","v":0},{"$f":"Summary!S10","v":0},{"$f":"Summary!T10","v":0},{"$f":"Summary!U10","v":0},{"$f":"Summary!V10","v":0},{"$f":"Summary!W10","v":0},{"$f":"Summary!X10","v":0},{"$f":"Summary!Y10","v":0},{"$f":"Summary!Z10","v":0},{"$f":"Summary!AA10","v":0},{"$f":"Summary!AB10","v":0},{"$f":"Summary!AC10","v":0},{"$f":"Summary!AD10","v":0},{"$f":"Summary!AE10","v":0},{"$f":"Summary!AF10","v":0},{"$f":"Summary!AG10","v":0},{"$f":"Summary!AH10","v":0},{"$f":"Summary!AI10","v":0},{"$f":"Summary!AJ10","v":0},{"$f":"Summary!AK10","v":0},{"$f":"Summary!AL10","v":0}]
["Vented",{"$f":"\"Energy - \"&$A$3&\" - \"&A4","v":"Energy - CH4 - Abandoned Coal Mines - Vented"},{"$f":"Summary!C11","v":0},{"$f":"Summary!D11","v":0},{"$f":"Summary!E11","v":0},{"$f":"Summary!F11","v":0},{"$f":"Summary!G11","v":0},{"$f":"Summary!H11","v":0},{"$f":"Summary!I11","v":0},{"$f":"Summary!J11","v":0},{"$f":"Summary!K11","v":0},{"$f":"Summary!L11","v":0},{"$f":"Summary!M11","v":0},{"$f":"Summary!N11","v":0},{"$f":"Summary!O11","v":0},{"$f":"Summary!P11","v":0},{"$f":"Summary!Q11","v":0},{"$f":"Summary!R11","v":0},{"$f":"Summary!S11","v":0},{"$f":"Summary!T11","v":0},{"$f":"Summary!U11","v":0},{"$f":"Summary!V11","v":0},{"$f":"Summary!W11","v":0},{"$f":"Summary!X11","v":0},{"$f":"Summary!Y11","v":0},{"$f":"Summary!Z11","v":0},{"$f":"Summary!AA11","v":0},{"$f":"Summary!AB11","v":0},{"$f":"Summary!AC11","v":0},{"$f":"Summary!AD11","v":0},{"$f":"Summary!AE11","v":0},{"$f":"Summary!AF11","v":0},{"$f":"Summary!AG11","v":0},{"$f":"Summary!AH11","v":0},{"$f":"Summary!AI11","v":0},{"$f":"Summary!AJ11","v":0},{"$f":"Summary!AK11","v":0},{"$f":"Summary!AL11","v":0}]
["Sealed",{"$f":"\"Energy - \"&$A$3&\" - \"&A5","v":"Energy - CH4 - Abandoned Coal Mines - Sealed"},{"$f":"Summary!C12","v":0},{"$f":"Summary!D12","v":0},{"$f":"Summary!E12","v":0},{"$f":"Summary!F12","v":0},{"$f":"Summary!G12","v":0},{"$f":"Summary!H12","v":0},{"$f":"Summary!I12","v":0},{"$f":"Summary!J12","v":0},{"$f":"Summary!K12","v":0},{"$f":"Summary!L12","v":0},{"$f":"Summary!M12","v":0},{"$f":"Summary!N12","v":0},{"$f":"Summary!O12","v":0},{"$f":"Summary!P12","v":0},{"$f":"Summary!Q12","v":0},{"$f":"Summary!R12","v":0},{"$f":"Summary!S12","v":0},{"$f":"Summary!T12","v":0},{"$f":"Summary!U12","v":0},{"$f":"Summary!V12","v":0},{"$f":"Summary!W12","v":0},{"$f":"Summary!X12","v":0},{"$f":"Summary!Y12","v":0},{"$f":"Summary!Z12","v":0},{"$f":"Summary!AA12","v":0},{"$f":"Summary!AB12","v":0},{"$f":"Summary!AC12","v":0},{"$f":"Summary!AD12","v":0},{"$f":"Summary!AE12","v":0},{"$f":"Summary!AF12","v":0},{"$f":"Summary!AG12","v":0},{"$f":"Summary!AH12","v":0},{"$f":"Summary!AI12","v":0},{"$f":"Summary!AJ12","v":0},{"$f":"Summary!AK12","v":0},{"$f":"Summary!AL12","v":0}]
["Flooded","Energy - CH4 - Abandoned Coal Mines - Flooded",{"$f":"Summary!C13","v":0},{"$f":"Summary!D13","v":0},{"$f":"Summary!E13","v":0},{"$f":"Summary!F13","v":0},{"$f":"Summary!G13","v":0},{"$f":"Summary!H13","v":0},{"$f":"Summary!I13","v":0},{"$f":"Summary!J13","v":0},{"$f":"Summary!K13","v":0},{"$f":"Summary!L13","v":0},{"$f":"Summary!M13","v":0},{"$f":"Summary!N13","v":0},{"$f":"Summary!O13","v":0},{"$f":"Summary!P13","v":0},{"$f":"Summary!Q13","v":0},{"$f":"Summary!R13","v":0},{"$f":"Summary!S13","v":0},{"$f":"Summary!T13","v":0},{"$f":"Summary!U13","v":0},{"$f":"Summary!V13","v":0},{"$f":"Summary!W13","v":0},{"$f":"Summary!X13","v":0},{"$f":"Summary!Y13","v":0},{"$f":"Summary!Z13","v":0},{"$f":"Summary!AA13","v":0},{"$f":"Summary!AB13","v":0},{"$f":"Summary!AC13","v":0},{"$f":"Summary!AD13","v":0},{"$f":"Summary!AE13","v":0},{"$f":"Summary!AF13","v":0},{"$f":"Summary!AG13","v":0},{"$f":"Summary!AH13","v":0},{"$f":"Summary!AI13","v":0},{"$f":"Summary!AJ13","v":0},{"$f":"Summary!AK13","v":0},{"$f":"Summary!AL13","v":0}]

{"sheet":"Dataframe_Sum","index":3,"n_rows":2,"n_cols":38,"rows_kept":2,"cut":false,"hidden":true,"merged":[]}
["Emissions (MMTCO2E)","Category",1990,1991,1992,1993,1994,1995,1996,1997,1998,1999,2000,2001,2002,2003,2004,2005,2006,2007,2008,2009,2010,2011,2012,2013,2014,2015,2016,2017,2018,2019,2020,2021,2022,2023,2024,2025]
["Total","Energy - Coal Mining",{"$f":"(Summary!C9+Summary!C10)/1000000","v":0},{"$f":"(Summary!D9+Summary!D10)/1000000","v":0},{"$f":"(Summary!E9+Summary!E10)/1000000","v":0},{"$f":"(Summary!F9+Summary!F10)/1000000","v":0},{"$f":"(Summary!G9+Summary!G10)/1000000","v":0},{"$f":"(Summary!H9+Summary!H10)/1000000","v":0},{"$f":"(Summary!I9+Summary!I10)/1000000","v":0},{"$f":"(Summary!J9+Summary!J10)/1000000","v":0},{"$f":"(Summary!K9+Summary!K10)/1000000","v":0},{"$f":"(Summary!L9+Summary!L10)/1000000","v":0},{"$f":"(Summary!M9+Summary!M10)/1000000","v":0},{"$f":"(Summary!N9+Summary!N10)/1000000","v":0},{"$f":"(Summary!O9+Summary!O10)/1000000","v":0},{"$f":"(Summary!P9+Summary!P10)/1000000","v":0},{"$f":"(Summary!Q9+Summary!Q10)/1000000","v":0},{"$f":"(Summary!R9+Summary!R10)/1000000","v":0},{"$f":"(Summary!S9+Summary!S10)/1000000","v":0},{"$f":"(Summary!T9+Summary!T10)/1000000","v":0},{"$f":"(Summary!U9+Summary!U10)/1000000","v":0},{"$f":"(Summary!V9+Summary!V10)/1000000","v":0},{"$f":"(Summary!W9+Summary!W10)/1000000","v":0},{"$f":"(Summary!X9+Summary!X10)/1000000","v":0},{"$f":"(Summary!Y9+Summary!Y10)/1000000","v":0},{"$f":"(Summary!Z9+Summary!Z10)/1000000","v":0},{"$f":"(Summary!AA9+Summary!AA10)/1000000","v":0},{"$f":"(Summary!AB9+Summary!AB10)/1000000","v":0},{"$f":"(Summary!AC9+Summary!AC10)/1000000","v":0},{"$f":"(Summary!AD9+Summary!AD10)/1000000","v":0},{"$f":"(Summary!AE9+Summary!AE10)/1000000","v":0},{"$f":"(Summary!AF9+Summary!AF10)/1000000","v":0},{"$f":"(Summary!AG9+Summary!AG10)/1000000","v":0},{"$f":"(Summary!AH9+Summary!AH10)/1000000","v":0},{"$f":"(Summary!AI9+Summary!AI10)/1000000","v":0},{"$f":"(Summary!AJ9+Summary!AJ10)/1000000","v":0},{"$f":"(Summary!AK9+Summary!AK10)/1000000","v":0},{"$f":"(Summary!AL9+Summary!AL10)/1000000","v":0}]

{"sheet":"CH4 from Coal Mining","index":4,"n_rows":757,"n_cols":15,"rows_kept":757,"cut":false,"hidden":false,"merged":[]}
[null,null,{"$f":"\"3. CH4 from Coal Mining in \"&constants!K1","v":"3. CH4 from Coal Mining in XX"}]
[null,null,{"$f":"constants!K1","v":"XX"}]
[null,null,"Coal Mining",null,null,null,1990]
[null,null,"Emissions from:","Coal Basin(s) (if applicable)","Measured Ventilation Emissions (million cubic feet)",null,"Degasification System Emissions (mmmcf)",null,"Methane Recovered from Degasification Systems and Used for Energy (mmmcf)",null,"Emissions       (mmmcf CH4)",null,"Emissions  (MTCH4)",null,"Emissions  (MTCO2E)"]
[null,null,"Mines"]
[null,{"$f":"G3","v":1990},"Underground Mines",null,null,"+  ( ",null,"-",null," )  =",{"$f":"E6+G6-I6","v":0},"=",{"$f":"K6*1000000*ft3_g*g_mt","v":0},"=",{"$f":"(M6*CH4GWP)","v":0}]
[null,{"$f":"B6","v":1990}]
[null,{"$f":"B7","v":1990},null,null,"Surface Coal Production ('000 short tons)",null,"Basin-specific EF (ft3/short ton)",null,"Emissions  ('000 ft3 CH4)",null,"Emissions  (MTCH4)",null,"Emissions  (MTCO2E)"]
[null,1990,"Surface Mines",{"$f":"VLOOKUP(VLOOKUP(constants!$K$1,coalbasins,5,FALSE),'Coal codes'!$I$27:$J$40,2,FALSE)","v":"---"},null,"x",{"$f":"Control!$C$13","v":0},"=",{"$f":"E9*G9","v":0},"=",{"$f":"I9*ft3_g*g_mt*1000","v":0},"=",{"$f":"(K9*CH4GWP)","v":0}]
[null,1990,null,{"$f":"VLOOKUP(VLOOKUP(constants!$K$1,coalbasins,6,FALSE),'Coal codes'!$I$27:$J$40,2,FALSE)","v":"---"},null,"x",{"$f":"Control!$C$14","v":0},"=",{"$f":"IF(BasinNum=1,\"---\",E10*G10)","v":0},"=",{"$f":"IF(BasinNum=1,\"---\",I10*ft3_g*g_mt*1000)","v":0},"=",{"$f":"IF(BasinNum=1,\"---\",(K10*CH4GWP))","v":0}]
[null,1990]
[null,1990,"Post-Mining Activity",null,"Coal Production ('000 short tons)",null,"Basin- & Mine-specific EF (ft3/short ton)",null,"Emissions  ('000 ft3 CH4)",null,"Emissions  (MTCH4)",null,"Emissions  (MTCO2E)"]
[null,1990,"Underground Mines",{"$f":"VLOOKUP(VLOOKUP(constants!$K$1,coalbasins,3,FALSE),'Coal codes'!$I$5:$J$23,2,FALSE)","v":"---"},null,"x",{"$f":"Control!$C$18","v":0},"=",{"$f":"E13*G13","v":0},"=",{"$f":"I13*ft3_g*g_mt*1000","v":0},"=",{"$f":"(K13*CH4GWP)","v":0}]
[null,1990,null,{"$f":"VLOOKUP(VLOOKUP(constants!$K$1,coalbasins,4,FALSE),'Coal codes'!$I$5:$J$23,2,FALSE)","v":"---"},null,"x",{"$f":"Control!$C$19","v":0},"=",{"$f":"IF(BasinNum=1,\"---\",E14*G14)","v":0},"=",{"$f":"IF(BasinNum=1,\"---\",I14*ft3_g*g_mt*1000)","v":0},"=",{"$f":"IF(BasinNum=1,\"---\",(K14*CH4GWP))","v":0}]
[null,1990,"Surface Mines",{"$f":"VLOOKUP(VLOOKUP(constants!$K$1,coalbasins,5,FALSE),'Coal codes'!$I$27:$J$40,2,FALSE)","v":"---"},null,"x",{"$f":"Control!$C$21","v":0},"=",{"$f":"E15*G15","v":0},"=",{"$f":"I15*ft3_g*g_mt*1000","v":0},"=",{"$f":"(K15*CH4GWP)","v":0}]
[null,1990,null,{"$f":"VLOOKUP(VLOOKUP(constants!$K$1,coalbasins,6,FALSE),'Coal codes'!$I$27:$J$40,2,FALSE)","v":"---"},null,"x",{"$f":"Control!$C$22","v":0},"=",{"$f":"IF(BasinNum=1,\"---\",E16*G16)","v":0},"=",{"$f":"IF(BasinNum=1,\"---\",I16*ft3_g*g_mt*1000)","v":0},"=",{"$f":"IF(BasinNum=1,\"---\",(K16*CH4GWP))","v":0}]
[null,1990,"Post-Mining Total",null,null,null,null,null,{"$f":"SUM(I13:I16)","v":0},"=",{"$f":"SUM(K13:K16)","v":0},"=",{"$f":"SUM(M13:M16)","v":0}]
[]
[null,null,"Total Coal Mining","(MTCO2E)",{"$f":"SUM(E20:E22)","v":0}]
[null,null,null,"Underground Mines",{"$f":"O6","v":0}]
[null,null,null,"Surface Mines",{"$f":"SUM(M9:M10)","v":0}]
[null,null,null,"Post-Mining Activity",{"$f":"M17","v":0}]
[]
[null,null,"Coal Mining",null,null,null,1991]
[null,null,"Emissions from:","Coal Basin(s) (if applicable)","Measured Ventilation Emissions (mmcf)",null,"Degasification System Emissions (mmcf)",null,"Methane Recovered from Degasification Systems and Used for Energy (mmcf)",null,"Emissions       (mmcf CH4)",null,"Emissions  (MTCH4)",null,"Emissions  (MTCO2E)"]
[null,null,"Mines"]
[null,{"$f":"G24","v":1991},"Underground Mines",null,null,"+  ( ",null,"-",null," )  =",{"$f":"E27+G27-I27","v":0},"=",{"$f":"K27*1000000*ft3_g*g_mt","v":0},"=",{"$f":"(M27*CH4GWP)","v":0}]
[null,{"$f":"B27","v":1991}]
[null,{"$f":"B28","v":1991},null,null,"Surface Coal Production ('000 short tons)",null,"Basin-specific EF (ft3/short ton)",null,"Emissions  ('000 ft3 CH4)",null,"Emissions  (MTCH4)",null,"Emissions  (MTCO2E)"]
[null,1991,"Surface Mines",{"$f":"VLOOKUP(VLOOKUP(constants!$K$1,coalbasins,5,FALSE),'Coal codes'!$I$27:$J$40,2,FALSE)","v":"---"},null,"x",{"$f":"Control!$C$13","v":0},"=",{"$f":"E30*G30","v":0},"=",{"$f":"I30*ft3_g*g_mt*1000","v":0},"=",{"$f":"(K30*CH4GWP)","v":0}]
[null,1991,null,{"$f":"VLOOKUP(VLOOKUP(constants!$K$1,coalbasins,6,FALSE),'Coal codes'!$I$27:$J$40,2,FALSE)","v":"---"},null,"x",{"$f":"Control!$C$14","v":0},"=",{"$f":"IF(BasinNum=1,\"---\",E31*G31)","v":0},"=",{"$f":"IF(BasinNum=1,\"---\",I31*ft3_g*g_mt*1000)","v":0},"=",{"$f":"IF(BasinNum=1,\"---\",(K31*CH4GWP))","v":0}]
[null,1991]
[null,1991,"Post-Mining Activity",null,"Coal Production ('000 short tons)",null,"Basin- & Mine-specific EF (ft3/short ton)",null,"Emissions  ('000 ft3 CH4)",null,"Emissions  (MTCH4)",null,"Emissions  (MTCO2E)"]
[null,1991,"Underground Mines",{"$f":"VLOOKUP(VLOOKUP(constants!$K$1,coalbasins,3,FALSE),'Coal codes'!$I$5:$J$23,2,FALSE)","v":"---"},null,"x",{"$f":"Control!$C$18","v":0},"=",{"$f":"E34*G34","v":0},"=",{"$f":"I34*ft3_g*g_mt*1000","v":0},"=",{"$f":"(K34*CH4GWP)","v":0}]
[null,1991,null,{"$f":"VLOOKUP(VLOOKUP(constants!$K$1,coalbasins,4,FALSE),'Coal codes'!$I$5:$J$23,2,FALSE)","v":"---"},null,"x",{"$f":"Control!$C$19","v":0},"=",{"$f":"IF(BasinNum=1,\"---\",E35*G35)","v":0},"=",{"$f":"IF(BasinNum=1,\"---\",I35*ft3_g*g_mt*1000)","v":0},"=",{"$f":"IF(BasinNum=1,\"---\",(K35*CH4GWP))","v":0}]
[null,1991,"Surface Mines",{"$f":"VLOOKUP(VLOOKUP(constants!$K$1,coalbasins,5,FALSE),'Coal codes'!$I$27:$J$40,2,FALSE)","v":"---"},null,"x",{"$f":"Control!$C$21","v":0},"=",{"$f":"E36*G36","v":0},"=",{"$f":"I36*ft3_g*g_mt*1000","v":0},"=",{"$f":"(K36*CH4GWP)","v":0}]
[null,1991,null,{"$f":"VLOOKUP(VLOOKUP(constants!$K$1,coalbasins,6,FALSE),'Coal codes'!$I$27:$J$40,2,FALSE)","v":"---"},null,"x",{"$f":"Control!$C$22","v":0},"=",{"$f":"IF(BasinNum=1,\"---\",E37*G37)","v":0},"=",{"$f":"IF(BasinNum=1,\"---\",I37*ft3_g*g_mt*1000)","v":0},"=",{"$f":"IF(BasinNum=1,\"---\",(K37*CH4GWP))","v":0}]
[null,1991,"Post-Mining Total",null,null,null,null,null,{"$f":"SUM(I34:I37)","v":0},"=",{"$f":"SUM(K34:K37)","v":0},"=",{"$f":"SUM(M34:M37)","v":0}]
[]
[null,null,"Total Coal Mining","(MTCO2E)",{"$f":"SUM(E41:E43)","v":0}]
[null,null,null,"Underground Mines",{"$f":"O27","v":0}]
[null,null,null,"Surface Mines",{"$f":"SUM(M30:M31)","v":0}]
[null,null,null,"Post-Mining Activity",{"$f":"M38","v":0}]
[]
[null,null,"Coal Mining",null,null,null,1992]
[null,null,"Emissions from:","Coal Basin(s) (if applicable)","Measured Ventilation Emissions (mmcf)",null,"Degasification System Emissions (mmcf)",null,"Methane Recovered from Degasification Systems and Used for Energy (mmcf)",null,"Emissions       (mmcf CH4)",null,"Emissions  (MTCH4)",null,"Emissions  (MTCO2E)"]
[null,null,"Mines"]
[null,{"$f":"G45","v":1992},"Underground Mines",null,null,"+  ( ",null,"-",null," )  =",{"$f":"E48+G48-I48","v":0},"=",{"$f":"K48*1000000*ft3_g*g_mt","v":0},"=",{"$f":"(M48*CH4GWP)","v":0}]
[null,{"$f":"B48","v":1992}]
[null,{"$f":"B49","v":1992},null,null,"Surface Coal Production ('000 short tons)",null,"Basin-specific EF (ft3/short ton)",null,"Emissions  ('000 ft3 CH4)",null,"Emissions  (MTCH4)",null,"Emissions  (MTCO2E)"]
[null,1992,"Surface Mines",{"$f":"VLOOKUP(VLOOKUP(constants!$K$1,coalbasins,5,FALSE),'Coal codes'!$I$27:$J$40,2,FALSE)","v":"---"},null,"x",{"$f":"Control!$C$13","v":0},"=",{"$f":"E51*G51","v":0},"=",{"$f":"I51*ft3_g*g_mt*1000","v":0},"=",{"$f":"(K51*CH4GWP)","v":0}]
[null,1992,null,{"$f":"VLOOKUP(VLOOKUP(constants!$K$1,coalbasins,6,FALSE),'Coal codes'!$I$27:$J$40,2,FALSE)","v":"---"},null,"x",{"$f":"Control!$C$14","v":0},"=",{"$f":"IF(BasinNum=1,\"---\",E52*G52)","v":0},"=",{"$f":"IF(BasinNum=1,\"---\",I52*ft3_g*g_mt*1000)","v":0},"=",{"$f":"IF(BasinNum=1,\"---\",(K52*CH4GWP))","v":0}]
[null,1992]
[null,1992,"Post-Mining Activity",null,"Coal Production ('000 short tons)",null,"Basin- & Mine-specific EF (ft3/short ton)",null,"Emissions  ('000 ft3 CH4)",null,"Emissions  (MTCH4)",null,"Emissions  (MTCO2E)"]
[null,1992,"Underground Mines",{"$f":"VLOOKUP(VLOOKUP(constants!$K$1,coalbasins,3,FALSE),'Coal codes'!$I$5:$J$23,2,FALSE)","v":"---"},null,"x",{"$f":"Control!$C$18","v":0},"=",{"$f":"E55*G55","v":0},"=",{"$f":"I55*ft3_g*g_mt*1000","v":0},"=",{"$f":"(K55*CH4GWP)","v":0}]
[null,1992,null,{"$f":"VLOOKUP(VLOOKUP(constants!$K$1,coalbasins,4,FALSE),'Coal codes'!$I$5:$J$23,2,FALSE)","v":"---"},null,"x",{"$f":"Control!$C$19","v":0},"=",{"$f":"IF(BasinNum=1,\"---\",E56*G56)","v":0},"=",{"$f":"IF(BasinNum=1,\"---\",I56*ft3_g*g_mt*1000)","v":0},"=",{"$f":"IF(BasinNum=1,\"---\",(K56*CH4GWP))","v":0}]
[null,1992,"Surface Mines",{"$f":"VLOOKUP(VLOOKUP(constants!$K$1,coalbasins,5,FALSE),'Coal codes'!$I$27:$J$40,2,FALSE)","v":"---"},null,"x",{"$f":"Control!$C$21","v":0},"=",{"$f":"E57*G57","v":0},"=",{"$f":"I57*ft3_g*g_mt*1000","v":0},"=",{"$f":"(K57*CH4GWP)","v":0}]
[null,1992,null,{"$f":"VLOOKUP(VLOOKUP(constants!$K$1,coalbasins,6,FALSE),'Coal codes'!$I$27:$J$40,2,FALSE)","v":"---"},null,"x",{"$f":"Control!$C$22","v":0},"=",{"$f":"IF(BasinNum=1,\"---\",E58*G58)","v":0},"=",{"$f":"IF(BasinNum=1,\"---\",I58*ft3_g*g_mt*1000)","v":0},"=",{"$f":"IF(BasinNum=1,\"---\",(K58*CH4GWP))","v":0}]
[null,1992,"Post-Mining Total",null,null,null,null,null,{"$f":"SUM(I55:I58)","v":0},"=",{"$f":"SUM(K55:K58)","v":0},"=",{"$f":"SUM(M55:M58)","v":0}]
[]
[null,null,"Total Coal Mining","(MTCO2E)",{"$f":"SUM(E62:E64)","v":0}]
[null,null,null,"Underground Mines",{"$f":"O48","v":0}]
[null,null,null,"Surface Mines",{"$f":"SUM(M51:M52)","v":0}]
[null,null,null,"Post-Mining Activity",{"$f":"M59","v":0}]
[]
[null,null,"Coal Mining",null,null,null,1993]
[null,null,"Emissions from:","Coal Basin(s) (if applicable)","Measured Ventilation Emissions (mmcf)",null,"Degasification System Emissions (mmcf)",null,"Methane Recovered from Degasification Systems and Used for Energy (mmcf)",null,"Emissions       (mmcf CH4)",null,"Emissions  (MTCH4)",null,"Emissions  (MTCO2E)"]
[null,null,"Mines"]
[null,{"$f":"G66","v":1993},"Underground Mines",null,null,"+  ( ",null,"-",null," )  =",{"$f":"E69+G69-I69","v":0},"=",{"$f":"K69*1000000*ft3_g*g_mt","v":0},"=",{"$f":"(M69*CH4GWP)","v":0}]
[null,{"$f":"B69","v":1993}]
[null,{"$f":"B70","v":1993},null,null,"Surface Coal Production ('000 short tons)",null,"Basin-specific EF (ft3/short ton)",null,"Emissions  ('000 ft3 CH4)",null,"Emissions  (MTCH4)",null,"Emissions  (MTCO2E)"]
[null,1993,"Surface Mines",{"$f":"VLOOKUP(VLOOKUP(constants!$K$1,coalbasins,5,FALSE),'Coal codes'!$I$27:$J$40,2,FALSE)","v":"---"},null,"x",{"$f":"Control!$C$13","v":0},"=",{"$f":"E72*G72","v":0},"=",{"$f":"I72*ft3_g*g_mt*1000","v":0},"=",{"$f":"(K72*CH4GWP)","v":0}]
[null,1993,null,{"$f":"VLOOKUP(VLOOKUP(constants!$K$1,coalbasins,6,FALSE),'Coal codes'!$I$27:$J$40,2,FALSE)","v":"---"},null,"x",{"$f":"Control!$C$14","v":0},"=",{"$f":"IF(BasinNum=1,\"---\",E73*G73)","v":0},"=",{"$f":"IF(BasinNum=1,\"---\",I73*ft3_g*g_mt*1000)","v":0},"=",{"$f":"IF(BasinNum=1,\"---\",(K73*CH4GWP))","v":0}]
[null,1993]
[null,1993,"Post-Mining Activity",null,"Coal Production ('000 short tons)",null,"Basin- & Mine-specific EF (ft3/short ton)",null,"Emissions  ('000 ft3 CH4)",null,"Emissions  (MTCH4)",null,"Emissions  (MTCO2E)"]
[null,1993,"Underground Mines",{"$f":"VLOOKUP(VLOOKUP(constants!$K$1,coalbasins,3,FALSE),'Coal codes'!$I$5:$J$23,2,FALSE)","v":"---"},null,"x",{"$f":"Control!$C$18","v":0},"=",{"$f":"E76*G76","v":0},"=",{"$f":"I76*ft3_g*g_mt*1000","v":0},"=",{"$f":"(K76*CH4GWP)","v":0}]
[null,1993,null,{"$f":"VLOOKUP(VLOOKUP(constants!$K$1,coalbasins,4,FALSE),'Coal codes'!$I$5:$J$23,2,FALSE)","v":"---"},null,"x",{"$f":"Control!$C$19","v":0},"=",{"$f":"IF(BasinNum=1,\"---\",E77*G77)","v":0},"=",{"$f":"IF(BasinNum=1,\"---\",I77*ft3_g*g_mt*1000)","v":0},"=",{"$f":"IF(BasinNum=1,\"---\",(K77*CH4GWP))","v":0}]
[null,1993,"Surface Mines",{"$f":"VLOOKUP(VLOOKUP(constants!$K$1,coalbasins,5,FALSE),'Coal codes'!$I$27:$J$40,2,FALSE)","v":"---"},null,"x",{"$f":"Control!$C$21","v":0},"=",{"$f":"E78*G78","v":0},"=",{"$f":"I78*ft3_g*g_mt*1000","v":0},"=",{"$f":"(K78*CH4GWP)","v":0}]
[null,1993,null,{"$f":"VLOOKUP(VLOOKUP(constants!$K$1,coalbasins,6,FALSE),'Coal codes'!$I$27:$J$40,2,FALSE)","v":"---"},null,"x",{"$f":"Control!$C$22","v":0},"=",{"$f":"IF(BasinNum=1,\"---\",E79*G79)","v":0},"=",{"$f":"IF(BasinNum=1,\"---\",I79*ft3_g*g_mt*1000)","v":0},"=",{"$f":"IF(BasinNum=1,\"---\",(K79*CH4GWP))","v":0}]
[null,1993,"Post-Mining Total",null,null,null,null,null,{"$f":"SUM(I76:I79)","v":0},"=",{"$f":"SUM(K76:K79)","v":0},"=",{"$f":"SUM(M76:M79)","v":0}]
[]
[null,null,"Total Coal Mining","(MTCO2E)",{"$f":"SUM(E83:E85)","v":0}]
[null,null,null,"Underground Mines",{"$f":"O69","v":0}]
[null,null,null,"Surface Mines",{"$f":"SUM(M72:M73)","v":0}]
[null,null,null,"Post-Mining Activity",{"$f":"M80","v":0}]
[]
[null,null,"Coal Mining",null,null,null,1994]
[null,null,"Emissions from:","Coal Basin(s) (if applicable)","Measured Ventilation Emissions (mmcf)",null,"Degasification System Emissions (mmcf)",null,"Methane Recovered from Degasification Systems and Used for Energy (mmcf)",null,"Emissions       (mmcf CH4)",null,"Emissions  (MTCH4)",null,"Emissions  (MTCO2E)"]
[null,null,"Mines"]
[null,{"$f":"G87","v":1994},"Underground Mines",null,null,"+  ( ",null,"-",null," )  =",{"$f":"E90+G90-I90","v":0},"=",{"$f":"K90*1000000*ft3_g*g_mt","v":0},"=",{"$f":"(M90*CH4GWP)","v":0}]
[null,{"$f":"B90","v":1994}]
[null,{"$f":"B91","v":1994},null,null,"Surface Coal Production ('000 short tons)",null,"Basin-specific EF (ft3/short ton)",null,"Emissions  ('000 ft3 CH4)",null,"Emissions  (MTCH4)",null,"Emissions  (MTCO2E)"]
[null,1994,"Surface Mines",{"$f":"VLOOKUP(VLOOKUP(constants!$K$1,coalbasins,5,FALSE),'Coal codes'!$I$27:$J$40,2,FALSE)","v":"---"},null,"x",{"$f":"Control!$C$13","v":0},"=",{"$f":"E93*G93","v":0},"=",{"$f":"I93*ft3_g*g_mt*1000","v":0},"=",{"$f":"(K93*CH4GWP)","v":0}]
[null,1994,null,{"$f":"VLOOKUP(VLOOKUP(constants!$K$1,coalbasins,6,FALSE),'Coal codes'!$I$27:$J$40,2,FALSE)","v":"---"},null,"x",{"$f":"Control!$C$14","v":0},"=",{"$f":"IF(BasinNum=1,\"---\",E94*G94)","v":0},"=",{"$f":"IF(BasinNum=1,\"---\",I94*ft3_g*g_mt*1000)","v":0},"=",{"$f":"IF(BasinNum=1,\"---\",(K94*CH4GWP))","v":0}]
[null,1994]
[null,1994,"Post-Mining Activity",null,"Coal Production ('000 short tons)",null,"Basin- & Mine-specific EF (ft3/short ton)",null,"Emissions  ('000 ft3 CH4)",null,"Emissions  (MTCH4)",null,"Emissions  (MTCO2E)"]
[null,1994,"Underground Mines",{"$f":"VLOOKUP(VLOOKUP(constants!$K$1,coalbasins,3,FALSE),'Coal codes'!$I$5:$J$23,2,FALSE)","v":"---"},null,"x",{"$f":"Control!$C$18","v":0},"=",{"$f":"E97*G97","v":0},"=",{"$f":"I97*ft3_g*g_mt*1000","v":0},"=",{"$f":"(K97*CH4GWP)","v":0}]
[null,1994,null,{"$f":"VLOOKUP(VLOOKUP(constants!$K$1,coalbasins,4,FALSE),'Coal codes'!$I$5:$J$23,2,FALSE)","v":"---"},null,"x",{"$f":"Control!$C$19","v":0},"=",{"$f":"IF(BasinNum=1,\"---\",E98*G98)","v":0},"=",{"$f":"IF(BasinNum=1,\"---\",I98*ft3_g*g_mt*1000)","v":0},"=",{"$f":"IF(BasinNum=1,\"---\",(K98*CH4GWP))","v":0}]
[null,1994,"Surface Mines",{"$f":"VLOOKUP(VLOOKUP(constants!$K$1,coalbasins,5,FALSE),'Coal codes'!$I$27:$J$40,2,FALSE)","v":"---"},null,"x",{"$f":"Control!$C$21","v":0},"=",{"$f":"E99*G99","v":0},"=",{"$f":"I99*ft3_g*g_mt*1000","v":0},"=",{"$f":"(K99*CH4GWP)","v":0}]
[null,1994,null,{"$f":"VLOOKUP(VLOOKUP(constants!$K$1,coalbasins,6,FALSE),'Coal codes'!$I$27:$J$40,2,FALSE)","v":"---"},null,"x",{"$f":"Control!$C$22","v":0},"=",{"$f":"IF(BasinNum=1,\"---\",E100*G100)","v":0},"=",{"$f":"IF(BasinNum=1,\"---\",I100*ft3_g*g_mt*1000)","v":0},"=",{"$f":"IF(BasinNum=1,\"---\",(K100*CH4GWP))","v":0}]
[null,1994,"Post-Mining Total",null,null,null,null,null,{"$f":"SUM(I97:I100)","v":0},"=",{"$f":"SUM(K97:K100)","v":0},"=",{"$f":"SUM(M97:M100)","v":0}]
[]
[null,null,"Total Coal Mining","(MTCO2E)",{"$f":"SUM(E104:E106)","v":0}]
[null,null,null,"Underground Mines",{"$f":"O90","v":0}]
[null,null,null,"Surface Mines",{"$f":"SUM(M93:M94)","v":0}]
[null,null,null,"Post-Mining Activity",{"$f":"M101","v":0}]
[]
[null,null,"Coal Mining",null,null,null,1995]
[null,null,"Emissions from:","Coal Basin(s) (if applicable)","Measured Ventilation Emissions (mmcf)",null,"Degasification System Emissions (mmcf)",null,"Methane Recovered from Degasification Systems and Used for Energy (mmcf)",null,"Emissions       (mmcf CH4)",null,"Emissions  (MTCH4)",null,"Emissions  (MTCO2E)"]
[null,null,"Mines"]
[null,{"$f":"G108","v":1995},"Underground Mines",null,null,"+  ( ",null,"-",null," )  =",{"$f":"E111+G111-I111","v":0},"=",{"$f":"K111*1000000*ft3_g*g_mt","v":0},"=",{"$f":"(M111*CH4GWP)","v":0}]
[null,{"$f":"B111","v":1995}]
[null,{"$f":"B112","v":1995},null,null,"Surface Coal Production ('000 short tons)",null,"Basin-specific EF (ft3/short ton)",null,"Emissions  ('000 ft3 CH4)",null,"Emissions  (MTCH4)",null,"Emissions  (MTCO2E)"]
[null,1995,"Surface Mines",{"$f":"VLOOKUP(VLOOKUP(constants!$K$1,coalbasins,5,FALSE),'Coal codes'!$I$27:$J$40,2,FALSE)","v":"---"},null,"x",{"$f":"Control!$C$13","v":0},"=",{"$f":"E114*G114","v":0},"=",{"$f":"I114*ft3_g*g_mt*1000","v":0},"=",{"$f":"(K114*CH4GWP)","v":0}]
[null,1995,null,{"$f":"VLOOKUP(VLOOKUP(constants!$K$1,coalbasins,6,FALSE),'Coal codes'!$I$27:$J$40,2,FALSE)","v":"---"},null,"x",{"$f":"Control!$C$14","v":0},"=",{"$f":"IF(BasinNum=1,\"---\",E115*G115)","v":0},"=",{"$f":"IF(BasinNum=1,\"---\",I115*ft3_g*g_mt*1000)","v":0},"=",{"$f":"IF(BasinNum=1,\"---\",(K115*CH4GWP))","v":0}]
[null,1995]
[null,1995,"Post-Mining Activity",null,"Coal Production ('000 short tons)",null,"Basin- & Mine-specific EF (ft3/short ton)",null,"Emissions  ('000 ft3 CH4)",null,"Emissions  (MTCH4)",null,"Emissions  (MTCO2E)"]
[null,1995,"Underground Mines",{"$f":"VLOOKUP(VLOOKUP(constants!$K$1,coalbasins,3,FALSE),'Coal codes'!$I$5:$J$23,2,FALSE)","v":"---"},null,"x",{"$f":"Control!$C$18","v":0},"=",{"$f":"E118*G118","v":0},"=",{"$f":"I118*ft3_g*g_mt*1000","v":0},"=",{"$f":"(K118*CH4GWP)","v":0}]
[null,1995,null,{"$f":"VLOOKUP(VLOOKUP(constants!$K$1,coalbasins,4,FALSE),'Coal codes'!$I$5:$J$23,2,FALSE)","v":"---"},null,"x",{"$f":"Control!$C$19","v":0},"=",{"$f":"IF(BasinNum=1,\"---\",E119*G119)","v":0},"=",{"$f":"IF(BasinNum=1,\"---\",I119*ft3_g*g_mt*1000)","v":0},"=",{"$f":"IF(BasinNum=1,\"---\",(K119*CH4GWP))","v":0}]
[null,1995,"Surface Mines",{"$f":"VLOOKUP(VLOOKUP(constants!$K$1,coalbasins,5,FALSE),'Coal codes'!$I$27:$J$40,2,FALSE)","v":"---"},null,"x",{"$f":"Control!$C$21","v":0},"=",{"$f":"E120*G120","v":0},"=",{"$f":"I120*ft3_g*g_mt*1000","v":0},"=",{"$f":"(K120*CH4GWP)","v":0}]
[null,1995,null,{"$f":"VLOOKUP(VLOOKUP(constants!$K$1,coalbasins,6,FALSE),'Coal codes'!$I$27:$J$40,2,FALSE)","v":"---"},null,"x",{"$f":"Control!$C$22","v":0},"=",{"$f":"IF(BasinNum=1,\"---\",E121*G121)","v":0},"=",{"$f":"IF(BasinNum=1,\"---\",I121*ft3_g*g_mt*1000)","v":0},"=",{"$f":"IF(BasinNum=1,\"---\",(K121*CH4GWP))","v":0}]
[null,1995,"Post-Mining Total",null,null,null,null,null,{"$f":"SUM(I118:I121)","v":0},"=",{"$f":"SUM(K118:K121)","v":0},"=",{"$f":"SUM(M118:M121)","v":0}]
[]
[null,null,"Total Coal Mining","(MTCO2E)",{"$f":"SUM(E125:E127)","v":0}]
[null,null,null,"Underground Mines",{"$f":"O111","v":0}]
[null,null,null,"Surface Mines",{"$f":"SUM(M114:M115)","v":0}]
[null,null,null,"Post-Mining Activity",{"$f":"M122","v":0}]
[]
[null,null,"Coal Mining",null,null,null,1996]
[null,null,"Emissions from:","Coal Basin(s) (if applicable)","Measured Ventilation Emissions (mmcf)",null,"Degasification System Emissions (mmcf)",null,"Methane Recovered from Degasification Systems and Used for Energy (mmcf)",null,"Emissions       (mmcf CH4)",null,"Emissions  (MTCH4)",null,"Emissions  (MTCO2E)"]
[null,null,"Mines"]
[null,{"$f":"G129","v":1996},"Underground Mines",null,null,"+  ( ",null,"-",null," )  =",{"$f":"E132+G132-I132","v":0},"=",{"$f":"K132*1000000*ft3_g*g_mt","v":0},"=",{"$f":"(M132*CH4GWP)","v":0}]
[null,{"$f":"B132","v":1996}]
[null,{"$f":"B133","v":1996},null,null,"Surface Coal Production ('000 short tons)",null,"Basin-specific EF (ft3/short ton)",null,"Emissions  ('000 ft3 CH4)",null,"Emissions  (MTCH4)",null,"Emissions  (MTCO2E)"]
[null,1996,"Surface Mines",{"$f":"VLOOKUP(VLOOKUP(constants!$K$1,coalbasins,5,FALSE),'Coal codes'!$I$27:$J$40,2,FALSE)","v":"---"},null,"x",{"$f":"Control!$C$13","v":0},"=",{"$f":"E135*G135","v":0},"=",{"$f":"I135*ft3_g*g_mt*1000","v":0},"=",{"$f":"(K135*CH4GWP)","v":0}]
[null,1996,null,{"$f":"VLOOKUP(VLOOKUP(constants!$K$1,coalbasins,6,FALSE),'Coal codes'!$I$27:$J$40,2,FALSE)","v":"---"},null,"x",{"$f":"Control!$C$14","v":0},"=",{"$f":"IF(BasinNum=1,\"---\",E136*G136)","v":0},"=",{"$f":"IF(BasinNum=1,\"---\",I136*ft3_g*g_mt*1000)","v":0},"=",{"$f":"IF(BasinNum=1,\"---\",(K136*CH4GWP))","v":0}]
[null,1996]
[null,1996,"Post-Mining Activity",null,"Coal Production ('000 short tons)",null,"Basin- & Mine-specific EF (ft3/short ton)",null,"Emissions  ('000 ft3 CH4)",null,"Emissions  (MTCH4)",null,"Emissions  (MTCO2E)"]
[null,1996,"Underground Mines",{"$f":"VLOOKUP(VLOOKUP(constants!$K$1,coalbasins,3,FALSE),'Coal codes'!$I$5:$J$23,2,FALSE)","v":"---"},null,"x",{"$f":"Control!$C$18","v":0},"=",{"$f":"E139*G139","v":0},"=",{"$f":"I139*ft3_g*g_mt*1000","v":0},"=",{"$f":"(K139*CH4GWP)","v":0}]
[null,1996,null,{"$f":"VLOOKUP(VLOOKUP(constants!$K$1,coalbasins,4,FALSE),'Coal codes'!$I$5:$J$23,2,FALSE)","v":"---"},null,"x",{"$f":"Control!$C$19","v":0},"=",{"$f":"IF(BasinNum=1,\"---\",E140*G140)","v":0},"=",{"$f":"IF(BasinNum=1,\"---\",I140*ft3_g*g_mt*1000)","v":0},"=",{"$f":"IF(BasinNum=1,\"---\",(K140*CH4GWP))","v":0}]
[null,1996,"Surface Mines",{"$f":"VLOOKUP(VLOOKUP(constants!$K$1,coalbasins,5,FALSE),'Coal codes'!$I$27:$J$40,2,FALSE)","v":"---"},null,"x",{"$f":"Control!$C$21","v":0},"=",{"$f":"E141*G141","v":0},"=",{"$f":"I141*ft3_g*g_mt*1000","v":0},"=",{"$f":"(K141*CH4GWP)","v":0}]
[null,1996,null,{"$f":"VLOOKUP(VLOOKUP(constants!$K$1,coalbasins,6,FALSE),'Coal codes'!$I$27:$J$40,2,FALSE)","v":"---"},null,"x",{"$f":"Control!$C$22","v":0},"=",{"$f":"IF(BasinNum=1,\"---\",E142*G142)","v":0},"=",{"$f":"IF(BasinNum=1,\"---\",I142*ft3_g*g_mt*1000)","v":0},"=",{"$f":"IF(BasinNum=1,\"---\",(K142*CH4GWP))","v":0}]
[null,1996,"Post-Mining Total",null,null,null,null,null,{"$f":"SUM(I139:I142)","v":0},"=",{"$f":"SUM(K139:K142)","v":0},"=",{"$f":"SUM(M139:M142)","v":0}]
[]
[null,null,"Total Coal Mining","(MTCO2E)",{"$f":"SUM(E146:E148)","v":0}]
[null,null,null,"Underground Mines",{"$f":"O132","v":0}]
[null,null,null,"Surface Mines",{"$f":"SUM(M135:M136)","v":0}]
[null,null,null,"Post-Mining Activity",{"$f":"M143","v":0}]
[]
[null,null,"Coal Mining",null,null,null,1997]
[null,null,"Emissions from:","Coal Basin(s) (if applicable)","Measured Ventilation Emissions (mmcf)",null,"Degasification System Emissions (mmcf)",null,"Methane Recovered from Degasification Systems and Used for Energy (mmcf)",null,"Emissions       (mmcf CH4)",null,"Emissions  (MTCH4)",null,"Emissions  (MTCO2E)"]
[null,null,"Mines"]
[null,{"$f":"G150","v":1997},"Underground Mines",null,null,"+  ( ",null,"-",null," )  =",{"$f":"E153+G153-I153","v":0},"=",{"$f":"K153*1000000*ft3_g*g_mt","v":0},"=",{"$f":"(M153*CH4GWP)","v":0}]
[null,{"$f":"B153","v":1997}]
[null,{"$f":"B154","v":1997},null,null,"Surface Coal Production ('000 short tons)",null,"Basin-specific EF (ft3/short ton)",null,"Emissions  ('000 ft3 CH4)",null,"Emissions  (MTCH4)",null,"Emissions  (MTCO2E)"]
[null,1997,"Surface Mines",{"$f":"VLOOKUP(VLOOKUP(constants!$K$1,coalbasins,5,FALSE),'Coal codes'!$I$27:$J$40,2,FALSE)","v":"---"},null,"x",{"$f":"Control!$C$13","v":0},"=",{"$f":"E156*G156","v":0},"=",{"$f":"I156*ft3_g*g_mt*1000","v":0},"=",{"$f":"(K156*CH4GWP)","v":0}]
[null,1997,null,{"$f":"VLOOKUP(VLOOKUP(constants!$K$1,coalbasins,6,FALSE),'Coal codes'!$I$27:$J$40,2,FALSE)","v":"---"},null,"x",{"$f":"Control!$C$14","v":0},"=",{"$f":"IF(BasinNum=1,\"---\",E157*G157)","v":0},"=",{"$f":"IF(BasinNum=1,\"---\",I157*ft3_g*g_mt*1000)","v":0},"=",{"$f":"IF(BasinNum=1,\"---\",(K157*CH4GWP))","v":0}]
[null,1997]
[null,1997,"Post-Mining Activity",null,"Coal Production ('000 short tons)",null,"Basin- & Mine-specific EF (ft3/short ton)",null,"Emissions  ('000 ft3 CH4)",null,"Emissions  (MTCH4)",null,"Emissions  (MTCO2E)"]
[null,1997,"Underground Mines",{"$f":"VLOOKUP(VLOOKUP(constants!$K$1,coalbasins,3,FALSE),'Coal codes'!$I$5:$J$23,2,FALSE)","v":"---"},null,"x",{"$f":"Control!$C$18","v":0},"=",{"$f":"E160*G160","v":0},"=",{"$f":"I160*ft3_g*g_mt*1000","v":0},"=",{"$f":"(K160*CH4GWP)","v":0}]
[null,1997,null,{"$f":"VLOOKUP(VLOOKUP(constants!$K$1,coalbasins,4,FALSE),'Coal codes'!$I$5:$J$23,2,FALSE)","v":"---"},null,"x",{"$f":"Control!$C$19","v":0},"=",{"$f":"IF(BasinNum=1,\"---\",E161*G161)","v":0},"=",{"$f":"IF(BasinNum=1,\"---\",I161*ft3_g*g_mt*1000)","v":0},"=",{"$f":"IF(BasinNum=1,\"---\",(K161*CH4GWP))","v":0}]
[null,1997,"Surface Mines",{"$f":"VLOOKUP(VLOOKUP(constants!$K$1,coalbasins,5,FALSE),'Coal codes'!$I$27:$J$40,2,FALSE)","v":"---"},null,"x",{"$f":"Control!$C$21","v":0},"=",{"$f":"E162*G162","v":0},"=",{"$f":"I162*ft3_g*g_mt*1000","v":0},"=",{"$f":"(K162*CH4GWP)","v":0}]
[null,1997,null,{"$f":"VLOOKUP(VLOOKUP(constants!$K$1,coalbasins,6,FALSE),'Coal codes'!$I$27:$J$40,2,FALSE)","v":"---"},null,"x",{"$f":"Control!$C$22","v":0},"=",{"$f":"IF(BasinNum=1,\"---\",E163*G163)","v":0},"=",{"$f":"IF(BasinNum=1,\"---\",I163*ft3_g*g_mt*1000)","v":0},"=",{"$f":"IF(BasinNum=1,\"---\",(K163*CH4GWP))","v":0}]
[null,1997,"Post-Mining Total",null,null,null,null,null,{"$f":"SUM(I160:I163)","v":0},"=",{"$f":"SUM(K160:K163)","v":0},"=",{"$f":"SUM(M160:M163)","v":0}]
[]
[null,null,"Total Coal Mining","(MTCO2E)",{"$f":"SUM(E167:E169)","v":0}]
[null,null,null,"Underground Mines",{"$f":"O153","v":0}]
[null,null,null,"Surface Mines",{"$f":"SUM(M156:M157)","v":0}]
[null,null,null,"Post-Mining Activity",{"$f":"M164","v":0}]
[]
[null,null,"Coal Mining",null,null,null,1998]
[null,null,"Emissions from:","Coal Basin(s) (if applicable)","Measured Ventilation Emissions (mmcf)",null,"Degasification System Emissions (mmcf)",null,"Methane Recovered from Degasification Systems and Used for Energy (mmcf)",null,"Emissions       (mmcf CH4)",null,"Emissions  (MTCH4)",null,"Emissions  (MTCO2E)"]
[null,null,"Mines"]
[null,{"$f":"G171","v":1998},"Underground Mines",null,null,"+  ( ",null,"-",null," )  =",{"$f":"E174+G174-I174","v":0},"=",{"$f":"K174*1000000*ft3_g*g_mt","v":0},"=",{"$f":"(M174*CH4GWP)","v":0}]
[null,{"$f":"B174","v":1998}]
[null,{"$f":"B175","v":1998},null,null,"Surface Coal Production ('000 short tons)",null,"Basin-specific EF (ft3/short ton)",null,"Emissions  ('000 ft3 CH4)",null,"Emissions  (MTCH4)",null,"Emissions  (MTCO2E)"]
[null,1998,"Surface Mines",{"$f":"VLOOKUP(VLOOKUP(constants!$K$1,coalbasins,5,FALSE),'Coal codes'!$I$27:$J$40,2,FALSE)","v":"---"},null,"x",{"$f":"Control!$C$13","v":0},"=",{"$f":"E177*G177","v":0},"=",{"$f":"I177*ft3_g*g_mt*1000","v":0},"=",{"$f":"(K177*CH4GWP)","v":0}]
[null,1998,null,{"$f":"VLOOKUP(VLOOKUP(constants!$K$1,coalbasins,6,FALSE),'Coal codes'!$I$27:$J$40,2,FALSE)","v":"---"},null,"x",{"$f":"Control!$C$14","v":0},"=",{"$f":"IF(BasinNum=1,\"---\",E178*G178)","v":0},"=",{"$f":"IF(BasinNum=1,\"---\",I178*ft3_g*g_mt*1000)","v":0},"=",{"$f":"IF(BasinNum=1,\"---\",(K178*CH4GWP))","v":0}]
[null,1998]
[null,1998,"Post-Mining Activity",null,"Coal Production ('000 short tons)",null,"Basin- & Mine-specific EF (ft3/short ton)",null,"Emissions  ('000 ft3 CH4)",null,"Emissions  (MTCH4)",null,"Emissions  (MTCO2E)"]
[null,1998,"Underground Mines",{"$f":"VLOOKUP(VLOOKUP(constants!$K$1,coalbasins,3,FALSE),'Coal codes'!$I$5:$J$23,2,FALSE)","v":"---"},null,"x",{"$f":"Control!$C$18","v":0},"=",{"$f":"E181*G181","v":0},"=",{"$f":"I181*ft3_g*g_mt*1000","v":0},"=",{"$f":"(K181*CH4GWP)","v":0}]
[null,1998,null,{"$f":"VLOOKUP(VLOOKUP(constants!$K$1,coalbasins,4,FALSE),'Coal codes'!$I$5:$J$23,2,FALSE)","v":"---"},null,"x",{"$f":"Control!$C$19","v":0},"=",{"$f":"IF(BasinNum=1,\"---\",E182*G182)","v":0},"=",{"$f":"IF(BasinNum=1,\"---\",I182*ft3_g*g_mt*1000)","v":0},"=",{"$f":"IF(BasinNum=1,\"---\",(K182*CH4GWP))","v":0}]
[null,1998,"Surface Mines",{"$f":"VLOOKUP(VLOOKUP(constants!$K$1,coalbasins,5,FALSE),'Coal codes'!$I$27:$J$40,2,FALSE)","v":"---"},null,"x",{"$f":"Control!$C$21","v":0},"=",{"$f":"E183*G183","v":0},"=",{"$f":"I183*ft3_g*g_mt*1000","v":0},"=",{"$f":"(K183*CH4GWP)","v":0}]
[null,1998,null,{"$f":"VLOOKUP(VLOOKUP(constants!$K$1,coalbasins,6,FALSE),'Coal codes'!$I$27:$J$40,2,FALSE)","v":"---"},null,"x",{"$f":"Control!$C$22","v":0},"=",{"$f":"IF(BasinNum=1,\"---\",E184*G184)","v":0},"=",{"$f":"IF(BasinNum=1,\"---\",I184*ft3_g*g_mt*1000)","v":0},"=",{"$f":"IF(BasinNum=1,\"---\",(K184*CH4GWP))","v":0}]
[null,1998,"Post-Mining Total",null,null,null,null,null,{"$f":"SUM(I181:I184)","v":0},"=",{"$f":"SUM(K181:K184)","v":0},"=",{"$f":"SUM(M181:M184)","v":0}]
[]
[null,null,"Total Coal Mining","(MTCO2E)",{"$f":"SUM(E188:E190)","v":0}]
[null,null,null,"Underground Mines",{"$f":"O174","v":0}]
[null,null,null,"Surface Mines",{"$f":"SUM(M177:M178)","v":0}]
[null,null,null,"Post-Mining Activity",{"$f":"M185","v":0}]
[]
[null,null,"Coal Mining",null,null,null,1999]
[null,null,"Emissions from:","Coal Basin(s) (if applicable)","Measured Ventilation Emissions (mmcf)",null,"Degasification System Emissions (mmcf)",null,"Methane Recovered from Degasification Systems and Used for Energy (mmcf)",null,"Emissions       (mmcf CH4)",null,"Emissions  (MTCH4)",null,"Emissions  (MTCO2E)"]
[null,null,"Mines"]
[null,{"$f":"G192","v":1999},"Underground Mines",null,null,"+  ( ",null,"-",null," )  =",{"$f":"E195+G195-I195","v":0},"=",{"$f":"K195*1000000*ft3_g*g_mt","v":0},"=",{"$f":"(M195*CH4GWP)","v":0}]
[null,{"$f":"B195","v":1999}]
[null,{"$f":"B196","v":1999},null,null,"Surface Coal Production ('000 short tons)",null,"Basin-specific EF (ft3/short ton)",null,"Emissions  ('000 ft3 CH4)",null,"Emissions  (MTCH4)",null,"Emissions  (MTCO2E)"]
[null,1999,"Surface Mines",{"$f":"VLOOKUP(VLOOKUP(constants!$K$1,coalbasins,5,FALSE),'Coal codes'!$I$27:$J$40,2,FALSE)","v":"---"},null,"x",{"$f":"Control!$C$13","v":0},"=",{"$f":"E198*G198","v":0},"=",{"$f":"I198*ft3_g*g_mt*1000","v":0},"=",{"$f":"(K198*CH4GWP)","v":0}]
[null,1999,null,{"$f":"VLOOKUP(VLOOKUP(constants!$K$1,coalbasins,6,FALSE),'Coal codes'!$I$27:$J$40,2,FALSE)","v":"---"},null,"x",{"$f":"Control!$C$14","v":0},"=",{"$f":"IF(BasinNum=1,\"---\",E199*G199)","v":0},"=",{"$f":"IF(BasinNum=1,\"---\",I199*ft3_g*g_mt*1000)","v":0},"=",{"$f":"IF(BasinNum=1,\"---\",(K199*CH4GWP))","v":0}]
[null,1999]
[null,1999,"Post-Mining Activity",null,"Coal Production ('000 short tons)",null,"Basin- & Mine-specific EF (ft3/short ton)",null,"Emissions  ('000 ft3 CH4)",null,"Emissions  (MTCH4)",null,"Emissions  (MTCO2E)"]
[null,1999,"Underground Mines",{"$f":"VLOOKUP(VLOOKUP(constants!$K$1,coalbasins,3,FALSE),'Coal codes'!$I$5:$J$23,2,FALSE)","v":"---"},null,"x",{"$f":"Control!$C$18","v":0},"=",{"$f":"E202*G202","v":0},"=",{"$f":"I202*ft3_g*g_mt*1000","v":0},"=",{"$f":"(K202*CH4GWP)","v":0}]
[null,1999,null,{"$f":"VLOOKUP(VLOOKUP(constants!$K$1,coalbasins,4,FALSE),'Coal codes'!$I$5:$J$23,2,FALSE)","v":"---"},null,"x",{"$f":"Control!$C$19","v":0},"=",{"$f":"IF(BasinNum=1,\"---\",E203*G203)","v":0},"=",{"$f":"IF(BasinNum=1,\"---\",I203*ft3_g*g_mt*1000)","v":0},"=",{"$f":"IF(BasinNum=1,\"---\",(K203*CH4GWP))","v":0}]
[null,1999,"Surface Mines",{"$f":"VLOOKUP(VLOOKUP(constants!$K$1,coalbasins,5,FALSE),'Coal codes'!$I$27:$J$40,2,FALSE)","v":"---"},null,"x",{"$f":"Control!$C$21","v":0},"=",{"$f":"E204*G204","v":0},"=",{"$f":"I204*ft3_g*g_mt*1000","v":0},"=",{"$f":"(K204*CH4GWP)","v":0}]
[null,1999,null,{"$f":"VLOOKUP(VLOOKUP(constants!$K$1,coalbasins,6,FALSE),'Coal codes'!$I$27:$J$40,2,FALSE)","v":"---"},null,"x",{"$f":"Control!$C$22","v":0},"=",{"$f":"IF(BasinNum=1,\"---\",E205*G205)","v":0},"=",{"$f":"IF(BasinNum=1,\"---\",I205*ft3_g*g_mt*1000)","v":0},"=",{"$f":"IF(BasinNum=1,\"---\",(K205*CH4GWP))","v":0}]
[null,1999,"Post-Mining Total",null,null,null,null,null,{"$f":"SUM(I202:I205)","v":0},"=",{"$f":"SUM(K202:K205)","v":0},"=",{"$f":"SUM(M202:M205)","v":0}]
[]
[null,null,"Total Coal Mining","(MTCO2E)",{"$f":"SUM(E209:E211)","v":0}]
[null,null,null,"Underground Mines",{"$f":"O195","v":0}]
[null,null,null,"Surface Mines",{"$f":"SUM(M198:M199)","v":0}]
[null,null,null,"Post-Mining Activity",{"$f":"M206","v":0}]
[]
[null,null,"Coal Mining",null,null,null,2000]
[null,null,"Emissions from:","Coal Basin(s) (if applicable)","Measured Ventilation Emissions (mmcf)",null,"Degasification System Emissions (mmcf)",null,"Methane Recovered from Degasification Systems and Used for Energy (mmcf)",null,"Emissions       (mmcf CH4)",null,"Emissions  (MTCH4)",null,"Emissions  (MTCO2E)"]
[null,null,"Mines"]
[null,{"$f":"G213","v":2000},"Underground Mines",null,null,"+  ( ",null,"-",null," )  =",{"$f":"E216+G216-I216","v":0},"=",{"$f":"K216*1000000*ft3_g*g_mt","v":0},"=",{"$f":"(M216*CH4GWP)","v":0}]
[null,{"$f":"B216","v":2000}]
[null,{"$f":"B217","v":2000},null,null,"Surface Coal Production ('000 short tons)",null,"Basin-specific EF (ft3/short ton)",null,"Emissions  ('000 ft3 CH4)",null,"Emissions  (MTCH4)",null,"Emissions  (MTCO2E)"]
[null,2000,"Surface Mines",{"$f":"VLOOKUP(VLOOKUP(constants!$K$1,coalbasins,5,FALSE),'Coal codes'!$I$27:$J$40,2,FALSE)","v":"---"},null,"x",{"$f":"Control!$C$13","v":0},"=",{"$f":"E219*G219","v":0},"=",{"$f":"I219*ft3_g*g_mt*1000","v":0},"=",{"$f":"(K219*CH4GWP)","v":0}]
[null,2000,null,{"$f":"VLOOKUP(VLOOKUP(constants!$K$1,coalbasins,6,FALSE),'Coal codes'!$I$27:$J$40,2,FALSE)","v":"---"},null,"x",{"$f":"Control!$C$14","v":0},"=",{"$f":"IF(BasinNum=1,\"---\",E220*G220)","v":0},"=",{"$f":"IF(BasinNum=1,\"---\",I220*ft3_g*g_mt*1000)","v":0},"=",{"$f":"IF(BasinNum=1,\"---\",(K220*CH4GWP))","v":0}]
[null,2000]
[null,2000,"Post-Mining Activity",null,"Coal Production ('000 short tons)",null,"Basin- & Mine-specific EF (ft3/short ton)",null,"Emissions  ('000 ft3 CH4)",null,"Emissions  (MTCH4)",null,"Emissions  (MTCO2E)"]
[null,2000,"Underground Mines",{"$f":"VLOOKUP(VLOOKUP(constants!$K$1,coalbasins,3,FALSE),'Coal codes'!$I$5:$J$23,2,FALSE)","v":"---"},null,"x",{"$f":"Control!$C$18","v":0},"=",{"$f":"E223*G223","v":0},"=",{"$f":"I223*ft3_g*g_mt*1000","v":0},"=",{"$f":"(K223*CH4GWP)","v":0}]
[null,2000,null,{"$f":"VLOOKUP(VLOOKUP(constants!$K$1,coalbasins,4,FALSE),'Coal codes'!$I$5:$J$23,2,FALSE)","v":"---"},null,"x",{"$f":"Control!$C$19","v":0},"=",{"$f":"IF(BasinNum=1,\"---\",E224*G224)","v":0},"=",{"$f":"IF(BasinNum=1,\"---\",I224*ft3_g*g_mt*1000)","v":0},"=",{"$f":"IF(BasinNum=1,\"---\",(K224*CH4GWP))","v":0}]
[null,2000,"Surface Mines",{"$f":"VLOOKUP(VLOOKUP(constants!$K$1,coalbasins,5,FALSE),'Coal codes'!$I$27:$J$40,2,FALSE)","v":"---"},null,"x",{"$f":"Control!$C$21","v":0},"=",{"$f":"E225*G225","v":0},"=",{"$f":"I225*ft3_g*g_mt*1000","v":0},"=",{"$f":"(K225*CH4GWP)","v":0}]
[null,2000,null,{"$f":"VLOOKUP(VLOOKUP(constants!$K$1,coalbasins,6,FALSE),'Coal codes'!$I$27:$J$40,2,FALSE)","v":"---"},null,"x",{"$f":"Control!$C$22","v":0},"=",{"$f":"IF(BasinNum=1,\"---\",E226*G226)","v":0},"=",{"$f":"IF(BasinNum=1,\"---\",I226*ft3_g*g_mt*1000)","v":0},"=",{"$f":"IF(BasinNum=1,\"---\",(K226*CH4GWP))","v":0}]
[null,2000,"Post-Mining Total",null,null,null,null,null,{"$f":"SUM(I223:I226)","v":0},"=",{"$f":"SUM(K223:K226)","v":0},"=",{"$f":"SUM(M223:M226)","v":0}]
[]
[null,null,"Total Coal Mining","(MTCO2E)",{"$f":"SUM(E230:E232)","v":0}]
[null,null,null,"Underground Mines",{"$f":"O216","v":0}]
[null,null,null,"Surface Mines",{"$f":"SUM(M219:M220)","v":0}]
[null,null,null,"Post-Mining Activity",{"$f":"M227","v":0}]
[]
[null,null,"Coal Mining",null,null,null,2001]
[null,null,"Emissions from:","Coal Basin(s) (if applicable)","Measured Ventilation Emissions (mmcf)",null,"Degasification System Emissions (mmcf)",null,"Methane Recovered from Degasification Systems and Used for Energy (mmcf)",null,"Emissions       (mmcf CH4)",null,"Emissions  (MTCH4)",null,"Emissions  (MTCO2E)"]
[null,null,"Mines"]
[null,{"$f":"G234","v":2001},"Underground Mines",null,null,"+  ( ",null,"-",null," )  =",{"$f":"E237+G237-I237","v":0},"=",{"$f":"K237*1000000*ft3_g*g_mt","v":0},"=",{"$f":"(M237*CH4GWP)","v":0}]
[null,{"$f":"B237","v":2001}]
[null,{"$f":"B238","v":2001},null,null,"Surface Coal Production ('000 short tons)",null,"Basin-specific EF (ft3/short ton)",null,"Emissions  ('000 ft3 CH4)",null,"Emissions  (MTCH4)",null,"Emissions  (MTCO2E)"]
[null,2001,"Surface Mines",{"$f":"VLOOKUP(VLOOKUP(constants!$K$1,coalbasins,5,FALSE),'Coal codes'!$I$27:$J$40,2,FALSE)","v":"---"},null,"x",{"$f":"Control!$C$13","v":0},"=",{"$f":"E240*G240","v":0},"=",{"$f":"I240*ft3_g*g_mt*1000","v":0},"=",{"$f":"(K240*CH4GWP)","v":0}]
[null,2001,null,{"$f":"VLOOKUP(VLOOKUP(constants!$K$1,coalbasins,6,FALSE),'Coal codes'!$I$27:$J$40,2,FALSE)","v":"---"},null,"x",{"$f":"Control!$C$14","v":0},"=",{"$f":"IF(BasinNum=1,\"---\",E241*G241)","v":0},"=",{"$f":"IF(BasinNum=1,\"---\",I241*ft3_g*g_mt*1000)","v":0},"=",{"$f":"IF(BasinNum=1,\"---\",(K241*CH4GWP))","v":0}]
[null,2001]
[null,2001,"Post-Mining Activity",null,"Coal Production ('000 short tons)",null,"Basin- & Mine-specific EF (ft3/short ton)",null,"Emissions  ('000 ft3 CH4)",null,"Emissions  (MTCH4)",null,"Emissions  (MTCO2E)"]
[null,2001,"Underground Mines",{"$f":"VLOOKUP(VLOOKUP(constants!$K$1,coalbasins,3,FALSE),'Coal codes'!$I$5:$J$23,2,FALSE)","v":"---"},null,"x",{"$f":"Control!$C$18","v":0},"=",{"$f":"E244*G244","v":0},"=",{"$f":"I244*ft3_g*g_mt*1000","v":0},"=",{"$f":"(K244*CH4GWP)","v":0}]
[null,2001,null,{"$f":"VLOOKUP(VLOOKUP(constants!$K$1,coalbasins,4,FALSE),'Coal codes'!$I$5:$J$23,2,FALSE)","v":"---"},null,"x",{"$f":"Control!$C$19","v":0},"=",{"$f":"IF(BasinNum=1,\"---\",E245*G245)","v":0},"=",{"$f":"IF(BasinNum=1,\"---\",I245*ft3_g*g_mt*1000)","v":0},"=",{"$f":"IF(BasinNum=1,\"---\",(K245*CH4GWP))","v":0}]
[null,2001,"Surface Mines",{"$f":"VLOOKUP(VLOOKUP(constants!$K$1,coalbasins,5,FALSE),'Coal codes'!$I$27:$J$40,2,FALSE)","v":"---"},null,"x",{"$f":"Control!$C$21","v":0},"=",{"$f":"E246*G246","v":0},"=",{"$f":"I246*ft3_g*g_mt*1000","v":0},"=",{"$f":"(K246*CH4GWP)","v":0}]
[null,2001,null,{"$f":"VLOOKUP(VLOOKUP(constants!$K$1,coalbasins,6,FALSE),'Coal codes'!$I$27:$J$40,2,FALSE)","v":"---"},null,"x",{"$f":"Control!$C$22","v":0},"=",{"$f":"IF(BasinNum=1,\"---\",E247*G247)","v":0},"=",{"$f":"IF(BasinNum=1,\"---\",I247*ft3_g*g_mt*1000)","v":0},"=",{"$f":"IF(BasinNum=1,\"---\",(K247*CH4GWP))","v":0}]
[null,2001,"Post-Mining Total",null,null,null,null,null,{"$f":"SUM(I244:I247)","v":0},"=",{"$f":"SUM(K244:K247)","v":0},"=",{"$f":"SUM(M244:M247)","v":0}]
[]
[null,null,"Total Coal Mining","(MTCO2E)",{"$f":"SUM(E251:E253)","v":0}]
[null,null,null,"Underground Mines",{"$f":"O237","v":0}]
[null,null,null,"Surface Mines",{"$f":"SUM(M240:M241)","v":0}]
[null,null,null,"Post-Mining Activity",{"$f":"M248","v":0}]
[]
[null,null,"Coal Mining",null,null,null,2002]
[null,null,"Emissions from:","Coal Basin(s) (if applicable)","Measured Ventilation Emissions (mmcf)",null,"Degasification System Emissions (mmcf)",null,"Methane Recovered from Degasification Systems and Used for Energy (mmcf)",null,"Emissions       (mmcf CH4)",null,"Emissions  (MTCH4)",null,"Emissions  (MTCO2E)"]
[null,null,"Mines"]
[null,{"$f":"G255","v":2002},"Underground Mines",null,null,"+  ( ",null,"-",null," )  =",{"$f":"E258+G258-I258","v":0},"=",{"$f":"K258*1000000*ft3_g*g_mt","v":0},"=",{"$f":"(M258*CH4GWP)","v":0}]
[null,{"$f":"B258","v":2002}]
[null,{"$f":"B259","v":2002},null,null,"Surface Coal Production ('000 short tons)",null,"Basin-specific EF (ft3/short ton)",null,"Emissions  ('000 ft3 CH4)",null,"Emissions  (MTCH4)",null,"Emissions  (MTCO2E)"]
[null,2002,"Surface Mines",{"$f":"VLOOKUP(VLOOKUP(constants!$K$1,coalbasins,5,FALSE),'Coal codes'!$I$27:$J$40,2,FALSE)","v":"---"},null,"x",{"$f":"Control!$C$13","v":0},"=",{"$f":"E261*G261","v":0},"=",{"$f":"I261*ft3_g*g_mt*1000","v":0},"=",{"$f":"(K261*CH4GWP)","v":0}]
[null,2002,null,{"$f":"VLOOKUP(VLOOKUP(constants!$K$1,coalbasins,6,FALSE),'Coal codes'!$I$27:$J$40,2,FALSE)","v":"---"},null,"x",{"$f":"Control!$C$14","v":0},"=",{"$f":"IF(BasinNum=1,\"---\",E262*G262)","v":0},"=",{"$f":"IF(BasinNum=1,\"---\",I262*ft3_g*g_mt*1000)","v":0},"=",{"$f":"IF(BasinNum=1,\"---\",(K262*CH4GWP))","v":0}]
[null,2002]
[null,2002,"Post-Mining Activity",null,"Coal Production ('000 short tons)",null,"Basin- & Mine-specific EF (ft3/short ton)",null,"Emissions  ('000 ft3 CH4)",null,"Emissions  (MTCH4)",null,"Emissions  (MTCO2E)"]
[null,2002,"Underground Mines",{"$f":"VLOOKUP(VLOOKUP(constants!$K$1,coalbasins,3,FALSE),'Coal codes'!$I$5:$J$23,2,FALSE)","v":"---"},null,"x",{"$f":"Control!$C$18","v":0},"=",{"$f":"E265*G265","v":0},"=",{"$f":"I265*ft3_g*g_mt*1000","v":0},"=",{"$f":"(K265*CH4GWP)","v":0}]
[null,2002,null,{"$f":"VLOOKUP(VLOOKUP(constants!$K$1,coalbasins,4,FALSE),'Coal codes'!$I$5:$J$23,2,FALSE)","v":"---"},null,"x",{"$f":"Control!$C$19","v":0},"=",{"$f":"IF(BasinNum=1,\"---\",E266*G266)","v":0},"=",{"$f":"IF(BasinNum=1,\"---\",I266*ft3_g*g_mt*1000)","v":0},"=",{"$f":"IF(BasinNum=1,\"---\",(K266*CH4GWP))","v":0}]
[null,2002,"Surface Mines",{"$f":"VLOOKUP(VLOOKUP(constants!$K$1,coalbasins,5,FALSE),'Coal codes'!$I$27:$J$40,2,FALSE)","v":"---"},null,"x",{"$f":"Control!$C$21","v":0},"=",{"$f":"E267*G267","v":0},"=",{"$f":"I267*ft3_g*g_mt*1000","v":0},"=",{"$f":"(K267*CH4GWP)","v":0}]
[null,2002,null,{"$f":"VLOOKUP(VLOOKUP(constants!$K$1,coalbasins,6,FALSE),'Coal codes'!$I$27:$J$40,2,FALSE)","v":"---"},null,"x",{"$f":"Control!$C$22","v":0},"=",{"$f":"IF(BasinNum=1,\"---\",E268*G268)","v":0},"=",{"$f":"IF(BasinNum=1,\"---\",I268*ft3_g*g_mt*1000)","v":0},"=",{"$f":"IF(BasinNum=1,\"---\",(K268*CH4GWP))","v":0}]
[null,2002,"Post-Mining Total",null,null,null,null,null,{"$f":"SUM(I265:I268)","v":0},"=",{"$f":"SUM(K265:K268)","v":0},"=",{"$f":"SUM(M265:M268)","v":0}]
[]
[null,null,"Total Coal Mining","(MTCO2E)",{"$f":"SUM(E272:E274)","v":0}]
[null,null,null,"Underground Mines",{"$f":"O258","v":0}]
[null,null,null,"Surface Mines",{"$f":"SUM(M261:M262)","v":0}]
[null,null,null,"Post-Mining Activity",{"$f":"M269","v":0}]
[]
[null,null,"Coal Mining",null,null,null,2003]
[null,null,"Emissions from:","Coal Basin(s) (if applicable)","Measured Ventilation Emissions (mmcf)",null,"Degasification System Emissions (mmcf)",null,"Methane Recovered from Degasification Systems and Used for Energy (mmcf)",null,"Emissions       (mmcf CH4)",null,"Emissions  (MTCH4)",null,"Emissions  (MTCO2E)"]
[null,null,"Mines"]
[null,{"$f":"G276","v":2003},"Underground Mines",null,null,"+  ( ",null,"-",null," )  =",{"$f":"E279+G279-I279","v":0},"=",{"$f":"K279*1000000*ft3_g*g_mt","v":0},"=",{"$f":"(M279*CH4GWP)","v":0}]
[null,{"$f":"B279","v":2003}]
[null,{"$f":"B280","v":2003},null,null,"Surface Coal Production ('000 short tons)",null,"Basin-specific EF (ft3/short ton)",null,"Emissions  ('000 ft3 CH4)",null,"Emissions  (MTCH4)",null,"Emissions  (MTCO2E)"]
[null,2003,"Surface Mines",{"$f":"VLOOKUP(VLOOKUP(constants!$K$1,coalbasins,5,FALSE),'Coal codes'!$I$27:$J$40,2,FALSE)","v":"---"},null,"x",{"$f":"Control!$C$13","v":0},"=",{"$f":"E282*G282","v":0},"=",{"$f":"I282*ft3_g*g_mt*1000","v":0},"=",{"$f":"(K282*CH4GWP)","v":0}]
[null,2003,null,{"$f":"VLOOKUP(VLOOKUP(constants!$K$1,coalbasins,6,FALSE),'Coal codes'!$I$27:$J$40,2,FALSE)","v":"---"},null,"x",{"$f":"Control!$C$14","v":0},"=",{"$f":"IF(BasinNum=1,\"---\",E283*G283)","v":0},"=",{"$f":"IF(BasinNum=1,\"---\",I283*ft3_g*g_mt*1000)","v":0},"=",{"$f":"IF(BasinNum=1,\"---\",(K283*CH4GWP))","v":0}]
[null,2003]
[null,2003,"Post-Mining Activity",null,"Coal Production ('000 short tons)",null,"Basin- & Mine-specific EF (ft3/short ton)",null,"Emissions  ('000 ft3 CH4)",null,"Emissions  (MTCH4)",null,"Emissions  (MTCO2E)"]
[null,2003,"Underground Mines",{"$f":"VLOOKUP(VLOOKUP(constants!$K$1,coalbasins,3,FALSE),'Coal codes'!$I$5:$J$23,2,FALSE)","v":"---"},null,"x",{"$f":"Control!$C$18","v":0},"=",{"$f":"E286*G286","v":0},"=",{"$f":"I286*ft3_g*g_mt*1000","v":0},"=",{"$f":"(K286*CH4GWP)","v":0}]
[null,2003,null,{"$f":"VLOOKUP(VLOOKUP(constants!$K$1,coalbasins,4,FALSE),'Coal codes'!$I$5:$J$23,2,FALSE)","v":"---"},null,"x",{"$f":"Control!$C$19","v":0},"=",{"$f":"IF(BasinNum=1,\"---\",E287*G287)","v":0},"=",{"$f":"IF(BasinNum=1,\"---\",I287*ft3_g*g_mt*1000)","v":0},"=",{"$f":"IF(BasinNum=1,\"---\",(K287*CH4GWP))","v":0}]
[null,2003,"Surface Mines",{"$f":"VLOOKUP(VLOOKUP(constants!$K$1,coalbasins,5,FALSE),'Coal codes'!$I$27:$J$40,2,FALSE)","v":"---"},null,"x",{"$f":"Control!$C$21","v":0},"=",{"$f":"E288*G288","v":0},"=",{"$f":"I288*ft3_g*g_mt*1000","v":0},"=",{"$f":"(K288*CH4GWP)","v":0}]
[null,2003,null,{"$f":"VLOOKUP(VLOOKUP(constants!$K$1,coalbasins,6,FALSE),'Coal codes'!$I$27:$J$40,2,FALSE)","v":"---"},null,"x",{"$f":"Control!$C$22","v":0},"=",{"$f":"IF(BasinNum=1,\"---\",E289*G289)","v":0},"=",{"$f":"IF(BasinNum=1,\"---\",I289*ft3_g*g_mt*1000)","v":0},"=",{"$f":"IF(BasinNum=1,\"---\",(K289*CH4GWP))","v":0}]
[null,2003,"Post-Mining Total",null,null,null,null,null,{"$f":"SUM(I286:I289)","v":0},"=",{"$f":"SUM(K286:K289)","v":0},"=",{"$f":"SUM(M286:M289)","v":0}]
[]
[null,null,"Total Coal Mining","(MTCO2E)",{"$f":"SUM(E293:E295)","v":0}]
[null,null,null,"Underground Mines",{"$f":"O279","v":0}]
[null,null,null,"Surface Mines",{"$f":"SUM(M282:M283)","v":0}]
[null,null,null,"Post-Mining Activity",{"$f":"M290","v":0}]
[]
[null,null,"Coal Mining",null,null,null,2004]
[null,null,"Emissions from:","Coal Basin(s) (if applicable)","Measured Ventilation Emissions (mmcf)",null,"Degasification System Emissions (mmcf)",null,"Methane Recovered from Degasification Systems and Used for Energy (mmcf)",null,"Emissions       (mmcf CH4)",null,"Emissions  (MTCH4)",null,"Emissions  (MTCO2E)"]
[null,null,"Mines"]
[null,{"$f":"G297","v":2004},"Underground Mines",null,null,"+  ( ",null,"-",null," )  =",{"$f":"E300+G300-I300","v":0},"=",{"$f":"K300*1000000*ft3_g*g_mt","v":0},"=",{"$f":"(M300*CH4GWP)","v":0}]
[null,{"$f":"B300","v":2004}]
[null,{"$f":"B301","v":2004},null,null,"Surface Coal Production ('000 short tons)",null,"Basin-specific EF (ft3/short ton)",null,"Emissions  ('000 ft3 CH4)",null,"Emissions  (MTCH4)",null,"Emissions  (MTCO2E)"]
[null,2004,"Surface Mines",{"$f":"VLOOKUP(VLOOKUP(constants!$K$1,coalbasins,5,FALSE),'Coal codes'!$I$27:$J$40,2,FALSE)","v":"---"},null,"x",{"$f":"Control!$C$13","v":0},"=",{"$f":"E303*G303","v":0},"=",{"$f":"I303*ft3_g*g_mt*1000","v":0},"=",{"$f":"(K303*CH4GWP)","v":0}]
[null,2004,null,{"$f":"VLOOKUP(VLOOKUP(constants!$K$1,coalbasins,6,FALSE),'Coal codes'!$I$27:$J$40,2,FALSE)","v":"---"},null,"x",{"$f":"Control!$C$14","v":0},"=",{"$f":"IF(BasinNum=1,\"---\",E304*G304)","v":0},"=",{"$f":"IF(BasinNum=1,\"---\",I304*ft3_g*g_mt*1000)","v":0},"=",{"$f":"IF(BasinNum=1,\"---\",(K304*CH4GWP))","v":0}]
[null,2004]
[null,2004,"Post-Mining Activity",null,"Coal Production ('000 short tons)",null,"Basin- & Mine-specific EF (ft3/short ton)",null,"Emissions  ('000 ft3 CH4)",null,"Emissions  (MTCH4)",null,"Emissions  (MTCO2E)"]
[null,2004,"Underground Mines",{"$f":"VLOOKUP(VLOOKUP(constants!$K$1,coalbasins,3,FALSE),'Coal codes'!$I$5:$J$23,2,FALSE)","v":"---"},null,"x",{"$f":"Control!$C$18","v":0},"=",{"$f":"E307*G307","v":0},"=",{"$f":"I307*ft3_g*g_mt*1000","v":0},"=",{"$f":"(K307*CH4GWP)","v":0}]
[null,2004,null,{"$f":"VLOOKUP(VLOOKUP(constants!$K$1,coalbasins,4,FALSE),'Coal codes'!$I$5:$J$23,2,FALSE)","v":"---"},null,"x",{"$f":"Control!$C$19","v":0},"=",{"$f":"IF(BasinNum=1,\"---\",E308*G308)","v":0},"=",{"$f":"IF(BasinNum=1,\"---\",I308*ft3_g*g_mt*1000)","v":0},"=",{"$f":"IF(BasinNum=1,\"---\",(K308*CH4GWP))","v":0}]
[null,2004,"Surface Mines",{"$f":"VLOOKUP(VLOOKUP(constants!$K$1,coalbasins,5,FALSE),'Coal codes'!$I$27:$J$40,2,FALSE)","v":"---"},null,"x",{"$f":"Control!$C$21","v":0},"=",{"$f":"E309*G309","v":0},"=",{"$f":"I309*ft3_g*g_mt*1000","v":0},"=",{"$f":"(K309*CH4GWP)","v":0}]
[null,2004,null,{"$f":"VLOOKUP(VLOOKUP(constants!$K$1,coalbasins,6,FALSE),'Coal codes'!$I$27:$J$40,2,FALSE)","v":"---"},null,"x",{"$f":"Control!$C$22","v":0},"=",{"$f":"IF(BasinNum=1,\"---\",E310*G310)","v":0},"=",{"$f":"IF(BasinNum=1,\"---\",I310*ft3_g*g_mt*1000)","v":0},"=",{"$f":"IF(BasinNum=1,\"---\",(K310*CH4GWP))","v":0}]
[null,2004,"Post-Mining Total",null,null,null,null,null,{"$f":"SUM(I307:I310)","v":0},"=",{"$f":"SUM(K307:K310)","v":0},"=",{"$f":"SUM(M307:M310)","v":0}]
[]
[null,null,"Total Coal Mining","(MTCO2E)",{"$f":"SUM(E314:E316)","v":0}]
[null,null,null,"Underground Mines",{"$f":"O300","v":0}]
[null,null,null,"Surface Mines",{"$f":"SUM(M303:M304)","v":0}]
[null,null,null,"Post-Mining Activity",{"$f":"M311","v":0}]
[]
[null,null,"Coal Mining",null,null,null,2005]
[null,null,"Emissions from:","Coal Basin(s) (if applicable)","Measured Ventilation Emissions (mmcf)",null,"Degasification System Emissions (mmcf)",null,"Methane Recovered from Degasification Systems and Used for Energy (mmcf)",null,"Emissions       (mmcf CH4)",null,"Emissions  (MTCH4)",null,"Emissions  (MTCO2E)"]
[null,null,"Mines"]
[null,{"$f":"G318","v":2005},"Underground Mines",null,null,"+  ( ",null,"-",null," )  =",{"$f":"E321+G321-I321","v":0},"=",{"$f":"K321*1000000*ft3_g*g_mt","v":0},"=",{"$f":"(M321*CH4GWP)","v":0}]
[null,{"$f":"B321","v":2005}]
[null,{"$f":"B322","v":2005},null,null,"Surface Coal Production ('000 short tons)",null,"Basin-specific EF (ft3/short ton)",null,"Emissions  ('000 ft3 CH4)",null,"Emissions  (MTCH4)",null,"Emissions  (MTCO2E)"]
[null,2005,"Surface Mines",{"$f":"VLOOKUP(VLOOKUP(constants!$K$1,coalbasins,5,FALSE),'Coal codes'!$I$27:$J$40,2,FALSE)","v":"---"},null,"x",{"$f":"Control!$C$13","v":0},"=",{"$f":"E324*G324","v":0},"=",{"$f":"I324*ft3_g*g_mt*1000","v":0},"=",{"$f":"(K324*CH4GWP)","v":0}]
[null,2005,null,{"$f":"VLOOKUP(VLOOKUP(constants!$K$1,coalbasins,6,FALSE),'Coal codes'!$I$27:$J$40,2,FALSE)","v":"---"},null,"x",{"$f":"Control!$C$14","v":0},"=",{"$f":"IF(BasinNum=1,\"---\",E325*G325)","v":0},"=",{"$f":"IF(BasinNum=1,\"---\",I325*ft3_g*g_mt*1000)","v":0},"=",{"$f":"IF(BasinNum=1,\"---\",(K325*CH4GWP))","v":0}]
[null,2005]
[null,2005,"Post-Mining Activity",null,"Coal Production ('000 short tons)",null,"Basin- & Mine-specific EF (ft3/short ton)",null,"Emissions  ('000 ft3 CH4)",null,"Emissions  (MTCH4)",null,"Emissions  (MTCO2E)"]
[null,2005,"Underground Mines",{"$f":"VLOOKUP(VLOOKUP(constants!$K$1,coalbasins,3,FALSE),'Coal codes'!$I$5:$J$23,2,FALSE)","v":"---"},null,"x",{"$f":"Control!$C$18","v":0},"=",{"$f":"E328*G328","v":0},"=",{"$f":"I328*ft3_g*g_mt*1000","v":0},"=",{"$f":"(K328*CH4GWP)","v":0}]
[null,2005,null,{"$f":"VLOOKUP(VLOOKUP(constants!$K$1,coalbasins,4,FALSE),'Coal codes'!$I$5:$J$23,2,FALSE)","v":"---"},null,"x",{"$f":"Control!$C$19","v":0},"=",{"$f":"IF(BasinNum=1,\"---\",E329*G329)","v":0},"=",{"$f":"IF(BasinNum=1,\"---\",I329*ft3_g*g_mt*1000)","v":0},"=",{"$f":"IF(BasinNum=1,\"---\",(K329*CH4GWP))","v":0}]
[null,2005,"Surface Mines",{"$f":"VLOOKUP(VLOOKUP(constants!$K$1,coalbasins,5,FALSE),'Coal codes'!$I$27:$J$40,2,FALSE)","v":"---"},null,"x",{"$f":"Control!$C$21","v":0},"=",{"$f":"E330*G330","v":0},"=",{"$f":"I330*ft3_g*g_mt*1000","v":0},"=",{"$f":"(K330*CH4GWP)","v":0}]
[null,2005,null,{"$f":"VLOOKUP(VLOOKUP(constants!$K$1,coalbasins,6,FALSE),'Coal codes'!$I$27:$J$40,2,FALSE)","v":"---"},null,"x",{"$f":"Control!$C$22","v":0},"=",{"$f":"IF(BasinNum=1,\"---\",E331*G331)","v":0},"=",{"$f":"IF(BasinNum=1,\"---\",I331*ft3_g*g_mt*1000)","v":0},"=",{"$f":"IF(BasinNum=1,\"---\",(K331*CH4GWP))","v":0}]
[null,2005,"Post-Mining Total",null,null,null,null,null,{"$f":"SUM(I328:I331)","v":0},"=",{"$f":"SUM(K328:K331)","v":0},"=",{"$f":"SUM(M328:M331)","v":0}]
[]
[null,null,"Total Coal Mining","(MTCO2E)",{"$f":"SUM(E335:E337)","v":0}]
[null,null,null,"Underground Mines",{"$f":"O321","v":0}]
[null,null,null,"Surface Mines",{"$f":"SUM(M324:M325)","v":0}]
[null,null,null,"Post-Mining Activity",{"$f":"M332","v":0}]
[]
[null,null,"Coal Mining",null,null,null,2006]
[null,null,"Emissions from:","Coal Basin(s) (if applicable)","Measured Ventilation Emissions (mmcf)",null,"Degasification System Emissions (mmcf)",null,"Methane Recovered from Degasification Systems and Used for Energy (mmcf)",null,"Emissions       (mmcf CH4)",null,"Emissions  (MTCH4)",null,"Emissions  (MTCO2E)"]
[null,null,"Mines"]
[null,{"$f":"G339","v":2006},"Underground Mines",null,null,"+  ( ",null,"-",null," )  =",{"$f":"E342+G342-I342","v":0},"=",{"$f":"K342*1000000*ft3_g*g_mt","v":0},"=",{"$f":"(M342*CH4GWP)","v":0}]
[null,{"$f":"B342","v":2006}]
[null,{"$f":"B343","v":2006},null,null,"Surface Coal Production ('000 short tons)",null,"Basin-specific EF (ft3/short ton)",null,"Emissions  ('000 ft3 CH4)",null,"Emissions  (MTCH4)",null,"Emissions  (MTCO2E)"]
[null,2006,"Surface Mines",{"$f":"VLOOKUP(VLOOKUP(constants!$K$1,coalbasins,5,FALSE),'Coal codes'!$I$27:$J$40,2,FALSE)","v":"---"},null,"x",{"$f":"Control!$C$13","v":0},"=",{"$f":"E345*G345","v":0},"=",{"$f":"I345*ft3_g*g_mt*1000","v":0},"=",{"$f":"(K345*CH4GWP)","v":0}]
[null,2006,null,{"$f":"VLOOKUP(VLOOKUP(constants!$K$1,coalbasins,6,FALSE),'Coal codes'!$I$27:$J$40,2,FALSE)","v":"---"},null,"x",{"$f":"Control!$C$14","v":0},"=",{"$f":"IF(BasinNum=1,\"---\",E346*G346)","v":0},"=",{"$f":"IF(BasinNum=1,\"---\",I346*ft3_g*g_mt*1000)","v":0},"=",{"$f":"IF(BasinNum=1,\"---\",(K346*CH4GWP))","v":0}]
[null,2006]
[null,2006,"Post-Mining Activity",null,"Coal Production ('000 short tons)",null,"Basin- & Mine-specific EF (ft3/short ton)",null,"Emissions  ('000 ft3 CH4)",null,"Emissions  (MTCH4)",null,"Emissions  (MTCO2E)"]
[null,2006,"Underground Mines",{"$f":"VLOOKUP(VLOOKUP(constants!$K$1,coalbasins,3,FALSE),'Coal codes'!$I$5:$J$23,2,FALSE)","v":"---"},null,"x",{"$f":"Control!$C$18","v":0},"=",{"$f":"E349*G349","v":0},"=",{"$f":"I349*ft3_g*g_mt*1000","v":0},"=",{"$f":"(K349*CH4GWP)","v":0}]
[null,2006,null,{"$f":"VLOOKUP(VLOOKUP(constants!$K$1,coalbasins,4,FALSE),'Coal codes'!$I$5:$J$23,2,FALSE)","v":"---"},null,"x",{"$f":"Control!$C$19","v":0},"=",{"$f":"IF(BasinNum=1,\"---\",E350*G350)","v":0},"=",{"$f":"IF(BasinNum=1,\"---\",I350*ft3_g*g_mt*1000)","v":0},"=",{"$f":"IF(BasinNum=1,\"---\",(K350*CH4GWP))","v":0}]
[null,2006,"Surface Mines",{"$f":"VLOOKUP(VLOOKUP(constants!$K$1,coalbasins,5,FALSE),'Coal codes'!$I$27:$J$40,2,FALSE)","v":"---"},null,"x",{"$f":"Control!$C$21","v":0},"=",{"$f":"E351*G351","v":0},"=",{"$f":"I351*ft3_g*g_mt*1000","v":0},"=",{"$f":"(K351*CH4GWP)","v":0}]
[null,2006,null,{"$f":"VLOOKUP(VLOOKUP(constants!$K$1,coalbasins,6,FALSE),'Coal codes'!$I$27:$J$40,2,FALSE)","v":"---"},null,"x",{"$f":"Control!$C$22","v":0},"=",{"$f":"IF(BasinNum=1,\"---\",E352*G352)","v":0},"=",{"$f":"IF(BasinNum=1,\"---\",I352*ft3_g*g_mt*1000)","v":0},"=",{"$f":"IF(BasinNum=1,\"---\",(K352*CH4GWP))","v":0}]
[null,2006,"Post-Mining Total",null,null,null,null,null,{"$f":"SUM(I349:I352)","v":0},"=",{"$f":"SUM(K349:K352)","v":0},"=",{"$f":"SUM(M349:M352)","v":0}]
[]
[null,null,"Total Coal Mining","(MTCO2E)",{"$f":"SUM(E356:E358)","v":0}]
[null,null,null,"Underground Mines",{"$f":"O342","v":0}]
[null,null,null,"Surface Mines",{"$f":"SUM(M345:M346)","v":0}]
[null,null,null,"Post-Mining Activity",{"$f":"M353","v":0}]
[]
[null,null,"Coal Mining",null,null,null,2007]
[null,null,"Emissions from:","Coal Basin(s) (if applicable)","Measured Ventilation Emissions (mmcf)",null,"Degasification System Emissions (mmcf)",null,"Methane Recovered from Degasification Systems and Used for Energy (mmcf)",null,"Emissions       (mmcf CH4)",null,"Emissions  (MTCH4)",null,"Emissions  (MTCO2E)"]
[null,null,"Mines"]
[null,{"$f":"G360","v":2007},"Underground Mines",null,null,"+  ( ",null,"-",null," )  =",{"$f":"E363+G363-I363","v":0},"=",{"$f":"K363*1000000*ft3_g*g_mt","v":0},"=",{"$f":"(M363*CH4GWP)","v":0}]
[null,{"$f":"B363","v":2007}]
[null,{"$f":"B364","v":2007},null,null,"Surface Coal Production ('000 short tons)",null,"Basin-specific EF (ft3/short ton)",null,"Emissions  ('000 ft3 CH4)",null,"Emissions  (MTCH4)",null,"Emissions  (MTCO2E)"]
[null,2007,"Surface Mines",{"$f":"VLOOKUP(VLOOKUP(constants!$K$1,coalbasins,5,FALSE),'Coal codes'!$I$27:$J$40,2,FALSE)","v":"---"},null,"x",{"$f":"Control!$C$13","v":0},"=",{"$f":"E366*G366","v":0},"=",{"$f":"I366*ft3_g*g_mt*1000","v":0},"=",{"$f":"(K366*CH4GWP)","v":0}]
[null,2007,null,{"$f":"VLOOKUP(VLOOKUP(constants!$K$1,coalbasins,6,FALSE),'Coal codes'!$I$27:$J$40,2,FALSE)","v":"---"},null,"x",{"$f":"Control!$C$14","v":0},"=",{"$f":"IF(BasinNum=1,\"---\",E367*G367)","v":0},"=",{"$f":"IF(BasinNum=1,\"---\",I367*ft3_g*g_mt*1000)","v":0},"=",{"$f":"IF(BasinNum=1,\"---\",(K367*CH4GWP))","v":0}]
[null,2007]
[null,2007,"Post-Mining Activity",null,"Coal Production ('000 short tons)",null,"Basin- & Mine-specific EF (ft3/short ton)",null,"Emissions  ('000 ft3 CH4)",null,"Emissions  (MTCH4)",null,"Emissions  (MTCO2E)"]
[null,2007,"Underground Mines",{"$f":"VLOOKUP(VLOOKUP(constants!$K$1,coalbasins,3,FALSE),'Coal codes'!$I$5:$J$23,2,FALSE)","v":"---"},null,"x",{"$f":"Control!$C$18","v":0},"=",{"$f":"E370*G370","v":0},"=",{"$f":"I370*ft3_g*g_mt*1000","v":0},"=",{"$f":"(K370*CH4GWP)","v":0}]
[null,2007,null,{"$f":"VLOOKUP(VLOOKUP(constants!$K$1,coalbasins,4,FALSE),'Coal codes'!$I$5:$J$23,2,FALSE)","v":"---"},null,"x",{"$f":"Control!$C$19","v":0},"=",{"$f":"IF(BasinNum=1,\"---\",E371*G371)","v":0},"=",{"$f":"IF(BasinNum=1,\"---\",I371*ft3_g*g_mt*1000)","v":0},"=",{"$f":"IF(BasinNum=1,\"---\",(K371*CH4GWP))","v":0}]
[null,2007,"Surface Mines",{"$f":"VLOOKUP(VLOOKUP(constants!$K$1,coalbasins,5,FALSE),'Coal codes'!$I$27:$J$40,2,FALSE)","v":"---"},null,"x",{"$f":"Control!$C$21","v":0},"=",{"$f":"E372*G372","v":0},"=",{"$f":"I372*ft3_g*g_mt*1000","v":0},"=",{"$f":"(K372*CH4GWP)","v":0}]
[null,2007,null,{"$f":"VLOOKUP(VLOOKUP(constants!$K$1,coalbasins,6,FALSE),'Coal codes'!$I$27:$J$40,2,FALSE)","v":"---"},null,"x",{"$f":"Control!$C$22","v":0},"=",{"$f":"IF(BasinNum=1,\"---\",E373*G373)","v":0},"=",{"$f":"IF(BasinNum=1,\"---\",I373*ft3_g*g_mt*1000)","v":0},"=",{"$f":"IF(BasinNum=1,\"---\",(K373*CH4GWP))","v":0}]
[null,2007,"Post-Mining Total",null,null,null,null,null,{"$f":"SUM(I370:I373)","v":0},"=",{"$f":"SUM(K370:K373)","v":0},"=",{"$f":"SUM(M370:M373)","v":0}]
[]
[null,null,"Total Coal Mining","(MTCO2E)",{"$f":"SUM(E377:E379)","v":0}]
[null,null,null,"Underground Mines",{"$f":"O363","v":0}]
[null,null,null,"Surface Mines",{"$f":"SUM(M366:M367)","v":0}]
[null,null,null,"Post-Mining Activity",{"$f":"M374","v":0}]
[]
[null,null,"Coal Mining",null,null,null,2008]
[null,null,"Emissions from:","Coal Basin(s) (if applicable)","Measured Ventilation Emissions (mmcf)",null,"Degasification System Emissions (mmcf)",null,"Methane Recovered from Degasification Systems and Used for Energy (mmcf)",null,"Emissions       (mmcf CH4)",null,"Emissions  (MTCH4)",null,"Emissions  (MTCO2E)"]
[null,null,"Mines"]
[null,{"$f":"G381","v":2008},"Underground Mines",null,null,"+  ( ",null,"-",null," )  =",{"$f":"E384+G384-I384","v":0},"=",{"$f":"K384*1000000*ft3_g*g_mt","v":0},"=",{"$f":"(M384*CH4GWP)","v":0}]
[null,{"$f":"B384","v":2008}]
[null,{"$f":"B385","v":2008},null,null,"Surface Coal Production ('000 short tons)",null,"Basin-specific EF (ft3/short ton)",null,"Emissions  ('000 ft3 CH4)",null,"Emissions  (MTCH4)",null,"Emissions  (MTCO2E)"]
[null,2008,"Surface Mines",{"$f":"VLOOKUP(VLOOKUP(constants!$K$1,coalbasins,5,FALSE),'Coal codes'!$I$27:$J$40,2,FALSE)","v":"---"},null,"x",{"$f":"Control!$C$13","v":0},"=",{"$f":"E387*G387","v":0},"=",{"$f":"I387*ft3_g*g_mt*1000","v":0},"=",{"$f":"(K387*CH4GWP)","v":0}]
[null,2008,null,{"$f":"VLOOKUP(VLOOKUP(constants!$K$1,coalbasins,6,FALSE),'Coal codes'!$I$27:$J$40,2,FALSE)","v":"---"},null,"x",{"$f":"Control!$C$14","v":0},"=",{"$f":"IF(BasinNum=1,\"---\",E388*G388)","v":0},"=",{"$f":"IF(BasinNum=1,\"---\",I388*ft3_g*g_mt*1000)","v":0},"=",{"$f":"IF(BasinNum=1,\"---\",(K388*CH4GWP))","v":0}]
[null,2008]
[null,2008,"Post-Mining Activity",null,"Coal Production ('000 short tons)",null,"Basin- & Mine-specific EF (ft3/short ton)",null,"Emissions  ('000 ft3 CH4)",null,"Emissions  (MTCH4)",null,"Emissions  (MTCO2E)"]
[null,2008,"Underground Mines",{"$f":"VLOOKUP(VLOOKUP(constants!$K$1,coalbasins,3,FALSE),'Coal codes'!$I$5:$J$23,2,FALSE)","v":"---"},null,"x",{"$f":"Control!$C$18","v":0},"=",{"$f":"E391*G391","v":0},"=",{"$f":"I391*ft3_g*g_mt*1000","v":0},"=",{"$f":"(K391*CH4GWP)","v":0}]
[null,2008,null,{"$f":"VLOOKUP(VLOOKUP(constants!$K$1,coalbasins,4,FALSE),'Coal codes'!$I$5:$J$23,2,FALSE)","v":"---"},null,"x",{"$f":"Control!$C$19","v":0},"=",{"$f":"IF(BasinNum=1,\"---\",E392*G392)","v":0},"=",{"$f":"IF(BasinNum=1,\"---\",I392*ft3_g*g_mt*1000)","v":0},"=",{"$f":"IF(BasinNum=1,\"---\",(K392*CH4GWP))","v":0}]
[null,2008,"Surface Mines",{"$f":"VLOOKUP(VLOOKUP(constants!$K$1,coalbasins,5,FALSE),'Coal codes'!$I$27:$J$40,2,FALSE)","v":"---"},null,"x",{"$f":"Control!$C$21","v":0},"=",{"$f":"E393*G393","v":0},"=",{"$f":"I393*ft3_g*g_mt*1000","v":0},"=",{"$f":"(K393*CH4GWP)","v":0}]
[null,2008,null,{"$f":"VLOOKUP(VLOOKUP(constants!$K$1,coalbasins,6,FALSE),'Coal codes'!$I$27:$J$40,2,FALSE)","v":"---"},null,"x",{"$f":"Control!$C$22","v":0},"=",{"$f":"IF(BasinNum=1,\"---\",E394*G394)","v":0},"=",{"$f":"IF(BasinNum=1,\"---\",I394*ft3_g*g_mt*1000)","v":0},"=",{"$f":"IF(BasinNum=1,\"---\",(K394*CH4GWP))","v":0}]
[null,2008,"Post-Mining Total",null,null,null,null,null,{"$f":"SUM(I391:I394)","v":0},"=",{"$f":"SUM(K391:K394)","v":0},"=",{"$f":"SUM(M391:M394)","v":0}]
[]
[null,null,"Total Coal Mining","(MTCO2E)",{"$f":"SUM(E398:E400)","v":0}]
[null,null,null,"Underground Mines",{"$f":"O384","v":0}]
[null,null,null,"Surface Mines",{"$f":"SUM(M387:M388)","v":0}]
[null,null,null,"Post-Mining Activity",{"$f":"M395","v":0}]
[]
[null,null,"Coal Mining",null,null,null,2009]
[null,null,"Emissions from:","Coal Basin(s) (if applicable)","Measured Ventilation Emissions (mmcf)",null,"Degasification System Emissions (mmcf)",null,"Methane Recovered from Degasification Systems and Used for Energy (mmcf)",null,"Emissions       (mmcf CH4)",null,"Emissions  (MTCH4)",null,"Emissions  (MTCO2E)"]
[null,null,"Mines"]
[null,{"$f":"G402","v":2009},"Underground Mines",null,null,"+  ( ",null,"-",null," )  =",{"$f":"E405+G405-I405","v":0},"=",{"$f":"K405*1000000*ft3_g*g_mt","v":0},"=",{"$f":"(M405*CH4GWP)","v":0}]
[null,{"$f":"B405","v":2009}]
[null,{"$f":"B406","v":2009},null,null,"Surface Coal Production ('000 short tons)",null,"Basin-specific EF (ft3/short ton)",null,"Emissions  ('000 ft3 CH4)",null,"Emissions  (MTCH4)",null,"Emissions  (MTCO2E)"]
[null,2009,"Surface Mines",{"$f":"VLOOKUP(VLOOKUP(constants!$K$1,coalbasins,5,FALSE),'Coal codes'!$I$27:$J$40,2,FALSE)","v":"---"},null,"x",{"$f":"Control!$C$13","v":0},"=",{"$f":"E408*G408","v":0},"=",{"$f":"I408*ft3_g*g_mt*1000","v":0},"=",{"$f":"(K408*CH4GWP)","v":0}]
[null,2009,null,{"$f":"VLOOKUP(VLOOKUP(constants!$K$1,coalbasins,6,FALSE),'Coal codes'!$I$27:$J$40,2,FALSE)","v":"---"},null,"x",{"$f":"Control!$C$14","v":0},"=",{"$f":"IF(BasinNum=1,\"---\",E409*G409)","v":0},"=",{"$f":"IF(BasinNum=1,\"---\",I409*ft3_g*g_mt*1000)","v":0},"=",{"$f":"IF(BasinNum=1,\"---\",(K409*CH4GWP))","v":0}]
[null,2009]
[null,2009,"Post-Mining Activity",null,"Coal Production ('000 short tons)",null,"Basin- & Mine-specific EF (ft3/short ton)",null,"Emissions  ('000 ft3 CH4)",null,"Emissions  (MTCH4)",null,"Emissions  (MTCO2E)"]
[null,2009,"Underground Mines",{"$f":"VLOOKUP(VLOOKUP(constants!$K$1,coalbasins,3,FALSE),'Coal codes'!$I$5:$J$23,2,FALSE)","v":"---"},null,"x",{"$f":"Control!$C$18","v":0},"=",{"$f":"E412*G412","v":0},"=",{"$f":"I412*ft3_g*g_mt*1000","v":0},"=",{"$f":"(K412*CH4GWP)","v":0}]
[null,2009,null,{"$f":"VLOOKUP(VLOOKUP(constants!$K$1,coalbasins,4,FALSE),'Coal codes'!$I$5:$J$23,2,FALSE)","v":"---"},null,"x",{"$f":"Control!$C$19","v":0},"=",{"$f":"IF(BasinNum=1,\"---\",E413*G413)","v":0},"=",{"$f":"IF(BasinNum=1,\"---\",I413*ft3_g*g_mt*1000)","v":0},"=",{"$f":"IF(BasinNum=1,\"---\",(K413*CH4GWP))","v":0}]
[null,2009,"Surface Mines",{"$f":"VLOOKUP(VLOOKUP(constants!$K$1,coalbasins,5,FALSE),'Coal codes'!$I$27:$J$40,2,FALSE)","v":"---"},null,"x",{"$f":"Control!$C$21","v":0},"=",{"$f":"E414*G414","v":0},"=",{"$f":"I414*ft3_g*g_mt*1000","v":0},"=",{"$f":"(K414*CH4GWP)","v":0}]
[null,2009,null,{"$f":"VLOOKUP(VLOOKUP(constants!$K$1,coalbasins,6,FALSE),'Coal codes'!$I$27:$J$40,2,FALSE)","v":"---"},null,"x",{"$f":"Control!$C$22","v":0},"=",{"$f":"IF(BasinNum=1,\"---\",E415*G415)","v":0},"=",{"$f":"IF(BasinNum=1,\"---\",I415*ft3_g*g_mt*1000)","v":0},"=",{"$f":"IF(BasinNum=1,\"---\",(K415*CH4GWP))","v":0}]
[null,2009,"Post-Mining Total",null,null,null,null,null,{"$f":"SUM(I412:I415)","v":0},"=",{"$f":"SUM(K412:K415)","v":0},"=",{"$f":"SUM(M412:M415)","v":0}]
[]
[null,null,"Total Coal Mining","(MTCO2E)",{"$f":"SUM(E419:E421)","v":0}]
[null,null,null,"Underground Mines",{"$f":"O405","v":0}]
[null,null,null,"Surface Mines",{"$f":"SUM(M408:M409)","v":0}]
[null,null,null,"Post-Mining Activity",{"$f":"M416","v":0}]
[]
[null,null,"Coal Mining",null,null,null,2010]
[null,null,"Emissions from:","Coal Basin(s) (if applicable)","Measured Ventilation Emissions (mmcf)",null,"Degasification System Emissions (mmcf)",null,"Methane Recovered from Degasification Systems and Used for Energy (mmcf)",null,"Emissions       (mmcf CH4)",null,"Emissions  (MTCH4)",null,"Emissions  (MTCO2E)"]
[null,null,"Mines"]
[null,{"$f":"G423","v":2010},"Underground Mines",null,null,"+  ( ",null,"-",null," )  =",{"$f":"E426+G426-I426","v":0},"=",{"$f":"K426*1000000*ft3_g*g_mt","v":0},"=",{"$f":"(M426*CH4GWP)","v":0}]
[null,{"$f":"B426","v":2010}]
[null,{"$f":"B427","v":2010},null,null,"Surface Coal Production ('000 short tons)",null,"Basin-specific EF (ft3/short ton)",null,"Emissions  ('000 ft3 CH4)",null,"Emissions  (MTCH4)",null,"Emissions  (MTCO2E)"]
[null,2010,"Surface Mines",{"$f":"VLOOKUP(VLOOKUP(constants!$K$1,coalbasins,5,FALSE),'Coal codes'!$I$27:$J$40,2,FALSE)","v":"---"},null,"x",{"$f":"Control!$C$13","v":0},"=",{"$f":"E429*G429","v":0},"=",{"$f":"I429*ft3_g*g_mt*1000","v":0},"=",{"$f":"(K429*CH4GWP)","v":0}]
[null,2010,null,{"$f":"VLOOKUP(VLOOKUP(constants!$K$1,coalbasins,6,FALSE),'Coal codes'!$I$27:$J$40,2,FALSE)","v":"---"},null,"x",{"$f":"Control!$C$14","v":0},"=",{"$f":"IF(BasinNum=1,\"---\",E430*G430)","v":0},"=",{"$f":"IF(BasinNum=1,\"---\",I430*ft3_g*g_mt*1000)","v":0},"=",{"$f":"IF(BasinNum=1,\"---\",(K430*CH4GWP))","v":0}]
[null,2010]
[null,2010,"Post-Mining Activity",null,"Coal Production ('000 short tons)",null,"Basin- & Mine-specific EF (ft3/short ton)",null,"Emissions  ('000 ft3 CH4)",null,"Emissions  (MTCH4)",null,"Emissions  (MTCO2E)"]
[null,2010,"Underground Mines",{"$f":"VLOOKUP(VLOOKUP(constants!$K$1,coalbasins,3,FALSE),'Coal codes'!$I$5:$J$23,2,FALSE)","v":"---"},null,"x",{"$f":"Control!$C$18","v":0},"=",{"$f":"E433*G433","v":0},"=",{"$f":"I433*ft3_g*g_mt*1000","v":0},"=",{"$f":"(K433*CH4GWP)","v":0}]
[null,2010,null,{"$f":"VLOOKUP(VLOOKUP(constants!$K$1,coalbasins,4,FALSE),'Coal codes'!$I$5:$J$23,2,FALSE)","v":"---"},null,"x",{"$f":"Control!$C$19","v":0},"=",{"$f":"IF(BasinNum=1,\"---\",E434*G434)","v":0},"=",{"$f":"IF(BasinNum=1,\"---\",I434*ft3_g*g_mt*1000)","v":0},"=",{"$f":"IF(BasinNum=1,\"---\",(K434*CH4GWP))","v":0}]
[null,2010,"Surface Mines",{"$f":"VLOOKUP(VLOOKUP(constants!$K$1,coalbasins,5,FALSE),'Coal codes'!$I$27:$J$40,2,FALSE)","v":"---"},null,"x",{"$f":"Control!$C$21","v":0},"=",{"$f":"E435*G435","v":0},"=",{"$f":"I435*ft3_g*g_mt*1000","v":0},"=",{"$f":"(K435*CH4GWP)","v":0}]
[null,2010,null,{"$f":"VLOOKUP(VLOOKUP(constants!$K$1,coalbasins,6,FALSE),'Coal codes'!$I$27:$J$40,2,FALSE)","v":"---"},null,"x",{"$f":"Control!$C$22","v":0},"=",{"$f":"IF(BasinNum=1,\"---\",E436*G436)","v":0},"=",{"$f":"IF(BasinNum=1,\"---\",I436*ft3_g*g_mt*1000)","v":0},"=",{"$f":"IF(BasinNum=1,\"---\",(K436*CH4GWP))","v":0}]
[null,2010,"Post-Mining Total",null,null,null,null,null,{"$f":"SUM(I433:I436)","v":0},"=",{"$f":"SUM(K433:K436)","v":0},"=",{"$f":"SUM(M433:M436)","v":0}]
[]
[null,null,"Total Coal Mining","(MTCO2E)",{"$f":"SUM(E440:E442)","v":0}]
[null,null,null,"Underground Mines",{"$f":"O426","v":0}]
[null,null,null,"Surface Mines",{"$f":"SUM(M429:M430)","v":0}]
[null,null,null,"Post-Mining Activity",{"$f":"M437","v":0}]
[]
[null,null,"Coal Mining",null,null,null,2011]
[null,null,"Emissions from:","Coal Basin(s) (if applicable)","Measured Ventilation Emissions (mmcf)",null,"Degasification System Emissions (mmcf)",null,"Methane Recovered from Degasification Systems and Used for Energy (mmcf)",null,"Emissions       (mmcf CH4)",null,"Emissions  (MTCH4)",null,"Emissions  (MTCO2E)"]
[null,null,"Mines"]
[null,{"$f":"G444","v":2011},"Underground Mines",null,null,"+  ( ",null,"-",null," )  =",{"$f":"E447+G447-I447","v":0},"=",{"$f":"K447*1000000*ft3_g*g_mt","v":0},"=",{"$f":"(M447*CH4GWP)","v":0}]
[null,{"$f":"B447","v":2011}]
[null,{"$f":"B448","v":2011},null,null,"Surface Coal Production ('000 short tons)",null,"Basin-specific EF (ft3/short ton)",null,"Emissions  ('000 ft3 CH4)",null,"Emissions  (MTCH4)",null,"Emissions  (MTCO2E)"]
[null,2011,"Surface Mines",{"$f":"VLOOKUP(VLOOKUP(constants!$K$1,coalbasins,5,FALSE),'Coal codes'!$I$27:$J$40,2,FALSE)","v":"---"},null,"x",{"$f":"Control!$C$13","v":0},"=",{"$f":"E450*G450","v":0},"=",{"$f":"I450*ft3_g*g_mt*1000","v":0},"=",{"$f":"(K450*CH4GWP)","v":0}]
[null,2011,null,{"$f":"VLOOKUP(VLOOKUP(constants!$K$1,coalbasins,6,FALSE),'Coal codes'!$I$27:$J$40,2,FALSE)","v":"---"},null,"x",{"$f":"Control!$C$14","v":0},"=",{"$f":"IF(BasinNum=1,\"---\",E451*G451)","v":0},"=",{"$f":"IF(BasinNum=1,\"---\",I451*ft3_g*g_mt*1000)","v":0},"=",{"$f":"IF(BasinNum=1,\"---\",(K451*CH4GWP))","v":0}]
[null,2011]
[null,2011,"Post-Mining Activity",null,"Coal Production ('000 short tons)",null,"Basin- & Mine-specific EF (ft3/short ton)",null,"Emissions  ('000 ft3 CH4)",null,"Emissions  (MTCH4)",null,"Emissions  (MTCO2E)"]
[null,2011,"Underground Mines",{"$f":"VLOOKUP(VLOOKUP(constants!$K$1,coalbasins,3,FALSE),'Coal codes'!$I$5:$J$23,2,FALSE)","v":"---"},null,"x",{"$f":"Control!$C$18","v":0},"=",{"$f":"E454*G454","v":0},"=",{"$f":"I454*ft3_g*g_mt*1000","v":0},"=",{"$f":"(K454*CH4GWP)","v":0}]
[null,2011,null,{"$f":"VLOOKUP(VLOOKUP(constants!$K$1,coalbasins,4,FALSE),'Coal codes'!$I$5:$J$23,2,FALSE)","v":"---"},null,"x",{"$f":"Control!$C$19","v":0},"=",{"$f":"IF(BasinNum=1,\"---\",E455*G455)","v":0},"=",{"$f":"IF(BasinNum=1,\"---\",I455*ft3_g*g_mt*1000)","v":0},"=",{"$f":"IF(BasinNum=1,\"---\",(K455*CH4GWP))","v":0}]
[null,2011,"Surface Mines",{"$f":"VLOOKUP(VLOOKUP(constants!$K$1,coalbasins,5,FALSE),'Coal codes'!$I$27:$J$40,2,FALSE)","v":"---"},null,"x",{"$f":"Control!$C$21","v":0},"=",{"$f":"E456*G456","v":0},"=",{"$f":"I456*ft3_g*g_mt*1000","v":0},"=",{"$f":"(K456*CH4GWP)","v":0}]
[null,2011,null,{"$f":"VLOOKUP(VLOOKUP(constants!$K$1,coalbasins,6,FALSE),'Coal codes'!$I$27:$J$40,2,FALSE)","v":"---"},null,"x",{"$f":"Control!$C$22","v":0},"=",{"$f":"IF(BasinNum=1,\"---\",E457*G457)","v":0},"=",{"$f":"IF(BasinNum=1,\"---\",I457*ft3_g*g_mt*1000)","v":0},"=",{"$f":"IF(BasinNum=1,\"---\",(K457*CH4GWP))","v":0}]
[null,2011,"Post-Mining Total",null,null,null,null,null,{"$f":"SUM(I454:I457)","v":0},"=",{"$f":"SUM(K454:K457)","v":0},"=",{"$f":"SUM(M454:M457)","v":0}]
[]
[null,null,"Total Coal Mining","(MTCO2E)",{"$f":"SUM(E461:E463)","v":0}]
[null,null,null,"Underground Mines",{"$f":"O447","v":0}]
[null,null,null,"Surface Mines",{"$f":"SUM(M450:M451)","v":0}]
[null,null,null,"Post-Mining Activity",{"$f":"M458","v":0}]
[]
[null,null,"Coal Mining",null,null,null,2012]
[null,null,"Emissions from:","Coal Basin(s) (if applicable)","Measured Ventilation Emissions (mmcf)",null,"Degasification System Emissions (mmcf)",null,"Methane Recovered from Degasification Systems and Used for Energy (mmcf)",null,"Emissions       (mmcf CH4)",null,"Emissions  (MTCH4)",null,"Emissions  (MTCO2E)"]
[null,null,"Mines"]
[null,{"$f":"G465","v":2012},"Underground Mines",null,null,"+  ( ",null,"-",null," )  =",{"$f":"E468+G468-I468","v":0},"=",{"$f":"K468*1000000*ft3_g*g_mt","v":0},"=",{"$f":"(M468*CH4GWP)","v":0}]
[null,{"$f":"B468","v":2012}]
[null,{"$f":"B469","v":2012},null,null,"Surface Coal Production ('000 short tons)",null,"Basin-specific EF (ft3/short ton)",null,"Emissions  ('000 ft3 CH4)",null,"Emissions  (MTCH4)",null,"Emissions  (MTCO2E)"]
[null,2012,"Surface Mines",{"$f":"VLOOKUP(VLOOKUP(constants!$K$1,coalbasins,5,FALSE),'Coal codes'!$I$27:$J$40,2,FALSE)","v":"---"},null,"x",{"$f":"Control!$C$13","v":0},"=",{"$f":"E471*G471","v":0},"=",{"$f":"I471*ft3_g*g_mt*1000","v":0},"=",{"$f":"(K471*CH4GWP)","v":0}]
[null,2012,null,{"$f":"VLOOKUP(VLOOKUP(constants!$K$1,coalbasins,6,FALSE),'Coal codes'!$I$27:$J$40,2,FALSE)","v":"---"},null,"x",{"$f":"Control!$C$14","v":0},"=",{"$f":"IF(BasinNum=1,\"---\",E472*G472)","v":0},"=",{"$f":"IF(BasinNum=1,\"---\",I472*ft3_g*g_mt*1000)","v":0},"=",{"$f":"IF(BasinNum=1,\"---\",(K472*CH4GWP))","v":0}]
[null,2012]
[null,2012,"Post-Mining Activity",null,"Coal Production ('000 short tons)",null,"Basin- & Mine-specific EF (ft3/short ton)",null,"Emissions  ('000 ft3 CH4)",null,"Emissions  (MTCH4)",null,"Emissions  (MTCO2E)"]
[null,2012,"Underground Mines",{"$f":"VLOOKUP(VLOOKUP(constants!$K$1,coalbasins,3,FALSE),'Coal codes'!$I$5:$J$23,2,FALSE)","v":"---"},null,"x",{"$f":"Control!$C$18","v":0},"=",{"$f":"E475*G475","v":0},"=",{"$f":"I475*ft3_g*g_mt*1000","v":0},"=",{"$f":"(K475*CH4GWP)","v":0}]
[null,2012,null,{"$f":"VLOOKUP(VLOOKUP(constants!$K$1,coalbasins,4,FALSE),'Coal codes'!$I$5:$J$23,2,FALSE)","v":"---"},null,"x",{"$f":"Control!$C$19","v":0},"=",{"$f":"IF(BasinNum=1,\"---\",E476*G476)","v":0},"=",{"$f":"IF(BasinNum=1,\"---\",I476*ft3_g*g_mt*1000)","v":0},"=",{"$f":"IF(BasinNum=1,\"---\",(K476*CH4GWP))","v":0}]
[null,2012,"Surface Mines",{"$f":"VLOOKUP(VLOOKUP(constants!$K$1,coalbasins,5,FALSE),'Coal codes'!$I$27:$J$40,2,FALSE)","v":"---"},null,"x",{"$f":"Control!$C$21","v":0},"=",{"$f":"E477*G477","v":0},"=",{"$f":"I477*ft3_g*g_mt*1000","v":0},"=",{"$f":"(K477*CH4GWP)","v":0}]
[null,2012,null,{"$f":"VLOOKUP(VLOOKUP(constants!$K$1,coalbasins,6,FALSE),'Coal codes'!$I$27:$J$40,2,FALSE)","v":"---"},null,"x",{"$f":"Control!$C$22","v":0},"=",{"$f":"IF(BasinNum=1,\"---\",E478*G478)","v":0},"=",{"$f":"IF(BasinNum=1,\"---\",I478*ft3_g*g_mt*1000)","v":0},"=",{"$f":"IF(BasinNum=1,\"---\",(K478*CH4GWP))","v":0}]
[null,2012,"Post-Mining Total",null,null,null,null,null,{"$f":"SUM(I475:I478)","v":0},"=",{"$f":"SUM(K475:K478)","v":0},"=",{"$f":"SUM(M475:M478)","v":0}]
[]
[null,null,"Total Coal Mining","(MTCO2E)",{"$f":"SUM(E482:E484)","v":0}]
[null,null,null,"Underground Mines",{"$f":"O468","v":0}]
[null,null,null,"Surface Mines",{"$f":"SUM(M471:M472)","v":0}]
[null,null,null,"Post-Mining Activity",{"$f":"M479","v":0}]
[]
[null,null,"Coal Mining",null,null,null,2013]
[null,null,"Emissions from:","Coal Basin(s) (if applicable)","Measured Ventilation Emissions (mmcf)",null,"Degasification System Emissions (mmcf)",null,"Methane Recovered from Degasification Systems and Used for Energy (mmcf)",null,"Emissions       (mmcf CH4)",null,"Emissions  (MTCH4)",null,"Emissions  (MTCO2E)"]
[null,null,"Mines"]
[null,{"$f":"G486","v":2013},"Underground Mines",null,null,"+  ( ",null,"-",null," )  =",{"$f":"E489+G489-I489","v":0},"=",{"$f":"K489*1000000*ft3_g*g_mt","v":0},"=",{"$f":"(M489*CH4GWP)","v":0}]
[null,{"$f":"B489","v":2013}]
[null,{"$f":"B490","v":2013},null,null,"Surface Coal Production ('000 short tons)",null,"Basin-specific EF (ft3/short ton)",null,"Emissions  ('000 ft3 CH4)",null,"Emissions  (MTCH4)",null,"Emissions  (MTCO2E)"]
[null,2013,"Surface Mines",{"$f":"VLOOKUP(VLOOKUP(constants!$K$1,coalbasins,5,FALSE),'Coal codes'!$I$27:$J$40,2,FALSE)","v":"---"},null,"x",{"$f":"Control!$C$13","v":0},"=",{"$f":"E492*G492","v":0},"=",{"$f":"I492*ft3_g*g_mt*1000","v":0},"=",{"$f":"(K492*CH4GWP)","v":0}]
[null,2013,null,{"$f":"VLOOKUP(VLOOKUP(constants!$K$1,coalbasins,6,FALSE),'Coal codes'!$I$27:$J$40,2,FALSE)","v":"---"},null,"x",{"$f":"Control!$C$14","v":0},"=",{"$f":"IF(BasinNum=1,\"---\",E493*G493)","v":0},"=",{"$f":"IF(BasinNum=1,\"---\",I493*ft3_g*g_mt*1000)","v":0},"=",{"$f":"IF(BasinNum=1,\"---\",(K493*CH4GWP))","v":0}]
[null,2013]
[null,2013,"Post-Mining Activity",null,"Coal Production ('000 short tons)",null,"Basin- & Mine-specific EF (ft3/short ton)",null,"Emissions  ('000 ft3 CH4)",null,"Emissions  (MTCH4)",null,"Emissions  (MTCO2E)"]
[null,2013,"Underground Mines",{"$f":"VLOOKUP(VLOOKUP(constants!$K$1,coalbasins,3,FALSE),'Coal codes'!$I$5:$J$23,2,FALSE)","v":"---"},null,"x",{"$f":"Control!$C$18","v":0},"=",{"$f":"E496*G496","v":0},"=",{"$f":"I496*ft3_g*g_mt*1000","v":0},"=",{"$f":"(K496*CH4GWP)","v":0}]
[null,2013,null,{"$f":"VLOOKUP(VLOOKUP(constants!$K$1,coalbasins,4,FALSE),'Coal codes'!$I$5:$J$23,2,FALSE)","v":"---"},null,"x",{"$f":"Control!$C$19","v":0},"=",{"$f":"IF(BasinNum=1,\"---\",E497*G497)","v":0},"=",{"$f":"IF(BasinNum=1,\"---\",I497*ft3_g*g_mt*1000)","v":0},"=",{"$f":"IF(BasinNum=1,\"---\",(K497*CH4GWP))","v":0}]
[null,2013,"Surface Mines",{"$f":"VLOOKUP(VLOOKUP(constants!$K$1,coalbasins,5,FALSE),'Coal codes'!$I$27:$J$40,2,FALSE)","v":"---"},null,"x",{"$f":"Control!$C$21","v":0},"=",{"$f":"E498*G498","v":0},"=",{"$f":"I498*ft3_g*g_mt*1000","v":0},"=",{"$f":"(K498*CH4GWP)","v":0}]
[null,2013,null,{"$f":"VLOOKUP(VLOOKUP(constants!$K$1,coalbasins,6,FALSE),'Coal codes'!$I$27:$J$40,2,FALSE)","v":"---"},null,"x",{"$f":"Control!$C$22","v":0},"=",{"$f":"IF(BasinNum=1,\"---\",E499*G499)","v":0},"=",{"$f":"IF(BasinNum=1,\"---\",I499*ft3_g*g_mt*1000)","v":0},"=",{"$f":"IF(BasinNum=1,\"---\",(K499*CH4GWP))","v":0}]
[null,2013,"Post-Mining Total",null,null,null,null,null,{"$f":"SUM(I496:I499)","v":0},"=",{"$f":"SUM(K496:K499)","v":0},"=",{"$f":"SUM(M496:M499)","v":0}]
[]
[null,null,"Total Coal Mining","(MTCO2E)",{"$f":"SUM(E503:E505)","v":0}]
[null,null,null,"Underground Mines",{"$f":"O489","v":0}]
[null,null,null,"Surface Mines",{"$f":"SUM(M492:M493)","v":0}]
[null,null,null,"Post-Mining Activity",{"$f":"M500","v":0}]
[]
[null,null,"Coal Mining",null,null,null,2014]
[null,null,"Emissions from:","Coal Basin(s) (if applicable)","Measured Ventilation Emissions (mmcf)",null,"Degasification System Emissions (mmcf)",null,"Methane Recovered from Degasification Systems and Used for Energy (mmcf)",null,"Emissions       (mmcf CH4)",null,"Emissions  (MTCH4)",null,"Emissions  (MTCO2E)"]
[null,null,"Mines"]
[null,{"$f":"G507","v":2014},"Underground Mines",null,null,"+  ( ",null,"-",null," )  =",{"$f":"E510+G510-I510","v":0},"=",{"$f":"K510*1000000*ft3_g*g_mt","v":0},"=",{"$f":"(M510*CH4GWP)","v":0}]
[null,{"$f":"B510","v":2014}]
[null,{"$f":"B511","v":2014},null,null,"Surface Coal Production ('000 short tons)",null,"Basin-specific EF (ft3/short ton)",null,"Emissions  ('000 ft3 CH4)",null,"Emissions  (MTCH4)",null,"Emissions  (MTCO2E)"]
[null,2014,"Surface Mines",{"$f":"VLOOKUP(VLOOKUP(constants!$K$1,coalbasins,5,FALSE),'Coal codes'!$I$27:$J$40,2,FALSE)","v":"---"},null,"x",{"$f":"Control!$C$13","v":0},"=",{"$f":"E513*G513","v":0},"=",{"$f":"I513*ft3_g*g_mt*1000","v":0},"=",{"$f":"(K513*CH4GWP)","v":0}]
[null,2014,null,{"$f":"VLOOKUP(VLOOKUP(constants!$K$1,coalbasins,6,FALSE),'Coal codes'!$I$27:$J$40,2,FALSE)","v":"---"},null,"x",{"$f":"Control!$C$14","v":0},"=",{"$f":"IF(BasinNum=1,\"---\",E514*G514)","v":0},"=",{"$f":"IF(BasinNum=1,\"---\",I514*ft3_g*g_mt*1000)","v":0},"=",{"$f":"IF(BasinNum=1,\"---\",(K514*CH4GWP))","v":0}]
[null,2014]
[null,2014,"Post-Mining Activity",null,"Coal Production ('000 short tons)",null,"Basin- & Mine-specific EF (ft3/short ton)",null,"Emissions  ('000 ft3 CH4)",null,"Emissions  (MTCH4)",null,"Emissions  (MTCO2E)"]
[null,2014,"Underground Mines",{"$f":"VLOOKUP(VLOOKUP(constants!$K$1,coalbasins,3,FALSE),'Coal codes'!$I$5:$J$23,2,FALSE)","v":"---"},null,"x",{"$f":"Control!$C$18","v":0},"=",{"$f":"E517*G517","v":0},"=",{"$f":"I517*ft3_g*g_mt*1000","v":0},"=",{"$f":"(K517*CH4GWP)","v":0}]
[null,2014,null,{"$f":"VLOOKUP(VLOOKUP(constants!$K$1,coalbasins,4,FALSE),'Coal codes'!$I$5:$J$23,2,FALSE)","v":"---"},null,"x",{"$f":"Control!$C$19","v":0},"=",{"$f":"IF(BasinNum=1,\"---\",E518*G518)","v":0},"=",{"$f":"IF(BasinNum=1,\"---\",I518*ft3_g*g_mt*1000)","v":0},"=",{"$f":"IF(BasinNum=1,\"---\",(K518*CH4GWP))","v":0}]
[null,2014,"Surface Mines",{"$f":"VLOOKUP(VLOOKUP(constants!$K$1,coalbasins,5,FALSE),'Coal codes'!$I$27:$J$40,2,FALSE)","v":"---"},null,"x",{"$f":"Control!$C$21","v":0},"=",{"$f":"E519*G519","v":0},"=",{"$f":"I519*ft3_g*g_mt*1000","v":0},"=",{"$f":"(K519*CH4GWP)","v":0}]
[null,2014,null,{"$f":"VLOOKUP(VLOOKUP(constants!$K$1,coalbasins,6,FALSE),'Coal codes'!$I$27:$J$40,2,FALSE)","v":"---"},null,"x",{"$f":"Control!$C$22","v":0},"=",{"$f":"IF(BasinNum=1,\"---\",E520*G520)","v":0},"=",{"$f":"IF(BasinNum=1,\"---\",I520*ft3_g*g_mt*1000)","v":0},"=",{"$f":"IF(BasinNum=1,\"---\",(K520*CH4GWP))","v":0}]
[null,2014,"Post-Mining Total",null,null,null,null,null,{"$f":"SUM(I517:I520)","v":0},"=",{"$f":"SUM(K517:K520)","v":0},"=",{"$f":"SUM(M517:M520)","v":0}]
[]
[null,null,"Total Coal Mining","(MTCO2E)",{"$f":"SUM(E524:E526)","v":0}]
[null,null,null,"Underground Mines",{"$f":"O510","v":0}]
[null,null,null,"Surface Mines",{"$f":"SUM(M513:M514)","v":0}]
[null,null,null,"Post-Mining Activity",{"$f":"M521","v":0}]
[]
[null,null,"Coal Mining",null,null,null,2015]
[null,null,"Emissions from:","Coal Basin(s) (if applicable)","Measured Ventilation Emissions (mmcf)",null,"Degasification System Emissions (mmcf)",null,"Methane Recovered from Degasification Systems and Used for Energy (mmcf)",null,"Emissions       (mmcf CH4)",null,"Emissions  (MTCH4)",null,"Emissions  (MTCO2E)"]
[null,null,"Mines"]
[null,{"$f":"G528","v":2015},"Underground Mines",null,null,"+  ( ",null,"-",null," )  =",{"$f":"E531+G531-I531","v":0},"=",{"$f":"K531*1000000*ft3_g*g_mt","v":0},"=",{"$f":"(M531*CH4GWP)","v":0}]
[null,{"$f":"B531","v":2015}]
[null,{"$f":"B532","v":2015},null,null,"Surface Coal Production ('000 short tons)",null,"Basin-specific EF (ft3/short ton)",null,"Emissions  ('000 ft3 CH4)",null,"Emissions  (MTCH4)",null,"Emissions  (MTCO2E)"]
[null,2015,"Surface Mines",{"$f":"VLOOKUP(VLOOKUP(constants!$K$1,coalbasins,5,FALSE),'Coal codes'!$I$27:$J$40,2,FALSE)","v":"---"},null,"x",{"$f":"Control!$C$13","v":0},"=",{"$f":"E534*G534","v":0},"=",{"$f":"I534*ft3_g*g_mt*1000","v":0},"=",{"$f":"(K534*CH4GWP)","v":0}]
[null,2015,null,{"$f":"VLOOKUP(VLOOKUP(constants!$K$1,coalbasins,6,FALSE),'Coal codes'!$I$27:$J$40,2,FALSE)","v":"---"},null,"x",{"$f":"Control!$C$14","v":0},"=",{"$f":"IF(BasinNum=1,\"---\",E535*G535)","v":0},"=",{"$f":"IF(BasinNum=1,\"---\",I535*ft3_g*g_mt*1000)","v":0},"=",{"$f":"IF(BasinNum=1,\"---\",(K535*CH4GWP))","v":0}]
[null,2015]
[null,2015,"Post-Mining Activity",null,"Coal Production ('000 short tons)",null,"Basin- & Mine-specific EF (ft3/short ton)",null,"Emissions  ('000 ft3 CH4)",null,"Emissions  (MTCH4)",null,"Emissions  (MTCO2E)"]
[null,2015,"Underground Mines",{"$f":"VLOOKUP(VLOOKUP(constants!$K$1,coalbasins,3,FALSE),'Coal codes'!$I$5:$J$23,2,FALSE)","v":"---"},null,"x",{"$f":"Control!$C$18","v":0},"=",{"$f":"E538*G538","v":0},"=",{"$f":"I538*ft3_g*g_mt*1000","v":0},"=",{"$f":"(K538*CH4GWP)","v":0}]
[null,2015,null,{"$f":"VLOOKUP(VLOOKUP(constants!$K$1,coalbasins,4,FALSE),'Coal codes'!$I$5:$J$23,2,FALSE)","v":"---"},null,"x",{"$f":"Control!$C$19","v":0},"=",{"$f":"IF(BasinNum=1,\"---\",E539*G539)","v":0},"=",{"$f":"IF(BasinNum=1,\"---\",I539*ft3_g*g_mt*1000)","v":0},"=",{"$f":"IF(BasinNum=1,\"---\",(K539*CH4GWP))","v":0}]
[null,2015,"Surface Mines",{"$f":"VLOOKUP(VLOOKUP(constants!$K$1,coalbasins,5,FALSE),'Coal codes'!$I$27:$J$40,2,FALSE)","v":"---"},null,"x",{"$f":"Control!$C$21","v":0},"=",{"$f":"E540*G540","v":0},"=",{"$f":"I540*ft3_g*g_mt*1000","v":0},"=",{"$f":"(K540*CH4GWP)","v":0}]
[null,2015,null,{"$f":"VLOOKUP(VLOOKUP(constants!$K$1,coalbasins,6,FALSE),'Coal codes'!$I$27:$J$40,2,FALSE)","v":"---"},null,"x",{"$f":"Control!$C$22","v":0},"=",{"$f":"IF(BasinNum=1,\"---\",E541*G541)","v":0},"=",{"$f":"IF(BasinNum=1,\"---\",I541*ft3_g*g_mt*1000)","v":0},"=",{"$f":"IF(BasinNum=1,\"---\",(K541*CH4GWP))","v":0}]
[null,2015,"Post-Mining Total",null,null,null,null,null,{"$f":"SUM(I538:I541)","v":0},"=",{"$f":"SUM(K538:K541)","v":0},"=",{"$f":"SUM(M538:M541)","v":0}]
[]
[null,null,"Total Coal Mining","(MTCO2E)",{"$f":"SUM(E545:E547)","v":0}]
[null,null,null,"Underground Mines",{"$f":"O531","v":0}]
[null,null,null,"Surface Mines",{"$f":"SUM(M534:M535)","v":0}]
[null,null,null,"Post-Mining Activity",{"$f":"M542","v":0}]
[]
[null,null,"Coal Mining",null,null,null,2016]
[null,null,"Emissions from:","Coal Basin(s) (if applicable)","Measured Ventilation Emissions (mmcf)",null,"Degasification System Emissions (mmcf)",null,"Methane Recovered from Degasification Systems and Used for Energy (mmcf)",null,"Emissions       (mmcf CH4)",null,"Emissions  (MTCH4)",null,"Emissions  (MTCO2E)"]
[null,null,"Mines"]
[null,{"$f":"G549","v":2016},"Underground Mines",null,null,"+  ( ",null,"-",null," )  =",{"$f":"E552+G552-I552","v":0},"=",{"$f":"K552*1000000*ft3_g*g_mt","v":0},"=",{"$f":"(M552*CH4GWP)","v":0}]
[null,{"$f":"B552","v":2016}]
[null,{"$f":"B553","v":2016},null,null,"Surface Coal Production ('000 short tons)",null,"Basin-specific EF (ft3/short ton)",null,"Emissions  ('000 ft3 CH4)",null,"Emissions  (MTCH4)",null,"Emissions  (MTCO2E)"]
[null,2016,"Surface Mines",{"$f":"VLOOKUP(VLOOKUP(constants!$K$1,coalbasins,5,FALSE),'Coal codes'!$I$27:$J$40,2,FALSE)","v":"---"},null,"x",{"$f":"Control!$C$13","v":0},"=",{"$f":"E555*G555","v":0},"=",{"$f":"I555*ft3_g*g_mt*1000","v":0},"=",{"$f":"(K555*CH4GWP)","v":0}]
[null,2016,null,{"$f":"VLOOKUP(VLOOKUP(constants!$K$1,coalbasins,6,FALSE),'Coal codes'!$I$27:$J$40,2,FALSE)","v":"---"},null,"x",{"$f":"Control!$C$14","v":0},"=",{"$f":"IF(BasinNum=1,\"---\",E556*G556)","v":0},"=",{"$f":"IF(BasinNum=1,\"---\",I556*ft3_g*g_mt*1000)","v":0},"=",{"$f":"IF(BasinNum=1,\"---\",(K556*CH4GWP))","v":0}]
[null,2016]
[null,2016,"Post-Mining Activity",null,"Coal Production ('000 short tons)",null,"Basin- & Mine-specific EF (ft3/short ton)",null,"Emissions  ('000 ft3 CH4)",null,"Emissions  (MTCH4)",null,"Emissions  (MTCO2E)"]
[null,2016,"Underground Mines",{"$f":"VLOOKUP(VLOOKUP(constants!$K$1,coalbasins,3,FALSE),'Coal codes'!$I$5:$J$23,2,FALSE)","v":"---"},null,"x",{"$f":"Control!$C$18","v":0},"=",{"$f":"E559*G559","v":0},"=",{"$f":"I559*ft3_g*g_mt*1000","v":0},"=",{"$f":"(K559*CH4GWP)","v":0}]
[null,2016,null,{"$f":"VLOOKUP(VLOOKUP(constants!$K$1,coalbasins,4,FALSE),'Coal codes'!$I$5:$J$23,2,FALSE)","v":"---"},null,"x",{"$f":"Control!$C$19","v":0},"=",{"$f":"IF(BasinNum=1,\"---\",E560*G560)","v":0},"=",{"$f":"IF(BasinNum=1,\"---\",I560*ft3_g*g_mt*1000)","v":0},"=",{"$f":"IF(BasinNum=1,\"---\",(K560*CH4GWP))","v":0}]
[null,2016,"Surface Mines",{"$f":"VLOOKUP(VLOOKUP(constants!$K$1,coalbasins,5,FALSE),'Coal codes'!$I$27:$J$40,2,FALSE)","v":"---"},null,"x",{"$f":"Control!$C$21","v":0},"=",{"$f":"E561*G561","v":0},"=",{"$f":"I561*ft3_g*g_mt*1000","v":0},"=",{"$f":"(K561*CH4GWP)","v":0}]
[null,2016,null,{"$f":"VLOOKUP(VLOOKUP(constants!$K$1,coalbasins,6,FALSE),'Coal codes'!$I$27:$J$40,2,FALSE)","v":"---"},null,"x",{"$f":"Control!$C$22","v":0},"=",{"$f":"IF(BasinNum=1,\"---\",E562*G562)","v":0},"=",{"$f":"IF(BasinNum=1,\"---\",I562*ft3_g*g_mt*1000)","v":0},"=",{"$f":"IF(BasinNum=1,\"---\",(K562*CH4GWP))","v":0}]
[null,2016,"Post-Mining Total",null,null,null,null,null,{"$f":"SUM(I559:I562)","v":0},"=",{"$f":"SUM(K559:K562)","v":0},"=",{"$f":"SUM(M559:M562)","v":0}]
[]
[null,null,"Total Coal Mining","(MTCO2E)",{"$f":"SUM(E566:E568)","v":0}]
[null,null,null,"Underground Mines",{"$f":"O552","v":0}]
[null,null,null,"Surface Mines",{"$f":"SUM(M555:M556)","v":0}]
[null,null,null,"Post-Mining Activity",{"$f":"M563","v":0}]
[]
[null,null,"Coal Mining",null,null,null,2017]
[null,null,"Emissions from:","Coal Basin(s) (if applicable)","Measured Ventilation Emissions (mmcf)",null,"Degasification System Emissions (mmcf)",null,"Methane Recovered from Degasification Systems and Used for Energy (mmcf)",null,"Emissions       (mmcf CH4)",null,"Emissions  (MTCH4)",null,"Emissions  (MTCO2E)"]
[null,null,"Mines"]
[null,{"$f":"G570","v":2017},"Underground Mines",null,null,"+  ( ",null,"-",null," )  =",{"$f":"E573+G573-I573","v":0},"=",{"$f":"K573*1000000*ft3_g*g_mt","v":0},"=",{"$f":"(M573*CH4GWP)","v":0}]
[null,{"$f":"B573","v":2017}]
[null,{"$f":"B574","v":2017},null,null,"Surface Coal Production ('000 short tons)",null,"Basin-specific EF (ft3/short ton)",null,"Emissions  ('000 ft3 CH4)",null,"Emissions  (MTCH4)",null,"Emissions  (MTCO2E)"]
[null,2017,"Surface Mines",{"$f":"VLOOKUP(VLOOKUP(constants!$K$1,coalbasins,5,FALSE),'Coal codes'!$I$27:$J$40,2,FALSE)","v":"---"},null,"x",{"$f":"Control!$C$13","v":0},"=",{"$f":"E576*G576","v":0},"=",{"$f":"I576*ft3_g*g_mt*1000","v":0},"=",{"$f":"(K576*CH4GWP)","v":0}]
[null,2017,null,{"$f":"VLOOKUP(VLOOKUP(constants!$K$1,coalbasins,6,FALSE),'Coal codes'!$I$27:$J$40,2,FALSE)","v":"---"},null,"x",{"$f":"Control!$C$14","v":0},"=",{"$f":"IF(BasinNum=1,\"---\",E577*G577)","v":0},"=",{"$f":"IF(BasinNum=1,\"---\",I577*ft3_g*g_mt*1000)","v":0},"=",{"$f":"IF(BasinNum=1,\"---\",(K577*CH4GWP))","v":0}]
[null,2017]
[null,2017,"Post-Mining Activity",null,"Coal Production ('000 short tons)",null,"Basin- & Mine-specific EF (ft3/short ton)",null,"Emissions  ('000 ft3 CH4)",null,"Emissions  (MTCH4)",null,"Emissions  (MTCO2E)"]
[null,2017,"Underground Mines",{"$f":"VLOOKUP(VLOOKUP(constants!$K$1,coalbasins,3,FALSE),'Coal codes'!$I$5:$J$23,2,FALSE)","v":"---"},null,"x",{"$f":"Control!$C$18","v":0},"=",{"$f":"E580*G580","v":0},"=",{"$f":"I580*ft3_g*g_mt*1000","v":0},"=",{"$f":"(K580*CH4GWP)","v":0}]
[null,2017,null,{"$f":"VLOOKUP(VLOOKUP(constants!$K$1,coalbasins,4,FALSE),'Coal codes'!$I$5:$J$23,2,FALSE)","v":"---"},null,"x",{"$f":"Control!$C$19","v":0},"=",{"$f":"IF(BasinNum=1,\"---\",E581*G581)","v":0},"=",{"$f":"IF(BasinNum=1,\"---\",I581*ft3_g*g_mt*1000)","v":0},"=",{"$f":"IF(BasinNum=1,\"---\",(K581*CH4GWP))","v":0}]
[null,2017,"Surface Mines",{"$f":"VLOOKUP(VLOOKUP(constants!$K$1,coalbasins,5,FALSE),'Coal codes'!$I$27:$J$40,2,FALSE)","v":"---"},null,"x",{"$f":"Control!$C$21","v":0},"=",{"$f":"E582*G582","v":0},"=",{"$f":"I582*ft3_g*g_mt*1000","v":0},"=",{"$f":"(K582*CH4GWP)","v":0}]
[null,2017,null,{"$f":"VLOOKUP(VLOOKUP(constants!$K$1,coalbasins,6,FALSE),'Coal codes'!$I$27:$J$40,2,FALSE)","v":"---"},null,"x",{"$f":"Control!$C$22","v":0},"=",{"$f":"IF(BasinNum=1,\"---\",E583*G583)","v":0},"=",{"$f":"IF(BasinNum=1,\"---\",I583*ft3_g*g_mt*1000)","v":0},"=",{"$f":"IF(BasinNum=1,\"---\",(K583*CH4GWP))","v":0}]
[null,2017,"Post-Mining Total",null,null,null,null,null,{"$f":"SUM(I580:I583)","v":0},"=",{"$f":"SUM(K580:K583)","v":0},"=",{"$f":"SUM(M580:M583)","v":0}]
[]
[null,null,"Total Coal Mining","(MTCO2E)",{"$f":"SUM(E587:E589)","v":0}]
[null,null,null,"Underground Mines",{"$f":"O573","v":0}]
[null,null,null,"Surface Mines",{"$f":"SUM(M576:M577)","v":0}]
[null,null,null,"Post-Mining Activity",{"$f":"M584","v":0}]
[]
[null,null,"Coal Mining",null,null,null,2018]
[null,null,"Emissions from:","Coal Basin(s) (if applicable)","Measured Ventilation Emissions (mmcf)",null,"Degasification System Emissions (mmcf)",null,"Methane Recovered from Degasification Systems and Used for Energy (mmcf)",null,"Emissions       (mmcf CH4)",null,"Emissions  (MTCH4)",null,"Emissions  (MTCO2E)"]
[null,null,"Mines"]
[null,{"$f":"G591","v":2018},"Underground Mines",null,null,"+  ( ",null,"-",null," )  =",{"$f":"E594+G594-I594","v":0},"=",{"$f":"K594*1000000*ft3_g*g_mt","v":0},"=",{"$f":"(M594*CH4GWP)","v":0}]
[null,{"$f":"B594","v":2018}]
[null,{"$f":"B595","v":2018},null,null,"Surface Coal Production ('000 short tons)",null,"Basin-specific EF (ft3/short ton)",null,"Emissions  ('000 ft3 CH4)",null,"Emissions  (MTCH4)",null,"Emissions  (MTCO2E)"]
[null,2018,"Surface Mines",{"$f":"VLOOKUP(VLOOKUP(constants!$K$1,coalbasins,5,FALSE),'Coal codes'!$I$27:$J$40,2,FALSE)","v":"---"},null,"x",{"$f":"Control!$C$13","v":0},"=",{"$f":"E597*G597","v":0},"=",{"$f":"I597*ft3_g*g_mt*1000","v":0},"=",{"$f":"(K597*CH4GWP)","v":0}]
[null,2018,null,{"$f":"VLOOKUP(VLOOKUP(constants!$K$1,coalbasins,6,FALSE),'Coal codes'!$I$27:$J$40,2,FALSE)","v":"---"},null,"x",{"$f":"Control!$C$14","v":0},"=",{"$f":"IF(BasinNum=1,\"---\",E598*G598)","v":0},"=",{"$f":"IF(BasinNum=1,\"---\",I598*ft3_g*g_mt*1000)","v":0},"=",{"$f":"IF(BasinNum=1,\"---\",(K598*CH4GWP))","v":0}]
[null,2018]
[null,2018,"Post-Mining Activity",null,"Coal Production ('000 short tons)",null,"Basin- & Mine-specific EF (ft3/short ton)",null,"Emissions  ('000 ft3 CH4)",null,"Emissions  (MTCH4)",null,"Emissions  (MTCO2E)"]
[null,2018,"Underground Mines",{"$f":"VLOOKUP(VLOOKUP(constants!$K$1,coalbasins,3,FALSE),'Coal codes'!$I$5:$J$23,2,FALSE)","v":"---"},null,"x",{"$f":"Control!$C$18","v":0},"=",{"$f":"E601*G601","v":0},"=",{"$f":"I601*ft3_g*g_mt*1000","v":0},"=",{"$f":"(K601*CH4GWP)","v":0}]
[null,2018,null,{"$f":"VLOOKUP(VLOOKUP(constants!$K$1,coalbasins,4,FALSE),'Coal codes'!$I$5:$J$23,2,FALSE)","v":"---"},null,"x",{"$f":"Control!$C$19","v":0},"=",{"$f":"IF(BasinNum=1,\"---\",E602*G602)","v":0},"=",{"$f":"IF(BasinNum=1,\"---\",I602*ft3_g*g_mt*1000)","v":0},"=",{"$f":"IF(BasinNum=1,\"---\",(K602*CH4GWP))","v":0}]
[null,2018,"Surface Mines",{"$f":"VLOOKUP(VLOOKUP(constants!$K$1,coalbasins,5,FALSE),'Coal codes'!$I$27:$J$40,2,FALSE)","v":"---"},null,"x",{"$f":"Control!$C$21","v":0},"=",{"$f":"E603*G603","v":0},"=",{"$f":"I603*ft3_g*g_mt*1000","v":0},"=",{"$f":"(K603*CH4GWP)","v":0}]
[null,2018,null,{"$f":"VLOOKUP(VLOOKUP(constants!$K$1,coalbasins,6,FALSE),'Coal codes'!$I$27:$J$40,2,FALSE)","v":"---"},null,"x",{"$f":"Control!$C$22","v":0},"=",{"$f":"IF(BasinNum=1,\"---\",E604*G604)","v":0},"=",{"$f":"IF(BasinNum=1,\"---\",I604*ft3_g*g_mt*1000)","v":0},"=",{"$f":"IF(BasinNum=1,\"---\",(K604*CH4GWP))","v":0}]
[null,2018,"Post-Mining Total",null,null,null,null,null,{"$f":"SUM(I601:I604)","v":0},"=",{"$f":"SUM(K601:K604)","v":0},"=",{"$f":"SUM(M601:M604)","v":0}]
[]
[null,null,"Total Coal Mining","(MTCO2E)",{"$f":"SUM(E608:E610)","v":0}]
[null,null,null,"Underground Mines",{"$f":"O594","v":0}]
[null,null,null,"Surface Mines",{"$f":"SUM(M597:M598)","v":0}]
[null,null,null,"Post-Mining Activity",{"$f":"M605","v":0}]
[]
[null,null,"Coal Mining",null,null,null,2019]
[null,null,"Emissions from:","Coal Basin(s) (if applicable)","Measured Ventilation Emissions (mmcf)",null,"Degasification System Emissions (mmcf)",null,"Methane Recovered from Degasification Systems and Used for Energy (mmcf)",null,"Emissions       (mmcf CH4)",null,"Emissions  (MTCH4)",null,"Emissions  (MTCO2E)"]
[null,null,"Mines"]
[null,{"$f":"G612","v":2019},"Underground Mines",null,null,"+  ( ",null,"-",null," )  =",{"$f":"E615+G615-I615","v":0},"=",{"$f":"K615*1000000*ft3_g*g_mt","v":0},"=",{"$f":"(M615*CH4GWP)","v":0}]
[null,{"$f":"B615","v":2019}]
[null,{"$f":"B616","v":2019},null,null,"Surface Coal Production ('000 short tons)",null,"Basin-specific EF (ft3/short ton)",null,"Emissions  ('000 ft3 CH4)",null,"Emissions  (MTCH4)",null,"Emissions  (MTCO2E)"]
[null,2019,"Surface Mines",{"$f":"VLOOKUP(VLOOKUP(constants!$K$1,coalbasins,5,FALSE),'Coal codes'!$I$27:$J$40,2,FALSE)","v":"---"},null,"x",{"$f":"Control!$C$13","v":0},"=",{"$f":"E618*G618","v":0},"=",{"$f":"I618*ft3_g*g_mt*1000","v":0},"=",{"$f":"(K618*CH4GWP)","v":0}]
[null,2019,null,{"$f":"VLOOKUP(VLOOKUP(constants!$K$1,coalbasins,6,FALSE),'Coal codes'!$I$27:$J$40,2,FALSE)","v":"---"},null,"x",{"$f":"Control!$C$14","v":0},"=",{"$f":"IF(BasinNum=1,\"---\",E619*G619)","v":0},"=",{"$f":"IF(BasinNum=1,\"---\",I619*ft3_g*g_mt*1000)","v":0},"=",{"$f":"IF(BasinNum=1,\"---\",(K619*CH4GWP))","v":0}]
[null,2019]
[null,2019,"Post-Mining Activity",null,"Coal Production ('000 short tons)",null,"Basin- & Mine-specific EF (ft3/short ton)",null,"Emissions  ('000 ft3 CH4)",null,"Emissions  (MTCH4)",null,"Emissions  (MTCO2E)"]
[null,2019,"Underground Mines",{"$f":"VLOOKUP(VLOOKUP(constants!$K$1,coalbasins,3,FALSE),'Coal codes'!$I$5:$J$23,2,FALSE)","v":"---"},null,"x",{"$f":"Control!$C$18","v":0},"=",{"$f":"E622*G622","v":0},"=",{"$f":"I622*ft3_g*g_mt*1000","v":0},"=",{"$f":"(K622*CH4GWP)","v":0}]
[null,2019,null,{"$f":"VLOOKUP(VLOOKUP(constants!$K$1,coalbasins,4,FALSE),'Coal codes'!$I$5:$J$23,2,FALSE)","v":"---"},null,"x",{"$f":"Control!$C$19","v":0},"=",{"$f":"IF(BasinNum=1,\"---\",E623*G623)","v":0},"=",{"$f":"IF(BasinNum=1,\"---\",I623*ft3_g*g_mt*1000)","v":0},"=",{"$f":"IF(BasinNum=1,\"---\",(K623*CH4GWP))","v":0}]
[null,2019,"Surface Mines",{"$f":"VLOOKUP(VLOOKUP(constants!$K$1,coalbasins,5,FALSE),'Coal codes'!$I$27:$J$40,2,FALSE)","v":"---"},null,"x",{"$f":"Control!$C$21","v":0},"=",{"$f":"E624*G624","v":0},"=",{"$f":"I624*ft3_g*g_mt*1000","v":0},"=",{"$f":"(K624*CH4GWP)","v":0}]
[null,2019,null,{"$f":"VLOOKUP(VLOOKUP(constants!$K$1,coalbasins,6,FALSE),'Coal codes'!$I$27:$J$40,2,FALSE)","v":"---"},null,"x",{"$f":"Control!$C$22","v":0},"=",{"$f":"IF(BasinNum=1,\"---\",E625*G625)","v":0},"=",{"$f":"IF(BasinNum=1,\"---\",I625*ft3_g*g_mt*1000)","v":0},"=",{"$f":"IF(BasinNum=1,\"---\",(K625*CH4GWP))","v":0}]
[null,2019,"Post-Mining Total",null,null,null,null,null,{"$f":"SUM(I622:I625)","v":0},"=",{"$f":"SUM(K622:K625)","v":0},"=",{"$f":"SUM(M622:M625)","v":0}]
[]
[null,null,"Total Coal Mining","(MTCO2E)",{"$f":"SUM(E629:E631)","v":0}]
[null,null,null,"Underground Mines",{"$f":"O615","v":0}]
[null,null,null,"Surface Mines",{"$f":"SUM(M618:M619)","v":0}]
[null,null,null,"Post-Mining Activity",{"$f":"M626","v":0}]
[]
[null,null,"Coal Mining",null,null,null,2020]
[null,null,"Emissions from:","Coal Basin(s) (if applicable)","Measured Ventilation Emissions (mmcf)",null,"Degasification System Emissions (mmcf)",null,"Methane Recovered from Degasification Systems and Used for Energy (mmcf)",null,"Emissions       (mmcf CH4)",null,"Emissions  (MTCH4)",null,"Emissions  (MTCO2E)"]
[null,null,"Mines"]
[null,{"$f":"G633","v":2020},"Underground Mines",null,null,"+  ( ",null,"-",null," )  =",{"$f":"E636+G636-I636","v":0},"=",{"$f":"K636*1000000*ft3_g*g_mt","v":0},"=",{"$f":"(M636*CH4GWP)","v":0}]
[null,{"$f":"B636","v":2020}]
[null,{"$f":"B637","v":2020},null,null,"Surface Coal Production ('000 short tons)",null,"Basin-specific EF (ft3/short ton)",null,"Emissions  ('000 ft3 CH4)",null,"Emissions  (MTCH4)",null,"Emissions  (MTCO2E)"]
[null,2020,"Surface Mines",{"$f":"VLOOKUP(VLOOKUP(constants!$K$1,coalbasins,5,FALSE),'Coal codes'!$I$27:$J$40,2,FALSE)","v":"---"},null,"x",{"$f":"Control!$C$13","v":0},"=",{"$f":"E639*G639","v":0},"=",{"$f":"I639*ft3_g*g_mt*1000","v":0},"=",{"$f":"(K639*CH4GWP)","v":0}]
[null,2020,null,{"$f":"VLOOKUP(VLOOKUP(constants!$K$1,coalbasins,6,FALSE),'Coal codes'!$I$27:$J$40,2,FALSE)","v":"---"},null,"x",{"$f":"Control!$C$14","v":0},"=",{"$f":"IF(BasinNum=1,\"---\",E640*G640)","v":0},"=",{"$f":"IF(BasinNum=1,\"---\",I640*ft3_g*g_mt*1000)","v":0},"=",{"$f":"IF(BasinNum=1,\"---\",(K640*CH4GWP))","v":0}]
[null,2020]
[null,2020,"Post-Mining Activity",null,"Coal Production ('000 short tons)",null,"Basin- & Mine-specific EF (ft3/short ton)",null,"Emissions  ('000 ft3 CH4)",null,"Emissions  (MTCH4)",null,"Emissions  (MTCO2E)"]
[null,2020,"Underground Mines",{"$f":"VLOOKUP(VLOOKUP(constants!$K$1,coalbasins,3,FALSE),'Coal codes'!$I$5:$J$23,2,FALSE)","v":"---"},null,"x",{"$f":"Control!$C$18","v":0},"=",{"$f":"E643*G643","v":0},"=",{"$f":"I643*ft3_g*g_mt*1000","v":0},"=",{"$f":"(K643*CH4GWP)","v":0}]
[null,2020,null,{"$f":"VLOOKUP(VLOOKUP(constants!$K$1,coalbasins,4,FALSE),'Coal codes'!$I$5:$J$23,2,FALSE)","v":"---"},null,"x",{"$f":"Control!$C$19","v":0},"=",{"$f":"IF(BasinNum=1,\"---\",E644*G644)","v":0},"=",{"$f":"IF(BasinNum=1,\"---\",I644*ft3_g*g_mt*1000)","v":0},"=",{"$f":"IF(BasinNum=1,\"---\",(K644*CH4GWP))","v":0}]
[null,2020,"Surface Mines",{"$f":"VLOOKUP(VLOOKUP(constants!$K$1,coalbasins,5,FALSE),'Coal codes'!$I$27:$J$40,2,FALSE)","v":"---"},null,"x",{"$f":"Control!$C$21","v":0},"=",{"$f":"E645*G645","v":0},"=",{"$f":"I645*ft3_g*g_mt*1000","v":0},"=",{"$f":"(K645*CH4GWP)","v":0}]
[null,2020,null,{"$f":"VLOOKUP(VLOOKUP(constants!$K$1,coalbasins,6,FALSE),'Coal codes'!$I$27:$J$40,2,FALSE)","v":"---"},null,"x",{"$f":"Control!$C$22","v":0},"=",{"$f":"IF(BasinNum=1,\"---\",E646*G646)","v":0},"=",{"$f":"IF(BasinNum=1,\"---\",I646*ft3_g*g_mt*1000)","v":0},"=",{"$f":"IF(BasinNum=1,\"---\",(K646*CH4GWP))","v":0}]
[null,2020,"Post-Mining Total",null,null,null,null,null,{"$f":"SUM(I643:I646)","v":0},"=",{"$f":"SUM(K643:K646)","v":0},"=",{"$f":"SUM(M643:M646)","v":0}]
[]
[null,null,"Total Coal Mining","(MTCO2E)",{"$f":"SUM(E650:E652)","v":0}]
[null,null,null,"Underground Mines",{"$f":"O636","v":0}]
[null,null,null,"Surface Mines",{"$f":"SUM(M639:M640)","v":0}]
[null,null,null,"Post-Mining Activity",{"$f":"M647","v":0}]
[]
[null,null,"Coal Mining",null,null,null,2021]
[null,null,"Emissions from:","Coal Basin(s) (if applicable)","Measured Ventilation Emissions (mmcf)",null,"Degasification System Emissions (mmcf)",null,"Methane Recovered from Degasification Systems and Used for Energy (mmcf)",null,"Emissions       (mmcf CH4)",null,"Emissions  (MTCH4)",null,"Emissions  (MTCO2E)"]
[null,null,"Mines"]
[null,{"$f":"G654","v":2021},"Underground Mines",null,null,"+  ( ",null,"-",null," )  =",{"$f":"E657+G657-I657","v":0},"=",{"$f":"K657*1000000*ft3_g*g_mt","v":0},"=",{"$f":"(M657*CH4GWP)","v":0}]
[null,{"$f":"B657","v":2021}]
[null,{"$f":"B658","v":2021},null,null,"Surface Coal Production ('000 short tons)",null,"Basin-specific EF (ft3/short ton)",null,"Emissions  ('000 ft3 CH4)",null,"Emissions  (MTCH4)",null,"Emissions  (MTCO2E)"]
[null,2021,"Surface Mines",{"$f":"VLOOKUP(VLOOKUP(constants!$K$1,coalbasins,5,FALSE),'Coal codes'!$I$27:$J$40,2,FALSE)","v":"---"},null,"x",{"$f":"Control!$C$13","v":0},"=",{"$f":"E660*G660","v":0},"=",{"$f":"I660*ft3_g*g_mt*1000","v":0},"=",{"$f":"(K660*CH4GWP)","v":0}]
[null,2021,null,{"$f":"VLOOKUP(VLOOKUP(constants!$K$1,coalbasins,6,FALSE),'Coal codes'!$I$27:$J$40,2,FALSE)","v":"---"},null,"x",{"$f":"Control!$C$14","v":0},"=",{"$f":"IF(BasinNum=1,\"---\",E661*G661)","v":0},"=",{"$f":"IF(BasinNum=1,\"---\",I661*ft3_g*g_mt*1000)","v":0},"=",{"$f":"IF(BasinNum=1,\"---\",(K661*CH4GWP))","v":0}]
[null,2021]
[null,2021,"Post-Mining Activity",null,"Coal Production ('000 short tons)",null,"Basin- & Mine-specific EF (ft3/short ton)",null,"Emissions  ('000 ft3 CH4)",null,"Emissions  (MTCH4)",null,"Emissions  (MTCO2E)"]
[null,2021,"Underground Mines",{"$f":"VLOOKUP(VLOOKUP(constants!$K$1,coalbasins,3,FALSE),'Coal codes'!$I$5:$J$23,2,FALSE)","v":"---"},null,"x",{"$f":"Control!$C$18","v":0},"=",{"$f":"E664*G664","v":0},"=",{"$f":"I664*ft3_g*g_mt*1000","v":0},"=",{"$f":"(K664*CH4GWP)","v":0}]
[null,2021,null,{"$f":"VLOOKUP(VLOOKUP(constants!$K$1,coalbasins,4,FALSE),'Coal codes'!$I$5:$J$23,2,FALSE)","v":"---"},null,"x",{"$f":"Control!$C$19","v":0},"=",{"$f":"IF(BasinNum=1,\"---\",E665*G665)","v":0},"=",{"$f":"IF(BasinNum=1,\"---\",I665*ft3_g*g_mt*1000)","v":0},"=",{"$f":"IF(BasinNum=1,\"---\",(K665*CH4GWP))","v":0}]
[null,2021,"Surface Mines",{"$f":"VLOOKUP(VLOOKUP(constants!$K$1,coalbasins,5,FALSE),'Coal codes'!$I$27:$J$40,2,FALSE)","v":"---"},null,"x",{"$f":"Control!$C$21","v":0},"=",{"$f":"E666*G666","v":0},"=",{"$f":"I666*ft3_g*g_mt*1000","v":0},"=",{"$f":"(K666*CH4GWP)","v":0}]
[null,2021,null,{"$f":"VLOOKUP(VLOOKUP(constants!$K$1,coalbasins,6,FALSE),'Coal codes'!$I$27:$J$40,2,FALSE)","v":"---"},null,"x",{"$f":"Control!$C$22","v":0},"=",{"$f":"IF(BasinNum=1,\"---\",E667*G667)","v":0},"=",{"$f":"IF(BasinNum=1,\"---\",I667*ft3_g*g_mt*1000)","v":0},"=",{"$f":"IF(BasinNum=1,\"---\",(K667*CH4GWP))","v":0}]
[null,2021,"Post-Mining Total",null,null,null,null,null,{"$f":"SUM(I664:I667)","v":0},"=",{"$f":"SUM(K664:K667)","v":0},"=",{"$f":"SUM(M664:M667)","v":0}]
[]
[null,null,"Total Coal Mining","(MTCO2E)",{"$f":"SUM(E671:E673)","v":0}]
[null,null,null,"Underground Mines",{"$f":"O657","v":0}]
[null,null,null,"Surface Mines",{"$f":"SUM(M660:M661)","v":0}]
[null,null,null,"Post-Mining Activity",{"$f":"M668","v":0}]
[]
[null,null,"Coal Mining",null,null,null,2022]
[null,null,"Emissions from:","Coal Basin(s) (if applicable)","Measured Ventilation Emissions (mmcf)",null,"Degasification System Emissions (mmcf)",null,"Methane Recovered from Degasification Systems and Used for Energy (mmcf)",null,"Emissions       (mmcf CH4)",null,"Emissions  (MTCH4)",null,"Emissions  (MTCO2E)"]
[null,null,"Mines"]
[null,{"$f":"G675","v":2022},"Underground Mines",null,null,"+  ( ",null,"-",null," )  =",{"$f":"E678+G678-I678","v":0},"=",{"$f":"K678*1000000*ft3_g*g_mt","v":0},"=",{"$f":"(M678*CH4GWP)","v":0}]
[null,{"$f":"B678","v":2022}]
[null,{"$f":"B679","v":2022},null,null,"Surface Coal Production ('000 short tons)",null,"Basin-specific EF (ft3/short ton)",null,"Emissions  ('000 ft3 CH4)",null,"Emissions  (MTCH4)",null,"Emissions  (MTCO2E)"]
[null,2022,"Surface Mines",{"$f":"VLOOKUP(VLOOKUP(constants!$K$1,coalbasins,5,FALSE),'Coal codes'!$I$27:$J$40,2,FALSE)","v":"---"},null,"x",{"$f":"Control!$C$13","v":0},"=",{"$f":"E681*G681","v":0},"=",{"$f":"I681*ft3_g*g_mt*1000","v":0},"=",{"$f":"(K681*CH4GWP)","v":0}]
[null,2022,null,{"$f":"VLOOKUP(VLOOKUP(constants!$K$1,coalbasins,6,FALSE),'Coal codes'!$I$27:$J$40,2,FALSE)","v":"---"},null,"x",{"$f":"Control!$C$14","v":0},"=",{"$f":"IF(BasinNum=1,\"---\",E682*G682)","v":0},"=",{"$f":"IF(BasinNum=1,\"---\",I682*ft3_g*g_mt*1000)","v":0},"=",{"$f":"IF(BasinNum=1,\"---\",(K682*CH4GWP))","v":0}]
[null,2022]
[null,2022,"Post-Mining Activity",null,"Coal Production ('000 short tons)",null,"Basin- & Mine-specific EF (ft3/short ton)",null,"Emissions  ('000 ft3 CH4)",null,"Emissions  (MTCH4)",null,"Emissions  (MTCO2E)"]
[null,2022,"Underground Mines",{"$f":"VLOOKUP(VLOOKUP(constants!$K$1,coalbasins,3,FALSE),'Coal codes'!$I$5:$J$23,2,FALSE)","v":"---"},null,"x",{"$f":"Control!$C$18","v":0},"=",{"$f":"E685*G685","v":0},"=",{"$f":"I685*ft3_g*g_mt*1000","v":0},"=",{"$f":"(K685*CH4GWP)","v":0}]
[null,2022,null,{"$f":"VLOOKUP(VLOOKUP(constants!$K$1,coalbasins,4,FALSE),'Coal codes'!$I$5:$J$23,2,FALSE)","v":"---"},null,"x",{"$f":"Control!$C$19","v":0},"=",{"$f":"IF(BasinNum=1,\"---\",E686*G686)","v":0},"=",{"$f":"IF(BasinNum=1,\"---\",I686*ft3_g*g_mt*1000)","v":0},"=",{"$f":"IF(BasinNum=1,\"---\",(K686*CH4GWP))","v":0}]
[null,2022,"Surface Mines",{"$f":"VLOOKUP(VLOOKUP(constants!$K$1,coalbasins,5,FALSE),'Coal codes'!$I$27:$J$40,2,FALSE)","v":"---"},null,"x",{"$f":"Control!$C$21","v":0},"=",{"$f":"E687*G687","v":0},"=",{"$f":"I687*ft3_g*g_mt*1000","v":0},"=",{"$f":"(K687*CH4GWP)","v":0}]
[null,2022,null,{"$f":"VLOOKUP(VLOOKUP(constants!$K$1,coalbasins,6,FALSE),'Coal codes'!$I$27:$J$40,2,FALSE)","v":"---"},null,"x",{"$f":"Control!$C$22","v":0},"=",{"$f":"IF(BasinNum=1,\"---\",E688*G688)","v":0},"=",{"$f":"IF(BasinNum=1,\"---\",I688*ft3_g*g_mt*1000)","v":0},"=",{"$f":"IF(BasinNum=1,\"---\",(K688*CH4GWP))","v":0}]
[null,2022,"Post-Mining Total",null,null,null,null,null,{"$f":"SUM(I685:I688)","v":0},"=",{"$f":"SUM(K685:K688)","v":0},"=",{"$f":"SUM(M685:M688)","v":0}]
[]
[null,null,"Total Coal Mining","(MTCO2E)",{"$f":"SUM(E692:E694)","v":0}]
[null,null,null,"Underground Mines",{"$f":"O678","v":0}]
[null,null,null,"Surface Mines",{"$f":"SUM(M681:M682)","v":0}]
[null,null,null,"Post-Mining Activity",{"$f":"M689","v":0}]
[]
[null,null,"Coal Mining",null,null,null,2023]
[null,null,"Emissions from:","Coal Basin(s) (if applicable)","Measured Ventilation Emissions (mmcf)",null,"Degasification System Emissions (mmcf)",null,"Methane Recovered from Degasification Systems and Used for Energy (mmcf)",null,"Emissions       (mmcf CH4)",null,"Emissions  (MTCH4)",null,"Emissions  (MTCO2E)"]
[null,null,"Mines"]
[null,{"$f":"G696","v":2023},"Underground Mines",null,null,"+  ( ",null,"-",null," )  =",{"$f":"E699+G699-I699","v":0},"=",{"$f":"K699*1000000*ft3_g*g_mt","v":0},"=",{"$f":"(M699*CH4GWP)","v":0}]
[null,{"$f":"B699","v":2023}]
[null,{"$f":"B700","v":2023},null,null,"Surface Coal Production ('000 short tons)",null,"Basin-specific EF (ft3/short ton)",null,"Emissions  ('000 ft3 CH4)",null,"Emissions  (MTCH4)",null,"Emissions  (MTCO2E)"]
[null,2023,"Surface Mines",{"$f":"VLOOKUP(VLOOKUP(constants!$K$1,coalbasins,5,FALSE),'Coal codes'!$I$27:$J$40,2,FALSE)","v":"---"},null,"x",{"$f":"Control!$C$13","v":0},"=",{"$f":"E702*G702","v":0},"=",{"$f":"I702*ft3_g*g_mt*1000","v":0},"=",{"$f":"(K702*CH4GWP)","v":0}]
[null,2023,null,{"$f":"VLOOKUP(VLOOKUP(constants!$K$1,coalbasins,6,FALSE),'Coal codes'!$I$27:$J$40,2,FALSE)","v":"---"},null,"x",{"$f":"Control!$C$14","v":0},"=",{"$f":"IF(BasinNum=1,\"---\",E703*G703)","v":0},"=",{"$f":"IF(BasinNum=1,\"---\",I703*ft3_g*g_mt*1000)","v":0},"=",{"$f":"IF(BasinNum=1,\"---\",(K703*CH4GWP))","v":0}]
[null,2023]
[null,2023,"Post-Mining Activity",null,"Coal Production ('000 short tons)",null,"Basin- & Mine-specific EF (ft3/short ton)",null,"Emissions  ('000 ft3 CH4)",null,"Emissions  (MTCH4)",null,"Emissions  (MTCO2E)"]
[null,2023,"Underground Mines",{"$f":"VLOOKUP(VLOOKUP(constants!$K$1,coalbasins,3,FALSE),'Coal codes'!$I$5:$J$23,2,FALSE)","v":"---"},null,"x",{"$f":"Control!$C$18","v":0},"=",{"$f":"E706*G706","v":0},"=",{"$f":"I706*ft3_g*g_mt*1000","v":0},"=",{"$f":"(K706*CH4GWP)","v":0}]
[null,2023,null,{"$f":"VLOOKUP(VLOOKUP(constants!$K$1,coalbasins,4,FALSE),'Coal codes'!$I$5:$J$23,2,FALSE)","v":"---"},null,"x",{"$f":"Control!$C$19","v":0},"=",{"$f":"IF(BasinNum=1,\"---\",E707*G707)","v":0},"=",{"$f":"IF(BasinNum=1,\"---\",I707*ft3_g*g_mt*1000)","v":0},"=",{"$f":"IF(BasinNum=1,\"---\",(K707*CH4GWP))","v":0}]
[null,2023,"Surface Mines",{"$f":"VLOOKUP(VLOOKUP(constants!$K$1,coalbasins,5,FALSE),'Coal codes'!$I$27:$J$40,2,FALSE)","v":"---"},null,"x",{"$f":"Control!$C$21","v":0},"=",{"$f":"E708*G708","v":0},"=",{"$f":"I708*ft3_g*g_mt*1000","v":0},"=",{"$f":"(K708*CH4GWP)","v":0}]
[null,2023,null,{"$f":"VLOOKUP(VLOOKUP(constants!$K$1,coalbasins,6,FALSE),'Coal codes'!$I$27:$J$40,2,FALSE)","v":"---"},null,"x",{"$f":"Control!$C$22","v":0},"=",{"$f":"IF(BasinNum=1,\"---\",E709*G709)","v":0},"=",{"$f":"IF(BasinNum=1,\"---\",I709*ft3_g*g_mt*1000)","v":0},"=",{"$f":"IF(BasinNum=1,\"---\",(K709*CH4GWP))","v":0}]
[null,2023,"Post-Mining Total",null,null,null,null,null,{"$f":"SUM(I706:I709)","v":0},"=",{"$f":"SUM(K706:K709)","v":0},"=",{"$f":"SUM(M706:M709)","v":0}]
[]
[null,null,"Total Coal Mining","(MTCO2E)",{"$f":"SUM(E713:E715)","v":0}]
[null,null,null,"Underground Mines",{"$f":"O699","v":0}]
[null,null,null,"Surface Mines",{"$f":"SUM(M702:M703)","v":0}]
[null,null,null,"Post-Mining Activity",{"$f":"M710","v":0}]
[]
[null,null,"Coal Mining",null,null,null,2024]
[null,null,"Emissions from:","Coal Basin(s) (if applicable)","Measured Ventilation Emissions (mmcf)",null,"Degasification System Emissions (mmcf)",null,"Methane Recovered from Degasification Systems and Used for Energy (mmcf)",null,"Emissions       (mmcf CH4)",null,"Emissions  (MTCH4)",null,"Emissions  (MTCO2E)"]
[null,null,"Mines"]
[null,{"$f":"G717","v":2024},"Underground Mines",null,null,"+  ( ",null,"-",null," )  =",{"$f":"E720+G720-I720","v":0},"=",{"$f":"K720*1000000*ft3_g*g_mt","v":0},"=",{"$f":"(M720*CH4GWP)","v":0}]
[null,{"$f":"B720","v":2024}]
[null,{"$f":"B721","v":2024},null,null,"Surface Coal Production ('000 short tons)",null,"Basin-specific EF (ft3/short ton)",null,"Emissions  ('000 ft3 CH4)",null,"Emissions  (MTCH4)",null,"Emissions  (MTCO2E)"]
[null,2024,"Surface Mines",{"$f":"VLOOKUP(VLOOKUP(constants!$K$1,coalbasins,5,FALSE),'Coal codes'!$I$27:$J$40,2,FALSE)","v":"---"},null,"x",{"$f":"Control!$C$13","v":0},"=",{"$f":"E723*G723","v":0},"=",{"$f":"I723*ft3_g*g_mt*1000","v":0},"=",{"$f":"(K723*CH4GWP)","v":0}]
[null,2024,null,{"$f":"VLOOKUP(VLOOKUP(constants!$K$1,coalbasins,6,FALSE),'Coal codes'!$I$27:$J$40,2,FALSE)","v":"---"},null,"x",{"$f":"Control!$C$14","v":0},"=",{"$f":"IF(BasinNum=1,\"---\",E724*G724)","v":0},"=",{"$f":"IF(BasinNum=1,\"---\",I724*ft3_g*g_mt*1000)","v":0},"=",{"$f":"IF(BasinNum=1,\"---\",(K724*CH4GWP))","v":0}]
[null,2024]
[null,2024,"Post-Mining Activity",null,"Coal Production ('000 short tons)",null,"Basin- & Mine-specific EF (ft3/short ton)",null,"Emissions  ('000 ft3 CH4)",null,"Emissions  (MTCH4)",null,"Emissions  (MTCO2E)"]
[null,2024,"Underground Mines",{"$f":"VLOOKUP(VLOOKUP(constants!$K$1,coalbasins,3,FALSE),'Coal codes'!$I$5:$J$23,2,FALSE)","v":"---"},null,"x",{"$f":"Control!$C$18","v":0},"=",{"$f":"E727*G727","v":0},"=",{"$f":"I727*ft3_g*g_mt*1000","v":0},"=",{"$f":"(K727*CH4GWP)","v":0}]
[null,2024,null,{"$f":"VLOOKUP(VLOOKUP(constants!$K$1,coalbasins,4,FALSE),'Coal codes'!$I$5:$J$23,2,FALSE)","v":"---"},null,"x",{"$f":"Control!$C$19","v":0},"=",{"$f":"IF(BasinNum=1,\"---\",E728*G728)","v":0},"=",{"$f":"IF(BasinNum=1,\"---\",I728*ft3_g*g_mt*1000)","v":0},"=",{"$f":"IF(BasinNum=1,\"---\",(K728*CH4GWP))","v":0}]
[null,2024,"Surface Mines",{"$f":"VLOOKUP(VLOOKUP(constants!$K$1,coalbasins,5,FALSE),'Coal codes'!$I$27:$J$40,2,FALSE)","v":"---"},null,"x",{"$f":"Control!$C$21","v":0},"=",{"$f":"E729*G729","v":0},"=",{"$f":"I729*ft3_g*g_mt*1000","v":0},"=",{"$f":"(K729*CH4GWP)","v":0}]
[null,2024,null,{"$f":"VLOOKUP(VLOOKUP(constants!$K$1,coalbasins,6,FALSE),'Coal codes'!$I$27:$J$40,2,FALSE)","v":"---"},null,"x",{"$f":"Control!$C$22","v":0},"=",{"$f":"IF(BasinNum=1,\"---\",E730*G730)","v":0},"=",{"$f":"IF(BasinNum=1,\"---\",I730*ft3_g*g_mt*1000)","v":0},"=",{"$f":"IF(BasinNum=1,\"---\",(K730*CH4GWP))","v":0}]
[null,2024,"Post-Mining Total",null,null,null,null,null,{"$f":"SUM(I727:I730)","v":0},"=",{"$f":"SUM(K727:K730)","v":0},"=",{"$f":"SUM(M727:M730)","v":0}]
[]
[null,null,"Total Coal Mining","(MTCO2E)",{"$f":"SUM(E734:E736)","v":0}]
[null,null,null,"Underground Mines",{"$f":"O720","v":0}]
[null,null,null,"Surface Mines",{"$f":"SUM(M723:M724)","v":0}]
[null,null,null,"Post-Mining Activity",{"$f":"M731","v":0}]
[]
[null,null,"Coal Mining",null,null,null,2025]
[null,null,"Emissions from:","Coal Basin(s) (if applicable)","Measured Ventilation Emissions (mmcf)",null,"Degasification System Emissions (mmcf)",null,"Methane Recovered from Degasification Systems and Used for Energy (mmcf)",null,"Emissions       (mmcf CH4)",null,"Emissions  (MTCH4)",null,"Emissions  (MTCO2E)"]
[null,null,"Mines"]
[null,{"$f":"G738","v":2025},"Underground Mines",null,null,"+  ( ",null,"-",null," )  =",{"$f":"E741+G741-I741","v":0},"=",{"$f":"K741*1000000*ft3_g*g_mt","v":0},"=",{"$f":"(M741*CH4GWP)","v":0}]
[null,{"$f":"B741","v":2025}]
[null,{"$f":"B742","v":2025},null,null,"Surface Coal Production ('000 short tons)",null,"Basin-specific EF (ft3/short ton)",null,"Emissions  ('000 ft3 CH4)",null,"Emissions  (MTCH4)",null,"Emissions  (MTCO2E)"]
[null,2025,"Surface Mines",{"$f":"VLOOKUP(VLOOKUP(constants!$K$1,coalbasins,5,FALSE),'Coal codes'!$I$27:$J$40,2,FALSE)","v":"---"},null,"x",{"$f":"Control!$C$13","v":0},"=",{"$f":"E744*G744","v":0},"=",{"$f":"I744*ft3_g*g_mt*1000","v":0},"=",{"$f":"(K744*CH4GWP)","v":0}]
[null,2025,null,{"$f":"VLOOKUP(VLOOKUP(constants!$K$1,coalbasins,6,FALSE),'Coal codes'!$I$27:$J$40,2,FALSE)","v":"---"},null,"x",{"$f":"Control!$C$14","v":0},"=",{"$f":"IF(BasinNum=1,\"---\",E745*G745)","v":0},"=",{"$f":"IF(BasinNum=1,\"---\",I745*ft3_g*g_mt*1000)","v":0},"=",{"$f":"IF(BasinNum=1,\"---\",(K745*CH4GWP))","v":0}]
[null,2025]
[null,2025,"Post-Mining Activity",null,"Coal Production ('000 short tons)",null,"Basin- & Mine-specific EF (ft3/short ton)",null,"Emissions  ('000 ft3 CH4)",null,"Emissions  (MTCH4)",null,"Emissions  (MTCO2E)"]
[null,2025,"Underground Mines",{"$f":"VLOOKUP(VLOOKUP(constants!$K$1,coalbasins,3,FALSE),'Coal codes'!$I$5:$J$23,2,FALSE)","v":"---"},null,"x",{"$f":"Control!$C$18","v":0},"=",{"$f":"E748*G748","v":0},"=",{"$f":"I748*ft3_g*g_mt*1000","v":0},"=",{"$f":"(K748*CH4GWP)","v":0}]
[null,2025,null,{"$f":"VLOOKUP(VLOOKUP(constants!$K$1,coalbasins,4,FALSE),'Coal codes'!$I$5:$J$23,2,FALSE)","v":"---"},null,"x",{"$f":"Control!$C$19","v":0},"=",{"$f":"IF(BasinNum=1,\"---\",E749*G749)","v":0},"=",{"$f":"IF(BasinNum=1,\"---\",I749*ft3_g*g_mt*1000)","v":0},"=",{"$f":"IF(BasinNum=1,\"---\",(K749*CH4GWP))","v":0}]
[null,2025,"Surface Mines",{"$f":"VLOOKUP(VLOOKUP(constants!$K$1,coalbasins,5,FALSE),'Coal codes'!$I$27:$J$40,2,FALSE)","v":"---"},null,"x",{"$f":"Control!$C$21","v":0},"=",{"$f":"E750*G750","v":0},"=",{"$f":"I750*ft3_g*g_mt*1000","v":0},"=",{"$f":"(K750*CH4GWP)","v":0}]
[null,2025,null,{"$f":"VLOOKUP(VLOOKUP(constants!$K$1,coalbasins,6,FALSE),'Coal codes'!$I$27:$J$40,2,FALSE)","v":"---"},null,"x",{"$f":"Control!$C$22","v":0},"=",{"$f":"IF(BasinNum=1,\"---\",E751*G751)","v":0},"=",{"$f":"IF(BasinNum=1,\"---\",I751*ft3_g*g_mt*1000)","v":0},"=",{"$f":"IF(BasinNum=1,\"---\",(K751*CH4GWP))","v":0}]
[null,2025,"Post-Mining Total",null,null,null,null,null,{"$f":"SUM(I748:I751)","v":0},"=",{"$f":"SUM(K748:K751)","v":0},"=",{"$f":"SUM(M748:M751)","v":0}]
[]
[null,null,"Total Coal Mining","(MTCO2E)",{"$f":"SUM(E755:E757)","v":0}]
[null,null,null,"Underground Mines",{"$f":"O741","v":0}]
[null,null,null,"Surface Mines",{"$f":"SUM(M744:M745)","v":0}]
[null,null,null,"Post-Mining Activity",{"$f":"M752","v":0}]

{"sheet":"CH4 from Abandoned Coal Mines","index":5,"n_rows":258,"n_cols":29,"rows_kept":258,"cut":false,"hidden":false,"merged":[[2,5,2,11]]}
[null,{"$f":"\"4. CH4 from Abandoned Mines in \"&constants!K1","v":"4. CH4 from Abandoned Mines in XX"}]
[]
[null,"Abandoned Coal Mines",null,null,null,"Please click the button on the left to view a default list of abandoned coal mines within your state"]
[null,null,null,"Mine Name",null,"County",null,"Basin",null,"Year Abandoned",null,"Reported Status",null,"Actual Status",null,"Percent Sealed",null,"Methane Recovered (m3/yr)"]
[null,{"$f":"'Abandoned Data'!N3&\".\"","v":"."},null,{"$f":"'Abandoned Data'!O3","v":""},null,{"$f":"'Abandoned Data'!P3","v":""},null,{"$f":"'Abandoned Data'!S3","v":""},null,{"$f":"'Abandoned Data'!R3","v":""},null,{"$f":"'Abandoned Data'!Q3","v":""},null,null,{"$f":"IF(N5>0,IF(N5=\"Sealed\",0.8,\"\"),IF(L5=\"Sealed\",0.8,\"\"))","v":""},null,null,null,null,null,null,null,null,null,null,null,0.5,"Sealed","Bituminous"]
[null,{"$f":"'Abandoned Data'!N4&\".\"","v":"."},null,{"$f":"'Abandoned Data'!O4","v":""},null,{"$f":"'Abandoned Data'!P4","v":""},null,{"$f":"'Abandoned Data'!S4","v":""},null,{"$f":"'Abandoned Data'!R4","v":""},null,{"$f":"'Abandoned Data'!Q4","v":""},null,null,{"$f":"IF(N6>0,IF(N6=\"Sealed\",0.8,\"\"),IF(L6=\"Sealed\",0.8,\"\"))","v":""},null,null,null,null,null,null,null,null,null,null,null,0.8,"Flooded","Sub-bituminous"]
[null,{"$f":"'Abandoned Data'!N5&\".\"","v":"."},null,{"$f":"'Abandoned Data'!O5","v":""},null,{"$f":"'Abandoned Data'!P5","v":""},null,{"$f":"'Abandoned Data'!S5","v":""},null,{"$f":"'Abandoned Data'!R5","v":""},null,{"$f":"'Abandoned Data'!Q5","v":""},null,null,"",null,null,null,null,null,null,null,null,null,null,null,0.95,"Venting","Anthracite"]
[null,{"$f":"'Abandoned Data'!N6&\".\"","v":"."},null,{"$f":"'Abandoned Data'!O6","v":""},null,{"$f":"'Abandoned Data'!P6","v":""},null,{"$f":"'Abandoned Data'!S6","v":""},null,{"$f":"'Abandoned Data'!R6","v":""},null,{"$f":"'Abandoned Data'!Q6","v":""},null,null,"",null,null,null,null,null,null,null,null,null,null,null,null,"Unknown"]
[null,{"$f":"'Abandoned Data'!N7&\".\"","v":"."},null,{"$f":"'Abandoned Data'!O7","v":""},null,{"$f":"'Abandoned Data'!P7","v":""},null,{"$f":"'Abandoned Data'!S7","v":""},null,{"$f":"'Abandoned Data'!R7","v":""},null,{"$f":"'Abandoned Data'!Q7","v":""},null,null,""]
[null,{"$f":"'Abandoned Data'!N8&\".\"","v":"."},null,{"$f":"'Abandoned Data'!O8","v":""},null,{"$f":"'Abandoned Data'!P8","v":""},null,{"$f":"'Abandoned Data'!S8","v":""},null,{"$f":"'Abandoned Data'!R8","v":""},null,{"$f":"'Abandoned Data'!Q8","v":""},null,null,""]
[null,{"$f":"'Abandoned Data'!N9&\".\"","v":"."},null,{"$f":"'Abandoned Data'!O9","v":""},null,{"$f":"'Abandoned Data'!P9","v":""},null,{"$f":"'Abandoned Data'!S9","v":""},null,{"$f":"'Abandoned Data'!R9","v":""},null,{"$f":"'Abandoned Data'!Q9","v":""},null,null,""]
[null,{"$f":"'Abandoned Data'!N10&\".\"","v":"."},null,{"$f":"'Abandoned Data'!O10","v":""},null,{"$f":"'Abandoned Data'!P10","v":""},null,{"$f":"'Abandoned Data'!S10","v":""},null,{"$f":"'Abandoned Data'!R10","v":""},null,{"$f":"'Abandoned Data'!Q10","v":""},null,null,""]
[null,{"$f":"'Abandoned Data'!N11&\".\"","v":"."},null,{"$f":"'Abandoned Data'!O11","v":""},null,{"$f":"'Abandoned Data'!P11","v":""},null,{"$f":"'Abandoned Data'!S11","v":""},null,{"$f":"'Abandoned Data'!R11","v":""},null,{"$f":"'Abandoned Data'!Q11","v":""},null,null,""]
[null,{"$f":"'Abandoned Data'!N12&\".\"","v":"."},null,{"$f":"'Abandoned Data'!O12","v":""},null,{"$f":"'Abandoned Data'!P12","v":""},null,{"$f":"'Abandoned Data'!S12","v":""},null,{"$f":"'Abandoned Data'!R12","v":""},null,{"$f":"'Abandoned Data'!Q12","v":""},null,null,""]
[null,{"$f":"'Abandoned Data'!N13&\".\"","v":"."},null,{"$f":"'Abandoned Data'!O13","v":""},null,{"$f":"'Abandoned Data'!P13","v":""},null,{"$f":"'Abandoned Data'!S13","v":""},null,{"$f":"'Abandoned Data'!R13","v":""},null,{"$f":"'Abandoned Data'!Q13","v":""},null,null,""]
[null,{"$f":"'Abandoned Data'!N14&\".\"","v":"."},null,{"$f":"'Abandoned Data'!O14","v":""},null,{"$f":"'Abandoned Data'!P14","v":""},null,{"$f":"'Abandoned Data'!S14","v":""},null,{"$f":"'Abandoned Data'!R14","v":""},null,{"$f":"'Abandoned Data'!Q14","v":""},null,null,""]
[null,{"$f":"'Abandoned Data'!N15&\".\"","v":"."},null,{"$f":"'Abandoned Data'!O15","v":""},null,{"$f":"'Abandoned Data'!P15","v":""},null,{"$f":"'Abandoned Data'!S15","v":""},null,{"$f":"'Abandoned Data'!R15","v":""},null,{"$f":"'Abandoned Data'!Q15","v":""},null,null,""]
[null,{"$f":"'Abandoned Data'!N16&\".\"","v":"."},null,{"$f":"'Abandoned Data'!O16","v":""},null,{"$f":"'Abandoned Data'!P16","v":""},null,{"$f":"'Abandoned Data'!S16","v":""},null,{"$f":"'Abandoned Data'!R16","v":""},null,{"$f":"'Abandoned Data'!Q16","v":""},null,null,""]
[null,{"$f":"'Abandoned Data'!N17&\".\"","v":"."},null,{"$f":"'Abandoned Data'!O17","v":""},null,{"$f":"'Abandoned Data'!P17","v":""},null,{"$f":"'Abandoned Data'!S17","v":""},null,{"$f":"'Abandoned Data'!R17","v":""},null,{"$f":"'Abandoned Data'!Q17","v":""},null,null,""]
[null,{"$f":"'Abandoned Data'!N18&\".\"","v":"."},null,{"$f":"'Abandoned Data'!O18","v":""},null,{"$f":"'Abandoned Data'!P18","v":""},null,{"$f":"'Abandoned Data'!S18","v":""},null,{"$f":"'Abandoned Data'!R18","v":""},null,{"$f":"'Abandoned Data'!Q18","v":""},null,null,""]
[null,{"$f":"'Abandoned Data'!N19&\".\"","v":"."},null,{"$f":"'Abandoned Data'!O19","v":""},null,{"$f":"'Abandoned Data'!P19","v":""},null,{"$f":"'Abandoned Data'!S19","v":""},null,{"$f":"'Abandoned Data'!R19","v":""},null,{"$f":"'Abandoned Data'!Q19","v":""},null,null,""]
[null,{"$f":"'Abandoned Data'!N20&\".\"","v":"."},null,{"$f":"'Abandoned Data'!O20","v":""},null,{"$f":"'Abandoned Data'!P20","v":""},null,{"$f":"'Abandoned Data'!S20","v":""},null,{"$f":"'Abandoned Data'!R20","v":""},null,{"$f":"'Abandoned Data'!Q20","v":""},null,null,""]
[null,{"$f":"'Abandoned Data'!N21&\".\"","v":"."},null,{"$f":"'Abandoned Data'!O21","v":""},null,{"$f":"'Abandoned Data'!P21","v":""},null,{"$f":"'Abandoned Data'!S21","v":""},null,{"$f":"'Abandoned Data'!R21","v":""},null,{"$f":"'Abandoned Data'!Q21","v":""},null,null,""]
[null,{"$f":"'Abandoned Data'!N22&\".\"","v":"."},null,{"$f":"'Abandoned Data'!O22","v":""},null,{"$f":"'Abandoned Data'!P22","v":""},null,{"$f":"'Abandoned Data'!S22","v":""},null,{"$f":"'Abandoned Data'!R22","v":""},null,{"$f":"'Abandoned Data'!Q22","v":""},null,null,""]
[null,{"$f":"'Abandoned Data'!N23&\".\"","v":"."},null,{"$f":"'Abandoned Data'!O23","v":""},null,{"$f":"'Abandoned Data'!P23","v":""},null,{"$f":"'Abandoned Data'!S23","v":""},null,{"$f":"'Abandoned Data'!R23","v":""},null,{"$f":"'Abandoned Data'!Q23","v":""},null,null,""]
[null,{"$f":"'Abandoned Data'!N24&\".\"","v":"."},null,{"$f":"'Abandoned Data'!O24","v":""},null,{"$f":"'Abandoned Data'!P24","v":""},null,{"$f":"'Abandoned Data'!S24","v":""},null,{"$f":"'Abandoned Data'!R24","v":""},null,{"$f":"'Abandoned Data'!Q24","v":""},null,null,""]
[null,{"$f":"'Abandoned Data'!N25&\".\"","v":"."},null,{"$f":"'Abandoned Data'!O25","v":""},null,{"$f":"'Abandoned Data'!P25","v":""},null,{"$f":"'Abandoned Data'!S25","v":""},null,{"$f":"'Abandoned Data'!R25","v":""},null,{"$f":"'Abandoned Data'!Q25","v":""},null,null,""]
[null,{"$f":"'Abandoned Data'!N26&\".\"","v":"."},null,{"$f":"'Abandoned Data'!O26","v":""},null,{"$f":"'Abandoned Data'!P26","v":""},null,{"$f":"'Abandoned Data'!S26","v":""},null,{"$f":"'Abandoned Data'!R26","v":""},null,{"$f":"'Abandoned Data'!Q26","v":""},null,null,""]
[null,{"$f":"'Abandoned Data'!N27&\".\"","v":"."},null,{"$f":"'Abandoned Data'!O27","v":""},null,{"$f":"'Abandoned Data'!P27","v":""},null,{"$f":"'Abandoned Data'!S27","v":""},null,{"$f":"'Abandoned Data'!R27","v":""},null,{"$f":"'Abandoned Data'!Q27","v":""},null,null,""]
[null,{"$f":"'Abandoned Data'!N28&\".\"","v":"."},null,{"$f":"'Abandoned Data'!O28","v":""},null,{"$f":"'Abandoned Data'!P28","v":""},null,{"$f":"'Abandoned Data'!S28","v":""},null,{"$f":"'Abandoned Data'!R28","v":""},null,{"$f":"'Abandoned Data'!Q28","v":""},null,null,""]
[null,{"$f":"'Abandoned Data'!N29&\".\"","v":"."},null,{"$f":"'Abandoned Data'!O29","v":""},null,{"$f":"'Abandoned Data'!P29","v":""},null,{"$f":"'Abandoned Data'!S29","v":""},null,{"$f":"'Abandoned Data'!R29","v":""},null,{"$f":"'Abandoned Data'!Q29","v":""},null,null,""]
[null,{"$f":"'Abandoned Data'!N30&\".\"","v":"."},null,{"$f":"'Abandoned Data'!O30","v":""},null,{"$f":"'Abandoned Data'!P30","v":""},null,{"$f":"'Abandoned Data'!S30","v":""},null,{"$f":"'Abandoned Data'!R30","v":""},null,{"$f":"'Abandoned Data'!Q30","v":""},null,null,""]
[null,{"$f":"'Abandoned Data'!N31&\".\"","v":"."},null,{"$f":"'Abandoned Data'!O31","v":""},null,{"$f":"'Abandoned Data'!P31","v":""},null,{"$f":"'Abandoned Data'!S31","v":""},null,{"$f":"'Abandoned Data'!R31","v":""},null,{"$f":"'Abandoned Data'!Q31","v":""},null,null,""]
[null,{"$f":"'Abandoned Data'!N32&\".\"","v":"."},null,{"$f":"'Abandoned Data'!O32","v":""},null,{"$f":"'Abandoned Data'!P32","v":""},null,{"$f":"'Abandoned Data'!S32","v":""},null,{"$f":"'Abandoned Data'!R32","v":""},null,{"$f":"'Abandoned Data'!Q32","v":""},null,null,""]
[null,{"$f":"'Abandoned Data'!N33&\".\"","v":"."},null,{"$f":"'Abandoned Data'!O33","v":""},null,{"$f":"'Abandoned Data'!P33","v":""},null,{"$f":"'Abandoned Data'!S33","v":""},null,{"$f":"'Abandoned Data'!R33","v":""},null,{"$f":"'Abandoned Data'!Q33","v":""},null,null,""]
[null,{"$f":"'Abandoned Data'!N34&\".\"","v":"."},null,{"$f":"'Abandoned Data'!O34","v":""},null,{"$f":"'Abandoned Data'!P34","v":""},null,{"$f":"'Abandoned Data'!S34","v":""},null,{"$f":"'Abandoned Data'!R34","v":""},null,{"$f":"'Abandoned Data'!Q34","v":""},null,null,""]
[null,{"$f":"'Abandoned Data'!N35&\".\"","v":"."},null,{"$f":"'Abandoned Data'!O35","v":""},null,{"$f":"'Abandoned Data'!P35","v":""},null,{"$f":"'Abandoned Data'!S35","v":""},null,{"$f":"'Abandoned Data'!R35","v":""},null,{"$f":"'Abandoned Data'!Q35","v":""},null,null,""]
[null,{"$f":"'Abandoned Data'!N36&\".\"","v":"."},null,{"$f":"'Abandoned Data'!O36","v":""},null,{"$f":"'Abandoned Data'!P36","v":""},null,{"$f":"'Abandoned Data'!S36","v":""},null,{"$f":"'Abandoned Data'!R36","v":""},null,{"$f":"'Abandoned Data'!Q36","v":""},null,null,""]
[null,{"$f":"'Abandoned Data'!N37&\".\"","v":"."},null,{"$f":"'Abandoned Data'!O37","v":""},null,{"$f":"'Abandoned Data'!P37","v":""},null,{"$f":"'Abandoned Data'!S37","v":""},null,{"$f":"'Abandoned Data'!R37","v":""},null,{"$f":"'Abandoned Data'!Q37","v":""},null,null,""]
[null,{"$f":"'Abandoned Data'!N38&\".\"","v":"."},null,{"$f":"'Abandoned Data'!O38","v":""},null,{"$f":"'Abandoned Data'!P38","v":""},null,{"$f":"'Abandoned Data'!S38","v":""},null,{"$f":"'Abandoned Data'!R38","v":""},null,{"$f":"'Abandoned Data'!Q38","v":""},null,null,""]
[null,{"$f":"'Abandoned Data'!N39&\".\"","v":"."},null,{"$f":"'Abandoned Data'!O39","v":""},null,{"$f":"'Abandoned Data'!P39","v":""},null,{"$f":"'Abandoned Data'!S39","v":""},null,{"$f":"'Abandoned Data'!R39","v":""},null,{"$f":"'Abandoned Data'!Q39","v":""},null,null,""]
[null,{"$f":"'Abandoned Data'!N40&\".\"","v":"."},null,{"$f":"'Abandoned Data'!O40","v":""},null,{"$f":"'Abandoned Data'!P40","v":""},null,{"$f":"'Abandoned Data'!S40","v":""},null,{"$f":"'Abandoned Data'!R40","v":""},null,{"$f":"'Abandoned Data'!Q40","v":""},null,null,""]
[null,{"$f":"'Abandoned Data'!N41&\".\"","v":"."},null,{"$f":"'Abandoned Data'!O41","v":""},null,{"$f":"'Abandoned Data'!P41","v":""},null,{"$f":"'Abandoned Data'!S41","v":""},null,{"$f":"'Abandoned Data'!R41","v":""},null,{"$f":"'Abandoned Data'!Q41","v":""},null,null,""]
[null,{"$f":"'Abandoned Data'!N42&\".\"","v":"."},null,{"$f":"'Abandoned Data'!O42","v":""},null,{"$f":"'Abandoned Data'!P42","v":""},null,{"$f":"'Abandoned Data'!S42","v":""},null,{"$f":"'Abandoned Data'!R42","v":""},null,{"$f":"'Abandoned Data'!Q42","v":""},null,null,""]
[null,{"$f":"'Abandoned Data'!N43&\".\"","v":"."},null,{"$f":"'Abandoned Data'!O43","v":""},null,{"$f":"'Abandoned Data'!P43","v":""},null,{"$f":"'Abandoned Data'!S43","v":""},null,{"$f":"'Abandoned Data'!R43","v":""},null,{"$f":"'Abandoned Data'!Q43","v":""},null,null,""]
[null,{"$f":"'Abandoned Data'!N44&\".\"","v":"."},null,{"$f":"'Abandoned Data'!O44","v":""},null,{"$f":"'Abandoned Data'!P44","v":""},null,{"$f":"'Abandoned Data'!S44","v":""},null,{"$f":"'Abandoned Data'!R44","v":""},null,{"$f":"'Abandoned Data'!Q44","v":""},null,null,{"$f":"IF(N46>0,IF(N46=\"Sealed\",0.8,\"\"),IF(L46=\"Sealed\",0.8,\"\"))","v":""}]
[null,{"$f":"'Abandoned Data'!N45&\".\"","v":"."},null,{"$f":"'Abandoned Data'!O45","v":""},null,{"$f":"'Abandoned Data'!P45","v":""},null,{"$f":"'Abandoned Data'!S45","v":""},null,{"$f":"'Abandoned Data'!R45","v":""},null,{"$f":"'Abandoned Data'!Q45","v":""},null,null,""]
[null,{"$f":"'Abandoned Data'!N46&\".\"","v":"."},null,{"$f":"'Abandoned Data'!O46","v":""},null,{"$f":"'Abandoned Data'!P46","v":""},null,{"$f":"'Abandoned Data'!S46","v":""},null,{"$f":"'Abandoned Data'!R46","v":""},null,{"$f":"'Abandoned Data'!Q46","v":""},null,null,""]
[null,{"$f":"'Abandoned Data'!N47&\".\"","v":"."},null,{"$f":"'Abandoned Data'!O47","v":""},null,{"$f":"'Abandoned Data'!P47","v":""},null,{"$f":"'Abandoned Data'!S47","v":""},null,{"$f":"'Abandoned Data'!R47","v":""},null,{"$f":"'Abandoned Data'!Q47","v":""},null,null,""]
[null,{"$f":"'Abandoned Data'!N48&\".\"","v":"."},null,{"$f":"'Abandoned Data'!O48","v":""},null,{"$f":"'Abandoned Data'!P48","v":""},null,{"$f":"'Abandoned Data'!S48","v":""},null,{"$f":"'Abandoned Data'!R48","v":""},null,{"$f":"'Abandoned Data'!Q48","v":""},null,null,""]
[null,{"$f":"'Abandoned Data'!N49&\".\"","v":"."},null,{"$f":"'Abandoned Data'!O49","v":""},null,{"$f":"'Abandoned Data'!P49","v":""},null,{"$f":"'Abandoned Data'!S49","v":""},null,{"$f":"'Abandoned Data'!R49","v":""},null,{"$f":"'Abandoned Data'!Q49","v":""},null,null,""]
[null,{"$f":"'Abandoned Data'!N50&\".\"","v":"."},null,{"$f":"'Abandoned Data'!O50","v":""},null,{"$f":"'Abandoned Data'!P50","v":""},null,{"$f":"'Abandoned Data'!S50","v":""},null,{"$f":"'Abandoned Data'!R50","v":""},null,{"$f":"'Abandoned Data'!Q50","v":""},null,null,""]
[null,{"$f":"'Abandoned Data'!N51&\".\"","v":"."},null,{"$f":"'Abandoned Data'!O51","v":""},null,{"$f":"'Abandoned Data'!P51","v":""},null,{"$f":"'Abandoned Data'!S51","v":""},null,{"$f":"'Abandoned Data'!R51","v":""},null,{"$f":"'Abandoned Data'!Q51","v":""},null,null,""]
[null,{"$f":"'Abandoned Data'!N52&\".\"","v":"."},null,{"$f":"'Abandoned Data'!O52","v":""},null,{"$f":"'Abandoned Data'!P52","v":""},null,{"$f":"'Abandoned Data'!S52","v":""},null,{"$f":"'Abandoned Data'!R52","v":""},null,{"$f":"'Abandoned Data'!Q52","v":""},null,null,""]
[null,{"$f":"'Abandoned Data'!N53&\".\"","v":"."},null,{"$f":"'Abandoned Data'!O53","v":""},null,{"$f":"'Abandoned Data'!P53","v":""},null,{"$f":"'Abandoned Data'!S53","v":""},null,{"$f":"'Abandoned Data'!R53","v":""},null,{"$f":"'Abandoned Data'!Q53","v":""},null,null,""]
[null,{"$f":"'Abandoned Data'!N54&\".\"","v":"."},null,{"$f":"'Abandoned Data'!O54","v":""},null,{"$f":"'Abandoned Data'!P54","v":""},null,{"$f":"'Abandoned Data'!S54","v":""},null,{"$f":"'Abandoned Data'!R54","v":""},null,{"$f":"'Abandoned Data'!Q54","v":""},null,null,""]
[null,{"$f":"'Abandoned Data'!N55&\".\"","v":"."},null,{"$f":"'Abandoned Data'!O55","v":""},null,{"$f":"'Abandoned Data'!P55","v":""},null,{"$f":"'Abandoned Data'!S55","v":""},null,{"$f":"'Abandoned Data'!R55","v":""},null,{"$f":"'Abandoned Data'!Q55","v":""},null,null,""]
[null,{"$f":"'Abandoned Data'!N56&\".\"","v":"."},null,{"$f":"'Abandoned Data'!O56","v":""},null,{"$f":"'Abandoned Data'!P56","v":""},null,{"$f":"'Abandoned Data'!S56","v":""},null,{"$f":"'Abandoned Data'!R56","v":""},null,{"$f":"'Abandoned Data'!Q56","v":""},null,null,""]
[null,{"$f":"'Abandoned Data'!N57&\".\"","v":"."},null,{"$f":"'Abandoned Data'!O57","v":""},null,{"$f":"'Abandoned Data'!P57","v":""},null,{"$f":"'Abandoned Data'!S57","v":""},null,{"$f":"'Abandoned Data'!R57","v":""},null,{"$f":"'Abandoned Data'!Q57","v":""},null,null,""]
[null,{"$f":"'Abandoned Data'!N58&\".\"","v":"."},null,{"$f":"'Abandoned Data'!O58","v":""},null,{"$f":"'Abandoned Data'!P58","v":""},null,{"$f":"'Abandoned Data'!S58","v":""},null,{"$f":"'Abandoned Data'!R58","v":""},null,{"$f":"'Abandoned Data'!Q58","v":""},null,null,""]
[null,{"$f":"'Abandoned Data'!N59&\".\"","v":"."},null,{"$f":"'Abandoned Data'!O59","v":""},null,{"$f":"'Abandoned Data'!P59","v":""},null,{"$f":"'Abandoned Data'!S59","v":""},null,{"$f":"'Abandoned Data'!R59","v":""},null,{"$f":"'Abandoned Data'!Q59","v":""},null,null,""]
[null,{"$f":"'Abandoned Data'!N60&\".\"","v":"."},null,{"$f":"'Abandoned Data'!O60","v":""},null,{"$f":"'Abandoned Data'!P60","v":""},null,{"$f":"'Abandoned Data'!S60","v":""},null,{"$f":"'Abandoned Data'!R60","v":""},null,{"$f":"'Abandoned Data'!Q60","v":""},null,null,""]
[null,{"$f":"'Abandoned Data'!N61&\".\"","v":"."},null,{"$f":"'Abandoned Data'!O61","v":""},null,{"$f":"'Abandoned Data'!P61","v":""},null,{"$f":"'Abandoned Data'!S61","v":""},null,{"$f":"'Abandoned Data'!R61","v":""},null,{"$f":"'Abandoned Data'!Q61","v":""},null,null,""]
[null,{"$f":"'Abandoned Data'!N62&\".\"","v":"."},null,{"$f":"'Abandoned Data'!O62","v":""},null,{"$f":"'Abandoned Data'!P62","v":""},null,{"$f":"'Abandoned Data'!S62","v":""},null,{"$f":"'Abandoned Data'!R62","v":""},null,{"$f":"'Abandoned Data'!Q62","v":""},null,null,""]
[null,{"$f":"'Abandoned Data'!N63&\".\"","v":"."},null,{"$f":"'Abandoned Data'!O63","v":""},null,{"$f":"'Abandoned Data'!P63","v":""},null,{"$f":"'Abandoned Data'!S63","v":""},null,{"$f":"'Abandoned Data'!R63","v":""},null,{"$f":"'Abandoned Data'!Q63","v":""},null,null,""]
[null,{"$f":"'Abandoned Data'!N64&\".\"","v":"."},null,{"$f":"'Abandoned Data'!O64","v":""},null,{"$f":"'Abandoned Data'!P64","v":""},null,{"$f":"'Abandoned Data'!S64","v":""},null,{"$f":"'Abandoned Data'!R64","v":""},null,{"$f":"'Abandoned Data'!Q64","v":""},null,null,""]
[null,{"$f":"'Abandoned Data'!N65&\".\"","v":"."},null,{"$f":"'Abandoned Data'!O65","v":""},null,{"$f":"'Abandoned Data'!P65","v":""},null,{"$f":"'Abandoned Data'!S65","v":""},null,{"$f":"'Abandoned Data'!R65","v":""},null,{"$f":"'Abandoned Data'!Q65","v":""},null,null,""]
[null,{"$f":"'Abandoned Data'!N66&\".\"","v":"."},null,{"$f":"'Abandoned Data'!O66","v":""},null,{"$f":"'Abandoned Data'!P66","v":""},null,{"$f":"'Abandoned Data'!S66","v":""},null,{"$f":"'Abandoned Data'!R66","v":""},null,{"$f":"'Abandoned Data'!Q66","v":""},null,null,""]
[null,{"$f":"'Abandoned Data'!N67&\".\"","v":"."},null,{"$f":"'Abandoned Data'!O67","v":""},null,{"$f":"'Abandoned Data'!P67","v":""},null,{"$f":"'Abandoned Data'!S67","v":""},null,{"$f":"'Abandoned Data'!R67","v":""},null,{"$f":"'Abandoned Data'!Q67","v":""},null,null,""]
[null,{"$f":"'Abandoned Data'!N68&\".\"","v":"."},null,{"$f":"'Abandoned Data'!O68","v":""},null,{"$f":"'Abandoned Data'!P68","v":""},null,{"$f":"'Abandoned Data'!S68","v":""},null,{"$f":"'Abandoned Data'!R68","v":""},null,{"$f":"'Abandoned Data'!Q68","v":""},null,null,""]
[null,{"$f":"'Abandoned Data'!N69&\".\"","v":"."},null,{"$f":"'Abandoned Data'!O69","v":""},null,{"$f":"'Abandoned Data'!P69","v":""},null,{"$f":"'Abandoned Data'!S69","v":""},null,{"$f":"'Abandoned Data'!R69","v":""},null,{"$f":"'Abandoned Data'!Q69","v":""},null,null,""]
[null,{"$f":"'Abandoned Data'!N70&\".\"","v":"."},null,{"$f":"'Abandoned Data'!O70","v":""},null,{"$f":"'Abandoned Data'!P70","v":""},null,{"$f":"'Abandoned Data'!S70","v":""},null,{"$f":"'Abandoned Data'!R70","v":""},null,{"$f":"'Abandoned Data'!Q70","v":""},null,null,""]
[null,{"$f":"'Abandoned Data'!N71&\".\"","v":"."},null,{"$f":"'Abandoned Data'!O71","v":""},null,{"$f":"'Abandoned Data'!P71","v":""},null,{"$f":"'Abandoned Data'!S71","v":""},null,{"$f":"'Abandoned Data'!R71","v":""},null,{"$f":"'Abandoned Data'!Q71","v":""},null,null,""]
[null,{"$f":"'Abandoned Data'!N72&\".\"","v":"."},null,{"$f":"'Abandoned Data'!O72","v":""},null,{"$f":"'Abandoned Data'!P72","v":""},null,{"$f":"'Abandoned Data'!S72","v":""},null,{"$f":"'Abandoned Data'!R72","v":""},null,{"$f":"'Abandoned Data'!Q72","v":""},null,null,""]
[null,{"$f":"'Abandoned Data'!N73&\".\"","v":"."},null,{"$f":"'Abandoned Data'!O73","v":""},null,{"$f":"'Abandoned Data'!P73","v":""},null,{"$f":"'Abandoned Data'!S73","v":""},null,{"$f":"'Abandoned Data'!R73","v":""},null,{"$f":"'Abandoned Data'!Q73","v":""},null,null,""]
[null,{"$f":"'Abandoned Data'!N74&\".\"","v":"."},null,{"$f":"'Abandoned Data'!O74","v":""},null,{"$f":"'Abandoned Data'!P74","v":""},null,{"$f":"'Abandoned Data'!S74","v":""},null,{"$f":"'Abandoned Data'!R74","v":""},null,{"$f":"'Abandoned Data'!Q74","v":""},null,null,""]
[null,{"$f":"'Abandoned Data'!N75&\".\"","v":"."},null,{"$f":"'Abandoned Data'!O75","v":""},null,{"$f":"'Abandoned Data'!P75","v":""},null,{"$f":"'Abandoned Data'!S75","v":""},null,{"$f":"'Abandoned Data'!R75","v":""},null,{"$f":"'Abandoned Data'!Q75","v":""},null,null,""]
[null,{"$f":"'Abandoned Data'!N76&\".\"","v":"."},null,{"$f":"'Abandoned Data'!O76","v":""},null,{"$f":"'Abandoned Data'!P76","v":""},null,{"$f":"'Abandoned Data'!S76","v":""},null,{"$f":"'Abandoned Data'!R76","v":""},null,{"$f":"'Abandoned Data'!Q76","v":""},null,null,""]
[null,{"$f":"'Abandoned Data'!N77&\".\"","v":"."},null,{"$f":"'Abandoned Data'!O77","v":""},null,{"$f":"'Abandoned Data'!P77","v":""},null,{"$f":"'Abandoned Data'!S77","v":""},null,{"$f":"'Abandoned Data'!R77","v":""},null,{"$f":"'Abandoned Data'!Q77","v":""},null,null,""]
[null,{"$f":"'Abandoned Data'!N78&\".\"","v":"."},null,{"$f":"'Abandoned Data'!O78","v":""},null,{"$f":"'Abandoned Data'!P78","v":""},null,{"$f":"'Abandoned Data'!S78","v":""},null,{"$f":"'Abandoned Data'!R78","v":""},null,{"$f":"'Abandoned Data'!Q78","v":""},null,null,""]
[null,{"$f":"'Abandoned Data'!N79&\".\"","v":"."},null,{"$f":"'Abandoned Data'!O79","v":""},null,{"$f":"'Abandoned Data'!P79","v":""},null,{"$f":"'Abandoned Data'!S79","v":""},null,{"$f":"'Abandoned Data'!R79","v":""},null,{"$f":"'Abandoned Data'!Q79","v":""},null,null,""]
[null,{"$f":"'Abandoned Data'!N80&\".\"","v":"."},null,{"$f":"'Abandoned Data'!O80","v":""},null,{"$f":"'Abandoned Data'!P80","v":""},null,{"$f":"'Abandoned Data'!S80","v":""},null,{"$f":"'Abandoned Data'!R80","v":""},null,{"$f":"'Abandoned Data'!Q80","v":""},null,null,""]
[null,{"$f":"'Abandoned Data'!N81&\".\"","v":"."},null,{"$f":"'Abandoned Data'!O81","v":""},null,{"$f":"'Abandoned Data'!P81","v":""},null,{"$f":"'Abandoned Data'!S81","v":""},null,{"$f":"'Abandoned Data'!R81","v":""},null,{"$f":"'Abandoned Data'!Q81","v":""},null,null,""]
[null,{"$f":"'Abandoned Data'!N82&\".\"","v":"."},null,{"$f":"'Abandoned Data'!O82","v":""},null,{"$f":"'Abandoned Data'!P82","v":""},null,{"$f":"'Abandoned Data'!S82","v":""},null,{"$f":"'Abandoned Data'!R82","v":""},null,{"$f":"'Abandoned Data'!Q82","v":""},null,null,""]
[null,{"$f":"'Abandoned Data'!N83&\".\"","v":"."},null,{"$f":"'Abandoned Data'!O83","v":""},null,{"$f":"'Abandoned Data'!P83","v":""},null,{"$f":"'Abandoned Data'!S83","v":""},null,{"$f":"'Abandoned Data'!R83","v":""},null,{"$f":"'Abandoned Data'!Q83","v":""},null,null,""]
[null,{"$f":"'Abandoned Data'!N84&\".\"","v":"."},null,{"$f":"'Abandoned Data'!O84","v":""},null,{"$f":"'Abandoned Data'!P84","v":""},null,{"$f":"'Abandoned Data'!S84","v":""},null,{"$f":"'Abandoned Data'!R84","v":""},null,{"$f":"'Abandoned Data'!Q84","v":""},null,null,""]
[null,{"$f":"'Abandoned Data'!N85&\".\"","v":"."},null,{"$f":"'Abandoned Data'!O85","v":""},null,{"$f":"'Abandoned Data'!P85","v":""},null,{"$f":"'Abandoned Data'!S85","v":""},null,{"$f":"'Abandoned Data'!R85","v":""},null,{"$f":"'Abandoned Data'!Q85","v":""},null,null,""]
[null,{"$f":"'Abandoned Data'!N86&\".\"","v":"."},null,{"$f":"'Abandoned Data'!O86","v":""},null,{"$f":"'Abandoned Data'!P86","v":""},null,{"$f":"'Abandoned Data'!S86","v":""},null,{"$f":"'Abandoned Data'!R86","v":""},null,{"$f":"'Abandoned Data'!Q86","v":""},null,null,""]
[null,{"$f":"'Abandoned Data'!N87&\".\"","v":"."},null,{"$f":"'Abandoned Data'!O87","v":""},null,{"$f":"'Abandoned Data'!P87","v":""},null,{"$f":"'Abandoned Data'!S87","v":""},null,{"$f":"'Abandoned Data'!R87","v":""},null,{"$f":"'Abandoned Data'!Q87","v":""},null,null,""]
[null,{"$f":"'Abandoned Data'!N88&\".\"","v":"."},null,{"$f":"'Abandoned Data'!O88","v":""},null,{"$f":"'Abandoned Data'!P88","v":""},null,{"$f":"'Abandoned Data'!S88","v":""},null,{"$f":"'Abandoned Data'!R88","v":""},null,{"$f":"'Abandoned Data'!Q88","v":""},null,null,""]
[null,{"$f":"'Abandoned Data'!N89&\".\"","v":"."},null,{"$f":"'Abandoned Data'!O89","v":""},null,{"$f":"'Abandoned Data'!P89","v":""},null,{"$f":"'Abandoned Data'!S89","v":""},null,{"$f":"'Abandoned Data'!R89","v":""},null,{"$f":"'Abandoned Data'!Q89","v":""},null,null,""]
[null,{"$f":"'Abandoned Data'!N90&\".\"","v":"."},null,{"$f":"'Abandoned Data'!O90","v":""},null,{"$f":"'Abandoned Data'!P90","v":""},null,{"$f":"'Abandoned Data'!S90","v":""},null,{"$f":"'Abandoned Data'!R90","v":""},null,{"$f":"'Abandoned Data'!Q90","v":""},null,null,""]
[null,{"$f":"'Abandoned Data'!N91&\".\"","v":"."},null,{"$f":"'Abandoned Data'!O91","v":""},null,{"$f":"'Abandoned Data'!P91","v":""},null,{"$f":"'Abandoned Data'!S91","v":""},null,{"$f":"'Abandoned Data'!R91","v":""},null,{"$f":"'Abandoned Data'!Q91","v":""},null,null,""]
[null,{"$f":"'Abandoned Data'!N92&\".\"","v":"."},null,{"$f":"'Abandoned Data'!O92","v":""},null,{"$f":"'Abandoned Data'!P92","v":""},null,{"$f":"'Abandoned Data'!S92","v":""},null,{"$f":"'Abandoned Data'!R92","v":""},null,{"$f":"'Abandoned Data'!Q92","v":""},null,null,""]
[null,{"$f":"'Abandoned Data'!N93&\".\"","v":"."},null,{"$f":"'Abandoned Data'!O93","v":""},null,{"$f":"'Abandoned Data'!P93","v":""},null,{"$f":"'Abandoned Data'!S93","v":""},null,{"$f":"'Abandoned Data'!R93","v":""},null,{"$f":"'Abandoned Data'!Q93","v":""},null,null,""]
[null,{"$f":"'Abandoned Data'!N94&\".\"","v":"."},null,{"$f":"'Abandoned Data'!O94","v":""},null,{"$f":"'Abandoned Data'!P94","v":""},null,{"$f":"'Abandoned Data'!S94","v":""},null,{"$f":"'Abandoned Data'!R94","v":""},null,{"$f":"'Abandoned Data'!Q94","v":""},null,null,""]
[null,{"$f":"'Abandoned Data'!N95&\".\"","v":"."},null,{"$f":"'Abandoned Data'!O95","v":""},null,{"$f":"'Abandoned Data'!P95","v":""},null,{"$f":"'Abandoned Data'!S95","v":""},null,{"$f":"'Abandoned Data'!R95","v":""},null,{"$f":"'Abandoned Data'!Q95","v":""},null,null,""]
[null,{"$f":"'Abandoned Data'!N96&\".\"","v":"."},null,{"$f":"'Abandoned Data'!O96","v":""},null,{"$f":"'Abandoned Data'!P96","v":""},null,{"$f":"'Abandoned Data'!S96","v":""},null,{"$f":"'Abandoned Data'!R96","v":""},null,{"$f":"'Abandoned Data'!Q96","v":""},null,null,""]
[null,{"$f":"'Abandoned Data'!N97&\".\"","v":"."},null,{"$f":"'Abandoned Data'!O97","v":""},null,{"$f":"'Abandoned Data'!P97","v":""},null,{"$f":"'Abandoned Data'!S97","v":""},null,{"$f":"'Abandoned Data'!R97","v":""},null,{"$f":"'Abandoned Data'!Q97","v":""},null,null,""]
[null,{"$f":"'Abandoned Data'!N98&\".\"","v":"."},null,{"$f":"'Abandoned Data'!O98","v":""},null,{"$f":"'Abandoned Data'!P98","v":""},null,{"$f":"'Abandoned Data'!S98","v":""},null,{"$f":"'Abandoned Data'!R98","v":""},null,{"$f":"'Abandoned Data'!Q98","v":""},null,null,""]
[null,{"$f":"'Abandoned Data'!N99&\".\"","v":"."},null,{"$f":"'Abandoned Data'!O99","v":""},null,{"$f":"'Abandoned Data'!P99","v":""},null,{"$f":"'Abandoned Data'!S99","v":""},null,{"$f":"'Abandoned Data'!R99","v":""},null,{"$f":"'Abandoned Data'!Q99","v":""},null,null,""]
[null,{"$f":"'Abandoned Data'!N100&\".\"","v":"."},null,{"$f":"'Abandoned Data'!O100","v":""},null,{"$f":"'Abandoned Data'!P100","v":""},null,{"$f":"'Abandoned Data'!S100","v":""},null,{"$f":"'Abandoned Data'!R100","v":""},null,{"$f":"'Abandoned Data'!Q100","v":""},null,null,""]
[null,{"$f":"'Abandoned Data'!N101&\".\"","v":"."},null,{"$f":"'Abandoned Data'!O101","v":""},null,{"$f":"'Abandoned Data'!P101","v":""},null,{"$f":"'Abandoned Data'!S101","v":""},null,{"$f":"'Abandoned Data'!R101","v":""},null,{"$f":"'Abandoned Data'!Q101","v":""},null,null,""]
[null,{"$f":"'Abandoned Data'!N102&\".\"","v":"."},null,{"$f":"'Abandoned Data'!O102","v":""},null,{"$f":"'Abandoned Data'!P102","v":""},null,{"$f":"'Abandoned Data'!S102","v":""},null,{"$f":"'Abandoned Data'!R102","v":""},null,{"$f":"'Abandoned Data'!Q102","v":""},null,null,""]
[null,{"$f":"'Abandoned Data'!N103&\".\"","v":"."},null,{"$f":"'Abandoned Data'!O103","v":""},null,{"$f":"'Abandoned Data'!P103","v":""},null,{"$f":"'Abandoned Data'!S103","v":""},null,{"$f":"'Abandoned Data'!R103","v":""},null,{"$f":"'Abandoned Data'!Q103","v":""},null,null,""]
[null,{"$f":"'Abandoned Data'!N104&\".\"","v":"."},null,{"$f":"'Abandoned Data'!O104","v":""},null,{"$f":"'Abandoned Data'!P104","v":""},null,{"$f":"'Abandoned Data'!S104","v":""},null,{"$f":"'Abandoned Data'!R104","v":""},null,{"$f":"'Abandoned Data'!Q104","v":""},null,null,""]
[null,{"$f":"'Abandoned Data'!N105&\".\"","v":"."},null,{"$f":"'Abandoned Data'!O105","v":""},null,{"$f":"'Abandoned Data'!P105","v":""},null,{"$f":"'Abandoned Data'!S105","v":""},null,{"$f":"'Abandoned Data'!R105","v":""},null,{"$f":"'Abandoned Data'!Q105","v":""},null,null,""]
[null,{"$f":"'Abandoned Data'!N106&\".\"","v":"."},null,{"$f":"'Abandoned Data'!O106","v":""},null,{"$f":"'Abandoned Data'!P106","v":""},null,{"$f":"'Abandoned Data'!S106","v":""},null,{"$f":"'Abandoned Data'!R106","v":""},null,{"$f":"'Abandoned Data'!Q106","v":""},null,null,""]
[null,{"$f":"'Abandoned Data'!N107&\".\"","v":"."},null,{"$f":"'Abandoned Data'!O107","v":""},null,{"$f":"'Abandoned Data'!P107","v":""},null,{"$f":"'Abandoned Data'!S107","v":""},null,{"$f":"'Abandoned Data'!R107","v":""},null,{"$f":"'Abandoned Data'!Q107","v":""},null,null,""]
[null,{"$f":"'Abandoned Data'!N108&\".\"","v":"."},null,{"$f":"'Abandoned Data'!O108","v":""},null,{"$f":"'Abandoned Data'!P108","v":""},null,{"$f":"'Abandoned Data'!S108","v":""},null,{"$f":"'Abandoned Data'!R108","v":""},null,{"$f":"'Abandoned Data'!Q108","v":""},null,null,{"$f":"IF(N110>0,IF(N110=\"Sealed\",0.8,\"\"),IF(L110=\"Sealed\",0.8,\"\"))","v":""}]
[null,{"$f":"'Abandoned Data'!N109&\".\"","v":"."},null,{"$f":"'Abandoned Data'!O109","v":""},null,{"$f":"'Abandoned Data'!P109","v":""},null,{"$f":"'Abandoned Data'!S109","v":""},null,{"$f":"'Abandoned Data'!R109","v":""},null,{"$f":"'Abandoned Data'!Q109","v":""},null,null,""]
[null,{"$f":"'Abandoned Data'!N110&\".\"","v":"."},null,{"$f":"'Abandoned Data'!O110","v":""},null,{"$f":"'Abandoned Data'!P110","v":""},null,{"$f":"'Abandoned Data'!S110","v":""},null,{"$f":"'Abandoned Data'!R110","v":""},null,{"$f":"'Abandoned Data'!Q110","v":""},null,null,""]
[null,{"$f":"'Abandoned Data'!N111&\".\"","v":"."},null,{"$f":"'Abandoned Data'!O111","v":""},null,{"$f":"'Abandoned Data'!P111","v":""},null,{"$f":"'Abandoned Data'!S111","v":""},null,{"$f":"'Abandoned Data'!R111","v":""},null,{"$f":"'Abandoned Data'!Q111","v":""},null,null,""]
[null,{"$f":"'Abandoned Data'!N112&\".\"","v":"."},null,{"$f":"'Abandoned Data'!O112","v":""},null,{"$f":"'Abandoned Data'!P112","v":""},null,{"$f":"'Abandoned Data'!S112","v":""},null,{"$f":"'Abandoned Data'!R112","v":""},null,{"$f":"'Abandoned Data'!Q112","v":""},null,null,""]
[null,{"$f":"'Abandoned Data'!N113&\".\"","v":"."},null,{"$f":"'Abandoned Data'!O113","v":""},null,{"$f":"'Abandoned Data'!P113","v":""},null,{"$f":"'Abandoned Data'!S113","v":""},null,{"$f":"'Abandoned Data'!R113","v":""},null,{"$f":"'Abandoned Data'!Q113","v":""},null,null,""]
[null,{"$f":"'Abandoned Data'!N114&\".\"","v":"."},null,{"$f":"'Abandoned Data'!O114","v":""},null,{"$f":"'Abandoned Data'!P114","v":""},null,{"$f":"'Abandoned Data'!S114","v":""},null,{"$f":"'Abandoned Data'!R114","v":""},null,{"$f":"'Abandoned Data'!Q114","v":""},null,null,""]
[null,{"$f":"'Abandoned Data'!N115&\".\"","v":"."},null,{"$f":"'Abandoned Data'!O115","v":""},null,{"$f":"'Abandoned Data'!P115","v":""},null,{"$f":"'Abandoned Data'!S115","v":""},null,{"$f":"'Abandoned Data'!R115","v":""},null,{"$f":"'Abandoned Data'!Q115","v":""},null,null,""]
[null,{"$f":"'Abandoned Data'!N116&\".\"","v":"."},null,{"$f":"'Abandoned Data'!O116","v":""},null,{"$f":"'Abandoned Data'!P116","v":""},null,{"$f":"'Abandoned Data'!S116","v":""},null,{"$f":"'Abandoned Data'!R116","v":""},null,{"$f":"'Abandoned Data'!Q116","v":""},null,null,""]
[null,{"$f":"'Abandoned Data'!N117&\".\"","v":"."},null,{"$f":"'Abandoned Data'!O117","v":""},null,{"$f":"'Abandoned Data'!P117","v":""},null,{"$f":"'Abandoned Data'!S117","v":""},null,{"$f":"'Abandoned Data'!R117","v":""},null,{"$f":"'Abandoned Data'!Q117","v":""},null,null,""]
[null,{"$f":"'Abandoned Data'!N118&\".\"","v":"."},null,{"$f":"'Abandoned Data'!O118","v":""},null,{"$f":"'Abandoned Data'!P118","v":""},null,{"$f":"'Abandoned Data'!S118","v":""},null,{"$f":"'Abandoned Data'!R118","v":""},null,{"$f":"'Abandoned Data'!Q118","v":""},null,null,""]
[null,{"$f":"'Abandoned Data'!N119&\".\"","v":"."},null,{"$f":"'Abandoned Data'!O119","v":""},null,{"$f":"'Abandoned Data'!P119","v":""},null,{"$f":"'Abandoned Data'!S119","v":""},null,{"$f":"'Abandoned Data'!R119","v":""},null,{"$f":"'Abandoned Data'!Q119","v":""},null,null,""]
[null,{"$f":"'Abandoned Data'!N120&\".\"","v":"."},null,{"$f":"'Abandoned Data'!O120","v":""},null,{"$f":"'Abandoned Data'!P120","v":""},null,{"$f":"'Abandoned Data'!S120","v":""},null,{"$f":"'Abandoned Data'!R120","v":""},null,{"$f":"'Abandoned Data'!Q120","v":""},null,null,""]
[null,{"$f":"'Abandoned Data'!N121&\".\"","v":"."},null,{"$f":"'Abandoned Data'!O121","v":""},null,{"$f":"'Abandoned Data'!P121","v":""},null,{"$f":"'Abandoned Data'!S121","v":""},null,{"$f":"'Abandoned Data'!R121","v":""},null,{"$f":"'Abandoned Data'!Q121","v":""},null,null,""]
[null,{"$f":"'Abandoned Data'!N122&\".\"","v":"."},null,{"$f":"'Abandoned Data'!O122","v":""},null,{"$f":"'Abandoned Data'!P122","v":""},null,{"$f":"'Abandoned Data'!S122","v":""},null,{"$f":"'Abandoned Data'!R122","v":""},null,{"$f":"'Abandoned Data'!Q122","v":""},null,null,""]
[null,{"$f":"'Abandoned Data'!N123&\".\"","v":"."},null,{"$f":"'Abandoned Data'!O123","v":""},null,{"$f":"'Abandoned Data'!P123","v":""},null,{"$f":"'Abandoned Data'!S123","v":""},null,{"$f":"'Abandoned Data'!R123","v":""},null,{"$f":"'Abandoned Data'!Q123","v":""},null,null,""]
[null,{"$f":"'Abandoned Data'!N124&\".\"","v":"."},null,{"$f":"'Abandoned Data'!O124","v":""},null,{"$f":"'Abandoned Data'!P124","v":""},null,{"$f":"'Abandoned Data'!S124","v":""},null,{"$f":"'Abandoned Data'!R124","v":""},null,{"$f":"'Abandoned Data'!Q124","v":""},null,null,""]
[null,{"$f":"'Abandoned Data'!N125&\".\"","v":"."},null,{"$f":"'Abandoned Data'!O125","v":""},null,{"$f":"'Abandoned Data'!P125","v":""},null,{"$f":"'Abandoned Data'!S125","v":""},null,{"$f":"'Abandoned Data'!R125","v":""},null,{"$f":"'Abandoned Data'!Q125","v":""},null,null,""]
[null,{"$f":"'Abandoned Data'!N126&\".\"","v":"."},null,{"$f":"'Abandoned Data'!O126","v":""},null,{"$f":"'Abandoned Data'!P126","v":""},null,{"$f":"'Abandoned Data'!S126","v":""},null,{"$f":"'Abandoned Data'!R126","v":""},null,{"$f":"'Abandoned Data'!Q126","v":""},null,null,""]
[null,{"$f":"'Abandoned Data'!N127&\".\"","v":"."},null,{"$f":"'Abandoned Data'!O127","v":""},null,{"$f":"'Abandoned Data'!P127","v":""},null,{"$f":"'Abandoned Data'!S127","v":""},null,{"$f":"'Abandoned Data'!R127","v":""},null,{"$f":"'Abandoned Data'!Q127","v":""},null,null,""]
[null,{"$f":"'Abandoned Data'!N128&\".\"","v":"."},null,{"$f":"'Abandoned Data'!O128","v":""},null,{"$f":"'Abandoned Data'!P128","v":""},null,{"$f":"'Abandoned Data'!S128","v":""},null,{"$f":"'Abandoned Data'!R128","v":""},null,{"$f":"'Abandoned Data'!Q128","v":""},null,null,""]
[null,{"$f":"'Abandoned Data'!N129&\".\"","v":"."},null,{"$f":"'Abandoned Data'!O129","v":""},null,{"$f":"'Abandoned Data'!P129","v":""},null,{"$f":"'Abandoned Data'!S129","v":""},null,{"$f":"'Abandoned Data'!R129","v":""},null,{"$f":"'Abandoned Data'!Q129","v":""},null,null,""]
[null,{"$f":"'Abandoned Data'!N130&\".\"","v":"."},null,{"$f":"'Abandoned Data'!O130","v":""},null,{"$f":"'Abandoned Data'!P130","v":""},null,{"$f":"'Abandoned Data'!S130","v":""},null,{"$f":"'Abandoned Data'!R130","v":""},null,{"$f":"'Abandoned Data'!Q130","v":""},null,null,""]
[null,{"$f":"'Abandoned Data'!N131&\".\"","v":"."},null,{"$f":"'Abandoned Data'!O131","v":""},null,{"$f":"'Abandoned Data'!P131","v":""},null,{"$f":"'Abandoned Data'!S131","v":""},null,{"$f":"'Abandoned Data'!R131","v":""},null,{"$f":"'Abandoned Data'!Q131","v":""},null,null,""]
[null,{"$f":"'Abandoned Data'!N132&\".\"","v":"."},null,{"$f":"'Abandoned Data'!O132","v":""},null,{"$f":"'Abandoned Data'!P132","v":""},null,{"$f":"'Abandoned Data'!S132","v":""},null,{"$f":"'Abandoned Data'!R132","v":""},null,{"$f":"'Abandoned Data'!Q132","v":""},null,null,""]
[null,{"$f":"'Abandoned Data'!N133&\".\"","v":"."},null,{"$f":"'Abandoned Data'!O133","v":""},null,{"$f":"'Abandoned Data'!P133","v":""},null,{"$f":"'Abandoned Data'!S133","v":""},null,{"$f":"'Abandoned Data'!R133","v":""},null,{"$f":"'Abandoned Data'!Q133","v":""},null,null,""]
[null,{"$f":"'Abandoned Data'!N134&\".\"","v":"."},null,{"$f":"'Abandoned Data'!O134","v":""},null,{"$f":"'Abandoned Data'!P134","v":""},null,{"$f":"'Abandoned Data'!S134","v":""},null,{"$f":"'Abandoned Data'!R134","v":""},null,{"$f":"'Abandoned Data'!Q134","v":""},null,null,""]
[null,{"$f":"'Abandoned Data'!N135&\".\"","v":"."},null,{"$f":"'Abandoned Data'!O135","v":""},null,{"$f":"'Abandoned Data'!P135","v":""},null,{"$f":"'Abandoned Data'!S135","v":""},null,{"$f":"'Abandoned Data'!R135","v":""},null,{"$f":"'Abandoned Data'!Q135","v":""},null,null,""]
[null,{"$f":"'Abandoned Data'!N136&\".\"","v":"."},null,{"$f":"'Abandoned Data'!O136","v":""},null,{"$f":"'Abandoned Data'!P136","v":""},null,{"$f":"'Abandoned Data'!S136","v":""},null,{"$f":"'Abandoned Data'!R136","v":""},null,{"$f":"'Abandoned Data'!Q136","v":""},null,null,""]
[null,{"$f":"'Abandoned Data'!N137&\".\"","v":"."},null,{"$f":"'Abandoned Data'!O137","v":""},null,{"$f":"'Abandoned Data'!P137","v":""},null,{"$f":"'Abandoned Data'!S137","v":""},null,{"$f":"'Abandoned Data'!R137","v":""},null,{"$f":"'Abandoned Data'!Q137","v":""},null,null,""]
[null,{"$f":"'Abandoned Data'!N138&\".\"","v":"."},null,{"$f":"'Abandoned Data'!O138","v":""},null,{"$f":"'Abandoned Data'!P138","v":""},null,{"$f":"'Abandoned Data'!S138","v":""},null,{"$f":"'Abandoned Data'!R138","v":""},null,{"$f":"'Abandoned Data'!Q138","v":""},null,null,""]
[null,{"$f":"'Abandoned Data'!N139&\".\"","v":"."},null,{"$f":"'Abandoned Data'!O139","v":""},null,{"$f":"'Abandoned Data'!P139","v":""},null,{"$f":"'Abandoned Data'!S139","v":""},null,{"$f":"'Abandoned Data'!R139","v":""},null,{"$f":"'Abandoned Data'!Q139","v":""},null,null,""]
[null,{"$f":"'Abandoned Data'!N140&\".\"","v":"."},null,{"$f":"'Abandoned Data'!O140","v":""},null,{"$f":"'Abandoned Data'!P140","v":""},null,{"$f":"'Abandoned Data'!S140","v":""},null,{"$f":"'Abandoned Data'!R140","v":""},null,{"$f":"'Abandoned Data'!Q140","v":""},null,null,""]
[null,{"$f":"'Abandoned Data'!N141&\".\"","v":"."},null,{"$f":"'Abandoned Data'!O141","v":""},null,{"$f":"'Abandoned Data'!P141","v":""},null,{"$f":"'Abandoned Data'!S141","v":""},null,{"$f":"'Abandoned Data'!R141","v":""},null,{"$f":"'Abandoned Data'!Q141","v":""},null,null,""]
[null,{"$f":"'Abandoned Data'!N142&\".\"","v":"."},null,{"$f":"'Abandoned Data'!O142","v":""},null,{"$f":"'Abandoned Data'!P142","v":""},null,{"$f":"'Abandoned Data'!S142","v":""},null,{"$f":"'Abandoned Data'!R142","v":""},null,{"$f":"'Abandoned Data'!Q142","v":""},null,null,""]
[null,{"$f":"'Abandoned Data'!N143&\".\"","v":"."},null,{"$f":"'Abandoned Data'!O143","v":""},null,{"$f":"'Abandoned Data'!P143","v":""},null,{"$f":"'Abandoned Data'!S143","v":""},null,{"$f":"'Abandoned Data'!R143","v":""},null,{"$f":"'Abandoned Data'!Q143","v":""},null,null,""]
[null,{"$f":"'Abandoned Data'!N144&\".\"","v":"."},null,{"$f":"'Abandoned Data'!O144","v":""},null,{"$f":"'Abandoned Data'!P144","v":""},null,{"$f":"'Abandoned Data'!S144","v":""},null,{"$f":"'Abandoned Data'!R144","v":""},null,{"$f":"'Abandoned Data'!Q144","v":""},null,null,""]
[null,{"$f":"'Abandoned Data'!N145&\".\"","v":"."},null,{"$f":"'Abandoned Data'!O145","v":""},null,{"$f":"'Abandoned Data'!P145","v":""},null,{"$f":"'Abandoned Data'!S145","v":""},null,{"$f":"'Abandoned Data'!R145","v":""},null,{"$f":"'Abandoned Data'!Q145","v":""},null,null,""]
[null,{"$f":"'Abandoned Data'!N146&\".\"","v":"."},null,{"$f":"'Abandoned Data'!O146","v":""},null,{"$f":"'Abandoned Data'!P146","v":""},null,{"$f":"'Abandoned Data'!S146","v":""},null,{"$f":"'Abandoned Data'!R146","v":""},null,{"$f":"'Abandoned Data'!Q146","v":""},null,null,""]
[null,{"$f":"'Abandoned Data'!N147&\".\"","v":"."},null,{"$f":"'Abandoned Data'!O147","v":""},null,{"$f":"'Abandoned Data'!P147","v":""},null,{"$f":"'Abandoned Data'!S147","v":""},null,{"$f":"'Abandoned Data'!R147","v":""},null,{"$f":"'Abandoned Data'!Q147","v":""},null,null,""]
[null,{"$f":"'Abandoned Data'!N148&\".\"","v":"."},null,{"$f":"'Abandoned Data'!O148","v":""},null,{"$f":"'Abandoned Data'!P148","v":""},null,{"$f":"'Abandoned Data'!S148","v":""},null,{"$f":"'Abandoned Data'!R148","v":""},null,{"$f":"'Abandoned Data'!Q148","v":""},null,null,""]
[null,{"$f":"'Abandoned Data'!N149&\".\"","v":"."},null,{"$f":"'Abandoned Data'!O149","v":""},null,{"$f":"'Abandoned Data'!P149","v":""},null,{"$f":"'Abandoned Data'!S149","v":""},null,{"$f":"'Abandoned Data'!R149","v":""},null,{"$f":"'Abandoned Data'!Q149","v":""},null,null,""]
[null,{"$f":"'Abandoned Data'!N150&\".\"","v":"."},null,{"$f":"'Abandoned Data'!O150","v":""},null,{"$f":"'Abandoned Data'!P150","v":""},null,{"$f":"'Abandoned Data'!S150","v":""},null,{"$f":"'Abandoned Data'!R150","v":""},null,{"$f":"'Abandoned Data'!Q150","v":""},null,null,""]
[null,{"$f":"'Abandoned Data'!N151&\".\"","v":"."},null,{"$f":"'Abandoned Data'!O151","v":""},null,{"$f":"'Abandoned Data'!P151","v":""},null,{"$f":"'Abandoned Data'!S151","v":""},null,{"$f":"'Abandoned Data'!R151","v":""},null,{"$f":"'Abandoned Data'!Q151","v":""},null,null,""]
[null,{"$f":"'Abandoned Data'!N152&\".\"","v":"."},null,{"$f":"'Abandoned Data'!O152","v":""},null,{"$f":"'Abandoned Data'!P152","v":""},null,{"$f":"'Abandoned Data'!S152","v":""},null,{"$f":"'Abandoned Data'!R152","v":""},null,{"$f":"'Abandoned Data'!Q152","v":""},null,null,""]
[null,{"$f":"'Abandoned Data'!N153&\".\"","v":"."},null,{"$f":"'Abandoned Data'!O153","v":""},null,{"$f":"'Abandoned Data'!P153","v":""},null,{"$f":"'Abandoned Data'!S153","v":""},null,{"$f":"'Abandoned Data'!R153","v":""},null,{"$f":"'Abandoned Data'!Q153","v":""},null,null,""]
[null,{"$f":"'Abandoned Data'!N154&\".\"","v":"."},null,{"$f":"'Abandoned Data'!O154","v":""},null,{"$f":"'Abandoned Data'!P154","v":""},null,{"$f":"'Abandoned Data'!S154","v":""},null,{"$f":"'Abandoned Data'!R154","v":""},null,{"$f":"'Abandoned Data'!Q154","v":""},null,null,""]
[null,{"$f":"'Abandoned Data'!N155&\".\"","v":"."},null,{"$f":"'Abandoned Data'!O155","v":""},null,{"$f":"'Abandoned Data'!P155","v":""},null,{"$f":"'Abandoned Data'!S155","v":""},null,{"$f":"'Abandoned Data'!R155","v":""},null,{"$f":"'Abandoned Data'!Q155","v":""},null,null,""]
[null,{"$f":"'Abandoned Data'!N156&\".\"","v":"."},null,{"$f":"'Abandoned Data'!O156","v":""},null,{"$f":"'Abandoned Data'!P156","v":""},null,{"$f":"'Abandoned Data'!S156","v":""},null,{"$f":"'Abandoned Data'!R156","v":""},null,{"$f":"'Abandoned Data'!Q156","v":""},null,null,""]
[null,{"$f":"'Abandoned Data'!N157&\".\"","v":"."},null,{"$f":"'Abandoned Data'!O157","v":""},null,{"$f":"'Abandoned Data'!P157","v":""},null,{"$f":"'Abandoned Data'!S157","v":""},null,{"$f":"'Abandoned Data'!R157","v":""},null,{"$f":"'Abandoned Data'!Q157","v":""},null,null,""]
[null,{"$f":"'Abandoned Data'!N158&\".\"","v":"."},null,{"$f":"'Abandoned Data'!O158","v":""},null,{"$f":"'Abandoned Data'!P158","v":""},null,{"$f":"'Abandoned Data'!S158","v":""},null,{"$f":"'Abandoned Data'!R158","v":""},null,{"$f":"'Abandoned Data'!Q158","v":""},null,null,""]
[null,{"$f":"'Abandoned Data'!N159&\".\"","v":"."},null,{"$f":"'Abandoned Data'!O159","v":""},null,{"$f":"'Abandoned Data'!P159","v":""},null,{"$f":"'Abandoned Data'!S159","v":""},null,{"$f":"'Abandoned Data'!R159","v":""},null,{"$f":"'Abandoned Data'!Q159","v":""},null,null,""]
[null,{"$f":"'Abandoned Data'!N160&\".\"","v":"."},null,{"$f":"'Abandoned Data'!O160","v":""},null,{"$f":"'Abandoned Data'!P160","v":""},null,{"$f":"'Abandoned Data'!S160","v":""},null,{"$f":"'Abandoned Data'!R160","v":""},null,{"$f":"'Abandoned Data'!Q160","v":""},null,null,""]
[null,{"$f":"'Abandoned Data'!N161&\".\"","v":"."},null,{"$f":"'Abandoned Data'!O161","v":""},null,{"$f":"'Abandoned Data'!P161","v":""},null,{"$f":"'Abandoned Data'!S161","v":""},null,{"$f":"'Abandoned Data'!R161","v":""},null,{"$f":"'Abandoned Data'!Q161","v":""},null,null,""]
[null,{"$f":"'Abandoned Data'!N162&\".\"","v":"."},null,{"$f":"'Abandoned Data'!O162","v":""},null,{"$f":"'Abandoned Data'!P162","v":""},null,{"$f":"'Abandoned Data'!S162","v":""},null,{"$f":"'Abandoned Data'!R162","v":""},null,{"$f":"'Abandoned Data'!Q162","v":""},null,null,""]
[null,{"$f":"'Abandoned Data'!N163&\".\"","v":"."},null,{"$f":"'Abandoned Data'!O163","v":""},null,{"$f":"'Abandoned Data'!P163","v":""},null,{"$f":"'Abandoned Data'!S163","v":""},null,{"$f":"'Abandoned Data'!R163","v":""},null,{"$f":"'Abandoned Data'!Q163","v":""},null,null,""]
[null,{"$f":"'Abandoned Data'!N164&\".\"","v":"."},null,{"$f":"'Abandoned Data'!O164","v":""},null,{"$f":"'Abandoned Data'!P164","v":""},null,{"$f":"'Abandoned Data'!S164","v":""},null,{"$f":"'Abandoned Data'!R164","v":""},null,{"$f":"'Abandoned Data'!Q164","v":""},null,null,""]
[null,{"$f":"'Abandoned Data'!N165&\".\"","v":"."},null,{"$f":"'Abandoned Data'!O165","v":""},null,{"$f":"'Abandoned Data'!P165","v":""},null,{"$f":"'Abandoned Data'!S165","v":""},null,{"$f":"'Abandoned Data'!R165","v":""},null,{"$f":"'Abandoned Data'!Q165","v":""},null,null,""]
[null,{"$f":"'Abandoned Data'!N166&\".\"","v":"."},null,{"$f":"'Abandoned Data'!O166","v":""},null,{"$f":"'Abandoned Data'!P166","v":""},null,{"$f":"'Abandoned Data'!S166","v":""},null,{"$f":"'Abandoned Data'!R166","v":""},null,{"$f":"'Abandoned Data'!Q166","v":""},null,null,""]
[null,{"$f":"'Abandoned Data'!N167&\".\"","v":"."},null,{"$f":"'Abandoned Data'!O167","v":""},null,{"$f":"'Abandoned Data'!P167","v":""},null,{"$f":"'Abandoned Data'!S167","v":""},null,{"$f":"'Abandoned Data'!R167","v":""},null,{"$f":"'Abandoned Data'!Q167","v":""},null,null,""]
[null,{"$f":"'Abandoned Data'!N168&\".\"","v":"."},null,{"$f":"'Abandoned Data'!O168","v":""},null,{"$f":"'Abandoned Data'!P168","v":""},null,{"$f":"'Abandoned Data'!S168","v":""},null,{"$f":"'Abandoned Data'!R168","v":""},null,{"$f":"'Abandoned Data'!Q168","v":""},null,null,""]
[null,{"$f":"'Abandoned Data'!N169&\".\"","v":"."},null,{"$f":"'Abandoned Data'!O169","v":""},null,{"$f":"'Abandoned Data'!P169","v":""},null,{"$f":"'Abandoned Data'!S169","v":""},null,{"$f":"'Abandoned Data'!R169","v":""},null,{"$f":"'Abandoned Data'!Q169","v":""},null,null,""]
[null,{"$f":"'Abandoned Data'!N170&\".\"","v":"."},null,{"$f":"'Abandoned Data'!O170","v":""},null,{"$f":"'Abandoned Data'!P170","v":""},null,{"$f":"'Abandoned Data'!S170","v":""},null,{"$f":"'Abandoned Data'!R170","v":""},null,{"$f":"'Abandoned Data'!Q170","v":""},null,null,""]
[null,{"$f":"'Abandoned Data'!N171&\".\"","v":"."},null,{"$f":"'Abandoned Data'!O171","v":""},null,{"$f":"'Abandoned Data'!P171","v":""},null,{"$f":"'Abandoned Data'!S171","v":""},null,{"$f":"'Abandoned Data'!R171","v":""},null,{"$f":"'Abandoned Data'!Q171","v":""},null,null,""]
[null,{"$f":"'Abandoned Data'!N172&\".\"","v":"."},null,{"$f":"'Abandoned Data'!O172","v":""},null,{"$f":"'Abandoned Data'!P172","v":""},null,{"$f":"'Abandoned Data'!S172","v":""},null,{"$f":"'Abandoned Data'!R172","v":""},null,{"$f":"'Abandoned Data'!Q172","v":""},null,null,{"$f":"IF(N174>0,IF(N174=\"Sealed\",0.8,\"\"),IF(L174=\"Sealed\",0.8,\"\"))","v":""}]
[null,{"$f":"'Abandoned Data'!N173&\".\"","v":"."},null,{"$f":"'Abandoned Data'!O173","v":""},null,{"$f":"'Abandoned Data'!P173","v":""},null,{"$f":"'Abandoned Data'!S173","v":""},null,{"$f":"'Abandoned Data'!R173","v":""},null,{"$f":"'Abandoned Data'!Q173","v":""},null,null,""]
[null,{"$f":"'Abandoned Data'!N174&\".\"","v":"."},null,{"$f":"'Abandoned Data'!O174","v":""},null,{"$f":"'Abandoned Data'!P174","v":""},null,{"$f":"'Abandoned Data'!S174","v":""},null,{"$f":"'Abandoned Data'!R174","v":""},null,{"$f":"'Abandoned Data'!Q174","v":""},null,null,""]
[null,{"$f":"'Abandoned Data'!N175&\".\"","v":"."},null,{"$f":"'Abandoned Data'!O175","v":""},null,{"$f":"'Abandoned Data'!P175","v":""},null,{"$f":"'Abandoned Data'!S175","v":""},null,{"$f":"'Abandoned Data'!R175","v":""},null,{"$f":"'Abandoned Data'!Q175","v":""},null,null,""]
[null,{"$f":"'Abandoned Data'!N176&\".\"","v":"."},null,{"$f":"'Abandoned Data'!O176","v":""},null,{"$f":"'Abandoned Data'!P176","v":""},null,{"$f":"'Abandoned Data'!S176","v":""},null,{"$f":"'Abandoned Data'!R176","v":""},null,{"$f":"'Abandoned Data'!Q176","v":""},null,null,""]
[null,{"$f":"'Abandoned Data'!N177&\".\"","v":"."},null,{"$f":"'Abandoned Data'!O177","v":""},null,{"$f":"'Abandoned Data'!P177","v":""},null,{"$f":"'Abandoned Data'!S177","v":""},null,{"$f":"'Abandoned Data'!R177","v":""},null,{"$f":"'Abandoned Data'!Q177","v":""},null,null,""]
[null,{"$f":"'Abandoned Data'!N178&\".\"","v":"."},null,{"$f":"'Abandoned Data'!O178","v":""},null,{"$f":"'Abandoned Data'!P178","v":""},null,{"$f":"'Abandoned Data'!S178","v":""},null,{"$f":"'Abandoned Data'!R178","v":""},null,{"$f":"'Abandoned Data'!Q178","v":""},null,null,""]
[null,{"$f":"'Abandoned Data'!N179&\".\"","v":"."},null,{"$f":"'Abandoned Data'!O179","v":""},null,{"$f":"'Abandoned Data'!P179","v":""},null,{"$f":"'Abandoned Data'!S179","v":""},null,{"$f":"'Abandoned Data'!R179","v":""},null,{"$f":"'Abandoned Data'!Q179","v":""},null,null,""]
[null,{"$f":"'Abandoned Data'!N180&\".\"","v":"."},null,{"$f":"'Abandoned Data'!O180","v":""},null,{"$f":"'Abandoned Data'!P180","v":""},null,{"$f":"'Abandoned Data'!S180","v":""},null,{"$f":"'Abandoned Data'!R180","v":""},null,{"$f":"'Abandoned Data'!Q180","v":""},null,null,""]
[null,{"$f":"'Abandoned Data'!N181&\".\"","v":"."},null,{"$f":"'Abandoned Data'!O181","v":""},null,{"$f":"'Abandoned Data'!P181","v":""},null,{"$f":"'Abandoned Data'!S181","v":""},null,{"$f":"'Abandoned Data'!R181","v":""},null,{"$f":"'Abandoned Data'!Q181","v":""},null,null,""]
[null,{"$f":"'Abandoned Data'!N182&\".\"","v":"."},null,{"$f":"'Abandoned Data'!O182","v":""},null,{"$f":"'Abandoned Data'!P182","v":""},null,{"$f":"'Abandoned Data'!S182","v":""},null,{"$f":"'Abandoned Data'!R182","v":""},null,{"$f":"'Abandoned Data'!Q182","v":""},null,null,""]
[null,{"$f":"'Abandoned Data'!N183&\".\"","v":"."},null,{"$f":"'Abandoned Data'!O183","v":""},null,{"$f":"'Abandoned Data'!P183","v":""},null,{"$f":"'Abandoned Data'!S183","v":""},null,{"$f":"'Abandoned Data'!R183","v":""},null,{"$f":"'Abandoned Data'!Q183","v":""},null,null,""]
[null,{"$f":"'Abandoned Data'!N184&\".\"","v":"."},null,{"$f":"'Abandoned Data'!O184","v":""},null,{"$f":"'Abandoned Data'!P184","v":""},null,{"$f":"'Abandoned Data'!S184","v":""},null,{"$f":"'Abandoned Data'!R184","v":""},null,{"$f":"'Abandoned Data'!Q184","v":""},null,null,""]
[null,{"$f":"'Abandoned Data'!N185&\".\"","v":"."},null,{"$f":"'Abandoned Data'!O185","v":""},null,{"$f":"'Abandoned Data'!P185","v":""},null,{"$f":"'Abandoned Data'!S185","v":""},null,{"$f":"'Abandoned Data'!R185","v":""},null,{"$f":"'Abandoned Data'!Q185","v":""},null,null,""]
[null,{"$f":"'Abandoned Data'!N186&\".\"","v":"."},null,{"$f":"'Abandoned Data'!O186","v":""},null,{"$f":"'Abandoned Data'!P186","v":""},null,{"$f":"'Abandoned Data'!S186","v":""},null,{"$f":"'Abandoned Data'!R186","v":""},null,{"$f":"'Abandoned Data'!Q186","v":""},null,null,""]
[null,{"$f":"'Abandoned Data'!N187&\".\"","v":"."},null,{"$f":"'Abandoned Data'!O187","v":""},null,{"$f":"'Abandoned Data'!P187","v":""},null,{"$f":"'Abandoned Data'!S187","v":""},null,{"$f":"'Abandoned Data'!R187","v":""},null,{"$f":"'Abandoned Data'!Q187","v":""},null,null,""]
[null,null,null,{"$f":"'Abandoned Data'!O188","v":""},null,{"$f":"'Abandoned Data'!P188","v":""},null,{"$f":"'Abandoned Data'!S188","v":""},null,{"$f":"'Abandoned Data'!R188","v":""},null,{"$f":"'Abandoned Data'!Q188","v":""},null,null,""]
[null,null,null,{"$f":"'Abandoned Data'!O189","v":""},null,{"$f":"'Abandoned Data'!P189","v":""},null,{"$f":"'Abandoned Data'!S189","v":""},null,{"$f":"'Abandoned Data'!R189","v":""},null,{"$f":"'Abandoned Data'!Q189","v":""},null,null,""]
[null,null,null,{"$f":"'Abandoned Data'!O190","v":""},null,{"$f":"'Abandoned Data'!P190","v":""},null,{"$f":"'Abandoned Data'!S190","v":""},null,{"$f":"'Abandoned Data'!R190","v":""},null,{"$f":"'Abandoned Data'!Q190","v":""},null,null,""]
[null,null,null,{"$f":"'Abandoned Data'!O191","v":""},null,{"$f":"'Abandoned Data'!P191","v":""},null,{"$f":"'Abandoned Data'!S191","v":""},null,{"$f":"'Abandoned Data'!R191","v":""},null,{"$f":"'Abandoned Data'!Q191","v":""},null,null,""]
[null,null,null,{"$f":"'Abandoned Data'!O192","v":""},null,{"$f":"'Abandoned Data'!P192","v":""},null,{"$f":"'Abandoned Data'!S192","v":""},null,{"$f":"'Abandoned Data'!R192","v":""},null,{"$f":"'Abandoned Data'!Q192","v":""},null,null,""]
[null,null,null,{"$f":"'Abandoned Data'!O193","v":""},null,{"$f":"'Abandoned Data'!P193","v":""},null,{"$f":"'Abandoned Data'!S193","v":""},null,{"$f":"'Abandoned Data'!R193","v":""},null,{"$f":"'Abandoned Data'!Q193","v":""},null,null,""]
[null,null,null,{"$f":"'Abandoned Data'!O194","v":""},null,{"$f":"'Abandoned Data'!P194","v":""},null,{"$f":"'Abandoned Data'!S194","v":""},null,{"$f":"'Abandoned Data'!R194","v":""},null,{"$f":"'Abandoned Data'!Q194","v":""},null,null,""]
[null,null,null,{"$f":"'Abandoned Data'!O195","v":""},null,{"$f":"'Abandoned Data'!P195","v":""},null,{"$f":"'Abandoned Data'!S195","v":""},null,{"$f":"'Abandoned Data'!R195","v":""},null,{"$f":"'Abandoned Data'!Q195","v":""},null,null,""]
[null,null,null,{"$f":"'Abandoned Data'!O196","v":""},null,{"$f":"'Abandoned Data'!P196","v":""},null,{"$f":"'Abandoned Data'!S196","v":""},null,{"$f":"'Abandoned Data'!R196","v":""},null,{"$f":"'Abandoned Data'!Q196","v":""},null,null,""]
[]
[]
[]
[]
[]
[]
[]
[null,"Additional Abandoned Coal Mines"]
[]
[null,null,null,"Mine Name",null,"County",null,"Coal Rank",null,"Year Abandoned",null,"Status",null,"Percent Sealed",null,"Active Emissions (mmcfd) ",null,"Methane Recovered (m3/yr)"]
[null,"1."]
[null,"2."]
[null,"3."]
[null,"4."]
[null,"5."]
[null,"6."]
[null,"7."]
[null,"8."]
[null,"9."]
[null,"10."]
[null,"11."]
[null,"12."]
[null,"13."]
[null,"14."]
[null,"15."]
[null,"16."]
[null,"17."]
[null,"18."]
[null,"19."]
[null,"20."]
[null,"21."]
[null,"22."]
[null,"23."]
[null,"24."]
[null,"25."]
[null,"26."]
[null,"27."]
[null,"28."]
[null,"29."]
[null,"30."]
[null,"31."]
[null,"32."]
[null,"33."]
[null,"34."]
[null,"35."]
[null,"36."]
[null,"37."]
[null,"38."]
[null,"39."]
[null,"40."]
[null,"41."]
[null,"42."]
[null,"43."]
[null,"44."]
[null,"45."]
[null,"46."]
[null,"47."]
[null,"48."]
[null,"49."]
[null,"50."]

{"sheet":"Summary Abandoned Coal Mines","index":6,"n_rows":44,"n_cols":64,"rows_kept":44,"cut":false,"hidden":false,"merged":[]}
[null,{"$f":"\"4. \"&constants!L1&\" Abandoned Coal Mines Emissions Summary\"","v":"4. Select a State . . .  Abandoned Coal Mines Emissions Summary"}]
[]
[null,"Summary of Emissions from Default Abandoned Coal Mines"]
[null,"Latest Inventory Year",2025]
[null,"Mine Status (without Unknown Distributed)",null,null,null,null,null,null,null,null,null,null,null,null,null,null,null,null,null,null,null,null,null,null,null,null,null,null,null,null,null,null,null,null,null,null,null,null,null,"Only used for macro that produces projections, keep hidden"]
[null,"Emissions (MTCO2E/Year)",null,1990,1991,1992,1993,1994,1995,1996,1997,1998,1999,2000,2001,2002,2003,2004,2005,2006,2007,2008,2009,2010,2011,2012,2013,2014,2015,2016,2017,2018,2019,2020,{"$f":"AH6+1","v":2021},{"$f":"AI6+1","v":2022},2023,2024,2025,2026,2027,2028,2029,2030,2031,2032,2033,2034,2035,2036,2037,2038,2039,2040,2041,2042,2043,2044,2045,2046,2047,2048,2049,2050]
[null,null,"Vented",{"$f":"D14*1000*CH4GWP","v":0},{"$f":"E14*1000*CH4GWP","v":0},0,0,0,0,0,0,0,0,0,0,0,0,0,0,0,0,0,0,0,0,0,0,0,0,0,0,0,0,0,{"$f":"AI14*1000*CH4GWP","v":0},0,0,0,0,0,0,0,0,0,0,0,0,0,0,0,0,0,0,0,0,0,0,0,0,0,0,0,0,0]
[null,null,"Sealed",{"$f":"D15*1000*CH4GWP","v":0},0,0,0,0,0,0,0,0,0,0,0,0,0,0,0,0,0,0,0,0,0,0,0,0,0,0,0,0,0,0,{"$f":"AI15*1000*CH4GWP","v":0},0,0,0,0,0,0,0,0,0,0,0,0,0,0,0,0,0,0,0,0,0,0,0,0,0,0,0,0,0]
[null,null,"Flooded",{"$f":"D16*1000*CH4GWP","v":0},0,0,0,0,0,0,0,0,0,0,0,0,0,0,0,0,0,0,0,0,0,0,{"$f":"AA16*1000*CH4GWP","v":0},0,0,0,0,0,0,0,{"$f":"AI16*1000*CH4GWP","v":0},0,0,0,0,0,0,0,0,0,0,0,0,0,0,0,0,0,0,0,0,0,0,0,0,0,0,0,0,0]
[null,null,"Unknown",{"$f":"D17*1000*CH4GWP","v":0},0,0,0,0,0,0,0,0,0,0,0,0,0,0,0,0,0,0,0,0,0,0,0,0,0,0,0,0,0,0,{"$f":"AI17*1000*CH4GWP","v":0},0,0,0,0,0,0,0,0,0,0,0,0,0,0,0,0,0,0,0,0,0,0,0,0,0,0,0,0,0]
[null,null,"Total",{"$f":"SUM(D7:D10)","v":0},{"$f":"SUM(E7:E10)","v":0},0,0,0,0,0,0,0,0,0,0,0,0,0,0,{"$f":"SUM(T7:T10)","v":0},0,0,0,0,0,0,0,0,0,0,0,0,0,0,{"$f":"SUM(AI7:AI10)","v":0},0,0,0,0,0,0,0,0,0,0,0,0,0,0,0,0,0,0,0,0,0,0,0,0,0,0,0,0,0]
[]
[null,"Emissions (Gg CH4/Year)",null,1990,1991,1992,1993,1994,1995,1996,1997,1998,1999,2000,2001,2002,2003,2004,2005,2006,2007,2008,2009,2010,2011,2012,2013,2014,2015,2016,2017,2018,2019,2020,{"$f":"AH13+1","v":2021},{"$f":"AI13+1","v":2022},2023,2024,2025,2026,2027,2028,2029,2030,2031,2032,2033,2034,2035,2036,2037,2038,2039,2040,2041,2042,2043,2044,2045,2046,2047,2048,2049,2050]
[null,null,"Vented",{"$f":"IF(D13<=$C$4,SUMIF('Abandoned Data Inputs'!$E$4:$E$188,\"Venting\",'Abandoned Data Inputs'!Y4:Y188),0)","v":0},{"$f":"IF(E13<=$C$4,SUMIF('Abandoned Data Inputs'!$E$4:$E$188,\"Venting\",'Abandoned Data Inputs'!Z4:Z188),0)","v":0},{"$f":"IF(F13<=$C$4,SUMIF('Abandoned Data Inputs'!$E$4:$E$188,\"Venting\",'Abandoned Data Inputs'!AA4:AA188),0)","v":0},{"$f":"IF(G13<=$C$4,SUMIF('Abandoned Data Inputs'!$E$4:$E$188,\"Venting\",'Abandoned Data Inputs'!AB4:AB188),0)","v":0},{"$f":"IF(H13<=$C$4,SUMIF('Abandoned Data Inputs'!$E$4:$E$188,\"Venting\",'Abandoned Data Inputs'!AC4:AC188),0)","v":0},{"$f":"IF(I13<=$C$4,SUMIF('Abandoned Data Inputs'!$E$4:$E$188,\"Venting\",'Abandoned Data Inputs'!AD4:AD188),0)","v":0},{"$f":"IF(J13<=$C$4,SUMIF('Abandoned Data Inputs'!$E$4:$E$188,\"Venting\",'Abandoned Data Inputs'!AE4:AE188),0)","v":0},{"$f":"IF(K13<=$C$4,SUMIF('Abandoned Data Inputs'!$E$4:$E$188,\"Venting\",'Abandoned Data Inputs'!AF4:AF188),0)","v":0},{"$f":"IF(L13<=$C$4,SUMIF('Abandoned Data Inputs'!$E$4:$E$188,\"Venting\",'Abandoned Data Inputs'!AG4:AG188),0)","v":0},{"$f":"IF(M13<=$C$4,SUMIF('Abandoned Data Inputs'!$E$4:$E$188,\"Venting\",'Abandoned Data Inputs'!AH4:AH188),0)","v":0},{"$f":"IF(N13<=$C$4,SUMIF('Abandoned Data Inputs'!$E$4:$E$188,\"Venting\",'Abandoned Data Inputs'!AI4:AI188),0)","v":0},{"$f":"IF(O13<=$C$4,SUMIF('Abandoned Data Inputs'!$E$4:$E$188,\"Venting\",'Abandoned Data Inputs'!AJ4:AJ188),0)","v":0},{"$f":"IF(P13<=$C$4,SUMIF('Abandoned Data Inputs'!$E$4:$E$188,\"Venting\",'Abandoned Data Inputs'!AK4:AK188),0)","v":0},{"$f":"IF(Q13<=$C$4,SUMIF('Abandoned Data Inputs'!$E$4:$E$188,\"Venting\",'Abandoned Data Inputs'!AL4:AL188),0)","v":0},{"$f":"IF(R13<=$C$4,SUMIF('Abandoned Data Inputs'!$E$4:$E$188,\"Venting\",'Abandoned Data Inputs'!AM4:AM188),0)","v":0},{"$f":"IF(S13<=$C$4,SUMIF('Abandoned Data Inputs'!$E$4:$E$188,\"Venting\",'Abandoned Data Inputs'!AN4:AN188),0)","v":0},{"$f":"IF(T13<=$C$4,SUMIF('Abandoned Data Inputs'!$E$4:$E$188,\"Venting\",'Abandoned Data Inputs'!AO4:AO188),0)","v":0},{"$f":"IF(U13<=$C$4,SUMIF('Abandoned Data Inputs'!$E$4:$E$188,\"Venting\",'Abandoned Data Inputs'!AP4:AP188),0)","v":0},{"$f":"IF(V13<=$C$4,SUMIF('Abandoned Data Inputs'!$E$4:$E$188,\"Venting\",'Abandoned Data Inputs'!AQ4:AQ188),0)","v":0},{"$f":"IF(W13<=$C$4,SUMIF('Abandoned Data Inputs'!$E$4:$E$188,\"Venting\",'Abandoned Data Inputs'!AR4:AR188),0)","v":0},{"$f":"IF(X13<=$C$4,SUMIF('Abandoned Data Inputs'!$E$4:$E$188,\"Venting\",'Abandoned Data Inputs'!AS4:AS188),0)","v":0},{"$f":"IF(Y13<=$C$4,SUMIF('Abandoned Data Inputs'!$E$4:$E$188,\"Venting\",'Abandoned Data Inputs'!AT4:AT188),0)","v":0},{"$f":"IF(Z13<=$C$4,SUMIF('Abandoned Data Inputs'!$E$4:$E$188,\"Venting\",'Abandoned Data Inputs'!AU4:AU188),0)","v":0},{"$f":"IF(AA13<=$C$4,SUMIF('Abandoned Data Inputs'!$E$4:$E$188,\"Venting\",'Abandoned Data Inputs'!AV4:AV188),0)","v":0},{"$f":"IF(AB13<=$C$4,SUMIF('Abandoned Data Inputs'!$E$4:$E$188,\"Venting\",'Abandoned Data Inputs'!AW4:AW188),0)","v":0},{"$f":"IF(AC13<=$C$4,SUMIF('Abandoned Data Inputs'!$E$4:$E$188,\"Venting\",'Abandoned Data Inputs'!AX4:AX188),0)","v":0},{"$f":"IF(AD13<=$C$4,SUMIF('Abandoned Data Inputs'!$E$4:$E$188,\"Venting\",'Abandoned Data Inputs'!AY4:AY188),0)","v":0},{"$f":"IF(AE13<=$C$4,SUMIF('Abandoned Data Inputs'!$E$4:$E$188,\"Venting\",'Abandoned Data Inputs'!AZ4:AZ188),0)","v":0},{"$f":"IF(AF13<=$C$4,SUMIF('Abandoned Data Inputs'!$E$4:$E$188,\"Venting\",'Abandoned Data Inputs'!BA4:BA188),0)","v":0},{"$f":"IF(AG13<=$C$4,SUMIF('Abandoned Data Inputs'!$E$4:$E$188,\"Venting\",'Abandoned Data Inputs'!BB4:BB188),0)","v":0},{"$f":"IF(AH13<=$C$4,SUMIF('Abandoned Data Inputs'!$E$4:$E$188,\"Venting\",'Abandoned Data Inputs'!BC4:BC188),0)","v":0},{"$f":"IF(AI13<=$C$4,SUMIF('Abandoned Data Inputs'!$E$4:$E$188,\"Venting\",'Abandoned Data Inputs'!BD4:BD188),0)","v":0},{"$f":"IF(AJ13<=$C$4,SUMIF('Abandoned Data Inputs'!$E$4:$E$188,\"Venting\",'Abandoned Data Inputs'!BE4:BE188),0)","v":0},{"$f":"IF(AK13<=$C$4,SUMIF('Abandoned Data Inputs'!$E$4:$E$188,\"Venting\",'Abandoned Data Inputs'!BF4:BF188),0)","v":0},{"$f":"IF(AL13<=$C$4,SUMIF('Abandoned Data Inputs'!$E$4:$E$188,\"Venting\",'Abandoned Data Inputs'!BG4:BG188),0)","v":0},{"$f":"IF(AM13<=$C$4,SUMIF('Abandoned Data Inputs'!$E$4:$E$188,\"Venting\",'Abandoned Data Inputs'!BH4:BH188),0)","v":0},{"$f":"IF(AN13<=$C$4,SUMIF('Abandoned Data Inputs'!$E$4:$E$188,\"Venting\",'Abandoned Data Inputs'!BI4:BI188),0)","v":0},{"$f":"IF(AO13<=$C$4,SUMIF('Abandoned Data Inputs'!$E$4:$E$188,\"Venting\",'Abandoned Data Inputs'!BJ4:BJ188),0)","v":0},{"$f":"IF(AP13<=$C$4,SUMIF('Abandoned Data Inputs'!$E$4:$E$188,\"Venting\",'Abandoned Data Inputs'!BK4:BK188),0)","v":0},{"$f":"IF(AQ13<=$C$4,SUMIF('Abandoned Data Inputs'!$E$4:$E$188,\"Venting\",'Abandoned Data Inputs'!BL4:BL188),0)","v":0},{"$f":"IF(AR13<=$C$4,SUMIF('Abandoned Data Inputs'!$E$4:$E$188,\"Venting\",'Abandoned Data Inputs'!BM4:BM188),0)","v":0},{"$f":"IF(AS13<=$C$4,SUMIF('Abandoned Data Inputs'!$E$4:$E$188,\"Venting\",'Abandoned Data Inputs'!BN4:BN188),0)","v":0},{"$f":"IF(AT13<=$C$4,SUMIF('Abandoned Data Inputs'!$E$4:$E$188,\"Venting\",'Abandoned Data Inputs'!BO4:BO188),0)","v":0},{"$f":"IF(AU13<=$C$4,SUMIF('Abandoned Data Inputs'!$E$4:$E$188,\"Venting\",'Abandoned Data Inputs'!BP4:BP188),0)","v":0},{"$f":"IF(AV13<=$C$4,SUMIF('Abandoned Data Inputs'!$E$4:$E$188,\"Venting\",'Abandoned Data Inputs'!BQ4:BQ188),0)","v":0},{"$f":"IF(AW13<=$C$4,SUMIF('Abandoned Data Inputs'!$E$4:$E$188,\"Venting\",'Abandoned Data Inputs'!BR4:BR188),0)","v":0},{"$f":"IF(AX13<=$C$4,SUMIF('Abandoned Data Inputs'!$E$4:$E$188,\"Venting\",'Abandoned Data Inputs'!BS4:BS188),0)","v":0},{"$f":"IF(AY13<=$C$4,SUMIF('Abandoned Data Inputs'!$E$4:$E$188,\"Venting\",'Abandoned Data Inputs'!BT4:BT188),0)","v":0},{"$f":"IF(AZ13<=$C$4,SUMIF('Abandoned Data Inputs'!$E$4:$E$188,\"Venting\",'Abandoned Data Inputs'!BU4:BU188),0)","v":0},{"$f":"IF(BA13<=$C$4,SUMIF('Abandoned Data Inputs'!$E$4:$E$188,\"Venting\",'Abandoned Data Inputs'!BV4:BV188),0)","v":0},{"$f":"IF(BB13<=$C$4,SUMIF('Abandoned Data Inputs'!$E$4:$E$188,\"Venting\",'Abandoned Data Inputs'!BW4:BW188),0)","v":0},{"$f":"IF(BC13<=$C$4,SUMIF('Abandoned Data Inputs'!$E$4:$E$188,\"Venting\",'Abandoned Data Inputs'!BX4:BX188),0)","v":0},{"$f":"IF(BD13<=$C$4,SUMIF('Abandoned Data Inputs'!$E$4:$E$188,\"Venting\",'Abandoned Data Inputs'!BY4:BY188),0)","v":0},{"$f":"IF(BE13<=$C$4,SUMIF('Abandoned Data Inputs'!$E$4:$E$188,\"Venting\",'Abandoned Data Inputs'!BZ4:BZ188),0)","v":0},{"$f":"IF(BF13<=$C$4,SUMIF('Abandoned Data Inputs'!$E$4:$E$188,\"Venting\",'Abandoned Data Inputs'!CA4:CA188),0)","v":0},{"$f":"IF(BG13<=$C$4,SUMIF('Abandoned Data Inputs'!$E$4:$E$188,\"Venting\",'Abandoned Data Inputs'!CB4:CB188),0)","v":0},{"$f":"IF(BH13<=$C$4,SUMIF('Abandoned Data Inputs'!$E$4:$E$188,\"Venting\",'Abandoned Data Inputs'!CC4:CC188),0)","v":0},{"$f":"IF(BI13<=$C$4,SUMIF('Abandoned Data Inputs'!$E$4:$E$188,\"Venting\",'Abandoned Data Inputs'!CD4:CD188),0)","v":0},{"$f":"IF(BJ13<=$C$4,SUMIF('Abandoned Data Inputs'!$E$4:$E$188,\"Venting\",'Abandoned Data Inputs'!CE4:CE188),0)","v":0},{"$f":"IF(BK13<=$C$4,SUMIF('Abandoned Data Inputs'!$E$4:$E$188,\"Venting\",'Abandoned Data Inputs'!CF4:CF188),0)","v":0},{"$f":"IF(BL13<=$C$4,SUMIF('Abandoned Data Inputs'!$E$4:$E$188,\"Venting\",'Abandoned Data Inputs'!CG4:CG188),0)","v":0}]
[null,null,"Sealed",{"$f":"IF(D13<=$C$4,SUMIF('Abandoned Data Inputs'!$E$4:$E$188,\"Sealed\",'Abandoned Data Inputs'!Y4:Y188),0)","v":0},{"$f":"IF(E13<=$C$4,SUMIF('Abandoned Data Inputs'!$E$4:$E$188,\"Sealed\",'Abandoned Data Inputs'!Z4:Z188),0)","v":0},{"$f":"IF(F13<=$C$4,SUMIF('Abandoned Data Inputs'!$E$4:$E$188,\"Sealed\",'Abandoned Data Inputs'!AA4:AA188),0)","v":0},{"$f":"IF(G13<=$C$4,SUMIF('Abandoned Data Inputs'!$E$4:$E$188,\"Sealed\",'Abandoned Data Inputs'!AB4:AB188),0)","v":0},{"$f":"IF(H13<=$C$4,SUMIF('Abandoned Data Inputs'!$E$4:$E$188,\"Sealed\",'Abandoned Data Inputs'!AC4:AC188),0)","v":0},{"$f":"IF(I13<=$C$4,SUMIF('Abandoned Data Inputs'!$E$4:$E$188,\"Sealed\",'Abandoned Data Inputs'!AD4:AD188),0)","v":0},{"$f":"IF(J13<=$C$4,SUMIF('Abandoned Data Inputs'!$E$4:$E$188,\"Sealed\",'Abandoned Data Inputs'!AE4:AE188),0)","v":0},{"$f":"IF(K13<=$C$4,SUMIF('Abandoned Data Inputs'!$E$4:$E$188,\"Sealed\",'Abandoned Data Inputs'!AF4:AF188),0)","v":0},{"$f":"IF(L13<=$C$4,SUMIF('Abandoned Data Inputs'!$E$4:$E$188,\"Sealed\",'Abandoned Data Inputs'!AG4:AG188),0)","v":0},{"$f":"IF(M13<=$C$4,SUMIF('Abandoned Data Inputs'!$E$4:$E$188,\"Sealed\",'Abandoned Data Inputs'!AH4:AH188),0)","v":0},{"$f":"IF(N13<=$C$4,SUMIF('Abandoned Data Inputs'!$E$4:$E$188,\"Sealed\",'Abandoned Data Inputs'!AI4:AI188),0)","v":0},{"$f":"IF(O13<=$C$4,SUMIF('Abandoned Data Inputs'!$E$4:$E$188,\"Sealed\",'Abandoned Data Inputs'!AJ4:AJ188),0)","v":0},{"$f":"IF(P13<=$C$4,SUMIF('Abandoned Data Inputs'!$E$4:$E$188,\"Sealed\",'Abandoned Data Inputs'!AK4:AK188),0)","v":0},{"$f":"IF(Q13<=$C$4,SUMIF('Abandoned Data Inputs'!$E$4:$E$188,\"Sealed\",'Abandoned Data Inputs'!AL4:AL188),0)","v":0},{"$f":"IF(R13<=$C$4,SUMIF('Abandoned Data Inputs'!$E$4:$E$188,\"Sealed\",'Abandoned Data Inputs'!AM4:AM188),0)","v":0},{"$f":"IF(S13<=$C$4,SUMIF('Abandoned Data Inputs'!$E$4:$E$188,\"Sealed\",'Abandoned Data Inputs'!AN4:AN188),0)","v":0},{"$f":"IF(T13<=$C$4,SUMIF('Abandoned Data Inputs'!$E$4:$E$188,\"Sealed\",'Abandoned Data Inputs'!AO4:AO188),0)","v":0},{"$f":"IF(U13<=$C$4,SUMIF('Abandoned Data Inputs'!$E$4:$E$188,\"Sealed\",'Abandoned Data Inputs'!AP4:AP188),0)","v":0},{"$f":"IF(V13<=$C$4,SUMIF('Abandoned Data Inputs'!$E$4:$E$188,\"Sealed\",'Abandoned Data Inputs'!AQ4:AQ188),0)","v":0},{"$f":"IF(W13<=$C$4,SUMIF('Abandoned Data Inputs'!$E$4:$E$188,\"Sealed\",'Abandoned Data Inputs'!AR4:AR188),0)","v":0},{"$f":"IF(X13<=$C$4,SUMIF('Abandoned Data Inputs'!$E$4:$E$188,\"Sealed\",'Abandoned Data Inputs'!AS4:AS188),0)","v":0},{"$f":"IF(Y13<=$C$4,SUMIF('Abandoned Data Inputs'!$E$4:$E$188,\"Sealed\",'Abandoned Data Inputs'!AT4:AT188),0)","v":0},{"$f":"IF(Z13<=$C$4,SUMIF('Abandoned Data Inputs'!$E$4:$E$188,\"Sealed\",'Abandoned Data Inputs'!AU4:AU188),0)","v":0},{"$f":"IF(AA13<=$C$4,SUMIF('Abandoned Data Inputs'!$E$4:$E$188,\"Sealed\",'Abandoned Data Inputs'!AV4:AV188),0)","v":0},{"$f":"IF(AB13<=$C$4,SUMIF('Abandoned Data Inputs'!$E$4:$E$188,\"Sealed\",'Abandoned Data Inputs'!AW4:AW188),0)","v":0},{"$f":"IF(AC13<=$C$4,SUMIF('Abandoned Data Inputs'!$E$4:$E$188,\"Sealed\",'Abandoned Data Inputs'!AX4:AX188),0)","v":0},{"$f":"IF(AD13<=$C$4,SUMIF('Abandoned Data Inputs'!$E$4:$E$188,\"Sealed\",'Abandoned Data Inputs'!AY4:AY188),0)","v":0},{"$f":"IF(AE13<=$C$4,SUMIF('Abandoned Data Inputs'!$E$4:$E$188,\"Sealed\",'Abandoned Data Inputs'!AZ4:AZ188),0)","v":0},{"$f":"IF(AF13<=$C$4,SUMIF('Abandoned Data Inputs'!$E$4:$E$188,\"Sealed\",'Abandoned Data Inputs'!BA4:BA188),0)","v":0},{"$f":"IF(AG13<=$C$4,SUMIF('Abandoned Data Inputs'!$E$4:$E$188,\"Sealed\",'Abandoned Data Inputs'!BB4:BB188),0)","v":0},{"$f":"IF(AH13<=$C$4,SUMIF('Abandoned Data Inputs'!$E$4:$E$188,\"Sealed\",'Abandoned Data Inputs'!BC4:BC188),0)","v":0},{"$f":"IF(AI13<=$C$4,SUMIF('Abandoned Data Inputs'!$E$4:$E$188,\"Sealed\",'Abandoned Data Inputs'!BD4:BD188),0)","v":0},{"$f":"IF(AJ13<=$C$4,SUMIF('Abandoned Data Inputs'!$E$4:$E$188,\"Sealed\",'Abandoned Data Inputs'!BE4:BE188),0)","v":0},{"$f":"IF(AK13<=$C$4,SUMIF('Abandoned Data Inputs'!$E$4:$E$188,\"Sealed\",'Abandoned Data Inputs'!BF4:BF188),0)","v":0},{"$f":"IF(AL13<=$C$4,SUMIF('Abandoned Data Inputs'!$E$4:$E$188,\"Sealed\",'Abandoned Data Inputs'!BG4:BG188),0)","v":0},{"$f":"IF(AM13<=$C$4,SUMIF('Abandoned Data Inputs'!$E$4:$E$188,\"Sealed\",'Abandoned Data Inputs'!BH4:BH188),0)","v":0},{"$f":"IF(AN13<=$C$4,SUMIF('Abandoned Data Inputs'!$E$4:$E$188,\"Sealed\",'Abandoned Data Inputs'!BI4:BI188),0)","v":0},{"$f":"IF(AO13<=$C$4,SUMIF('Abandoned Data Inputs'!$E$4:$E$188,\"Sealed\",'Abandoned Data Inputs'!BJ4:BJ188),0)","v":0},{"$f":"IF(AP13<=$C$4,SUMIF('Abandoned Data Inputs'!$E$4:$E$188,\"Sealed\",'Abandoned Data Inputs'!BK4:BK188),0)","v":0},{"$f":"IF(AQ13<=$C$4,SUMIF('Abandoned Data Inputs'!$E$4:$E$188,\"Sealed\",'Abandoned Data Inputs'!BL4:BL188),0)","v":0},{"$f":"IF(AR13<=$C$4,SUMIF('Abandoned Data Inputs'!$E$4:$E$188,\"Sealed\",'Abandoned Data Inputs'!BM4:BM188),0)","v":0},{"$f":"IF(AS13<=$C$4,SUMIF('Abandoned Data Inputs'!$E$4:$E$188,\"Sealed\",'Abandoned Data Inputs'!BN4:BN188),0)","v":0},{"$f":"IF(AT13<=$C$4,SUMIF('Abandoned Data Inputs'!$E$4:$E$188,\"Sealed\",'Abandoned Data Inputs'!BO4:BO188),0)","v":0},{"$f":"IF(AU13<=$C$4,SUMIF('Abandoned Data Inputs'!$E$4:$E$188,\"Sealed\",'Abandoned Data Inputs'!BP4:BP188),0)","v":0},{"$f":"IF(AV13<=$C$4,SUMIF('Abandoned Data Inputs'!$E$4:$E$188,\"Sealed\",'Abandoned Data Inputs'!BQ4:BQ188),0)","v":0},{"$f":"IF(AW13<=$C$4,SUMIF('Abandoned Data Inputs'!$E$4:$E$188,\"Sealed\",'Abandoned Data Inputs'!BR4:BR188),0)","v":0},{"$f":"IF(AX13<=$C$4,SUMIF('Abandoned Data Inputs'!$E$4:$E$188,\"Sealed\",'Abandoned Data Inputs'!BS4:BS188),0)","v":0},{"$f":"IF(AY13<=$C$4,SUMIF('Abandoned Data Inputs'!$E$4:$E$188,\"Sealed\",'Abandoned Data Inputs'!BT4:BT188),0)","v":0},{"$f":"IF(AZ13<=$C$4,SUMIF('Abandoned Data Inputs'!$E$4:$E$188,\"Sealed\",'Abandoned Data Inputs'!BU4:BU188),0)","v":0},{"$f":"IF(BA13<=$C$4,SUMIF('Abandoned Data Inputs'!$E$4:$E$188,\"Sealed\",'Abandoned Data Inputs'!BV4:BV188),0)","v":0},{"$f":"IF(BB13<=$C$4,SUMIF('Abandoned Data Inputs'!$E$4:$E$188,\"Sealed\",'Abandoned Data Inputs'!BW4:BW188),0)","v":0},{"$f":"IF(BC13<=$C$4,SUMIF('Abandoned Data Inputs'!$E$4:$E$188,\"Sealed\",'Abandoned Data Inputs'!BX4:BX188),0)","v":0},{"$f":"IF(BD13<=$C$4,SUMIF('Abandoned Data Inputs'!$E$4:$E$188,\"Sealed\",'Abandoned Data Inputs'!BY4:BY188),0)","v":0},{"$f":"IF(BE13<=$C$4,SUMIF('Abandoned Data Inputs'!$E$4:$E$188,\"Sealed\",'Abandoned Data Inputs'!BZ4:BZ188),0)","v":0},{"$f":"IF(BF13<=$C$4,SUMIF('Abandoned Data Inputs'!$E$4:$E$188,\"Sealed\",'Abandoned Data Inputs'!CA4:CA188),0)","v":0},{"$f":"IF(BG13<=$C$4,SUMIF('Abandoned Data Inputs'!$E$4:$E$188,\"Sealed\",'Abandoned Data Inputs'!CB4:CB188),0)","v":0},{"$f":"IF(BH13<=$C$4,SUMIF('Abandoned Data Inputs'!$E$4:$E$188,\"Sealed\",'Abandoned Data Inputs'!CC4:CC188),0)","v":0},{"$f":"IF(BI13<=$C$4,SUMIF('Abandoned Data Inputs'!$E$4:$E$188,\"Sealed\",'Abandoned Data Inputs'!CD4:CD188),0)","v":0},{"$f":"IF(BJ13<=$C$4,SUMIF('Abandoned Data Inputs'!$E$4:$E$188,\"Sealed\",'Abandoned Data Inputs'!CE4:CE188),0)","v":0},{"$f":"IF(BK13<=$C$4,SUMIF('Abandoned Data Inputs'!$E$4:$E$188,\"Sealed\",'Abandoned Data Inputs'!CF4:CF188),0)","v":0},{"$f":"IF(BL13<=$C$4,SUMIF('Abandoned Data Inputs'!$E$4:$E$188,\"Sealed\",'Abandoned Data Inputs'!CG4:CG188),0)","v":0}]
[null,null,"Flooded",{"$f":"IF(D13<=$C$4,SUMIF('Abandoned Data Inputs'!$E$4:$E$188,\"Flooded\",'Abandoned Data Inputs'!Y4:Y188),0)","v":0},{"$f":"IF(E13<=$C$4,SUMIF('Abandoned Data Inputs'!$E$4:$E$188,\"Flooded\",'Abandoned Data Inputs'!Z4:Z188),0)","v":0},{"$f":"IF(F13<=$C$4,SUMIF('Abandoned Data Inputs'!$E$4:$E$188,\"Flooded\",'Abandoned Data Inputs'!AA4:AA188),0)","v":0},{"$f":"IF(G13<=$C$4,SUMIF('Abandoned Data Inputs'!$E$4:$E$188,\"Flooded\",'Abandoned Data Inputs'!AB4:AB188),0)","v":0},{"$f":"IF(H13<=$C$4,SUMIF('Abandoned Data Inputs'!$E$4:$E$188,\"Flooded\",'Abandoned Data Inputs'!AC4:AC188),0)","v":0},{"$f":"IF(I13<=$C$4,SUMIF('Abandoned Data Inputs'!$E$4:$E$188,\"Flooded\",'Abandoned Data Inputs'!AD4:AD188),0)","v":0},{"$f":"IF(J13<=$C$4,SUMIF('Abandoned Data Inputs'!$E$4:$E$188,\"Flooded\",'Abandoned Data Inputs'!AE4:AE188),0)","v":0},{"$f":"IF(K13<=$C$4,SUMIF('Abandoned Data Inputs'!$E$4:$E$188,\"Flooded\",'Abandoned Data Inputs'!AF4:AF188),0)","v":0},{"$f":"IF(L13<=$C$4,SUMIF('Abandoned Data Inputs'!$E$4:$E$188,\"Flooded\",'Abandoned Data Inputs'!AG4:AG188),0)","v":0},{"$f":"IF(M13<=$C$4,SUMIF('Abandoned Data Inputs'!$E$4:$E$188,\"Flooded\",'Abandoned Data Inputs'!AH4:AH188),0)","v":0},{"$f":"IF(N13<=$C$4,SUMIF('Abandoned Data Inputs'!$E$4:$E$188,\"Flooded\",'Abandoned Data Inputs'!AI4:AI188),0)","v":0},{"$f":"IF(O13<=$C$4,SUMIF('Abandoned Data Inputs'!$E$4:$E$188,\"Flooded\",'Abandoned Data Inputs'!AJ4:AJ188),0)","v":0},{"$f":"IF(P13<=$C$4,SUMIF('Abandoned Data Inputs'!$E$4:$E$188,\"Flooded\",'Abandoned Data Inputs'!AK4:AK188),0)","v":0},{"$f":"IF(Q13<=$C$4,SUMIF('Abandoned Data Inputs'!$E$4:$E$188,\"Flooded\",'Abandoned Data Inputs'!AL4:AL188),0)","v":0},{"$f":"IF(R13<=$C$4,SUMIF('Abandoned Data Inputs'!$E$4:$E$188,\"Flooded\",'Abandoned Data Inputs'!AM4:AM188),0)","v":0},{"$f":"IF(S13<=$C$4,SUMIF('Abandoned Data Inputs'!$E$4:$E$188,\"Flooded\",'Abandoned Data Inputs'!AN4:AN188),0)","v":0},{"$f":"IF(T13<=$C$4,SUMIF('Abandoned Data Inputs'!$E$4:$E$188,\"Flooded\",'Abandoned Data Inputs'!AO4:AO188),0)","v":0},{"$f":"IF(U13<=$C$4,SUMIF('Abandoned Data Inputs'!$E$4:$E$188,\"Flooded\",'Abandoned Data Inputs'!AP4:AP188),0)","v":0},{"$f":"IF(V13<=$C$4,SUMIF('Abandoned Data Inputs'!$E$4:$E$188,\"Flooded\",'Abandoned Data Inputs'!AQ4:AQ188),0)","v":0},{"$f":"IF(W13<=$C$4,SUMIF('Abandoned Data Inputs'!$E$4:$E$188,\"Flooded\",'Abandoned Data Inputs'!AR4:AR188),0)","v":0},{"$f":"IF(X13<=$C$4,SUMIF('Abandoned Data Inputs'!$E$4:$E$188,\"Flooded\",'Abandoned Data Inputs'!AS4:AS188),0)","v":0},{"$f":"IF(Y13<=$C$4,SUMIF('Abandoned Data Inputs'!$E$4:$E$188,\"Flooded\",'Abandoned Data Inputs'!AT4:AT188),0)","v":0},{"$f":"IF(Z13<=$C$4,SUMIF('Abandoned Data Inputs'!$E$4:$E$188,\"Flooded\",'Abandoned Data Inputs'!AU4:AU188),0)","v":0},{"$f":"IF(AA13<=$C$4,SUMIF('Abandoned Data Inputs'!$E$4:$E$188,\"Flooded\",'Abandoned Data Inputs'!AV4:AV188),0)","v":0},{"$f":"IF(AB13<=$C$4,SUMIF('Abandoned Data Inputs'!$E$4:$E$188,\"Flooded\",'Abandoned Data Inputs'!AW4:AW188),0)","v":0},{"$f":"IF(AC13<=$C$4,SUMIF('Abandoned Data Inputs'!$E$4:$E$188,\"Flooded\",'Abandoned Data Inputs'!AX4:AX188),0)","v":0},{"$f":"IF(AD13<=$C$4,SUMIF('Abandoned Data Inputs'!$E$4:$E$188,\"Flooded\",'Abandoned Data Inputs'!AY4:AY188),0)","v":0},{"$f":"IF(AE13<=$C$4,SUMIF('Abandoned Data Inputs'!$E$4:$E$188,\"Flooded\",'Abandoned Data Inputs'!AZ4:AZ188),0)","v":0},{"$f":"IF(AF13<=$C$4,SUMIF('Abandoned Data Inputs'!$E$4:$E$188,\"Flooded\",'Abandoned Data Inputs'!BA4:BA188),0)","v":0},{"$f":"IF(AG13<=$C$4,SUMIF('Abandoned Data Inputs'!$E$4:$E$188,\"Flooded\",'Abandoned Data Inputs'!BB4:BB188),0)","v":0},{"$f":"IF(AH13<=$C$4,SUMIF('Abandoned Data Inputs'!$E$4:$E$188,\"Flooded\",'Abandoned Data Inputs'!BC4:BC188),0)","v":0},{"$f":"IF(AI13<=$C$4,SUMIF('Abandoned Data Inputs'!$E$4:$E$188,\"Flooded\",'Abandoned Data Inputs'!BD4:BD188),0)","v":0},{"$f":"IF(AJ13<=$C$4,SUMIF('Abandoned Data Inputs'!$E$4:$E$188,\"Flooded\",'Abandoned Data Inputs'!BE4:BE188),0)","v":0},{"$f":"IF(AK13<=$C$4,SUMIF('Abandoned Data Inputs'!$E$4:$E$188,\"Flooded\",'Abandoned Data Inputs'!BF4:BF188),0)","v":0},{"$f":"IF(AL13<=$C$4,SUMIF('Abandoned Data Inputs'!$E$4:$E$188,\"Flooded\",'Abandoned Data Inputs'!BG4:BG188),0)","v":0},{"$f":"IF(AM13<=$C$4,SUMIF('Abandoned Data Inputs'!$E$4:$E$188,\"Flooded\",'Abandoned Data Inputs'!BH4:BH188),0)","v":0},{"$f":"IF(AN13<=$C$4,SUMIF('Abandoned Data Inputs'!$E$4:$E$188,\"Flooded\",'Abandoned Data Inputs'!BI4:BI188),0)","v":0},{"$f":"IF(AO13<=$C$4,SUMIF('Abandoned Data Inputs'!$E$4:$E$188,\"Flooded\",'Abandoned Data Inputs'!BJ4:BJ188),0)","v":0},{"$f":"IF(AP13<=$C$4,SUMIF('Abandoned Data Inputs'!$E$4:$E$188,\"Flooded\",'Abandoned Data Inputs'!BK4:BK188),0)","v":0},{"$f":"IF(AQ13<=$C$4,SUMIF('Abandoned Data Inputs'!$E$4:$E$188,\"Flooded\",'Abandoned Data Inputs'!BL4:BL188),0)","v":0},{"$f":"IF(AR13<=$C$4,SUMIF('Abandoned Data Inputs'!$E$4:$E$188,\"Flooded\",'Abandoned Data Inputs'!BM4:BM188),0)","v":0},{"$f":"IF(AS13<=$C$4,SUMIF('Abandoned Data Inputs'!$E$4:$E$188,\"Flooded\",'Abandoned Data Inputs'!BN4:BN188),0)","v":0},{"$f":"IF(AT13<=$C$4,SUMIF('Abandoned Data Inputs'!$E$4:$E$188,\"Flooded\",'Abandoned Data Inputs'!BO4:BO188),0)","v":0},{"$f":"IF(AU13<=$C$4,SUMIF('Abandoned Data Inputs'!$E$4:$E$188,\"Flooded\",'Abandoned Data Inputs'!BP4:BP188),0)","v":0},{"$f":"IF(AV13<=$C$4,SUMIF('Abandoned Data Inputs'!$E$4:$E$188,\"Flooded\",'Abandoned Data Inputs'!BQ4:BQ188),0)","v":0},{"$f":"IF(AW13<=$C$4,SUMIF('Abandoned Data Inputs'!$E$4:$E$188,\"Flooded\",'Abandoned Data Inputs'!BR4:BR188),0)","v":0},{"$f":"IF(AX13<=$C$4,SUMIF('Abandoned Data Inputs'!$E$4:$E$188,\"Flooded\",'Abandoned Data Inputs'!BS4:BS188),0)","v":0},{"$f":"IF(AY13<=$C$4,SUMIF('Abandoned Data Inputs'!$E$4:$E$188,\"Flooded\",'Abandoned Data Inputs'!BT4:BT188),0)","v":0},{"$f":"IF(AZ13<=$C$4,SUMIF('Abandoned Data Inputs'!$E$4:$E$188,\"Flooded\",'Abandoned Data Inputs'!BU4:BU188),0)","v":0},{"$f":"IF(BA13<=$C$4,SUMIF('Abandoned Data Inputs'!$E$4:$E$188,\"Flooded\",'Abandoned Data Inputs'!BV4:BV188),0)","v":0},{"$f":"IF(BB13<=$C$4,SUMIF('Abandoned Data Inputs'!$E$4:$E$188,\"Flooded\",'Abandoned Data Inputs'!BW4:BW188),0)","v":0},{"$f":"IF(BC13<=$C$4,SUMIF('Abandoned Data Inputs'!$E$4:$E$188,\"Flooded\",'Abandoned Data Inputs'!BX4:BX188),0)","v":0},{"$f":"IF(BD13<=$C$4,SUMIF('Abandoned Data Inputs'!$E$4:$E$188,\"Flooded\",'Abandoned Data Inputs'!BY4:BY188),0)","v":0},{"$f":"IF(BE13<=$C$4,SUMIF('Abandoned Data Inputs'!$E$4:$E$188,\"Flooded\",'Abandoned Data Inputs'!BZ4:BZ188),0)","v":0},{"$f":"IF(BF13<=$C$4,SUMIF('Abandoned Data Inputs'!$E$4:$E$188,\"Flooded\",'Abandoned Data Inputs'!CA4:CA188),0)","v":0},{"$f":"IF(BG13<=$C$4,SUMIF('Abandoned Data Inputs'!$E$4:$E$188,\"Flooded\",'Abandoned Data Inputs'!CB4:CB188),0)","v":0},{"$f":"IF(BH13<=$C$4,SUMIF('Abandoned Data Inputs'!$E$4:$E$188,\"Flooded\",'Abandoned Data Inputs'!CC4:CC188),0)","v":0},{"$f":"IF(BI13<=$C$4,SUMIF('Abandoned Data Inputs'!$E$4:$E$188,\"Flooded\",'Abandoned Data Inputs'!CD4:CD188),0)","v":0},{"$f":"IF(BJ13<=$C$4,SUMIF('Abandoned Data Inputs'!$E$4:$E$188,\"Flooded\",'Abandoned Data Inputs'!CE4:CE188),0)","v":0},{"$f":"IF(BK13<=$C$4,SUMIF('Abandoned Data Inputs'!$E$4:$E$188,\"Flooded\",'Abandoned Data Inputs'!CF4:CF188),0)","v":0},{"$f":"IF(BL13<=$C$4,SUMIF('Abandoned Data Inputs'!$E$4:$E$188,\"Flooded\",'Abandoned Data Inputs'!CG4:CG188),0)","v":0}]
[null,null,"Unknown",{"$f":"IF(D13<=$C$4,SUMIF('Abandoned Data Inputs'!$E$4:$E$188,\"Unknown\",'Abandoned Data Inputs'!Y4:Y188),0)","v":0},{"$f":"IF(E13<=$C$4,SUMIF('Abandoned Data Inputs'!$E$4:$E$188,\"Unknown\",'Abandoned Data Inputs'!Z4:Z188),0)","v":0},{"$f":"IF(F13<=$C$4,SUMIF('Abandoned Data Inputs'!$E$4:$E$188,\"Unknown\",'Abandoned Data Inputs'!AA4:AA188),0)","v":0},{"$f":"IF(G13<=$C$4,SUMIF('Abandoned Data Inputs'!$E$4:$E$188,\"Unknown\",'Abandoned Data Inputs'!AB4:AB188),0)","v":0},{"$f":"IF(H13<=$C$4,SUMIF('Abandoned Data Inputs'!$E$4:$E$188,\"Unknown\",'Abandoned Data Inputs'!AC4:AC188),0)","v":0},{"$f":"IF(I13<=$C$4,SUMIF('Abandoned Data Inputs'!$E$4:$E$188,\"Unknown\",'Abandoned Data Inputs'!AD4:AD188),0)","v":0},{"$f":"IF(J13<=$C$4,SUMIF('Abandoned Data Inputs'!$E$4:$E$188,\"Unknown\",'Abandoned Data Inputs'!AE4:AE188),0)","v":0},{"$f":"IF(K13<=$C$4,SUMIF('Abandoned Data Inputs'!$E$4:$E$188,\"Unknown\",'Abandoned Data Inputs'!AF4:AF188),0)","v":0},{"$f":"IF(L13<=$C$4,SUMIF('Abandoned Data Inputs'!$E$4:$E$188,\"Unknown\",'Abandoned Data Inputs'!AG4:AG188),0)","v":0},{"$f":"IF(M13<=$C$4,SUMIF('Abandoned Data Inputs'!$E$4:$E$188,\"Unknown\",'Abandoned Data Inputs'!AH4:AH188),0)","v":0},{"$f":"IF(N13<=$C$4,SUMIF('Abandoned Data Inputs'!$E$4:$E$188,\"Unknown\",'Abandoned Data Inputs'!AI4:AI188),0)","v":0},{"$f":"IF(O13<=$C$4,SUMIF('Abandoned Data Inputs'!$E$4:$E$188,\"Unknown\",'Abandoned Data Inputs'!AJ4:AJ188),0)","v":0},{"$f":"IF(P13<=$C$4,SUMIF('Abandoned Data Inputs'!$E$4:$E$188,\"Unknown\",'Abandoned Data Inputs'!AK4:AK188),0)","v":0},{"$f":"IF(Q13<=$C$4,SUMIF('Abandoned Data Inputs'!$E$4:$E$188,\"Unknown\",'Abandoned Data Inputs'!AL4:AL188),0)","v":0},{"$f":"IF(R13<=$C$4,SUMIF('Abandoned Data Inputs'!$E$4:$E$188,\"Unknown\",'Abandoned Data Inputs'!AM4:AM188),0)","v":0},{"$f":"IF(S13<=$C$4,SUMIF('Abandoned Data Inputs'!$E$4:$E$188,\"Unknown\",'Abandoned Data Inputs'!AN4:AN188),0)","v":0},{"$f":"IF(T13<=$C$4,SUMIF('Abandoned Data Inputs'!$E$4:$E$188,\"Unknown\",'Abandoned Data Inputs'!AO4:AO188),0)","v":0},{"$f":"IF(U13<=$C$4,SUMIF('Abandoned Data Inputs'!$E$4:$E$188,\"Unknown\",'Abandoned Data Inputs'!AP4:AP188),0)","v":0},{"$f":"IF(V13<=$C$4,SUMIF('Abandoned Data Inputs'!$E$4:$E$188,\"Unknown\",'Abandoned Data Inputs'!AQ4:AQ188),0)","v":0},{"$f":"IF(W13<=$C$4,SUMIF('Abandoned Data Inputs'!$E$4:$E$188,\"Unknown\",'Abandoned Data Inputs'!AR4:AR188),0)","v":0},{"$f":"IF(X13<=$C$4,SUMIF('Abandoned Data Inputs'!$E$4:$E$188,\"Unknown\",'Abandoned Data Inputs'!AS4:AS188),0)","v":0},{"$f":"IF(Y13<=$C$4,SUMIF('Abandoned Data Inputs'!$E$4:$E$188,\"Unknown\",'Abandoned Data Inputs'!AT4:AT188),0)","v":0},{"$f":"IF(Z13<=$C$4,SUMIF('Abandoned Data Inputs'!$E$4:$E$188,\"Unknown\",'Abandoned Data Inputs'!AU4:AU188),0)","v":0},{"$f":"IF(AA13<=$C$4,SUMIF('Abandoned Data Inputs'!$E$4:$E$188,\"Unknown\",'Abandoned Data Inputs'!AV4:AV188),0)","v":0},{"$f":"IF(AB13<=$C$4,SUMIF('Abandoned Data Inputs'!$E$4:$E$188,\"Unknown\",'Abandoned Data Inputs'!AW4:AW188),0)","v":0},{"$f":"IF(AC13<=$C$4,SUMIF('Abandoned Data Inputs'!$E$4:$E$188,\"Unknown\",'Abandoned Data Inputs'!AX4:AX188),0)","v":0},{"$f":"IF(AD13<=$C$4,SUMIF('Abandoned Data Inputs'!$E$4:$E$188,\"Unknown\",'Abandoned Data Inputs'!AY4:AY188),0)","v":0},{"$f":"IF(AE13<=$C$4,SUMIF('Abandoned Data Inputs'!$E$4:$E$188,\"Unknown\",'Abandoned Data Inputs'!AZ4:AZ188),0)","v":0},{"$f":"IF(AF13<=$C$4,SUMIF('Abandoned Data Inputs'!$E$4:$E$188,\"Unknown\",'Abandoned Data Inputs'!BA4:BA188),0)","v":0},{"$f":"IF(AG13<=$C$4,SUMIF('Abandoned Data Inputs'!$E$4:$E$188,\"Unknown\",'Abandoned Data Inputs'!BB4:BB188),0)","v":0},{"$f":"IF(AH13<=$C$4,SUMIF('Abandoned Data Inputs'!$E$4:$E$188,\"Unknown\",'Abandoned Data Inputs'!BC4:BC188),0)","v":0},{"$f":"IF(AI13<=$C$4,SUMIF('Abandoned Data Inputs'!$E$4:$E$188,\"Unknown\",'Abandoned Data Inputs'!BD4:BD188),0)","v":0},{"$f":"IF(AJ13<=$C$4,SUMIF('Abandoned Data Inputs'!$E$4:$E$188,\"Unknown\",'Abandoned Data Inputs'!BE4:BE188),0)","v":0},{"$f":"IF(AK13<=$C$4,SUMIF('Abandoned Data Inputs'!$E$4:$E$188,\"Unknown\",'Abandoned Data Inputs'!BF4:BF188),0)","v":0},{"$f":"IF(AL13<=$C$4,SUMIF('Abandoned Data Inputs'!$E$4:$E$188,\"Unknown\",'Abandoned Data Inputs'!BG4:BG188),0)","v":0},{"$f":"IF(AM13<=$C$4,SUMIF('Abandoned Data Inputs'!$E$4:$E$188,\"Unknown\",'Abandoned Data Inputs'!BH4:BH188),0)","v":0},{"$f":"IF(AN13<=$C$4,SUMIF('Abandoned Data Inputs'!$E$4:$E$188,\"Unknown\",'Abandoned Data Inputs'!BI4:BI188),0)","v":0},{"$f":"IF(AO13<=$C$4,SUMIF('Abandoned Data Inputs'!$E$4:$E$188,\"Unknown\",'Abandoned Data Inputs'!BJ4:BJ188),0)","v":0},{"$f":"IF(AP13<=$C$4,SUMIF('Abandoned Data Inputs'!$E$4:$E$188,\"Unknown\",'Abandoned Data Inputs'!BK4:BK188),0)","v":0},{"$f":"IF(AQ13<=$C$4,SUMIF('Abandoned Data Inputs'!$E$4:$E$188,\"Unknown\",'Abandoned Data Inputs'!BL4:BL188),0)","v":0},{"$f":"IF(AR13<=$C$4,SUMIF('Abandoned Data Inputs'!$E$4:$E$188,\"Unknown\",'Abandoned Data Inputs'!BM4:BM188),0)","v":0},{"$f":"IF(AS13<=$C$4,SUMIF('Abandoned Data Inputs'!$E$4:$E$188,\"Unknown\",'Abandoned Data Inputs'!BN4:BN188),0)","v":0},{"$f":"IF(AT13<=$C$4,SUMIF('Abandoned Data Inputs'!$E$4:$E$188,\"Unknown\",'Abandoned Data Inputs'!BO4:BO188),0)","v":0},{"$f":"IF(AU13<=$C$4,SUMIF('Abandoned Data Inputs'!$E$4:$E$188,\"Unknown\",'Abandoned Data Inputs'!BP4:BP188),0)","v":0},{"$f":"IF(AV13<=$C$4,SUMIF('Abandoned Data Inputs'!$E$4:$E$188,\"Unknown\",'Abandoned Data Inputs'!BQ4:BQ188),0)","v":0},{"$f":"IF(AW13<=$C$4,SUMIF('Abandoned Data Inputs'!$E$4:$E$188,\"Unknown\",'Abandoned Data Inputs'!BR4:BR188),0)","v":0},{"$f":"IF(AX13<=$C$4,SUMIF('Abandoned Data Inputs'!$E$4:$E$188,\"Unknown\",'Abandoned Data Inputs'!BS4:BS188),0)","v":0},{"$f":"IF(AY13<=$C$4,SUMIF('Abandoned Data Inputs'!$E$4:$E$188,\"Unknown\",'Abandoned Data Inputs'!BT4:BT188),0)","v":0},{"$f":"IF(AZ13<=$C$4,SUMIF('Abandoned Data Inputs'!$E$4:$E$188,\"Unknown\",'Abandoned Data Inputs'!BU4:BU188),0)","v":0},{"$f":"IF(BA13<=$C$4,SUMIF('Abandoned Data Inputs'!$E$4:$E$188,\"Unknown\",'Abandoned Data Inputs'!BV4:BV188),0)","v":0},{"$f":"IF(BB13<=$C$4,SUMIF('Abandoned Data Inputs'!$E$4:$E$188,\"Unknown\",'Abandoned Data Inputs'!BW4:BW188),0)","v":0},{"$f":"IF(BC13<=$C$4,SUMIF('Abandoned Data Inputs'!$E$4:$E$188,\"Unknown\",'Abandoned Data Inputs'!BX4:BX188),0)","v":0},{"$f":"IF(BD13<=$C$4,SUMIF('Abandoned Data Inputs'!$E$4:$E$188,\"Unknown\",'Abandoned Data Inputs'!BY4:BY188),0)","v":0},{"$f":"IF(BE13<=$C$4,SUMIF('Abandoned Data Inputs'!$E$4:$E$188,\"Unknown\",'Abandoned Data Inputs'!BZ4:BZ188),0)","v":0},{"$f":"IF(BF13<=$C$4,SUMIF('Abandoned Data Inputs'!$E$4:$E$188,\"Unknown\",'Abandoned Data Inputs'!CA4:CA188),0)","v":0},{"$f":"IF(BG13<=$C$4,SUMIF('Abandoned Data Inputs'!$E$4:$E$188,\"Unknown\",'Abandoned Data Inputs'!CB4:CB188),0)","v":0},{"$f":"IF(BH13<=$C$4,SUMIF('Abandoned Data Inputs'!$E$4:$E$188,\"Unknown\",'Abandoned Data Inputs'!CC4:CC188),0)","v":0},{"$f":"IF(BI13<=$C$4,SUMIF('Abandoned Data Inputs'!$E$4:$E$188,\"Unknown\",'Abandoned Data Inputs'!CD4:CD188),0)","v":0},{"$f":"IF(BJ13<=$C$4,SUMIF('Abandoned Data Inputs'!$E$4:$E$188,\"Unknown\",'Abandoned Data Inputs'!CE4:CE188),0)","v":0},{"$f":"IF(BK13<=$C$4,SUMIF('Abandoned Data Inputs'!$E$4:$E$188,\"Unknown\",'Abandoned Data Inputs'!CF4:CF188),0)","v":0},{"$f":"IF(BL13<=$C$4,SUMIF('Abandoned Data Inputs'!$E$4:$E$188,\"Unknown\",'Abandoned Data Inputs'!CG4:CG188),0)","v":0}]
[]
[null,"Mine Status (with Unknown Distributed)"]
[null,"Emissions (MTCO2E/Year)",null,1990,1991,1992,1993,1994,1995,1996,1997,1998,1999,2000,2001,2002,2003,2004,2005,2006,2007,2008,2009,2010,2011,2012,2013,2014,2015,2016,2017,2018,2019,2020,{"$f":"AH20+1","v":2021},{"$f":"AI20+1","v":2022},2023,2024,2025,2026,2027,2028,2029,2030,2031,2032,2033,2034,2035,2036,2037,2038,2039,2040,2041,2042,2043,2044,2045,2046,2047,2048,2049,2050]
[null,null,"Vented",{"$f":"IF(ISERROR((D27)*1000*CH4GWP),\"-\",(D27)*1000*CH4GWP)","v":"-"},{"$f":"IF(ISERROR((E27)*1000*CH4GWP),\"-\",(E27)*1000*CH4GWP)","v":"-"},"-","-","-","-","-","-","-","-","-","-","-","-","-","-","-","-","-","-","-","-","-",{"$f":"IF(ISERROR((AA27)*1000*CH4GWP),\"-\",(AA27)*1000*CH4GWP)","v":"-"},"-","-","-","-","-","-","-",{"$f":"IF(ISERROR((AI27)*1000*CH4GWP),\"-\",(AI27)*1000*CH4GWP)","v":"-"},"-","-","-","-","-","-","-","-","-","-","-","-","-","-","-","-","-","-","-","-","-","-","-","-","-","-","-","-","-"]
[null,null,"Sealed",{"$f":"IF(ISERROR((D28)*1000*CH4GWP),\"-\",(D28)*1000*CH4GWP)","v":"-"},{"$f":"IF(ISERROR((E28)*1000*CH4GWP),\"-\",(E28)*1000*CH4GWP)","v":"-"},"-","-","-","-","-","-","-","-","-","-","-","-","-","-","-","-","-","-","-","-","-",{"$f":"IF(ISERROR((AA28)*1000*CH4GWP),\"-\",(AA28)*1000*CH4GWP)","v":"-"},{"$f":"IF(ISERROR((AB28)*1000*CH4GWP),\"-\",(AB28)*1000*CH4GWP)","v":"-"},"-","-","-","-","-","-",{"$f":"IF(ISERROR((AI28)*1000*CH4GWP),\"-\",(AI28)*1000*CH4GWP)","v":"-"},"-","-","-","-","-","-","-","-","-","-","-","-","-","-","-","-","-","-","-","-","-","-","-","-","-","-","-","-","-"]
[null,null,"Flooded",{"$f":"IF(ISERROR((D29)*1000*CH4GWP),\"-\",(D29)*1000*CH4GWP)","v":"-"},{"$f":"IF(ISERROR((E29)*1000*CH4GWP),\"-\",(E29)*1000*CH4GWP)","v":"-"},"-","-","-","-","-","-","-","-","-","-","-","-","-","-","-","-","-","-","-","-","-",{"$f":"IF(ISERROR((AA29)*1000*CH4GWP),\"-\",(AA29)*1000*CH4GWP)","v":"-"},"-","-","-","-","-","-","-",{"$f":"IF(ISERROR((AI29)*1000*CH4GWP),\"-\",(AI29)*1000*CH4GWP)","v":"-"},"-","-","-","-","-","-","-","-","-","-","-","-","-","-","-","-","-","-","-","-","-","-","-","-","-","-","-","-","-"]
[null,null,"Total",{"$f":"SUM(D21:D23)","v":0},{"$f":"SUM(E21:E23)","v":0},0,0,0,0,0,0,0,0,0,0,0,0,0,0,{"$f":"SUM(T21:T23)","v":0},0,0,0,0,0,0,0,0,0,0,0,0,0,0,{"$f":"SUM(AI21:AI23)","v":0},0,0,0,0,0,0,0,0,0,0,0,0,0,0,0,0,0,0,0,0,0,0,0,0,0,0,0,0,0]
[]
[null,"Emissions (Gg CH4/Year)",null,1990,1991,1992,1993,1994,1995,1996,1997,1998,1999,2000,2001,2002,2003,2004,2005,2006,2007,2008,2009,2010,2011,2012,2013,2014,2015,2016,2017,2018,2019,2020,2021,2022,2023,2024,2025,2020,2020,2020,2020,2020,2020,2020,2020,2020,2020,2020,2020,2020,2020,2020,2020,2020,2020,2020,2020,2020,2020,2020,2020,2020]
[null,null,"Vented",{"$f":"(D17*'Abandoned Data Inputs'!$U$4)+'Summary Abandoned Coal Mines'!D14","v":{"$error":"#N/A"}},{"$f":"(E17*'Abandoned Data Inputs'!$U$4)+'Summary Abandoned Coal Mines'!E14","v":{"$error":"#N/A"}},{"$f":"(F17*'Abandoned Data Inputs'!$U$4)+'Summary Abandoned Coal Mines'!F14","v":{"$error":"#N/A"}},{"$f":"(G17*'Abandoned Data Inputs'!$U$4)+'Summary Abandoned Coal Mines'!G14","v":{"$error":"#N/A"}},{"$f":"(H17*'Abandoned Data Inputs'!$U$4)+'Summary Abandoned Coal Mines'!H14","v":{"$error":"#N/A"}},{"$f":"(I17*'Abandoned Data Inputs'!$U$4)+'Summary Abandoned Coal Mines'!I14","v":{"$error":"#N/A"}},{"$f":"(J17*'Abandoned Data Inputs'!$U$4)+'Summary Abandoned Coal Mines'!J14","v":{"$error":"#N/A"}},{"$f":"(K17*'Abandoned Data Inputs'!$U$4)+'Summary Abandoned Coal Mines'!K14","v":{"$error":"#N/A"}},{"$f":"(L17*'Abandoned Data Inputs'!$U$4)+'Summary Abandoned Coal Mines'!L14","v":{"$error":"#N/A"}},{"$f":"(M17*'Abandoned Data Inputs'!$U$4)+'Summary Abandoned Coal Mines'!M14","v":{"$error":"#N/A"}},{"$f":"(N17*'Abandoned Data Inputs'!$U$4)+'Summary Abandoned Coal Mines'!N14","v":{"$error":"#N/A"}},{"$f":"(O17*'Abandoned Data Inputs'!$U$4)+'Summary Abandoned Coal Mines'!O14","v":{"$error":"#N/A"}},{"$f":"(P17*'Abandoned Data Inputs'!$U$4)+'Summary Abandoned Coal Mines'!P14","v":{"$error":"#N/A"}},{"$f":"(Q17*'Abandoned Data Inputs'!$U$4)+'Summary Abandoned Coal Mines'!Q14","v":{"$error":"#N/A"}},{"$f":"(R17*'Abandoned Data Inputs'!$U$4)+'Summary Abandoned Coal Mines'!R14","v":{"$error":"#N/A"}},{"$f":"(S17*'Abandoned Data Inputs'!$U$4)+'Summary Abandoned Coal Mines'!S14","v":{"$error":"#N/A"}},{"$f":"(T17*'Abandoned Data Inputs'!$U$4)+'Summary Abandoned Coal Mines'!T14","v":{"$error":"#N/A"}},{"$f":"(U17*'Abandoned Data Inputs'!$U$4)+'Summary Abandoned Coal Mines'!U14","v":{"$error":"#N/A"}},{"$f":"(V17*'Abandoned Data Inputs'!$U$4)+'Summary Abandoned Coal Mines'!V14","v":{"$error":"#N/A"}},{"$f":"(W17*'Abandoned Data Inputs'!$U$4)+'Summary Abandoned Coal Mines'!W14","v":{"$error":"#N/A"}},{"$f":"(X17*'Abandoned Data Inputs'!$U$4)+'Summary Abandoned Coal Mines'!X14","v":{"$error":"#N/A"}},{"$f":"(Y17*'Abandoned Data Inputs'!$U$4)+'Summary Abandoned Coal Mines'!Y14","v":{"$error":"#N/A"}},{"$f":"(Z17*'Abandoned Data Inputs'!$U$4)+'Summary Abandoned Coal Mines'!Z14","v":{"$error":"#N/A"}},{"$f":"(AA17*'Abandoned Data Inputs'!$U$4)+'Summary Abandoned Coal Mines'!AA14","v":{"$error":"#N/A"}},{"$f":"(AB17*'Abandoned Data Inputs'!$U$4)+'Summary Abandoned Coal Mines'!AB14","v":{"$error":"#N/A"}},{"$f":"(AC17*'Abandoned Data Inputs'!$U$4)+'Summary Abandoned Coal Mines'!AC14","v":{"$error":"#N/A"}},{"$f":"(AD17*'Abandoned Data Inputs'!$U$4)+'Summary Abandoned Coal Mines'!AD14","v":{"$error":"#N/A"}},{"$f":"(AE17*'Abandoned Data Inputs'!$U$4)+'Summary Abandoned Coal Mines'!AE14","v":{"$error":"#N/A"}},{"$f":"(AF17*'Abandoned Data Inputs'!$U$4)+'Summary Abandoned Coal Mines'!AF14","v":{"$error":"#N/A"}},{"$f":"(AG17*'Abandoned Data Inputs'!$U$4)+'Summary Abandoned Coal Mines'!AG14","v":{"$error":"#N/A"}},{"$f":"(AH17*'Abandoned Data Inputs'!$U$4)+'Summary Abandoned Coal Mines'!AH14","v":{"$error":"#N/A"}},{"$f":"(AI17*'Abandoned Data Inputs'!$U$4)+'Summary Abandoned Coal Mines'!AI14","v":{"$error":"#N/A"}},{"$f":"(AJ17*'Abandoned Data Inputs'!$U$4)+'Summary Abandoned Coal Mines'!AJ14","v":{"$error":"#N/A"}},{"$f":"(AK17*'Abandoned Data Inputs'!$U$4)+'Summary Abandoned Coal Mines'!AK14","v":{"$error":"#N/A"}},{"$f":"(AL17*'Abandoned Data Inputs'!$U$4)+'Summary Abandoned Coal Mines'!AL14","v":{"$error":"#N/A"}},{"$f":"(AM17*'Abandoned Data Inputs'!$U$4)+'Summary Abandoned Coal Mines'!AM14","v":{"$error":"#N/A"}},{"$f":"(AN17*'Abandoned Data Inputs'!$U$4)+'Summary Abandoned Coal Mines'!AN14","v":{"$error":"#N/A"}},{"$f":"(AO17*'Abandoned Data Inputs'!$U$4)+'Summary Abandoned Coal Mines'!AO14","v":{"$error":"#N/A"}},{"$f":"(AP17*'Abandoned Data Inputs'!$U$4)+'Summary Abandoned Coal Mines'!AP14","v":{"$error":"#N/A"}},{"$f":"(AQ17*'Abandoned Data Inputs'!$U$4)+'Summary Abandoned Coal Mines'!AQ14","v":{"$error":"#N/A"}},{"$f":"(AR17*'Abandoned Data Inputs'!$U$4)+'Summary Abandoned Coal Mines'!AR14","v":{"$error":"#N/A"}},{"$f":"(AS17*'Abandoned Data Inputs'!$U$4)+'Summary Abandoned Coal Mines'!AS14","v":{"$error":"#N/A"}},{"$f":"(AT17*'Abandoned Data Inputs'!$U$4)+'Summary Abandoned Coal Mines'!AT14","v":{"$error":"#N/A"}},{"$f":"(AU17*'Abandoned Data Inputs'!$U$4)+'Summary Abandoned Coal Mines'!AU14","v":{"$error":"#N/A"}},{"$f":"(AV17*'Abandoned Data Inputs'!$U$4)+'Summary Abandoned Coal Mines'!AV14","v":{"$error":"#N/A"}},{"$f":"(AW17*'Abandoned Data Inputs'!$U$4)+'Summary Abandoned Coal Mines'!AW14","v":{"$error":"#N/A"}},{"$f":"(AX17*'Abandoned Data Inputs'!$U$4)+'Summary Abandoned Coal Mines'!AX14","v":{"$error":"#N/A"}},{"$f":"(AY17*'Abandoned Data Inputs'!$U$4)+'Summary Abandoned Coal Mines'!AY14","v":{"$error":"#N/A"}},{"$f":"(AZ17*'Abandoned Data Inputs'!$U$4)+'Summary Abandoned Coal Mines'!AZ14","v":{"$error":"#N/A"}},{"$f":"(BA17*'Abandoned Data Inputs'!$U$4)+'Summary Abandoned Coal Mines'!BA14","v":{"$error":"#N/A"}},{"$f":"(BB17*'Abandoned Data Inputs'!$U$4)+'Summary Abandoned Coal Mines'!BB14","v":{"$error":"#N/A"}},{"$f":"(BC17*'Abandoned Data Inputs'!$U$4)+'Summary Abandoned Coal Mines'!BC14","v":{"$error":"#N/A"}},{"$f":"(BD17*'Abandoned Data Inputs'!$U$4)+'Summary Abandoned Coal Mines'!BD14","v":{"$error":"#N/A"}},{"$f":"(BE17*'Abandoned Data Inputs'!$U$4)+'Summary Abandoned Coal Mines'!BE14","v":{"$error":"#N/A"}},{"$f":"(BF17*'Abandoned Data Inputs'!$U$4)+'Summary Abandoned Coal Mines'!BF14","v":{"$error":"#N/A"}},{"$f":"(BG17*'Abandoned Data Inputs'!$U$4)+'Summary Abandoned Coal Mines'!BG14","v":{"$error":"#N/A"}},{"$f":"(BH17*'Abandoned Data Inputs'!$U$4)+'Summary Abandoned Coal Mines'!BH14","v":{"$error":"#N/A"}},{"$f":"(BI17*'Abandoned Data Inputs'!$U$4)+'Summary Abandoned Coal Mines'!BI14","v":{"$error":"#N/A"}},{"$f":"(BJ17*'Abandoned Data Inputs'!$U$4)+'Summary Abandoned Coal Mines'!BJ14","v":{"$error":"#N/A"}},{"$f":"(BK17*'Abandoned Data Inputs'!$U$4)+'Summary Abandoned Coal Mines'!BK14","v":{"$error":"#N/A"}},{"$f":"(BL17*'Abandoned Data Inputs'!$U$4)+'Summary Abandoned Coal Mines'!BL14","v":{"$error":"#N/A"}}]
[null,null,"Sealed",{"$f":"(D17*'Abandoned Data Inputs'!$V$4)+'Summary Abandoned Coal Mines'!D15","v":{"$error":"#N/A"}},{"$f":"(E17*'Abandoned Data Inputs'!$V$4)+'Summary Abandoned Coal Mines'!E15","v":{"$error":"#N/A"}},{"$f":"(F17*'Abandoned Data Inputs'!$V$4)+'Summary Abandoned Coal Mines'!F15","v":{"$error":"#N/A"}},{"$f":"(G17*'Abandoned Data Inputs'!$V$4)+'Summary Abandoned Coal Mines'!G15","v":{"$error":"#N/A"}},{"$f":"(H17*'Abandoned Data Inputs'!$V$4)+'Summary Abandoned Coal Mines'!H15","v":{"$error":"#N/A"}},{"$f":"(I17*'Abandoned Data Inputs'!$V$4)+'Summary Abandoned Coal Mines'!I15","v":{"$error":"#N/A"}},{"$f":"(J17*'Abandoned Data Inputs'!$V$4)+'Summary Abandoned Coal Mines'!J15","v":{"$error":"#N/A"}},{"$f":"(K17*'Abandoned Data Inputs'!$V$4)+'Summary Abandoned Coal Mines'!K15","v":{"$error":"#N/A"}},{"$f":"(L17*'Abandoned Data Inputs'!$V$4)+'Summary Abandoned Coal Mines'!L15","v":{"$error":"#N/A"}},{"$f":"(M17*'Abandoned Data Inputs'!$V$4)+'Summary Abandoned Coal Mines'!M15","v":{"$error":"#N/A"}},{"$f":"(N17*'Abandoned Data Inputs'!$V$4)+'Summary Abandoned Coal Mines'!N15","v":{"$error":"#N/A"}},{"$f":"(O17*'Abandoned Data Inputs'!$V$4)+'Summary Abandoned Coal Mines'!O15","v":{"$error":"#N/A"}},{"$f":"(P17*'Abandoned Data Inputs'!$V$4)+'Summary Abandoned Coal Mines'!P15","v":{"$error":"#N/A"}},{"$f":"(Q17*'Abandoned Data Inputs'!$V$4)+'Summary Abandoned Coal Mines'!Q15","v":{"$error":"#N/A"}},{"$f":"(R17*'Abandoned Data Inputs'!$V$4)+'Summary Abandoned Coal Mines'!R15","v":{"$error":"#N/A"}},{"$f":"(S17*'Abandoned Data Inputs'!$V$4)+'Summary Abandoned Coal Mines'!S15","v":{"$error":"#N/A"}},{"$f":"(T17*'Abandoned Data Inputs'!$V$4)+'Summary Abandoned Coal Mines'!T15","v":{"$error":"#N/A"}},{"$f":"(U17*'Abandoned Data Inputs'!$V$4)+'Summary Abandoned Coal Mines'!U15","v":{"$error":"#N/A"}},{"$f":"(V17*'Abandoned Data Inputs'!$V$4)+'Summary Abandoned Coal Mines'!V15","v":{"$error":"#N/A"}},{"$f":"(W17*'Abandoned Data Inputs'!$V$4)+'Summary Abandoned Coal Mines'!W15","v":{"$error":"#N/A"}},{"$f":"(X17*'Abandoned Data Inputs'!$V$4)+'Summary Abandoned Coal Mines'!X15","v":{"$error":"#N/A"}},{"$f":"(Y17*'Abandoned Data Inputs'!$V$4)+'Summary Abandoned Coal Mines'!Y15","v":{"$error":"#N/A"}},{"$f":"(Z17*'Abandoned Data Inputs'!$V$4)+'Summary Abandoned Coal Mines'!Z15","v":{"$error":"#N/A"}},{"$f":"(AA17*'Abandoned Data Inputs'!$V$4)+'Summary Abandoned Coal Mines'!AA15","v":{"$error":"#N/A"}},{"$f":"(AB17*'Abandoned Data Inputs'!$V$4)+'Summary Abandoned Coal Mines'!AB15","v":{"$error":"#N/A"}},{"$f":"(AC17*'Abandoned Data Inputs'!$V$4)+'Summary Abandoned Coal Mines'!AC15","v":{"$error":"#N/A"}},{"$f":"(AD17*'Abandoned Data Inputs'!$V$4)+'Summary Abandoned Coal Mines'!AD15","v":{"$error":"#N/A"}},{"$f":"(AE17*'Abandoned Data Inputs'!$V$4)+'Summary Abandoned Coal Mines'!AE15","v":{"$error":"#N/A"}},{"$f":"(AF17*'Abandoned Data Inputs'!$V$4)+'Summary Abandoned Coal Mines'!AF15","v":{"$error":"#N/A"}},{"$f":"(AG17*'Abandoned Data Inputs'!$V$4)+'Summary Abandoned Coal Mines'!AG15","v":{"$error":"#N/A"}},{"$f":"(AH17*'Abandoned Data Inputs'!$V$4)+'Summary Abandoned Coal Mines'!AH15","v":{"$error":"#N/A"}},{"$f":"(AI17*'Abandoned Data Inputs'!$V$4)+'Summary Abandoned Coal Mines'!AI15","v":{"$error":"#N/A"}},{"$f":"(AJ17*'Abandoned Data Inputs'!$V$4)+'Summary Abandoned Coal Mines'!AJ15","v":{"$error":"#N/A"}},{"$f":"(AK17*'Abandoned Data Inputs'!$V$4)+'Summary Abandoned Coal Mines'!AK15","v":{"$error":"#N/A"}},{"$f":"(AL17*'Abandoned Data Inputs'!$V$4)+'Summary Abandoned Coal Mines'!AL15","v":{"$error":"#N/A"}},{"$f":"(AM17*'Abandoned Data Inputs'!$V$4)+'Summary Abandoned Coal Mines'!AM15","v":{"$error":"#N/A"}},{"$f":"(AN17*'Abandoned Data Inputs'!$V$4)+'Summary Abandoned Coal Mines'!AN15","v":{"$error":"#N/A"}},{"$f":"(AO17*'Abandoned Data Inputs'!$V$4)+'Summary Abandoned Coal Mines'!AO15","v":{"$error":"#N/A"}},{"$f":"(AP17*'Abandoned Data Inputs'!$V$4)+'Summary Abandoned Coal Mines'!AP15","v":{"$error":"#N/A"}},{"$f":"(AQ17*'Abandoned Data Inputs'!$V$4)+'Summary Abandoned Coal Mines'!AQ15","v":{"$error":"#N/A"}},{"$f":"(AR17*'Abandoned Data Inputs'!$V$4)+'Summary Abandoned Coal Mines'!AR15","v":{"$error":"#N/A"}},{"$f":"(AS17*'Abandoned Data Inputs'!$V$4)+'Summary Abandoned Coal Mines'!AS15","v":{"$error":"#N/A"}},{"$f":"(AT17*'Abandoned Data Inputs'!$V$4)+'Summary Abandoned Coal Mines'!AT15","v":{"$error":"#N/A"}},{"$f":"(AU17*'Abandoned Data Inputs'!$V$4)+'Summary Abandoned Coal Mines'!AU15","v":{"$error":"#N/A"}},{"$f":"(AV17*'Abandoned Data Inputs'!$V$4)+'Summary Abandoned Coal Mines'!AV15","v":{"$error":"#N/A"}},{"$f":"(AW17*'Abandoned Data Inputs'!$V$4)+'Summary Abandoned Coal Mines'!AW15","v":{"$error":"#N/A"}},{"$f":"(AX17*'Abandoned Data Inputs'!$V$4)+'Summary Abandoned Coal Mines'!AX15","v":{"$error":"#N/A"}},{"$f":"(AY17*'Abandoned Data Inputs'!$V$4)+'Summary Abandoned Coal Mines'!AY15","v":{"$error":"#N/A"}},{"$f":"(AZ17*'Abandoned Data Inputs'!$V$4)+'Summary Abandoned Coal Mines'!AZ15","v":{"$error":"#N/A"}},{"$f":"(BA17*'Abandoned Data Inputs'!$V$4)+'Summary Abandoned Coal Mines'!BA15","v":{"$error":"#N/A"}},{"$f":"(BB17*'Abandoned Data Inputs'!$V$4)+'Summary Abandoned Coal Mines'!BB15","v":{"$error":"#N/A"}},{"$f":"(BC17*'Abandoned Data Inputs'!$V$4)+'Summary Abandoned Coal Mines'!BC15","v":{"$error":"#N/A"}},{"$f":"(BD17*'Abandoned Data Inputs'!$V$4)+'Summary Abandoned Coal Mines'!BD15","v":{"$error":"#N/A"}},{"$f":"(BE17*'Abandoned Data Inputs'!$V$4)+'Summary Abandoned Coal Mines'!BE15","v":{"$error":"#N/A"}},{"$f":"(BF17*'Abandoned Data Inputs'!$V$4)+'Summary Abandoned Coal Mines'!BF15","v":{"$error":"#N/A"}},{"$f":"(BG17*'Abandoned Data Inputs'!$V$4)+'Summary Abandoned Coal Mines'!BG15","v":{"$error":"#N/A"}},{"$f":"(BH17*'Abandoned Data Inputs'!$V$4)+'Summary Abandoned Coal Mines'!BH15","v":{"$error":"#N/A"}},{"$f":"(BI17*'Abandoned Data Inputs'!$V$4)+'Summary Abandoned Coal Mines'!BI15","v":{"$error":"#N/A"}},{"$f":"(BJ17*'Abandoned Data Inputs'!$V$4)+'Summary Abandoned Coal Mines'!BJ15","v":{"$error":"#N/A"}},{"$f":"(BK17*'Abandoned Data Inputs'!$V$4)+'Summary Abandoned Coal Mines'!BK15","v":{"$error":"#N/A"}},{"$f":"(BL17*'Abandoned Data Inputs'!$V$4)+'Summary Abandoned Coal Mines'!BL15","v":{"$error":"#N/A"}}]
[null,null,"Flooded",{"$f":"(D17*'Abandoned Data Inputs'!$T$4)+'Summary Abandoned Coal Mines'!D16","v":{"$error":"#N/A"}},{"$f":"(E17*'Abandoned Data Inputs'!$T$4)+'Summary Abandoned Coal Mines'!E16","v":{"$error":"#N/A"}},{"$f":"(F17*'Abandoned Data Inputs'!$T$4)+'Summary Abandoned Coal Mines'!F16","v":{"$error":"#N/A"}},{"$f":"(G17*'Abandoned Data Inputs'!$T$4)+'Summary Abandoned Coal Mines'!G16","v":{"$error":"#N/A"}},{"$f":"(H17*'Abandoned Data Inputs'!$T$4)+'Summary Abandoned Coal Mines'!H16","v":{"$error":"#N/A"}},{"$f":"(I17*'Abandoned Data Inputs'!$T$4)+'Summary Abandoned Coal Mines'!I16","v":{"$error":"#N/A"}},{"$f":"(J17*'Abandoned Data Inputs'!$T$4)+'Summary Abandoned Coal Mines'!J16","v":{"$error":"#N/A"}},{"$f":"(K17*'Abandoned Data Inputs'!$T$4)+'Summary Abandoned Coal Mines'!K16","v":{"$error":"#N/A"}},{"$f":"(L17*'Abandoned Data Inputs'!$T$4)+'Summary Abandoned Coal Mines'!L16","v":{"$error":"#N/A"}},{"$f":"(M17*'Abandoned Data Inputs'!$T$4)+'Summary Abandoned Coal Mines'!M16","v":{"$error":"#N/A"}},{"$f":"(N17*'Abandoned Data Inputs'!$T$4)+'Summary Abandoned Coal Mines'!N16","v":{"$error":"#N/A"}},{"$f":"(O17*'Abandoned Data Inputs'!$T$4)+'Summary Abandoned Coal Mines'!O16","v":{"$error":"#N/A"}},{"$f":"(P17*'Abandoned Data Inputs'!$T$4)+'Summary Abandoned Coal Mines'!P16","v":{"$error":"#N/A"}},{"$f":"(Q17*'Abandoned Data Inputs'!$T$4)+'Summary Abandoned Coal Mines'!Q16","v":{"$error":"#N/A"}},{"$f":"(R17*'Abandoned Data Inputs'!$T$4)+'Summary Abandoned Coal Mines'!R16","v":{"$error":"#N/A"}},{"$f":"(S17*'Abandoned Data Inputs'!$T$4)+'Summary Abandoned Coal Mines'!S16","v":{"$error":"#N/A"}},{"$f":"(T17*'Abandoned Data Inputs'!$T$4)+'Summary Abandoned Coal Mines'!T16","v":{"$error":"#N/A"}},{"$f":"(U17*'Abandoned Data Inputs'!$T$4)+'Summary Abandoned Coal Mines'!U16","v":{"$error":"#N/A"}},{"$f":"(V17*'Abandoned Data Inputs'!$T$4)+'Summary Abandoned Coal Mines'!V16","v":{"$error":"#N/A"}},{"$f":"(W17*'Abandoned Data Inputs'!$T$4)+'Summary Abandoned Coal Mines'!W16","v":{"$error":"#N/A"}},{"$f":"(X17*'Abandoned Data Inputs'!$T$4)+'Summary Abandoned Coal Mines'!X16","v":{"$error":"#N/A"}},{"$f":"(Y17*'Abandoned Data Inputs'!$T$4)+'Summary Abandoned Coal Mines'!Y16","v":{"$error":"#N/A"}},{"$f":"(Z17*'Abandoned Data Inputs'!$T$4)+'Summary Abandoned Coal Mines'!Z16","v":{"$error":"#N/A"}},{"$f":"(AA17*'Abandoned Data Inputs'!$T$4)+'Summary Abandoned Coal Mines'!AA16","v":{"$error":"#N/A"}},{"$f":"(AB17*'Abandoned Data Inputs'!$T$4)+'Summary Abandoned Coal Mines'!AB16","v":{"$error":"#N/A"}},{"$f":"(AC17*'Abandoned Data Inputs'!$T$4)+'Summary Abandoned Coal Mines'!AC16","v":{"$error":"#N/A"}},{"$f":"(AD17*'Abandoned Data Inputs'!$T$4)+'Summary Abandoned Coal Mines'!AD16","v":{"$error":"#N/A"}},{"$f":"(AE17*'Abandoned Data Inputs'!$T$4)+'Summary Abandoned Coal Mines'!AE16","v":{"$error":"#N/A"}},{"$f":"(AF17*'Abandoned Data Inputs'!$T$4)+'Summary Abandoned Coal Mines'!AF16","v":{"$error":"#N/A"}},{"$f":"(AG17*'Abandoned Data Inputs'!$T$4)+'Summary Abandoned Coal Mines'!AG16","v":{"$error":"#N/A"}},{"$f":"(AH17*'Abandoned Data Inputs'!$T$4)+'Summary Abandoned Coal Mines'!AH16","v":{"$error":"#N/A"}},{"$f":"(AI17*'Abandoned Data Inputs'!$T$4)+'Summary Abandoned Coal Mines'!AI16","v":{"$error":"#N/A"}},{"$f":"(AJ17*'Abandoned Data Inputs'!$T$4)+'Summary Abandoned Coal Mines'!AJ16","v":{"$error":"#N/A"}},{"$f":"(AK17*'Abandoned Data Inputs'!$T$4)+'Summary Abandoned Coal Mines'!AK16","v":{"$error":"#N/A"}},{"$f":"(AL17*'Abandoned Data Inputs'!$T$4)+'Summary Abandoned Coal Mines'!AL16","v":{"$error":"#N/A"}},{"$f":"(AM17*'Abandoned Data Inputs'!$T$4)+'Summary Abandoned Coal Mines'!AM16","v":{"$error":"#N/A"}},{"$f":"(AN17*'Abandoned Data Inputs'!$T$4)+'Summary Abandoned Coal Mines'!AN16","v":{"$error":"#N/A"}},{"$f":"(AO17*'Abandoned Data Inputs'!$T$4)+'Summary Abandoned Coal Mines'!AO16","v":{"$error":"#N/A"}},{"$f":"(AP17*'Abandoned Data Inputs'!$T$4)+'Summary Abandoned Coal Mines'!AP16","v":{"$error":"#N/A"}},{"$f":"(AQ17*'Abandoned Data Inputs'!$T$4)+'Summary Abandoned Coal Mines'!AQ16","v":{"$error":"#N/A"}},{"$f":"(AR17*'Abandoned Data Inputs'!$T$4)+'Summary Abandoned Coal Mines'!AR16","v":{"$error":"#N/A"}},{"$f":"(AS17*'Abandoned Data Inputs'!$T$4)+'Summary Abandoned Coal Mines'!AS16","v":{"$error":"#N/A"}},{"$f":"(AT17*'Abandoned Data Inputs'!$T$4)+'Summary Abandoned Coal Mines'!AT16","v":{"$error":"#N/A"}},{"$f":"(AU17*'Abandoned Data Inputs'!$T$4)+'Summary Abandoned Coal Mines'!AU16","v":{"$error":"#N/A"}},{"$f":"(AV17*'Abandoned Data Inputs'!$T$4)+'Summary Abandoned Coal Mines'!AV16","v":{"$error":"#N/A"}},{"$f":"(AW17*'Abandoned Data Inputs'!$T$4)+'Summary Abandoned Coal Mines'!AW16","v":{"$error":"#N/A"}},{"$f":"(AX17*'Abandoned Data Inputs'!$T$4)+'Summary Abandoned Coal Mines'!AX16","v":{"$error":"#N/A"}},{"$f":"(AY17*'Abandoned Data Inputs'!$T$4)+'Summary Abandoned Coal Mines'!AY16","v":{"$error":"#N/A"}},{"$f":"(AZ17*'Abandoned Data Inputs'!$T$4)+'Summary Abandoned Coal Mines'!AZ16","v":{"$error":"#N/A"}},{"$f":"(BA17*'Abandoned Data Inputs'!$T$4)+'Summary Abandoned Coal Mines'!BA16","v":{"$error":"#N/A"}},{"$f":"(BB17*'Abandoned Data Inputs'!$T$4)+'Summary Abandoned Coal Mines'!BB16","v":{"$error":"#N/A"}},{"$f":"(BC17*'Abandoned Data Inputs'!$T$4)+'Summary Abandoned Coal Mines'!BC16","v":{"$error":"#N/A"}},{"$f":"(BD17*'Abandoned Data Inputs'!$T$4)+'Summary Abandoned Coal Mines'!BD16","v":{"$error":"#N/A"}},{"$f":"(BE17*'Abandoned Data Inputs'!$T$4)+'Summary Abandoned Coal Mines'!BE16","v":{"$error":"#N/A"}},{"$f":"(BF17*'Abandoned Data Inputs'!$T$4)+'Summary Abandoned Coal Mines'!BF16","v":{"$error":"#N/A"}},{"$f":"(BG17*'Abandoned Data Inputs'!$T$4)+'Summary Abandoned Coal Mines'!BG16","v":{"$error":"#N/A"}},{"$f":"(BH17*'Abandoned Data Inputs'!$T$4)+'Summary Abandoned Coal Mines'!BH16","v":{"$error":"#N/A"}},{"$f":"(BI17*'Abandoned Data Inputs'!$T$4)+'Summary Abandoned Coal Mines'!BI16","v":{"$error":"#N/A"}},{"$f":"(BJ17*'Abandoned Data Inputs'!$T$4)+'Summary Abandoned Coal Mines'!BJ16","v":{"$error":"#N/A"}},{"$f":"(BK17*'Abandoned Data Inputs'!$T$4)+'Summary Abandoned Coal Mines'!BK16","v":{"$error":"#N/A"}},{"$f":"(BL17*'Abandoned Data Inputs'!$T$4)+'Summary Abandoned Coal Mines'!BL16","v":{"$error":"#N/A"}}]
[]
[]
[null,"Summary of Emissions from Additional Abandoned Coal Mines"]
[]
[null,"Mine Status"]
[null,"Emissions (MTCO2E/Year)",null,1990,1991,1992,1993,1994,1995,1996,1997,1998,1999,2000,2001,2002,2003,2004,2005,2006,2007,2008,2009,2010,2011,2012,2013,2014,2015,2016,2017,2018,2019,2020,{"$f":"AH35+1","v":2021},{"$f":"AI35+1","v":2022},2023,2024,2025,2026,2027,2028,2029,2030,2031,2032,2033,2034,2035,2036,2037,2038,2039,2040,2041,2042,2043,2044,2045,2046,2047,2048,2049,2050]
[null,null,"Vented",{"$f":"D42*1000*CH4GWP","v":0},{"$f":"E42*1000*CH4GWP","v":0},0,0,0,0,0,0,0,0,0,0,0,0,0,0,0,0,0,0,0,0,0,0,0,0,0,0,0,0,0,{"$f":"AI42*1000*CH4GWP","v":0},{"$f":"AJ42*1000*CH4GWP","v":0},0,0,0,0,0,0,0,0,0,0,0,0,0,0,0,0,0,0,0,0,0,0,0,0,0,0,0,0]
[null,null,"Sealed",{"$f":"D43*1000*CH4GWP","v":0},0,0,0,0,0,0,0,0,0,0,0,0,0,0,0,0,0,0,0,0,0,0,0,0,0,0,0,0,0,0,{"$f":"AI43*1000*CH4GWP","v":0},0,0,0,0,0,0,0,0,0,0,0,0,0,0,0,0,0,0,0,0,0,0,0,0,0,0,0,0,0]
[null,null,"Flooded",{"$f":"D44*1000*CH4GWP","v":0},0,0,0,0,0,0,0,0,0,0,0,0,0,0,0,{"$f":"T44*1000*CH4GWP","v":0},0,0,0,0,0,0,0,0,0,0,0,0,0,0,{"$f":"AI44*1000*CH4GWP","v":0},0,0,0,0,0,0,0,0,0,0,0,0,0,0,0,0,0,0,0,0,0,0,0,0,0,0,0,0,0]
[null,null,"Total",{"$f":"SUM(D36:D38)","v":0},0,0,0,0,0,0,0,0,0,0,0,0,0,0,0,{"$f":"SUM(T36:T38)","v":0},0,0,0,0,0,0,0,0,0,0,0,0,0,0,{"$f":"SUM(AI36:AI38)","v":0},0,0,0,0,0,0,0,0,0,0,0,0,0,0,0,0,0,0,0,0,0,0,0,0,0,0,0,0,0]
[]
[null,"Emissions (Gg CH4/Year)",null,1990,1991,1992,1993,1994,1995,1996,1997,1998,1999,2000,2001,2002,2003,2004,2005,2006,2007,2008,2009,2010,2011,2012,2013,2014,2015,2016,2017,2018,2019,2020,{"$f":"AH41+1","v":2021},{"$f":"AI41+1","v":2022},2023,2024,2025,2026,2027,2028,2029,2030,2031,2032,2033,2034,2035,2036,2037,2038,2039,2040,2041,2042,2043,2044,2045,2046,2047,2048,2049,2050]
[null,null,"Vented",{"$f":"SUMIF('Abandoned Data Inputs'!$E$201:$E$250,\"Venting\",'Abandoned Data Inputs'!Y201:Y250)","v":0},{"$f":"SUMIF('Abandoned Data Inputs'!$E$201:$E$250,\"Venting\",'Abandoned Data Inputs'!Z201:Z250)","v":0},{"$f":"SUMIF('Abandoned Data Inputs'!$E$201:$E$250,\"Venting\",'Abandoned Data Inputs'!AA201:AA250)","v":0},{"$f":"SUMIF('Abandoned Data Inputs'!$E$201:$E$250,\"Venting\",'Abandoned Data Inputs'!AB201:AB250)","v":0},{"$f":"SUMIF('Abandoned Data Inputs'!$E$201:$E$250,\"Venting\",'Abandoned Data Inputs'!AC201:AC250)","v":0},{"$f":"SUMIF('Abandoned Data Inputs'!$E$201:$E$250,\"Venting\",'Abandoned Data Inputs'!AD201:AD250)","v":0},{"$f":"SUMIF('Abandoned Data Inputs'!$E$201:$E$250,\"Venting\",'Abandoned Data Inputs'!AE201:AE250)","v":0},{"$f":"SUMIF('Abandoned Data Inputs'!$E$201:$E$250,\"Venting\",'Abandoned Data Inputs'!AF201:AF250)","v":0},{"$f":"SUMIF('Abandoned Data Inputs'!$E$201:$E$250,\"Venting\",'Abandoned Data Inputs'!AG201:AG250)","v":0},{"$f":"SUMIF('Abandoned Data Inputs'!$E$201:$E$250,\"Venting\",'Abandoned Data Inputs'!AH201:AH250)","v":0},{"$f":"SUMIF('Abandoned Data Inputs'!$E$201:$E$250,\"Venting\",'Abandoned Data Inputs'!AI201:AI250)","v":0},{"$f":"SUMIF('Abandoned Data Inputs'!$E$201:$E$250,\"Venting\",'Abandoned Data Inputs'!AJ201:AJ250)","v":0},{"$f":"SUMIF('Abandoned Data Inputs'!$E$201:$E$250,\"Venting\",'Abandoned Data Inputs'!AK201:AK250)","v":0},{"$f":"SUMIF('Abandoned Data Inputs'!$E$201:$E$250,\"Venting\",'Abandoned Data Inputs'!AL201:AL250)","v":0},{"$f":"SUMIF('Abandoned Data Inputs'!$E$201:$E$250,\"Venting\",'Abandoned Data Inputs'!AM201:AM250)","v":0},{"$f":"SUMIF('Abandoned Data Inputs'!$E$201:$E$250,\"Venting\",'Abandoned Data Inputs'!AN201:AN250)","v":0},{"$f":"SUMIF('Abandoned Data Inputs'!$E$201:$E$250,\"Venting\",'Abandoned Data Inputs'!AO201:AO250)","v":0},{"$f":"SUMIF('Abandoned Data Inputs'!$E$201:$E$250,\"Venting\",'Abandoned Data Inputs'!AP201:AP250)","v":0},{"$f":"SUMIF('Abandoned Data Inputs'!$E$201:$E$250,\"Venting\",'Abandoned Data Inputs'!AQ201:AQ250)","v":0},{"$f":"SUMIF('Abandoned Data Inputs'!$E$201:$E$250,\"Venting\",'Abandoned Data Inputs'!AR201:AR250)","v":0},{"$f":"SUMIF('Abandoned Data Inputs'!$E$201:$E$250,\"Venting\",'Abandoned Data Inputs'!AS201:AS250)","v":0},{"$f":"SUMIF('Abandoned Data Inputs'!$E$201:$E$250,\"Venting\",'Abandoned Data Inputs'!AT201:AT250)","v":0},{"$f":"SUMIF('Abandoned Data Inputs'!$E$201:$E$250,\"Venting\",'Abandoned Data Inputs'!AU201:AU250)","v":0},{"$f":"SUMIF('Abandoned Data Inputs'!$E$201:$E$250,\"Venting\",'Abandoned Data Inputs'!AV201:AV250)","v":0},{"$f":"SUMIF('Abandoned Data Inputs'!$E$201:$E$250,\"Venting\",'Abandoned Data Inputs'!AW201:AW250)","v":0},{"$f":"SUMIF('Abandoned Data Inputs'!$E$201:$E$250,\"Venting\",'Abandoned Data Inputs'!AX201:AX250)","v":0},{"$f":"SUMIF('Abandoned Data Inputs'!$E$201:$E$250,\"Venting\",'Abandoned Data Inputs'!AY201:AY250)","v":0},{"$f":"SUMIF('Abandoned Data Inputs'!$E$201:$E$250,\"Venting\",'Abandoned Data Inputs'!AZ201:AZ250)","v":0},{"$f":"SUMIF('Abandoned Data Inputs'!$E$201:$E$250,\"Venting\",'Abandoned Data Inputs'!BA201:BA250)","v":0},{"$f":"SUMIF('Abandoned Data Inputs'!$E$201:$E$250,\"Venting\",'Abandoned Data Inputs'!BB201:BB250)","v":0},{"$f":"SUMIF('Abandoned Data Inputs'!$E$201:$E$250,\"Venting\",'Abandoned Data Inputs'!BC201:BC250)","v":0},{"$f":"SUMIF('Abandoned Data Inputs'!$E$201:$E$250,\"Venting\",'Abandoned Data Inputs'!BD201:BD250)","v":0},{"$f":"SUMIF('Abandoned Data Inputs'!$E$201:$E$250,\"Venting\",'Abandoned Data Inputs'!BE201:BE250)","v":0},{"$f":"SUMIF('Abandoned Data Inputs'!$E$201:$E$250,\"Venting\",'Abandoned Data Inputs'!BF201:BF250)","v":0},{"$f":"SUMIF('Abandoned Data Inputs'!$E$201:$E$250,\"Venting\",'Abandoned Data Inputs'!BG201:BG250)","v":0},{"$f":"SUMIF('Abandoned Data Inputs'!$E$201:$E$250,\"Venting\",'Abandoned Data Inputs'!BH201:BH250)","v":0},{"$f":"SUMIF('Abandoned Data Inputs'!$E$201:$E$250,\"Venting\",'Abandoned Data Inputs'!BI201:BI250)","v":0},{"$f":"SUMIF('Abandoned Data Inputs'!$E$201:$E$250,\"Venting\",'Abandoned Data Inputs'!BJ201:BJ250)","v":0},{"$f":"SUMIF('Abandoned Data Inputs'!$E$201:$E$250,\"Venting\",'Abandoned Data Inputs'!BK201:BK250)","v":0},{"$f":"SUMIF('Abandoned Data Inputs'!$E$201:$E$250,\"Venting\",'Abandoned Data Inputs'!BL201:BL250)","v":0},{"$f":"SUMIF('Abandoned Data Inputs'!$E$201:$E$250,\"Venting\",'Abandoned Data Inputs'!BM201:BM250)","v":0},{"$f":"SUMIF('Abandoned Data Inputs'!$E$201:$E$250,\"Venting\",'Abandoned Data Inputs'!BN201:BN250)","v":0},{"$f":"SUMIF('Abandoned Data Inputs'!$E$201:$E$250,\"Venting\",'Abandoned Data Inputs'!BO201:BO250)","v":0},{"$f":"SUMIF('Abandoned Data Inputs'!$E$201:$E$250,\"Venting\",'Abandoned Data Inputs'!BP201:BP250)","v":0},{"$f":"SUMIF('Abandoned Data Inputs'!$E$201:$E$250,\"Venting\",'Abandoned Data Inputs'!BQ201:BQ250)","v":0},{"$f":"SUMIF('Abandoned Data Inputs'!$E$201:$E$250,\"Venting\",'Abandoned Data Inputs'!BR201:BR250)","v":0},{"$f":"SUMIF('Abandoned Data Inputs'!$E$201:$E$250,\"Venting\",'Abandoned Data Inputs'!BS201:BS250)","v":0},{"$f":"SUMIF('Abandoned Data Inputs'!$E$201:$E$250,\"Venting\",'Abandoned Data Inputs'!BT201:BT250)","v":0},{"$f":"SUMIF('Abandoned Data Inputs'!$E$201:$E$250,\"Venting\",'Abandoned Data Inputs'!BU201:BU250)","v":0},{"$f":"SUMIF('Abandoned Data Inputs'!$E$201:$E$250,\"Venting\",'Abandoned Data Inputs'!BV201:BV250)","v":0},{"$f":"SUMIF('Abandoned Data Inputs'!$E$201:$E$250,\"Venting\",'Abandoned Data Inputs'!BW201:BW250)","v":0},{"$f":"SUMIF('Abandoned Data Inputs'!$E$201:$E$250,\"Venting\",'Abandoned Data Inputs'!BX201:BX250)","v":0},{"$f":"SUMIF('Abandoned Data Inputs'!$E$201:$E$250,\"Venting\",'Abandoned Data Inputs'!BY201:BY250)","v":0},{"$f":"SUMIF('Abandoned Data Inputs'!$E$201:$E$250,\"Venting\",'Abandoned Data Inputs'!BZ201:BZ250)","v":0},{"$f":"SUMIF('Abandoned Data Inputs'!$E$201:$E$250,\"Venting\",'Abandoned Data Inputs'!CA201:CA250)","v":0},{"$f":"SUMIF('Abandoned Data Inputs'!$E$201:$E$250,\"Venting\",'Abandoned Data Inputs'!CB201:CB250)","v":0},{"$f":"SUMIF('Abandoned Data Inputs'!$E$201:$E$250,\"Venting\",'Abandoned Data Inputs'!CC201:CC250)","v":0},{"$f":"SUMIF('Abandoned Data Inputs'!$E$201:$E$250,\"Venting\",'Abandoned Data Inputs'!CD201:CD250)","v":0},{"$f":"SUMIF('Abandoned Data Inputs'!$E$201:$E$250,\"Venting\",'Abandoned Data Inputs'!CE201:CE250)","v":0},{"$f":"SUMIF('Abandoned Data Inputs'!$E$201:$E$250,\"Venting\",'Abandoned Data Inputs'!CF201:CF250)","v":0},{"$f":"SUMIF('Abandoned Data Inputs'!$E$201:$E$250,\"Venting\",'Abandoned Data Inputs'!CG201:CG250)","v":0}]
[null,null,"Sealed",{"$f":"SUMIF('Abandoned Data Inputs'!$E$201:$E$250,\"Sealed\",'Abandoned Data Inputs'!Y201:Y250)","v":0},{"$f":"SUMIF('Abandoned Data Inputs'!$E$201:$E$250,\"Sealed\",'Abandoned Data Inputs'!Z201:Z250)","v":0},{"$f":"SUMIF('Abandoned Data Inputs'!$E$201:$E$250,\"Sealed\",'Abandoned Data Inputs'!AA201:AA250)","v":0},{"$f":"SUMIF('Abandoned Data Inputs'!$E$201:$E$250,\"Sealed\",'Abandoned Data Inputs'!AB201:AB250)","v":0},{"$f":"SUMIF('Abandoned Data Inputs'!$E$201:$E$250,\"Sealed\",'Abandoned Data Inputs'!AC201:AC250)","v":0},{"$f":"SUMIF('Abandoned Data Inputs'!$E$201:$E$250,\"Sealed\",'Abandoned Data Inputs'!AD201:AD250)","v":0},{"$f":"SUMIF('Abandoned Data Inputs'!$E$201:$E$250,\"Sealed\",'Abandoned Data Inputs'!AE201:AE250)","v":0},{"$f":"SUMIF('Abandoned Data Inputs'!$E$201:$E$250,\"Sealed\",'Abandoned Data Inputs'!AF201:AF250)","v":0},{"$f":"SUMIF('Abandoned Data Inputs'!$E$201:$E$250,\"Sealed\",'Abandoned Data Inputs'!AG201:AG250)","v":0},{"$f":"SUMIF('Abandoned Data Inputs'!$E$201:$E$250,\"Sealed\",'Abandoned Data Inputs'!AH201:AH250)","v":0},{"$f":"SUMIF('Abandoned Data Inputs'!$E$201:$E$250,\"Sealed\",'Abandoned Data Inputs'!AI201:AI250)","v":0},{"$f":"SUMIF('Abandoned Data Inputs'!$E$201:$E$250,\"Sealed\",'Abandoned Data Inputs'!AJ201:AJ250)","v":0},{"$f":"SUMIF('Abandoned Data Inputs'!$E$201:$E$250,\"Sealed\",'Abandoned Data Inputs'!AK201:AK250)","v":0},{"$f":"SUMIF('Abandoned Data Inputs'!$E$201:$E$250,\"Sealed\",'Abandoned Data Inputs'!AL201:AL250)","v":0},{"$f":"SUMIF('Abandoned Data Inputs'!$E$201:$E$250,\"Sealed\",'Abandoned Data Inputs'!AM201:AM250)","v":0},{"$f":"SUMIF('Abandoned Data Inputs'!$E$201:$E$250,\"Sealed\",'Abandoned Data Inputs'!AN201:AN250)","v":0},{"$f":"SUMIF('Abandoned Data Inputs'!$E$201:$E$250,\"Sealed\",'Abandoned Data Inputs'!AO201:AO250)","v":0},{"$f":"SUMIF('Abandoned Data Inputs'!$E$201:$E$250,\"Sealed\",'Abandoned Data Inputs'!AP201:AP250)","v":0},{"$f":"SUMIF('Abandoned Data Inputs'!$E$201:$E$250,\"Sealed\",'Abandoned Data Inputs'!AQ201:AQ250)","v":0},{"$f":"SUMIF('Abandoned Data Inputs'!$E$201:$E$250,\"Sealed\",'Abandoned Data Inputs'!AR201:AR250)","v":0},{"$f":"SUMIF('Abandoned Data Inputs'!$E$201:$E$250,\"Sealed\",'Abandoned Data Inputs'!AS201:AS250)","v":0},{"$f":"SUMIF('Abandoned Data Inputs'!$E$201:$E$250,\"Sealed\",'Abandoned Data Inputs'!AT201:AT250)","v":0},{"$f":"SUMIF('Abandoned Data Inputs'!$E$201:$E$250,\"Sealed\",'Abandoned Data Inputs'!AU201:AU250)","v":0},{"$f":"SUMIF('Abandoned Data Inputs'!$E$201:$E$250,\"Sealed\",'Abandoned Data Inputs'!AV201:AV250)","v":0},{"$f":"SUMIF('Abandoned Data Inputs'!$E$201:$E$250,\"Sealed\",'Abandoned Data Inputs'!AW201:AW250)","v":0},{"$f":"SUMIF('Abandoned Data Inputs'!$E$201:$E$250,\"Sealed\",'Abandoned Data Inputs'!AX201:AX250)","v":0},{"$f":"SUMIF('Abandoned Data Inputs'!$E$201:$E$250,\"Sealed\",'Abandoned Data Inputs'!AY201:AY250)","v":0},{"$f":"SUMIF('Abandoned Data Inputs'!$E$201:$E$250,\"Sealed\",'Abandoned Data Inputs'!AZ201:AZ250)","v":0},{"$f":"SUMIF('Abandoned Data Inputs'!$E$201:$E$250,\"Sealed\",'Abandoned Data Inputs'!BA201:BA250)","v":0},{"$f":"SUMIF('Abandoned Data Inputs'!$E$201:$E$250,\"Sealed\",'Abandoned Data Inputs'!BB201:BB250)","v":0},{"$f":"SUMIF('Abandoned Data Inputs'!$E$201:$E$250,\"Sealed\",'Abandoned Data Inputs'!BC201:BC250)","v":0},{"$f":"SUMIF('Abandoned Data Inputs'!$E$201:$E$250,\"Sealed\",'Abandoned Data Inputs'!BD201:BD250)","v":0},{"$f":"SUMIF('Abandoned Data Inputs'!$E$201:$E$250,\"Sealed\",'Abandoned Data Inputs'!BE201:BE250)","v":0},{"$f":"SUMIF('Abandoned Data Inputs'!$E$201:$E$250,\"Sealed\",'Abandoned Data Inputs'!BF201:BF250)","v":0},{"$f":"SUMIF('Abandoned Data Inputs'!$E$201:$E$250,\"Sealed\",'Abandoned Data Inputs'!BG201:BG250)","v":0},{"$f":"SUMIF('Abandoned Data Inputs'!$E$201:$E$250,\"Sealed\",'Abandoned Data Inputs'!BH201:BH250)","v":0},{"$f":"SUMIF('Abandoned Data Inputs'!$E$201:$E$250,\"Sealed\",'Abandoned Data Inputs'!BI201:BI250)","v":0},{"$f":"SUMIF('Abandoned Data Inputs'!$E$201:$E$250,\"Sealed\",'Abandoned Data Inputs'!BJ201:BJ250)","v":0},{"$f":"SUMIF('Abandoned Data Inputs'!$E$201:$E$250,\"Sealed\",'Abandoned Data Inputs'!BK201:BK250)","v":0},{"$f":"SUMIF('Abandoned Data Inputs'!$E$201:$E$250,\"Sealed\",'Abandoned Data Inputs'!BL201:BL250)","v":0},{"$f":"SUMIF('Abandoned Data Inputs'!$E$201:$E$250,\"Sealed\",'Abandoned Data Inputs'!BM201:BM250)","v":0},{"$f":"SUMIF('Abandoned Data Inputs'!$E$201:$E$250,\"Sealed\",'Abandoned Data Inputs'!BN201:BN250)","v":0},{"$f":"SUMIF('Abandoned Data Inputs'!$E$201:$E$250,\"Sealed\",'Abandoned Data Inputs'!BO201:BO250)","v":0},{"$f":"SUMIF('Abandoned Data Inputs'!$E$201:$E$250,\"Sealed\",'Abandoned Data Inputs'!BP201:BP250)","v":0},{"$f":"SUMIF('Abandoned Data Inputs'!$E$201:$E$250,\"Sealed\",'Abandoned Data Inputs'!BQ201:BQ250)","v":0},{"$f":"SUMIF('Abandoned Data Inputs'!$E$201:$E$250,\"Sealed\",'Abandoned Data Inputs'!BR201:BR250)","v":0},{"$f":"SUMIF('Abandoned Data Inputs'!$E$201:$E$250,\"Sealed\",'Abandoned Data Inputs'!BS201:BS250)","v":0},{"$f":"SUMIF('Abandoned Data Inputs'!$E$201:$E$250,\"Sealed\",'Abandoned Data Inputs'!BT201:BT250)","v":0},{"$f":"SUMIF('Abandoned Data Inputs'!$E$201:$E$250,\"Sealed\",'Abandoned Data Inputs'!BU201:BU250)","v":0},{"$f":"SUMIF('Abandoned Data Inputs'!$E$201:$E$250,\"Sealed\",'Abandoned Data Inputs'!BV201:BV250)","v":0},{"$f":"SUMIF('Abandoned Data Inputs'!$E$201:$E$250,\"Sealed\",'Abandoned Data Inputs'!BW201:BW250)","v":0},{"$f":"SUMIF('Abandoned Data Inputs'!$E$201:$E$250,\"Sealed\",'Abandoned Data Inputs'!BX201:BX250)","v":0},{"$f":"SUMIF('Abandoned Data Inputs'!$E$201:$E$250,\"Sealed\",'Abandoned Data Inputs'!BY201:BY250)","v":0},{"$f":"SUMIF('Abandoned Data Inputs'!$E$201:$E$250,\"Sealed\",'Abandoned Data Inputs'!BZ201:BZ250)","v":0},{"$f":"SUMIF('Abandoned Data Inputs'!$E$201:$E$250,\"Sealed\",'Abandoned Data Inputs'!CA201:CA250)","v":0},{"$f":"SUMIF('Abandoned Data Inputs'!$E$201:$E$250,\"Sealed\",'Abandoned Data Inputs'!CB201:CB250)","v":0},{"$f":"SUMIF('Abandoned Data Inputs'!$E$201:$E$250,\"Sealed\",'Abandoned Data Inputs'!CC201:CC250)","v":0},{"$f":"SUMIF('Abandoned Data Inputs'!$E$201:$E$250,\"Sealed\",'Abandoned Data Inputs'!CD201:CD250)","v":0},{"$f":"SUMIF('Abandoned Data Inputs'!$E$201:$E$250,\"Sealed\",'Abandoned Data Inputs'!CE201:CE250)","v":0},{"$f":"SUMIF('Abandoned Data Inputs'!$E$201:$E$250,\"Sealed\",'Abandoned Data Inputs'!CF201:CF250)","v":0},{"$f":"SUMIF('Abandoned Data Inputs'!$E$201:$E$250,\"Sealed\",'Abandoned Data Inputs'!CG201:CG250)","v":0}]
[null,null,"Flooded",{"$f":"SUMIF('Abandoned Data Inputs'!$E$201:$E$250,\"Flooded\",'Abandoned Data Inputs'!Y201:Y250)","v":0},{"$f":"SUMIF('Abandoned Data Inputs'!$E$201:$E$250,\"Flooded\",'Abandoned Data Inputs'!Z201:Z250)","v":0},{"$f":"SUMIF('Abandoned Data Inputs'!$E$201:$E$250,\"Flooded\",'Abandoned Data Inputs'!AA201:AA250)","v":0},{"$f":"SUMIF('Abandoned Data Inputs'!$E$201:$E$250,\"Flooded\",'Abandoned Data Inputs'!AB201:AB250)","v":0},{"$f":"SUMIF('Abandoned Data Inputs'!$E$201:$E$250,\"Flooded\",'Abandoned Data Inputs'!AC201:AC250)","v":0},{"$f":"SUMIF('Abandoned Data Inputs'!$E$201:$E$250,\"Flooded\",'Abandoned Data Inputs'!AD201:AD250)","v":0},{"$f":"SUMIF('Abandoned Data Inputs'!$E$201:$E$250,\"Flooded\",'Abandoned Data Inputs'!AE201:AE250)","v":0},{"$f":"SUMIF('Abandoned Data Inputs'!$E$201:$E$250,\"Flooded\",'Abandoned Data Inputs'!AF201:AF250)","v":0},{"$f":"SUMIF('Abandoned Data Inputs'!$E$201:$E$250,\"Flooded\",'Abandoned Data Inputs'!AG201:AG250)","v":0},{"$f":"SUMIF('Abandoned Data Inputs'!$E$201:$E$250,\"Flooded\",'Abandoned Data Inputs'!AH201:AH250)","v":0},{"$f":"SUMIF('Abandoned Data Inputs'!$E$201:$E$250,\"Flooded\",'Abandoned Data Inputs'!AI201:AI250)","v":0},{"$f":"SUMIF('Abandoned Data Inputs'!$E$201:$E$250,\"Flooded\",'Abandoned Data Inputs'!AJ201:AJ250)","v":0},{"$f":"SUMIF('Abandoned Data Inputs'!$E$201:$E$250,\"Flooded\",'Abandoned Data Inputs'!AK201:AK250)","v":0},{"$f":"SUMIF('Abandoned Data Inputs'!$E$201:$E$250,\"Flooded\",'Abandoned Data Inputs'!AL201:AL250)","v":0},{"$f":"SUMIF('Abandoned Data Inputs'!$E$201:$E$250,\"Flooded\",'Abandoned Data Inputs'!AM201:AM250)","v":0},{"$f":"SUMIF('Abandoned Data Inputs'!$E$201:$E$250,\"Flooded\",'Abandoned Data Inputs'!AN201:AN250)","v":0},{"$f":"SUMIF('Abandoned Data Inputs'!$E$201:$E$250,\"Flooded\",'Abandoned Data Inputs'!AO201:AO250)","v":0},{"$f":"SUMIF('Abandoned Data Inputs'!$E$201:$E$250,\"Flooded\",'Abandoned Data Inputs'!AP201:AP250)","v":0},{"$f":"SUMIF('Abandoned Data Inputs'!$E$201:$E$250,\"Flooded\",'Abandoned Data Inputs'!AQ201:AQ250)","v":0},{"$f":"SUMIF('Abandoned Data Inputs'!$E$201:$E$250,\"Flooded\",'Abandoned Data Inputs'!AR201:AR250)","v":0},{"$f":"SUMIF('Abandoned Data Inputs'!$E$201:$E$250,\"Flooded\",'Abandoned Data Inputs'!AS201:AS250)","v":0},{"$f":"SUMIF('Abandoned Data Inputs'!$E$201:$E$250,\"Flooded\",'Abandoned Data Inputs'!AT201:AT250)","v":0},{"$f":"SUMIF('Abandoned Data Inputs'!$E$201:$E$250,\"Flooded\",'Abandoned Data Inputs'!AU201:AU250)","v":0},{"$f":"SUMIF('Abandoned Data Inputs'!$E$201:$E$250,\"Flooded\",'Abandoned Data Inputs'!AV201:AV250)","v":0},{"$f":"SUMIF('Abandoned Data Inputs'!$E$201:$E$250,\"Flooded\",'Abandoned Data Inputs'!AW201:AW250)","v":0},{"$f":"SUMIF('Abandoned Data Inputs'!$E$201:$E$250,\"Flooded\",'Abandoned Data Inputs'!AX201:AX250)","v":0},{"$f":"SUMIF('Abandoned Data Inputs'!$E$201:$E$250,\"Flooded\",'Abandoned Data Inputs'!AY201:AY250)","v":0},{"$f":"SUMIF('Abandoned Data Inputs'!$E$201:$E$250,\"Flooded\",'Abandoned Data Inputs'!AZ201:AZ250)","v":0},{"$f":"SUMIF('Abandoned Data Inputs'!$E$201:$E$250,\"Flooded\",'Abandoned Data Inputs'!BA201:BA250)","v":0},{"$f":"SUMIF('Abandoned Data Inputs'!$E$201:$E$250,\"Flooded\",'Abandoned Data Inputs'!BB201:BB250)","v":0},{"$f":"SUMIF('Abandoned Data Inputs'!$E$201:$E$250,\"Flooded\",'Abandoned Data Inputs'!BC201:BC250)","v":0},{"$f":"SUMIF('Abandoned Data Inputs'!$E$201:$E$250,\"Flooded\",'Abandoned Data Inputs'!BD201:BD250)","v":0},{"$f":"SUMIF('Abandoned Data Inputs'!$E$201:$E$250,\"Flooded\",'Abandoned Data Inputs'!BE201:BE250)","v":0},{"$f":"SUMIF('Abandoned Data Inputs'!$E$201:$E$250,\"Flooded\",'Abandoned Data Inputs'!BF201:BF250)","v":0},{"$f":"SUMIF('Abandoned Data Inputs'!$E$201:$E$250,\"Flooded\",'Abandoned Data Inputs'!BG201:BG250)","v":0},{"$f":"SUMIF('Abandoned Data Inputs'!$E$201:$E$250,\"Flooded\",'Abandoned Data Inputs'!BH201:BH250)","v":0},{"$f":"SUMIF('Abandoned Data Inputs'!$E$201:$E$250,\"Flooded\",'Abandoned Data Inputs'!BI201:BI250)","v":0},{"$f":"SUMIF('Abandoned Data Inputs'!$E$201:$E$250,\"Flooded\",'Abandoned Data Inputs'!BJ201:BJ250)","v":0},{"$f":"SUMIF('Abandoned Data Inputs'!$E$201:$E$250,\"Flooded\",'Abandoned Data Inputs'!BK201:BK250)","v":0},{"$f":"SUMIF('Abandoned Data Inputs'!$E$201:$E$250,\"Flooded\",'Abandoned Data Inputs'!BL201:BL250)","v":0},{"$f":"SUMIF('Abandoned Data Inputs'!$E$201:$E$250,\"Flooded\",'Abandoned Data Inputs'!BM201:BM250)","v":0},{"$f":"SUMIF('Abandoned Data Inputs'!$E$201:$E$250,\"Flooded\",'Abandoned Data Inputs'!BN201:BN250)","v":0},{"$f":"SUMIF('Abandoned Data Inputs'!$E$201:$E$250,\"Flooded\",'Abandoned Data Inputs'!BO201:BO250)","v":0},{"$f":"SUMIF('Abandoned Data Inputs'!$E$201:$E$250,\"Flooded\",'Abandoned Data Inputs'!BP201:BP250)","v":0},{"$f":"SUMIF('Abandoned Data Inputs'!$E$201:$E$250,\"Flooded\",'Abandoned Data Inputs'!BQ201:BQ250)","v":0},{"$f":"SUMIF('Abandoned Data Inputs'!$E$201:$E$250,\"Flooded\",'Abandoned Data Inputs'!BR201:BR250)","v":0},{"$f":"SUMIF('Abandoned Data Inputs'!$E$201:$E$250,\"Flooded\",'Abandoned Data Inputs'!BS201:BS250)","v":0},{"$f":"SUMIF('Abandoned Data Inputs'!$E$201:$E$250,\"Flooded\",'Abandoned Data Inputs'!BT201:BT250)","v":0},{"$f":"SUMIF('Abandoned Data Inputs'!$E$201:$E$250,\"Flooded\",'Abandoned Data Inputs'!BU201:BU250)","v":0},{"$f":"SUMIF('Abandoned Data Inputs'!$E$201:$E$250,\"Flooded\",'Abandoned Data Inputs'!BV201:BV250)","v":0},{"$f":"SUMIF('Abandoned Data Inputs'!$E$201:$E$250,\"Flooded\",'Abandoned Data Inputs'!BW201:BW250)","v":0},{"$f":"SUMIF('Abandoned Data Inputs'!$E$201:$E$250,\"Flooded\",'Abandoned Data Inputs'!BX201:BX250)","v":0},{"$f":"SUMIF('Abandoned Data Inputs'!$E$201:$E$250,\"Flooded\",'Abandoned Data Inputs'!BY201:BY250)","v":0},{"$f":"SUMIF('Abandoned Data Inputs'!$E$201:$E$250,\"Flooded\",'Abandoned Data Inputs'!BZ201:BZ250)","v":0},{"$f":"SUMIF('Abandoned Data Inputs'!$E$201:$E$250,\"Flooded\",'Abandoned Data Inputs'!CA201:CA250)","v":0},{"$f":"SUMIF('Abandoned Data Inputs'!$E$201:$E$250,\"Flooded\",'Abandoned Data Inputs'!CB201:CB250)","v":0},{"$f":"SUMIF('Abandoned Data Inputs'!$E$201:$E$250,\"Flooded\",'Abandoned Data Inputs'!CC201:CC250)","v":0},{"$f":"SUMIF('Abandoned Data Inputs'!$E$201:$E$250,\"Flooded\",'Abandoned Data Inputs'!CD201:CD250)","v":0},{"$f":"SUMIF('Abandoned Data Inputs'!$E$201:$E$250,\"Flooded\",'Abandoned Data Inputs'!CE201:CE250)","v":0},{"$f":"SUMIF('Abandoned Data Inputs'!$E$201:$E$250,\"Flooded\",'Abandoned Data Inputs'!CF201:CF250)","v":0},{"$f":"SUMIF('Abandoned Data Inputs'!$E$201:$E$250,\"Flooded\",'Abandoned Data Inputs'!CG201:CG250)","v":0}]

{"sheet":"Abandoned Data","index":7,"n_rows":557,"n_cols":22,"rows_kept":557,"cut":false,"hidden":false,"merged":[]}
["Source: U.S. GHG Inventory AbandondedCoalMines1990-2021"]
[null,"State","County","Coal Basin","Coal Seam","Mine Name","Current Emissions Status","Active Emiss. (mmcfd)","Year of Abandonment","Simple Emission Status","Recovering","Constant A","Constant B",{"$f":"MAXA(N3:N533)-1","v":-1},"Mine Name","County","Simple Emission Status","Recovering","Basin","Active Emiss. (mmcfd) ","Constant A","Constant B"]
[{"$f":"IF(St='Abandoned Data'!B3,1+A2,0)","v":0},"AL","Shelby","Warrior","Mary Lee","Segco No. 2","Flooded",0.4,1983,{"$f":"IF(G3=\"Unknown\",\"Unknown\",VLOOKUP(G3,$B$541:$C$557,2,FALSE))","v":"Flooded"},{"$f":"IF(J3=\"unknown\",\"Unknown\",VLOOKUP(G3,$B$541:$D$557,3,FALSE))","v":"No"},3.72,-0.42,{"$f":"IF(ISERROR((VLOOKUP(ROW(A1),$A$3:$M$533,1,0))),\"\",(VLOOKUP(ROW(A1),$A$3:$M$533,1,0)))","v":""},{"$f":"IF(ISERROR(PROPER(VLOOKUP(ROW(A1),$A$3:$M$533,6,0))),\"\",PROPER(VLOOKUP(ROW(A1),$A$3:$M$533,6,0)))","v":""},{"$f":"IF(ISERROR(PROPER(VLOOKUP(ROW(A1),$A$3:$M$533,3,0))),\"\",PROPER(VLOOKUP(ROW(A1),$A$3:$M$533,3,0)))","v":""},{"$f":"IF(ISERROR(PROPER(VLOOKUP(ROW(A1),$A$3:$M$533,10,0))),\"\",PROPER(VLOOKUP(ROW(A1),$A$3:$M$533,10,0)))","v":""},{"$f":"IF(ISERROR(PROPER(VLOOKUP(ROW(A1),$A$3:$M$533,9,0))),\"\",PROPER(VLOOKUP(ROW(A1),$A$3:$M$533,9,0)))","v":""},{"$f":"IF(ISERROR(PROPER(VLOOKUP(ROW(A1),$A$3:$M$533,4,0))),\"\",PROPER(VLOOKUP(ROW(A1),$A$3:$M$533,4,0)))","v":""},{"$f":"IF(ISERROR(VLOOKUP(ROW(A1),$A$3:$M$533,8,0)),\"\",VLOOKUP(ROW(A1),$A$3:$M$533,8,0))","v":""},{"$f":"IF(ISERROR(VLOOKUP(ROW(A1),$A$3:$M$533,12,0)),\"\",VLOOKUP(ROW(A1),$A$3:$M$533,12,0))","v":""},{"$f":"IF(ISERROR(VLOOKUP(ROW(A1),$A$3:$M$533,13,0)),\"\",VLOOKUP(ROW(A1),$A$3:$M$533,13,0))","v":""}]
[{"$f":"IF(St='Abandoned Data'!B4,1+A3,0)","v":0},"AL","Jefferson","Warrior","Mary Lee","Flat Top","Flooded",1,1979,"Flooded","No",3.72,-0.42,"","","","","","","","",""]
[{"$f":"IF(St='Abandoned Data'!B5,1+A4,0)","v":0},"AL","Walker","Warrior","Mary Lee","Segco No. 1","Flooded",0.8,1984,"Flooded","No",3.72,-0.42,"","","","","","","","",""]
[{"$f":"IF(St='Abandoned Data'!B6,1+A5,0)","v":0},"AL","Jefferson","Warrior","Mary Lee","Mulga","Flooded",1.8,1983,"Flooded","No",3.72,-0.42,"","","","","","","","",""]
[{"$f":"IF(St='Abandoned Data'!B7,1+A6,0)","v":0},"AL","Jefferson","Warrior","Mary Lee","Concord No 1","Flooded",4.8,1984,"Flooded","No",3.72,-0.42,"","","","","","","","",""]
[{"$f":"IF(St='Abandoned Data'!B8,1+A7,0)","v":0},"AL","Walker","Warrior","Mary Lee","Gorges No 7","Flooded",0.35,1986,"Flooded","No",3.72,-0.42,"","","","","","","","",""]
[{"$f":"IF(St='Abandoned Data'!B9,1+A8,0)","v":0},"AL","Walker","Warrior","Mary Lee","Mary Lee No 1","Flooded",1.5,1987,"Flooded","No",3.72,-0.42,"","","","","","","","",""]
[{"$f":"IF(St='Abandoned Data'!B10,1+A9,0)","v":0},"AL","Jefferson","Warrior","Mary Lee","Bessie Mine","Flooded",1,1989,"Flooded","No",3.72,-0.42,"","","","","","","","",""]
[{"$f":"IF(St='Abandoned Data'!B11,1+A10,0)","v":0},"AL","Jefferson","Warrior","Mary Lee","MAXINE MINE","Flooded",0.25,1989,"Flooded","No",3.72,-0.42,"","","","","","","","",""]
[{"$f":"IF(St='Abandoned Data'!B12,1+A11,0)","v":0},"AL","Jefferson","Warrior","Mary Lee","NEBO MINE","Flooded",0.35,1989,"Flooded","No",3.72,-0.42,"","","","","","","","",""]
[{"$f":"IF(St='Abandoned Data'!B13,1+A12,0)","v":0},"AL","Walker","Warrior","Mary Lee","Mary Lee No 2","Flooded",0.35,1994,"Flooded","No",3.72,-0.42,"","","","","","","","",""]
[{"$f":"IF(St='Abandoned Data'!B14,1+A13,0)","v":0},"AL","Jefferson","Warrior","Mary Lee","Chetopa","Flooded",0.75,1997,"Flooded","No",3.72,-0.42,"","","","","","","","",""]
[{"$f":"IF(St='Abandoned Data'!B15,1+A14,0)","v":0},"AL","Shelby","Warrior","Mary Lee","BOONE NO. 1","Flooded",1.3,1998,"Flooded","No",3.72,-0.42,"","","","","","","","",""]
[{"$f":"IF(St='Abandoned Data'!B16,1+A15,0)","v":0},"AL","Jefferson","Warrior",0,"Blue Creek No. 3","Flooding/Recovering Methane",12.7,1999,"Flooded","Yes",3.72,-0.42,"","","","","","","","",""]
[{"$f":"IF(St='Abandoned Data'!B17,1+A16,0)","v":0},"AL","Tuscaloosa","Warrior","Mary Lee","Blue Creek No. 5 Mine","Flooding/Recovering Methane",15.122901522052803,2007,"Flooded","Yes",3.72,-0.42,"","","","","","","","",""]
[{"$f":"IF(St='Abandoned Data'!B18,1+A17,0)","v":0},"AL","Shelby","Warrior",0,"Coke Mine #1","Flooded",0.17739726027397262,2009,"Flooded","No",3.72,-0.42,"","","","","","","","",""]
[{"$f":"IF(St='Abandoned Data'!B19,1+A18,0)","v":0},"CO","Gunnison","Piceance","B Seam","Bear Creek Mine","Sealed",0.7,1979,"Sealed","No",3.72,-0.42,"","","","","","","","",""]
[{"$f":"IF(St='Abandoned Data'!B20,1+A19,0)","v":0},"CO","Pitkin","Piceance","B Seam","COAL BASIN","Sealed",1.6,1981,"Sealed","No",3.72,-0.42,"","","","","","","","",""]
[{"$f":"IF(St='Abandoned Data'!B21,1+A20,0)","v":0},"CO","Delta","Piceance",0,"Hawks Nest West","Sealed",0.2,1981,"Sealed","No",3.72,-0.42,"","","","","","","","",""]
[{"$f":"IF(St='Abandoned Data'!B22,1+A21,0)","v":0},"CO","Gunnison","Piceance","Jaunita C Seam","BEAR MINE","Flooded",0.5,1985,"Flooded","No",3.72,-0.42,"","","","","","","","",""]
[{"$f":"IF(St='Abandoned Data'!B23,1+A22,0)","v":0},"CO","Las Animas","Raton",0,"Allen East & West","Unknown",0.75,1982,"Unknown","Unknown",3.72,-0.42,"","","","","","","","",""]
[{"$f":"IF(St='Abandoned Data'!B24,1+A23,0)","v":0},"CO","Pitkin","Piceance",0,"L.S.Wood","Sealed",2.4,1985,"Sealed","No",3.72,-0.42,"","","","","","","","",""]
[{"$f":"IF(St='Abandoned Data'!B25,1+A24,0)","v":0},"CO","Delta","Piceance","E Seam","Hawks Nest East","Venting",0.9,1986,"Venting","No",3.72,-0.42,"","","","","","","","",""]
[{"$f":"IF(St='Abandoned Data'!B26,1+A25,0)","v":0},"CO","Rio Blanco","Piceance",0,"Reinau No. 2","Unknown",0.1,1986,"Unknown","Unknown",3.72,-0.42,"","","","","","","","",""]
[{"$f":"IF(St='Abandoned Data'!B27,1+A26,0)","v":0},"CO","Pitkin","Piceance",0,"Thompson Creek No. 1 ","Sealed",0.35,1986,"Sealed","No",3.72,-0.42,"","","","","","","","",""]
[{"$f":"IF(St='Abandoned Data'!B28,1+A27,0)","v":0},"CO","Pitkin","Piceance","B Seam","Dutch Creek No. 2","Sealed",4.2,1988,"Sealed","No",3.72,-0.42,"","","","","","","","",""]
[{"$f":"IF(St='Abandoned Data'!B29,1+A28,0)","v":0},"CO","Delta","Piceance","B Seam","Somerset Mine","Sealed/Recovering Methane",0.7,1989,"Sealed","Yes",3.72,-0.42,"","","","","","","","",""]
[{"$f":"IF(St='Abandoned Data'!B30,1+A29,0)","v":0},"CO","Las Animas","Raton",0,"New Elk Mine","Unknown",0.25,1989,"Unknown","Unknown",3.72,-0.42,"","","","","","","","",""]
[{"$f":"IF(St='Abandoned Data'!B31,1+A30,0)","v":0},"CO","Pitkin","Piceance","B Seam","Dutch Creek No. 1","Sealed",4.8,1992,"Sealed","No",3.72,-0.42,"","","","","","","","",""]
[{"$f":"IF(St='Abandoned Data'!B32,1+A31,0)","v":0},"CO","Delta","Piceance",0,"Cyprus Orchard Valley","Sealed",0.52500000000000002,1993,"Sealed","No",3.72,-0.42,"","","","","","","","",""]
[{"$f":"IF(St='Abandoned Data'!B33,1+A32,0)","v":0},"CO","Moffat","Piceance",0,"Eagle No. 5","Unknown",0.35,1996,"Unknown","Unknown",3.72,-0.42,"","","","","","","","",""]
[{"$f":"IF(St='Abandoned Data'!B34,1+A33,0)","v":0},"CO","Las Animas","Raton","Maxwell","Golden Eagle","Sealed/Recovering Methane",7.5,1996,"Sealed","Yes",3.72,-0.42,"","","","","","","","",""]
[{"$f":"IF(St='Abandoned Data'!B35,1+A34,0)","v":0},"CO","Gunnison","Piceance","C Seam","Bear No. 3","Flooded",0.35,1997,"Flooded","No",3.72,-0.42,{"$f":"IF(ISERROR((VLOOKUP(ROW(A33),$A$3:$M$533,1,0))),\"\",(VLOOKUP(ROW(A33),$A$3:$M$533,1,0)))","v":""},{"$f":"IF(ISERROR(PROPER(VLOOKUP(ROW(A33),$A$3:$M$533,6,0))),\"\",PROPER(VLOOKUP(ROW(A33),$A$3:$M$533,6,0)))","v":""},{"$f":"IF(ISERROR(PROPER(VLOOKUP(ROW(A33),$A$3:$M$533,3,0))),\"\",PROPER(VLOOKUP(ROW(A33),$A$3:$M$533,3,0)))","v":""},{"$f":"IF(ISERROR(PROPER(VLOOKUP(ROW(A33),$A$3:$M$533,10,0))),\"\",PROPER(VLOOKUP(ROW(A33),$A$3:$M$533,10,0)))","v":""},{"$f":"IF(ISERROR(PROPER(VLOOKUP(ROW(A33),$A$3:$M$533,9,0))),\"\",PROPER(VLOOKUP(ROW(A33),$A$3:$M$533,9,0)))","v":""},{"$f":"IF(ISERROR(PROPER(VLOOKUP(ROW(A33),$A$3:$M$533,4,0))),\"\",PROPER(VLOOKUP(ROW(A33),$A$3:$M$533,4,0)))","v":""},{"$f":"IF(ISERROR(VLOOKUP(ROW(A33),$A$3:$M$533,8,0)),\"\",VLOOKUP(ROW(A33),$A$3:$M$533,8,0))","v":""},{"$f":"IF(ISERROR(VLOOKUP(ROW(A33),$A$3:$M$533,12,0)),\"\",VLOOKUP(ROW(A33),$A$3:$M$533,12,0))","v":""},{"$f":"IF(ISERROR(VLOOKUP(ROW(A33),$A$3:$M$533,13,0)),\"\",VLOOKUP(ROW(A33),$A$3:$M$533,13,0))","v":""}]
[{"$f":"IF(St='Abandoned Data'!B36,1+A35,0)","v":0},"CO","Mesa","Piceance",0,"Roadside North Portal","Sealed",0.7,2000,"Sealed","No",3.72,-0.42,"","","","","","","","",""]
[{"$f":"IF(St='Abandoned Data'!B37,1+A36,0)","v":0},"CO","Mesa","Piceance",0,"Roadside South Portal","Venting/Partially Flooded",0.4,2000,"Flooded","No",3.72,-0.42,"","","","","","","","",""]
[{"$f":"IF(St='Abandoned Data'!B38,1+A37,0)","v":0},"CO","Fremont","Raton",0,"Southfield Mine","Sealed",0.35,2001,"Sealed","No",3.72,-0.42,"","","","","","","","",""]
[{"$f":"IF(St='Abandoned Data'!B39,1+A38,0)","v":0},"CO","Delta","Piceance",0,"Sanborn Creek","Sealed",5.4,2003,"Sealed","No",3.72,-0.42,"","","","","","","","",""]
[{"$f":"IF(St='Abandoned Data'!B40,1+A39,0)","v":0},"CO","Delta","Piceance",0,"Bowie No. 1 Mine","Sealed",1.21,2004,"Sealed","No",3.72,-0.42,"","","","","","","","",""]
[{"$f":"IF(St='Abandoned Data'!B41,1+A40,0)","v":0},"CO","Delta","Piceance",0,"Bowie #3","Sealed",0.38,2005,"Sealed","No",3.72,-0.42,"","","","","","","","",""]
[{"$f":"IF(St='Abandoned Data'!B42,1+A41,0)","v":0},"CO","La Plata","Piceance",0,"King I","Sealed",0.11235616438356165,2009,"Sealed","No",3.72,-0.42,"","","","","","","","",""]
[{"$f":"IF(St='Abandoned Data'!B43,1+A42,0)","v":0},"CO","Garfield","Piceance",0,"Mc Clane Canyon Mine","Unknown",0.41287711111111114,2015,"Unknown","Unknown",3.72,-0.42,"","","","","","","","",""]
[{"$f":"IF(St='Abandoned Data'!B44,1+A43,0)","v":0},"CO","Gunnison","Piceance",0,"Elk Creek Mine","Venting/Recovering Gas",4.7174534237495109,2016,"Venting","Yes",3.72,-0.42,"","","","","","","","",""]
[{"$f":"IF(St='Abandoned Data'!B45,1+A44,0)","v":0},"IL","Montgomery","Illinois","Illinois 5 & 6","Crown","Sealed",1,1972,"Sealed","No",3.72,-0.42,"","","","","","","","",""]
[{"$f":"IF(St='Abandoned Data'!B46,1+A45,0)","v":0},"IL","Saline","Illinois","Illinois 5 & 6","No. 5 (Saline County)","Flooded",0.15,1973,"Flooded","No",3.72,-0.42,"","","","","","","","",""]
[{"$f":"IF(St='Abandoned Data'!B47,1+A46,0)","v":0},"IL","Saline","Illinois","Illinois 5 & 6","No. 16","Flooded",0.15,1973,"Flooded","No",3.72,-0.42,"","","","","","","","",""]
[{"$f":"IF(St='Abandoned Data'!B48,1+A47,0)","v":0},"IL","Williamson","Illinois","Illinois 5 & 6","ZEIGLER #4 UG","Sealed",0.5,1980,"Sealed","No",3.72,-0.42,"","","","","","","","",""]
[{"$f":"IF(St='Abandoned Data'!B49,1+A48,0)","v":0},"IL","Hamilton","Illinois","Harrisburg","Inland No 2","Unknown",0.2,1982,"Unknown","Unknown",3.72,-0.42,"","","","","","","","",""]
[{"$f":"IF(St='Abandoned Data'!B50,1+A49,0)","v":0},"IL","Saline","Illinois","Illinois 5 & 6","Sahara No. 20","Flooded",0.2,1982,"Flooded","No",3.72,-0.42,"","","","","","","","",""]
[{"$f":"IF(St='Abandoned Data'!B51,1+A50,0)","v":0},"IL","Montgomery","Illinois",0,"HILLSBORO MINE","Unknown",0.35,1983,"Unknown","Unknown",3.72,-0.42,"","","","","","","","",""]
[{"$f":"IF(St='Abandoned Data'!B52,1+A51,0)","v":0},"IL","Jefferson","Illinois","Illinois 5 & 6","Orient #3","Sealed/Recovering Methane",1.5,1984,"Sealed","Yes",3.72,-0.42,"","","","","","","","",""]
[{"$f":"IF(St='Abandoned Data'!B53,1+A52,0)","v":0},"IL","Jefferson","Illinois","Illinois 5 & 6","Orient #5","Sealed",1.5,1984,"Sealed","No",3.72,-0.42,"","","","","","","","",""]
[{"$f":"IF(St='Abandoned Data'!B54,1+A53,0)","v":0},"IL","Franklin","Illinois","Herrin No. 6","Old Ben No. 27","Sealed",0.75,1987,"Sealed","No",3.72,-0.42,"","","","","","","","",""]
[{"$f":"IF(St='Abandoned Data'!B55,1+A54,0)","v":0},"IL","Douglas","Illinois",0,"Zeigler #5","Sealed",0.4,1987,"Sealed","No",3.72,-0.42,"","","","","","","","",""]
[{"$f":"IF(St='Abandoned Data'!B56,1+A55,0)","v":0},"IL","Williamson","Illinois",0,"ORIENT NO. 4","Sealed",0.5,1987,"Sealed","No",3.72,-0.42,"","","","","","","","",""]
[{"$f":"IF(St='Abandoned Data'!B57,1+A56,0)","v":0},"IL","Jefferson","Illinois",0,"Wheeler Creek","Unknown",0.75,1988,"Unknown","Unknown",3.72,-0.42,"","","","","","","","",""]
[{"$f":"IF(St='Abandoned Data'!B58,1+A57,0)","v":0},"IL","St. Clair","Illinois","Herrin No. 6","RIVER KING UNDERGROUND","Unknown",0.2,1990,"Unknown","Unknown",3.72,-0.42,"","","","","","","","",""]
[{"$f":"IF(St='Abandoned Data'!B59,1+A58,0)","v":0},"IL","Gallatin","Illinois","Illinois 5 & 6","Eagle No 1","Unknown",0.35,1991,"Unknown","Unknown",3.72,-0.42,"","","","","","","","",""]
[{"$f":"IF(St='Abandoned Data'!B60,1+A59,0)","v":0},"IL","Randolph","Illinois",0,"Baldwin No. 1","Unknown",0.2,1993,"Unknown","Unknown",3.72,-0.42,"","","","","","","","",""]
[{"$f":"IF(St='Abandoned Data'!B61,1+A60,0)","v":0},"IL","Saline","Illinois",0,"Sahara No. 21","Unknown",0.3,1993,"Unknown","Unknown",3.72,-0.42,"","","","","","","","",""]
[{"$f":"IF(St='Abandoned Data'!B62,1+A61,0)","v":0},"IL","Gallatin","Illinois","Harrisburg","Eagle No. 2","Sealed",0.75,1994,"Sealed","No",3.72,-0.42,"","","","","","","","",""]
[{"$f":"IF(St='Abandoned Data'!B63,1+A62,0)","v":0},"IL","Christian","Illinois","Herrin No. 6","Peabody No. 10","Venting",0.75,1994,"Venting","No",3.72,-0.42,"","","","","","","","",""]
[{"$f":"IF(St='Abandoned Data'!B64,1+A63,0)","v":0},"IL","Perry","Illinois",0,"Kathleen","Unknown",0.35,1995,"Unknown","Unknown",3.72,-0.42,"","","","","","","","",""]
[{"$f":"IF(St='Abandoned Data'!B65,1+A64,0)","v":0},"IL","Franklin","Illinois","Herrin No. 6","Old Ben No. 21","Sealed/Recovering Methane",1.4,1995,"Sealed","Yes",3.72,-0.42,"","","","","","","","",""]
[{"$f":"IF(St='Abandoned Data'!B66,1+A65,0)","v":0},"IL","Clinton","Illinois",0,"Monterey No 1","Unknown",1.2555555555555555,1996,"Unknown","Unknown",3.72,-0.42,"","","","","","","","",""]
[{"$f":"IF(St='Abandoned Data'!B67,1+A66,0)","v":0},"IL","Franklin","Illinois","Herrin No. 6","Old Ben No. 25","Sealed",1,1996,{"$f":"IF(G67=\"Unknown\",\"Unknown\",VLOOKUP(G67,$B$541:$C$557,2,FALSE))","v":"Sealed"},{"$f":"IF(J67=\"unknown\",\"Unknown\",VLOOKUP(G67,$B$541:$D$557,3,FALSE))","v":"No"},3.72,-0.42,{"$f":"IF(ISERROR((VLOOKUP(ROW(A65),$A$3:$M$533,1,0))),\"\",(VLOOKUP(ROW(A65),$A$3:$M$533,1,0)))","v":""},{"$f":"IF(ISERROR(PROPER(VLOOKUP(ROW(A65),$A$3:$M$533,6,0))),\"\",PROPER(VLOOKUP(ROW(A65),$A$3:$M$533,6,0)))","v":""},{"$f":"IF(ISERROR(PROPER(VLOOKUP(ROW(A65),$A$3:$M$533,3,0))),\"\",PROPER(VLOOKUP(ROW(A65),$A$3:$M$533,3,0)))","v":""},{"$f":"IF(ISERROR(PROPER(VLOOKUP(ROW(A65),$A$3:$M$533,10,0))),\"\",PROPER(VLOOKUP(ROW(A65),$A$3:$M$533,10,0)))","v":""},{"$f":"IF(ISERROR(PROPER(VLOOKUP(ROW(A65),$A$3:$M$533,9,0))),\"\",PROPER(VLOOKUP(ROW(A65),$A$3:$M$533,9,0)))","v":""},{"$f":"IF(ISERROR(PROPER(VLOOKUP(ROW(A65),$A$3:$M$533,4,0))),\"\",PROPER(VLOOKUP(ROW(A65),$A$3:$M$533,4,0)))","v":""},{"$f":"IF(ISERROR(VLOOKUP(ROW(A65),$A$3:$M$533,8,0)),\"\",VLOOKUP(ROW(A65),$A$3:$M$533,8,0))","v":""},{"$f":"IF(ISERROR(VLOOKUP(ROW(A65),$A$3:$M$533,12,0)),\"\",VLOOKUP(ROW(A65),$A$3:$M$533,12,0))","v":""},{"$f":"IF(ISERROR(VLOOKUP(ROW(A65),$A$3:$M$533,13,0)),\"\",VLOOKUP(ROW(A65),$A$3:$M$533,13,0))","v":""}]
[{"$f":"IF(St='Abandoned Data'!B68,1+A67,0)","v":0},"IL","Douglas","Illinois","Herrin No. 6","Murdock","Sealed",0.6,1996,"Sealed","No",3.72,-0.42,"","","","","","","","",""]
[{"$f":"IF(St='Abandoned Data'!B69,1+A68,0)","v":0},"IL","Jefferson","Illinois","Herrin No. 6","Orient No. 6","Sealed/Recovering Methane",1,1997,"Sealed","Yes",3.72,-0.42,"","","","","","","","",""]
[{"$f":"IF(St='Abandoned Data'!B70,1+A69,0)","v":0},"IL","Saline","Illinois",0,"Big Ridge Mine","Venting",0.6,1997,"Venting","No",3.72,-0.42,"","","","","","","","",""]
[{"$f":"IF(St='Abandoned Data'!B71,1+A70,0)","v":0},"IL","Randolph","Illinois","Illinois 5 & 6","Spartan","Sealed",0.35,1997,"Sealed","No",3.72,-0.42,"","","","","","","","",""]
[{"$f":"IF(St='Abandoned Data'!B72,1+A71,0)","v":0},"IL","Franklin","Illinois","Herrin No. 6","Old Ben No. 24","Sealed/Recovering Methane",1.2,1998,"Sealed","Yes",3.72,-0.42,"","","","","","","","",""]
[{"$f":"IF(St='Abandoned Data'!B73,1+A72,0)","v":0},"IL","Franklin","Illinois","Herrin No. 6","Old Ben No. 26","Sealed/Recovering Methane",1.6,1998,"Sealed","Yes",3.72,-0.42,"","","","","","","","",""]
[{"$f":"IF(St='Abandoned Data'!B74,1+A73,0)","v":0},"IL","Washington","Illinois","Herrin 6","Marissa Mine","Sealed",0.2,2000,"Sealed","No",3.72,-0.42,"","","","","","","","",""]
[{"$f":"IF(St='Abandoned Data'!B75,1+A74,0)","v":0},"IL","Clinton","Illinois",0,"No. 2 Mine","Unknown",0.3,2010,"Unknown","Unknown",3.72,-0.42,"","","","","","","","",""]
[{"$f":"IF(St='Abandoned Data'!B76,1+A75,0)","v":0},"IL","Gallatin","Illinois",0,"Eagle Valley Mine","Sealed",0.25,2002,"Sealed","No",3.72,-0.42,"","","","","","","","",""]
[{"$f":"IF(St='Abandoned Data'!B77,1+A76,0)","v":0},"IL","Saline","Illinois",0,"Big Ridge Portal No. 2","Venting",1,2002,"Venting","No",3.72,-0.42,"","","","","","","","",""]
[{"$f":"IF(St='Abandoned Data'!B78,1+A77,0)","v":0},"IL","White","Illinois",0,"Pattiki Mine","Sealed",1.9,2003,"Sealed","No",3.72,-0.42,"","","","","","","","",""]
[{"$f":"IF(St='Abandoned Data'!B79,1+A78,0)","v":0},"IL","Wabash","Illinois",0,"Wabash Mine","Sealed",2.2009397260273973,2008,"Sealed","No",3.72,-0.42,"","","","","","","","",""]
[{"$f":"IF(St='Abandoned Data'!B80,1+A79,0)","v":0},"IL","Saline","Illinois",0,"Willow Lake Portal","Sealed",2.1507321428571422,2013,"Sealed","No",3.72,-0.42,"","","","","","","","",""]
[{"$f":"IF(St='Abandoned Data'!B81,1+A80,0)","v":0},"IN","Sullivan","Illinois","Illinois 5 & 6","Thunderbird","Sealed",0.7,1972,"Sealed","No",3.72,-0.42,"","","","","","","","",""]
[{"$f":"IF(St='Abandoned Data'!B82,1+A81,0)","v":0},"IN","Gibson ","Illinois","Illinois 5 & 6","Kings","Sealed/Recovering Methane",0.25,1973,"Sealed","Yes",3.72,-0.42,"","","","","","","","",""]
[{"$f":"IF(St='Abandoned Data'!B83,1+A82,0)","v":0},"IN","Sullivan","Illinois","Springfield #5","Buck Creek","Sealed",0.35,1998,"Sealed","No",3.72,-0.42,"","","","","","","","",""]
[{"$f":"IF(St='Abandoned Data'!B84,1+A83,0)","v":0},"IN","Knox","Illinois",0,"Monroe City Mine","Unknown",0.189,2006,"Unknown","Unknown",3.72,-0.42,"","","","","","","","",""]
[{"$f":"IF(St='Abandoned Data'!B85,1+A84,0)","v":0},"IN","Knox","Illinois",0,"Freelandville Underground","Sealed",0.26349316666666661,2013,"Sealed","No",3.72,-0.42,"","","","","","","","",""]
[{"$f":"IF(St='Abandoned Data'!B86,1+A85,0)","v":0},"IN","Sullivan","Illinois",0,"Carlisle Mine","Sealed",0.14614155547826085,2020,"Sealed","No",3.72,-0.42,"","","","","","","","",""]
[{"$f":"IF(St='Abandoned Data'!B87,1+A86,0)","v":0},"IN","Gibson","Illinois",0,"Gibson Mine","Sealed",0.20395216398939003,2021,"Sealed","No",3.72,-0.42,"","",{"$f":"IF(ISERROR(PROPER(VLOOKUP(ROW(A85),$A$3:$M$533,3,0))),\"\",PROPER(VLOOKUP(ROW(A85),$A$3:$M$533,3,0)))","v":""},{"$f":"IF(ISERROR(PROPER(VLOOKUP(ROW(A85),$A$3:$M$533,10,0))),\"\",PROPER(VLOOKUP(ROW(A85),$A$3:$M$533,10,0)))","v":""},{"$f":"IF(ISERROR(PROPER(VLOOKUP(ROW(A85),$A$3:$M$533,9,0))),\"\",PROPER(VLOOKUP(ROW(A85),$A$3:$M$533,9,0)))","v":""},{"$f":"IF(ISERROR(PROPER(VLOOKUP(ROW(A85),$A$3:$M$533,4,0))),\"\",PROPER(VLOOKUP(ROW(A85),$A$3:$M$533,4,0)))","v":""},{"$f":"IF(ISERROR(VLOOKUP(ROW(A85),$A$3:$M$533,8,0)),\"\",VLOOKUP(ROW(A85),$A$3:$M$533,8,0))","v":""},{"$f":"IF(ISERROR(VLOOKUP(ROW(A85),$A$3:$M$533,12,0)),\"\",VLOOKUP(ROW(A85),$A$3:$M$533,12,0))","v":""},{"$f":"IF(ISERROR(VLOOKUP(ROW(A85),$A$3:$M$533,13,0)),\"\",VLOOKUP(ROW(A85),$A$3:$M$533,13,0))","v":""}]
[{"$f":"IF(St='Abandoned Data'!B88,1+A87,0)","v":0},"KY","Muhlenberg","Illinois",0,"Drake No 1","Sealed",0.4,1972,"Sealed","No",3.72,-0.42,{"$f":"IF(ISERROR((VLOOKUP(ROW(A86),$A$3:$M$533,1,0))),\"\",(VLOOKUP(ROW(A86),$A$3:$M$533,1,0)))","v":""},{"$f":"IF(ISERROR(PROPER(VLOOKUP(ROW(A86),$A$3:$M$533,6,0))),\"\",PROPER(VLOOKUP(ROW(A86),$A$3:$M$533,6,0)))","v":""},{"$f":"IF(ISERROR(PROPER(VLOOKUP(ROW(A86),$A$3:$M$533,3,0))),\"\",PROPER(VLOOKUP(ROW(A86),$A$3:$M$533,3,0)))","v":""},{"$f":"IF(ISERROR(PROPER(VLOOKUP(ROW(A86),$A$3:$M$533,10,0))),\"\",PROPER(VLOOKUP(ROW(A86),$A$3:$M$533,10,0)))","v":""},{"$f":"IF(ISERROR(PROPER(VLOOKUP(ROW(A86),$A$3:$M$533,9,0))),\"\",PROPER(VLOOKUP(ROW(A86),$A$3:$M$533,9,0)))","v":""},{"$f":"IF(ISERROR(PROPER(VLOOKUP(ROW(A86),$A$3:$M$533,4,0))),\"\",PROPER(VLOOKUP(ROW(A86),$A$3:$M$533,4,0)))","v":""},{"$f":"IF(ISERROR(VLOOKUP(ROW(A86),$A$3:$M$533,8,0)),\"\",VLOOKUP(ROW(A86),$A$3:$M$533,8,0))","v":""},{"$f":"IF(ISERROR(VLOOKUP(ROW(A86),$A$3:$M$533,12,0)),\"\",VLOOKUP(ROW(A86),$A$3:$M$533,12,0))","v":""},{"$f":"IF(ISERROR(VLOOKUP(ROW(A86),$A$3:$M$533,13,0)),\"\",VLOOKUP(ROW(A86),$A$3:$M$533,13,0))","v":""}]
[{"$f":"IF(St='Abandoned Data'!B89,1+A88,0)","v":0},"KY","Hopkins","Illinois","Kentucky 9 & 11","East Diamond","Flooded",0.4,1972,"Flooded","No",3.72,-0.42,"","","","","","","","",""]
[{"$f":"IF(St='Abandoned Data'!B90,1+A89,0)","v":0},"KY","Martin","Central Appl.",0,"No 3","Flooded",0.3,1972,"Flooded","No",3.72,-0.42,"","","","","","","","",""]
[{"$f":"IF(St='Abandoned Data'!B91,1+A90,0)","v":0},"KY","Hopkins","Illinois","Kentucky 9 & 11","Island Creek No 9","Venting/Flooded",0.2,1974,"Flooded","No",3.72,-0.42,"","","","","","","","",""]
[{"$f":"IF(St='Abandoned Data'!B92,1+A91,0)","v":0},"KY","Union","Illinois","Kentucky 9 & 11","Pyro No 2","Sealed",0.35,1974,"Sealed","No",3.72,-0.42,"","","","","","","","",""]
[{"$f":"IF(St='Abandoned Data'!B93,1+A92,0)","v":0},"KY","Harlan","Central Appl.",0,"No. 10 Wisconsin Steel Mine","Unknown",0.1,1974,"Unknown","Unknown",3.72,-0.42,"","","","","","","","",""]
[{"$f":"IF(St='Abandoned Data'!B94,1+A93,0)","v":0},"KY","Muhlenberg","Illinois",0,"Crescent","Flooded",0.5,1977,"Flooded","No",3.72,-0.42,"","","","","","","","",""]
[{"$f":"IF(St='Abandoned Data'!B95,1+A94,0)","v":0},"KY","Martin","Central Appl.",0,"Wolf Creek No.3","Sealed",0.75,1977,"Sealed","No",3.72,-0.42,"","","","","","","","",""]
[{"$f":"IF(St='Abandoned Data'!B96,1+A95,0)","v":0},"KY","Johnson","Central Appl.",0,"White Ash No. 1","Unknown",0.2,1978,"Unknown","Unknown",3.72,-0.42,"","","","","","","","",""]
[{"$f":"IF(St='Abandoned Data'!B97,1+A96,0)","v":0},"KY","Hopkins","Illinois","Kentucky 9 & 11","FIES MINE","Venting/Flooded",1.1000000000000001,1980,"Flooded","No",3.72,-0.42,"","","","","","","","",""]
[{"$f":"IF(St='Abandoned Data'!B98,1+A97,0)","v":0},"KY","Hopkins","Illinois","Kentucky 9 & 11","ZEIGLER NO 9 MINE","Unknown",0.75,1980,"Unknown","Unknown",3.72,-0.42,"","","","","","","","",""]
[{"$f":"IF(St='Abandoned Data'!B99,1+A98,0)","v":0},"KY","Muhlenberg","Illinois","Kentucky 9 & 11","River Queen Underground No 1","Flooded",0.2,1981,"Flooded","No",3.72,-0.42,"","","","","","","","",""]
[{"$f":"IF(St='Abandoned Data'!B100,1+A99,0)","v":0},"KY","Ohio","Illinois",0,"ALSTON NO 3 MINE","Unknown",0.35,1981,"Unknown","Unknown",3.72,-0.42,"","","","","","","","",""]
[{"$f":"IF(St='Abandoned Data'!B101,1+A100,0)","v":0},"KY","Pike","Central Appl.",0,"Big Creek No 1","Unknown",0.15,1981,"Unknown","Unknown",3.72,-0.42,"","","","","","","","",""]
[{"$f":"IF(St='Abandoned Data'!B102,1+A101,0)","v":0},"KY","Pike","Central Appl.","Pond Creek","Leslie","Sealed",0.6,1981,"Sealed","No",3.72,-0.42,"","","","","","","","",""]
[{"$f":"IF(St='Abandoned Data'!B103,1+A102,0)","v":0},"KY","Pike","Central Appl.","Pond Creek","Scotts Branch","Unknown",0.2,1981,"Unknown","Unknown",3.72,-0.42,"","","","","","","","",""]
[{"$f":"IF(St='Abandoned Data'!B104,1+A103,0)","v":0},"KY","Hopkins","Illinois",0,"Drake No 4","Flooded",0.2,1982,"Flooded","No",3.72,-0.42,"","","","","","","","",""]
[{"$f":"IF(St='Abandoned Data'!B105,1+A104,0)","v":0},"KY","Letcher","Central Appl.","Pond Creek","Scotia Mine","Unknown",0.4,1982,"Unknown","Unknown",3.72,-0.42,"","","","","","","","",""]
[{"$f":"IF(St='Abandoned Data'!B106,1+A105,0)","v":0},"KY","Hopkins","Illinois","Kentucky 9 & 11","Providence No 1","Venting/Flooded",0.35,1982,"Flooded","No",3.72,-0.42,"","","","","","","","",""]
[{"$f":"IF(St='Abandoned Data'!B107,1+A106,0)","v":0},"KY","Pike","Central Appl.",0,"No. 1 Mine (D) (K-N A  Inc.)","Unknown",0.35,1982,"Unknown","Unknown",3.72,-0.42,"","","","","","","","",""]
[{"$f":"IF(St='Abandoned Data'!B108,1+A107,0)","v":0},"KY","Pike","Central Appl.",0,"No. 2 Mine (D)","Unknown",0.35,1982,"Unknown","Unknown",3.72,-0.42,"","","","","","","","",""]
[{"$f":"IF(St='Abandoned Data'!B109,1+A108,0)","v":0},"KY","Ohio","Illinois",0,"Peacock Coal Mine No. ","Unknown",0.75,1983,"Unknown","Unknown",3.72,-0.42,"","","","","","","","",""]
[{"$f":"IF(St='Abandoned Data'!B110,1+A109,0)","v":0},"KY","Pike","Central Appl.",0,"No. 6 Mine (D)","Unknown",0.35,1983,"Unknown","Unknown",3.72,-0.42,"","","","","","","","",""]
[{"$f":"IF(St='Abandoned Data'!B111,1+A110,0)","v":0},"KY","Union","Illinois","Kentucky 9 & 11","Peabody Camp No 1","Sealed",0.35,1983,"Sealed","No",3.72,-0.42,"","","","","","","","",""]
[{"$f":"IF(St='Abandoned Data'!B112,1+A111,0)","v":0},"KY","Pike","Central Appl.",0,"No. 1 Mine (D)","Unknown",0.2,1983,"Unknown","Unknown",3.72,-0.42,"","","","","","","","",""]
[{"$f":"IF(St='Abandoned Data'!B113,1+A112,0)","v":0},"KY","Hopkins","Illinois",0,"Busick Mine","Unknown",0.35,1983,"Unknown","Unknown",3.72,-0.42,"","","","","","","","",""]
[{"$f":"IF(St='Abandoned Data'!B114,1+A113,0)","v":0},"KY","Ohio","Illinois","Kentucky 9 & 11","KEN NO 4 MINE","Unknown",0.35,1984,"Unknown","Unknown",3.72,-0.42,"","","","","","","","",""]
[{"$f":"IF(St='Abandoned Data'!B115,1+A114,0)","v":0},"KY","Martin","Central Appl.",0,"Wolf Creek No 1","Unknown",0.5,1986,"Unknown","Unknown",3.72,-0.42,"","","","","","","","",""]
[{"$f":"IF(St='Abandoned Data'!B116,1+A115,0)","v":0},"KY","Pike","Central Appl.",0,"No.26-L","Unknown",0.1,1986,"Unknown","Unknown",3.72,-0.42,"","","","","","","","",""]
[{"$f":"IF(St='Abandoned Data'!B117,1+A116,0)","v":0},"KY","Whitley","Central Appl.",0,"No. 1 (B & R Coal)","Unknown",0.35,1986,"Unknown","Unknown",3.72,-0.42,"","","","","","","","",""]
[{"$f":"IF(St='Abandoned Data'!B118,1+A117,0)","v":0},"KY","Pike","Central Appl.",0,"Road Fork No. 1","Unknown",0.3,1987,"Unknown","Unknown",3.72,-0.42,"","","","","","","","",""]
[{"$f":"IF(St='Abandoned Data'!B119,1+A118,0)","v":0},"KY","Pike","Central Appl.",0,"Big Creek No 2","Unknown",0.1,1988,"Unknown","Unknown",3.72,-0.42,"","","","","","","","",""]
[{"$f":"IF(St='Abandoned Data'!B120,1+A119,0)","v":0},"KY","Pike","Central Appl.",0,"No. 1 Mine (Jeremy Coal)","Unknown",0.2,1988,"Unknown","Unknown",3.72,-0.42,"","","","","","","","",""]
[{"$f":"IF(St='Abandoned Data'!B121,1+A120,0)","v":0},"KY","Martin","Central Appl.",0,"Peter Cave No. 1","Unknown",0.15,1989,"Unknown","Unknown",3.72,-0.42,"","","","","","","","",""]
[{"$f":"IF(St='Abandoned Data'!B122,1+A121,0)","v":0},"KY","Pike","Central Appl.",0,"New ERA No 1","Unknown",0.2,1989,"Unknown","Unknown",3.72,-0.42,"","","","","","","","",""]
[{"$f":"IF(St='Abandoned Data'!B123,1+A122,0)","v":0},"KY","Leslie","Central Appl.",0,"No. 1 Mine ","Unknown",0.2,1989,"Unknown","Unknown",3.72,-0.42,"","","","","","","","",""]
[{"$f":"IF(St='Abandoned Data'!B124,1+A123,0)","v":0},"KY","Pike","Central Appl.",0,"No. 4 Mine ","Unknown",0.1,1989,"Unknown","Unknown",3.72,-0.42,"","","","","","","","",""]
[{"$f":"IF(St='Abandoned Data'!B125,1+A124,0)","v":0},"KY","Union","Illinois",0,"Ohio No 11","Unknown",0.1,1989,"Unknown","Unknown",3.72,-0.42,"","","","","","","","",""]
[{"$f":"IF(St='Abandoned Data'!B126,1+A125,0)","v":0},"KY","Union","Illinois",0,"Palco Mine","Unknown",0.15,1989,"Unknown","Unknown",3.72,-0.42,"","","","","","","","",""]
[{"$f":"IF(St='Abandoned Data'!B127,1+A126,0)","v":0},"KY","Letcher","Central Appl.",0,"Upper Taggert Mine","Unknown",0.1,1989,"Unknown","Unknown",3.72,-0.42,"","","","","","","","",""]
[{"$f":"IF(St='Abandoned Data'!B128,1+A127,0)","v":0},"KY","Muhlenberg","Illinois","Kentucky 9 & 11","Star Underground","Flooded",0.35,1989,"Flooded","No",3.72,-0.42,"","","","","","","","",""]
[{"$f":"IF(St='Abandoned Data'!B129,1+A128,0)","v":0},"KY","Pike","Central Appl.",0,"Unit Mine","Unknown",0.1,1989,"Unknown","Unknown",3.72,-0.42,"","","","","","","","",""]
[{"$f":"IF(St='Abandoned Data'!B130,1+A129,0)","v":0},"KY","Muhlenberg","Illinois",0,"Graham No 3","Unknown",0.1,1990,"Unknown","Unknown",3.72,-0.42,"","","","","","","","",""]
[{"$f":"IF(St='Abandoned Data'!B131,1+A130,0)","v":0},"KY","Davies","Illinois",0,"Pride Mine","Unknown",0.1,1990,{"$f":"IF(G131=\"Unknown\",\"Unknown\",VLOOKUP(G131,$B$541:$C$557,2,FALSE))","v":"Unknown"},{"$f":"IF(J131=\"unknown\",\"Unknown\",VLOOKUP(G131,$B$541:$D$557,3,FALSE))","v":"Unknown"},3.72,-0.42,"","","","","","","","",""]
[{"$f":"IF(St='Abandoned Data'!B132,1+A131,0)","v":0},"KY","Union","Illinois","Herrin No. 6","Pyro No. 11 Highway","Unknown",0.2,1991,"Unknown","Unknown",3.72,-0.42,"","","","","","","","",""]
[{"$f":"IF(St='Abandoned Data'!B133,1+A132,0)","v":0},"KY","Union","Illinois","Springfield No. 5","Pyro No. 9 Slope William Station","Unknown",1.2,1991,"Unknown","Unknown",3.72,-0.42,"","","","","","","","",""]
[{"$f":"IF(St='Abandoned Data'!B134,1+A133,0)","v":0},"KY","Pike","Central Appl.",0,"Ovenfork Mine","Flooded",2.4,1992,"Flooded","No",3.72,-0.42,"","","","","","","","",""]
[{"$f":"IF(St='Abandoned Data'!B135,1+A134,0)","v":0},"KY","Hopkins","Illinois","Springfield No. 5/Kentucky No.9","Green River No. 9","Flooded",1.2,1992,"Flooded","No",3.72,-0.42,"","","","","","","","",""]
[{"$f":"IF(St='Abandoned Data'!B136,1+A135,0)","v":0},"KY","Muhlenberg","Illinois",0,"Sinclair Slope No. 2 Mine","Unknown",0.1,1992,"Unknown","Unknown",3.72,-0.42,"","","","","","","","",""]
[{"$f":"IF(St='Abandoned Data'!B137,1+A136,0)","v":0},"KY","Webster","Illinois",0,"Dorea Mine","Sealed/Filled",0.35,1993,"Sealed","No",3.72,-0.42,"","","","","","","","",""]
[{"$f":"IF(St='Abandoned Data'!B138,1+A137,0)","v":0},"KY","Union","Illinois","Herrin No. 6 & Springfield No. 5/Kentucky No.9 & No.11","Camp No. 2","Sealed",0.4,1993,"Sealed","No",3.72,-0.42,"","","","","","","","",""]
[{"$f":"IF(St='Abandoned Data'!B139,1+A138,0)","v":0},"KY","Union","Illinois","Kentucky 9 & 11","Hamilton No. 2","Flooded",0.35,1994,"Flooded","No",3.72,-0.42,"","","","","","","","",""]
[{"$f":"IF(St='Abandoned Data'!B140,1+A139,0)","v":0},"KY","Hopkins","Illinois",0,"South Hopkins","Unknown",0.2,1994,"Unknown","Unknown",3.72,-0.42,"","","","","","","","",""]
[{"$f":"IF(St='Abandoned Data'!B141,1+A140,0)","v":0},"KY","Pike","Central Appl.","Pond Creek","Mate Creek No. 2","Unknown",0.75,1994,"Unknown","Unknown",3.72,-0.42,"","","","","","","","",""]
[{"$f":"IF(St='Abandoned Data'!B142,1+A141,0)","v":0},"KY","MeCreary","Central Appl.",0,"Justus","Unknown",0.35,1994,"Unknown","Unknown",3.72,-0.42,"","","","","","","","",""]
[{"$f":"IF(St='Abandoned Data'!B143,1+A142,0)","v":0},"KY","Hopkins","Illinois",0,"West Hopkins","Sealed/Filled",0.35,1994,"Sealed","No",3.72,-0.42,"","","","","","","","",""]
[{"$f":"IF(St='Abandoned Data'!B144,1+A143,0)","v":0},"KY","Henderson","Central Appl.",0,"Retiki","Sealed",0.35,1995,"Sealed","No",3.72,-0.42,"","","","","","","","",""]
[{"$f":"IF(St='Abandoned Data'!B145,1+A144,0)","v":0},"KY","Harlan","Central Appl.","Lowsplint/Creech","Creech No. 1","Unknown",0.2,1995,"Unknown","Unknown",3.72,-0.42,"","","","","","","","",""]
[{"$f":"IF(St='Abandoned Data'!B146,1+A145,0)","v":0},"KY","Harlan","Central Appl.","Harlan","Harlan No.1","Unknown",0.2,1995,"Unknown","Unknown",3.72,-0.42,"","","","","","","","",""]
[{"$f":"IF(St='Abandoned Data'!B147,1+A146,0)","v":0},"KY","Pike","Central Appl.","Elkhorn No.3","No. 9","Unknown",0.1,1995,"Unknown","Unknown",3.72,-0.42,"","","","","","","","",""]
[{"$f":"IF(St='Abandoned Data'!B148,1+A147,0)","v":0},"KY","Martin","Central Appl.","Warfield/Pond Ck.","Wolf Creek No. 4","Flooded",1,1995,"Flooded","No",3.72,-0.42,"","","","","","","","",""]
[{"$f":"IF(St='Abandoned Data'!B149,1+A148,0)","v":0},"KY","Union","Illinois","Kentucky 9 & 11","Hamilton No. 1","Venting/Flooded",0.35,1996,"Flooded","No",3.72,-0.42,"","","","","","","","",""]
[{"$f":"IF(St='Abandoned Data'!B150,1+A149,0)","v":0},"KY","Leslie","Central Appl.","Hazard No.4","Unicorn No. 2","Unknown",0.2,1996,"Unknown","Unknown",3.72,-0.42,"","","","","","","","",""]
[{"$f":"IF(St='Abandoned Data'!B151,1+A150,0)","v":0},"KY","Harlan","Central Appl.",0,"Darby Fork No. 1","Unknown",0.1,1997,"Unknown","Unknown",3.72,-0.42,"","","","","","","","",""]
[{"$f":"IF(St='Abandoned Data'!B152,1+A151,0)","v":0},"KY","Whitley","Central Appl.",0,"Blue Gem No 1","Unknown",0.35,1997,"Unknown","Unknown",3.72,-0.42,{"$f":"IF(ISERROR((VLOOKUP(ROW(A150),$A$3:$M$533,1,0))),\"\",(VLOOKUP(ROW(A150),$A$3:$M$533,1,0)))","v":""},{"$f":"IF(ISERROR(PROPER(VLOOKUP(ROW(A150),$A$3:$M$533,6,0))),\"\",PROPER(VLOOKUP(ROW(A150),$A$3:$M$533,6,0)))","v":""},{"$f":"IF(ISERROR(PROPER(VLOOKUP(ROW(A150),$A$3:$M$533,3,0))),\"\",PROPER(VLOOKUP(ROW(A150),$A$3:$M$533,3,0)))","v":""},{"$f":"IF(ISERROR(PROPER(VLOOKUP(ROW(A150),$A$3:$M$533,10,0))),\"\",PROPER(VLOOKUP(ROW(A150),$A$3:$M$533,10,0)))","v":""},{"$f":"IF(ISERROR(PROPER(VLOOKUP(ROW(A150),$A$3:$M$533,9,0))),\"\",PROPER(VLOOKUP(ROW(A150),$A$3:$M$533,9,0)))","v":""},{"$f":"IF(ISERROR(PROPER(VLOOKUP(ROW(A150),$A$3:$M$533,4,0))),\"\",PROPER(VLOOKUP(ROW(A150),$A$3:$M$533,4,0)))","v":""},{"$f":"IF(ISERROR(VLOOKUP(ROW(A150),$A$3:$M$533,8,0)),\"\",VLOOKUP(ROW(A150),$A$3:$M$533,8,0))","v":""},{"$f":"IF(ISERROR(VLOOKUP(ROW(A150),$A$3:$M$533,12,0)),\"\",VLOOKUP(ROW(A150),$A$3:$M$533,12,0))","v":""},{"$f":"IF(ISERROR(VLOOKUP(ROW(A150),$A$3:$M$533,13,0)),\"\",VLOOKUP(ROW(A150),$A$3:$M$533,13,0))","v":""}]
[{"$f":"IF(St='Abandoned Data'!B153,1+A152,0)","v":0},"KY","Pike","Central Appl.",0,"No 3 (Conakay Resources)","Unknown",0.35,1997,"Unknown","Unknown",3.72,-0.42,"","","","","","","","",""]
[{"$f":"IF(St='Abandoned Data'!B154,1+A153,0)","v":0},"KY","Harlan","Central Appl.","Harlan","Arch of Kentucky No. 37","Venting",1,1999,"Venting","No",3.72,-0.42,"","","","","","","","",""]
[{"$f":"IF(St='Abandoned Data'!B155,1+A154,0)","v":0},"KY","Webster","Illinois",0,"Smith U/G mine","Unknown",0.35,2000,"Unknown","Unknown",3.72,-0.42,"","","","","","","","",""]
[{"$f":"IF(St='Abandoned Data'!B156,1+A155,0)","v":0},"KY","Muhlenberg","Illinois","No. 9","Martwick Mine","Sealed",0.25,2001,"Sealed","No",3.72,-0.42,"","","","","","","","",""]
[{"$f":"IF(St='Abandoned Data'!B157,1+A156,0)","v":0},"KY","Leslie","Central Appl.",0,"No. 60","Unknown",0.3,2001,"Unknown","Unknown",3.72,-0.42,"","","","","","","","",""]
[{"$f":"IF(St='Abandoned Data'!B158,1+A157,0)","v":0},"KY","Martin","Central Appl.",0,"Pontiki No. 1 Mine","Unknown",0.6,2001,"Unknown","Unknown",3.72,-0.42,"","","","","","","","",""]
[{"$f":"IF(St='Abandoned Data'!B159,1+A158,0)","v":0},"KY","Pike","Central Appl.",0,"Smith Fork","Unknown",0.1,2001,"Unknown","Unknown",3.72,-0.42,"","","","","","","","",""]
[{"$f":"IF(St='Abandoned Data'!B160,1+A159,0)","v":0},"KY","Letcher","Central Appl.",0,"Premium Mine","Unknown",0.1,2003,"Unknown","Unknown",3.72,-0.42,"","","","","","","","",""]
[{"$f":"IF(St='Abandoned Data'!B161,1+A160,0)","v":0},"KY","Hopkins","Illinois",0,"Magic Mine","Unknown",0.26,2004,"Unknown","Unknown",3.72,-0.42,"","","","","","","","",""]
[{"$f":"IF(St='Abandoned Data'!B162,1+A161,0)","v":0},"KY","Union","Illinois",0,"Camp #11","Sealed",0.76500000000000001,2005,"Sealed","No",3.72,-0.42,"","","","","","","","",""]
[{"$f":"IF(St='Abandoned Data'!B163,1+A162,0)","v":0},"KY","Webster","Illinois","W. Kentucky No. 13","Baker Mine","Unknown",1.51,2005,"Unknown","Unknown",3.72,-0.42,"","","","","","","","",""]
[{"$f":"IF(St='Abandoned Data'!B164,1+A163,0)","v":0},"KY","Perry","Central Appl.",0,"HZ4-1","Unknown",0.15,2007,"Unknown","Unknown",3.72,-0.42,"","","","","","","","",""]
[{"$f":"IF(St='Abandoned Data'!B165,1+A164,0)","v":0},"KY","Webster","Illinois",0,"Wheatcroft No. 9","Sealed",0.81299999999999994,2006,"Sealed","No",3.72,-0.42,"","","","","","","","",""]
[{"$f":"IF(St='Abandoned Data'!B166,1+A165,0)","v":0},"KY","Pike","Central Appl.",0,"PE 2 Underground","Unknown",0.11239233333333333,2006,"Unknown","Unknown",3.72,-0.42,"","","","","","","","",""]
[{"$f":"IF(St='Abandoned Data'!B167,1+A166,0)","v":0},"KY","Leslie","Central Appl.",0,"#4","Unknown",0.17546719939117197,2008,"Unknown","Unknown",3.72,-0.42,"","","","","","","","",""]
[{"$f":"IF(St='Abandoned Data'!B168,1+A167,0)","v":0},"KY","Martin","Central Appl.",0,"Mine No. 2 (Excel Mining)","Unknown",0.63089981250000005,2009,"Unknown","Unknown",3.72,-0.42,"","","","","","","","",""]
[{"$f":"IF(St='Abandoned Data'!B169,1+A168,0)","v":0},"KY","Leslie","Central Appl.",0,"Shamrock #18 Series","Unknown",0.22149745319634706,2010,"Unknown","Unknown",3.72,-0.42,"","","","","","","","",""]
[{"$f":"IF(St='Abandoned Data'!B170,1+A169,0)","v":0},"KY","Ohio","Illinois",0,"Big Run Mine","Unknown",0.14624863698830137,2011,"Unknown","Unknown",3.72,-0.42,"","","","","","","","",""]
[{"$f":"IF(St='Abandoned Data'!B171,1+A170,0)","v":0},"KY","Pike","Central Appl.",0,"Mine #1 (Freedom Energy)","Sealed",0.89819418981481491,2014,"Sealed","No",3.72,-0.42,"","","","","","","","",""]
[{"$f":"IF(St='Abandoned Data'!B172,1+A171,0)","v":0},"KY","Pike","Central Appl.",0,"Mine #1 (Solid Energy)","Sealed",0.16065714285714286,2013,"Sealed","No",3.72,-0.42,"","","","","","","","",""]
[{"$f":"IF(St='Abandoned Data'!B173,1+A172,0)","v":0},"KY","Pike","Central Appl.",0,"Mine #1","Sealed",0.50094444444444453,2013,"Sealed","No",3.72,-0.42,"","","","","","","","",""]
[{"$f":"IF(St='Abandoned Data'!B174,1+A173,0)","v":0},"KY","Pike","Central Appl.",0,"Mine No 3","Sealed",1.6167419166666666,2013,"Sealed","No",3.72,-0.42,"","","","","","","","",""]
[{"$f":"IF(St='Abandoned Data'!B175,1+A174,0)","v":0},"KY","Letcher","Central Appl.",0,"Mine No 4","Sealed",0.33943350000000005,2013,"Sealed","No",3.72,-0.42,"","","","","","","","",""]
[{"$f":"IF(St='Abandoned Data'!B176,1+A175,0)","v":0},"KY","Knott","Central Appl.",0,"Jones Fork E-3","Sealed",0.93903843750000016,2014,"Sealed","No",3.72,-0.42,"","","","","","","","",""]
[{"$f":"IF(St='Abandoned Data'!B177,1+A176,0)","v":0},"KY","Hopkins","Illinois",0,"Richland No 9","Unknown",0.18436572882352942,2015,"Unknown","Unknown",3.72,-0.42,"","","","","","","","",""]
[{"$f":"IF(St='Abandoned Data'!B178,1+A177,0)","v":0},"KY","Martin","Central Appl.",0,"Van Lear ","Sealed",0.40422263533333336,2015,"Sealed","No",3.72,-0.42,"","","","","","","","",""]
[{"$f":"IF(St='Abandoned Data'!B179,1+A178,0)","v":0},"KY","Union","Illinois",0,"Rough Creek Mine","Unknown",0.55553796787345078,2015,"Unknown","Unknown",3.72,-0.42,"","","","","","","","",""]
[{"$f":"IF(St='Abandoned Data'!B180,1+A179,0)","v":0},"KY","Knott","Central Appl.",0,"KY Fuels E3RF","Unknown",0.27853736909090909,2016,"Unknown","Unknown",3.72,-0.42,"","","","","","","","",""]
[{"$f":"IF(St='Abandoned Data'!B181,1+A180,0)","v":0},"KY","Webster","Illinois",0,"Dotiki Mine","Unknown",0.14496776051231533,2020,"Unknown","Unknown",3.72,-0.42,"","","","","","","","",""]
[{"$f":"IF(St='Abandoned Data'!B182,1+A181,0)","v":0},"MD","Garrett","Central Appl.",0,"Mettiki","Unknown",0.2,1989,"Unknown","Unknown",3.72,-0.42,"","","","","","","","",""]
[{"$f":"IF(St='Abandoned Data'!B183,1+A182,0)","v":0},"NM","Colfax","Raton",0,"York Canyon Mine","Unknown",0.3,1986,"Unknown","Unknown",3.72,-0.42,"","","","","","","","",""]
[{"$f":"IF(St='Abandoned Data'!B184,1+A183,0)","v":0},"NM","Colfax","Raton","Left Fork (U)","Cimarron","Sealed",0.75,1998,"Sealed","No",3.72,-0.42,"","","","","","","","",""]
[{"$f":"IF(St='Abandoned Data'!B185,1+A184,0)","v":0},"OH","Jefferson","Northern Appl.","No. 6 & 6A","Jensie","Venting",0.35,1974,"Venting","No",3.72,-0.42,"","","","","","","","",""]
[{"$f":"IF(St='Abandoned Data'!B186,1+A185,0)","v":0},"OH","Harrison","Northern Appl.","Pittsburgh","Mars No 2","Flooded",0.5,1974,"Flooded","No",3.72,-0.42,"","","","","","","","",""]
[{"$f":"IF(St='Abandoned Data'!B187,1+A186,0)","v":0},"OH","Harrison","Northern Appl.","No. 6 & 6A","Nelms No. 1","Venting/Recovering Methane",1.9,1977,{"$error":"#N/A"},{"$error":"#N/A"},3.72,-0.42,"","","","","","","","",""]
[{"$f":"IF(St='Abandoned Data'!B188,1+A187,0)","v":0},"OH","Belmont","Northern Appl.","Pittsburgh","Powhatan No 4","Venting",0.75,1978,"Venting","No",3.72,-0.42,"","","","","","","","",""]
[{"$f":"IF(St='Abandoned Data'!B189,1+A188,0)","v":0},"OH","Harrison","Northern Appl.",0,"Rose Valley No. 6","Sealed",0.5,1980,"Sealed","No",3.72,-0.42,"","","","","","","","",""]
[{"$f":"IF(St='Abandoned Data'!B190,1+A189,0)","v":0},"OH","Belmont","Northern Appl.","Pittsburgh","POWHATAN NO 5 MINE","Venting",0.2,1981,"Venting","No",3.72,-0.42,"","","","","","","","",""]
[{"$f":"IF(St='Abandoned Data'!B191,1+A190,0)","v":0},"OH","Belmont","Northern Appl.","Pittsburgh","POWHATAN NO 1","Sealed",0.6,1982,"Sealed","No",3.72,-0.42,"","","","","","","","",""]
[{"$f":"IF(St='Abandoned Data'!B192,1+A191,0)","v":0},"OH","Belmont","Northern Appl.",0,"Powhatan No 3","Venting",0.3,1983,"Venting","No",3.72,-0.42,"","","","","","","","",""]
[{"$f":"IF(St='Abandoned Data'!B193,1+A192,0)","v":0},"OH","Harrison","Northern Appl.",0,"VAIL","Venting",0.35,1984,"Venting","No",3.72,-0.42,"","","","","","","","",""]
[{"$f":"IF(St='Abandoned Data'!B194,1+A193,0)","v":0},"OH","Belmont","Northern Appl.",0,"ALLISON MINE","Venting",0.2,1984,"Venting","No",3.72,-0.42,"","","","","","","","",""]
[{"$f":"IF(St='Abandoned Data'!B195,1+A194,0)","v":0},"OH","Harrison","Northern Appl.",0,"Oak Park No 7","Sealed",0.75,1988,{"$f":"IF(G195=\"Unknown\",\"Unknown\",VLOOKUP(G195,$B$541:$C$557,2,FALSE))","v":"Sealed"},{"$f":"IF(J195=\"unknown\",\"Unknown\",VLOOKUP(G195,$B$541:$D$557,3,FALSE))","v":"No"},3.72,-0.42,"","","","","","","","",""]
[{"$f":"IF(St='Abandoned Data'!B196,1+A195,0)","v":0},"OH","Meigs","Northern Appl.",0,"Meigs No 1","Unknown",0.4,1989,"Unknown","Unknown",3.72,-0.42,"","","","","","","","",""]
[{"$f":"IF(St='Abandoned Data'!B197,1+A196,0)","v":0},"OH","Vinton","Northern Appl.",0,"Raccoon #3","Unknown",0.35,1989,"Unknown","Unknown",3.72,-0.42,"","","","","","","","",""]
[{"$f":"IF(St='Abandoned Data'!B198,1+A197,0)","v":0},"OH","Perry","Northern Appl.","Kittanning (M)/No. 6","Sunnyhill No. 9 South","Unknown",0.1,1991,"Unknown","Unknown",3.72,-0.42,"","","","","","","","",""]
[{"$f":"IF(St='Abandoned Data'!B199,1+A198,0)","v":0},"OH","Monroe","Northern Appl.",0,"Powhatan No. 7","Temporary Seal",0.35,1992,"Sealed","No",3.72,-0.42,"","","","","","","","",""]
[{"$f":"IF(St='Abandoned Data'!B200,1+A199,0)","v":0},"OH","Harrison","Northern Appl.","No. 6 & 6A","NELMS NO 2","Venting",1.5,1993,"Venting","No",3.72,-0.42,"","","","","","","","",""]
[{"$f":"IF(St='Abandoned Data'!B201,1+A200,0)","v":0},"OH","Belmont","Northern Appl.",0,"Saginaw No. 1","Venting",0.35,1993,"Venting","No",3.72,-0.42,"","","","","","","","",""]
[{"$f":"IF(St='Abandoned Data'!B202,1+A201,0)","v":0},"OH","Monroe","Northern Appl.",0,"Powhatan 4 Mine","Venting",1.458,2007,"Venting","No",3.72,-0.42,"","","","","","","","",""]
[{"$f":"IF(St='Abandoned Data'!B203,1+A202,0)","v":0},"OH","Carroll","Northern Appl.",0,"Carroll Hollow #6","Sealed",0.15383825479999999,2016,"Sealed","No",3.72,-0.42,"","","","","","","","",""]
[{"$f":"IF(St='Abandoned Data'!B204,1+A203,0)","v":0},"OK","Le Flore","Arkoma","Hart & L. Hart","Howe No 1","Unknown",1.6,1972,"Unknown","Unknown",3.72,-0.42,"","","","","","","","",""]
[{"$f":"IF(St='Abandoned Data'!B205,1+A204,0)","v":0},"OK","Haskell","Arkoma",0,"Choctaw Coal","Unknown",0.35,1990,"Unknown","Unknown",3.72,-0.42,"","","","","","","","",""]
[{"$f":"IF(St='Abandoned Data'!B206,1+A205,0)","v":0},"OK","Okmulgee","Arkoma",0,"Pollyanna No. 4","Unknown",0.35,1996,"Unknown","Unknown",3.72,-0.42,"","","","","","","","",""]
[{"$f":"IF(St='Abandoned Data'!B207,1+A206,0)","v":0},"OK","Le Flore","Arkoma",0,"South Central Mine","Unknown",1.0463018572181242,2010,"Unknown","Unknown",3.72,-0.42,"","","","","","","","",""]
[{"$f":"IF(St='Abandoned Data'!B208,1+A207,0)","v":0},"PA","Luzerne","Northern Appl.",0,"No. 19  Wanamie Colliery","Unknown",0.2,1972,"Unknown","Unknown",3.72,-0.42,"","","","","","","","",""]
[{"$f":"IF(St='Abandoned Data'!B209,1+A208,0)","v":0},"PA","Luzerne","Northern Appl.","Miscellaneous","Forge Slope","Unknown",1.5,1972,"Unknown","Unknown",3.72,-0.42,"","","","","","","","",""]
[{"$f":"IF(St='Abandoned Data'!B210,1+A209,0)","v":0},"PA","Westmoreland","Northern Appl.","Pittsburgh","Hutchinson","Flooded",0.2,1973,"Flooded","No",3.72,-0.42,"","","","","","","","",""]
[{"$f":"IF(St='Abandoned Data'!B211,1+A210,0)","v":0},"PA","Armstrong","Northern Appl.",0,"Harold No 1","Unknown",0.15,1974,"Unknown","Unknown",3.72,-0.42,"","","","","","","","",""]
[{"$f":"IF(St='Abandoned Data'!B212,1+A211,0)","v":0},"PA","Washington","Northern Appl.",0,"VESTA #4 MINE","Sealed",0.2,1980,"Sealed","No",3.72,-0.42,"","","","","","","","",""]
[{"$f":"IF(St='Abandoned Data'!B213,1+A212,0)","v":0},"PA","Allegheny","Northern Appl.","Fpt.","Oakmont","Unknown",0.2,1980,"Unknown","Unknown",3.72,-0.42,"","","","","","","","",""]
[{"$f":"IF(St='Abandoned Data'!B214,1+A213,0)","v":0},"PA","Greene","Northern Appl.","Pittsburgh","WARWICK MINE NO. 2","Sealed",0.3,1980,"Sealed","No",3.72,-0.42,"","","","","","","","",""]
[{"$f":"IF(St='Abandoned Data'!B215,1+A214,0)","v":0},"PA","Cambria","Northern Appl.",0,"Bethlehem No. 31","Sealed",0.2,1991,"Sealed","No",3.72,-0.42,"","","","","","","","",""]
[{"$f":"IF(St='Abandoned Data'!B216,1+A215,0)","v":0},"PA","Cambria","Northern Appl.","Kittaning (U & L)","Bethlehem No. 77","Flooded/Pumping Water",0.3,1978,"Flooded","No",3.72,-0.42,{"$f":"IF(ISERROR((VLOOKUP(ROW(A214),$A$3:$M$533,1,0))),\"\",(VLOOKUP(ROW(A214),$A$3:$M$533,1,0)))","v":""},{"$f":"IF(ISERROR(PROPER(VLOOKUP(ROW(A214),$A$3:$M$533,6,0))),\"\",PROPER(VLOOKUP(ROW(A214),$A$3:$M$533,6,0)))","v":""},{"$f":"IF(ISERROR(PROPER(VLOOKUP(ROW(A214),$A$3:$M$533,3,0))),\"\",PROPER(VLOOKUP(ROW(A214),$A$3:$M$533,3,0)))","v":""},{"$f":"IF(ISERROR(PROPER(VLOOKUP(ROW(A214),$A$3:$M$533,10,0))),\"\",PROPER(VLOOKUP(ROW(A214),$A$3:$M$533,10,0)))","v":""},{"$f":"IF(ISERROR(PROPER(VLOOKUP(ROW(A214),$A$3:$M$533,9,0))),\"\",PROPER(VLOOKUP(ROW(A214),$A$3:$M$533,9,0)))","v":""},{"$f":"IF(ISERROR(PROPER(VLOOKUP(ROW(A214),$A$3:$M$533,4,0))),\"\",PROPER(VLOOKUP(ROW(A214),$A$3:$M$533,4,0)))","v":""},{"$f":"IF(ISERROR(VLOOKUP(ROW(A214),$A$3:$M$533,8,0)),\"\",VLOOKUP(ROW(A214),$A$3:$M$533,8,0))","v":""},{"$f":"IF(ISERROR(VLOOKUP(ROW(A214),$A$3:$M$533,12,0)),\"\",VLOOKUP(ROW(A214),$A$3:$M$533,12,0))","v":""},{"$f":"IF(ISERROR(VLOOKUP(ROW(A214),$A$3:$M$533,13,0)),\"\",VLOOKUP(ROW(A214),$A$3:$M$533,13,0))","v":""}]
[{"$f":"IF(St='Abandoned Data'!B217,1+A216,0)","v":0},"PA","Indiana","Northern Appl.","Kittaning ","CONEMAUGH NO. 1","Unknown",0.35,1982,"Unknown","Unknown",3.72,-0.42,"","","","","","","","",""]
[{"$f":"IF(St='Abandoned Data'!B218,1+A217,0)","v":0},"PA","Westmoreland","Northern Appl.",0,"Banning No. 4","Flooded",0.5,1983,"Flooded","No",3.72,-0.42,"","","","","","","","",""]
[{"$f":"IF(St='Abandoned Data'!B219,1+A218,0)","v":0},"PA","Washington","Northern Appl.",0,"Beth Ellsworth No 51","Flooded",0.5,1983,"Flooded","No",3.72,-0.42,"","","","","","","","",""]
[{"$f":"IF(St='Abandoned Data'!B220,1+A219,0)","v":0},"PA","Washington","Northern Appl.","Pittsburgh","MONTOUR #4","Flooded",3,1983,"Flooded","No",3.72,-0.42,"","","","","","","","",""]
[{"$f":"IF(St='Abandoned Data'!B221,1+A220,0)","v":0},"PA","Washington","Northern Appl.","Pittsburgh","WESTLAND #2","Sealed",0.4,1983,"Sealed","No",3.72,-0.42,"","","","","","","","",""]
[{"$f":"IF(St='Abandoned Data'!B222,1+A221,0)","v":0},"PA","Greene","Northern Appl.","Pittsburgh","ROBENA MINE","Flooded",2.1,1984,"Flooded","No",3.72,-0.42,"","","","","","","","",""]
[{"$f":"IF(St='Abandoned Data'!B223,1+A222,0)","v":0},"PA","Cambria","Northern Appl.","Lower Kittaning","Nanty Glo No 31","Sealed*",0.2,1984,"Sealed","No",3.72,-0.42,"","","","","","","","",""]
[{"$f":"IF(St='Abandoned Data'!B224,1+A223,0)","v":0},"PA","Fayette","Northern Appl.","Pittsburgh","Isabella","Sealed",0.2,1986,"Sealed","No",3.72,-0.42,"","","","","","","","",""]
[{"$f":"IF(St='Abandoned Data'!B225,1+A224,0)","v":0},"PA","Cambria","Northern Appl.","Kittaning (U & L)","Bethlehem No. 32","Sealed",4.5,1985,"Sealed","No",3.72,-0.42,"","","","","","","","",""]
[{"$f":"IF(St='Abandoned Data'!B226,1+A225,0)","v":0},"PA","Washington","Northern Appl.",0,"Maple Creek No. 2","Unknown",1,1986,"Unknown","Unknown",3.72,-0.42,"","","","","","","","",""]
[{"$f":"IF(St='Abandoned Data'!B227,1+A226,0)","v":0},"PA","Cambria","Northern Appl.",0,"Lancashire No 24","Unknown",0.2,1986,"Unknown","Unknown",3.72,-0.42,"","","","","","","","",""]
[{"$f":"IF(St='Abandoned Data'!B228,1+A227,0)","v":0},"PA","Cambria","Northern Appl.","Fpt  2 & 6, L. Fpt","Lancashire No 25","Sealed*",0.35,1986,"Sealed","No",3.72,-0.42,"","","","","","","","",""]
[{"$f":"IF(St='Abandoned Data'!B229,1+A228,0)","v":0},"PA","Westmoreland","Northern Appl.","Fpt. & L. Fpt.","DELMONT","Flooded",0.35,1988,"Flooded","No",3.72,-0.42,"","","","","","","","",""]
[{"$f":"IF(St='Abandoned Data'!B230,1+A229,0)","v":0},"PA","Indiana","Northern Appl.","Freeport (L)","Greenwich Collieries No 1","Unknown",0.3,1988,"Unknown","Unknown",3.72,-0.42,"","","","","","","","",""]
[{"$f":"IF(St='Abandoned Data'!B231,1+A230,0)","v":0},"PA","Washington","Northern Appl.","Pittsburgh","Marianna No 58","Sealed/Partially Flooded",2.2000000000000002,1988,"Flooded","No",3.72,-0.42,"","","","","","","","",""]
[{"$f":"IF(St='Abandoned Data'!B232,1+A231,0)","v":0},"PA","Cambria","Northern Appl.","Fpt  2 & 6, L. Fpt","Lancashire No 20","Sealed",0.9,1988,"Sealed","No",3.72,-0.42,"","","","","","","","",""]
[{"$f":"IF(St='Abandoned Data'!B233,1+A232,0)","v":0},"PA","Allegheny","Northern Appl.","Fpt.","HARMAR MINE","Sealed*",0.2,1989,"Sealed","No",3.72,-0.42,"","","","","","","","",""]
[{"$f":"IF(St='Abandoned Data'!B234,1+A233,0)","v":0},"PA","Indiana","Northern Appl.","Freeport (L)","Urling No. 1","Venting",0.7,1989,"Venting","No",3.72,-0.42,"","","","","","","","",""]
[{"$f":"IF(St='Abandoned Data'!B235,1+A234,0)","v":0},"PA","Indiana","Northern Appl.","B","Florence No. 1","Unknown",0.2,1990,"Unknown","Unknown",3.72,-0.42,"","","","","","","","",""]
[{"$f":"IF(St='Abandoned Data'!B236,1+A235,0)","v":0},"PA","Washington","Northern Appl.","Pittsburgh","Somerset No. 60","Unknown",1.5,1990,"Unknown","Unknown",3.72,-0.42,"","","","","","","","",""]
[{"$f":"IF(St='Abandoned Data'!B237,1+A236,0)","v":0},"PA","Indiana","Northern Appl.","Freeport (L)","Urling No. 3","Venting",0.7,1991,"Venting","No",3.72,-0.42,"","","","","","","","",""]
[{"$f":"IF(St='Abandoned Data'!B238,1+A237,0)","v":0},"PA","Somerset","Northern Appl.",0,"BIRD #2","Flooded",0.75,1991,"Flooded","No",3.72,-0.42,"","","","","","","","",""]
[{"$f":"IF(St='Abandoned Data'!B239,1+A238,0)","v":0},"PA","Somerset","Northern Appl.","Kittanning (L)","BIRD #3","Flooded",0.4,1991,"Flooded","No",3.72,-0.42,"","","","","","","","",""]
[{"$f":"IF(St='Abandoned Data'!B240,1+A239,0)","v":0},"PA","Allegheny","Northern Appl.","Fpt  2 & 6, L. Fpt","Renton Mine","Sealed/Pumping Water",0.7,1992,"Sealed","No",3.72,-0.42,"","","","","","","","",""]
[{"$f":"IF(St='Abandoned Data'!B241,1+A240,0)","v":0},"PA","Greene","Northern Appl.","Pittsburgh","GATEWAY MINE","Recovering Methane/Partially Flooded",2.4,1992,"Flooded","Yes",3.72,-0.42,"","","","","","","","",""]
[{"$f":"IF(St='Abandoned Data'!B242,1+A241,0)","v":0},"PA","Centre","Northern Appl.","Brookville \"A\"","Rushton Mine","Unknown",0.4,1992,"Unknown","Unknown",3.72,-0.42,"","","","","","","","",""]
[{"$f":"IF(St='Abandoned Data'!B243,1+A242,0)","v":0},"PA","Indiana","Northern Appl.","Freeport (L)","Greenwich Collieries No 2","Sealed",1.2,1993,"Sealed","No",3.72,-0.42,"","","","","","","","",""]
[{"$f":"IF(St='Abandoned Data'!B244,1+A243,0)","v":0},"PA","Indiana","Northern Appl.","Freeport (U)","Homer City","Unknown",1.7,1993,"Unknown","Unknown",3.72,-0.42,"","","","","","","","",""]
[{"$f":"IF(St='Abandoned Data'!B245,1+A244,0)","v":0},"PA","Allegheny","Northern Appl.","Freeport (U)","Allegheny No. 2 & Portal No. 3","Unknown",0.1,1993,"Unknown","Unknown",3.72,-0.42,"","","","","","","","",""]
[{"$f":"IF(St='Abandoned Data'!B246,1+A245,0)","v":0},"PA","Allegheny","Northern Appl.",0,"Ocean No. 5","Sealed",0.35,1994,"Sealed","No",3.72,-0.42,"","","","","","","","",""]
[{"$f":"IF(St='Abandoned Data'!B247,1+A246,0)","v":0},"PA","Cambria","Northern Appl.","Kittaning (U & L)","Cambria Slope No. 33","Sealed/Recovering Methane",14,1994,"Sealed","Yes",3.72,-0.42,"","","","","","","","",""]
[{"$f":"IF(St='Abandoned Data'!B248,1+A247,0)","v":0},"PA","Indiana","Northern Appl.","B","Florence No. 2","Unknown",0.3,1994,"Unknown","Unknown",3.72,-0.42,"","","","","","","","",""]
[{"$f":"IF(St='Abandoned Data'!B249,1+A248,0)","v":0},"PA","Washington","Northern Appl.","Pittsburg","Clyde Mine","Unknown",0.1,1994,"Unknown","Unknown",3.72,-0.42,"","","","","","","","",""]
[{"$f":"IF(St='Abandoned Data'!B250,1+A249,0)","v":0},"PA","Somerset","Northern Appl.","Kittanning (U)","Grove No. 1","Unknown",0.35,1994,"Unknown","Unknown",3.72,-0.42,"","","","","","","","",""]
[{"$f":"IF(St='Abandoned Data'!B251,1+A250,0)","v":0},"PA","Indiana","Northern Appl.",0,"Lucerne No. 8","Unknown",0.35,1995,"Unknown","Unknown",3.72,-0.42,"","","","","","","","",""]
[{"$f":"IF(St='Abandoned Data'!B252,1+A251,0)","v":0},"PA","Allegheny","Northern Appl.","Freeport (U)","Newfield","Sealed*",0.75,1995,"Sealed","No",3.72,-0.42,"","","","","","","","",""]
[{"$f":"IF(St='Abandoned Data'!B253,1+A252,0)","v":0},"PA","Indiana","Northern Appl.","Freeport (L)","Lucerne No. 9","Sealed/Partially Flooded",0.35,1995,"Flooded","No",3.72,-0.42,"","","","","","","","",""]
[{"$f":"IF(St='Abandoned Data'!B254,1+A253,0)","v":0},"PA","Armstrong","Northern Appl.",0,"DAVID MINE","Sealed/Adj to Dianne Mine",0.35,1996,"Sealed","No",3.72,-0.42,"","","","","","","","",""]
[{"$f":"IF(St='Abandoned Data'!B255,1+A254,0)","v":0},"PA","Greene","Northern Appl.","Pittsburgh","Nemacolin Mine","Flooded",0.6,1996,"Flooded","No",3.72,-0.42,"","","","","","","","",""]
[{"$f":"IF(St='Abandoned Data'!B256,1+A255,0)","v":0},"PA","Greene","Northern Appl.","Pittsburgh","Shannopin Mine","Sealed*",1,1996,"Sealed","No",3.72,-0.42,"","","","","","","","",""]
[{"$f":"IF(St='Abandoned Data'!B257,1+A256,0)","v":0},"PA","Washington","Northern Appl.","Pittsburgh","Vesta No. 5 Mine","Flooded",1.6,1996,"Flooded","No",3.72,-0.42,"","","","","","","","",""]
[{"$f":"IF(St='Abandoned Data'!B258,1+A257,0)","v":0},"PA","Washington","Northern Appl.","Pittsburgh","Westland","Sealed/Pumping Water",0.75,1996,"Sealed","No",3.72,-0.42,"","","","","","","","",""]
[{"$f":"IF(St='Abandoned Data'!B259,1+A258,0)","v":0},"PA","Greene","Northern Appl.","Pittsburgh","Lazarus","Unknown",0.6,1996,{"$f":"IF(G259=\"Unknown\",\"Unknown\",VLOOKUP(G259,$B$541:$C$557,2,FALSE))","v":"Unknown"},{"$f":"IF(J259=\"unknown\",\"Unknown\",VLOOKUP(G259,$B$541:$D$557,3,FALSE))","v":"Unknown"},3.72,-0.42,"","","","","","","","",""]
[{"$f":"IF(St='Abandoned Data'!B260,1+A259,0)","v":0},"PA","Greene","Northern Appl.",0,"Monongahela Resource","Venting",0.35,1996,"Venting","No",3.72,-0.42,"","","","","","","","",""]
[{"$f":"IF(St='Abandoned Data'!B261,1+A260,0)","v":0},"PA","Armstrong","Northern Appl.",0,"Jane","Sealed*",0.75,1996,"Sealed","No",3.72,-0.42,"","","","","","","","",""]
[{"$f":"IF(St='Abandoned Data'!B262,1+A261,0)","v":0},"PA","Indiana","Northern Appl.","U Fpt.","Marion","Sealed*",0.75,1997,"Sealed","No",3.72,-0.42,"","","","","","","","",""]
[{"$f":"IF(St='Abandoned Data'!B263,1+A262,0)","v":0},"PA","Greene","Northern Appl.","Pittsburgh","Warwick Mine No. 3","Flooded/Pumping Water",1.1000000000000001,1997,"Flooded","No",3.72,-0.42,"","","","","","","","",""]
[{"$f":"IF(St='Abandoned Data'!B264,1+A263,0)","v":0},"PA","Armstrong","Northern Appl.",0,"Emilie No. 1","Unknown",0.1,2000,"Unknown","Unknown",3.72,-0.42,"","","","","","","","",""]
[{"$f":"IF(St='Abandoned Data'!B265,1+A264,0)","v":0},"PA","Indiana","Northern Appl.",0,"Lucerne No. 6 Extension","Unknown",0.3,2000,"Unknown","Unknown",3.72,-0.42,"","","","","","","","",""]
[{"$f":"IF(St='Abandoned Data'!B266,1+A265,0)","v":0},"PA","Indiana","Northern Appl.",0,"Urling No. 2 Mine","Venting",0.2,2001,"Venting","No",3.72,-0.42,"","","","","","","","",""]
[{"$f":"IF(St='Abandoned Data'!B267,1+A266,0)","v":0},"PA","Indiana","Northern Appl.",0,"Tanoma Mine","Unknown",0.75,2001,"Unknown","Unknown",3.72,-0.42,"","","","","","","","",""]
[{"$f":"IF(St='Abandoned Data'!B268,1+A267,0)","v":0},"PA","Armstrong","Northern Appl.",0,"TJS #1","Unknown",0.2,2002,"Unknown","Unknown",3.72,-0.42,"","","","","","","","",""]
[{"$f":"IF(St='Abandoned Data'!B269,1+A268,0)","v":0},"PA","Washington","Northern Appl.",0,"Mathies","Unknown",0.94162138461538458,2006,"Unknown","Unknown",3.72,-0.42,"","","","","","","","",""]
[{"$f":"IF(St='Abandoned Data'!B270,1+A269,0)","v":0},"PA","Washington","Northern Appl.",0,"Maple Creek","Sealed",1.3,2006,"Sealed","No",3.72,-0.42,"","","","","","","","",""]
[{"$f":"IF(St='Abandoned Data'!B271,1+A270,0)","v":0},"PA","Armstrong","Northern Appl.",0,"T.J.S. No. 5 Mine","Unknown",0.19870987499999998,2009,"Unknown","Unknown",3.72,-0.42,"","","","","","","","",""]
[{"$f":"IF(St='Abandoned Data'!B272,1+A271,0)","v":0},"PA","Greene","Northern Appl.",0,"Dilworth","Unknown",1.6669726166666665,2004,"Unknown","Unknown",3.72,-0.42,"","","","","","","","",""]
[{"$f":"IF(St='Abandoned Data'!B273,1+A272,0)","v":0},"PA","Armstrong","Northern Appl.",0,"Dianne Mine","Sealed",0.21299999999999999,2005,"Sealed","No",3.72,-0.42,"","","","","","","","",""]
[{"$f":"IF(St='Abandoned Data'!B274,1+A273,0)","v":0},"TN","Rosedale","Central Appl.","Deal","Volunteer No 1","Unknown",2.5,1974,"Unknown","Unknown",3.72,-0.42,"","","","","","","","",""]
[{"$f":"IF(St='Abandoned Data'!B275,1+A274,0)","v":0},"TN","Campbell","Central Appl.",0,"Rex No 1","Unknown",0.1,1989,"Unknown","Unknown",3.72,-0.42,"","","","","","","","",""]
[{"$f":"IF(St='Abandoned Data'!B276,1+A275,0)","v":0},"TN","Clearborne","Central Appl.",0,"Matthews Mine","Unknown",0.2,1990,"Unknown","Unknown",3.72,-0.42,"","","","","","","","",""]
[{"$f":"IF(St='Abandoned Data'!B277,1+A276,0)","v":0},"TN","Sequatchie","Central Appl.","Sewanee","Kelly's Creek No. 1","Unknown",0.1,1994,"Unknown","Unknown",3.72,-0.42,"","","","","","","","",""]
[{"$f":"IF(St='Abandoned Data'!B278,1+A277,0)","v":0},"UT","Carbon","Uinta",0,"Carbon No. 2","Unknown",0.15,1972,"Unknown","Unknown",3.72,-0.42,"","","","","","","","",""]
[{"$f":"IF(St='Abandoned Data'!B279,1+A278,0)","v":0},"UT","Carbon","Uinta","U&L SUN","Kennilworth","Sealed",0.75,1974,"Sealed","No",3.72,-0.42,"","","","","","","","",""]
[{"$f":"IF(St='Abandoned Data'!B280,1+A279,0)","v":0},"UT","Carbon","Uinta",0,"Braztah No 3","Unknown",0.2,1979,"Unknown","Unknown",3.72,-0.42,{"$f":"IF(ISERROR((VLOOKUP(ROW(A278),$A$3:$M$533,1,0))),\"\",(VLOOKUP(ROW(A278),$A$3:$M$533,1,0)))","v":""},{"$f":"IF(ISERROR(PROPER(VLOOKUP(ROW(A278),$A$3:$M$533,6,0))),\"\",PROPER(VLOOKUP(ROW(A278),$A$3:$M$533,6,0)))","v":""},{"$f":"IF(ISERROR(PROPER(VLOOKUP(ROW(A278),$A$3:$M$533,3,0))),\"\",PROPER(VLOOKUP(ROW(A278),$A$3:$M$533,3,0)))","v":""},{"$f":"IF(ISERROR(PROPER(VLOOKUP(ROW(A278),$A$3:$M$533,10,0))),\"\",PROPER(VLOOKUP(ROW(A278),$A$3:$M$533,10,0)))","v":""},{"$f":"IF(ISERROR(PROPER(VLOOKUP(ROW(A278),$A$3:$M$533,9,0))),\"\",PROPER(VLOOKUP(ROW(A278),$A$3:$M$533,9,0)))","v":""},{"$f":"IF(ISERROR(PROPER(VLOOKUP(ROW(A278),$A$3:$M$533,4,0))),\"\",PROPER(VLOOKUP(ROW(A278),$A$3:$M$533,4,0)))","v":""},{"$f":"IF(ISERROR(VLOOKUP(ROW(A278),$A$3:$M$533,8,0)),\"\",VLOOKUP(ROW(A278),$A$3:$M$533,8,0))","v":""},{"$f":"IF(ISERROR(VLOOKUP(ROW(A278),$A$3:$M$533,12,0)),\"\",VLOOKUP(ROW(A278),$A$3:$M$533,12,0))","v":""},{"$f":"IF(ISERROR(VLOOKUP(ROW(A278),$A$3:$M$533,13,0)),\"\",VLOOKUP(ROW(A278),$A$3:$M$533,13,0))","v":""}]
[{"$f":"IF(St='Abandoned Data'!B281,1+A280,0)","v":0},"UT","Carbon","Uinta","#3","Price River No. 3","Unknown",0.9,1982,"Unknown","Unknown",3.72,-0.42,"","","","","","","","",""]
[{"$f":"IF(St='Abandoned Data'!B282,1+A281,0)","v":0},"UT","Carbon","Uinta","#3","Price River No. 5","Unknown",0.3,1982,"Unknown","Unknown",3.72,-0.42,"","","","","","","","",""]
[{"$f":"IF(St='Abandoned Data'!B283,1+A282,0)","v":0},"UT","Carbon","Uinta",0,"Beehive","Sealed",1.7,1987,"Sealed","No",3.72,-0.42,"","","","","","","","",""]
[{"$f":"IF(St='Abandoned Data'!B284,1+A283,0)","v":0},"UT","Carbon","Uinta",0,"Castle Gaste Portal #5","Sealed",1.7,1988,"Sealed","No",3.72,-0.42,"","","","","","","","",""]
[{"$f":"IF(St='Abandoned Data'!B285,1+A284,0)","v":0},"UT","Grand","Uinta",0,"Wilberg","Sealed",1.7,1990,"Sealed","No",3.72,-0.42,"","","","","","","","",""]
[{"$f":"IF(St='Abandoned Data'!B286,1+A285,0)","v":0},"UT","Carbon","Uinta",0,"Sunnyside Mine No. 3","Sealed",1.6,1990,"Sealed","No",3.72,-0.42,"","","","","","","","",""]
[{"$f":"IF(St='Abandoned Data'!B287,1+A286,0)","v":0},"UT","Carbon","Uinta",0,"Castle Gate Mine","Sealed",0.75,1991,"Sealed","No",3.72,-0.42,"","","","","","","","",""]
[{"$f":"IF(St='Abandoned Data'!B288,1+A287,0)","v":0},"UT","Carbon","Uinta",0,"Sunnyside Mine No. 1","Sealed",1.7,1994,"Sealed","No",3.72,-0.42,"","","","","","","","",""]
[{"$f":"IF(St='Abandoned Data'!B289,1+A288,0)","v":0},"UT","Sevier","Uinta",0,"Emery","Sealed",0.35,1995,"Sealed","No",3.72,-0.42,"","","","","","","","",""]
[{"$f":"IF(St='Abandoned Data'!B290,1+A289,0)","v":0},"UT","Carbon","Uinta","Rock Canyon & Sunnyside","Soldier Canyon","Sealed",3.4,1999,"Sealed","No",3.72,-0.42,"","","","","","","","",""]
[{"$f":"IF(St='Abandoned Data'!B291,1+A290,0)","v":0},"UT","Emery","Uinta",0,"Trail Mountain Mine","Venting",0.85,2001,"Venting","No",3.72,-0.42,"","","","","","","","",""]
[{"$f":"IF(St='Abandoned Data'!B292,1+A291,0)","v":0},"UT","Carbon","Uinta",0,"Willow Creek","Sealed",2,2003,"Sealed","No",3.72,-0.42,"","","","","","","","",""]
[{"$f":"IF(St='Abandoned Data'!B293,1+A292,0)","v":0},"UT","Carbon","Uinta",0,"Aberdeen","Sealed/Recovering Methane",2.8707785504683074,2008,"Sealed","Yes",3.72,-0.42,"","","","","","","","",""]
[{"$f":"IF(St='Abandoned Data'!B294,1+A293,0)","v":0},"VA","Russell","Central Appl.",0,"Chaney Creek No 2","Flooded",0.35,1974,"Flooded","No",3.72,-0.42,"","","","","","","","",""]
[{"$f":"IF(St='Abandoned Data'!B295,1+A294,0)","v":0},"VA","Dickerson","Central Appl.",0,"Moss No 3","Flooded",1.4,1976,"Flooded","No",3.72,-0.42,"","","","","","","","",""]
[{"$f":"IF(St='Abandoned Data'!B296,1+A295,0)","v":0},"VA","Wise","Central Appl.",0,"Virginia No 1","Unknown",0.15,1979,"Unknown","Unknown",3.72,-0.42,"","","","","","","","",""]
[{"$f":"IF(St='Abandoned Data'!B297,1+A296,0)","v":0},"VA","Wise","Central Appl.",0,"Prescott No. 1 Mine","Flooded",0.35,1981,"Flooded","No",3.72,-0.42,"","","","","","","","",""]
[{"$f":"IF(St='Abandoned Data'!B298,1+A297,0)","v":0},"VA","Wise","Central Appl.",0,"No 7","Unknown",0.15,1982,"Unknown","Unknown",3.72,-0.42,"","","","","","","","",""]
[{"$f":"IF(St='Abandoned Data'!B299,1+A298,0)","v":0},"VA","Wise","Central Appl.","Taggert","Wentz B Portal","Flooded",0.35,1982,"Flooded","No",3.72,-0.42,"","","","","","","","",""]
[{"$f":"IF(St='Abandoned Data'!B300,1+A299,0)","v":0},"VA","Russell","Central Appl.","Tiller","MOSS NO. 2","Flooded",1.3,1983,"Flooded","No",3.72,-0.42,"","","","","","","","",""]
[{"$f":"IF(St='Abandoned Data'!B301,1+A300,0)","v":0},"VA","Buchanan","Central Appl.","Tiller","LAMBERT FORK","Flooded",0.6,1985,"Flooded","No",3.72,-0.42,"","","","","","","","",""]
[{"$f":"IF(St='Abandoned Data'!B302,1+A301,0)","v":0},"VA","Russell","Central Appl.",0,"HURRICANE CREEK","Flooded",0.2,1987,"Flooded","No",3.72,-0.42,"","","","","","","","",""]
[{"$f":"IF(St='Abandoned Data'!B303,1+A302,0)","v":0},"VA","Russell","Central Appl.","Tiller","Moss No 3A2","Flooded",0.75,1988,"Flooded","No",3.72,-0.42,"","","","","","","","",""]
[{"$f":"IF(St='Abandoned Data'!B304,1+A303,0)","v":0},"VA","Russell","Central Appl.",0,"Moss No. 4","Unknown",0.75,1989,"Unknown","Unknown",3.72,-0.42,"","","","","","","","",""]
[{"$f":"IF(St='Abandoned Data'!B305,1+A304,0)","v":0},"VA","Wise","Central Appl.",0,"Osaka No 2","Unknown",0.2,1989,"Unknown","Unknown",3.72,-0.42,"","","","","","","","",""]
[{"$f":"IF(St='Abandoned Data'!B306,1+A305,0)","v":0},"VA","Buchanan","Central Appl.","Jawbone","Winston Mine No. 10","Sealed",0.35,1992,"Sealed","No",3.72,-0.42,"","","","","","","","",""]
[{"$f":"IF(St='Abandoned Data'!B307,1+A306,0)","v":0},"VA","Lee","Central Appl.",0,"No. 1 Mine (Double R Coal)","Unknown",0.35,1992,"Unknown","Unknown",3.72,-0.42,"","","","","","","","",""]
[{"$f":"IF(St='Abandoned Data'!B308,1+A307,0)","v":0},"VA","Buchanan","Central Appl.",0,"No. 1 (Falcon Coal)","Flooded",0.35,1993,"Flooded","No",3.72,-0.42,"","","","","","","","",""]
[{"$f":"IF(St='Abandoned Data'!B309,1+A308,0)","v":0},"VA","Buchanan","Central Appl.",0,"Virginia Pocahontas No. 4","Sealed/Recovering Methane",1.6,1993,"Sealed","Yes",3.72,-0.42,"","","","","","","","",""]
[{"$f":"IF(St='Abandoned Data'!B310,1+A309,0)","v":0},"VA","Buchanan","Central Appl.",0,"Jewell No. 18","Unknown",0.15,1993,"Unknown","Unknown",3.72,-0.42,"","","","","","","","",""]
[{"$f":"IF(St='Abandoned Data'!B311,1+A310,0)","v":0},"VA","Wise","Central Appl.",0,"Prescott No 2 Mine","Unknown",0.35,1994,"Unknown","Unknown",3.72,-0.42,"","","","","","","","",""]
[{"$f":"IF(St='Abandoned Data'!B312,1+A311,0)","v":0},"VA","Buchanan","Central Appl.","Pocahontas No 3","Virginia Pocahontas No. 1","Sealed/Recovering Methane",9.8000000000000007,1994,"Sealed","Yes",3.72,-0.42,"","","","","","","","",""]
[{"$f":"IF(St='Abandoned Data'!B313,1+A312,0)","v":0},"VA","Lee","Central Appl.",0,"#1 (Trinity Coal)","Unknown",0.75,1994,"Unknown","Unknown",3.72,-0.42,"","","","","","","","",""]
[{"$f":"IF(St='Abandoned Data'!B314,1+A313,0)","v":0},"VA","Wise","Central Appl.",0,"No 1","Unknown",0.35,1994,"Unknown","Unknown",3.72,-0.42,"","","","","","","","",""]
[{"$f":"IF(St='Abandoned Data'!B315,1+A314,0)","v":0},"VA","Buchanan","Central Appl.","Pocahontas No. 3","Virginia Pocahontas No. 6","Sealed/Recovering Methane",9.4,1994,"Sealed","Yes",3.72,-0.42,"","","","","","","","",""]
[{"$f":"IF(St='Abandoned Data'!B316,1+A315,0)","v":0},"VA","Tazewell","Central Appl.","Pocahontas No 4","Amonate No. 31","Unknown",3.7,1994,"Unknown","Unknown",3.72,-0.42,"","","","","","","","",""]
[{"$f":"IF(St='Abandoned Data'!B317,1+A316,0)","v":0},"VA","Wise","Central Appl.","Taggert","Wentz No. 1","Flooded",0.35,1995,"Flooded","No",3.72,-0.42,"","","","","","","","",""]
[{"$f":"IF(St='Abandoned Data'!B318,1+A317,0)","v":0},"VA","Wise","Central Appl.","Kelly","No. 2","Flooded",0.1,1995,"Flooded","No",3.72,-0.42,"","","","","","","","",""]
[{"$f":"IF(St='Abandoned Data'!B319,1+A318,0)","v":0},"VA","Tazewell","Central Appl.",0,"No. 1 (Middle Creek Energy)","Flooded",0.35,1995,"Flooded","No",3.72,-0.42,"","","","","","","","",""]
[{"$f":"IF(St='Abandoned Data'!B320,1+A319,0)","v":0},"VA","Buchanan","Central Appl.",0,"Big Creek Seaboard No. 1","Venting",0.7,1995,"Venting","No",3.72,-0.42,"","","","","","","","",""]
[{"$f":"IF(St='Abandoned Data'!B321,1+A320,0)","v":0},"VA","Dickenson","Central Appl.",0,"Splashdam","Venting/Partially Flooded",0.35,1995,"Flooded","No",3.72,-0.42,"","","","","","","","",""]
[{"$f":"IF(St='Abandoned Data'!B322,1+A321,0)","v":0},"VA","Buchanan","Central Appl.",0,"No. 4","Flooded",0.35,1995,"Flooded","No",3.72,-0.42,"","","","","","","","",""]
[{"$f":"IF(St='Abandoned Data'!B323,1+A322,0)","v":0},"VA","Buchanan","Central Appl.","Pocahontas 3","Beatrice Mine","Sealed/Recovering Methane",6.8,1995,{"$f":"IF(G323=\"Unknown\",\"Unknown\",VLOOKUP(G323,$B$541:$C$557,2,FALSE))","v":"Sealed"},{"$f":"IF(J323=\"unknown\",\"Unknown\",VLOOKUP(G323,$B$541:$D$557,3,FALSE))","v":"Yes"},3.72,-0.42,"","","","","","","","",""]
[{"$f":"IF(St='Abandoned Data'!B324,1+A323,0)","v":0},"VA","Wise","Central Appl.",0,"Pierre","Venting",0.35,1996,"Venting","No",3.72,-0.42,"","","","","","","","",""]
[{"$f":"IF(St='Abandoned Data'!B325,1+A324,0)","v":0},"VA","Wise","Central Appl.",0,"Har-Lee No. 3","Sealed",0.35,1996,"Sealed","No",3.72,-0.42,"","","","","","","","",""]
[{"$f":"IF(St='Abandoned Data'!B326,1+A325,0)","v":0},"VA","Wise","Central Appl.",0,"No. 1 (Big Laurel Mining)","Flooded",0.35,1996,"Flooded","No",3.72,-0.42,"","","","","","","","",""]
[{"$f":"IF(St='Abandoned Data'!B327,1+A326,0)","v":0},"VA","Dickenson","Central Appl.","Jawbone","McClure No. 1","Flooded",1.4,1996,"Flooded","No",3.72,-0.42,"","","","","","","","",""]
[{"$f":"IF(St='Abandoned Data'!B328,1+A327,0)","v":0},"VA","Buchanan","Central Appl.",0,"Virginia Pocahontas No. 2","Sealed/Recovering Methane",5.6,1996,"Sealed","Yes",3.72,-0.42,"","","","","","","","",""]
[{"$f":"IF(St='Abandoned Data'!B329,1+A328,0)","v":0},"VA","Wise","Central Appl.",0,"Deep No. 20 Mine","Venting",0.35,1997,"Venting","No",3.72,-0.42,"","","","","","","","",""]
[{"$f":"IF(St='Abandoned Data'!B330,1+A329,0)","v":0},"VA","Lee","Central Appl.",0,"Holton","Flooded",0.35,1997,"Flooded","No",3.72,-0.42,"","","","","","","","",""]
[{"$f":"IF(St='Abandoned Data'!B331,1+A330,0)","v":0},"VA","Buchanan","Central Appl.",0,"Big Creek Seaboard No. 2","Unknown",0.3,1998,"Unknown","Unknown",3.72,-0.42,"","","","","","","","",""]
[{"$f":"IF(St='Abandoned Data'!B332,1+A331,0)","v":0},"VA","Buchanan","Central Appl.","Pocahontas No. 3","Virginia Pocahontas No. 3","Sealed/Recovering Methane",9.1999999999999993,1998,"Sealed","Yes",3.72,-0.42,"","","","","","","","",""]
[{"$f":"IF(St='Abandoned Data'!B333,1+A332,0)","v":0},"VA","Buchanan","Central Appl.","Raven","Raven No. 1","Flooded",0.1,1998,"Flooded","No",3.72,-0.42,"","","","","","","","",""]
[{"$f":"IF(St='Abandoned Data'!B334,1+A333,0)","v":0},"VA","Wise","Central Appl.",0,"#12 Mine","Unknown",0.1,1999,"Unknown","Unknown",3.72,-0.42,"","","","","","","","",""]
[{"$f":"IF(St='Abandoned Data'!B335,1+A334,0)","v":0},"VA","Buchanan","Central Appl.",0,"1-A Mine","Unknown",0.25,2001,"Unknown","Unknown",3.72,-0.42,"","","","","","","","",""]
[{"$f":"IF(St='Abandoned Data'!B336,1+A335,0)","v":0},"VA","Wise","Central Appl.",0,"Sargent Hollow","Unknown",0.2,2001,"Unknown","Unknown",3.72,-0.42,"","","","","","","","",""]
[{"$f":"IF(St='Abandoned Data'!B337,1+A336,0)","v":0},"VA","Tazewell","Central Appl.",0,"#1 Mine","Unknown",0.3,2003,"Unknown","Unknown",3.72,-0.42,"","","","","","","","",""]
[{"$f":"IF(St='Abandoned Data'!B338,1+A337,0)","v":0},"VA","Tazewell","Central Appl.",0,"Mine #2","Unknown",0.15,2003,"Unknown","Unknown",3.72,-0.42,"","","","","","","","",""]
[{"$f":"IF(St='Abandoned Data'!B339,1+A338,0)","v":0},"VA","Wise","Central Appl.",0,"#1","Unknown",0.1,2003,"Unknown","Unknown",3.72,-0.42,"","","","","","","","",""]
[{"$f":"IF(St='Abandoned Data'!B340,1+A339,0)","v":0},"VA","Buchanan","Central Appl.","Pochontas #3","Virginia Pocahontas No. 8","Sealed/Recovering Methane",42.596950945313488,2006,"Sealed","Yes",3.72,-0.42,"","","","","","","","",""]
[{"$f":"IF(St='Abandoned Data'!B341,1+A340,0)","v":0},"VA","Wise","Central Appl.",0,"Low Splint No 1 Mine","Unknown",0.1095890410958904,2007,"Unknown","Unknown",3.72,-0.42,"","","","","","","","",""]
[{"$f":"IF(St='Abandoned Data'!B342,1+A341,0)","v":0},"VA","Wise","Central Appl.",0,"Deep Mine # 6","Unknown",0.40082692612524456,2007,"Unknown","Unknown",3.72,-0.42,"","","","","","","","",""]
[{"$f":"IF(St='Abandoned Data'!B343,1+A342,0)","v":0},"VA","Tazewell","Central Appl.",0,"Greasy Creek Mine","Unknown",0.12332889854452056,2007,"Unknown","Unknown",3.72,-0.42,"","","","","","","","",""]
[{"$f":"IF(St='Abandoned Data'!B344,1+A343,0)","v":0},"VA","Wise","Central Appl.",0,"Mine No. 1","Unknown",0.11506849315068493,2008,"Unknown","Unknown",3.72,-0.42,{"$f":"IF(ISERROR((VLOOKUP(ROW(A342),$A$3:$M$533,1,0))),\"\",(VLOOKUP(ROW(A342),$A$3:$M$533,1,0)))","v":""},{"$f":"IF(ISERROR(PROPER(VLOOKUP(ROW(A342),$A$3:$M$533,6,0))),\"\",PROPER(VLOOKUP(ROW(A342),$A$3:$M$533,6,0)))","v":""},{"$f":"IF(ISERROR(PROPER(VLOOKUP(ROW(A342),$A$3:$M$533,3,0))),\"\",PROPER(VLOOKUP(ROW(A342),$A$3:$M$533,3,0)))","v":""},{"$f":"IF(ISERROR(PROPER(VLOOKUP(ROW(A342),$A$3:$M$533,10,0))),\"\",PROPER(VLOOKUP(ROW(A342),$A$3:$M$533,10,0)))","v":""},{"$f":"IF(ISERROR(PROPER(VLOOKUP(ROW(A342),$A$3:$M$533,9,0))),\"\",PROPER(VLOOKUP(ROW(A342),$A$3:$M$533,9,0)))","v":""},{"$f":"IF(ISERROR(PROPER(VLOOKUP(ROW(A342),$A$3:$M$533,4,0))),\"\",PROPER(VLOOKUP(ROW(A342),$A$3:$M$533,4,0)))","v":""},{"$f":"IF(ISERROR(VLOOKUP(ROW(A342),$A$3:$M$533,8,0)),\"\",VLOOKUP(ROW(A342),$A$3:$M$533,8,0))","v":""},{"$f":"IF(ISERROR(VLOOKUP(ROW(A342),$A$3:$M$533,12,0)),\"\",VLOOKUP(ROW(A342),$A$3:$M$533,12,0))","v":""},{"$f":"IF(ISERROR(VLOOKUP(ROW(A342),$A$3:$M$533,13,0)),\"\",VLOOKUP(ROW(A342),$A$3:$M$533,13,0))","v":""}]
[{"$f":"IF(St='Abandoned Data'!B345,1+A344,0)","v":0},"VA","Tazewell","Central Appl.",0,"No. 5","Unknown",0.10684931506849316,2009,"Unknown","Unknown",3.72,-0.42,"","","","","","","","",""]
[{"$f":"IF(St='Abandoned Data'!B346,1+A345,0)","v":0},"VA","Dickenson","Central Appl.",0,"D-R-1","Unknown",1.975525114155251,2009,"Unknown","Unknown",3.72,-0.42,"","","","","","","","",""]
[{"$f":"IF(St='Abandoned Data'!B347,1+A346,0)","v":0},"VA","Wise","Central Appl.",0,"No. 1","Unknown",0.13561643835616438,2009,"Unknown","Unknown",3.72,-0.42,"","","","","","","","",""]
[{"$f":"IF(St='Abandoned Data'!B348,1+A347,0)","v":0},"VA","Dickenson","Central Appl.",0,"Mine No. 2","Unknown",1.0228973895063322,2009,"Unknown","Unknown",3.72,-0.42,"","","","","","","","",""]
[{"$f":"IF(St='Abandoned Data'!B349,1+A348,0)","v":0},"VA","Tazewell","Central Appl.",0,"Miles Branch Mine","Sealed",1.0961187214611872,2011,"Sealed","No",3.72,-0.42,"","","","","","","","",""]
[{"$f":"IF(St='Abandoned Data'!B350,1+A349,0)","v":0},"VA","Wise","Central Appl.",0,"Low Splint A Mine","Unknown",9.8299999999999998E-2,2012,"Unknown","Unknown",3.72,-0.42,"","","","","","","","",""]
[{"$f":"IF(St='Abandoned Data'!B351,1+A350,0)","v":0},"VA","Wise","Central Appl.",0,"Mine No 1","Unknown",0.14498749999999999,2013,"Unknown","Unknown",3.72,-0.42,"","","","","","","","",""]
[{"$f":"IF(St='Abandoned Data'!B352,1+A351,0)","v":0},"VA","Buchanan","Central Appl.",0,"Apollo","Sealed",0.14706000000000002,2013,"Sealed","No",3.72,-0.42,"","","","","","","","",""]
[{"$f":"IF(St='Abandoned Data'!B353,1+A352,0)","v":0},"VA","Wise","Central Appl.",0,"Mine #3","Unknown",0.35,2001,"Unknown","Unknown",3.72,-0.42,"","","","","","","","",""]
[{"$f":"IF(St='Abandoned Data'!B354,1+A353,0)","v":0},"VA","Wise","Central Appl.",0,"Bullitt Mine","Sealed",0.51654600000000006,1997,"Sealed","No",3.72,-0.42,"","","","","","","","",""]
[{"$f":"IF(St='Abandoned Data'!B355,1+A354,0)","v":0},"VA","Wise","Central Appl.",0,"VICC No. 4 Mine","Unknown",0.23699999999999999,2007,"Unknown","Unknown",3.72,-0.42,"","","","","","","","",""]
[{"$f":"IF(St='Abandoned Data'!B356,1+A355,0)","v":0},"VA","Tazewell","Central Appl.",0,"Silver Creek Mine","Sealed",0.375,2003,"Sealed","No",3.72,-0.42,"","","","","","","","",""]
[{"$f":"IF(St='Abandoned Data'!B357,1+A356,0)","v":0},"VA","Buchanan","Central Appl.",0,"Mine No. 26","Sealed",8.4822999999999996E-2,2014,"Sealed","No",3.72,-0.42,"","","","","","","","",""]
[{"$f":"IF(St='Abandoned Data'!B358,1+A357,0)","v":0},"VA","Dickenson","Central Appl.",0,"Roaring Fork No. 4","Sealed",0.20751508333333335,2014,"Sealed","No",3.72,-0.42,"","","","","","","","",""]
[{"$f":"IF(St='Abandoned Data'!B359,1+A358,0)","v":0},"VA","Dickenson","Central Appl.",0,"Cherokee Mine","Unknown",0.25368552475,2015,"Unknown","Unknown",3.72,-0.42,"","","","","","","","",""]
[{"$f":"IF(St='Abandoned Data'!B360,1+A359,0)","v":0},"VA","Russell","Central Appl.",0,"Deep Mine #35","Unknown",0.25930154166666669,2015,"Unknown","Unknown",3.72,-0.42,"","","","","","","","",""]
[{"$f":"IF(St='Abandoned Data'!B361,1+A360,0)","v":0},"VA","Buchanan","Central Appl.",0,"Maverich Shop No. 1","Unknown",0.24363376137033596,2016,"Unknown","Unknown",3.72,-0.42,"","","","","","","","",""]
[{"$f":"IF(St='Abandoned Data'!B362,1+A361,0)","v":0},"VA","Russell","Central Appl.",0,"Laurel Mountain ","Unknown",0.19236417499999997,2016,"Unknown","Unknown",3.72,-0.42,"","","","","","","","",""]
[{"$f":"IF(St='Abandoned Data'!B363,1+A362,0)","v":0},"VA","Buchanan","Central Appl.",0,"Paw Paw Mine","Unknown",0.1165976116,2016,"Unknown","Unknown",3.72,-0.42,"","","","","","","","",""]
[{"$f":"IF(St='Abandoned Data'!B364,1+A363,0)","v":0},"VA","Dickenson","Central Appl.",0,"Deep Mine #26","Sealed/Recovering Methane",0.25909102622608671,2018,"Sealed","Yes",3.72,-0.42,"","","","","","","","",""]
[{"$f":"IF(St='Abandoned Data'!B365,1+A364,0)","v":0},"WV","West","Central Appl.",0,"Dixianna","Unknown",0.3,1972,"Unknown","Unknown",3.72,-0.42,"","","","","","","","",""]
[{"$f":"IF(St='Abandoned Data'!B366,1+A365,0)","v":0},"WV","Kanawha","Central Appl.",0,"No 34","Unknown",0.4,1972,"Unknown","Unknown",3.72,-0.42,"","","","","","","","",""]
[{"$f":"IF(St='Abandoned Data'!B367,1+A366,0)","v":0},"WV","Nicholas","Central Appl.","Sewell","Sewell No 4","Venting",0.5,1972,"Venting","No",3.72,-0.42,"","","","","","","","",""]
[{"$f":"IF(St='Abandoned Data'!B368,1+A367,0)","v":0},"WV","Mason","Northern Appl.","Pittsburgh","Putnam","Unknown",0.2,1973,"Unknown","Unknown",3.72,-0.42,"","","","","","","","",""]
[{"$f":"IF(St='Abandoned Data'!B369,1+A368,0)","v":0},"WV","Brooke","Central Appl.","Pittsburgh","Beech Bottom","Unknown",0.2,1974,"Unknown","Unknown",3.72,-0.42,"","","","","","","","",""]
[{"$f":"IF(St='Abandoned Data'!B370,1+A369,0)","v":0},"WV","Wyoming","Central Appl.",0,"Buckeye Coll.","Sealed",0.15,1974,"Sealed","No",3.72,-0.42,"","","","","","","","",""]
[{"$f":"IF(St='Abandoned Data'!B371,1+A370,0)","v":0},"WV","Harrison","Northern Appl.","Pittsburgh","Compass No 2","Sealed",0.75,1974,"Sealed","No",3.72,-0.42,"","","","","","","","",""]
[{"$f":"IF(St='Abandoned Data'!B372,1+A371,0)","v":0},"WV","Raleigh","Central Appl.","Pocahontas 3","East Gulf","Flooded",1,1974,"Flooded","No",3.72,-0.42,"","","","","","","","",""]
[{"$f":"IF(St='Abandoned Data'!B373,1+A372,0)","v":0},"WV","Logan","Central Appl.","Cedar Grove","Guyan No 5","Flooded",0.25,1974,"Flooded","No",3.72,-0.42,"","","","","","","","",""]
[{"$f":"IF(St='Abandoned Data'!B374,1+A373,0)","v":0},"WV","Wyoming","Central Appl.","Pocahontas 3","Kepler","Venting/Partially Flooded",0.6,1974,"Flooded","No",3.72,-0.42,"","","","","","","","",""]
[{"$f":"IF(St='Abandoned Data'!B375,1+A374,0)","v":0},"WV","Mingo","Central Appl.","Cedar Grove","National No 25","Unknown",0.25,1974,"Unknown","Unknown",3.72,-0.42,"","","","","","","","",""]
[{"$f":"IF(St='Abandoned Data'!B376,1+A375,0)","v":0},"WV","Logan","Central Appl.",0,"No 4-H","Sealed",0.25,1974,"Sealed","No",3.72,-0.42,"","","","","","","","",""]
[{"$f":"IF(St='Abandoned Data'!B377,1+A376,0)","v":0},"WV","Wyoming","Central Appl.",0,"Otsego","Unknown",0.15,1974,"Unknown","Unknown",3.72,-0.42,"","","","","","","","",""]
[{"$f":"IF(St='Abandoned Data'!B378,1+A377,0)","v":0},"WV","Logan","Central Appl.",0,"Paragon","Flooded",0.15,1974,"Flooded","No",3.72,-0.42,"","","","","","","","",""]
[{"$f":"IF(St='Abandoned Data'!B379,1+A378,0)","v":0},"WV","McDowell","Central Appl.",0,"Pocahontas No 7","Unknown",0.15,1974,"Unknown","Unknown",3.72,-0.42,"","","","","","","","",""]
[{"$f":"IF(St='Abandoned Data'!B380,1+A379,0)","v":0},"WV","Wyoming","Central Appl.","Pocahontas 4","Itmann No 4","Flooded",1,1976,"Flooded","No",3.72,-0.42,"","","","","","","","",""]
[{"$f":"IF(St='Abandoned Data'!B381,1+A380,0)","v":0},"WV","Raleigh","Central Appl.",0,"Bethlehem No 46","Flooded",0.15,1976,"Flooded","No",3.72,-0.42,"","","","","","","","",""]
[{"$f":"IF(St='Abandoned Data'!B382,1+A381,0)","v":0},"WV","Upshur","Central Appl.",0,"Adrian Mine","Unknown",0.2,1977,"Unknown","Unknown",3.72,-0.42,"","","","","","","","",""]
[{"$f":"IF(St='Abandoned Data'!B383,1+A382,0)","v":0},"WV","McDowell","Central Appl.","Pocahontas 3  & 4","Maitland","Venting/Partially Flooded",1,1977,"Flooded","No",3.72,-0.42,"","","","","","","","",""]
[{"$f":"IF(St='Abandoned Data'!B384,1+A383,0)","v":0},"WV","Fayette","Central Appl.",0,"Royal No 5","Sealed",0.2,1977,"Sealed","No",3.72,-0.42,"","","","","","","","",""]
[{"$f":"IF(St='Abandoned Data'!B385,1+A384,0)","v":0},"WV","McDowell","Central Appl.",0,"U.S. Steel No 14-4","Venting",1.4,1977,"Venting","No",3.72,-0.42,"","","","","","","","",""]
[{"$f":"IF(St='Abandoned Data'!B386,1+A385,0)","v":0},"WV","Marion","Northern Appl.","Pittsburgh","No 93","Venting",1,1978,"Venting","No",3.72,-0.42,"","","","","","","","",""]
[{"$f":"IF(St='Abandoned Data'!B387,1+A386,0)","v":0},"WV","Harrison","Northern Appl.",0,"Williams","Venting",1,1978,{"$f":"IF(G387=\"Unknown\",\"Unknown\",VLOOKUP(G387,$B$541:$C$557,2,FALSE))","v":"Venting"},{"$f":"IF(J387=\"unknown\",\"Unknown\",VLOOKUP(G387,$B$541:$D$557,3,FALSE))","v":"No"},3.72,-0.42,"","","","","","","","",""]
[{"$f":"IF(St='Abandoned Data'!B388,1+A387,0)","v":0},"WV","Marion","Northern Appl.","Pittsburgh","Consol No. 9","Venting/Recovering Gas",4.7,1978,"Venting","Yes",3.72,-0.42,"","","","","","","","",""]
[{"$f":"IF(St='Abandoned Data'!B389,1+A388,0)","v":0},"WV","Marion","Northern Appl.","Pittsburgh","Bethlehem No. 44","Venting",0.3,1979,"Venting","No",3.72,-0.42,"","","","","","","","",""]
[{"$f":"IF(St='Abandoned Data'!B390,1+A389,0)","v":0},"WV","McDowell","Central Appl.","Pocahontas 3","NEWHALL NO 6 MINE","Venting/Partially Flooded",0.5,1979,"Flooded","No",3.72,-0.42,"","","","","","","","",""]
[{"$f":"IF(St='Abandoned Data'!B391,1+A390,0)","v":0},"WV","Raleigh","Central Appl.","Pocahontas 3","Macalpin #3","Flooded",0.3,1979,"Flooded","No",3.72,-0.42,"","","","","","","","",""]
[{"$f":"IF(St='Abandoned Data'!B392,1+A391,0)","v":0},"WV","Grant","Northern Appl.","Freeport (U)","Potomac","Sealed",0.35,1980,"Sealed","No",3.72,-0.42,"","","","","","","","",""]
[{"$f":"IF(St='Abandoned Data'!B393,1+A392,0)","v":0},"WV","Mingo","Central Appl.",0,"Gary No 20-B","Unknown",0.15,1980,"Unknown","Unknown",3.72,-0.42,"","","","","","","","",""]
[{"$f":"IF(St='Abandoned Data'!B394,1+A393,0)","v":0},"WV","Lincoln","Central Appl.",0,"Five Block No 4 Mine","Unknown",0.75,1980,"Unknown","Unknown",3.72,-0.42,"","","","","","","","",""]
[{"$f":"IF(St='Abandoned Data'!B395,1+A394,0)","v":0},"WV","Logan","Central Appl.","Cedar Grove","NO 1 CEDAR GROVE","Flooded",1,1980,"Flooded","No",3.72,-0.42,"","","","","","","","",""]
[{"$f":"IF(St='Abandoned Data'!B396,1+A395,0)","v":0},"WV","Marshall","Northern Appl.","Pittsburgh","Alexander","Venting/Partially Flooded",1,1981,"Flooded","No",3.72,-0.42,"","","","","","","","",""]
[{"$f":"IF(St='Abandoned Data'!B397,1+A396,0)","v":0},"WV","Raleigh","Central Appl.",0,"ECCLES NO 5","Flooded",0.5,1981,"Flooded","No",3.72,-0.42,"","","","","","","","",""]
[{"$f":"IF(St='Abandoned Data'!B398,1+A397,0)","v":0},"WV","McDowell","Central Appl.","Pocahontas 3 ","Bishop No. 34 Mine","Unknown",1,1982,"Unknown","Unknown",3.72,-0.42,"","","","","","","","",""]
[{"$f":"IF(St='Abandoned Data'!B399,1+A398,0)","v":0},"WV","Wyoming","Central Appl.",0,"GASTON NO 2 MINE","Unknown",0.2,1982,"Unknown","Unknown",3.72,-0.42,"","","","","","","","",""]
[{"$f":"IF(St='Abandoned Data'!B400,1+A399,0)","v":0},"WV","Wyoming","Central Appl.","Beckley","Beckley No 1","Venting/Partially Flooded",0.7,1982,"Flooded","No",3.72,-0.42,"","","","","","","","",""]
[{"$f":"IF(St='Abandoned Data'!B401,1+A400,0)","v":0},"WV","Nicholas","Central Appl.",0,"Coalbank Fork No 9","Unknown",2.4,1982,"Unknown","Unknown",3.72,-0.42,"","","","","","","","",""]
[{"$f":"IF(St='Abandoned Data'!B402,1+A401,0)","v":0},"WV","Nicholas","Central Appl.",0,"Mine #3 (Hart Coal)","Unknown",2.4,1982,"Unknown","Unknown",3.72,-0.42,"","","","","","","","",""]
[{"$f":"IF(St='Abandoned Data'!B403,1+A402,0)","v":0},"WV","Boone","Central Appl.","Cedar Grove","Ferrell No 17","Flooded",0.4,1982,"Flooded","No",3.72,-0.42,"","","","","","","","",""]
[{"$f":"IF(St='Abandoned Data'!B404,1+A403,0)","v":0},"WV","Barbour","Central Appl.",0,"Kitt No. 1 Mine","Unknown",1.5,1982,"Unknown","Unknown",3.72,-0.42,"","","","","","","","",""]
[{"$f":"IF(St='Abandoned Data'!B405,1+A404,0)","v":0},"WV","Kanawha","Central Appl.",0,"Morton Mine","Unknown",1.5,1982,"Unknown","Unknown",3.72,-0.42,"","","","","","","","",""]
[{"$f":"IF(St='Abandoned Data'!B406,1+A405,0)","v":0},"WV","Raleigh","Central Appl.","Pocahontas 4","KEYSTONE NO 4-A MINE","Flooded",0.2,1982,"Flooded","No",3.72,-0.42,"","","","","","","","",""]
[{"$f":"IF(St='Abandoned Data'!B407,1+A406,0)","v":0},"WV","Nicholas","Central Appl.",0,"Mine No 4 (Gamble Coals Inc)","Unknown",2.4,1982,"Unknown","Unknown",3.72,-0.42,"","","","","","","","",""]
[{"$f":"IF(St='Abandoned Data'!B408,1+A407,0)","v":0},"WV","Preston","Northern Appl.",0,"#1 (Lobo Capital Inc)","Sealed",2.2000000000000002,1982,"Sealed","No",3.72,-0.42,{"$f":"IF(ISERROR((VLOOKUP(ROW(A406),$A$3:$M$533,1,0))),\"\",(VLOOKUP(ROW(A406),$A$3:$M$533,1,0)))","v":""},{"$f":"IF(ISERROR(PROPER(VLOOKUP(ROW(A406),$A$3:$M$533,6,0))),\"\",PROPER(VLOOKUP(ROW(A406),$A$3:$M$533,6,0)))","v":""},{"$f":"IF(ISERROR(PROPER(VLOOKUP(ROW(A406),$A$3:$M$533,3,0))),\"\",PROPER(VLOOKUP(ROW(A406),$A$3:$M$533,3,0)))","v":""},{"$f":"IF(ISERROR(PROPER(VLOOKUP(ROW(A406),$A$3:$M$533,10,0))),\"\",PROPER(VLOOKUP(ROW(A406),$A$3:$M$533,10,0)))","v":""},{"$f":"IF(ISERROR(PROPER(VLOOKUP(ROW(A406),$A$3:$M$533,9,0))),\"\",PROPER(VLOOKUP(ROW(A406),$A$3:$M$533,9,0)))","v":""},{"$f":"IF(ISERROR(PROPER(VLOOKUP(ROW(A406),$A$3:$M$533,4,0))),\"\",PROPER(VLOOKUP(ROW(A406),$A$3:$M$533,4,0)))","v":""},{"$f":"IF(ISERROR(VLOOKUP(ROW(A406),$A$3:$M$533,8,0)),\"\",VLOOKUP(ROW(A406),$A$3:$M$533,8,0))","v":""},{"$f":"IF(ISERROR(VLOOKUP(ROW(A406),$A$3:$M$533,12,0)),\"\",VLOOKUP(ROW(A406),$A$3:$M$533,12,0))","v":""},{"$f":"IF(ISERROR(VLOOKUP(ROW(A406),$A$3:$M$533,13,0)),\"\",VLOOKUP(ROW(A406),$A$3:$M$533,13,0))","v":""}]
[{"$f":"IF(St='Abandoned Data'!B409,1+A408,0)","v":0},"WV","Gilmer","Northern Appl.",0,"Kanawha #1","Sealed",2.2000000000000002,1982,"Sealed","No",3.72,-0.42,"","","","","","","","",""]
[{"$f":"IF(St='Abandoned Data'!B410,1+A409,0)","v":0},"WV","Nicholas","Central Appl.",0,"No 24 Mine","Unknown",2.4,1982,"Unknown","Unknown",3.72,-0.42,"","","","","","","","",""]
[{"$f":"IF(St='Abandoned Data'!B411,1+A410,0)","v":0},"WV","Nicholas","Central Appl.",0,"Mine No 4 (Hart Coal)","Unknown",2.4,1982,"Unknown","Unknown",3.72,-0.42,"","","","","","","","",""]
[{"$f":"IF(St='Abandoned Data'!B412,1+A411,0)","v":0},"WV","Marion","Northern Appl.","Pittsburgh","Consol No. 20","Venting/Recovering Gas",1.1000000000000001,1982,"Venting","Yes",3.72,-0.42,"","","","","","","","",""]
[{"$f":"IF(St='Abandoned Data'!B413,1+A412,0)","v":0},"WV","Gilmer","Northern Appl.",0,"Kanawha #2","Sealed",2.2000000000000002,1982,"Sealed","No",3.72,-0.42,"","","","","","","","",""]
[{"$f":"IF(St='Abandoned Data'!B414,1+A413,0)","v":0},"WV","Upshur","Central Appl.",0,"Queen # 14 Mine","Unknown",2.4,1982,"Unknown","Unknown",3.72,-0.42,"","","","","","","","",""]
[{"$f":"IF(St='Abandoned Data'!B415,1+A414,0)","v":0},"WV","McDowell","Central Appl.","Pocahontas 3  & 4","SHANNON BRANCH MINE","Flooded",1.5,1985,"Flooded","No",3.72,-0.42,"","","","","","","","",""]
[{"$f":"IF(St='Abandoned Data'!B416,1+A415,0)","v":0},"WV","Harrison","Northern Appl.",0,"Pioneer Mine","Venting/Partially Flooded",2.2000000000000002,1982,"Flooded","No",3.72,-0.42,"","","","","","","","",""]
[{"$f":"IF(St='Abandoned Data'!B417,1+A416,0)","v":0},"WV","Taylor","Northern Appl.",0,"Keg No 1","Unknown",1.7,1982,"Unknown","Unknown",3.72,-0.42,"","","","","","","","",""]
[{"$f":"IF(St='Abandoned Data'!B418,1+A417,0)","v":0},"WV","Lewis","Central Appl.",0,"Mine No 1 (Jim Dandy Coals)","Unknown",2.4,1982,"Unknown","Unknown",3.72,-0.42,"","","","","","","","",""]
[{"$f":"IF(St='Abandoned Data'!B419,1+A418,0)","v":0},"WV","Nicholas","Central Appl.",0,"Hewett Fork No 1A","Unknown",2.4,1983,"Unknown","Unknown",3.72,-0.42,"","","","","","","","",""]
[{"$f":"IF(St='Abandoned Data'!B420,1+A419,0)","v":0},"WV","Ohio","Northern Appl.","Pittsburgh","Valley Camp No 3","Sealed/Recovering Methane",1,1983,"Sealed","Yes",3.72,-0.42,"","","","","","","","",""]
[{"$f":"IF(St='Abandoned Data'!B421,1+A420,0)","v":0},"WV","Marion","Northern Appl.","Pittsburgh","Bethlehem No. 41","Venting/Partially Flooded",0.75,1983,"Flooded","No",3.72,-0.42,"","","","","","","","",""]
[{"$f":"IF(St='Abandoned Data'!B422,1+A421,0)","v":0},"WV","Marion","Northern Appl.","Pittsburgh","JOANNE MINE","Venting",1.7,1983,"Venting","No",3.72,-0.42,"","","","","","","","",""]
[{"$f":"IF(St='Abandoned Data'!B423,1+A422,0)","v":0},"WV","Barbour","Northern Appl.",0,"Boulder Mine","Sealed",2.2000000000000002,1983,"Sealed","No",3.72,-0.42,"","","","","","","","",""]
[{"$f":"IF(St='Abandoned Data'!B424,1+A423,0)","v":0},"WV","Nicholas","Central Appl.",0,"Big Foot Coal 4-B Mine","Unknown",2.4,1983,"Unknown","Unknown",3.72,-0.42,"","","","","","","","",""]
[{"$f":"IF(St='Abandoned Data'!B425,1+A424,0)","v":0},"WV","Preston","Northern Appl.",0,"H & H Mine No 2","Sealed",2.2000000000000002,1983,"Sealed","No",3.72,-0.42,"","","","","","","","",""]
[{"$f":"IF(St='Abandoned Data'!B426,1+A425,0)","v":0},"WV","Kanawha","Central Appl.",0,"Cannelton No 8","Venting",0.35,1983,"Venting","No",3.72,-0.42,"","","","","","","","",""]
[{"$f":"IF(St='Abandoned Data'!B427,1+A426,0)","v":0},"WV","Nicholas","Central Appl.",0,"Stone Run 6A","Unknown",2.4,1983,"Unknown","Unknown",3.72,-0.42,"","","","","","","","",""]
[{"$f":"IF(St='Abandoned Data'!B428,1+A427,0)","v":0},"WV","Preston","Northern Appl.",0,"#3 Mine ","Sealed",2.2000000000000002,1983,"Sealed","No",3.72,-0.42,"","","","","","","","",""]
[{"$f":"IF(St='Abandoned Data'!B429,1+A428,0)","v":0},"WV","Upshur","Central Appl.",0,"Grand Badger No 1A Mine","Unknown",2.4,1983,"Unknown","Unknown",3.72,-0.42,"","","","","","","","",""]
[{"$f":"IF(St='Abandoned Data'!B430,1+A429,0)","v":0},"WV","Wyoming","Central Appl.","Pocahontas 3 & Gilbert","National Pocahontas","Venting/Partially Flooded",0.75,1984,"Flooded","No",3.72,-0.42,"","","","","","","","",""]
[{"$f":"IF(St='Abandoned Data'!B431,1+A430,0)","v":0},"WV","Raleigh","Central Appl.","Pocahontas 4","SLAB FORK NO 8","Flooded",0.5,1984,"Flooded","No",3.72,-0.42,"","","","","","","","",""]
[{"$f":"IF(St='Abandoned Data'!B432,1+A431,0)","v":0},"WV","Raleigh","Central Appl.","Pocahontas 3","SLAB FORK NO. 10 MINE","Flooded",0.6,1984,"Flooded","No",3.72,-0.42,"","","","","","","","",""]
[{"$f":"IF(St='Abandoned Data'!B433,1+A432,0)","v":0},"WV","Raleigh","Central Appl.","Pocahontas 4","WINDING GULF # 4","Flooded",0.2,1984,"Flooded","No",3.72,-0.42,"","","","","","","","",""]
[{"$f":"IF(St='Abandoned Data'!B434,1+A433,0)","v":0},"WV","Barbour","Northern Appl.",0,"BADGER NO. 15 MINE","Sealed",0.2,1984,"Sealed","No",3.72,-0.42,"","","","","","","","",""]
[{"$f":"IF(St='Abandoned Data'!B435,1+A434,0)","v":0},"WV","McDowell","Central Appl.","Pocahontas 3","GARY NO 10","Sealed",0.75,1984,"Sealed","No",3.72,-0.42,"","","","","","","","",""]
[{"$f":"IF(St='Abandoned Data'!B436,1+A435,0)","v":0},"WV","Kanawha","Central Appl.",0,"MADISON NO 1 MINE","Unknown",0.2,1984,"Unknown","Unknown",3.72,-0.42,"","","","","","","","",""]
[{"$f":"IF(St='Abandoned Data'!B437,1+A436,0)","v":0},"WV","Raleigh","Central Appl.",0,"ECCLES NO 6","Flooded",0.2,1985,"Flooded","No",3.72,-0.42,"","","","","","","","",""]
[{"$f":"IF(St='Abandoned Data'!B438,1+A437,0)","v":0},"WV","Barbour","Northern Appl.","Kittaning","BADGER NO 14 MINE","Sealed",0.3,1985,"Sealed","No",3.72,-0.42,"","","","","","","","",""]
[{"$f":"IF(St='Abandoned Data'!B439,1+A438,0)","v":0},"WV","McDowell","Central Appl.","Pocahontas 3 & 4","Bishop No. 36","Unknown",0.35,1985,"Unknown","Unknown",3.72,-0.42,"","","","","","","","",""]
[{"$f":"IF(St='Abandoned Data'!B440,1+A439,0)","v":0},"WV","Ohio","Central Appl.",0,"Valley Camp No 1","Unknown",0.25,1985,"Unknown","Unknown",3.72,-0.42,"","","","","","","","",""]
[{"$f":"IF(St='Abandoned Data'!B441,1+A440,0)","v":0},"WV","Raleigh","Central Appl.","Pocahontas 3","KEYSTONE NO 4 MINE","Flooded",0.2,1985,"Flooded","No",3.72,-0.42,"","","","","","","","",""]
[{"$f":"IF(St='Abandoned Data'!B442,1+A441,0)","v":0},"WV","Logan","Central Appl.","No. 2 Eagle","Dehue","Sealed",0.3,1985,"Sealed","No",3.72,-0.42,"","","","","","","","",""]
[{"$f":"IF(St='Abandoned Data'!B443,1+A442,0)","v":0},"WV","Marion","Northern Appl.",0,"Phillip Sporn No 1","Unknown",0.3,1985,"Unknown","Unknown",3.72,-0.42,"","","","","","","","",""]
[{"$f":"IF(St='Abandoned Data'!B444,1+A443,0)","v":0},"WV","McDowell","Central Appl.",0,"Little B Mine No 2","Sealed",2.4,1985,"Sealed","No",3.72,-0.42,"","","","","","","","",""]
[{"$f":"IF(St='Abandoned Data'!B445,1+A444,0)","v":0},"WV","Raleigh","Central Appl.",0,"KEYSTONE NO 5 MINE","Flooded",0.2,1985,"Flooded","No",3.72,-0.42,"","","","","","","","",""]
[{"$f":"IF(St='Abandoned Data'!B446,1+A445,0)","v":0},"WV","McDowell","Central Appl.",0,"Bishop No. 33-37","Unknown",0.75,1986,"Unknown","Unknown",3.72,-0.42,"","","","","","","","",""]
[{"$f":"IF(St='Abandoned Data'!B447,1+A446,0)","v":0},"WV","Nicholas","Central Appl.","Kittaning","Birch No 1","Unknown",0.35,1986,"Unknown","Unknown",3.72,-0.42,"","","","","","","","",""]
[{"$f":"IF(St='Abandoned Data'!B448,1+A447,0)","v":0},"WV","Nicholas","Central Appl.",0,"SEWELL #1A","Venting/Partially Flooded",0.2,1986,"Flooded","No",3.72,-0.42,"","","","","","","","",""]
[{"$f":"IF(St='Abandoned Data'!B449,1+A448,0)","v":0},"WV","McDowell","Central Appl.",0,"Cannelton No. 3 & 4","Venting/Partially Flooded",0.2,1986,"Flooded","No",3.72,-0.42,"","","","","","","","",""]
[{"$f":"IF(St='Abandoned Data'!B450,1+A449,0)","v":0},"WV","Raleigh","Central Appl.",0,"SKELTON MINE","Flooded",0.35,1986,"Flooded","No",3.72,-0.42,"","","","","","","","",""]
[{"$f":"IF(St='Abandoned Data'!B451,1+A450,0)","v":0},"WV","Boone","Central Appl.","Cedar Grove","HAMPTON NO 3 MINE","Flooded",0.4,1987,{"$f":"IF(G451=\"Unknown\",\"Unknown\",VLOOKUP(G451,$B$541:$C$557,2,FALSE))","v":"Flooded"},{"$f":"IF(J451=\"unknown\",\"Unknown\",VLOOKUP(G451,$B$541:$D$557,3,FALSE))","v":"No"},3.72,-0.42,"","","","","","","","",""]
[{"$f":"IF(St='Abandoned Data'!B452,1+A451,0)","v":0},"WV","McDowell","Central Appl.",0,"Seneca Mine","Unknown",0.6,1987,"Unknown","Unknown",3.72,-0.42,"","","","","","","","",""]
[{"$f":"IF(St='Abandoned Data'!B453,1+A452,0)","v":0},"WV","Boone","Central Appl.","Pond Creek","Wharton No. 4","Unknown",0.2,1987,"Unknown","Unknown",3.72,-0.42,"","","","","","","","",""]
[{"$f":"IF(St='Abandoned Data'!B454,1+A453,0)","v":0},"WV","Marion","Northern Appl.","Pittsburgh","Federal No 1","Flooded",3.8,1987,"Flooded","No",3.72,-0.42,"","","","","","","","",""]
[{"$f":"IF(St='Abandoned Data'!B455,1+A454,0)","v":0},"WV","McDowell","Central Appl.",0,"Keystone No 1 Mine","Unknown",0.2,1987,"Unknown","Unknown",3.72,-0.42,"","","","","","","","",""]
[{"$f":"IF(St='Abandoned Data'!B456,1+A455,0)","v":0},"WV","Wyoming","Central Appl.","Pocahontas 3  ","ITMANN #3","Sealed",1.5,1987,"Sealed","No",3.72,-0.42,"","","","","","","","",""]
[{"$f":"IF(St='Abandoned Data'!B457,1+A456,0)","v":0},"WV","Boone","Central Appl.",0,"Quinland No. 1","Unknown",0.3,1987,"Unknown","Unknown",3.72,-0.42,"","","","","","","","",""]
[{"$f":"IF(St='Abandoned Data'!B458,1+A457,0)","v":0},"WV","Fayette","Central Appl.","Sewell","Siltix","Flooded",0.3,1987,"Flooded","No",3.72,-0.42,"","","","","","","","",""]
[{"$f":"IF(St='Abandoned Data'!B459,1+A458,0)","v":0},"WV","Kanawha","Central Appl.","No. 2 gas","Lady Dunn No 105","Venting/Partially Flooded",0.5,1987,"Flooded","No",3.72,-0.42,"","","","","","","","",""]
[{"$f":"IF(St='Abandoned Data'!B460,1+A459,0)","v":0},"WV","McDowell","Central Appl.","Pittsburgh","Ogla","Flooded",2.8,1988,"Flooded","No",3.72,-0.42,"","","","","","","","",""]
[{"$f":"IF(St='Abandoned Data'!B461,1+A460,0)","v":0},"WV","Wyoming","Central Appl.","Beckley","Beckley No 2","Venting/Partially Flooded",1,1988,"Flooded","No",3.72,-0.42,"","","","","","","","",""]
[{"$f":"IF(St='Abandoned Data'!B462,1+A461,0)","v":0},"WV","McDowell","Central Appl.",0,"No 4 Mine","Sealed",2.4,1988,"Sealed","No",3.72,-0.42,"","","","","","","","",""]
[{"$f":"IF(St='Abandoned Data'!B463,1+A462,0)","v":0},"WV","Nicholas","Central Appl.","Sewell","Sewell No 1","Venting/Partially Flooded",0.4,1988,"Flooded","No",3.72,-0.42,"","","","","","","","",""]
[{"$f":"IF(St='Abandoned Data'!B464,1+A463,0)","v":0},"WV","Barbour","Northern Appl.",0,"Diamond No. 1","Unknown",1.4,1989,"Unknown","Unknown",3.72,-0.42,"","","","","","","","",""]
[{"$f":"IF(St='Abandoned Data'!B465,1+A464,0)","v":0},"WV","Raleigh","Central Appl.","Pocahontas 3","Macalpin Mine","Flooded",0.4,1985,"Flooded","No",3.72,-0.42,"","","","","","","","",""]
[{"$f":"IF(St='Abandoned Data'!B466,1+A465,0)","v":0},"WV","Monongalia","Northern Appl.","Pittsburgh","Pursglove No. 15","Sealed/Recovering Methane",2.1,1989,"Sealed","Yes",3.72,-0.42,"","","","","","","","",""]
[{"$f":"IF(St='Abandoned Data'!B467,1+A466,0)","v":0},"WV","Raleigh","Central Appl.",0,"Bonny","Sealed/Recovery Pending",3.4,1990,"Sealed","No",3.72,-0.42,"","","","","","","","",""]
[{"$f":"IF(St='Abandoned Data'!B468,1+A467,0)","v":0},"WV","Nicholas","Central Appl.","Sewell","Donegan No 10","Venting/Partially Flooded",0.3,1990,"Flooded","No",3.72,-0.42,"","","","","","","","",""]
[{"$f":"IF(St='Abandoned Data'!B469,1+A468,0)","v":0},"WV","Mingo","Central Appl.",0,"No 19","Unknown",0.2,1990,"Unknown","Unknown",3.72,-0.42,"","","","","","","","",""]
[{"$f":"IF(St='Abandoned Data'!B470,1+A469,0)","v":0},"WV","Logan","Central Appl.","Cedar Grove","Guyan No 1","Flooded",0.2,1990,"Flooded","No",3.72,-0.42,"","","","","","","","",""]
[{"$f":"IF(St='Abandoned Data'!B471,1+A470,0)","v":0},"WV","Boone","Central Appl.","Cedar Grove","Hampton No. 4","Flooded",0.35,1991,"Flooded","No",3.72,-0.42,"","","","","","","","",""]
[{"$f":"IF(St='Abandoned Data'!B472,1+A471,0)","v":0},"WV","Raleigh","Central Appl.",0,"No. 4 Mine (Hansford Smokeless Collieries)","Venting/Partially Flooded",2.9,1991,"Flooded","No",3.72,-0.42,{"$f":"IF(ISERROR((VLOOKUP(ROW(A470),$A$3:$M$533,1,0))),\"\",(VLOOKUP(ROW(A470),$A$3:$M$533,1,0)))","v":""},{"$f":"IF(ISERROR(PROPER(VLOOKUP(ROW(A470),$A$3:$M$533,6,0))),\"\",PROPER(VLOOKUP(ROW(A470),$A$3:$M$533,6,0)))","v":""},{"$f":"IF(ISERROR(PROPER(VLOOKUP(ROW(A470),$A$3:$M$533,3,0))),\"\",PROPER(VLOOKUP(ROW(A470),$A$3:$M$533,3,0)))","v":""},{"$f":"IF(ISERROR(PROPER(VLOOKUP(ROW(A470),$A$3:$M$533,10,0))),\"\",PROPER(VLOOKUP(ROW(A470),$A$3:$M$533,10,0)))","v":""},{"$f":"IF(ISERROR(PROPER(VLOOKUP(ROW(A470),$A$3:$M$533,9,0))),\"\",PROPER(VLOOKUP(ROW(A470),$A$3:$M$533,9,0)))","v":""},{"$f":"IF(ISERROR(PROPER(VLOOKUP(ROW(A470),$A$3:$M$533,4,0))),\"\",PROPER(VLOOKUP(ROW(A470),$A$3:$M$533,4,0)))","v":""},{"$f":"IF(ISERROR(VLOOKUP(ROW(A470),$A$3:$M$533,8,0)),\"\",VLOOKUP(ROW(A470),$A$3:$M$533,8,0))","v":""},{"$f":"IF(ISERROR(VLOOKUP(ROW(A470),$A$3:$M$533,12,0)),\"\",VLOOKUP(ROW(A470),$A$3:$M$533,12,0))","v":""},{"$f":"IF(ISERROR(VLOOKUP(ROW(A470),$A$3:$M$533,13,0)),\"\",VLOOKUP(ROW(A470),$A$3:$M$533,13,0))","v":""}]
[{"$f":"IF(St='Abandoned Data'!B473,1+A472,0)","v":0},"WV","McDowell","Central Appl.","Pocahontas 3","US Steel No. 2","Venting/Partially Flooded",0.9,1991,"Flooded","No",3.72,-0.42,"","","","","","","","",""]
[{"$f":"IF(St='Abandoned Data'!B474,1+A473,0)","v":0},"WV","Nicholas","Central Appl.",0,"Long Run Deep Mine No 1","Unknown",2.4,1991,"Unknown","Unknown",3.72,-0.42,"","","","","","","","",""]
[{"$f":"IF(St='Abandoned Data'!B475,1+A474,0)","v":0},"WV","Boone","Central Appl.","Taggart","Birchfield No. 1","Venting",1.5,1992,"Venting","No",3.72,-0.42,"","","","","","","","",""]
[{"$f":"IF(St='Abandoned Data'!B476,1+A475,0)","v":0},"WV","Marion","Northern Appl.",0,"Matinka No. 1","Unknown",0.2,1992,"Unknown","Unknown",3.72,-0.42,"","","","","","","","",""]
[{"$f":"IF(St='Abandoned Data'!B477,1+A476,0)","v":0},"WV","Wyoming","Central Appl.","Pocahontas 3","Itmann No. 1 & Shop","Sealed",0.35,1992,"Sealed","No",3.72,-0.42,"","","","","","","","",""]
[{"$f":"IF(St='Abandoned Data'!B478,1+A477,0)","v":0},"WV","Raleigh","Central Appl.",0,"Beckley","Flooded",3.7,1992,"Flooded","No",3.72,-0.42,"","","","","","","","",""]
[{"$f":"IF(St='Abandoned Data'!B479,1+A478,0)","v":0},"WV","Raleigh","Central Appl.","Pocahontas 3","Keystone No. 2","Flooded",0.6,1993,"Flooded","No",3.72,-0.42,"","","","","","","","",""]
[{"$f":"IF(St='Abandoned Data'!B480,1+A479,0)","v":0},"WV","Monongalia","Northern Appl.","Pittsburgh","Blacksville No. 1","Sealed/Recovering Methane",4.8,1993,"Sealed","Yes",3.72,-0.42,"","","","","","","","",""]
[{"$f":"IF(St='Abandoned Data'!B481,1+A480,0)","v":0},"WV","Nicholas","Central Appl.","Alma","Mine No 1 (PEI Inc)","Unknown",2.4,1993,"Unknown","Unknown",3.72,-0.42,"","","","","","","","",""]
[{"$f":"IF(St='Abandoned Data'!B482,1+A481,0)","v":0},"WV","Marion","Northern Appl.",0,"Tygart River","Flooded",0.35,1993,"Flooded","No",3.72,-0.42,"","","","","","","","",""]
[{"$f":"IF(St='Abandoned Data'!B483,1+A482,0)","v":0},"WV","Marshall","Northern Appl.","Pittsburgh","Ireland","Sealed/Recovering Methane",1.5,1994,"Sealed","Yes",3.72,-0.42,"","","","","","","","",""]
[{"$f":"IF(St='Abandoned Data'!B484,1+A483,0)","v":0},"WV","Nicholas","Central Appl.",0,"Bald Eagle No 1","Unknown",0.1,1994,"Unknown","Unknown",3.72,-0.42,"","","","","","","","",""]
[{"$f":"IF(St='Abandoned Data'!B485,1+A484,0)","v":0},"WV","Wyoming","Central Appl.",0,"Shawnee Mine","Venting/Partially Flooded",2.2000000000000002,1994,"Flooded","No",3.72,-0.42,"","","","","","","","",""]
[{"$f":"IF(St='Abandoned Data'!B486,1+A485,0)","v":0},"WV","Mingo","Central Appl.",0,"Rocky Hollow","Unknown",0.35,1994,"Unknown","Unknown",3.72,-0.42,"","","","","","","","",""]
[{"$f":"IF(St='Abandoned Data'!B487,1+A486,0)","v":0},"WV","McDowell","Central Appl.",0,"Angus Mine","Venting",0.35,1995,"Venting","No",3.72,-0.42,"","","","","","","","",""]
[{"$f":"IF(St='Abandoned Data'!B488,1+A487,0)","v":0},"WV","Wyoming","Central Appl.",0,"KOPPERSTON NO. 1","Sealed",0.35,1996,"Sealed","No",3.72,-0.42,"","","","","","","","",""]
[{"$f":"IF(St='Abandoned Data'!B489,1+A488,0)","v":0},"WV","Monongalia","Northern Appl.","Pittsburgh","Arkwright No 1","Sealed/Recovering Methane",7,1996,"Sealed","Yes",3.72,-0.42,"","","","","","","","",""]
[{"$f":"IF(St='Abandoned Data'!B490,1+A489,0)","v":0},"WV","Monongalia","Northern Appl.","Pittsburgh","Osage No. 3","Sealed/Recovering Methane",6.3,1996,"Sealed","Yes",3.72,-0.42,"","","","","","","","",""]
[{"$f":"IF(St='Abandoned Data'!B491,1+A490,0)","v":0},"WV","Boone","Central Appl.","Taggart","Oasis No. 1","Unknown",1.1000000000000001,1996,"Unknown","Unknown",3.72,-0.42,"","","","","","","","",""]
[{"$f":"IF(St='Abandoned Data'!B492,1+A491,0)","v":0},"WV","Fayette","Central Appl.",0,"New River","Unknown",0.35,1996,"Unknown","Unknown",3.72,-0.42,"","","","","","","","",""]
[{"$f":"IF(St='Abandoned Data'!B493,1+A492,0)","v":0},"WV","Webster","Central Appl.",0,"Smoot","Unknown",0.35,1997,"Unknown","Unknown",3.72,-0.42,"","","","","","","","",""]
[{"$f":"IF(St='Abandoned Data'!B494,1+A493,0)","v":0},"WV","Nicholas","Central Appl.",0,"Bells Creek Mine No. 1","Venting",0.5,1998,"Venting","No",3.72,-0.42,"","","","","","","","",""]
[{"$f":"IF(St='Abandoned Data'!B495,1+A494,0)","v":0},"WV","Raleigh","Central Appl.","Beckley","Maple Meadow Mine","Sealed/Recovery Pending",3,1998,"Sealed","No",3.72,-0.42,"","","","","","","","",""]
[{"$f":"IF(St='Abandoned Data'!B496,1+A495,0)","v":0},"WV","Kanawha","Central Appl.",0,"Lightfoot No. 1","Unknown",0.2,2000,"Unknown","Unknown",3.72,-0.42,"","","","","","","","",""]
[{"$f":"IF(St='Abandoned Data'!B497,1+A496,0)","v":0},"WV","Nicholas","Central Appl.",0,"Hutchinsons Branch Mine No. 1","Unknown",0.25,2000,"Unknown","Unknown",3.72,-0.42,"","","","","","","","",""]
[{"$f":"IF(St='Abandoned Data'!B498,1+A497,0)","v":0},"WV","Raleigh","Central Appl.",0,"Tommy Creek #1","Flooded",0.35,2000,"Flooded","No",3.72,-0.42,"","","","","","","","",""]
[{"$f":"IF(St='Abandoned Data'!B499,1+A498,0)","v":0},"WV","Boone","Central Appl.",0,"Alma Mine","Unknown",0.5,2001,"Unknown","Unknown",3.72,-0.42,"","","","","","","","",""]
[{"$f":"IF(St='Abandoned Data'!B500,1+A499,0)","v":0},"WV","Mingo","Central Appl.",0,"Mine #1 (Sycamore Fuels)","Unknown",0.1,2001,"Unknown","Unknown",3.72,-0.42,"","","","","","","","",""]
[{"$f":"IF(St='Abandoned Data'!B501,1+A500,0)","v":0},"WV","Wayne","Central Appl.",0,"Deep Mine No. 3","Unknown",0.1,2002,"Unknown","Unknown",3.72,-0.42,"","","","","","","","",""]
[{"$f":"IF(St='Abandoned Data'!B502,1+A501,0)","v":0},"WV","Preston","Northern Appl.",0,"Whitetail Mine","Sealed",0.6,2002,"Sealed","No",3.72,-0.42,"","","","","","","","",""]
[{"$f":"IF(St='Abandoned Data'!B503,1+A502,0)","v":0},"WV","Upshur","Central Appl.",0,"Spruce No. 2 Mine","Unknown",0.2,2002,"Unknown","Unknown",3.72,-0.42,"","","","","","","","",""]
[{"$f":"IF(St='Abandoned Data'!B504,1+A503,0)","v":0},"WV","Wyoming","Central Appl.",0,"No. 1 Mine (Baylor Mining)","Unknown",0.2,2002,"Unknown","Unknown",3.72,-0.42,"","","","","","","","",""]
[{"$f":"IF(St='Abandoned Data'!B505,1+A504,0)","v":0},"WV","Boone","Central Appl.",0,"WHITE KNIGHT","Unknown",0.1,2002,"Unknown","Unknown",3.72,-0.42,"","","","","","","","",""]
[{"$f":"IF(St='Abandoned Data'!B506,1+A505,0)","v":0},"WV","Raleigh","Central Appl.",0,"Mine No. 1 (Blackhawk Mining)","Unknown",0.6,2002,"Unknown","Unknown",3.72,-0.42,"","","","","","","","",""]
[{"$f":"IF(St='Abandoned Data'!B507,1+A506,0)","v":0},"WV","Raleigh","Central Appl.",0,"Baylor Mine","Unknown",0.736359638888889,2004,"Unknown","Unknown",3.72,-0.42,"","","","","","","","",""]
[{"$f":"IF(St='Abandoned Data'!B508,1+A507,0)","v":0},"WV","Brooke","Central Appl.",0,"Windsor Mine","Sealed/Recovering Methane",0.49246022222222219,2005,"Sealed","Yes",3.72,-0.42,"","","","","","","","",""]
[{"$f":"IF(St='Abandoned Data'!B509,1+A508,0)","v":0},"WV","Boone","Central Appl.",0,"No. 68","Unknown",0.81,2005,"Unknown","Unknown",3.72,-0.42,"","","","","","","","",""]
[{"$f":"IF(St='Abandoned Data'!B510,1+A509,0)","v":0},"WV","Upshur","Northern Appl.",0,"Spruce Fork Mine No 1","Unknown",0.31736125000000004,2006,"Unknown","Unknown",3.72,-0.42,"","","","","","","","",""]
[{"$f":"IF(St='Abandoned Data'!B511,1+A510,0)","v":0},"WV","Harrison","Northern Appl.",0,"#3 Mine","Unknown",0.11978767123287672,2007,"Unknown","Unknown",3.72,-0.42,"","","","","","","","",""]
[{"$f":"IF(St='Abandoned Data'!B512,1+A511,0)","v":0},"WV","Wayne","Central Appl.",0,"Camp Creek No. 1","Unknown",9.8438356164383567E-2,2007,"Unknown","Unknown",3.72,-0.42,"","","","","","","","",""]
[{"$f":"IF(St='Abandoned Data'!B513,1+A512,0)","v":0},"WV","Boone","Central Appl.",0,"No 2 Mine","Unknown",0.87397397260273968,2008,"Unknown","Unknown",3.72,-0.42,"","","","","","","","",""]
[{"$f":"IF(St='Abandoned Data'!B514,1+A513,0)","v":0},"WV","Lincoln","Central Appl.",0,"Tiny Creek No. 2 Mine","Unknown",0.19178082191780821,2008,"Unknown","Unknown",3.72,-0.42,"","","","","","","","",""]
[{"$f":"IF(St='Abandoned Data'!B515,1+A514,0)","v":0},"WV","Upshur","Northern Appl.",0,"Sago Mine","Unknown",0.20273972602739726,2009,{"$f":"IF(G515=\"Unknown\",\"Unknown\",VLOOKUP(G515,$B$541:$C$557,2,FALSE))","v":"Unknown"},{"$f":"IF(J515=\"unknown\",\"Unknown\",VLOOKUP(G515,$B$541:$D$557,3,FALSE))","v":"Unknown"},3.72,-0.42,"","","","","","","","",""]
[{"$f":"IF(St='Abandoned Data'!B516,1+A515,0)","v":0},"WV","Clay","Central Appl.",0,"Little Eagle Mine No. 1","Unknown",0.11506849315068493,2009,"Unknown","Unknown",3.72,-0.42,"","","","","","","","",""]
[{"$f":"IF(St='Abandoned Data'!B517,1+A516,0)","v":0},"WV","Preston","Northern Appl.",0,"Whitetail Kittanning Mine","Unknown",1.4625300240011416,2010,"Unknown","Unknown",3.72,-0.42,"","","","","","","","",""]
[{"$f":"IF(St='Abandoned Data'!B518,1+A517,0)","v":0},"WV","Kanawha","Central Appl.",0,"Campbell's Creek #7","Unknown",0.28789999999999999,2012,"Unknown","Unknown",3.72,-0.42,"","","","","","","","",""]
[{"$f":"IF(St='Abandoned Data'!B519,1+A518,0)","v":0},"WV","Boone","Central Appl.",0,"Rivers Edge Mine","Unknown",0.20514285714285713,2012,"Unknown","Unknown",3.72,-0.42,"","","","","","","","",""]
[{"$f":"IF(St='Abandoned Data'!B520,1+A519,0)","v":0},"WV","Raleigh","Central Appl.",0,"Upper Big Branch Mine-South","Sealed",0.86235882352941173,2012,"Sealed","No",3.72,-0.42,"","","","","","","","",""]
[{"$f":"IF(St='Abandoned Data'!B521,1+A520,0)","v":0},"WV","Boone","Central Appl.",0,"Candice 2","Sealed",0.45557999999999998,2012,"Sealed","No",3.72,-0.42,"","","","","","","","",""]
[{"$f":"IF(St='Abandoned Data'!B522,1+A521,0)","v":0},"WV","Monongalia","Northern Appl.",0,"Humphrey No. 7","Sealed/4Recovering Methane",4.6586600624999992,2008,{"$error":"#N/A"},{"$error":"#N/A"},3.72,-0.42,"","","","","","","","",""]
[{"$f":"IF(St='Abandoned Data'!B523,1+A522,0)","v":0},"WV","Mingo","Central Appl.",0,"Mountaineer Mine","Sealed",0.13600000000000001,2005,"Sealed","No",3.72,-0.42,"","","","","","","","",""]
[{"$f":"IF(St='Abandoned Data'!B524,1+A523,0)","v":0},"WV","Marion","Northern Appl.",0,"Martinka No 1","Unknown",0.20000000000000004,1992,"Unknown","Unknown",3.72,-0.42,"","","","","","","","",""]
[{"$f":"IF(St='Abandoned Data'!B525,1+A524,0)","v":0},"WV","Boone","Central Appl.",0,"Harris No 1","Flooded",0.44834336764705879,2014,"Flooded","No",3.72,-0.42,"","","","","","","","",""]
[{"$f":"IF(St='Abandoned Data'!B526,1+A525,0)","v":0},"WV","Kanawha","Central Appl.",0,"Mammoth #2 Gas","Flooded",0.31019392857142863,2014,"Flooded","No",3.72,-0.42,"","","","","","","","",""]
[{"$f":"IF(St='Abandoned Data'!B527,1+A526,0)","v":0},"WV","Boone","Central Appl.",0,"Justice #1","Flooded",1.3953541785714283,2014,"Flooded","No",3.72,-0.42,"","","","","","","","",""]
[{"$f":"IF(St='Abandoned Data'!B528,1+A527,0)","v":0},"WV","Lincoln","Central Appl.",0,"Fork Creek No. 1","Unknown",0.54581650000000004,2014,"Unknown","Unknown",3.72,-0.42,"","","","","","","","",""]
[{"$f":"IF(St='Abandoned Data'!B529,1+A528,0)","v":0},"WV","Wyoming","Central Appl.",0,"Wyoming No 1","Unknown",0.107741,2015,"Unknown","Unknown",3.72,-0.42,"","","","","","","","",""]
[{"$f":"IF(St='Abandoned Data'!B530,1+A529,0)","v":0},"WV","Raleigh","Central Appl.",0,"Sewell Mine","Sealed",0.18503104166666665,2015,"Sealed","No",3.72,-0.42,"","","","","","","","",""]
[{"$f":"IF(St='Abandoned Data'!B531,1+A530,0)","v":0},"WV","Monongalia","Central Appl.",0,"Prime No. 1 Mine","Unknown",0.15295396778181819,2020,"Unknown","Unknown",3.72,-0.42]
[{"$f":"IF(St='Abandoned Data'!B532,1+A531,0)","v":0},"WV","Monongalia","Northern Appl.",0,"Federal No 2","Unknown",0.29969694400000052,2021,"Unknown","Unknown",3.72,-0.42]
[]
[]
[]
[]
[]
[]
[]
[]
[null,"Venting","Venting","No"]
[null,"venting/recovering gas","Venting","Yes"]
[null,"adjacent to strip mine","Venting","No"]
[null,"sealed","Sealed","No"]
[null,"sealed/adj to dianne mine","Sealed","No"]
[null,"sealed/filled","Sealed","No"]
[null,"sealed/recovering methane","Sealed","Yes"]
[null,"temporary seal","Sealed","No"]
[null,"sealed/pumping water","Sealed","No"]
[null,"sealed/recovery pending","Sealed","No"]
[null,"flooded","Flooded","No"]
[null,"flooded/pumping water","Flooded","No"]
[null,"sealed/partially flooded","Flooded","No"]
[null,"venting/flooded","Flooded","No"]
[null,"venting/partially flooded","Flooded","No"]
[null,"recovering methane/partially flooded","Flooded","Yes"]
[null,"flooding/recovering methane","Flooded","Yes"]

{"sheet":"Abandoned Data Inputs","index":8,"n_rows":250,"n_cols":85,"rows_kept":250,"cut":false,"hidden":false,"merged":[]}
[]
["Default Data Inputs and Emissions",null,null,null,null,null,null,null,null,null,null,null,null,null,null,null,null,"Default Distribution Table for Unknowns",null,null,null,null,null,null,"Emissions By Year (Gg) for Default Data",null,null,null,null,null,null,null,null,null,null,null,null,null,null,null,null,null,null,null,null,null,null,null,null,null,null,null,null,null,null,null,null,null,null,null,"Only used for macro that produces projections, keep hidden"]
["Mine Listed","Mine Name","Basin","Year Abandoned","Status","Percent Sealed","Methane Recovered","Active Emiss. (mmcfd) ","Constant A","Constant B","Emissions",null,null,null,null,null,null,"Current State",null,"Flooded","Vented","Sealed",null,null,1990,1991,1992,1993,1994,1995,1996,1997,1998,1999,2000,2001,2002,2003,2004,2005,2006,2007,2008,2009,2010,2011,2012,2013,2014,2015,2016,2017,2018,2019,2020,{"$f":"BC3+1","v":2021},{"$f":"BD3+1","v":2022},2023,2024,2025,2026,2027,2028,2029,2030,2031,2032,2033,2034,2035,2036,2037,2038,2039,2040,2041,2042,2043,2044,2045,2046,2047,2048,2049,2050]
[1,{"$f":"'CH4 from Abandoned Coal Mines'!D5","v":""},{"$f":"'CH4 from Abandoned Coal Mines'!H5","v":""},{"$f":"IFERROR(VALUE('CH4 from Abandoned Coal Mines'!J5), \"\")","v":""},{"$f":"IF('CH4 from Abandoned Coal Mines'!N5>0,'CH4 from Abandoned Coal Mines'!N5,'CH4 from Abandoned Coal Mines'!L5)","v":""},{"$f":"'CH4 from Abandoned Coal Mines'!P5","v":0},{"$f":"'CH4 from Abandoned Coal Mines'!R5","v":0},{"$f":"VLOOKUP(B4,'Abandoned Data'!$O$3:$V$187,6,FALSE)","v":""},{"$f":"VLOOKUP(B4,'Abandoned Data'!$O$3:$V$187,7,FALSE)","v":""},{"$f":"VLOOKUP(B4,'Abandoned Data'!$O$3:$V$187,8,FALSE)","v":""},{"$f":"IFERROR(IF(E4=\"Venting\",((H4*mmcfd_m3)*((1+I4*($BC$3-D4))^J4)-G4)*Gg_m3,IF(E4=\"Sealed\",(((H4*mmcfd_m3)*((1+I4*($BC$3-D4))^J4)*(1-F4)-G4)*Gg_m3),IF(E4=\"Flooded\",((H4*mmcfd_m3)*EXP(-0.6728*($BC$3-D4))*Gg_m3),((H4*mmcfd_m3)*((1+I4*($BC$3-D4))^J4)-G4)*Gg_m3+(((H4*mmcfd_m3)*((1+I4*($BC$3-D4))^J4)*(1-0.8)-G4)*Gg_m3)+((H4*mmcfd_m3)*EXP(-0.6728*($BC$3-D4))*Gg_m3)))), \"\")","v":""},null,"a. Vented:  q = qi × (1 + aT)b ",null,null,null,null,{"$f":"constants!K1","v":"XX"},null,{"$f":"VLOOKUP($R$4,$R$8:$V$27,3,FALSE)","v":{"$error":"#N/A"}},{"$f":"VLOOKUP($R$4,$R$8:$V$27,4,FALSE)","v":{"$error":"#N/A"}},{"$f":"VLOOKUP($R$4,$R$8:$V$27,5,FALSE)","v":{"$error":"#N/A"}},null,1,{"$f":"IF(ISERROR(IF($D4<Y$3,IF($E4=\"Venting\",(($H4*mmcfd_m3)*((1+$I4*(Y$3-$D4))^$J4)-$G4)*Gg_m3,IF($E4=\"Sealed\",((($H4*mmcfd_m3)*((1+$I4*(Y$3-$D4))^$J4)*(1-$F4)-$G4)*Gg_m3),IF($E4=\"Flooded\",(($H4*mmcfd_m3)*EXP(-0.6728*(Y$3-$D4))*Gg_m3),(($H4*mmcfd_m3)*((1+$I4*(Y$3-$D4))^$J4)-$G4)*Gg_m3+((($H4*mmcfd_m3)*((1+$I4*(Y$3-$D4))^$J4)*(1-0.8)-$G4)*Gg_m3)+(($H4*mmcfd_m3)*EXP(-0.6728*(Y$3-$D4))*Gg_m3)))),0)),0,IF($D4<Y$3,IF($E4=\"Venting\",(($H4*mmcfd_m3)*((1+$I4*(Y$3-$D4))^$J4)-$G4)*Gg_m3,IF($E4=\"Sealed\",((($H4*mmcfd_m3)*((1+$I4*(Y$3-$D4))^$J4)*(1-$F4)-$G4)*Gg_m3),IF($E4=\"Flooded\",(($H4*mmcfd_m3)*EXP(-0.6728*(Y$3-$D4))*Gg_m3),(($H4*mmcfd_m3)*((1+$I4*(Y$3-$D4))^$J4)-$G4)*Gg_m3+((($H4*mmcfd_m3)*((1+$I4*(Y$3-$D4))^$J4)*(1-0.8)-$G4)*Gg_m3)+(($H4*mmcfd_m3)*EXP(-0.6728*(Y$3-$D4))*Gg_m3)))),0))","v":0},0,0,0,0,0,0,0,0,0,{"$f":"IF(ISERROR(IF($D4<AI$3,IF($E4=\"Venting\",(($H4*mmcfd_m3)*((1+$I4*(AI$3-$D4))^$J4)-$G4)*Gg_m3,IF($E4=\"Sealed\",((($H4*mmcfd_m3)*((1+$I4*(AI$3-$D4))^$J4)*(1-$F4)-$G4)*Gg_m3),IF($E4=\"Flooded\",(($H4*mmcfd_m3)*EXP(-0.6728*(AI$3-$D4))*Gg_m3),(($H4*mmcfd_m3)*((1+$I4*(AI$3-$D4))^$J4)-$G4)*Gg_m3+((($H4*mmcfd_m3)*((1+$I4*(AI$3-$D4))^$J4)*(1-0.8)-$G4)*Gg_m3)+(($H4*mmcfd_m3)*EXP(-0.6728*(AI$3-$D4))*Gg_m3)))),0)),0,IF($D4<AI$3,IF($E4=\"Venting\",(($H4*mmcfd_m3)*((1+$I4*(AI$3-$D4))^$J4)-$G4)*Gg_m3,IF($E4=\"Sealed\",((($H4*mmcfd_m3)*((1+$I4*(AI$3-$D4))^$J4)*(1-$F4)-$G4)*Gg_m3),IF($E4=\"Flooded\",(($H4*mmcfd_m3)*EXP(-0.6728*(AI$3-$D4))*Gg_m3),(($H4*mmcfd_m3)*((1+$I4*(AI$3-$D4))^$J4)-$G4)*Gg_m3+((($H4*mmcfd_m3)*((1+$I4*(AI$3-$D4))^$J4)*(1-0.8)-$G4)*Gg_m3)+(($H4*mmcfd_m3)*EXP(-0.6728*(AI$3-$D4))*Gg_m3)))),0))","v":0},0,0,0,0,0,0,0,0,0,{"$f":"IF(ISERROR(IF($D4<AS$3,IF($E4=\"Venting\",(($H4*mmcfd_m3)*((1+$I4*(AS$3-$D4))^$J4)-$G4)*Gg_m3,IF($E4=\"Sealed\",((($H4*mmcfd_m3)*((1+$I4*(AS$3-$D4))^$J4)*(1-$F4)-$G4)*Gg_m3),IF($E4=\"Flooded\",(($H4*mmcfd_m3)*EXP(-0.6728*(AS$3-$D4))*Gg_m3),(($H4*mmcfd_m3)*((1+$I4*(AS$3-$D4))^$J4)-$G4)*Gg_m3+((($H4*mmcfd_m3)*((1+$I4*(AS$3-$D4))^$J4)*(1-0.8)-$G4)*Gg_m3)+(($H4*mmcfd_m3)*EXP(-0.6728*(AS$3-$D4))*Gg_m3)))),0)),0,IF($D4<AS$3,IF($E4=\"Venting\",(($H4*mmcfd_m3)*((1+$I4*(AS$3-$D4))^$J4)-$G4)*Gg_m3,IF($E4=\"Sealed\",((($H4*mmcfd_m3)*((1+$I4*(AS$3-$D4))^$J4)*(1-$F4)-$G4)*Gg_m3),IF($E4=\"Flooded\",(($H4*mmcfd_m3)*EXP(-0.6728*(AS$3-$D4))*Gg_m3),(($H4*mmcfd_m3)*((1+$I4*(AS$3-$D4))^$J4)-$G4)*Gg_m3+((($H4*mmcfd_m3)*((1+$I4*(AS$3-$D4))^$J4)*(1-0.8)-$G4)*Gg_m3)+(($H4*mmcfd_m3)*EXP(-0.6728*(AS$3-$D4))*Gg_m3)))),0))","v":0},0,0,0,0,0,0,0,0,0,{"$f":"IF(ISERROR(IF($D4<BC$3,IF($E4=\"Venting\",(($H4*mmcfd_m3)*((1+$I4*(BC$3-$D4))^$J4)-$G4)*Gg_m3,IF($E4=\"Sealed\",((($H4*mmcfd_m3)*((1+$I4*(BC$3-$D4))^$J4)*(1-$F4)-$G4)*Gg_m3),IF($E4=\"Flooded\",(($H4*mmcfd_m3)*EXP(-0.6728*(BC$3-$D4))*Gg_m3),(($H4*mmcfd_m3)*((1+$I4*(BC$3-$D4))^$J4)-$G4)*Gg_m3+((($H4*mmcfd_m3)*((1+$I4*(BC$3-$D4))^$J4)*(1-0.8)-$G4)*Gg_m3)+(($H4*mmcfd_m3)*EXP(-0.6728*(BC$3-$D4))*Gg_m3)))),0)),0,IF($D4<BC$3,IF($E4=\"Venting\",(($H4*mmcfd_m3)*((1+$I4*(BC$3-$D4))^$J4)-$G4)*Gg_m3,IF($E4=\"Sealed\",((($H4*mmcfd_m3)*((1+$I4*(BC$3-$D4))^$J4)*(1-$F4)-$G4)*Gg_m3),IF($E4=\"Flooded\",(($H4*mmcfd_m3)*EXP(-0.6728*(BC$3-$D4))*Gg_m3),(($H4*mmcfd_m3)*((1+$I4*(BC$3-$D4))^$J4)-$G4)*Gg_m3+((($H4*mmcfd_m3)*((1+$I4*(BC$3-$D4))^$J4)*(1-0.8)-$G4)*Gg_m3)+(($H4*mmcfd_m3)*EXP(-0.6728*(BC$3-$D4))*Gg_m3)))),0))","v":0},0,0,0,0,0,{"$f":"IF(ISERROR(IF($D4<BI$3,IF($E4=\"Venting\",(($H4*mmcfd_m3)*((1+$I4*(BI$3-$D4))^$J4)-$G4)*Gg_m3,IF($E4=\"Sealed\",((($H4*mmcfd_m3)*((1+$I4*(BI$3-$D4))^$J4)*(1-$F4)-$G4)*Gg_m3),IF($E4=\"Flooded\",(($H4*mmcfd_m3)*EXP(-0.6728*(BI$3-$D4))*Gg_m3),(($H4*mmcfd_m3)*((1+$I4*(BI$3-$D4))^$J4)-$G4)*Gg_m3+((($H4*mmcfd_m3)*((1+$I4*(BI$3-$D4))^$J4)*(1-0.8)-$G4)*Gg_m3)+(($H4*mmcfd_m3)*EXP(-0.6728*(BI$3-$D4))*Gg_m3)))),0)),0,IF($D4<BI$3,IF($E4=\"Venting\",(($H4*mmcfd_m3)*((1+$I4*(BI$3-$D4))^$J4)-$G4)*Gg_m3,IF($E4=\"Sealed\",((($H4*mmcfd_m3)*((1+$I4*(BI$3-$D4))^$J4)*(1-$F4)-$G4)*Gg_m3),IF($E4=\"Flooded\",(($H4*mmcfd_m3)*EXP(-0.6728*(BI$3-$D4))*Gg_m3),(($H4*mmcfd_m3)*((1+$I4*(BI$3-$D4))^$J4)-$G4)*Gg_m3+((($H4*mmcfd_m3)*((1+$I4*(BI$3-$D4))^$J4)*(1-0.8)-$G4)*Gg_m3)+(($H4*mmcfd_m3)*EXP(-0.6728*(BI$3-$D4))*Gg_m3)))),0))","v":0},0,0,0,0,0,0,0,0,0,0,0,0,0,0,0,0,0,0,0,0,0,0,0,0]
[2,{"$f":"'CH4 from Abandoned Coal Mines'!D6","v":""},{"$f":"'CH4 from Abandoned Coal Mines'!H6","v":""},{"$f":"IFERROR(VALUE('CH4 from Abandoned Coal Mines'!J6), \"\")","v":""},{"$f":"IF('CH4 from Abandoned Coal Mines'!N6>0,'CH4 from Abandoned Coal Mines'!N6,'CH4 from Abandoned Coal Mines'!L6)","v":""},{"$f":"'CH4 from Abandoned Coal Mines'!P6","v":0},{"$f":"'CH4 from Abandoned Coal Mines'!R6","v":0},{"$f":"VLOOKUP(B5,'Abandoned Data'!$O$3:$V$187,6,FALSE)","v":""},{"$f":"VLOOKUP(B5,'Abandoned Data'!$O$3:$V$187,7,FALSE)","v":""},{"$f":"VLOOKUP(B5,'Abandoned Data'!$O$3:$V$187,8,FALSE)","v":""},{"$f":"IFERROR(IF(E5=\"Venting\",((H5*mmcfd_m3)*((1+I5*($BC$3-D5))^J5)-G5)*Gg_m3,IF(E5=\"Sealed\",(((H5*mmcfd_m3)*((1+I5*($BC$3-D5))^J5)*(1-F5)-G5)*Gg_m3),IF(E5=\"Flooded\",((H5*mmcfd_m3)*EXP(-0.6728*($BC$3-D5))*Gg_m3),((H5*mmcfd_m3)*((1+I5*($BC$3-D5))^J5)-G5)*Gg_m3+(((H5*mmcfd_m3)*((1+I5*($BC$3-D5))^J5)*(1-0.8)-G5)*Gg_m3)+((H5*mmcfd_m3)*EXP(-0.6728*($BC$3-D5))*Gg_m3)))), \"\")","v":""},null,"b. Sealed:   q = qi × c(1 + aT)b",null,null,null,null,null,null,null,null,null,null,2,0,0,0,0,0,0,0,0,0,0,0,0,0,0,0,0,0,0,0,0,0,0,0,0,0,0,0,0,0,0,0,0,0,0,0,0,0,0,0,0,0,0,0,0,0,0,0,0,0,0,0,0,0,0,0,0,0,0,0,0,0]
[3,{"$f":"'CH4 from Abandoned Coal Mines'!D7","v":""},{"$f":"'CH4 from Abandoned Coal Mines'!H7","v":""},{"$f":"IFERROR(VALUE('CH4 from Abandoned Coal Mines'!J7), \"\")","v":""},{"$f":"IF('CH4 from Abandoned Coal Mines'!N7>0,'CH4 from Abandoned Coal Mines'!N7,'CH4 from Abandoned Coal Mines'!L7)","v":""},{"$f":"'CH4 from Abandoned Coal Mines'!P7","v":0},{"$f":"'CH4 from Abandoned Coal Mines'!R7","v":0},{"$f":"VLOOKUP(B6,'Abandoned Data'!$O$3:$V$187,6,FALSE)","v":""},{"$f":"VLOOKUP(B6,'Abandoned Data'!$O$3:$V$187,7,FALSE)","v":""},{"$f":"VLOOKUP(B6,'Abandoned Data'!$O$3:$V$187,8,FALSE)","v":""},"",null,"c. Flooded:  q = qi × e(-DT)",null,null,null,null,null,null,null,null,null,null,3,0,0,0,0,0,0,0,0,0,0,0,0,0,0,0,0,0,0,0,0,0,0,0,0,0,0,0,0,0,0,0,0,0,0,0,0,0,0,0,0,0,0,0,0,0,0,0,0,0,0,0,0,0,0,0,0,0,0,0,0,0]
[4,{"$f":"'CH4 from Abandoned Coal Mines'!D8","v":""},{"$f":"'CH4 from Abandoned Coal Mines'!H8","v":""},{"$f":"IFERROR(VALUE('CH4 from Abandoned Coal Mines'!J8), \"\")","v":""},{"$f":"IF('CH4 from Abandoned Coal Mines'!N8>0,'CH4 from Abandoned Coal Mines'!N8,'CH4 from Abandoned Coal Mines'!L8)","v":""},{"$f":"'CH4 from Abandoned Coal Mines'!P8","v":0},{"$f":"'CH4 from Abandoned Coal Mines'!R8","v":0},{"$f":"VLOOKUP(B7,'Abandoned Data'!$O$3:$V$187,6,FALSE)","v":""},{"$f":"VLOOKUP(B7,'Abandoned Data'!$O$3:$V$187,7,FALSE)","v":""},{"$f":"VLOOKUP(B7,'Abandoned Data'!$O$3:$V$187,8,FALSE)","v":""},"",null,null,null,null,null,null,null,null,"Flooded","Vented","Sealed",null,4,0,0,0,0,0,0,0,0,0,0,0,0,0,0,0,0,0,0,0,0,0,0,0,0,0,0,0,0,0,0,0,0,0,0,0,0,0,0,0,0,0,0,0,0,0,0,0,0,0,0,0,0,0,0,0,0,0,0,0,0,0]
[5,{"$f":"'CH4 from Abandoned Coal Mines'!D9","v":""},{"$f":"'CH4 from Abandoned Coal Mines'!H9","v":""},{"$f":"IFERROR(VALUE('CH4 from Abandoned Coal Mines'!J9), \"\")","v":""},{"$f":"IF('CH4 from Abandoned Coal Mines'!N9>0,'CH4 from Abandoned Coal Mines'!N9,'CH4 from Abandoned Coal Mines'!L9)","v":""},{"$f":"'CH4 from Abandoned Coal Mines'!P9","v":0},{"$f":"'CH4 from Abandoned Coal Mines'!R9","v":0},{"$f":"VLOOKUP(B8,'Abandoned Data'!$O$3:$V$187,6,FALSE)","v":""},{"$f":"VLOOKUP(B8,'Abandoned Data'!$O$3:$V$187,7,FALSE)","v":""},{"$f":"VLOOKUP(B8,'Abandoned Data'!$O$3:$V$187,8,FALSE)","v":""},"",null,null,null,null,null,null,"AL","Warrior",0.92307692307692313,0,7.6923076923076927E-2,null,5,{"$f":"IF(ISERROR(IF($D8<Y$3,IF($E8=\"Venting\",(($H8*mmcfd_m3)*((1+$I8*(Y$3-$D8))^$J8)-$G8)*Gg_m3,IF($E8=\"Sealed\",((($H8*mmcfd_m3)*((1+$I8*(Y$3-$D8))^$J8)*(1-$F8)-$G8)*Gg_m3),IF($E8=\"Flooded\",(($H8*mmcfd_m3)*EXP(-0.6728*(Y$3-$D8))*Gg_m3),(($H8*mmcfd_m3)*((1+$I8*(Y$3-$D8))^$J8)-$G8)*Gg_m3+((($H8*mmcfd_m3)*((1+$I8*(Y$3-$D8))^$J8)*(1-0.8)-$G8)*Gg_m3)+(($H8*mmcfd_m3)*EXP(-0.6728*(Y$3-$D8))*Gg_m3)))),0)),0,IF($D8<Y$3,IF($E8=\"Venting\",(($H8*mmcfd_m3)*((1+$I8*(Y$3-$D8))^$J8)-$G8)*Gg_m3,IF($E8=\"Sealed\",((($H8*mmcfd_m3)*((1+$I8*(Y$3-$D8))^$J8)*(1-$F8)-$G8)*Gg_m3),IF($E8=\"Flooded\",(($H8*mmcfd_m3)*EXP(-0.6728*(Y$3-$D8))*Gg_m3),(($H8*mmcfd_m3)*((1+$I8*(Y$3-$D8))^$J8)-$G8)*Gg_m3+((($H8*mmcfd_m3)*((1+$I8*(Y$3-$D8))^$J8)*(1-0.8)-$G8)*Gg_m3)+(($H8*mmcfd_m3)*EXP(-0.6728*(Y$3-$D8))*Gg_m3)))),0))","v":0},0,0,0,0,0,0,0,0,0,0,0,0,0,0,0,0,0,0,0,0,0,0,0,0,0,0,0,0,0,0,0,0,0,0,0,0,0,0,0,0,0,0,0,0,0,0,0,0,0,0,0,0,0,0,0,0,0,0,0,0]
[6,{"$f":"'CH4 from Abandoned Coal Mines'!D10","v":""},{"$f":"'CH4 from Abandoned Coal Mines'!H10","v":""},{"$f":"IFERROR(VALUE('CH4 from Abandoned Coal Mines'!J10), \"\")","v":""},{"$f":"IF('CH4 from Abandoned Coal Mines'!N10>0,'CH4 from Abandoned Coal Mines'!N10,'CH4 from Abandoned Coal Mines'!L10)","v":""},{"$f":"'CH4 from Abandoned Coal Mines'!P10","v":0},{"$f":"'CH4 from Abandoned Coal Mines'!R10","v":0},{"$f":"VLOOKUP(B9,'Abandoned Data'!$O$3:$V$187,6,FALSE)","v":""},{"$f":"VLOOKUP(B9,'Abandoned Data'!$O$3:$V$187,7,FALSE)","v":""},{"$f":"VLOOKUP(B9,'Abandoned Data'!$O$3:$V$187,8,FALSE)","v":""},"",null,null,null,null,null,null,"CO","Average of Two basins",{"$f":"AVERAGE(T10:T11)","v":7.1428571428571425E-2},{"$f":"AVERAGE(U10:U11)","v":0},{"$f":"AVERAGE(V10:V11)","v":0.9285714285714286},null,6,0,0,0,0,0,0,0,0,0,0,0,0,0,0,0,0,0,0,0,0,0,0,0,0,0,0,0,0,0,0,0,0,0,0,0,0,0,0,0,0,0,0,0,0,0,0,0,0,0,0,0,0,0,0,0,0,0,0,0,0,0]
[7,{"$f":"'CH4 from Abandoned Coal Mines'!D11","v":""},{"$f":"'CH4 from Abandoned Coal Mines'!H11","v":""},{"$f":"IFERROR(VALUE('CH4 from Abandoned Coal Mines'!J11), \"\")","v":""},{"$f":"IF('CH4 from Abandoned Coal Mines'!N11>0,'CH4 from Abandoned Coal Mines'!N11,'CH4 from Abandoned Coal Mines'!L11)","v":""},{"$f":"'CH4 from Abandoned Coal Mines'!P11","v":0},{"$f":"'CH4 from Abandoned Coal Mines'!R11","v":0},{"$f":"VLOOKUP(B10,'Abandoned Data'!$O$3:$V$187,6,FALSE)","v":""},{"$f":"VLOOKUP(B10,'Abandoned Data'!$O$3:$V$187,7,FALSE)","v":""},{"$f":"VLOOKUP(B10,'Abandoned Data'!$O$3:$V$187,8,FALSE)","v":""},"",null,null,null,null,null,null,null,"Piceance",0.14285714285714285,0,0.8571428571428571,null,7,0,0,0,0,0,0,0,0,0,0,0,0,0,0,0,0,0,0,0,0,0,0,0,0,0,0,0,0,0,0,0,0,0,0,0,0,0,0,0,0,0,0,0,0,0,0,0,0,0,0,0,0,0,0,0,0,0,0,0,0,0]
[8,{"$f":"'CH4 from Abandoned Coal Mines'!D12","v":""},{"$f":"'CH4 from Abandoned Coal Mines'!H12","v":""},{"$f":"IFERROR(VALUE('CH4 from Abandoned Coal Mines'!J12), \"\")","v":""},{"$f":"IF('CH4 from Abandoned Coal Mines'!N12>0,'CH4 from Abandoned Coal Mines'!N12,'CH4 from Abandoned Coal Mines'!L12)","v":""},{"$f":"'CH4 from Abandoned Coal Mines'!P12","v":0},{"$f":"'CH4 from Abandoned Coal Mines'!R12","v":0},{"$f":"VLOOKUP(B11,'Abandoned Data'!$O$3:$V$187,6,FALSE)","v":""},{"$f":"VLOOKUP(B11,'Abandoned Data'!$O$3:$V$187,7,FALSE)","v":""},{"$f":"VLOOKUP(B11,'Abandoned Data'!$O$3:$V$187,8,FALSE)","v":""},"",null,null,null,null,null,null,null,"Raton",0,0,1,null,8,0,0,0,0,0,0,0,0,0,0,0,0,0,0,0,0,0,0,0,0,0,0,0,0,0,0,0,0,0,0,0,0,0,0,0,0,0,0,0,0,0,0,0,0,0,0,0,0,0,0,0,0,0,0,0,0,0,0,0,0,0]
[9,{"$f":"'CH4 from Abandoned Coal Mines'!D13","v":""},{"$f":"'CH4 from Abandoned Coal Mines'!H13","v":""},{"$f":"IFERROR(VALUE('CH4 from Abandoned Coal Mines'!J13), \"\")","v":""},{"$f":"IF('CH4 from Abandoned Coal Mines'!N13>0,'CH4 from Abandoned Coal Mines'!N13,'CH4 from Abandoned Coal Mines'!L13)","v":""},{"$f":"'CH4 from Abandoned Coal Mines'!P13","v":0},{"$f":"'CH4 from Abandoned Coal Mines'!R13","v":0},{"$f":"VLOOKUP(B12,'Abandoned Data'!$O$3:$V$187,6,FALSE)","v":""},{"$f":"VLOOKUP(B12,'Abandoned Data'!$O$3:$V$187,7,FALSE)","v":""},{"$f":"VLOOKUP(B12,'Abandoned Data'!$O$3:$V$187,8,FALSE)","v":""},"",null,null,null,null,null,null,"IL","Illinois",0.15789473684210525,0.15789473684210525,0.68421052631578949,null,9,0,0,0,0,0,0,0,0,0,0,0,0,0,0,0,0,0,0,0,0,0,0,0,0,0,0,0,0,0,0,0,0,0,0,0,0,0,0,0,0,0,0,0,0,0,0,0,0,0,0,0,{"$f":"IF(ISERROR(IF($D12<BX$3,IF($E12=\"Venting\",(($H12*mmcfd_m3)*((1+$I12*(BX$3-$D12))^$J12)-$G12)*Gg_m3,IF($E12=\"Sealed\",((($H12*mmcfd_m3)*((1+$I12*(BX$3-$D12))^$J12)*(1-$F12)-$G12)*Gg_m3),IF($E12=\"Flooded\",(($H12*mmcfd_m3)*EXP(-0.6728*(BX$3-$D12))*Gg_m3),(($H12*mmcfd_m3)*((1+$I12*(BX$3-$D12))^$J12)-$G12)*Gg_m3+((($H12*mmcfd_m3)*((1+$I12*(BX$3-$D12))^$J12)*(1-0.8)-$G12)*Gg_m3)+(($H12*mmcfd_m3)*EXP(-0.6728*(BX$3-$D12))*Gg_m3)))),0)),0,IF($D12<BX$3,IF($E12=\"Venting\",(($H12*mmcfd_m3)*((1+$I12*(BX$3-$D12))^$J12)-$G12)*Gg_m3,IF($E12=\"Sealed\",((($H12*mmcfd_m3)*((1+$I12*(BX$3-$D12))^$J12)*(1-$F12)-$G12)*Gg_m3),IF($E12=\"Flooded\",(($H12*mmcfd_m3)*EXP(-0.6728*(BX$3-$D12))*Gg_m3),(($H12*mmcfd_m3)*((1+$I12*(BX$3-$D12))^$J12)-$G12)*Gg_m3+((($H12*mmcfd_m3)*((1+$I12*(BX$3-$D12))^$J12)*(1-0.8)-$G12)*Gg_m3)+(($H12*mmcfd_m3)*EXP(-0.6728*(BX$3-$D12))*Gg_m3)))),0))","v":0},0,0,0,0,0,0,0,0,0]
[10,{"$f":"'CH4 from Abandoned Coal Mines'!D14","v":""},{"$f":"'CH4 from Abandoned Coal Mines'!H14","v":""},{"$f":"IFERROR(VALUE('CH4 from Abandoned Coal Mines'!J14), \"\")","v":""},{"$f":"IF('CH4 from Abandoned Coal Mines'!N14>0,'CH4 from Abandoned Coal Mines'!N14,'CH4 from Abandoned Coal Mines'!L14)","v":""},{"$f":"'CH4 from Abandoned Coal Mines'!P14","v":0},{"$f":"'CH4 from Abandoned Coal Mines'!R14","v":0},{"$f":"VLOOKUP(B13,'Abandoned Data'!$O$3:$V$187,6,FALSE)","v":""},{"$f":"VLOOKUP(B13,'Abandoned Data'!$O$3:$V$187,7,FALSE)","v":""},{"$f":"VLOOKUP(B13,'Abandoned Data'!$O$3:$V$187,8,FALSE)","v":""},"",null,null,null,null,null,null,"IN","Illinois",0,0,1,null,10,0,0,0,0,0,0,0,0,0,0,0,0,0,0,0,0,0,0,0,0,0,0,0,0,0,0,0,0,0,0,0,0,0,0,0,0,0,0,0,0,0,0,0,0,0,0,0,0,0,0,0,0,0,0,0,0,0,0,0,0,0]
[11,{"$f":"'CH4 from Abandoned Coal Mines'!D15","v":""},{"$f":"'CH4 from Abandoned Coal Mines'!H15","v":""},{"$f":"IFERROR(VALUE('CH4 from Abandoned Coal Mines'!J15), \"\")","v":""},{"$f":"IF('CH4 from Abandoned Coal Mines'!N15>0,'CH4 from Abandoned Coal Mines'!N15,'CH4 from Abandoned Coal Mines'!L15)","v":""},{"$f":"'CH4 from Abandoned Coal Mines'!P15","v":0},{"$f":"'CH4 from Abandoned Coal Mines'!R15","v":0},{"$f":"VLOOKUP(B14,'Abandoned Data'!$O$3:$V$187,6,FALSE)","v":""},{"$f":"VLOOKUP(B14,'Abandoned Data'!$O$3:$V$187,7,FALSE)","v":""},{"$f":"VLOOKUP(B14,'Abandoned Data'!$O$3:$V$187,8,FALSE)","v":""},"",null,null,null,null,null,null,"KY","Average of Two basins",{"$f":"AVERAGE(T15:T16)","v":0.51041666666666663},{"$f":"AVERAGE(U15:U16)","v":8.3333333333333329E-2},{"$f":"AVERAGE(V15:V16)","v":0.40625},null,11,{"$f":"IF(ISERROR(IF($D14<Y$3,IF($E14=\"Venting\",(($H14*mmcfd_m3)*((1+$I14*(Y$3-$D14))^$J14)-$G14)*Gg_m3,IF($E14=\"Sealed\",((($H14*mmcfd_m3)*((1+$I14*(Y$3-$D14))^$J14)*(1-$F14)-$G14)*Gg_m3),IF($E14=\"Flooded\",(($H14*mmcfd_m3)*EXP(-0.6728*(Y$3-$D14))*Gg_m3),(($H14*mmcfd_m3)*((1+$I14*(Y$3-$D14))^$J14)-$G14)*Gg_m3+((($H14*mmcfd_m3)*((1+$I14*(Y$3-$D14))^$J14)*(1-0.8)-$G14)*Gg_m3)+(($H14*mmcfd_m3)*EXP(-0.6728*(Y$3-$D14))*Gg_m3)))),0)),0,IF($D14<Y$3,IF($E14=\"Venting\",(($H14*mmcfd_m3)*((1+$I14*(Y$3-$D14))^$J14)-$G14)*Gg_m3,IF($E14=\"Sealed\",((($H14*mmcfd_m3)*((1+$I14*(Y$3-$D14))^$J14)*(1-$F14)-$G14)*Gg_m3),IF($E14=\"Flooded\",(($H14*mmcfd_m3)*EXP(-0.6728*(Y$3-$D14))*Gg_m3),(($H14*mmcfd_m3)*((1+$I14*(Y$3-$D14))^$J14)-$G14)*Gg_m3+((($H14*mmcfd_m3)*((1+$I14*(Y$3-$D14))^$J14)*(1-0.8)-$G14)*Gg_m3)+(($H14*mmcfd_m3)*EXP(-0.6728*(Y$3-$D14))*Gg_m3)))),0))","v":0},0,0,0,0,0,0,0,0,0,{"$f":"IF(ISERROR(IF($D14<AI$3,IF($E14=\"Venting\",(($H14*mmcfd_m3)*((1+$I14*(AI$3-$D14))^$J14)-$G14)*Gg_m3,IF($E14=\"Sealed\",((($H14*mmcfd_m3)*((1+$I14*(AI$3-$D14))^$J14)*(1-$F14)-$G14)*Gg_m3),IF($E14=\"Flooded\",(($H14*mmcfd_m3)*EXP(-0.6728*(AI$3-$D14))*Gg_m3),(($H14*mmcfd_m3)*((1+$I14*(AI$3-$D14))^$J14)-$G14)*Gg_m3+((($H14*mmcfd_m3)*((1+$I14*(AI$3-$D14))^$J14)*(1-0.8)-$G14)*Gg_m3)+(($H14*mmcfd_m3)*EXP(-0.6728*(AI$3-$D14))*Gg_m3)))),0)),0,IF($D14<AI$3,IF($E14=\"Venting\",(($H14*mmcfd_m3)*((1+$I14*(AI$3-$D14))^$J14)-$G14)*Gg_m3,IF($E14=\"Sealed\",((($H14*mmcfd_m3)*((1+$I14*(AI$3-$D14))^$J14)*(1-$F14)-$G14)*Gg_m3),IF($E14=\"Flooded\",(($H14*mmcfd_m3)*EXP(-0.6728*(AI$3-$D14))*Gg_m3),(($H14*mmcfd_m3)*((1+$I14*(AI$3-$D14))^$J14)-$G14)*Gg_m3+((($H14*mmcfd_m3)*((1+$I14*(AI$3-$D14))^$J14)*(1-0.8)-$G14)*Gg_m3)+(($H14*mmcfd_m3)*EXP(-0.6728*(AI$3-$D14))*Gg_m3)))),0))","v":0},0,0,0,0,0,0,0,0,0,{"$f":"IF(ISERROR(IF($D14<AS$3,IF($E14=\"Venting\",(($H14*mmcfd_m3)*((1+$I14*(AS$3-$D14))^$J14)-$G14)*Gg_m3,IF($E14=\"Sealed\",((($H14*mmcfd_m3)*((1+$I14*(AS$3-$D14))^$J14)*(1-$F14)-$G14)*Gg_m3),IF($E14=\"Flooded\",(($H14*mmcfd_m3)*EXP(-0.6728*(AS$3-$D14))*Gg_m3),(($H14*mmcfd_m3)*((1+$I14*(AS$3-$D14))^$J14)-$G14)*Gg_m3+((($H14*mmcfd_m3)*((1+$I14*(AS$3-$D14))^$J14)*(1-0.8)-$G14)*Gg_m3)+(($H14*mmcfd_m3)*EXP(-0.6728*(AS$3-$D14))*Gg_m3)))),0)),0,IF($D14<AS$3,IF($E14=\"Venting\",(($H14*mmcfd_m3)*((1+$I14*(AS$3-$D14))^$J14)-$G14)*Gg_m3,IF($E14=\"Sealed\",((($H14*mmcfd_m3)*((1+$I14*(AS$3-$D14))^$J14)*(1-$F14)-$G14)*Gg_m3),IF($E14=\"Flooded\",(($H14*mmcfd_m3)*EXP(-0.6728*(AS$3-$D14))*Gg_m3),(($H14*mmcfd_m3)*((1+$I14*(AS$3-$D14))^$J14)-$G14)*Gg_m3+((($H14*mmcfd_m3)*((1+$I14*(AS$3-$D14))^$J14)*(1-0.8)-$G14)*Gg_m3)+(($H14*mmcfd_m3)*EXP(-0.6728*(AS$3-$D14))*Gg_m3)))),0))","v":0},0,0,0,0,0,0,0,0,0,0,0,0,0,0,0,0,0,0,0,0,0,0,0,0,0,0,0,0,0,0,0,0,0,0,0,0,0,0,0,0]
[12,{"$f":"'CH4 from Abandoned Coal Mines'!D16","v":""},{"$f":"'CH4 from Abandoned Coal Mines'!H16","v":""},{"$f":"IFERROR(VALUE('CH4 from Abandoned Coal Mines'!J16), \"\")","v":""},{"$f":"IF('CH4 from Abandoned Coal Mines'!N16>0,'CH4 from Abandoned Coal Mines'!N16,'CH4 from Abandoned Coal Mines'!L16)","v":""},{"$f":"'CH4 from Abandoned Coal Mines'!P16","v":0},{"$f":"'CH4 from Abandoned Coal Mines'!R16","v":0},{"$f":"VLOOKUP(B15,'Abandoned Data'!$O$3:$V$187,6,FALSE)","v":""},{"$f":"VLOOKUP(B15,'Abandoned Data'!$O$3:$V$187,7,FALSE)","v":""},{"$f":"VLOOKUP(B15,'Abandoned Data'!$O$3:$V$187,8,FALSE)","v":""},"",null,null,null,null,null,null,null,"Central Appl.",0.33333333333333331,0.16666666666666666,0.5,null,12,0,0,0,0,0,0,0,0,0,0,0,0,0,0,0,0,0,0,0,0,0,0,0,0,0,0,0,0,0,0,0,0,0,0,0,0,0,0,0,0,0,0,0,0,0,0,0,0,0,0,0,0,0,0,0,0,0,0,0,0,0]
[13,{"$f":"'CH4 from Abandoned Coal Mines'!D17","v":""},{"$f":"'CH4 from Abandoned Coal Mines'!H17","v":""},{"$f":"IFERROR(VALUE('CH4 from Abandoned Coal Mines'!J17), \"\")","v":""},{"$f":"IF('CH4 from Abandoned Coal Mines'!N17>0,'CH4 from Abandoned Coal Mines'!N17,'CH4 from Abandoned Coal Mines'!L17)","v":""},{"$f":"'CH4 from Abandoned Coal Mines'!P17","v":0},{"$f":"'CH4 from Abandoned Coal Mines'!R17","v":0},{"$f":"VLOOKUP(B16,'Abandoned Data'!$O$3:$V$187,6,FALSE)","v":""},{"$f":"VLOOKUP(B16,'Abandoned Data'!$O$3:$V$187,7,FALSE)","v":""},{"$f":"VLOOKUP(B16,'Abandoned Data'!$O$3:$V$187,8,FALSE)","v":""},"",null,null,null,null,null,null,null,"Illinois",0.6875,0,0.3125,null,13,0,0,0,0,0,0,0,0,0,0,0,0,0,0,0,0,0,0,0,0,0,0,0,0,0,0,0,0,0,0,0,0,0,0,0,0,0,0,0,0,0,0,0,0,0,0,0,0,0,0,0,0,0,0,0,0,0,0,0,0,0]
[14,{"$f":"'CH4 from Abandoned Coal Mines'!D18","v":""},{"$f":"'CH4 from Abandoned Coal Mines'!H18","v":""},{"$f":"IFERROR(VALUE('CH4 from Abandoned Coal Mines'!J18), \"\")","v":""},{"$f":"IF('CH4 from Abandoned Coal Mines'!N18>0,'CH4 from Abandoned Coal Mines'!N18,'CH4 from Abandoned Coal Mines'!L18)","v":""},{"$f":"'CH4 from Abandoned Coal Mines'!P18","v":0},{"$f":"'CH4 from Abandoned Coal Mines'!R18","v":0},{"$f":"VLOOKUP(B17,'Abandoned Data'!$O$3:$V$187,6,FALSE)","v":""},{"$f":"VLOOKUP(B17,'Abandoned Data'!$O$3:$V$187,7,FALSE)","v":""},{"$f":"VLOOKUP(B17,'Abandoned Data'!$O$3:$V$187,8,FALSE)","v":""},"",null,null,null,null,null,null,"MD","Central Appl.",0.625,0.125,0.25,null,14,0,0,0,0,0,0,0,0,0,0,0,0,0,0,0,0,0,0,0,0,0,0,0,0,0,0,0,0,0,0,0,0,0,0,0,0,0,0,0,0,0,0,0,0,0,0,0,0,0,0,0,0,0,0,0,0,0,0,0,0,0]
[15,{"$f":"'CH4 from Abandoned Coal Mines'!D19","v":""},{"$f":"'CH4 from Abandoned Coal Mines'!H19","v":""},{"$f":"IFERROR(VALUE('CH4 from Abandoned Coal Mines'!J19), \"\")","v":""},{"$f":"IF('CH4 from Abandoned Coal Mines'!N19>0,'CH4 from Abandoned Coal Mines'!N19,'CH4 from Abandoned Coal Mines'!L19)","v":""},{"$f":"'CH4 from Abandoned Coal Mines'!P19","v":0},{"$f":"'CH4 from Abandoned Coal Mines'!R19","v":0},{"$f":"VLOOKUP(B18,'Abandoned Data'!$O$3:$V$187,6,FALSE)","v":""},{"$f":"VLOOKUP(B18,'Abandoned Data'!$O$3:$V$187,7,FALSE)","v":""},{"$f":"VLOOKUP(B18,'Abandoned Data'!$O$3:$V$187,8,FALSE)","v":""},"",null,null,null,null,null,null,"NM","Raton",0,0,1,null,15,0,0,0,0,0,0,0,0,0,0,0,0,0,0,0,0,0,0,0,0,0,0,0,0,0,0,0,0,0,0,0,0,0,0,0,0,0,0,0,0,0,0,0,0,0,0,0,0,0,0,0,0,0,0,0,0,0,0,0,0,0]
[16,{"$f":"'CH4 from Abandoned Coal Mines'!D20","v":""},{"$f":"'CH4 from Abandoned Coal Mines'!H20","v":""},{"$f":"IFERROR(VALUE('CH4 from Abandoned Coal Mines'!J20), \"\")","v":""},{"$f":"IF('CH4 from Abandoned Coal Mines'!N20>0,'CH4 from Abandoned Coal Mines'!N20,'CH4 from Abandoned Coal Mines'!L20)","v":""},{"$f":"'CH4 from Abandoned Coal Mines'!P20","v":0},{"$f":"'CH4 from Abandoned Coal Mines'!R20","v":0},{"$f":"VLOOKUP(B19,'Abandoned Data'!$O$3:$V$187,6,FALSE)","v":""},{"$f":"VLOOKUP(B19,'Abandoned Data'!$O$3:$V$187,7,FALSE)","v":""},{"$f":"VLOOKUP(B19,'Abandoned Data'!$O$3:$V$187,8,FALSE)","v":""},"",null,null,null,null,null,null,"OH","Northern Appl.",7.1428571428571425E-2,0.5714285714285714,0.35714285714285715,null,16,0,0,0,0,0,0,0,0,0,0,0,0,0,0,0,0,0,0,0,0,0,0,0,0,0,0,0,0,0,0,0,0,0,0,0,0,0,0,0,0,0,0,0,0,0,0,0,0,0,0,0,0,0,0,0,0,0,0,0,0,0]
[17,{"$f":"'CH4 from Abandoned Coal Mines'!D21","v":""},{"$f":"'CH4 from Abandoned Coal Mines'!H21","v":""},{"$f":"IFERROR(VALUE('CH4 from Abandoned Coal Mines'!J21), \"\")","v":""},{"$f":"IF('CH4 from Abandoned Coal Mines'!N21>0,'CH4 from Abandoned Coal Mines'!N21,'CH4 from Abandoned Coal Mines'!L21)","v":""},{"$f":"'CH4 from Abandoned Coal Mines'!P21","v":0},{"$f":"'CH4 from Abandoned Coal Mines'!R21","v":0},{"$f":"VLOOKUP(B20,'Abandoned Data'!$O$3:$V$187,6,FALSE)","v":""},{"$f":"VLOOKUP(B20,'Abandoned Data'!$O$3:$V$187,7,FALSE)","v":""},{"$f":"VLOOKUP(B20,'Abandoned Data'!$O$3:$V$187,8,FALSE)","v":""},"",null,null,null,null,null,null,"OK","Arkoma",0.1,0,0.9,null,17,0,0,0,0,0,0,0,0,0,0,0,0,0,0,0,0,0,0,0,0,0,0,0,0,0,0,0,0,0,0,0,0,0,0,0,0,0,0,0,0,0,0,0,0,0,0,0,0,0,0,0,0,0,0,0,0,0,0,0,0,0]
[18,{"$f":"'CH4 from Abandoned Coal Mines'!D22","v":""},{"$f":"'CH4 from Abandoned Coal Mines'!H22","v":""},{"$f":"IFERROR(VALUE('CH4 from Abandoned Coal Mines'!J22), \"\")","v":""},{"$f":"IF('CH4 from Abandoned Coal Mines'!N22>0,'CH4 from Abandoned Coal Mines'!N22,'CH4 from Abandoned Coal Mines'!L22)","v":""},{"$f":"'CH4 from Abandoned Coal Mines'!P22","v":0},{"$f":"'CH4 from Abandoned Coal Mines'!R22","v":0},{"$f":"VLOOKUP(B21,'Abandoned Data'!$O$3:$V$187,6,FALSE)","v":""},{"$f":"VLOOKUP(B21,'Abandoned Data'!$O$3:$V$187,7,FALSE)","v":""},{"$f":"VLOOKUP(B21,'Abandoned Data'!$O$3:$V$187,8,FALSE)","v":""},"",null,null,null,null,null,null,"PA","Northern Appl.",0.41025641025641024,0.10256410256410256,0.48717948717948717,null,18,0,0,0,0,0,0,0,0,0,0,0,0,0,0,0,0,0,0,0,0,0,0,0,0,0,0,0,0,0,0,0,0,0,0,0,0,0,0,0,0,0,{"$f":"IF(ISERROR(IF($D21<BN$3,IF($E21=\"Venting\",(($H21*mmcfd_m3)*((1+$I21*(BN$3-$D21))^$J21)-$G21)*Gg_m3,IF($E21=\"Sealed\",((($H21*mmcfd_m3)*((1+$I21*(BN$3-$D21))^$J21)*(1-$F21)-$G21)*Gg_m3),IF($E21=\"Flooded\",(($H21*mmcfd_m3)*EXP(-0.6728*(BN$3-$D21))*Gg_m3),(($H21*mmcfd_m3)*((1+$I21*(BN$3-$D21))^$J21)-$G21)*Gg_m3+((($H21*mmcfd_m3)*((1+$I21*(BN$3-$D21))^$J21)*(1-0.8)-$G21)*Gg_m3)+(($H21*mmcfd_m3)*EXP(-0.6728*(BN$3-$D21))*Gg_m3)))),0)),0,IF($D21<BN$3,IF($E21=\"Venting\",(($H21*mmcfd_m3)*((1+$I21*(BN$3-$D21))^$J21)-$G21)*Gg_m3,IF($E21=\"Sealed\",((($H21*mmcfd_m3)*((1+$I21*(BN$3-$D21))^$J21)*(1-$F21)-$G21)*Gg_m3),IF($E21=\"Flooded\",(($H21*mmcfd_m3)*EXP(-0.6728*(BN$3-$D21))*Gg_m3),(($H21*mmcfd_m3)*((1+$I21*(BN$3-$D21))^$J21)-$G21)*Gg_m3+((($H21*mmcfd_m3)*((1+$I21*(BN$3-$D21))^$J21)*(1-0.8)-$G21)*Gg_m3)+(($H21*mmcfd_m3)*EXP(-0.6728*(BN$3-$D21))*Gg_m3)))),0))","v":0},0,0,0,0,0,0,0,0,0,0,0,0,0,0,0,0,0,0,0]
[19,{"$f":"'CH4 from Abandoned Coal Mines'!D23","v":""},{"$f":"'CH4 from Abandoned Coal Mines'!H23","v":""},{"$f":"IFERROR(VALUE('CH4 from Abandoned Coal Mines'!J23), \"\")","v":""},{"$f":"IF('CH4 from Abandoned Coal Mines'!N23>0,'CH4 from Abandoned Coal Mines'!N23,'CH4 from Abandoned Coal Mines'!L23)","v":""},{"$f":"'CH4 from Abandoned Coal Mines'!P23","v":0},{"$f":"'CH4 from Abandoned Coal Mines'!R23","v":0},{"$f":"VLOOKUP(B22,'Abandoned Data'!$O$3:$V$187,6,FALSE)","v":""},{"$f":"VLOOKUP(B22,'Abandoned Data'!$O$3:$V$187,7,FALSE)","v":""},{"$f":"VLOOKUP(B22,'Abandoned Data'!$O$3:$V$187,8,FALSE)","v":""},"",null,null,null,null,null,null,"TN","Central Appl.",0.33333333333333331,0.16666666666666666,0.5,null,19,0,0,0,0,0,0,0,0,0,0,0,0,0,0,0,0,0,0,0,0,0,0,0,0,0,0,0,0,0,0,0,0,0,0,0,0,0,0,0,0,0,0,0,0,0,0,0,0,0,0,0,0,0,0,0,0,0,0,0,0,0]
[20,{"$f":"'CH4 from Abandoned Coal Mines'!D24","v":""},{"$f":"'CH4 from Abandoned Coal Mines'!H24","v":""},{"$f":"IFERROR(VALUE('CH4 from Abandoned Coal Mines'!J24), \"\")","v":""},{"$f":"IF('CH4 from Abandoned Coal Mines'!N24>0,'CH4 from Abandoned Coal Mines'!N24,'CH4 from Abandoned Coal Mines'!L24)","v":""},{"$f":"'CH4 from Abandoned Coal Mines'!P24","v":0},{"$f":"'CH4 from Abandoned Coal Mines'!R24","v":0},{"$f":"VLOOKUP(B23,'Abandoned Data'!$O$3:$V$187,6,FALSE)","v":""},{"$f":"VLOOKUP(B23,'Abandoned Data'!$O$3:$V$187,7,FALSE)","v":""},{"$f":"VLOOKUP(B23,'Abandoned Data'!$O$3:$V$187,8,FALSE)","v":""},"",null,null,null,null,null,null,"UT","Uinta",0.1,0,0.9,null,20,0,0,0,0,0,0,0,0,0,0,0,0,0,0,0,0,0,0,0,0,0,0,0,0,0,0,0,0,0,0,0,0,0,0,0,0,0,0,0,0,0,0,0,0,0,0,0,0,0,0,0,0,0,0,0,0,0,0,0,0,0]
[21,{"$f":"'CH4 from Abandoned Coal Mines'!D25","v":""},{"$f":"'CH4 from Abandoned Coal Mines'!H25","v":""},{"$f":"IFERROR(VALUE('CH4 from Abandoned Coal Mines'!J25), \"\")","v":""},{"$f":"IF('CH4 from Abandoned Coal Mines'!N25>0,'CH4 from Abandoned Coal Mines'!N25,'CH4 from Abandoned Coal Mines'!L25)","v":""},{"$f":"'CH4 from Abandoned Coal Mines'!P25","v":0},{"$f":"'CH4 from Abandoned Coal Mines'!R25","v":0},{"$f":"VLOOKUP(B24,'Abandoned Data'!$O$3:$V$187,6,FALSE)","v":""},{"$f":"VLOOKUP(B24,'Abandoned Data'!$O$3:$V$187,7,FALSE)","v":""},{"$f":"VLOOKUP(B24,'Abandoned Data'!$O$3:$V$187,8,FALSE)","v":""},"",null,null,null,null,null,null,"VA","Central Appl.",0.625,0.125,0.25,null,21,{"$f":"IF(ISERROR(IF($D24<Y$3,IF($E24=\"Venting\",(($H24*mmcfd_m3)*((1+$I24*(Y$3-$D24))^$J24)-$G24)*Gg_m3,IF($E24=\"Sealed\",((($H24*mmcfd_m3)*((1+$I24*(Y$3-$D24))^$J24)*(1-$F24)-$G24)*Gg_m3),IF($E24=\"Flooded\",(($H24*mmcfd_m3)*EXP(-0.6728*(Y$3-$D24))*Gg_m3),(($H24*mmcfd_m3)*((1+$I24*(Y$3-$D24))^$J24)-$G24)*Gg_m3+((($H24*mmcfd_m3)*((1+$I24*(Y$3-$D24))^$J24)*(1-0.8)-$G24)*Gg_m3)+(($H24*mmcfd_m3)*EXP(-0.6728*(Y$3-$D24))*Gg_m3)))),0)),0,IF($D24<Y$3,IF($E24=\"Venting\",(($H24*mmcfd_m3)*((1+$I24*(Y$3-$D24))^$J24)-$G24)*Gg_m3,IF($E24=\"Sealed\",((($H24*mmcfd_m3)*((1+$I24*(Y$3-$D24))^$J24)*(1-$F24)-$G24)*Gg_m3),IF($E24=\"Flooded\",(($H24*mmcfd_m3)*EXP(-0.6728*(Y$3-$D24))*Gg_m3),(($H24*mmcfd_m3)*((1+$I24*(Y$3-$D24))^$J24)-$G24)*Gg_m3+((($H24*mmcfd_m3)*((1+$I24*(Y$3-$D24))^$J24)*(1-0.8)-$G24)*Gg_m3)+(($H24*mmcfd_m3)*EXP(-0.6728*(Y$3-$D24))*Gg_m3)))),0))","v":0},0,0,0,0,0,0,0,0,0,{"$f":"IF(ISERROR(IF($D24<AI$3,IF($E24=\"Venting\",(($H24*mmcfd_m3)*((1+$I24*(AI$3-$D24))^$J24)-$G24)*Gg_m3,IF($E24=\"Sealed\",((($H24*mmcfd_m3)*((1+$I24*(AI$3-$D24))^$J24)*(1-$F24)-$G24)*Gg_m3),IF($E24=\"Flooded\",(($H24*mmcfd_m3)*EXP(-0.6728*(AI$3-$D24))*Gg_m3),(($H24*mmcfd_m3)*((1+$I24*(AI$3-$D24))^$J24)-$G24)*Gg_m3+((($H24*mmcfd_m3)*((1+$I24*(AI$3-$D24))^$J24)*(1-0.8)-$G24)*Gg_m3)+(($H24*mmcfd_m3)*EXP(-0.6728*(AI$3-$D24))*Gg_m3)))),0)),0,IF($D24<AI$3,IF($E24=\"Venting\",(($H24*mmcfd_m3)*((1+$I24*(AI$3-$D24))^$J24)-$G24)*Gg_m3,IF($E24=\"Sealed\",((($H24*mmcfd_m3)*((1+$I24*(AI$3-$D24))^$J24)*(1-$F24)-$G24)*Gg_m3),IF($E24=\"Flooded\",(($H24*mmcfd_m3)*EXP(-0.6728*(AI$3-$D24))*Gg_m3),(($H24*mmcfd_m3)*((1+$I24*(AI$3-$D24))^$J24)-$G24)*Gg_m3+((($H24*mmcfd_m3)*((1+$I24*(AI$3-$D24))^$J24)*(1-0.8)-$G24)*Gg_m3)+(($H24*mmcfd_m3)*EXP(-0.6728*(AI$3-$D24))*Gg_m3)))),0))","v":0},0,0,0,0,0,0,0,0,0,{"$f":"IF(ISERROR(IF($D24<AS$3,IF($E24=\"Venting\",(($H24*mmcfd_m3)*((1+$I24*(AS$3-$D24))^$J24)-$G24)*Gg_m3,IF($E24=\"Sealed\",((($H24*mmcfd_m3)*((1+$I24*(AS$3-$D24))^$J24)*(1-$F24)-$G24)*Gg_m3),IF($E24=\"Flooded\",(($H24*mmcfd_m3)*EXP(-0.6728*(AS$3-$D24))*Gg_m3),(($H24*mmcfd_m3)*((1+$I24*(AS$3-$D24))^$J24)-$G24)*Gg_m3+((($H24*mmcfd_m3)*((1+$I24*(AS$3-$D24))^$J24)*(1-0.8)-$G24)*Gg_m3)+(($H24*mmcfd_m3)*EXP(-0.6728*(AS$3-$D24))*Gg_m3)))),0)),0,IF($D24<AS$3,IF($E24=\"Venting\",(($H24*mmcfd_m3)*((1+$I24*(AS$3-$D24))^$J24)-$G24)*Gg_m3,IF($E24=\"Sealed\",((($H24*mmcfd_m3)*((1+$I24*(AS$3-$D24))^$J24)*(1-$F24)-$G24)*Gg_m3),IF($E24=\"Flooded\",(($H24*mmcfd_m3)*EXP(-0.6728*(AS$3-$D24))*Gg_m3),(($H24*mmcfd_m3)*((1+$I24*(AS$3-$D24))^$J24)-$G24)*Gg_m3+((($H24*mmcfd_m3)*((1+$I24*(AS$3-$D24))^$J24)*(1-0.8)-$G24)*Gg_m3)+(($H24*mmcfd_m3)*EXP(-0.6728*(AS$3-$D24))*Gg_m3)))),0))","v":0},0,0,0,0,0,0,0,0,0,0,0,0,0,0,0,0,0,0,0,0,0,0,0,0,0,0,0,0,0,0,0,0,0,0,0,0,0,0,0,0]
[22,{"$f":"'CH4 from Abandoned Coal Mines'!D26","v":""},{"$f":"'CH4 from Abandoned Coal Mines'!H26","v":""},{"$f":"IFERROR(VALUE('CH4 from Abandoned Coal Mines'!J26), \"\")","v":""},{"$f":"IF('CH4 from Abandoned Coal Mines'!N26>0,'CH4 from Abandoned Coal Mines'!N26,'CH4 from Abandoned Coal Mines'!L26)","v":""},{"$f":"'CH4 from Abandoned Coal Mines'!P26","v":0},{"$f":"'CH4 from Abandoned Coal Mines'!R26","v":0},{"$f":"VLOOKUP(B25,'Abandoned Data'!$O$3:$V$187,6,FALSE)","v":""},{"$f":"VLOOKUP(B25,'Abandoned Data'!$O$3:$V$187,7,FALSE)","v":""},{"$f":"VLOOKUP(B25,'Abandoned Data'!$O$3:$V$187,8,FALSE)","v":""},"",null,null,null,null,null,null,"WV","Average of Two basins",{"$f":"AVERAGE(T26:T27)","v":0.47979139504563229},{"$f":"AVERAGE(U26:U27)","v":0.13005215123859193},{"$f":"AVERAGE(V26:V27)","v":0.39015645371577573},null,22,0,0,0,0,0,0,0,0,0,0,0,0,0,0,0,0,0,0,0,0,0,0,0,0,0,0,0,0,0,0,0,0,0,0,0,0,0,0,0,0,0,0,0,0,0,0,0,0,0,0,0,0,0,0,0,0,0,0,0,0,0]
[23,{"$f":"'CH4 from Abandoned Coal Mines'!D27","v":""},{"$f":"'CH4 from Abandoned Coal Mines'!H27","v":""},{"$f":"IFERROR(VALUE('CH4 from Abandoned Coal Mines'!J27), \"\")","v":""},{"$f":"IF('CH4 from Abandoned Coal Mines'!N27>0,'CH4 from Abandoned Coal Mines'!N27,'CH4 from Abandoned Coal Mines'!L27)","v":""},{"$f":"'CH4 from Abandoned Coal Mines'!P27","v":0},{"$f":"'CH4 from Abandoned Coal Mines'!R27","v":0},{"$f":"VLOOKUP(B26,'Abandoned Data'!$O$3:$V$187,6,FALSE)","v":""},{"$f":"VLOOKUP(B26,'Abandoned Data'!$O$3:$V$187,7,FALSE)","v":""},{"$f":"VLOOKUP(B26,'Abandoned Data'!$O$3:$V$187,8,FALSE)","v":""},"",null,null,null,null,null,null,null,"Central Appl.",0.72881355932203384,6.7796610169491525E-2,0.20338983050847459,null,23,0,0,0,0,0,0,0,0,0,0,0,0,0,0,0,0,0,0,0,0,0,0,0,0,0,0,0,0,0,0,0,0,0,0,0,0,0,0,0,0,0,0,0,0,0,0,0,0,0,0,0,0,0,0,0,0,0,0,0,0,0]
[24,{"$f":"'CH4 from Abandoned Coal Mines'!D28","v":""},{"$f":"'CH4 from Abandoned Coal Mines'!H28","v":""},{"$f":"IFERROR(VALUE('CH4 from Abandoned Coal Mines'!J28), \"\")","v":""},{"$f":"IF('CH4 from Abandoned Coal Mines'!N28>0,'CH4 from Abandoned Coal Mines'!N28,'CH4 from Abandoned Coal Mines'!L28)","v":""},{"$f":"'CH4 from Abandoned Coal Mines'!P28","v":0},{"$f":"'CH4 from Abandoned Coal Mines'!R28","v":0},{"$f":"VLOOKUP(B27,'Abandoned Data'!$O$3:$V$187,6,FALSE)","v":""},{"$f":"VLOOKUP(B27,'Abandoned Data'!$O$3:$V$187,7,FALSE)","v":""},{"$f":"VLOOKUP(B27,'Abandoned Data'!$O$3:$V$187,8,FALSE)","v":""},"",null,null,null,null,null,null,null,"Northern Appl.",0.23076923076923078,0.19230769230769232,0.57692307692307687,null,24,0,0,0,0,0,0,0,0,0,0,0,0,0,0,0,0,0,0,0,0,0,0,0,0,0,0,0,0,0,0,0,0,0,0,0,0,0,0,0,0,0,0,0,0,0,0,0,0,0,0,0,0,0,0,0,0,0,0,0,0,0]
[25,{"$f":"'CH4 from Abandoned Coal Mines'!D29","v":""},{"$f":"'CH4 from Abandoned Coal Mines'!H29","v":""},{"$f":"IFERROR(VALUE('CH4 from Abandoned Coal Mines'!J29), \"\")","v":""},{"$f":"IF('CH4 from Abandoned Coal Mines'!N29>0,'CH4 from Abandoned Coal Mines'!N29,'CH4 from Abandoned Coal Mines'!L29)","v":""},{"$f":"'CH4 from Abandoned Coal Mines'!P29","v":0},{"$f":"'CH4 from Abandoned Coal Mines'!R29","v":0},{"$f":"VLOOKUP(B28,'Abandoned Data'!$O$3:$V$187,6,FALSE)","v":""},{"$f":"VLOOKUP(B28,'Abandoned Data'!$O$3:$V$187,7,FALSE)","v":""},{"$f":"VLOOKUP(B28,'Abandoned Data'!$O$3:$V$187,8,FALSE)","v":""},"",null,null,null,null,null,null,"AK","Default Average",{"$f":"AVERAGE($T$17:$T$25,$T$12:$T$14,$T$8:$T$9)","v":0.31483047200558667},{"$f":"AVERAGE($U$17:$U$25,$U$12:$U$14,$U$8:$U$9)","v":0.10442425443381222},{"$f":"AVERAGE($V$17:$V$25,$V$12:$V$14,$V$8:$V$9)","v":0.58074527356060102},null,25,0,0,0,0,0,0,0,0,0,0,0,0,0,0,0,0,0,0,0,0,0,0,0,0,0,0,0,0,0,0,0,0,0,0,0,0,0,0,0,0,0,0,0,0,0,0,0,0,0,0,0,0,0,0,0,0,0,0,0,0,0]
[26,{"$f":"'CH4 from Abandoned Coal Mines'!D30","v":""},{"$f":"'CH4 from Abandoned Coal Mines'!H30","v":""},{"$f":"IFERROR(VALUE('CH4 from Abandoned Coal Mines'!J30), \"\")","v":""},{"$f":"IF('CH4 from Abandoned Coal Mines'!N30>0,'CH4 from Abandoned Coal Mines'!N30,'CH4 from Abandoned Coal Mines'!L30)","v":""},{"$f":"'CH4 from Abandoned Coal Mines'!P30","v":0},{"$f":"'CH4 from Abandoned Coal Mines'!R30","v":0},{"$f":"VLOOKUP(B29,'Abandoned Data'!$O$3:$V$187,6,FALSE)","v":""},{"$f":"VLOOKUP(B29,'Abandoned Data'!$O$3:$V$187,7,FALSE)","v":""},{"$f":"VLOOKUP(B29,'Abandoned Data'!$O$3:$V$187,8,FALSE)","v":""},"",null,null,null,null,null,null,"AZ","Default Average",{"$f":"AVERAGE($T$17:$T$25,$T$12:$T$14,$T$8:$T$9)","v":0.31483047200558667},{"$f":"AVERAGE($U$17:$U$25,$U$12:$U$14,$U$8:$U$9)","v":0.10442425443381222},{"$f":"AVERAGE($V$17:$V$25,$V$12:$V$14,$V$8:$V$9)","v":0.58074527356060102},null,26,0,0,0,0,0,0,0,0,0,0,0,0,0,0,0,0,0,0,0,0,0,0,0,0,0,0,0,0,0,0,0,0,0,0,0,0,0,0,0,0,0,0,0,0,0,0,0,0,0,0,0,0,0,0,0,0,0,0,0,0,0]
[27,{"$f":"'CH4 from Abandoned Coal Mines'!D31","v":""},{"$f":"'CH4 from Abandoned Coal Mines'!H31","v":""},{"$f":"IFERROR(VALUE('CH4 from Abandoned Coal Mines'!J31), \"\")","v":""},{"$f":"IF('CH4 from Abandoned Coal Mines'!N31>0,'CH4 from Abandoned Coal Mines'!N31,'CH4 from Abandoned Coal Mines'!L31)","v":""},{"$f":"'CH4 from Abandoned Coal Mines'!P31","v":0},{"$f":"'CH4 from Abandoned Coal Mines'!R31","v":0},{"$f":"VLOOKUP(B30,'Abandoned Data'!$O$3:$V$187,6,FALSE)","v":""},{"$f":"VLOOKUP(B30,'Abandoned Data'!$O$3:$V$187,7,FALSE)","v":""},{"$f":"VLOOKUP(B30,'Abandoned Data'!$O$3:$V$187,8,FALSE)","v":""},"",null,null,null,null,null,null,"AR","Default Average",0.31483047200558667,0.10442425443381222,0.58074527356060102,null,27,0,0,0,0,0,0,0,0,0,0,0,0,0,0,0,0,0,0,0,0,0,0,0,0,0,0,0,0,0,0,0,{"$f":"IF(ISERROR(IF($D30<BD$3,IF($E30=\"Venting\",(($H30*mmcfd_m3)*((1+$I30*(BD$3-$D30))^$J30)-$G30)*Gg_m3,IF($E30=\"Sealed\",((($H30*mmcfd_m3)*((1+$I30*(BD$3-$D30))^$J30)*(1-$F30)-$G30)*Gg_m3),IF($E30=\"Flooded\",(($H30*mmcfd_m3)*EXP(-0.6728*(BD$3-$D30))*Gg_m3),(($H30*mmcfd_m3)*((1+$I30*(BD$3-$D30))^$J30)-$G30)*Gg_m3+((($H30*mmcfd_m3)*((1+$I30*(BD$3-$D30))^$J30)*(1-0.8)-$G30)*Gg_m3)+(($H30*mmcfd_m3)*EXP(-0.6728*(BD$3-$D30))*Gg_m3)))),0)),0,IF($D30<BD$3,IF($E30=\"Venting\",(($H30*mmcfd_m3)*((1+$I30*(BD$3-$D30))^$J30)-$G30)*Gg_m3,IF($E30=\"Sealed\",((($H30*mmcfd_m3)*((1+$I30*(BD$3-$D30))^$J30)*(1-$F30)-$G30)*Gg_m3),IF($E30=\"Flooded\",(($H30*mmcfd_m3)*EXP(-0.6728*(BD$3-$D30))*Gg_m3),(($H30*mmcfd_m3)*((1+$I30*(BD$3-$D30))^$J30)-$G30)*Gg_m3+((($H30*mmcfd_m3)*((1+$I30*(BD$3-$D30))^$J30)*(1-0.8)-$G30)*Gg_m3)+(($H30*mmcfd_m3)*EXP(-0.6728*(BD$3-$D30))*Gg_m3)))),0))","v":0},0,0,0,0,0,0,0,0,0,0,0,0,0,0,0,0,0,0,0,0,0,0,0,0,0,0,0,0,0]
[28,{"$f":"'CH4 from Abandoned Coal Mines'!D32","v":""},{"$f":"'CH4 from Abandoned Coal Mines'!H32","v":""},{"$f":"IFERROR(VALUE('CH4 from Abandoned Coal Mines'!J32), \"\")","v":""},{"$f":"IF('CH4 from Abandoned Coal Mines'!N32>0,'CH4 from Abandoned Coal Mines'!N32,'CH4 from Abandoned Coal Mines'!L32)","v":""},{"$f":"'CH4 from Abandoned Coal Mines'!P32","v":0},{"$f":"'CH4 from Abandoned Coal Mines'!R32","v":0},{"$f":"VLOOKUP(B31,'Abandoned Data'!$O$3:$V$187,6,FALSE)","v":""},{"$f":"VLOOKUP(B31,'Abandoned Data'!$O$3:$V$187,7,FALSE)","v":""},{"$f":"VLOOKUP(B31,'Abandoned Data'!$O$3:$V$187,8,FALSE)","v":""},"",null,null,null,null,null,null,"CA","Default Average",0.31483047200558667,0.10442425443381222,0.58074527356060102,null,28,0,0,0,0,0,0,0,0,0,0,0,0,0,0,0,0,0,0,0,0,0,0,0,0,0,0,0,0,0,0,0,0,0,0,0,0,0,0,0,0,0,0,0,0,0,0,0,0,0,0,0,0,0,0,0,0,0,0,0,0,0]
[29,{"$f":"'CH4 from Abandoned Coal Mines'!D33","v":""},{"$f":"'CH4 from Abandoned Coal Mines'!H33","v":""},{"$f":"IFERROR(VALUE('CH4 from Abandoned Coal Mines'!J33), \"\")","v":""},{"$f":"IF('CH4 from Abandoned Coal Mines'!N33>0,'CH4 from Abandoned Coal Mines'!N33,'CH4 from Abandoned Coal Mines'!L33)","v":""},{"$f":"'CH4 from Abandoned Coal Mines'!P33","v":0},{"$f":"'CH4 from Abandoned Coal Mines'!R33","v":0},{"$f":"VLOOKUP(B32,'Abandoned Data'!$O$3:$V$187,6,FALSE)","v":""},{"$f":"VLOOKUP(B32,'Abandoned Data'!$O$3:$V$187,7,FALSE)","v":""},{"$f":"VLOOKUP(B32,'Abandoned Data'!$O$3:$V$187,8,FALSE)","v":""},"",null,null,null,null,null,null,"CT","Default Average",0.31483047200558667,0.10442425443381222,0.58074527356060102,null,29,0,0,0,0,0,0,0,0,0,0,0,0,0,0,0,0,0,0,0,0,0,0,0,0,0,0,0,0,0,0,0,0,0,0,0,0,0,0,0,0,0,0,0,0,0,0,0,0,0,0,0,0,0,0,0,0,0,0,0,0,0]
[30,{"$f":"'CH4 from Abandoned Coal Mines'!D34","v":""},{"$f":"'CH4 from Abandoned Coal Mines'!H34","v":""},{"$f":"IFERROR(VALUE('CH4 from Abandoned Coal Mines'!J34), \"\")","v":""},{"$f":"IF('CH4 from Abandoned Coal Mines'!N34>0,'CH4 from Abandoned Coal Mines'!N34,'CH4 from Abandoned Coal Mines'!L34)","v":""},{"$f":"'CH4 from Abandoned Coal Mines'!P34","v":0},{"$f":"'CH4 from Abandoned Coal Mines'!R34","v":0},{"$f":"VLOOKUP(B33,'Abandoned Data'!$O$3:$V$187,6,FALSE)","v":""},{"$f":"VLOOKUP(B33,'Abandoned Data'!$O$3:$V$187,7,FALSE)","v":""},{"$f":"VLOOKUP(B33,'Abandoned Data'!$O$3:$V$187,8,FALSE)","v":""},"",null,null,null,null,null,null,"DE","Default Average",0.31483047200558667,0.10442425443381222,0.58074527356060102,null,30,0,0,0,0,0,0,0,0,0,0,0,0,0,0,0,0,0,0,0,0,0,0,0,0,0,0,0,0,0,0,0,0,0,0,0,0,0,0,0,0,0,0,0,0,0,0,0,0,0,0,0,0,0,0,0,0,0,0,0,0,0]
[31,{"$f":"'CH4 from Abandoned Coal Mines'!D35","v":""},{"$f":"'CH4 from Abandoned Coal Mines'!H35","v":""},{"$f":"IFERROR(VALUE('CH4 from Abandoned Coal Mines'!J35), \"\")","v":""},{"$f":"IF('CH4 from Abandoned Coal Mines'!N35>0,'CH4 from Abandoned Coal Mines'!N35,'CH4 from Abandoned Coal Mines'!L35)","v":""},{"$f":"'CH4 from Abandoned Coal Mines'!P35","v":0},{"$f":"'CH4 from Abandoned Coal Mines'!R35","v":0},{"$f":"VLOOKUP(B34,'Abandoned Data'!$O$3:$V$187,6,FALSE)","v":""},{"$f":"VLOOKUP(B34,'Abandoned Data'!$O$3:$V$187,7,FALSE)","v":""},{"$f":"VLOOKUP(B34,'Abandoned Data'!$O$3:$V$187,8,FALSE)","v":""},"",null,null,null,null,null,null,"FL","Default Average",0.31483047200558667,0.10442425443381222,0.58074527356060102,null,31,{"$f":"IF(ISERROR(IF($D34<Y$3,IF($E34=\"Venting\",(($H34*mmcfd_m3)*((1+$I34*(Y$3-$D34))^$J34)-$G34)*Gg_m3,IF($E34=\"Sealed\",((($H34*mmcfd_m3)*((1+$I34*(Y$3-$D34))^$J34)*(1-$F34)-$G34)*Gg_m3),IF($E34=\"Flooded\",(($H34*mmcfd_m3)*EXP(-0.6728*(Y$3-$D34))*Gg_m3),(($H34*mmcfd_m3)*((1+$I34*(Y$3-$D34))^$J34)-$G34)*Gg_m3+((($H34*mmcfd_m3)*((1+$I34*(Y$3-$D34))^$J34)*(1-0.8)-$G34)*Gg_m3)+(($H34*mmcfd_m3)*EXP(-0.6728*(Y$3-$D34))*Gg_m3)))),0)),0,IF($D34<Y$3,IF($E34=\"Venting\",(($H34*mmcfd_m3)*((1+$I34*(Y$3-$D34))^$J34)-$G34)*Gg_m3,IF($E34=\"Sealed\",((($H34*mmcfd_m3)*((1+$I34*(Y$3-$D34))^$J34)*(1-$F34)-$G34)*Gg_m3),IF($E34=\"Flooded\",(($H34*mmcfd_m3)*EXP(-0.6728*(Y$3-$D34))*Gg_m3),(($H34*mmcfd_m3)*((1+$I34*(Y$3-$D34))^$J34)-$G34)*Gg_m3+((($H34*mmcfd_m3)*((1+$I34*(Y$3-$D34))^$J34)*(1-0.8)-$G34)*Gg_m3)+(($H34*mmcfd_m3)*EXP(-0.6728*(Y$3-$D34))*Gg_m3)))),0))","v":0},0,0,0,0,0,0,0,0,0,{"$f":"IF(ISERROR(IF($D34<AI$3,IF($E34=\"Venting\",(($H34*mmcfd_m3)*((1+$I34*(AI$3-$D34))^$J34)-$G34)*Gg_m3,IF($E34=\"Sealed\",((($H34*mmcfd_m3)*((1+$I34*(AI$3-$D34))^$J34)*(1-$F34)-$G34)*Gg_m3),IF($E34=\"Flooded\",(($H34*mmcfd_m3)*EXP(-0.6728*(AI$3-$D34))*Gg_m3),(($H34*mmcfd_m3)*((1+$I34*(AI$3-$D34))^$J34)-$G34)*Gg_m3+((($H34*mmcfd_m3)*((1+$I34*(AI$3-$D34))^$J34)*(1-0.8)-$G34)*Gg_m3)+(($H34*mmcfd_m3)*EXP(-0.6728*(AI$3-$D34))*Gg_m3)))),0)),0,IF($D34<AI$3,IF($E34=\"Venting\",(($H34*mmcfd_m3)*((1+$I34*(AI$3-$D34))^$J34)-$G34)*Gg_m3,IF($E34=\"Sealed\",((($H34*mmcfd_m3)*((1+$I34*(AI$3-$D34))^$J34)*(1-$F34)-$G34)*Gg_m3),IF($E34=\"Flooded\",(($H34*mmcfd_m3)*EXP(-0.6728*(AI$3-$D34))*Gg_m3),(($H34*mmcfd_m3)*((1+$I34*(AI$3-$D34))^$J34)-$G34)*Gg_m3+((($H34*mmcfd_m3)*((1+$I34*(AI$3-$D34))^$J34)*(1-0.8)-$G34)*Gg_m3)+(($H34*mmcfd_m3)*EXP(-0.6728*(AI$3-$D34))*Gg_m3)))),0))","v":0},0,0,0,0,0,0,0,0,0,{"$f":"IF(ISERROR(IF($D34<AS$3,IF($E34=\"Venting\",(($H34*mmcfd_m3)*((1+$I34*(AS$3-$D34))^$J34)-$G34)*Gg_m3,IF($E34=\"Sealed\",((($H34*mmcfd_m3)*((1+$I34*(AS$3-$D34))^$J34)*(1-$F34)-$G34)*Gg_m3),IF($E34=\"Flooded\",(($H34*mmcfd_m3)*EXP(-0.6728*(AS$3-$D34))*Gg_m3),(($H34*mmcfd_m3)*((1+$I34*(AS$3-$D34))^$J34)-$G34)*Gg_m3+((($H34*mmcfd_m3)*((1+$I34*(AS$3-$D34))^$J34)*(1-0.8)-$G34)*Gg_m3)+(($H34*mmcfd_m3)*EXP(-0.6728*(AS$3-$D34))*Gg_m3)))),0)),0,IF($D34<AS$3,IF($E34=\"Venting\",(($H34*mmcfd_m3)*((1+$I34*(AS$3-$D34))^$J34)-$G34)*Gg_m3,IF($E34=\"Sealed\",((($H34*mmcfd_m3)*((1+$I34*(AS$3-$D34))^$J34)*(1-$F34)-$G34)*Gg_m3),IF($E34=\"Flooded\",(($H34*mmcfd_m3)*EXP(-0.6728*(AS$3-$D34))*Gg_m3),(($H34*mmcfd_m3)*((1+$I34*(AS$3-$D34))^$J34)-$G34)*Gg_m3+((($H34*mmcfd_m3)*((1+$I34*(AS$3-$D34))^$J34)*(1-0.8)-$G34)*Gg_m3)+(($H34*mmcfd_m3)*EXP(-0.6728*(AS$3-$D34))*Gg_m3)))),0))","v":0},0,0,0,0,0,0,0,0,0,0,0,0,0,0,0,0,0,0,0,0,0,0,0,0,0,0,0,0,0,0,0,0,0,0,0,0,0,0,0,0]
[32,{"$f":"'CH4 from Abandoned Coal Mines'!D36","v":""},{"$f":"'CH4 from Abandoned Coal Mines'!H36","v":""},{"$f":"IFERROR(VALUE('CH4 from Abandoned Coal Mines'!J36), \"\")","v":""},{"$f":"IF('CH4 from Abandoned Coal Mines'!N36>0,'CH4 from Abandoned Coal Mines'!N36,'CH4 from Abandoned Coal Mines'!L36)","v":""},{"$f":"'CH4 from Abandoned Coal Mines'!P36","v":0},{"$f":"'CH4 from Abandoned Coal Mines'!R36","v":0},{"$f":"VLOOKUP(B35,'Abandoned Data'!$O$3:$V$187,6,FALSE)","v":""},{"$f":"VLOOKUP(B35,'Abandoned Data'!$O$3:$V$187,7,FALSE)","v":""},{"$f":"VLOOKUP(B35,'Abandoned Data'!$O$3:$V$187,8,FALSE)","v":""},"",null,null,null,null,null,null,"GA","Default Average",0.31483047200558667,0.10442425443381222,0.58074527356060102,null,32,0,0,0,0,0,0,0,0,0,0,0,0,0,0,0,0,0,0,0,0,0,0,0,0,0,0,0,0,0,0,0,0,0,0,0,0,0,0,0,0,0,0,0,0,0,0,0,0,0,0,0,0,0,0,0,0,0,0,0,0,0]
[33,{"$f":"'CH4 from Abandoned Coal Mines'!D37","v":""},{"$f":"'CH4 from Abandoned Coal Mines'!H37","v":""},{"$f":"IFERROR(VALUE('CH4 from Abandoned Coal Mines'!J37), \"\")","v":""},{"$f":"IF('CH4 from Abandoned Coal Mines'!N37>0,'CH4 from Abandoned Coal Mines'!N37,'CH4 from Abandoned Coal Mines'!L37)","v":""},{"$f":"'CH4 from Abandoned Coal Mines'!P37","v":0},{"$f":"'CH4 from Abandoned Coal Mines'!R37","v":0},{"$f":"VLOOKUP(B36,'Abandoned Data'!$O$3:$V$187,6,FALSE)","v":""},{"$f":"VLOOKUP(B36,'Abandoned Data'!$O$3:$V$187,7,FALSE)","v":""},{"$f":"VLOOKUP(B36,'Abandoned Data'!$O$3:$V$187,8,FALSE)","v":""},{"$f":"IFERROR(IF(E36=\"Venting\",((H36*mmcfd_m3)*((1+I36*($BC$3-D36))^J36)-G36)*Gg_m3,IF(E36=\"Sealed\",(((H36*mmcfd_m3)*((1+I36*($BC$3-D36))^J36)*(1-F36)-G36)*Gg_m3),IF(E36=\"Flooded\",((H36*mmcfd_m3)*EXP(-0.6728*($BC$3-D36))*Gg_m3),((H36*mmcfd_m3)*((1+I36*($BC$3-D36))^J36)-G36)*Gg_m3+(((H36*mmcfd_m3)*((1+I36*($BC$3-D36))^J36)*(1-0.8)-G36)*Gg_m3)+((H36*mmcfd_m3)*EXP(-0.6728*($BC$3-D36))*Gg_m3)))), \"\")","v":""},null,null,null,null,null,null,"HI","Default Average",0.31483047200558667,0.10442425443381222,0.58074527356060102,null,33,0,0,0,0,0,0,0,0,0,0,0,0,0,0,0,0,0,0,0,0,0,0,0,0,0,0,0,0,0,0,0,0,0,0,0,0,0,0,0,0,0,0,0,0,0,0,0,0,0,0,0,0,0,0,0,0,0,0,0,0,0]
[34,{"$f":"'CH4 from Abandoned Coal Mines'!D38","v":""},{"$f":"'CH4 from Abandoned Coal Mines'!H38","v":""},{"$f":"IFERROR(VALUE('CH4 from Abandoned Coal Mines'!J38), \"\")","v":""},{"$f":"IF('CH4 from Abandoned Coal Mines'!N38>0,'CH4 from Abandoned Coal Mines'!N38,'CH4 from Abandoned Coal Mines'!L38)","v":""},{"$f":"'CH4 from Abandoned Coal Mines'!P38","v":0},{"$f":"'CH4 from Abandoned Coal Mines'!R38","v":0},{"$f":"VLOOKUP(B37,'Abandoned Data'!$O$3:$V$187,6,FALSE)","v":""},{"$f":"VLOOKUP(B37,'Abandoned Data'!$O$3:$V$187,7,FALSE)","v":""},{"$f":"VLOOKUP(B37,'Abandoned Data'!$O$3:$V$187,8,FALSE)","v":""},"",null,null,null,null,null,null,"ID","Default Average",0.31483047200558667,0.10442425443381222,0.58074527356060102,null,34,0,0,0,0,0,0,0,0,0,0,0,0,0,0,0,0,0,0,0,0,0,0,0,0,0,0,0,0,0,0,0,0,0,0,0,0,0,0,0,0,0,0,0,0,0,0,0,0,0,0,0,0,0,0,0,0,0,0,0,0,0]
[35,{"$f":"'CH4 from Abandoned Coal Mines'!D39","v":""},{"$f":"'CH4 from Abandoned Coal Mines'!H39","v":""},{"$f":"IFERROR(VALUE('CH4 from Abandoned Coal Mines'!J39), \"\")","v":""},{"$f":"IF('CH4 from Abandoned Coal Mines'!N39>0,'CH4 from Abandoned Coal Mines'!N39,'CH4 from Abandoned Coal Mines'!L39)","v":""},{"$f":"'CH4 from Abandoned Coal Mines'!P39","v":0},{"$f":"'CH4 from Abandoned Coal Mines'!R39","v":0},{"$f":"VLOOKUP(B38,'Abandoned Data'!$O$3:$V$187,6,FALSE)","v":""},{"$f":"VLOOKUP(B38,'Abandoned Data'!$O$3:$V$187,7,FALSE)","v":""},{"$f":"VLOOKUP(B38,'Abandoned Data'!$O$3:$V$187,8,FALSE)","v":""},"",null,null,null,null,null,null,"IA","Default Average",0.31483047200558667,0.10442425443381222,0.58074527356060102,null,35,0,0,0,0,0,0,0,0,0,0,0,0,0,0,0,0,0,0,0,0,0,0,0,0,0,0,0,0,0,0,0,0,0,0,0,0,0,0,0,0,0,0,0,0,0,0,0,0,0,0,0,{"$f":"IF(ISERROR(IF($D38<BX$3,IF($E38=\"Venting\",(($H38*mmcfd_m3)*((1+$I38*(BX$3-$D38))^$J38)-$G38)*Gg_m3,IF($E38=\"Sealed\",((($H38*mmcfd_m3)*((1+$I38*(BX$3-$D38))^$J38)*(1-$F38)-$G38)*Gg_m3),IF($E38=\"Flooded\",(($H38*mmcfd_m3)*EXP(-0.6728*(BX$3-$D38))*Gg_m3),(($H38*mmcfd_m3)*((1+$I38*(BX$3-$D38))^$J38)-$G38)*Gg_m3+((($H38*mmcfd_m3)*((1+$I38*(BX$3-$D38))^$J38)*(1-0.8)-$G38)*Gg_m3)+(($H38*mmcfd_m3)*EXP(-0.6728*(BX$3-$D38))*Gg_m3)))),0)),0,IF($D38<BX$3,IF($E38=\"Venting\",(($H38*mmcfd_m3)*((1+$I38*(BX$3-$D38))^$J38)-$G38)*Gg_m3,IF($E38=\"Sealed\",((($H38*mmcfd_m3)*((1+$I38*(BX$3-$D38))^$J38)*(1-$F38)-$G38)*Gg_m3),IF($E38=\"Flooded\",(($H38*mmcfd_m3)*EXP(-0.6728*(BX$3-$D38))*Gg_m3),(($H38*mmcfd_m3)*((1+$I38*(BX$3-$D38))^$J38)-$G38)*Gg_m3+((($H38*mmcfd_m3)*((1+$I38*(BX$3-$D38))^$J38)*(1-0.8)-$G38)*Gg_m3)+(($H38*mmcfd_m3)*EXP(-0.6728*(BX$3-$D38))*Gg_m3)))),0))","v":0},0,0,0,0,0,0,0,0,0]
[36,{"$f":"'CH4 from Abandoned Coal Mines'!D40","v":""},{"$f":"'CH4 from Abandoned Coal Mines'!H40","v":""},{"$f":"IFERROR(VALUE('CH4 from Abandoned Coal Mines'!J40), \"\")","v":""},{"$f":"IF('CH4 from Abandoned Coal Mines'!N40>0,'CH4 from Abandoned Coal Mines'!N40,'CH4 from Abandoned Coal Mines'!L40)","v":""},{"$f":"'CH4 from Abandoned Coal Mines'!P40","v":0},{"$f":"'CH4 from Abandoned Coal Mines'!R40","v":0},{"$f":"VLOOKUP(B39,'Abandoned Data'!$O$3:$V$187,6,FALSE)","v":""},{"$f":"VLOOKUP(B39,'Abandoned Data'!$O$3:$V$187,7,FALSE)","v":""},{"$f":"VLOOKUP(B39,'Abandoned Data'!$O$3:$V$187,8,FALSE)","v":""},"",null,null,null,null,null,null,"KS","Default Average",0.31483047200558667,0.10442425443381222,0.58074527356060102,null,36,0,0,0,0,0,0,0,0,0,0,0,0,0,0,0,0,0,0,0,0,0,0,0,0,0,0,0,0,0,0,0,0,0,0,0,0,0,0,0,0,0,0,0,0,0,0,0,0,0,0,0,0,0,0,0,0,0,0,0,0,0]
[37,{"$f":"'CH4 from Abandoned Coal Mines'!D41","v":""},{"$f":"'CH4 from Abandoned Coal Mines'!H41","v":""},{"$f":"IFERROR(VALUE('CH4 from Abandoned Coal Mines'!J41), \"\")","v":""},{"$f":"IF('CH4 from Abandoned Coal Mines'!N41>0,'CH4 from Abandoned Coal Mines'!N41,'CH4 from Abandoned Coal Mines'!L41)","v":""},{"$f":"'CH4 from Abandoned Coal Mines'!P41","v":0},{"$f":"'CH4 from Abandoned Coal Mines'!R41","v":0},{"$f":"VLOOKUP(B40,'Abandoned Data'!$O$3:$V$187,6,FALSE)","v":""},{"$f":"VLOOKUP(B40,'Abandoned Data'!$O$3:$V$187,7,FALSE)","v":""},{"$f":"VLOOKUP(B40,'Abandoned Data'!$O$3:$V$187,8,FALSE)","v":""},"",null,null,null,null,null,null,"LA","Default Average",0.31483047200558667,0.10442425443381222,0.58074527356060102,null,37,0,0,0,0,0,0,0,0,0,0,0,0,0,0,0,0,0,0,0,0,0,0,0,0,0,0,0,0,0,0,0,0,0,0,0,0,0,0,0,0,0,0,0,0,0,0,0,0,0,0,0,0,0,0,0,0,0,0,0,0,0]
[38,{"$f":"'CH4 from Abandoned Coal Mines'!D42","v":""},{"$f":"'CH4 from Abandoned Coal Mines'!H42","v":""},{"$f":"IFERROR(VALUE('CH4 from Abandoned Coal Mines'!J42), \"\")","v":""},{"$f":"IF('CH4 from Abandoned Coal Mines'!N42>0,'CH4 from Abandoned Coal Mines'!N42,'CH4 from Abandoned Coal Mines'!L42)","v":""},{"$f":"'CH4 from Abandoned Coal Mines'!P42","v":0},{"$f":"'CH4 from Abandoned Coal Mines'!R42","v":0},{"$f":"VLOOKUP(B41,'Abandoned Data'!$O$3:$V$187,6,FALSE)","v":""},{"$f":"VLOOKUP(B41,'Abandoned Data'!$O$3:$V$187,7,FALSE)","v":""},{"$f":"VLOOKUP(B41,'Abandoned Data'!$O$3:$V$187,8,FALSE)","v":""},"",null,null,null,null,null,null,"ME","Default Average",0.31483047200558667,0.10442425443381222,0.58074527356060102,null,38,0,0,0,0,0,0,0,0,0,0,0,0,0,0,0,0,0,0,0,0,0,0,0,0,0,0,0,0,0,0,0,0,0,0,0,0,0,0,0,0,0,0,0,0,0,0,0,0,0,0,0,0,0,0,0,0,0,0,0,0,0]
[39,{"$f":"'CH4 from Abandoned Coal Mines'!D43","v":""},{"$f":"'CH4 from Abandoned Coal Mines'!H43","v":""},{"$f":"IFERROR(VALUE('CH4 from Abandoned Coal Mines'!J43), \"\")","v":""},{"$f":"IF('CH4 from Abandoned Coal Mines'!N43>0,'CH4 from Abandoned Coal Mines'!N43,'CH4 from Abandoned Coal Mines'!L43)","v":""},{"$f":"'CH4 from Abandoned Coal Mines'!P43","v":0},{"$f":"'CH4 from Abandoned Coal Mines'!R43","v":0},{"$f":"VLOOKUP(B42,'Abandoned Data'!$O$3:$V$187,6,FALSE)","v":""},{"$f":"VLOOKUP(B42,'Abandoned Data'!$O$3:$V$187,7,FALSE)","v":""},{"$f":"VLOOKUP(B42,'Abandoned Data'!$O$3:$V$187,8,FALSE)","v":""},"",null,null,null,null,null,null,"MA","Default Average",0.31483047200558667,0.10442425443381222,0.58074527356060102,null,39,0,0,0,0,0,0,0,0,0,0,0,0,0,0,0,0,0,0,0,0,0,0,0,0,0,0,0,0,0,0,0,0,0,0,0,0,0,0,0,0,0,0,0,0,0,0,0,0,0,0,0,0,0,0,0,0,0,0,0,0,0]
[40,{"$f":"'CH4 from Abandoned Coal Mines'!D44","v":""},{"$f":"'CH4 from Abandoned Coal Mines'!H44","v":""},{"$f":"IFERROR(VALUE('CH4 from Abandoned Coal Mines'!J44), \"\")","v":""},{"$f":"IF('CH4 from Abandoned Coal Mines'!N44>0,'CH4 from Abandoned Coal Mines'!N44,'CH4 from Abandoned Coal Mines'!L44)","v":""},{"$f":"'CH4 from Abandoned Coal Mines'!P44","v":0},{"$f":"'CH4 from Abandoned Coal Mines'!R44","v":0},{"$f":"VLOOKUP(B43,'Abandoned Data'!$O$3:$V$187,6,FALSE)","v":""},{"$f":"VLOOKUP(B43,'Abandoned Data'!$O$3:$V$187,7,FALSE)","v":""},{"$f":"VLOOKUP(B43,'Abandoned Data'!$O$3:$V$187,8,FALSE)","v":""},"",null,null,null,null,null,null,"MI","Default Average",0.31483047200558667,0.10442425443381222,0.58074527356060102,null,40,0,0,0,0,0,0,0,0,0,0,0,0,0,0,0,0,0,0,0,0,0,0,0,0,0,0,0,0,0,0,0,0,0,0,0,0,0,0,0,0,0,0,0,0,0,0,0,0,0,0,0,0,0,0,0,0,0,0,0,0,0]
[41,{"$f":"'CH4 from Abandoned Coal Mines'!D45","v":""},{"$f":"'CH4 from Abandoned Coal Mines'!H45","v":""},{"$f":"IFERROR(VALUE('CH4 from Abandoned Coal Mines'!J45), \"\")","v":""},{"$f":"IF('CH4 from Abandoned Coal Mines'!N45>0,'CH4 from Abandoned Coal Mines'!N45,'CH4 from Abandoned Coal Mines'!L45)","v":""},{"$f":"'CH4 from Abandoned Coal Mines'!P45","v":0},{"$f":"'CH4 from Abandoned Coal Mines'!R45","v":0},{"$f":"VLOOKUP(B44,'Abandoned Data'!$O$3:$V$187,6,FALSE)","v":""},{"$f":"VLOOKUP(B44,'Abandoned Data'!$O$3:$V$187,7,FALSE)","v":""},{"$f":"VLOOKUP(B44,'Abandoned Data'!$O$3:$V$187,8,FALSE)","v":""},"",null,null,null,null,null,null,"MN","Default Average",0.31483047200558667,0.10442425443381222,0.58074527356060102,null,41,{"$f":"IF(ISERROR(IF($D44<Y$3,IF($E44=\"Venting\",(($H44*mmcfd_m3)*((1+$I44*(Y$3-$D44))^$J44)-$G44)*Gg_m3,IF($E44=\"Sealed\",((($H44*mmcfd_m3)*((1+$I44*(Y$3-$D44))^$J44)*(1-$F44)-$G44)*Gg_m3),IF($E44=\"Flooded\",(($H44*mmcfd_m3)*EXP(-0.6728*(Y$3-$D44))*Gg_m3),(($H44*mmcfd_m3)*((1+$I44*(Y$3-$D44))^$J44)-$G44)*Gg_m3+((($H44*mmcfd_m3)*((1+$I44*(Y$3-$D44))^$J44)*(1-0.8)-$G44)*Gg_m3)+(($H44*mmcfd_m3)*EXP(-0.6728*(Y$3-$D44))*Gg_m3)))),0)),0,IF($D44<Y$3,IF($E44=\"Venting\",(($H44*mmcfd_m3)*((1+$I44*(Y$3-$D44))^$J44)-$G44)*Gg_m3,IF($E44=\"Sealed\",((($H44*mmcfd_m3)*((1+$I44*(Y$3-$D44))^$J44)*(1-$F44)-$G44)*Gg_m3),IF($E44=\"Flooded\",(($H44*mmcfd_m3)*EXP(-0.6728*(Y$3-$D44))*Gg_m3),(($H44*mmcfd_m3)*((1+$I44*(Y$3-$D44))^$J44)-$G44)*Gg_m3+((($H44*mmcfd_m3)*((1+$I44*(Y$3-$D44))^$J44)*(1-0.8)-$G44)*Gg_m3)+(($H44*mmcfd_m3)*EXP(-0.6728*(Y$3-$D44))*Gg_m3)))),0))","v":0},0,0,0,0,0,0,0,0,0,{"$f":"IF(ISERROR(IF($D44<AI$3,IF($E44=\"Venting\",(($H44*mmcfd_m3)*((1+$I44*(AI$3-$D44))^$J44)-$G44)*Gg_m3,IF($E44=\"Sealed\",((($H44*mmcfd_m3)*((1+$I44*(AI$3-$D44))^$J44)*(1-$F44)-$G44)*Gg_m3),IF($E44=\"Flooded\",(($H44*mmcfd_m3)*EXP(-0.6728*(AI$3-$D44))*Gg_m3),(($H44*mmcfd_m3)*((1+$I44*(AI$3-$D44))^$J44)-$G44)*Gg_m3+((($H44*mmcfd_m3)*((1+$I44*(AI$3-$D44))^$J44)*(1-0.8)-$G44)*Gg_m3)+(($H44*mmcfd_m3)*EXP(-0.6728*(AI$3-$D44))*Gg_m3)))),0)),0,IF($D44<AI$3,IF($E44=\"Venting\",(($H44*mmcfd_m3)*((1+$I44*(AI$3-$D44))^$J44)-$G44)*Gg_m3,IF($E44=\"Sealed\",((($H44*mmcfd_m3)*((1+$I44*(AI$3-$D44))^$J44)*(1-$F44)-$G44)*Gg_m3),IF($E44=\"Flooded\",(($H44*mmcfd_m3)*EXP(-0.6728*(AI$3-$D44))*Gg_m3),(($H44*mmcfd_m3)*((1+$I44*(AI$3-$D44))^$J44)-$G44)*Gg_m3+((($H44*mmcfd_m3)*((1+$I44*(AI$3-$D44))^$J44)*(1-0.8)-$G44)*Gg_m3)+(($H44*mmcfd_m3)*EXP(-0.6728*(AI$3-$D44))*Gg_m3)))),0))","v":0},0,0,0,0,0,0,0,0,0,{"$f":"IF(ISERROR(IF($D44<AS$3,IF($E44=\"Venting\",(($H44*mmcfd_m3)*((1+$I44*(AS$3-$D44))^$J44)-$G44)*Gg_m3,IF($E44=\"Sealed\",((($H44*mmcfd_m3)*((1+$I44*(AS$3-$D44))^$J44)*(1-$F44)-$G44)*Gg_m3),IF($E44=\"Flooded\",(($H44*mmcfd_m3)*EXP(-0.6728*(AS$3-$D44))*Gg_m3),(($H44*mmcfd_m3)*((1+$I44*(AS$3-$D44))^$J44)-$G44)*Gg_m3+((($H44*mmcfd_m3)*((1+$I44*(AS$3-$D44))^$J44)*(1-0.8)-$G44)*Gg_m3)+(($H44*mmcfd_m3)*EXP(-0.6728*(AS$3-$D44))*Gg_m3)))),0)),0,IF($D44<AS$3,IF($E44=\"Venting\",(($H44*mmcfd_m3)*((1+$I44*(AS$3-$D44))^$J44)-$G44)*Gg_m3,IF($E44=\"Sealed\",((($H44*mmcfd_m3)*((1+$I44*(AS$3-$D44))^$J44)*(1-$F44)-$G44)*Gg_m3),IF($E44=\"Flooded\",(($H44*mmcfd_m3)*EXP(-0.6728*(AS$3-$D44))*Gg_m3),(($H44*mmcfd_m3)*((1+$I44*(AS$3-$D44))^$J44)-$G44)*Gg_m3+((($H44*mmcfd_m3)*((1+$I44*(AS$3-$D44))^$J44)*(1-0.8)-$G44)*Gg_m3)+(($H44*mmcfd_m3)*EXP(-0.6728*(AS$3-$D44))*Gg_m3)))),0))","v":0},0,0,0,0,0,0,0,0,0,0,0,0,0,0,0,0,0,0,0,0,0,0,0,0,0,0,0,0,0,0,0,0,0,0,0,0,0,0,0,0]
[42,{"$f":"'CH4 from Abandoned Coal Mines'!D46","v":""},{"$f":"'CH4 from Abandoned Coal Mines'!H46","v":""},{"$f":"IFERROR(VALUE('CH4 from Abandoned Coal Mines'!J46), \"\")","v":""},{"$f":"IF('CH4 from Abandoned Coal Mines'!N46>0,'CH4 from Abandoned Coal Mines'!N46,'CH4 from Abandoned Coal Mines'!L46)","v":""},{"$f":"'CH4 from Abandoned Coal Mines'!P46","v":0},{"$f":"'CH4 from Abandoned Coal Mines'!R46","v":0},{"$f":"VLOOKUP(B45,'Abandoned Data'!$O$3:$V$187,6,FALSE)","v":""},{"$f":"VLOOKUP(B45,'Abandoned Data'!$O$3:$V$187,7,FALSE)","v":""},{"$f":"VLOOKUP(B45,'Abandoned Data'!$O$3:$V$187,8,FALSE)","v":""},"",null,null,null,null,null,null,"MS","Default Average",0.31483047200558667,0.10442425443381222,0.58074527356060102,null,42,0,0,0,0,0,0,0,0,0,0,0,0,0,0,0,0,0,0,0,0,0,0,0,0,0,0,0,0,0,0,0,0,0,0,0,0,0,0,0,0,0,0,0,0,0,0,0,0,0,0,0,0,0,0,0,0,0,0,0,0,0]
[43,{"$f":"'CH4 from Abandoned Coal Mines'!D47","v":""},{"$f":"'CH4 from Abandoned Coal Mines'!H47","v":""},{"$f":"IFERROR(VALUE('CH4 from Abandoned Coal Mines'!J47), \"\")","v":""},{"$f":"IF('CH4 from Abandoned Coal Mines'!N47>0,'CH4 from Abandoned Coal Mines'!N47,'CH4 from Abandoned Coal Mines'!L47)","v":""},{"$f":"'CH4 from Abandoned Coal Mines'!P47","v":0},{"$f":"'CH4 from Abandoned Coal Mines'!R47","v":0},{"$f":"VLOOKUP(B46,'Abandoned Data'!$O$3:$V$187,6,FALSE)","v":""},{"$f":"VLOOKUP(B46,'Abandoned Data'!$O$3:$V$187,7,FALSE)","v":""},{"$f":"VLOOKUP(B46,'Abandoned Data'!$O$3:$V$187,8,FALSE)","v":""},"",null,null,null,null,null,null,"MO","Default Average",0.31483047200558667,0.10442425443381222,0.58074527356060102,null,43,0,0,0,0,0,0,0,0,0,0,0,0,0,0,0,0,0,0,0,0,0,0,0,0,0,0,0,0,0,0,0,0,0,0,0,0,0,0,0,0,0,0,0,0,0,0,0,0,0,0,0,0,0,0,0,0,0,0,0,0,0]
[44,{"$f":"'CH4 from Abandoned Coal Mines'!D48","v":""},{"$f":"'CH4 from Abandoned Coal Mines'!H48","v":""},{"$f":"IFERROR(VALUE('CH4 from Abandoned Coal Mines'!J48), \"\")","v":""},{"$f":"IF('CH4 from Abandoned Coal Mines'!N48>0,'CH4 from Abandoned Coal Mines'!N48,'CH4 from Abandoned Coal Mines'!L48)","v":""},{"$f":"'CH4 from Abandoned Coal Mines'!P48","v":0},{"$f":"'CH4 from Abandoned Coal Mines'!R48","v":0},{"$f":"VLOOKUP(B47,'Abandoned Data'!$O$3:$V$187,6,FALSE)","v":""},{"$f":"VLOOKUP(B47,'Abandoned Data'!$O$3:$V$187,7,FALSE)","v":""},{"$f":"VLOOKUP(B47,'Abandoned Data'!$O$3:$V$187,8,FALSE)","v":""},"",null,null,null,null,null,null,"MT","Default Average",0.31483047200558667,0.10442425443381222,0.58074527356060102,null,44,0,0,0,0,0,0,0,0,0,0,0,0,0,0,0,0,0,0,0,0,0,0,0,0,0,0,0,0,0,0,0,0,0,0,0,0,0,0,0,0,0,{"$f":"IF(ISERROR(IF($D47<BN$3,IF($E47=\"Venting\",(($H47*mmcfd_m3)*((1+$I47*(BN$3-$D47))^$J47)-$G47)*Gg_m3,IF($E47=\"Sealed\",((($H47*mmcfd_m3)*((1+$I47*(BN$3-$D47))^$J47)*(1-$F47)-$G47)*Gg_m3),IF($E47=\"Flooded\",(($H47*mmcfd_m3)*EXP(-0.6728*(BN$3-$D47))*Gg_m3),(($H47*mmcfd_m3)*((1+$I47*(BN$3-$D47))^$J47)-$G47)*Gg_m3+((($H47*mmcfd_m3)*((1+$I47*(BN$3-$D47))^$J47)*(1-0.8)-$G47)*Gg_m3)+(($H47*mmcfd_m3)*EXP(-0.6728*(BN$3-$D47))*Gg_m3)))),0)),0,IF($D47<BN$3,IF($E47=\"Venting\",(($H47*mmcfd_m3)*((1+$I47*(BN$3-$D47))^$J47)-$G47)*Gg_m3,IF($E47=\"Sealed\",((($H47*mmcfd_m3)*((1+$I47*(BN$3-$D47))^$J47)*(1-$F47)-$G47)*Gg_m3),IF($E47=\"Flooded\",(($H47*mmcfd_m3)*EXP(-0.6728*(BN$3-$D47))*Gg_m3),(($H47*mmcfd_m3)*((1+$I47*(BN$3-$D47))^$J47)-$G47)*Gg_m3+((($H47*mmcfd_m3)*((1+$I47*(BN$3-$D47))^$J47)*(1-0.8)-$G47)*Gg_m3)+(($H47*mmcfd_m3)*EXP(-0.6728*(BN$3-$D47))*Gg_m3)))),0))","v":0},0,0,0,0,0,0,0,0,0,0,0,0,0,0,0,0,0,0,0]
[45,{"$f":"'CH4 from Abandoned Coal Mines'!D49","v":""},{"$f":"'CH4 from Abandoned Coal Mines'!H49","v":""},{"$f":"IFERROR(VALUE('CH4 from Abandoned Coal Mines'!J49), \"\")","v":""},{"$f":"IF('CH4 from Abandoned Coal Mines'!N49>0,'CH4 from Abandoned Coal Mines'!N49,'CH4 from Abandoned Coal Mines'!L49)","v":""},{"$f":"'CH4 from Abandoned Coal Mines'!P49","v":0},{"$f":"'CH4 from Abandoned Coal Mines'!R49","v":0},{"$f":"VLOOKUP(B48,'Abandoned Data'!$O$3:$V$187,6,FALSE)","v":""},{"$f":"VLOOKUP(B48,'Abandoned Data'!$O$3:$V$187,7,FALSE)","v":""},{"$f":"VLOOKUP(B48,'Abandoned Data'!$O$3:$V$187,8,FALSE)","v":""},"",null,null,null,null,null,null,"NE","Default Average",0.31483047200558667,0.10442425443381222,0.58074527356060102,null,45,0,0,0,0,0,0,0,0,0,0,0,0,0,0,0,0,0,0,0,0,0,0,0,0,0,0,0,0,0,0,0,0,0,0,0,0,0,0,0,0,0,0,0,0,0,0,0,0,0,0,0,0,0,0,0,0,0,0,0,0,0]
[46,{"$f":"'CH4 from Abandoned Coal Mines'!D50","v":""},{"$f":"'CH4 from Abandoned Coal Mines'!H50","v":""},{"$f":"IFERROR(VALUE('CH4 from Abandoned Coal Mines'!J50), \"\")","v":""},{"$f":"IF('CH4 from Abandoned Coal Mines'!N50>0,'CH4 from Abandoned Coal Mines'!N50,'CH4 from Abandoned Coal Mines'!L50)","v":""},{"$f":"'CH4 from Abandoned Coal Mines'!P50","v":0},{"$f":"'CH4 from Abandoned Coal Mines'!R50","v":0},{"$f":"VLOOKUP(B49,'Abandoned Data'!$O$3:$V$187,6,FALSE)","v":""},{"$f":"VLOOKUP(B49,'Abandoned Data'!$O$3:$V$187,7,FALSE)","v":""},{"$f":"VLOOKUP(B49,'Abandoned Data'!$O$3:$V$187,8,FALSE)","v":""},"",null,null,null,null,null,null,"NV","Default Average",0.31483047200558667,0.10442425443381222,0.58074527356060102,null,46,0,0,0,0,0,0,0,0,0,0,0,0,0,0,0,0,0,0,0,0,0,0,0,0,0,0,0,0,0,0,0,0,0,0,0,0,0,0,0,0,0,0,0,0,0,0,0,0,0,0,0,0,0,0,0,0,0,0,0,0,0]
[47,{"$f":"'CH4 from Abandoned Coal Mines'!D51","v":""},{"$f":"'CH4 from Abandoned Coal Mines'!H51","v":""},{"$f":"IFERROR(VALUE('CH4 from Abandoned Coal Mines'!J51), \"\")","v":""},{"$f":"IF('CH4 from Abandoned Coal Mines'!N51>0,'CH4 from Abandoned Coal Mines'!N51,'CH4 from Abandoned Coal Mines'!L51)","v":""},{"$f":"'CH4 from Abandoned Coal Mines'!P51","v":0},{"$f":"'CH4 from Abandoned Coal Mines'!R51","v":0},{"$f":"VLOOKUP(B50,'Abandoned Data'!$O$3:$V$187,6,FALSE)","v":""},{"$f":"VLOOKUP(B50,'Abandoned Data'!$O$3:$V$187,7,FALSE)","v":""},{"$f":"VLOOKUP(B50,'Abandoned Data'!$O$3:$V$187,8,FALSE)","v":""},"",null,null,null,null,null,null,"NH","Default Average",0.31483047200558667,0.10442425443381222,0.58074527356060102,null,47,0,0,0,0,0,0,0,0,0,0,0,0,0,0,0,0,0,0,0,0,0,0,0,0,0,0,0,0,0,0,0,0,0,0,0,0,0,0,0,0,0,0,0,0,0,0,0,0,0,0,0,0,0,0,0,0,0,0,0,0,0]
[48,{"$f":"'CH4 from Abandoned Coal Mines'!D52","v":""},{"$f":"'CH4 from Abandoned Coal Mines'!H52","v":""},{"$f":"IFERROR(VALUE('CH4 from Abandoned Coal Mines'!J52), \"\")","v":""},{"$f":"IF('CH4 from Abandoned Coal Mines'!N52>0,'CH4 from Abandoned Coal Mines'!N52,'CH4 from Abandoned Coal Mines'!L52)","v":""},{"$f":"'CH4 from Abandoned Coal Mines'!P52","v":0},{"$f":"'CH4 from Abandoned Coal Mines'!R52","v":0},{"$f":"VLOOKUP(B51,'Abandoned Data'!$O$3:$V$187,6,FALSE)","v":""},{"$f":"VLOOKUP(B51,'Abandoned Data'!$O$3:$V$187,7,FALSE)","v":""},{"$f":"VLOOKUP(B51,'Abandoned Data'!$O$3:$V$187,8,FALSE)","v":""},"",null,null,null,null,null,null,"NJ","Default Average",0.31483047200558667,0.10442425443381222,0.58074527356060102,null,48,0,0,0,0,0,0,0,0,0,0,0,0,0,0,0,0,0,0,0,0,0,0,0,0,0,0,0,0,0,0,0,0,0,0,0,0,0,0,0,0,0,0,0,0,0,0,0,0,0,0,0,0,0,0,0,0,0,0,0,0,0]
[49,{"$f":"'CH4 from Abandoned Coal Mines'!D53","v":""},{"$f":"'CH4 from Abandoned Coal Mines'!H53","v":""},{"$f":"IFERROR(VALUE('CH4 from Abandoned Coal Mines'!J53), \"\")","v":""},{"$f":"IF('CH4 from Abandoned Coal Mines'!N53>0,'CH4 from Abandoned Coal Mines'!N53,'CH4 from Abandoned Coal Mines'!L53)","v":""},{"$f":"'CH4 from Abandoned Coal Mines'!P53","v":0},{"$f":"'CH4 from Abandoned Coal Mines'!R53","v":0},{"$f":"VLOOKUP(B52,'Abandoned Data'!$O$3:$V$187,6,FALSE)","v":""},{"$f":"VLOOKUP(B52,'Abandoned Data'!$O$3:$V$187,7,FALSE)","v":""},{"$f":"VLOOKUP(B52,'Abandoned Data'!$O$3:$V$187,8,FALSE)","v":""},"",null,null,null,null,null,null,"NY","Default Average",0.31483047200558667,0.10442425443381222,0.58074527356060102,null,49,0,0,0,0,0,0,0,0,0,0,0,0,0,0,0,0,0,0,0,0,0,0,0,0,0,0,0,0,0,0,0,0,0,0,0,0,0,0,0,0,0,0,0,0,0,0,0,0,0,0,0,0,0,0,0,0,0,0,0,0,0]
[50,{"$f":"'CH4 from Abandoned Coal Mines'!D54","v":""},{"$f":"'CH4 from Abandoned Coal Mines'!H54","v":""},{"$f":"IFERROR(VALUE('CH4 from Abandoned Coal Mines'!J54), \"\")","v":""},{"$f":"IF('CH4 from Abandoned Coal Mines'!N54>0,'CH4 from Abandoned Coal Mines'!N54,'CH4 from Abandoned Coal Mines'!L54)","v":""},{"$f":"'CH4 from Abandoned Coal Mines'!P54","v":0},{"$f":"'CH4 from Abandoned Coal Mines'!R54","v":0},{"$f":"VLOOKUP(B53,'Abandoned Data'!$O$3:$V$187,6,FALSE)","v":""},{"$f":"VLOOKUP(B53,'Abandoned Data'!$O$3:$V$187,7,FALSE)","v":""},{"$f":"VLOOKUP(B53,'Abandoned Data'!$O$3:$V$187,8,FALSE)","v":""},"",null,null,null,null,null,null,"NC","Default Average",0.31483047200558667,0.10442425443381222,0.58074527356060102,null,50,0,0,0,0,0,0,0,0,0,0,0,0,0,0,0,0,0,0,0,0,0,0,0,0,0,0,0,0,0,0,0,0,0,0,0,0,0,0,0,0,0,0,0,0,0,0,0,0,0,0,0,0,0,0,0,0,0,0,0,0,0]
[51,{"$f":"'CH4 from Abandoned Coal Mines'!D55","v":""},{"$f":"'CH4 from Abandoned Coal Mines'!H55","v":""},{"$f":"IFERROR(VALUE('CH4 from Abandoned Coal Mines'!J55), \"\")","v":""},{"$f":"IF('CH4 from Abandoned Coal Mines'!N55>0,'CH4 from Abandoned Coal Mines'!N55,'CH4 from Abandoned Coal Mines'!L55)","v":""},{"$f":"'CH4 from Abandoned Coal Mines'!P55","v":0},{"$f":"'CH4 from Abandoned Coal Mines'!R55","v":0},{"$f":"VLOOKUP(B54,'Abandoned Data'!$O$3:$V$187,6,FALSE)","v":""},{"$f":"VLOOKUP(B54,'Abandoned Data'!$O$3:$V$187,7,FALSE)","v":""},{"$f":"VLOOKUP(B54,'Abandoned Data'!$O$3:$V$187,8,FALSE)","v":""},"",null,null,null,null,null,null,"ND","Default Average",0.31483047200558667,0.10442425443381222,0.58074527356060102,null,51,{"$f":"IF(ISERROR(IF($D54<Y$3,IF($E54=\"Venting\",(($H54*mmcfd_m3)*((1+$I54*(Y$3-$D54))^$J54)-$G54)*Gg_m3,IF($E54=\"Sealed\",((($H54*mmcfd_m3)*((1+$I54*(Y$3-$D54))^$J54)*(1-$F54)-$G54)*Gg_m3),IF($E54=\"Flooded\",(($H54*mmcfd_m3)*EXP(-0.6728*(Y$3-$D54))*Gg_m3),(($H54*mmcfd_m3)*((1+$I54*(Y$3-$D54))^$J54)-$G54)*Gg_m3+((($H54*mmcfd_m3)*((1+$I54*(Y$3-$D54))^$J54)*(1-0.8)-$G54)*Gg_m3)+(($H54*mmcfd_m3)*EXP(-0.6728*(Y$3-$D54))*Gg_m3)))),0)),0,IF($D54<Y$3,IF($E54=\"Venting\",(($H54*mmcfd_m3)*((1+$I54*(Y$3-$D54))^$J54)-$G54)*Gg_m3,IF($E54=\"Sealed\",((($H54*mmcfd_m3)*((1+$I54*(Y$3-$D54))^$J54)*(1-$F54)-$G54)*Gg_m3),IF($E54=\"Flooded\",(($H54*mmcfd_m3)*EXP(-0.6728*(Y$3-$D54))*Gg_m3),(($H54*mmcfd_m3)*((1+$I54*(Y$3-$D54))^$J54)-$G54)*Gg_m3+((($H54*mmcfd_m3)*((1+$I54*(Y$3-$D54))^$J54)*(1-0.8)-$G54)*Gg_m3)+(($H54*mmcfd_m3)*EXP(-0.6728*(Y$3-$D54))*Gg_m3)))),0))","v":0},0,0,0,0,0,0,0,0,0,{"$f":"IF(ISERROR(IF($D54<AI$3,IF($E54=\"Venting\",(($H54*mmcfd_m3)*((1+$I54*(AI$3-$D54))^$J54)-$G54)*Gg_m3,IF($E54=\"Sealed\",((($H54*mmcfd_m3)*((1+$I54*(AI$3-$D54))^$J54)*(1-$F54)-$G54)*Gg_m3),IF($E54=\"Flooded\",(($H54*mmcfd_m3)*EXP(-0.6728*(AI$3-$D54))*Gg_m3),(($H54*mmcfd_m3)*((1+$I54*(AI$3-$D54))^$J54)-$G54)*Gg_m3+((($H54*mmcfd_m3)*((1+$I54*(AI$3-$D54))^$J54)*(1-0.8)-$G54)*Gg_m3)+(($H54*mmcfd_m3)*EXP(-0.6728*(AI$3-$D54))*Gg_m3)))),0)),0,IF($D54<AI$3,IF($E54=\"Venting\",(($H54*mmcfd_m3)*((1+$I54*(AI$3-$D54))^$J54)-$G54)*Gg_m3,IF($E54=\"Sealed\",((($H54*mmcfd_m3)*((1+$I54*(AI$3-$D54))^$J54)*(1-$F54)-$G54)*Gg_m3),IF($E54=\"Flooded\",(($H54*mmcfd_m3)*EXP(-0.6728*(AI$3-$D54))*Gg_m3),(($H54*mmcfd_m3)*((1+$I54*(AI$3-$D54))^$J54)-$G54)*Gg_m3+((($H54*mmcfd_m3)*((1+$I54*(AI$3-$D54))^$J54)*(1-0.8)-$G54)*Gg_m3)+(($H54*mmcfd_m3)*EXP(-0.6728*(AI$3-$D54))*Gg_m3)))),0))","v":0},0,0,0,0,0,0,0,0,0,{"$f":"IF(ISERROR(IF($D54<AS$3,IF($E54=\"Venting\",(($H54*mmcfd_m3)*((1+$I54*(AS$3-$D54))^$J54)-$G54)*Gg_m3,IF($E54=\"Sealed\",((($H54*mmcfd_m3)*((1+$I54*(AS$3-$D54))^$J54)*(1-$F54)-$G54)*Gg_m3),IF($E54=\"Flooded\",(($H54*mmcfd_m3)*EXP(-0.6728*(AS$3-$D54))*Gg_m3),(($H54*mmcfd_m3)*((1+$I54*(AS$3-$D54))^$J54)-$G54)*Gg_m3+((($H54*mmcfd_m3)*((1+$I54*(AS$3-$D54))^$J54)*(1-0.8)-$G54)*Gg_m3)+(($H54*mmcfd_m3)*EXP(-0.6728*(AS$3-$D54))*Gg_m3)))),0)),0,IF($D54<AS$3,IF($E54=\"Venting\",(($H54*mmcfd_m3)*((1+$I54*(AS$3-$D54))^$J54)-$G54)*Gg_m3,IF($E54=\"Sealed\",((($H54*mmcfd_m3)*((1+$I54*(AS$3-$D54))^$J54)*(1-$F54)-$G54)*Gg_m3),IF($E54=\"Flooded\",(($H54*mmcfd_m3)*EXP(-0.6728*(AS$3-$D54))*Gg_m3),(($H54*mmcfd_m3)*((1+$I54*(AS$3-$D54))^$J54)-$G54)*Gg_m3+((($H54*mmcfd_m3)*((1+$I54*(AS$3-$D54))^$J54)*(1-0.8)-$G54)*Gg_m3)+(($H54*mmcfd_m3)*EXP(-0.6728*(AS$3-$D54))*Gg_m3)))),0))","v":0},0,0,0,0,0,0,0,0,0,0,0,0,0,0,0,0,0,0,0,0,0,0,0,0,0,0,0,0,0,0,0,0,0,0,0,0,0,0,0,0]
[52,{"$f":"'CH4 from Abandoned Coal Mines'!D56","v":""},{"$f":"'CH4 from Abandoned Coal Mines'!H56","v":""},{"$f":"IFERROR(VALUE('CH4 from Abandoned Coal Mines'!J56), \"\")","v":""},{"$f":"IF('CH4 from Abandoned Coal Mines'!N56>0,'CH4 from Abandoned Coal Mines'!N56,'CH4 from Abandoned Coal Mines'!L56)","v":""},{"$f":"'CH4 from Abandoned Coal Mines'!P56","v":0},{"$f":"'CH4 from Abandoned Coal Mines'!R56","v":0},{"$f":"VLOOKUP(B55,'Abandoned Data'!$O$3:$V$187,6,FALSE)","v":""},{"$f":"VLOOKUP(B55,'Abandoned Data'!$O$3:$V$187,7,FALSE)","v":""},{"$f":"VLOOKUP(B55,'Abandoned Data'!$O$3:$V$187,8,FALSE)","v":""},"",null,null,null,null,null,null,"OR","Default Average",0.31483047200558667,0.10442425443381222,0.58074527356060102,null,52,0,0,0,0,0,0,0,0,0,0,0,0,0,0,0,0,0,0,0,0,0,0,0,0,0,0,0,0,0,0,0,0,0,0,0,0,0,0,0,0,0,0,0,0,0,0,0,0,0,0,0,0,0,0,0,0,0,0,0,0,0]
[53,{"$f":"'CH4 from Abandoned Coal Mines'!D57","v":""},{"$f":"'CH4 from Abandoned Coal Mines'!H57","v":""},{"$f":"IFERROR(VALUE('CH4 from Abandoned Coal Mines'!J57), \"\")","v":""},{"$f":"IF('CH4 from Abandoned Coal Mines'!N57>0,'CH4 from Abandoned Coal Mines'!N57,'CH4 from Abandoned Coal Mines'!L57)","v":""},{"$f":"'CH4 from Abandoned Coal Mines'!P57","v":0},{"$f":"'CH4 from Abandoned Coal Mines'!R57","v":0},{"$f":"VLOOKUP(B56,'Abandoned Data'!$O$3:$V$187,6,FALSE)","v":""},{"$f":"VLOOKUP(B56,'Abandoned Data'!$O$3:$V$187,7,FALSE)","v":""},{"$f":"VLOOKUP(B56,'Abandoned Data'!$O$3:$V$187,8,FALSE)","v":""},"",null,null,null,null,null,null,"RI","Default Average",0.31483047200558667,0.10442425443381222,0.58074527356060102,null,53,0,0,0,0,0,0,0,0,0,0,0,0,0,0,0,0,0,0,0,0,0,0,0,0,0,0,0,0,0,0,0,{"$f":"IF(ISERROR(IF($D56<BD$3,IF($E56=\"Venting\",(($H56*mmcfd_m3)*((1+$I56*(BD$3-$D56))^$J56)-$G56)*Gg_m3,IF($E56=\"Sealed\",((($H56*mmcfd_m3)*((1+$I56*(BD$3-$D56))^$J56)*(1-$F56)-$G56)*Gg_m3),IF($E56=\"Flooded\",(($H56*mmcfd_m3)*EXP(-0.6728*(BD$3-$D56))*Gg_m3),(($H56*mmcfd_m3)*((1+$I56*(BD$3-$D56))^$J56)-$G56)*Gg_m3+((($H56*mmcfd_m3)*((1+$I56*(BD$3-$D56))^$J56)*(1-0.8)-$G56)*Gg_m3)+(($H56*mmcfd_m3)*EXP(-0.6728*(BD$3-$D56))*Gg_m3)))),0)),0,IF($D56<BD$3,IF($E56=\"Venting\",(($H56*mmcfd_m3)*((1+$I56*(BD$3-$D56))^$J56)-$G56)*Gg_m3,IF($E56=\"Sealed\",((($H56*mmcfd_m3)*((1+$I56*(BD$3-$D56))^$J56)*(1-$F56)-$G56)*Gg_m3),IF($E56=\"Flooded\",(($H56*mmcfd_m3)*EXP(-0.6728*(BD$3-$D56))*Gg_m3),(($H56*mmcfd_m3)*((1+$I56*(BD$3-$D56))^$J56)-$G56)*Gg_m3+((($H56*mmcfd_m3)*((1+$I56*(BD$3-$D56))^$J56)*(1-0.8)-$G56)*Gg_m3)+(($H56*mmcfd_m3)*EXP(-0.6728*(BD$3-$D56))*Gg_m3)))),0))","v":0},0,0,0,0,0,0,0,0,0,0,0,0,0,0,0,0,0,0,0,0,0,0,0,0,0,0,0,0,0]
[54,{"$f":"'CH4 from Abandoned Coal Mines'!D58","v":""},{"$f":"'CH4 from Abandoned Coal Mines'!H58","v":""},{"$f":"IFERROR(VALUE('CH4 from Abandoned Coal Mines'!J58), \"\")","v":""},{"$f":"IF('CH4 from Abandoned Coal Mines'!N58>0,'CH4 from Abandoned Coal Mines'!N58,'CH4 from Abandoned Coal Mines'!L58)","v":""},{"$f":"'CH4 from Abandoned Coal Mines'!P58","v":0},{"$f":"'CH4 from Abandoned Coal Mines'!R58","v":0},{"$f":"VLOOKUP(B57,'Abandoned Data'!$O$3:$V$187,6,FALSE)","v":""},{"$f":"VLOOKUP(B57,'Abandoned Data'!$O$3:$V$187,7,FALSE)","v":""},{"$f":"VLOOKUP(B57,'Abandoned Data'!$O$3:$V$187,8,FALSE)","v":""},"",null,null,null,null,null,null,"SC","Default Average",0.31483047200558667,0.10442425443381222,0.58074527356060102,null,54,0,0,0,0,0,0,0,0,0,0,0,0,0,0,0,0,0,0,0,0,0,0,0,0,0,0,0,0,0,0,0,0,0,0,0,0,0,0,0,0,0,0,0,0,0,0,0,0,0,0,0,0,0,0,0,0,0,0,0,0,0]
[55,{"$f":"'CH4 from Abandoned Coal Mines'!D59","v":""},{"$f":"'CH4 from Abandoned Coal Mines'!H59","v":""},{"$f":"IFERROR(VALUE('CH4 from Abandoned Coal Mines'!J59), \"\")","v":""},{"$f":"IF('CH4 from Abandoned Coal Mines'!N59>0,'CH4 from Abandoned Coal Mines'!N59,'CH4 from Abandoned Coal Mines'!L59)","v":""},{"$f":"'CH4 from Abandoned Coal Mines'!P59","v":0},{"$f":"'CH4 from Abandoned Coal Mines'!R59","v":0},{"$f":"VLOOKUP(B58,'Abandoned Data'!$O$3:$V$187,6,FALSE)","v":""},{"$f":"VLOOKUP(B58,'Abandoned Data'!$O$3:$V$187,7,FALSE)","v":""},{"$f":"VLOOKUP(B58,'Abandoned Data'!$O$3:$V$187,8,FALSE)","v":""},"",null,null,null,null,null,null,"SD","Default Average",0.31483047200558667,0.10442425443381222,0.58074527356060102,null,55,0,0,0,0,0,0,0,0,0,0,0,0,0,0,0,0,0,0,0,0,0,0,0,0,0,0,0,0,0,0,0,0,0,0,0,0,0,0,0,0,0,0,0,0,0,0,0,0,0,0,0,0,0,0,0,0,0,0,0,0,0]
[56,{"$f":"'CH4 from Abandoned Coal Mines'!D60","v":""},{"$f":"'CH4 from Abandoned Coal Mines'!H60","v":""},{"$f":"IFERROR(VALUE('CH4 from Abandoned Coal Mines'!J60), \"\")","v":""},{"$f":"IF('CH4 from Abandoned Coal Mines'!N60>0,'CH4 from Abandoned Coal Mines'!N60,'CH4 from Abandoned Coal Mines'!L60)","v":""},{"$f":"'CH4 from Abandoned Coal Mines'!P60","v":0},{"$f":"'CH4 from Abandoned Coal Mines'!R60","v":0},{"$f":"VLOOKUP(B59,'Abandoned Data'!$O$3:$V$187,6,FALSE)","v":""},{"$f":"VLOOKUP(B59,'Abandoned Data'!$O$3:$V$187,7,FALSE)","v":""},{"$f":"VLOOKUP(B59,'Abandoned Data'!$O$3:$V$187,8,FALSE)","v":""},"",null,null,null,null,null,null,"TX","Default Average",0.31483047200558667,0.10442425443381222,0.58074527356060102,null,56,0,0,0,0,0,0,0,0,0,0,0,0,0,0,0,0,0,0,0,0,0,0,0,0,0,0,0,0,0,0,0,0,0,0,0,0,0,0,0,0,0,0,0,0,0,0,0,0,0,0,0,0,0,0,0,0,0,0,0,0,0]
[57,{"$f":"'CH4 from Abandoned Coal Mines'!D61","v":""},{"$f":"'CH4 from Abandoned Coal Mines'!H61","v":""},{"$f":"IFERROR(VALUE('CH4 from Abandoned Coal Mines'!J61), \"\")","v":""},{"$f":"IF('CH4 from Abandoned Coal Mines'!N61>0,'CH4 from Abandoned Coal Mines'!N61,'CH4 from Abandoned Coal Mines'!L61)","v":""},{"$f":"'CH4 from Abandoned Coal Mines'!P61","v":0},{"$f":"'CH4 from Abandoned Coal Mines'!R61","v":0},{"$f":"VLOOKUP(B60,'Abandoned Data'!$O$3:$V$187,6,FALSE)","v":""},{"$f":"VLOOKUP(B60,'Abandoned Data'!$O$3:$V$187,7,FALSE)","v":""},{"$f":"VLOOKUP(B60,'Abandoned Data'!$O$3:$V$187,8,FALSE)","v":""},"",null,null,null,null,null,null,"VT","Default Average",0.31483047200558667,0.10442425443381222,0.58074527356060102,null,57,0,0,0,0,0,0,0,0,0,0,0,0,0,0,0,0,0,0,0,0,0,0,0,0,0,0,0,0,0,0,0,0,0,0,0,0,0,0,0,0,0,0,0,0,0,0,0,0,0,0,0,0,0,0,0,0,0,0,0,0,0]
[58,{"$f":"'CH4 from Abandoned Coal Mines'!D62","v":""},{"$f":"'CH4 from Abandoned Coal Mines'!H62","v":""},{"$f":"IFERROR(VALUE('CH4 from Abandoned Coal Mines'!J62), \"\")","v":""},{"$f":"IF('CH4 from Abandoned Coal Mines'!N62>0,'CH4 from Abandoned Coal Mines'!N62,'CH4 from Abandoned Coal Mines'!L62)","v":""},{"$f":"'CH4 from Abandoned Coal Mines'!P62","v":0},{"$f":"'CH4 from Abandoned Coal Mines'!R62","v":0},{"$f":"VLOOKUP(B61,'Abandoned Data'!$O$3:$V$187,6,FALSE)","v":""},{"$f":"VLOOKUP(B61,'Abandoned Data'!$O$3:$V$187,7,FALSE)","v":""},{"$f":"VLOOKUP(B61,'Abandoned Data'!$O$3:$V$187,8,FALSE)","v":""},"",null,null,null,null,null,null,"WA","Default Average",0.31483047200558667,0.10442425443381222,0.58074527356060102,null,58,0,0,0,0,0,0,0,0,0,0,0,0,0,0,0,0,0,0,0,0,0,0,0,0,0,0,0,0,0,0,0,0,0,0,0,0,0,0,0,0,0,0,0,0,0,0,0,0,0,0,0,0,0,0,0,0,0,0,0,0,0]
[59,{"$f":"'CH4 from Abandoned Coal Mines'!D63","v":""},{"$f":"'CH4 from Abandoned Coal Mines'!H63","v":""},{"$f":"IFERROR(VALUE('CH4 from Abandoned Coal Mines'!J63), \"\")","v":""},{"$f":"IF('CH4 from Abandoned Coal Mines'!N63>0,'CH4 from Abandoned Coal Mines'!N63,'CH4 from Abandoned Coal Mines'!L63)","v":""},{"$f":"'CH4 from Abandoned Coal Mines'!P63","v":0},{"$f":"'CH4 from Abandoned Coal Mines'!R63","v":0},{"$f":"VLOOKUP(B62,'Abandoned Data'!$O$3:$V$187,6,FALSE)","v":""},{"$f":"VLOOKUP(B62,'Abandoned Data'!$O$3:$V$187,7,FALSE)","v":""},{"$f":"VLOOKUP(B62,'Abandoned Data'!$O$3:$V$187,8,FALSE)","v":""},"",null,null,null,null,null,null,"WI","Default Average",0.31483047200558667,0.10442425443381222,0.58074527356060102,null,59,0,0,0,0,0,0,0,0,0,0,0,0,0,0,0,0,0,0,0,0,0,0,0,0,0,0,0,0,0,0,0,0,0,0,0,0,0,0,0,0,0,0,0,0,0,0,0,0,0,0,0,0,0,0,0,0,0,0,0,0,0]
[60,{"$f":"'CH4 from Abandoned Coal Mines'!D64","v":""},{"$f":"'CH4 from Abandoned Coal Mines'!H64","v":""},{"$f":"IFERROR(VALUE('CH4 from Abandoned Coal Mines'!J64), \"\")","v":""},{"$f":"IF('CH4 from Abandoned Coal Mines'!N64>0,'CH4 from Abandoned Coal Mines'!N64,'CH4 from Abandoned Coal Mines'!L64)","v":""},{"$f":"'CH4 from Abandoned Coal Mines'!P64","v":0},{"$f":"'CH4 from Abandoned Coal Mines'!R64","v":0},{"$f":"VLOOKUP(B63,'Abandoned Data'!$O$3:$V$187,6,FALSE)","v":""},{"$f":"VLOOKUP(B63,'Abandoned Data'!$O$3:$V$187,7,FALSE)","v":""},{"$f":"VLOOKUP(B63,'Abandoned Data'!$O$3:$V$187,8,FALSE)","v":""},"",null,null,null,null,null,null,"WY","Default Average",0.31483047200558667,0.10442425443381222,0.58074527356060102,null,60,0,0,0,0,0,0,0,0,0,0,0,0,0,0,0,0,0,0,0,0,0,0,0,0,0,0,0,0,0,0,0,0,0,0,0,0,0,0,0,0,0,0,0,0,0,0,0,0,0,0,0,0,0,0,0,0,0,0,0,0,0]
[61,{"$f":"'CH4 from Abandoned Coal Mines'!D65","v":""},{"$f":"'CH4 from Abandoned Coal Mines'!H65","v":""},{"$f":"IFERROR(VALUE('CH4 from Abandoned Coal Mines'!J65), \"\")","v":""},{"$f":"IF('CH4 from Abandoned Coal Mines'!N65>0,'CH4 from Abandoned Coal Mines'!N65,'CH4 from Abandoned Coal Mines'!L65)","v":""},{"$f":"'CH4 from Abandoned Coal Mines'!P65","v":0},{"$f":"'CH4 from Abandoned Coal Mines'!R65","v":0},{"$f":"VLOOKUP(B64,'Abandoned Data'!$O$3:$V$187,6,FALSE)","v":""},{"$f":"VLOOKUP(B64,'Abandoned Data'!$O$3:$V$187,7,FALSE)","v":""},{"$f":"VLOOKUP(B64,'Abandoned Data'!$O$3:$V$187,8,FALSE)","v":""},"",null,null,null,null,null,null,null,null,null,null,null,null,61,{"$f":"IF(ISERROR(IF($D64<Y$3,IF($E64=\"Venting\",(($H64*mmcfd_m3)*((1+$I64*(Y$3-$D64))^$J64)-$G64)*Gg_m3,IF($E64=\"Sealed\",((($H64*mmcfd_m3)*((1+$I64*(Y$3-$D64))^$J64)*(1-$F64)-$G64)*Gg_m3),IF($E64=\"Flooded\",(($H64*mmcfd_m3)*EXP(-0.6728*(Y$3-$D64))*Gg_m3),(($H64*mmcfd_m3)*((1+$I64*(Y$3-$D64))^$J64)-$G64)*Gg_m3+((($H64*mmcfd_m3)*((1+$I64*(Y$3-$D64))^$J64)*(1-0.8)-$G64)*Gg_m3)+(($H64*mmcfd_m3)*EXP(-0.6728*(Y$3-$D64))*Gg_m3)))),0)),0,IF($D64<Y$3,IF($E64=\"Venting\",(($H64*mmcfd_m3)*((1+$I64*(Y$3-$D64))^$J64)-$G64)*Gg_m3,IF($E64=\"Sealed\",((($H64*mmcfd_m3)*((1+$I64*(Y$3-$D64))^$J64)*(1-$F64)-$G64)*Gg_m3),IF($E64=\"Flooded\",(($H64*mmcfd_m3)*EXP(-0.6728*(Y$3-$D64))*Gg_m3),(($H64*mmcfd_m3)*((1+$I64*(Y$3-$D64))^$J64)-$G64)*Gg_m3+((($H64*mmcfd_m3)*((1+$I64*(Y$3-$D64))^$J64)*(1-0.8)-$G64)*Gg_m3)+(($H64*mmcfd_m3)*EXP(-0.6728*(Y$3-$D64))*Gg_m3)))),0))","v":0},0,0,0,0,0,0,0,0,0,{"$f":"IF(ISERROR(IF($D64<AI$3,IF($E64=\"Venting\",(($H64*mmcfd_m3)*((1+$I64*(AI$3-$D64))^$J64)-$G64)*Gg_m3,IF($E64=\"Sealed\",((($H64*mmcfd_m3)*((1+$I64*(AI$3-$D64))^$J64)*(1-$F64)-$G64)*Gg_m3),IF($E64=\"Flooded\",(($H64*mmcfd_m3)*EXP(-0.6728*(AI$3-$D64))*Gg_m3),(($H64*mmcfd_m3)*((1+$I64*(AI$3-$D64))^$J64)-$G64)*Gg_m3+((($H64*mmcfd_m3)*((1+$I64*(AI$3-$D64))^$J64)*(1-0.8)-$G64)*Gg_m3)+(($H64*mmcfd_m3)*EXP(-0.6728*(AI$3-$D64))*Gg_m3)))),0)),0,IF($D64<AI$3,IF($E64=\"Venting\",(($H64*mmcfd_m3)*((1+$I64*(AI$3-$D64))^$J64)-$G64)*Gg_m3,IF($E64=\"Sealed\",((($H64*mmcfd_m3)*((1+$I64*(AI$3-$D64))^$J64)*(1-$F64)-$G64)*Gg_m3),IF($E64=\"Flooded\",(($H64*mmcfd_m3)*EXP(-0.6728*(AI$3-$D64))*Gg_m3),(($H64*mmcfd_m3)*((1+$I64*(AI$3-$D64))^$J64)-$G64)*Gg_m3+((($H64*mmcfd_m3)*((1+$I64*(AI$3-$D64))^$J64)*(1-0.8)-$G64)*Gg_m3)+(($H64*mmcfd_m3)*EXP(-0.6728*(AI$3-$D64))*Gg_m3)))),0))","v":0},0,0,0,0,0,0,0,0,0,{"$f":"IF(ISERROR(IF($D64<AS$3,IF($E64=\"Venting\",(($H64*mmcfd_m3)*((1+$I64*(AS$3-$D64))^$J64)-$G64)*Gg_m3,IF($E64=\"Sealed\",((($H64*mmcfd_m3)*((1+$I64*(AS$3-$D64))^$J64)*(1-$F64)-$G64)*Gg_m3),IF($E64=\"Flooded\",(($H64*mmcfd_m3)*EXP(-0.6728*(AS$3-$D64))*Gg_m3),(($H64*mmcfd_m3)*((1+$I64*(AS$3-$D64))^$J64)-$G64)*Gg_m3+((($H64*mmcfd_m3)*((1+$I64*(AS$3-$D64))^$J64)*(1-0.8)-$G64)*Gg_m3)+(($H64*mmcfd_m3)*EXP(-0.6728*(AS$3-$D64))*Gg_m3)))),0)),0,IF($D64<AS$3,IF($E64=\"Venting\",(($H64*mmcfd_m3)*((1+$I64*(AS$3-$D64))^$J64)-$G64)*Gg_m3,IF($E64=\"Sealed\",((($H64*mmcfd_m3)*((1+$I64*(AS$3-$D64))^$J64)*(1-$F64)-$G64)*Gg_m3),IF($E64=\"Flooded\",(($H64*mmcfd_m3)*EXP(-0.6728*(AS$3-$D64))*Gg_m3),(($H64*mmcfd_m3)*((1+$I64*(AS$3-$D64))^$J64)-$G64)*Gg_m3+((($H64*mmcfd_m3)*((1+$I64*(AS$3-$D64))^$J64)*(1-0.8)-$G64)*Gg_m3)+(($H64*mmcfd_m3)*EXP(-0.6728*(AS$3-$D64))*Gg_m3)))),0))","v":0},0,0,0,0,0,0,0,0,0,0,0,0,0,0,0,0,0,0,0,0,0,0,0,0,0,0,0,0,0,0,{"$f":"IF(ISERROR(IF($D64<BX$3,IF($E64=\"Venting\",(($H64*mmcfd_m3)*((1+$I64*(BX$3-$D64))^$J64)-$G64)*Gg_m3,IF($E64=\"Sealed\",((($H64*mmcfd_m3)*((1+$I64*(BX$3-$D64))^$J64)*(1-$F64)-$G64)*Gg_m3),IF($E64=\"Flooded\",(($H64*mmcfd_m3)*EXP(-0.6728*(BX$3-$D64))*Gg_m3),(($H64*mmcfd_m3)*((1+$I64*(BX$3-$D64))^$J64)-$G64)*Gg_m3+((($H64*mmcfd_m3)*((1+$I64*(BX$3-$D64))^$J64)*(1-0.8)-$G64)*Gg_m3)+(($H64*mmcfd_m3)*EXP(-0.6728*(BX$3-$D64))*Gg_m3)))),0)),0,IF($D64<BX$3,IF($E64=\"Venting\",(($H64*mmcfd_m3)*((1+$I64*(BX$3-$D64))^$J64)-$G64)*Gg_m3,IF($E64=\"Sealed\",((($H64*mmcfd_m3)*((1+$I64*(BX$3-$D64))^$J64)*(1-$F64)-$G64)*Gg_m3),IF($E64=\"Flooded\",(($H64*mmcfd_m3)*EXP(-0.6728*(BX$3-$D64))*Gg_m3),(($H64*mmcfd_m3)*((1+$I64*(BX$3-$D64))^$J64)-$G64)*Gg_m3+((($H64*mmcfd_m3)*((1+$I64*(BX$3-$D64))^$J64)*(1-0.8)-$G64)*Gg_m3)+(($H64*mmcfd_m3)*EXP(-0.6728*(BX$3-$D64))*Gg_m3)))),0))","v":0},0,0,0,0,0,0,0,0,0]
[62,{"$f":"'CH4 from Abandoned Coal Mines'!D66","v":""},{"$f":"'CH4 from Abandoned Coal Mines'!H66","v":""},{"$f":"IFERROR(VALUE('CH4 from Abandoned Coal Mines'!J66), \"\")","v":""},{"$f":"IF('CH4 from Abandoned Coal Mines'!N66>0,'CH4 from Abandoned Coal Mines'!N66,'CH4 from Abandoned Coal Mines'!L66)","v":""},{"$f":"'CH4 from Abandoned Coal Mines'!P66","v":0},{"$f":"'CH4 from Abandoned Coal Mines'!R66","v":0},{"$f":"VLOOKUP(B65,'Abandoned Data'!$O$3:$V$187,6,FALSE)","v":""},{"$f":"VLOOKUP(B65,'Abandoned Data'!$O$3:$V$187,7,FALSE)","v":""},{"$f":"VLOOKUP(B65,'Abandoned Data'!$O$3:$V$187,8,FALSE)","v":""},"",null,null,null,null,null,null,null,null,null,null,null,null,62,0,0,0,0,0,0,0,0,0,0,0,0,0,0,0,0,0,0,0,0,0,0,0,0,0,0,0,0,0,0,0,0,0,0,0,0,0,0,0,0,0,0,0,0,0,0,0,0,0,0,0,0,0,0,0,0,0,0,0,0,0]
[63,{"$f":"'CH4 from Abandoned Coal Mines'!D67","v":""},{"$f":"'CH4 from Abandoned Coal Mines'!H67","v":""},{"$f":"IFERROR(VALUE('CH4 from Abandoned Coal Mines'!J67), \"\")","v":""},{"$f":"IF('CH4 from Abandoned Coal Mines'!N67>0,'CH4 from Abandoned Coal Mines'!N67,'CH4 from Abandoned Coal Mines'!L67)","v":""},{"$f":"'CH4 from Abandoned Coal Mines'!P67","v":0},{"$f":"'CH4 from Abandoned Coal Mines'!R67","v":0},{"$f":"VLOOKUP(B66,'Abandoned Data'!$O$3:$V$187,6,FALSE)","v":""},{"$f":"VLOOKUP(B66,'Abandoned Data'!$O$3:$V$187,7,FALSE)","v":""},{"$f":"VLOOKUP(B66,'Abandoned Data'!$O$3:$V$187,8,FALSE)","v":""},"",null,null,null,null,null,null,null,null,null,null,null,null,63,0,0,0,0,0,0,0,0,0,0,0,0,0,0,0,0,0,0,0,0,0,0,0,0,0,0,0,0,0,0,0,0,0,0,0,0,0,0,0,0,0,0,0,0,0,0,0,0,0,0,0,0,0,0,0,0,0,0,0,0,0]
[64,{"$f":"'CH4 from Abandoned Coal Mines'!D68","v":""},{"$f":"'CH4 from Abandoned Coal Mines'!H68","v":""},{"$f":"IFERROR(VALUE('CH4 from Abandoned Coal Mines'!J68), \"\")","v":""},{"$f":"IF('CH4 from Abandoned Coal Mines'!N68>0,'CH4 from Abandoned Coal Mines'!N68,'CH4 from Abandoned Coal Mines'!L68)","v":""},{"$f":"'CH4 from Abandoned Coal Mines'!P68","v":0},{"$f":"'CH4 from Abandoned Coal Mines'!R68","v":0},{"$f":"VLOOKUP(B67,'Abandoned Data'!$O$3:$V$187,6,FALSE)","v":""},{"$f":"VLOOKUP(B67,'Abandoned Data'!$O$3:$V$187,7,FALSE)","v":""},{"$f":"VLOOKUP(B67,'Abandoned Data'!$O$3:$V$187,8,FALSE)","v":""},"",null,null,null,null,null,null,null,null,null,null,null,null,64,0,0,0,0,0,0,0,0,0,0,0,0,0,0,0,0,0,0,0,0,0,0,0,0,0,0,0,0,0,0,0,0,0,0,0,0,0,0,0,0,0,0,0,0,0,0,0,0,0,0,0,0,0,0,0,0,0,0,0,0,0]
[65,{"$f":"'CH4 from Abandoned Coal Mines'!D69","v":""},{"$f":"'CH4 from Abandoned Coal Mines'!H69","v":""},{"$f":"IFERROR(VALUE('CH4 from Abandoned Coal Mines'!J69), \"\")","v":""},{"$f":"IF('CH4 from Abandoned Coal Mines'!N69>0,'CH4 from Abandoned Coal Mines'!N69,'CH4 from Abandoned Coal Mines'!L69)","v":""},{"$f":"'CH4 from Abandoned Coal Mines'!P69","v":0},{"$f":"'CH4 from Abandoned Coal Mines'!R69","v":0},{"$f":"VLOOKUP(B68,'Abandoned Data'!$O$3:$V$187,6,FALSE)","v":""},{"$f":"VLOOKUP(B68,'Abandoned Data'!$O$3:$V$187,7,FALSE)","v":""},{"$f":"VLOOKUP(B68,'Abandoned Data'!$O$3:$V$187,8,FALSE)","v":""},{"$f":"IFERROR(IF(E68=\"Venting\",((H68*mmcfd_m3)*((1+I68*($BC$3-D68))^J68)-G68)*Gg_m3,IF(E68=\"Sealed\",(((H68*mmcfd_m3)*((1+I68*($BC$3-D68))^J68)*(1-F68)-G68)*Gg_m3),IF(E68=\"Flooded\",((H68*mmcfd_m3)*EXP(-0.6728*($BC$3-D68))*Gg_m3),((H68*mmcfd_m3)*((1+I68*($BC$3-D68))^J68)-G68)*Gg_m3+(((H68*mmcfd_m3)*((1+I68*($BC$3-D68))^J68)*(1-0.8)-G68)*Gg_m3)+((H68*mmcfd_m3)*EXP(-0.6728*($BC$3-D68))*Gg_m3)))), \"\")","v":""},null,null,null,null,null,null,null,null,null,null,null,null,65,0,0,0,0,0,0,0,0,0,0,0,0,0,0,0,0,0,0,0,0,0,0,0,0,0,0,0,0,0,0,0,0,0,0,0,0,0,0,0,0,0,0,0,0,0,0,0,0,0,0,0,0,0,0,0,0,0,0,0,0,0]
[66,{"$f":"'CH4 from Abandoned Coal Mines'!D70","v":""},{"$f":"'CH4 from Abandoned Coal Mines'!H70","v":""},{"$f":"IFERROR(VALUE('CH4 from Abandoned Coal Mines'!J70), \"\")","v":""},{"$f":"IF('CH4 from Abandoned Coal Mines'!N70>0,'CH4 from Abandoned Coal Mines'!N70,'CH4 from Abandoned Coal Mines'!L70)","v":""},{"$f":"'CH4 from Abandoned Coal Mines'!P70","v":0},{"$f":"'CH4 from Abandoned Coal Mines'!R70","v":0},{"$f":"VLOOKUP(B69,'Abandoned Data'!$O$3:$V$187,6,FALSE)","v":""},{"$f":"VLOOKUP(B69,'Abandoned Data'!$O$3:$V$187,7,FALSE)","v":""},{"$f":"VLOOKUP(B69,'Abandoned Data'!$O$3:$V$187,8,FALSE)","v":""},"",null,null,null,null,null,null,null,null,null,null,null,null,66,0,0,0,0,0,0,0,0,0,0,0,0,0,0,0,0,0,0,0,0,0,0,0,0,0,0,0,0,0,0,0,0,0,0,0,0,0,0,0,0,0,0,0,0,0,0,0,0,0,0,0,0,0,0,0,0,0,0,0,0,0]
[67,{"$f":"'CH4 from Abandoned Coal Mines'!D71","v":""},{"$f":"'CH4 from Abandoned Coal Mines'!H71","v":""},{"$f":"IFERROR(VALUE('CH4 from Abandoned Coal Mines'!J71), \"\")","v":""},{"$f":"IF('CH4 from Abandoned Coal Mines'!N71>0,'CH4 from Abandoned Coal Mines'!N71,'CH4 from Abandoned Coal Mines'!L71)","v":""},{"$f":"'CH4 from Abandoned Coal Mines'!P71","v":0},{"$f":"'CH4 from Abandoned Coal Mines'!R71","v":0},{"$f":"VLOOKUP(B70,'Abandoned Data'!$O$3:$V$187,6,FALSE)","v":""},{"$f":"VLOOKUP(B70,'Abandoned Data'!$O$3:$V$187,7,FALSE)","v":""},{"$f":"VLOOKUP(B70,'Abandoned Data'!$O$3:$V$187,8,FALSE)","v":""},"",null,null,null,null,null,null,null,null,null,null,null,null,67,0,0,0,0,0,0,0,0,0,0,0,0,0,0,0,0,0,0,0,0,0,0,0,0,0,0,0,0,0,0,0,0,0,0,0,0,0,0,0,0,0,0,0,0,0,0,0,0,0,0,0,0,0,0,0,0,0,0,0,0,0]
[68,{"$f":"'CH4 from Abandoned Coal Mines'!D72","v":""},{"$f":"'CH4 from Abandoned Coal Mines'!H72","v":""},{"$f":"IFERROR(VALUE('CH4 from Abandoned Coal Mines'!J72), \"\")","v":""},{"$f":"IF('CH4 from Abandoned Coal Mines'!N72>0,'CH4 from Abandoned Coal Mines'!N72,'CH4 from Abandoned Coal Mines'!L72)","v":""},{"$f":"'CH4 from Abandoned Coal Mines'!P72","v":0},{"$f":"'CH4 from Abandoned Coal Mines'!R72","v":0},{"$f":"VLOOKUP(B71,'Abandoned Data'!$O$3:$V$187,6,FALSE)","v":""},{"$f":"VLOOKUP(B71,'Abandoned Data'!$O$3:$V$187,7,FALSE)","v":""},{"$f":"VLOOKUP(B71,'Abandoned Data'!$O$3:$V$187,8,FALSE)","v":""},"",null,null,null,null,null,null,null,null,null,null,null,null,68,0,0,0,0,0,0,0,0,0,0,0,0,0,0,0,0,0,0,0,0,0,0,0,0,0,0,0,0,0,0,0,0,0,0,0,0,0,0,0,0,0,0,0,0,0,0,0,0,0,0,0,0,0,0,0,0,0,0,0,0,0]
[69,{"$f":"'CH4 from Abandoned Coal Mines'!D73","v":""},{"$f":"'CH4 from Abandoned Coal Mines'!H73","v":""},{"$f":"IFERROR(VALUE('CH4 from Abandoned Coal Mines'!J73), \"\")","v":""},{"$f":"IF('CH4 from Abandoned Coal Mines'!N73>0,'CH4 from Abandoned Coal Mines'!N73,'CH4 from Abandoned Coal Mines'!L73)","v":""},{"$f":"'CH4 from Abandoned Coal Mines'!P73","v":0},{"$f":"'CH4 from Abandoned Coal Mines'!R73","v":0},{"$f":"VLOOKUP(B72,'Abandoned Data'!$O$3:$V$187,6,FALSE)","v":""},{"$f":"VLOOKUP(B72,'Abandoned Data'!$O$3:$V$187,7,FALSE)","v":""},{"$f":"VLOOKUP(B72,'Abandoned Data'!$O$3:$V$187,8,FALSE)","v":""},"",null,null,null,null,null,null,null,null,null,null,null,null,69,0,0,0,0,0,0,0,0,0,0,0,0,0,0,0,0,0,0,0,0,0,0,0,0,0,0,0,0,0,0,0,0,0,0,0,0,0,0,0,0,0,0,0,0,0,0,0,0,0,0,0,0,0,0,0,0,0,0,0,0,0]
[70,{"$f":"'CH4 from Abandoned Coal Mines'!D74","v":""},{"$f":"'CH4 from Abandoned Coal Mines'!H74","v":""},{"$f":"IFERROR(VALUE('CH4 from Abandoned Coal Mines'!J74), \"\")","v":""},{"$f":"IF('CH4 from Abandoned Coal Mines'!N74>0,'CH4 from Abandoned Coal Mines'!N74,'CH4 from Abandoned Coal Mines'!L74)","v":""},{"$f":"'CH4 from Abandoned Coal Mines'!P74","v":0},{"$f":"'CH4 from Abandoned Coal Mines'!R74","v":0},{"$f":"VLOOKUP(B73,'Abandoned Data'!$O$3:$V$187,6,FALSE)","v":""},{"$f":"VLOOKUP(B73,'Abandoned Data'!$O$3:$V$187,7,FALSE)","v":""},{"$f":"VLOOKUP(B73,'Abandoned Data'!$O$3:$V$187,8,FALSE)","v":""},"",null,null,null,null,null,null,null,null,null,null,null,null,70,0,0,0,0,0,0,0,0,0,0,0,0,0,0,0,0,0,0,0,0,0,0,0,0,0,0,0,0,0,0,0,0,0,0,0,0,{"$f":"IF(ISERROR(IF($D73<BI$3,IF($E73=\"Venting\",(($H73*mmcfd_m3)*((1+$I73*(BI$3-$D73))^$J73)-$G73)*Gg_m3,IF($E73=\"Sealed\",((($H73*mmcfd_m3)*((1+$I73*(BI$3-$D73))^$J73)*(1-$F73)-$G73)*Gg_m3),IF($E73=\"Flooded\",(($H73*mmcfd_m3)*EXP(-0.6728*(BI$3-$D73))*Gg_m3),(($H73*mmcfd_m3)*((1+$I73*(BI$3-$D73))^$J73)-$G73)*Gg_m3+((($H73*mmcfd_m3)*((1+$I73*(BI$3-$D73))^$J73)*(1-0.8)-$G73)*Gg_m3)+(($H73*mmcfd_m3)*EXP(-0.6728*(BI$3-$D73))*Gg_m3)))),0)),0,IF($D73<BI$3,IF($E73=\"Venting\",(($H73*mmcfd_m3)*((1+$I73*(BI$3-$D73))^$J73)-$G73)*Gg_m3,IF($E73=\"Sealed\",((($H73*mmcfd_m3)*((1+$I73*(BI$3-$D73))^$J73)*(1-$F73)-$G73)*Gg_m3),IF($E73=\"Flooded\",(($H73*mmcfd_m3)*EXP(-0.6728*(BI$3-$D73))*Gg_m3),(($H73*mmcfd_m3)*((1+$I73*(BI$3-$D73))^$J73)-$G73)*Gg_m3+((($H73*mmcfd_m3)*((1+$I73*(BI$3-$D73))^$J73)*(1-0.8)-$G73)*Gg_m3)+(($H73*mmcfd_m3)*EXP(-0.6728*(BI$3-$D73))*Gg_m3)))),0))","v":0},0,0,0,0,0,0,0,0,0,0,0,0,0,0,0,0,0,0,0,0,0,0,0,0]
[71,{"$f":"'CH4 from Abandoned Coal Mines'!D75","v":""},{"$f":"'CH4 from Abandoned Coal Mines'!H75","v":""},{"$f":"IFERROR(VALUE('CH4 from Abandoned Coal Mines'!J75), \"\")","v":""},{"$f":"IF('CH4 from Abandoned Coal Mines'!N75>0,'CH4 from Abandoned Coal Mines'!N75,'CH4 from Abandoned Coal Mines'!L75)","v":""},{"$f":"'CH4 from Abandoned Coal Mines'!P75","v":0},{"$f":"'CH4 from Abandoned Coal Mines'!R75","v":0},{"$f":"VLOOKUP(B74,'Abandoned Data'!$O$3:$V$187,6,FALSE)","v":""},{"$f":"VLOOKUP(B74,'Abandoned Data'!$O$3:$V$187,7,FALSE)","v":""},{"$f":"VLOOKUP(B74,'Abandoned Data'!$O$3:$V$187,8,FALSE)","v":""},"",null,null,null,null,null,null,null,null,null,null,null,null,71,{"$f":"IF(ISERROR(IF($D74<Y$3,IF($E74=\"Venting\",(($H74*mmcfd_m3)*((1+$I74*(Y$3-$D74))^$J74)-$G74)*Gg_m3,IF($E74=\"Sealed\",((($H74*mmcfd_m3)*((1+$I74*(Y$3-$D74))^$J74)*(1-$F74)-$G74)*Gg_m3),IF($E74=\"Flooded\",(($H74*mmcfd_m3)*EXP(-0.6728*(Y$3-$D74))*Gg_m3),(($H74*mmcfd_m3)*((1+$I74*(Y$3-$D74))^$J74)-$G74)*Gg_m3+((($H74*mmcfd_m3)*((1+$I74*(Y$3-$D74))^$J74)*(1-0.8)-$G74)*Gg_m3)+(($H74*mmcfd_m3)*EXP(-0.6728*(Y$3-$D74))*Gg_m3)))),0)),0,IF($D74<Y$3,IF($E74=\"Venting\",(($H74*mmcfd_m3)*((1+$I74*(Y$3-$D74))^$J74)-$G74)*Gg_m3,IF($E74=\"Sealed\",((($H74*mmcfd_m3)*((1+$I74*(Y$3-$D74))^$J74)*(1-$F74)-$G74)*Gg_m3),IF($E74=\"Flooded\",(($H74*mmcfd_m3)*EXP(-0.6728*(Y$3-$D74))*Gg_m3),(($H74*mmcfd_m3)*((1+$I74*(Y$3-$D74))^$J74)-$G74)*Gg_m3+((($H74*mmcfd_m3)*((1+$I74*(Y$3-$D74))^$J74)*(1-0.8)-$G74)*Gg_m3)+(($H74*mmcfd_m3)*EXP(-0.6728*(Y$3-$D74))*Gg_m3)))),0))","v":0},0,0,0,0,0,0,0,0,0,{"$f":"IF(ISERROR(IF($D74<AI$3,IF($E74=\"Venting\",(($H74*mmcfd_m3)*((1+$I74*(AI$3-$D74))^$J74)-$G74)*Gg_m3,IF($E74=\"Sealed\",((($H74*mmcfd_m3)*((1+$I74*(AI$3-$D74))^$J74)*(1-$F74)-$G74)*Gg_m3),IF($E74=\"Flooded\",(($H74*mmcfd_m3)*EXP(-0.6728*(AI$3-$D74))*Gg_m3),(($H74*mmcfd_m3)*((1+$I74*(AI$3-$D74))^$J74)-$G74)*Gg_m3+((($H74*mmcfd_m3)*((1+$I74*(AI$3-$D74))^$J74)*(1-0.8)-$G74)*Gg_m3)+(($H74*mmcfd_m3)*EXP(-0.6728*(AI$3-$D74))*Gg_m3)))),0)),0,IF($D74<AI$3,IF($E74=\"Venting\",(($H74*mmcfd_m3)*((1+$I74*(AI$3-$D74))^$J74)-$G74)*Gg_m3,IF($E74=\"Sealed\",((($H74*mmcfd_m3)*((1+$I74*(AI$3-$D74))^$J74)*(1-$F74)-$G74)*Gg_m3),IF($E74=\"Flooded\",(($H74*mmcfd_m3)*EXP(-0.6728*(AI$3-$D74))*Gg_m3),(($H74*mmcfd_m3)*((1+$I74*(AI$3-$D74))^$J74)-$G74)*Gg_m3+((($H74*mmcfd_m3)*((1+$I74*(AI$3-$D74))^$J74)*(1-0.8)-$G74)*Gg_m3)+(($H74*mmcfd_m3)*EXP(-0.6728*(AI$3-$D74))*Gg_m3)))),0))","v":0},0,0,0,0,0,0,0,0,0,{"$f":"IF(ISERROR(IF($D74<AS$3,IF($E74=\"Venting\",(($H74*mmcfd_m3)*((1+$I74*(AS$3-$D74))^$J74)-$G74)*Gg_m3,IF($E74=\"Sealed\",((($H74*mmcfd_m3)*((1+$I74*(AS$3-$D74))^$J74)*(1-$F74)-$G74)*Gg_m3),IF($E74=\"Flooded\",(($H74*mmcfd_m3)*EXP(-0.6728*(AS$3-$D74))*Gg_m3),(($H74*mmcfd_m3)*((1+$I74*(AS$3-$D74))^$J74)-$G74)*Gg_m3+((($H74*mmcfd_m3)*((1+$I74*(AS$3-$D74))^$J74)*(1-0.8)-$G74)*Gg_m3)+(($H74*mmcfd_m3)*EXP(-0.6728*(AS$3-$D74))*Gg_m3)))),0)),0,IF($D74<AS$3,IF($E74=\"Venting\",(($H74*mmcfd_m3)*((1+$I74*(AS$3-$D74))^$J74)-$G74)*Gg_m3,IF($E74=\"Sealed\",((($H74*mmcfd_m3)*((1+$I74*(AS$3-$D74))^$J74)*(1-$F74)-$G74)*Gg_m3),IF($E74=\"Flooded\",(($H74*mmcfd_m3)*EXP(-0.6728*(AS$3-$D74))*Gg_m3),(($H74*mmcfd_m3)*((1+$I74*(AS$3-$D74))^$J74)-$G74)*Gg_m3+((($H74*mmcfd_m3)*((1+$I74*(AS$3-$D74))^$J74)*(1-0.8)-$G74)*Gg_m3)+(($H74*mmcfd_m3)*EXP(-0.6728*(AS$3-$D74))*Gg_m3)))),0))","v":0},0,0,0,0,0,0,0,0,0,0,0,0,0,0,0,0,0,0,0,0,0,0,0,0,0,0,0,0,0,0,0,0,0,0,0,0,0,0,0,0]
[72,{"$f":"'CH4 from Abandoned Coal Mines'!D76","v":""},{"$f":"'CH4 from Abandoned Coal Mines'!H76","v":""},{"$f":"IFERROR(VALUE('CH4 from Abandoned Coal Mines'!J76), \"\")","v":""},{"$f":"IF('CH4 from Abandoned Coal Mines'!N76>0,'CH4 from Abandoned Coal Mines'!N76,'CH4 from Abandoned Coal Mines'!L76)","v":""},{"$f":"'CH4 from Abandoned Coal Mines'!P76","v":0},{"$f":"'CH4 from Abandoned Coal Mines'!R76","v":0},{"$f":"VLOOKUP(B75,'Abandoned Data'!$O$3:$V$187,6,FALSE)","v":""},{"$f":"VLOOKUP(B75,'Abandoned Data'!$O$3:$V$187,7,FALSE)","v":""},{"$f":"VLOOKUP(B75,'Abandoned Data'!$O$3:$V$187,8,FALSE)","v":""},"",null,null,null,null,null,null,null,null,null,null,null,null,72,0,0,0,0,0,0,0,0,0,0,0,0,0,0,0,0,0,0,0,0,0,0,0,0,0,0,0,0,0,0,0,{"$f":"IF(ISERROR(IF($D75<BD$3,IF($E75=\"Venting\",(($H75*mmcfd_m3)*((1+$I75*(BD$3-$D75))^$J75)-$G75)*Gg_m3,IF($E75=\"Sealed\",((($H75*mmcfd_m3)*((1+$I75*(BD$3-$D75))^$J75)*(1-$F75)-$G75)*Gg_m3),IF($E75=\"Flooded\",(($H75*mmcfd_m3)*EXP(-0.6728*(BD$3-$D75))*Gg_m3),(($H75*mmcfd_m3)*((1+$I75*(BD$3-$D75))^$J75)-$G75)*Gg_m3+((($H75*mmcfd_m3)*((1+$I75*(BD$3-$D75))^$J75)*(1-0.8)-$G75)*Gg_m3)+(($H75*mmcfd_m3)*EXP(-0.6728*(BD$3-$D75))*Gg_m3)))),0)),0,IF($D75<BD$3,IF($E75=\"Venting\",(($H75*mmcfd_m3)*((1+$I75*(BD$3-$D75))^$J75)-$G75)*Gg_m3,IF($E75=\"Sealed\",((($H75*mmcfd_m3)*((1+$I75*(BD$3-$D75))^$J75)*(1-$F75)-$G75)*Gg_m3),IF($E75=\"Flooded\",(($H75*mmcfd_m3)*EXP(-0.6728*(BD$3-$D75))*Gg_m3),(($H75*mmcfd_m3)*((1+$I75*(BD$3-$D75))^$J75)-$G75)*Gg_m3+((($H75*mmcfd_m3)*((1+$I75*(BD$3-$D75))^$J75)*(1-0.8)-$G75)*Gg_m3)+(($H75*mmcfd_m3)*EXP(-0.6728*(BD$3-$D75))*Gg_m3)))),0))","v":0},0,0,0,0,0,0,0,0,0,0,0,0,0,0,0,0,0,0,0,0,0,0,0,0,0,0,0,0,0]
[73,{"$f":"'CH4 from Abandoned Coal Mines'!D77","v":""},{"$f":"'CH4 from Abandoned Coal Mines'!H77","v":""},{"$f":"IFERROR(VALUE('CH4 from Abandoned Coal Mines'!J77), \"\")","v":""},{"$f":"IF('CH4 from Abandoned Coal Mines'!N77>0,'CH4 from Abandoned Coal Mines'!N77,'CH4 from Abandoned Coal Mines'!L77)","v":""},{"$f":"'CH4 from Abandoned Coal Mines'!P77","v":0},{"$f":"'CH4 from Abandoned Coal Mines'!R77","v":0},{"$f":"VLOOKUP(B76,'Abandoned Data'!$O$3:$V$187,6,FALSE)","v":""},{"$f":"VLOOKUP(B76,'Abandoned Data'!$O$3:$V$187,7,FALSE)","v":""},{"$f":"VLOOKUP(B76,'Abandoned Data'!$O$3:$V$187,8,FALSE)","v":""},"",null,null,null,null,null,null,null,null,null,null,null,null,73,0,0,0,0,0,0,0,0,0,0,0,0,0,0,0,0,0,0,0,0,0,0,0,0,0,0,0,0,0,0,0,0,0,0,0,0,0,0,0,0,0,0,0,0,0,0,0,0,0,0,0,0,0,0,0,0,0,0,0,0,0]
[74,{"$f":"'CH4 from Abandoned Coal Mines'!D78","v":""},{"$f":"'CH4 from Abandoned Coal Mines'!H78","v":""},{"$f":"IFERROR(VALUE('CH4 from Abandoned Coal Mines'!J78), \"\")","v":""},{"$f":"IF('CH4 from Abandoned Coal Mines'!N78>0,'CH4 from Abandoned Coal Mines'!N78,'CH4 from Abandoned Coal Mines'!L78)","v":""},{"$f":"'CH4 from Abandoned Coal Mines'!P78","v":0},{"$f":"'CH4 from Abandoned Coal Mines'!R78","v":0},{"$f":"VLOOKUP(B77,'Abandoned Data'!$O$3:$V$187,6,FALSE)","v":""},{"$f":"VLOOKUP(B77,'Abandoned Data'!$O$3:$V$187,7,FALSE)","v":""},{"$f":"VLOOKUP(B77,'Abandoned Data'!$O$3:$V$187,8,FALSE)","v":""},"",null,null,null,null,null,null,null,null,null,null,null,null,74,0,0,0,0,0,0,0,0,0,0,0,0,0,0,0,0,0,0,0,0,0,0,0,0,0,0,0,0,0,0,0,0,0,0,0,0,0,0,0,0,0,0,0,0,0,0,0,0,0,0,0,0,0,0,0,0,0,0,0,0,0]
[75,{"$f":"'CH4 from Abandoned Coal Mines'!D79","v":""},{"$f":"'CH4 from Abandoned Coal Mines'!H79","v":""},{"$f":"IFERROR(VALUE('CH4 from Abandoned Coal Mines'!J79), \"\")","v":""},{"$f":"IF('CH4 from Abandoned Coal Mines'!N79>0,'CH4 from Abandoned Coal Mines'!N79,'CH4 from Abandoned Coal Mines'!L79)","v":""},{"$f":"'CH4 from Abandoned Coal Mines'!P79","v":0},{"$f":"'CH4 from Abandoned Coal Mines'!R79","v":0},{"$f":"VLOOKUP(B78,'Abandoned Data'!$O$3:$V$187,6,FALSE)","v":""},{"$f":"VLOOKUP(B78,'Abandoned Data'!$O$3:$V$187,7,FALSE)","v":""},{"$f":"VLOOKUP(B78,'Abandoned Data'!$O$3:$V$187,8,FALSE)","v":""},"",null,null,null,null,null,null,null,null,null,null,null,null,75,0,0,0,0,0,0,0,0,0,0,0,0,0,0,0,0,0,0,0,0,0,0,0,0,0,0,0,0,0,0,0,0,0,0,0,0,0,0,0,0,0,0,0,0,0,0,0,0,0,0,0,0,0,0,0,0,0,0,0,0,0]
[76,{"$f":"'CH4 from Abandoned Coal Mines'!D80","v":""},{"$f":"'CH4 from Abandoned Coal Mines'!H80","v":""},{"$f":"IFERROR(VALUE('CH4 from Abandoned Coal Mines'!J80), \"\")","v":""},{"$f":"IF('CH4 from Abandoned Coal Mines'!N80>0,'CH4 from Abandoned Coal Mines'!N80,'CH4 from Abandoned Coal Mines'!L80)","v":""},{"$f":"'CH4 from Abandoned Coal Mines'!P80","v":0},{"$f":"'CH4 from Abandoned Coal Mines'!R80","v":0},{"$f":"VLOOKUP(B79,'Abandoned Data'!$O$3:$V$187,6,FALSE)","v":""},{"$f":"VLOOKUP(B79,'Abandoned Data'!$O$3:$V$187,7,FALSE)","v":""},{"$f":"VLOOKUP(B79,'Abandoned Data'!$O$3:$V$187,8,FALSE)","v":""},"",null,null,null,null,null,null,null,null,null,null,null,null,76,0,0,0,0,0,0,0,0,0,0,0,0,0,0,0,0,0,0,0,0,0,0,0,0,0,0,0,0,0,0,0,0,0,0,0,0,0,0,0,0,0,0,0,0,0,0,0,0,0,0,0,0,0,0,0,0,0,0,0,0,0]
[77,{"$f":"'CH4 from Abandoned Coal Mines'!D81","v":""},{"$f":"'CH4 from Abandoned Coal Mines'!H81","v":""},{"$f":"IFERROR(VALUE('CH4 from Abandoned Coal Mines'!J81), \"\")","v":""},{"$f":"IF('CH4 from Abandoned Coal Mines'!N81>0,'CH4 from Abandoned Coal Mines'!N81,'CH4 from Abandoned Coal Mines'!L81)","v":""},{"$f":"'CH4 from Abandoned Coal Mines'!P81","v":0},{"$f":"'CH4 from Abandoned Coal Mines'!R81","v":0},{"$f":"VLOOKUP(B80,'Abandoned Data'!$O$3:$V$187,6,FALSE)","v":""},{"$f":"VLOOKUP(B80,'Abandoned Data'!$O$3:$V$187,7,FALSE)","v":""},{"$f":"VLOOKUP(B80,'Abandoned Data'!$O$3:$V$187,8,FALSE)","v":""},"",null,null,null,null,null,null,null,null,null,null,null,null,77,0,0,0,0,0,0,0,0,0,0,0,0,0,0,0,0,0,0,0,0,0,0,0,0,0,0,0,0,0,0,0,0,0,0,0,0,0,0,0,0,0,0,0,0,0,0,0,0,0,0,0,0,0,0,0,0,0,0,0,0,0]
[78,{"$f":"'CH4 from Abandoned Coal Mines'!D82","v":""},{"$f":"'CH4 from Abandoned Coal Mines'!H82","v":""},{"$f":"IFERROR(VALUE('CH4 from Abandoned Coal Mines'!J82), \"\")","v":""},{"$f":"IF('CH4 from Abandoned Coal Mines'!N82>0,'CH4 from Abandoned Coal Mines'!N82,'CH4 from Abandoned Coal Mines'!L82)","v":""},{"$f":"'CH4 from Abandoned Coal Mines'!P82","v":0},{"$f":"'CH4 from Abandoned Coal Mines'!R82","v":0},{"$f":"VLOOKUP(B81,'Abandoned Data'!$O$3:$V$187,6,FALSE)","v":""},{"$f":"VLOOKUP(B81,'Abandoned Data'!$O$3:$V$187,7,FALSE)","v":""},{"$f":"VLOOKUP(B81,'Abandoned Data'!$O$3:$V$187,8,FALSE)","v":""},"",null,null,null,null,null,null,null,null,null,null,null,null,78,0,0,0,0,0,0,0,0,0,0,0,0,0,0,0,0,0,0,0,0,0,0,0,0,0,0,0,0,0,0,0,0,0,0,0,0,0,0,0,0,0,0,0,0,0,0,0,0,0,0,0,0,0,0,0,0,0,0,0,0,0]
[79,{"$f":"'CH4 from Abandoned Coal Mines'!D83","v":""},{"$f":"'CH4 from Abandoned Coal Mines'!H83","v":""},{"$f":"IFERROR(VALUE('CH4 from Abandoned Coal Mines'!J83), \"\")","v":""},{"$f":"IF('CH4 from Abandoned Coal Mines'!N83>0,'CH4 from Abandoned Coal Mines'!N83,'CH4 from Abandoned Coal Mines'!L83)","v":""},{"$f":"'CH4 from Abandoned Coal Mines'!P83","v":0},{"$f":"'CH4 from Abandoned Coal Mines'!R83","v":0},{"$f":"VLOOKUP(B82,'Abandoned Data'!$O$3:$V$187,6,FALSE)","v":""},{"$f":"VLOOKUP(B82,'Abandoned Data'!$O$3:$V$187,7,FALSE)","v":""},{"$f":"VLOOKUP(B82,'Abandoned Data'!$O$3:$V$187,8,FALSE)","v":""},"",null,null,null,null,null,null,null,null,null,null,null,null,79,0,0,0,0,0,0,0,0,0,0,0,0,0,0,0,0,0,0,0,0,0,0,0,0,0,0,0,0,0,0,0,0,0,0,0,0,0,0,0,0,0,0,0,0,0,0,0,0,0,0,0,0,0,0,0,0,0,0,0,0,0]
[80,{"$f":"'CH4 from Abandoned Coal Mines'!D84","v":""},{"$f":"'CH4 from Abandoned Coal Mines'!H84","v":""},{"$f":"IFERROR(VALUE('CH4 from Abandoned Coal Mines'!J84), \"\")","v":""},{"$f":"IF('CH4 from Abandoned Coal Mines'!N84>0,'CH4 from Abandoned Coal Mines'!N84,'CH4 from Abandoned Coal Mines'!L84)","v":""},{"$f":"'CH4 from Abandoned Coal Mines'!P84","v":0},{"$f":"'CH4 from Abandoned Coal Mines'!R84","v":0},{"$f":"VLOOKUP(B83,'Abandoned Data'!$O$3:$V$187,6,FALSE)","v":""},{"$f":"VLOOKUP(B83,'Abandoned Data'!$O$3:$V$187,7,FALSE)","v":""},{"$f":"VLOOKUP(B83,'Abandoned Data'!$O$3:$V$187,8,FALSE)","v":""},"",null,null,null,null,null,null,null,null,null,null,null,null,80,0,0,0,0,0,0,0,0,0,0,0,0,0,0,0,0,0,0,0,0,0,0,0,0,0,0,0,0,0,0,0,0,0,0,0,0,0,0,0,0,0,0,0,0,0,0,{"$f":"IF(ISERROR(IF($D83<BS$3,IF($E83=\"Venting\",(($H83*mmcfd_m3)*((1+$I83*(BS$3-$D83))^$J83)-$G83)*Gg_m3,IF($E83=\"Sealed\",((($H83*mmcfd_m3)*((1+$I83*(BS$3-$D83))^$J83)*(1-$F83)-$G83)*Gg_m3),IF($E83=\"Flooded\",(($H83*mmcfd_m3)*EXP(-0.6728*(BS$3-$D83))*Gg_m3),(($H83*mmcfd_m3)*((1+$I83*(BS$3-$D83))^$J83)-$G83)*Gg_m3+((($H83*mmcfd_m3)*((1+$I83*(BS$3-$D83))^$J83)*(1-0.8)-$G83)*Gg_m3)+(($H83*mmcfd_m3)*EXP(-0.6728*(BS$3-$D83))*Gg_m3)))),0)),0,IF($D83<BS$3,IF($E83=\"Venting\",(($H83*mmcfd_m3)*((1+$I83*(BS$3-$D83))^$J83)-$G83)*Gg_m3,IF($E83=\"Sealed\",((($H83*mmcfd_m3)*((1+$I83*(BS$3-$D83))^$J83)*(1-$F83)-$G83)*Gg_m3),IF($E83=\"Flooded\",(($H83*mmcfd_m3)*EXP(-0.6728*(BS$3-$D83))*Gg_m3),(($H83*mmcfd_m3)*((1+$I83*(BS$3-$D83))^$J83)-$G83)*Gg_m3+((($H83*mmcfd_m3)*((1+$I83*(BS$3-$D83))^$J83)*(1-0.8)-$G83)*Gg_m3)+(($H83*mmcfd_m3)*EXP(-0.6728*(BS$3-$D83))*Gg_m3)))),0))","v":0},0,0,0,0,0,0,0,0,0,0,0,0,0,0]
[81,{"$f":"'CH4 from Abandoned Coal Mines'!D85","v":""},{"$f":"'CH4 from Abandoned Coal Mines'!H85","v":""},{"$f":"IFERROR(VALUE('CH4 from Abandoned Coal Mines'!J85), \"\")","v":""},{"$f":"IF('CH4 from Abandoned Coal Mines'!N85>0,'CH4 from Abandoned Coal Mines'!N85,'CH4 from Abandoned Coal Mines'!L85)","v":""},{"$f":"'CH4 from Abandoned Coal Mines'!P85","v":0},{"$f":"'CH4 from Abandoned Coal Mines'!R85","v":0},{"$f":"VLOOKUP(B84,'Abandoned Data'!$O$3:$V$187,6,FALSE)","v":""},{"$f":"VLOOKUP(B84,'Abandoned Data'!$O$3:$V$187,7,FALSE)","v":""},{"$f":"VLOOKUP(B84,'Abandoned Data'!$O$3:$V$187,8,FALSE)","v":""},"",null,null,null,null,null,null,null,null,null,null,null,null,81,{"$f":"IF(ISERROR(IF($D84<Y$3,IF($E84=\"Venting\",(($H84*mmcfd_m3)*((1+$I84*(Y$3-$D84))^$J84)-$G84)*Gg_m3,IF($E84=\"Sealed\",((($H84*mmcfd_m3)*((1+$I84*(Y$3-$D84))^$J84)*(1-$F84)-$G84)*Gg_m3),IF($E84=\"Flooded\",(($H84*mmcfd_m3)*EXP(-0.6728*(Y$3-$D84))*Gg_m3),(($H84*mmcfd_m3)*((1+$I84*(Y$3-$D84))^$J84)-$G84)*Gg_m3+((($H84*mmcfd_m3)*((1+$I84*(Y$3-$D84))^$J84)*(1-0.8)-$G84)*Gg_m3)+(($H84*mmcfd_m3)*EXP(-0.6728*(Y$3-$D84))*Gg_m3)))),0)),0,IF($D84<Y$3,IF($E84=\"Venting\",(($H84*mmcfd_m3)*((1+$I84*(Y$3-$D84))^$J84)-$G84)*Gg_m3,IF($E84=\"Sealed\",((($H84*mmcfd_m3)*((1+$I84*(Y$3-$D84))^$J84)*(1-$F84)-$G84)*Gg_m3),IF($E84=\"Flooded\",(($H84*mmcfd_m3)*EXP(-0.6728*(Y$3-$D84))*Gg_m3),(($H84*mmcfd_m3)*((1+$I84*(Y$3-$D84))^$J84)-$G84)*Gg_m3+((($H84*mmcfd_m3)*((1+$I84*(Y$3-$D84))^$J84)*(1-0.8)-$G84)*Gg_m3)+(($H84*mmcfd_m3)*EXP(-0.6728*(Y$3-$D84))*Gg_m3)))),0))","v":0},0,0,0,0,0,0,0,0,0,{"$f":"IF(ISERROR(IF($D84<AI$3,IF($E84=\"Venting\",(($H84*mmcfd_m3)*((1+$I84*(AI$3-$D84))^$J84)-$G84)*Gg_m3,IF($E84=\"Sealed\",((($H84*mmcfd_m3)*((1+$I84*(AI$3-$D84))^$J84)*(1-$F84)-$G84)*Gg_m3),IF($E84=\"Flooded\",(($H84*mmcfd_m3)*EXP(-0.6728*(AI$3-$D84))*Gg_m3),(($H84*mmcfd_m3)*((1+$I84*(AI$3-$D84))^$J84)-$G84)*Gg_m3+((($H84*mmcfd_m3)*((1+$I84*(AI$3-$D84))^$J84)*(1-0.8)-$G84)*Gg_m3)+(($H84*mmcfd_m3)*EXP(-0.6728*(AI$3-$D84))*Gg_m3)))),0)),0,IF($D84<AI$3,IF($E84=\"Venting\",(($H84*mmcfd_m3)*((1+$I84*(AI$3-$D84))^$J84)-$G84)*Gg_m3,IF($E84=\"Sealed\",((($H84*mmcfd_m3)*((1+$I84*(AI$3-$D84))^$J84)*(1-$F84)-$G84)*Gg_m3),IF($E84=\"Flooded\",(($H84*mmcfd_m3)*EXP(-0.6728*(AI$3-$D84))*Gg_m3),(($H84*mmcfd_m3)*((1+$I84*(AI$3-$D84))^$J84)-$G84)*Gg_m3+((($H84*mmcfd_m3)*((1+$I84*(AI$3-$D84))^$J84)*(1-0.8)-$G84)*Gg_m3)+(($H84*mmcfd_m3)*EXP(-0.6728*(AI$3-$D84))*Gg_m3)))),0))","v":0},0,0,0,0,0,0,0,0,0,{"$f":"IF(ISERROR(IF($D84<AS$3,IF($E84=\"Venting\",(($H84*mmcfd_m3)*((1+$I84*(AS$3-$D84))^$J84)-$G84)*Gg_m3,IF($E84=\"Sealed\",((($H84*mmcfd_m3)*((1+$I84*(AS$3-$D84))^$J84)*(1-$F84)-$G84)*Gg_m3),IF($E84=\"Flooded\",(($H84*mmcfd_m3)*EXP(-0.6728*(AS$3-$D84))*Gg_m3),(($H84*mmcfd_m3)*((1+$I84*(AS$3-$D84))^$J84)-$G84)*Gg_m3+((($H84*mmcfd_m3)*((1+$I84*(AS$3-$D84))^$J84)*(1-0.8)-$G84)*Gg_m3)+(($H84*mmcfd_m3)*EXP(-0.6728*(AS$3-$D84))*Gg_m3)))),0)),0,IF($D84<AS$3,IF($E84=\"Venting\",(($H84*mmcfd_m3)*((1+$I84*(AS$3-$D84))^$J84)-$G84)*Gg_m3,IF($E84=\"Sealed\",((($H84*mmcfd_m3)*((1+$I84*(AS$3-$D84))^$J84)*(1-$F84)-$G84)*Gg_m3),IF($E84=\"Flooded\",(($H84*mmcfd_m3)*EXP(-0.6728*(AS$3-$D84))*Gg_m3),(($H84*mmcfd_m3)*((1+$I84*(AS$3-$D84))^$J84)-$G84)*Gg_m3+((($H84*mmcfd_m3)*((1+$I84*(AS$3-$D84))^$J84)*(1-0.8)-$G84)*Gg_m3)+(($H84*mmcfd_m3)*EXP(-0.6728*(AS$3-$D84))*Gg_m3)))),0))","v":0},0,0,0,0,0,0,0,0,0,0,0,0,0,0,0,{"$f":"IF(ISERROR(IF($D84<BI$3,IF($E84=\"Venting\",(($H84*mmcfd_m3)*((1+$I84*(BI$3-$D84))^$J84)-$G84)*Gg_m3,IF($E84=\"Sealed\",((($H84*mmcfd_m3)*((1+$I84*(BI$3-$D84))^$J84)*(1-$F84)-$G84)*Gg_m3),IF($E84=\"Flooded\",(($H84*mmcfd_m3)*EXP(-0.6728*(BI$3-$D84))*Gg_m3),(($H84*mmcfd_m3)*((1+$I84*(BI$3-$D84))^$J84)-$G84)*Gg_m3+((($H84*mmcfd_m3)*((1+$I84*(BI$3-$D84))^$J84)*(1-0.8)-$G84)*Gg_m3)+(($H84*mmcfd_m3)*EXP(-0.6728*(BI$3-$D84))*Gg_m3)))),0)),0,IF($D84<BI$3,IF($E84=\"Venting\",(($H84*mmcfd_m3)*((1+$I84*(BI$3-$D84))^$J84)-$G84)*Gg_m3,IF($E84=\"Sealed\",((($H84*mmcfd_m3)*((1+$I84*(BI$3-$D84))^$J84)*(1-$F84)-$G84)*Gg_m3),IF($E84=\"Flooded\",(($H84*mmcfd_m3)*EXP(-0.6728*(BI$3-$D84))*Gg_m3),(($H84*mmcfd_m3)*((1+$I84*(BI$3-$D84))^$J84)-$G84)*Gg_m3+((($H84*mmcfd_m3)*((1+$I84*(BI$3-$D84))^$J84)*(1-0.8)-$G84)*Gg_m3)+(($H84*mmcfd_m3)*EXP(-0.6728*(BI$3-$D84))*Gg_m3)))),0))","v":0},0,0,0,0,0,0,0,0,0,0,0,0,0,0,0,0,0,0,0,0,0,0,0,0]
[82,{"$f":"'CH4 from Abandoned Coal Mines'!D86","v":""},{"$f":"'CH4 from Abandoned Coal Mines'!H86","v":""},{"$f":"IFERROR(VALUE('CH4 from Abandoned Coal Mines'!J86), \"\")","v":""},{"$f":"IF('CH4 from Abandoned Coal Mines'!N86>0,'CH4 from Abandoned Coal Mines'!N86,'CH4 from Abandoned Coal Mines'!L86)","v":""},{"$f":"'CH4 from Abandoned Coal Mines'!P86","v":0},{"$f":"'CH4 from Abandoned Coal Mines'!R86","v":0},{"$f":"VLOOKUP(B85,'Abandoned Data'!$O$3:$V$187,6,FALSE)","v":""},{"$f":"VLOOKUP(B85,'Abandoned Data'!$O$3:$V$187,7,FALSE)","v":""},{"$f":"VLOOKUP(B85,'Abandoned Data'!$O$3:$V$187,8,FALSE)","v":""},"",null,null,null,null,null,null,null,null,null,null,null,null,82,0,0,0,0,0,0,0,0,0,0,0,0,0,0,0,0,0,0,0,0,0,0,0,0,0,0,0,0,0,0,0,0,0,0,0,0,0,0,0,0,0,0,0,0,0,0,0,0,0,0,0,0,0,0,0,0,0,0,0,0,0]
[83,{"$f":"'CH4 from Abandoned Coal Mines'!D87","v":""},{"$f":"'CH4 from Abandoned Coal Mines'!H87","v":""},{"$f":"IFERROR(VALUE('CH4 from Abandoned Coal Mines'!J87), \"\")","v":""},{"$f":"IF('CH4 from Abandoned Coal Mines'!N87>0,'CH4 from Abandoned Coal Mines'!N87,'CH4 from Abandoned Coal Mines'!L87)","v":""},{"$f":"'CH4 from Abandoned Coal Mines'!P87","v":0},{"$f":"'CH4 from Abandoned Coal Mines'!R87","v":0},{"$f":"VLOOKUP(B86,'Abandoned Data'!$O$3:$V$187,6,FALSE)","v":""},{"$f":"VLOOKUP(B86,'Abandoned Data'!$O$3:$V$187,7,FALSE)","v":""},{"$f":"VLOOKUP(B86,'Abandoned Data'!$O$3:$V$187,8,FALSE)","v":""},"",null,null,null,null,null,null,null,null,null,null,null,null,83,0,0,0,0,0,0,0,0,0,0,0,0,0,0,0,0,0,0,0,0,0,0,0,0,0,0,0,0,0,0,0,0,0,0,0,0,0,0,0,0,0,0,0,0,0,0,0,0,0,0,0,0,0,0,0,0,0,0,0,0,0]
[84,{"$f":"'CH4 from Abandoned Coal Mines'!D88","v":""},{"$f":"'CH4 from Abandoned Coal Mines'!H88","v":""},{"$f":"IFERROR(VALUE('CH4 from Abandoned Coal Mines'!J88), \"\")","v":""},{"$f":"IF('CH4 from Abandoned Coal Mines'!N88>0,'CH4 from Abandoned Coal Mines'!N88,'CH4 from Abandoned Coal Mines'!L88)","v":""},{"$f":"'CH4 from Abandoned Coal Mines'!P88","v":0},{"$f":"'CH4 from Abandoned Coal Mines'!R88","v":0},{"$f":"VLOOKUP(B87,'Abandoned Data'!$O$3:$V$187,6,FALSE)","v":""},{"$f":"VLOOKUP(B87,'Abandoned Data'!$O$3:$V$187,7,FALSE)","v":""},{"$f":"VLOOKUP(B87,'Abandoned Data'!$O$3:$V$187,8,FALSE)","v":""},"",null,null,null,null,null,null,null,null,null,null,null,null,84,0,0,0,0,0,0,0,0,0,0,0,0,0,0,0,0,0,0,0,0,0,0,0,0,0,0,0,0,0,0,0,0,0,0,0,0,0,0,0,0,0,0,0,0,0,0,0,0,0,0,0,0,0,0,0,0,0,0,0,0,0]
[85,{"$f":"'CH4 from Abandoned Coal Mines'!D89","v":""},{"$f":"'CH4 from Abandoned Coal Mines'!H89","v":""},{"$f":"IFERROR(VALUE('CH4 from Abandoned Coal Mines'!J89), \"\")","v":""},{"$f":"IF('CH4 from Abandoned Coal Mines'!N89>0,'CH4 from Abandoned Coal Mines'!N89,'CH4 from Abandoned Coal Mines'!L89)","v":""},{"$f":"'CH4 from Abandoned Coal Mines'!P89","v":0},{"$f":"'CH4 from Abandoned Coal Mines'!R89","v":0},{"$f":"VLOOKUP(B88,'Abandoned Data'!$O$3:$V$187,6,FALSE)","v":""},{"$f":"VLOOKUP(B88,'Abandoned Data'!$O$3:$V$187,7,FALSE)","v":""},{"$f":"VLOOKUP(B88,'Abandoned Data'!$O$3:$V$187,8,FALSE)","v":""},"",null,null,null,null,null,null,null,null,null,null,null,null,85,0,0,0,0,0,0,0,0,0,0,0,0,0,0,0,0,0,0,0,0,0,0,0,0,0,0,0,0,0,0,0,0,0,0,0,0,0,0,0,0,0,0,0,0,0,0,0,0,0,0,0,0,0,0,0,0,0,0,0,0,0]
[86,{"$f":"'CH4 from Abandoned Coal Mines'!D90","v":""},{"$f":"'CH4 from Abandoned Coal Mines'!H90","v":""},{"$f":"IFERROR(VALUE('CH4 from Abandoned Coal Mines'!J90), \"\")","v":""},{"$f":"IF('CH4 from Abandoned Coal Mines'!N90>0,'CH4 from Abandoned Coal Mines'!N90,'CH4 from Abandoned Coal Mines'!L90)","v":""},{"$f":"'CH4 from Abandoned Coal Mines'!P90","v":0},{"$f":"'CH4 from Abandoned Coal Mines'!R90","v":0},{"$f":"VLOOKUP(B89,'Abandoned Data'!$O$3:$V$187,6,FALSE)","v":""},{"$f":"VLOOKUP(B89,'Abandoned Data'!$O$3:$V$187,7,FALSE)","v":""},{"$f":"VLOOKUP(B89,'Abandoned Data'!$O$3:$V$187,8,FALSE)","v":""},"",null,null,null,null,null,null,null,null,null,null,null,null,86,0,0,0,0,0,0,0,0,0,0,0,0,0,0,0,0,0,0,0,0,0,0,0,0,0,0,0,0,0,0,0,0,0,0,0,0,0,0,0,0,0,0,0,0,0,0,0,0,0,0,0,0,0,0,0,0,0,0,0,0,0]
[87,{"$f":"'CH4 from Abandoned Coal Mines'!D91","v":""},{"$f":"'CH4 from Abandoned Coal Mines'!H91","v":""},{"$f":"IFERROR(VALUE('CH4 from Abandoned Coal Mines'!J91), \"\")","v":""},{"$f":"IF('CH4 from Abandoned Coal Mines'!N91>0,'CH4 from Abandoned Coal Mines'!N91,'CH4 from Abandoned Coal Mines'!L91)","v":""},{"$f":"'CH4 from Abandoned Coal Mines'!P91","v":0},{"$f":"'CH4 from Abandoned Coal Mines'!R91","v":0},{"$f":"VLOOKUP(B90,'Abandoned Data'!$O$3:$V$187,6,FALSE)","v":""},{"$f":"VLOOKUP(B90,'Abandoned Data'!$O$3:$V$187,7,FALSE)","v":""},{"$f":"VLOOKUP(B90,'Abandoned Data'!$O$3:$V$187,8,FALSE)","v":""},"",null,null,null,null,null,null,null,null,null,null,null,null,87,0,0,0,0,0,0,0,0,0,0,0,0,0,0,0,0,0,0,0,0,0,0,0,0,0,0,0,0,0,0,0,0,0,0,0,0,0,0,0,0,0,0,0,0,0,0,0,0,0,0,0,0,0,0,0,0,0,0,0,0,0]
[88,{"$f":"'CH4 from Abandoned Coal Mines'!D92","v":""},{"$f":"'CH4 from Abandoned Coal Mines'!H92","v":""},{"$f":"IFERROR(VALUE('CH4 from Abandoned Coal Mines'!J92), \"\")","v":""},{"$f":"IF('CH4 from Abandoned Coal Mines'!N92>0,'CH4 from Abandoned Coal Mines'!N92,'CH4 from Abandoned Coal Mines'!L92)","v":""},{"$f":"'CH4 from Abandoned Coal Mines'!P92","v":0},{"$f":"'CH4 from Abandoned Coal Mines'!R92","v":0},{"$f":"VLOOKUP(B91,'Abandoned Data'!$O$3:$V$187,6,FALSE)","v":""},{"$f":"VLOOKUP(B91,'Abandoned Data'!$O$3:$V$187,7,FALSE)","v":""},{"$f":"VLOOKUP(B91,'Abandoned Data'!$O$3:$V$187,8,FALSE)","v":""},"",null,null,null,null,null,null,null,null,null,null,null,null,88,0,0,0,0,0,0,0,0,0,0,0,0,0,0,0,0,0,0,0,0,0,0,0,0,0,0,0,0,0,0,0,0,0,0,0,0,0,0,0,0,0,0,0,0,0,0,0,0,0,0,0,0,0,0,0,0,0,0,0,0,0]
[89,{"$f":"'CH4 from Abandoned Coal Mines'!D93","v":""},{"$f":"'CH4 from Abandoned Coal Mines'!H93","v":""},{"$f":"IFERROR(VALUE('CH4 from Abandoned Coal Mines'!J93), \"\")","v":""},{"$f":"IF('CH4 from Abandoned Coal Mines'!N93>0,'CH4 from Abandoned Coal Mines'!N93,'CH4 from Abandoned Coal Mines'!L93)","v":""},{"$f":"'CH4 from Abandoned Coal Mines'!P93","v":0},{"$f":"'CH4 from Abandoned Coal Mines'!R93","v":0},{"$f":"VLOOKUP(B92,'Abandoned Data'!$O$3:$V$187,6,FALSE)","v":""},{"$f":"VLOOKUP(B92,'Abandoned Data'!$O$3:$V$187,7,FALSE)","v":""},{"$f":"VLOOKUP(B92,'Abandoned Data'!$O$3:$V$187,8,FALSE)","v":""},"",null,null,null,null,null,null,null,null,null,null,null,null,89,0,0,0,0,0,0,0,0,0,0,0,0,0,0,0,0,0,0,0,0,0,0,0,0,0,0,0,0,0,0,0,0,0,0,0,0,0,0,0,0,0,0,0,0,0,0,0,0,0,0,0,{"$f":"IF(ISERROR(IF($D92<BX$3,IF($E92=\"Venting\",(($H92*mmcfd_m3)*((1+$I92*(BX$3-$D92))^$J92)-$G92)*Gg_m3,IF($E92=\"Sealed\",((($H92*mmcfd_m3)*((1+$I92*(BX$3-$D92))^$J92)*(1-$F92)-$G92)*Gg_m3),IF($E92=\"Flooded\",(($H92*mmcfd_m3)*EXP(-0.6728*(BX$3-$D92))*Gg_m3),(($H92*mmcfd_m3)*((1+$I92*(BX$3-$D92))^$J92)-$G92)*Gg_m3+((($H92*mmcfd_m3)*((1+$I92*(BX$3-$D92))^$J92)*(1-0.8)-$G92)*Gg_m3)+(($H92*mmcfd_m3)*EXP(-0.6728*(BX$3-$D92))*Gg_m3)))),0)),0,IF($D92<BX$3,IF($E92=\"Venting\",(($H92*mmcfd_m3)*((1+$I92*(BX$3-$D92))^$J92)-$G92)*Gg_m3,IF($E92=\"Sealed\",((($H92*mmcfd_m3)*((1+$I92*(BX$3-$D92))^$J92)*(1-$F92)-$G92)*Gg_m3),IF($E92=\"Flooded\",(($H92*mmcfd_m3)*EXP(-0.6728*(BX$3-$D92))*Gg_m3),(($H92*mmcfd_m3)*((1+$I92*(BX$3-$D92))^$J92)-$G92)*Gg_m3+((($H92*mmcfd_m3)*((1+$I92*(BX$3-$D92))^$J92)*(1-0.8)-$G92)*Gg_m3)+(($H92*mmcfd_m3)*EXP(-0.6728*(BX$3-$D92))*Gg_m3)))),0))","v":0},0,0,0,0,0,0,0,0,0]
[90,{"$f":"'CH4 from Abandoned Coal Mines'!D94","v":""},{"$f":"'CH4 from Abandoned Coal Mines'!H94","v":""},{"$f":"IFERROR(VALUE('CH4 from Abandoned Coal Mines'!J94), \"\")","v":""},{"$f":"IF('CH4 from Abandoned Coal Mines'!N94>0,'CH4 from Abandoned Coal Mines'!N94,'CH4 from Abandoned Coal Mines'!L94)","v":""},{"$f":"'CH4 from Abandoned Coal Mines'!P94","v":0},{"$f":"'CH4 from Abandoned Coal Mines'!R94","v":0},{"$f":"VLOOKUP(B93,'Abandoned Data'!$O$3:$V$187,6,FALSE)","v":""},{"$f":"VLOOKUP(B93,'Abandoned Data'!$O$3:$V$187,7,FALSE)","v":""},{"$f":"VLOOKUP(B93,'Abandoned Data'!$O$3:$V$187,8,FALSE)","v":""},"",null,null,null,null,null,null,null,null,null,null,null,null,90,0,0,0,0,0,0,0,0,0,0,0,0,0,0,0,0,0,0,0,0,0,0,0,0,0,0,0,0,0,0,0,0,0,0,0,0,0,0,0,0,0,0,0,0,0,0,0,0,0,0,0,0,0,0,0,0,0,0,0,0,0]
[91,{"$f":"'CH4 from Abandoned Coal Mines'!D95","v":""},{"$f":"'CH4 from Abandoned Coal Mines'!H95","v":""},{"$f":"IFERROR(VALUE('CH4 from Abandoned Coal Mines'!J95), \"\")","v":""},{"$f":"IF('CH4 from Abandoned Coal Mines'!N95>0,'CH4 from Abandoned Coal Mines'!N95,'CH4 from Abandoned Coal Mines'!L95)","v":""},{"$f":"'CH4 from Abandoned Coal Mines'!P95","v":0},{"$f":"'CH4 from Abandoned Coal Mines'!R95","v":0},{"$f":"VLOOKUP(B94,'Abandoned Data'!$O$3:$V$187,6,FALSE)","v":""},{"$f":"VLOOKUP(B94,'Abandoned Data'!$O$3:$V$187,7,FALSE)","v":""},{"$f":"VLOOKUP(B94,'Abandoned Data'!$O$3:$V$187,8,FALSE)","v":""},"",null,null,null,null,null,null,null,null,null,null,null,null,91,{"$f":"IF(ISERROR(IF($D94<Y$3,IF($E94=\"Venting\",(($H94*mmcfd_m3)*((1+$I94*(Y$3-$D94))^$J94)-$G94)*Gg_m3,IF($E94=\"Sealed\",((($H94*mmcfd_m3)*((1+$I94*(Y$3-$D94))^$J94)*(1-$F94)-$G94)*Gg_m3),IF($E94=\"Flooded\",(($H94*mmcfd_m3)*EXP(-0.6728*(Y$3-$D94))*Gg_m3),(($H94*mmcfd_m3)*((1+$I94*(Y$3-$D94))^$J94)-$G94)*Gg_m3+((($H94*mmcfd_m3)*((1+$I94*(Y$3-$D94))^$J94)*(1-0.8)-$G94)*Gg_m3)+(($H94*mmcfd_m3)*EXP(-0.6728*(Y$3-$D94))*Gg_m3)))),0)),0,IF($D94<Y$3,IF($E94=\"Venting\",(($H94*mmcfd_m3)*((1+$I94*(Y$3-$D94))^$J94)-$G94)*Gg_m3,IF($E94=\"Sealed\",((($H94*mmcfd_m3)*((1+$I94*(Y$3-$D94))^$J94)*(1-$F94)-$G94)*Gg_m3),IF($E94=\"Flooded\",(($H94*mmcfd_m3)*EXP(-0.6728*(Y$3-$D94))*Gg_m3),(($H94*mmcfd_m3)*((1+$I94*(Y$3-$D94))^$J94)-$G94)*Gg_m3+((($H94*mmcfd_m3)*((1+$I94*(Y$3-$D94))^$J94)*(1-0.8)-$G94)*Gg_m3)+(($H94*mmcfd_m3)*EXP(-0.6728*(Y$3-$D94))*Gg_m3)))),0))","v":0},0,0,0,0,0,0,0,0,0,{"$f":"IF(ISERROR(IF($D94<AI$3,IF($E94=\"Venting\",(($H94*mmcfd_m3)*((1+$I94*(AI$3-$D94))^$J94)-$G94)*Gg_m3,IF($E94=\"Sealed\",((($H94*mmcfd_m3)*((1+$I94*(AI$3-$D94))^$J94)*(1-$F94)-$G94)*Gg_m3),IF($E94=\"Flooded\",(($H94*mmcfd_m3)*EXP(-0.6728*(AI$3-$D94))*Gg_m3),(($H94*mmcfd_m3)*((1+$I94*(AI$3-$D94))^$J94)-$G94)*Gg_m3+((($H94*mmcfd_m3)*((1+$I94*(AI$3-$D94))^$J94)*(1-0.8)-$G94)*Gg_m3)+(($H94*mmcfd_m3)*EXP(-0.6728*(AI$3-$D94))*Gg_m3)))),0)),0,IF($D94<AI$3,IF($E94=\"Venting\",(($H94*mmcfd_m3)*((1+$I94*(AI$3-$D94))^$J94)-$G94)*Gg_m3,IF($E94=\"Sealed\",((($H94*mmcfd_m3)*((1+$I94*(AI$3-$D94))^$J94)*(1-$F94)-$G94)*Gg_m3),IF($E94=\"Flooded\",(($H94*mmcfd_m3)*EXP(-0.6728*(AI$3-$D94))*Gg_m3),(($H94*mmcfd_m3)*((1+$I94*(AI$3-$D94))^$J94)-$G94)*Gg_m3+((($H94*mmcfd_m3)*((1+$I94*(AI$3-$D94))^$J94)*(1-0.8)-$G94)*Gg_m3)+(($H94*mmcfd_m3)*EXP(-0.6728*(AI$3-$D94))*Gg_m3)))),0))","v":0},0,0,0,0,0,0,0,0,0,{"$f":"IF(ISERROR(IF($D94<AS$3,IF($E94=\"Venting\",(($H94*mmcfd_m3)*((1+$I94*(AS$3-$D94))^$J94)-$G94)*Gg_m3,IF($E94=\"Sealed\",((($H94*mmcfd_m3)*((1+$I94*(AS$3-$D94))^$J94)*(1-$F94)-$G94)*Gg_m3),IF($E94=\"Flooded\",(($H94*mmcfd_m3)*EXP(-0.6728*(AS$3-$D94))*Gg_m3),(($H94*mmcfd_m3)*((1+$I94*(AS$3-$D94))^$J94)-$G94)*Gg_m3+((($H94*mmcfd_m3)*((1+$I94*(AS$3-$D94))^$J94)*(1-0.8)-$G94)*Gg_m3)+(($H94*mmcfd_m3)*EXP(-0.6728*(AS$3-$D94))*Gg_m3)))),0)),0,IF($D94<AS$3,IF($E94=\"Venting\",(($H94*mmcfd_m3)*((1+$I94*(AS$3-$D94))^$J94)-$G94)*Gg_m3,IF($E94=\"Sealed\",((($H94*mmcfd_m3)*((1+$I94*(AS$3-$D94))^$J94)*(1-$F94)-$G94)*Gg_m3),IF($E94=\"Flooded\",(($H94*mmcfd_m3)*EXP(-0.6728*(AS$3-$D94))*Gg_m3),(($H94*mmcfd_m3)*((1+$I94*(AS$3-$D94))^$J94)-$G94)*Gg_m3+((($H94*mmcfd_m3)*((1+$I94*(AS$3-$D94))^$J94)*(1-0.8)-$G94)*Gg_m3)+(($H94*mmcfd_m3)*EXP(-0.6728*(AS$3-$D94))*Gg_m3)))),0))","v":0},0,0,0,0,0,0,0,0,0,0,0,0,0,0,0,0,0,0,0,0,0,0,0,0,0,0,0,0,0,0,0,0,0,0,0,0,0,0,0,0]
[92,{"$f":"'CH4 from Abandoned Coal Mines'!D96","v":""},{"$f":"'CH4 from Abandoned Coal Mines'!H96","v":""},{"$f":"IFERROR(VALUE('CH4 from Abandoned Coal Mines'!J96), \"\")","v":""},{"$f":"IF('CH4 from Abandoned Coal Mines'!N96>0,'CH4 from Abandoned Coal Mines'!N96,'CH4 from Abandoned Coal Mines'!L96)","v":""},{"$f":"'CH4 from Abandoned Coal Mines'!P96","v":0},{"$f":"'CH4 from Abandoned Coal Mines'!R96","v":0},{"$f":"VLOOKUP(B95,'Abandoned Data'!$O$3:$V$187,6,FALSE)","v":""},{"$f":"VLOOKUP(B95,'Abandoned Data'!$O$3:$V$187,7,FALSE)","v":""},{"$f":"VLOOKUP(B95,'Abandoned Data'!$O$3:$V$187,8,FALSE)","v":""},"",null,null,null,null,null,null,null,null,null,null,null,null,92,0,0,0,0,0,0,0,0,0,0,0,0,0,0,0,0,0,0,0,0,0,0,0,0,0,0,0,0,0,0,0,0,0,0,0,0,0,0,0,0,0,0,0,0,0,0,0,0,0,0,0,0,0,0,0,0,0,0,0,0,0]
[93,{"$f":"'CH4 from Abandoned Coal Mines'!D97","v":""},{"$f":"'CH4 from Abandoned Coal Mines'!H97","v":""},{"$f":"IFERROR(VALUE('CH4 from Abandoned Coal Mines'!J97), \"\")","v":""},{"$f":"IF('CH4 from Abandoned Coal Mines'!N97>0,'CH4 from Abandoned Coal Mines'!N97,'CH4 from Abandoned Coal Mines'!L97)","v":""},{"$f":"'CH4 from Abandoned Coal Mines'!P97","v":0},{"$f":"'CH4 from Abandoned Coal Mines'!R97","v":0},{"$f":"VLOOKUP(B96,'Abandoned Data'!$O$3:$V$187,6,FALSE)","v":""},{"$f":"VLOOKUP(B96,'Abandoned Data'!$O$3:$V$187,7,FALSE)","v":""},{"$f":"VLOOKUP(B96,'Abandoned Data'!$O$3:$V$187,8,FALSE)","v":""},"",null,null,null,null,null,null,null,null,null,null,null,null,93,0,0,0,0,0,0,0,0,0,0,0,0,0,0,0,0,0,0,0,0,0,0,0,0,0,0,0,0,0,0,0,0,0,0,0,0,0,0,0,0,0,0,0,0,0,0,0,0,0,0,0,0,0,0,0,0,0,0,0,0,0]
[94,{"$f":"'CH4 from Abandoned Coal Mines'!D98","v":""},{"$f":"'CH4 from Abandoned Coal Mines'!H98","v":""},{"$f":"IFERROR(VALUE('CH4 from Abandoned Coal Mines'!J98), \"\")","v":""},{"$f":"IF('CH4 from Abandoned Coal Mines'!N98>0,'CH4 from Abandoned Coal Mines'!N98,'CH4 from Abandoned Coal Mines'!L98)","v":""},{"$f":"'CH4 from Abandoned Coal Mines'!P98","v":0},{"$f":"'CH4 from Abandoned Coal Mines'!R98","v":0},{"$f":"VLOOKUP(B97,'Abandoned Data'!$O$3:$V$187,6,FALSE)","v":""},{"$f":"VLOOKUP(B97,'Abandoned Data'!$O$3:$V$187,7,FALSE)","v":""},{"$f":"VLOOKUP(B97,'Abandoned Data'!$O$3:$V$187,8,FALSE)","v":""},"",null,null,null,null,null,null,null,null,null,null,null,null,94,0,0,0,0,0,0,0,0,0,0,0,0,0,0,0,0,0,0,0,0,0,0,0,0,0,0,0,0,0,0,0,0,0,0,0,0,0,0,0,0,0,0,0,0,0,0,0,0,0,0,0,0,0,0,0,0,0,0,0,0,0]
[95,{"$f":"'CH4 from Abandoned Coal Mines'!D99","v":""},{"$f":"'CH4 from Abandoned Coal Mines'!H99","v":""},{"$f":"IFERROR(VALUE('CH4 from Abandoned Coal Mines'!J99), \"\")","v":""},{"$f":"IF('CH4 from Abandoned Coal Mines'!N99>0,'CH4 from Abandoned Coal Mines'!N99,'CH4 from Abandoned Coal Mines'!L99)","v":""},{"$f":"'CH4 from Abandoned Coal Mines'!P99","v":0},{"$f":"'CH4 from Abandoned Coal Mines'!R99","v":0},{"$f":"VLOOKUP(B98,'Abandoned Data'!$O$3:$V$187,6,FALSE)","v":""},{"$f":"VLOOKUP(B98,'Abandoned Data'!$O$3:$V$187,7,FALSE)","v":""},{"$f":"VLOOKUP(B98,'Abandoned Data'!$O$3:$V$187,8,FALSE)","v":""},"",null,null,null,null,null,null,null,null,null,null,null,null,95,0,0,0,0,0,0,0,0,0,0,0,0,0,0,0,0,0,0,0,0,0,0,0,0,0,0,0,0,0,0,0,0,0,0,0,0,0,0,0,0,0,0,0,0,0,0,0,0,0,0,0,0,0,0,0,0,0,0,0,0,0]
[96,{"$f":"'CH4 from Abandoned Coal Mines'!D100","v":""},{"$f":"'CH4 from Abandoned Coal Mines'!H100","v":""},{"$f":"IFERROR(VALUE('CH4 from Abandoned Coal Mines'!J100), \"\")","v":""},{"$f":"IF('CH4 from Abandoned Coal Mines'!N100>0,'CH4 from Abandoned Coal Mines'!N100,'CH4 from Abandoned Coal Mines'!L100)","v":""},{"$f":"'CH4 from Abandoned Coal Mines'!P100","v":0},{"$f":"'CH4 from Abandoned Coal Mines'!R100","v":0},{"$f":"VLOOKUP(B99,'Abandoned Data'!$O$3:$V$187,6,FALSE)","v":""},{"$f":"VLOOKUP(B99,'Abandoned Data'!$O$3:$V$187,7,FALSE)","v":""},{"$f":"VLOOKUP(B99,'Abandoned Data'!$O$3:$V$187,8,FALSE)","v":""},"",null,null,null,null,null,null,null,null,null,null,null,null,96,0,0,0,0,0,0,0,0,0,0,0,0,0,0,0,0,0,0,0,0,0,0,0,0,0,0,0,0,0,0,0,0,0,0,0,0,0,0,0,0,0,0,0,0,0,0,0,0,0,0,0,0,0,0,0,0,0,0,0,0,0]
[97,{"$f":"'CH4 from Abandoned Coal Mines'!D101","v":""},{"$f":"'CH4 from Abandoned Coal Mines'!H101","v":""},{"$f":"IFERROR(VALUE('CH4 from Abandoned Coal Mines'!J101), \"\")","v":""},{"$f":"IF('CH4 from Abandoned Coal Mines'!N101>0,'CH4 from Abandoned Coal Mines'!N101,'CH4 from Abandoned Coal Mines'!L101)","v":""},{"$f":"'CH4 from Abandoned Coal Mines'!P101","v":0},{"$f":"'CH4 from Abandoned Coal Mines'!R101","v":0},{"$f":"VLOOKUP(B100,'Abandoned Data'!$O$3:$V$187,6,FALSE)","v":""},{"$f":"VLOOKUP(B100,'Abandoned Data'!$O$3:$V$187,7,FALSE)","v":""},{"$f":"VLOOKUP(B100,'Abandoned Data'!$O$3:$V$187,8,FALSE)","v":""},{"$f":"IFERROR(IF(E100=\"Venting\",((H100*mmcfd_m3)*((1+I100*($BC$3-D100))^J100)-G100)*Gg_m3,IF(E100=\"Sealed\",(((H100*mmcfd_m3)*((1+I100*($BC$3-D100))^J100)*(1-F100)-G100)*Gg_m3),IF(E100=\"Flooded\",((H100*mmcfd_m3)*EXP(-0.6728*($BC$3-D100))*Gg_m3),((H100*mmcfd_m3)*((1+I100*($BC$3-D100))^J100)-G100)*Gg_m3+(((H100*mmcfd_m3)*((1+I100*($BC$3-D100))^J100)*(1-0.8)-G100)*Gg_m3)+((H100*mmcfd_m3)*EXP(-0.6728*($BC$3-D100))*Gg_m3)))), \"\")","v":""},null,null,null,null,null,null,null,null,null,null,null,null,97,0,0,0,0,0,0,0,0,0,0,0,0,0,0,0,0,0,0,0,0,0,0,0,0,0,0,0,0,0,0,0,0,0,0,0,0,0,0,0,0,0,0,0,0,0,0,0,0,0,0,0,0,0,0,0,0,0,0,0,0,0]
[98,{"$f":"'CH4 from Abandoned Coal Mines'!D102","v":""},{"$f":"'CH4 from Abandoned Coal Mines'!H102","v":""},{"$f":"IFERROR(VALUE('CH4 from Abandoned Coal Mines'!J102), \"\")","v":""},{"$f":"IF('CH4 from Abandoned Coal Mines'!N102>0,'CH4 from Abandoned Coal Mines'!N102,'CH4 from Abandoned Coal Mines'!L102)","v":""},{"$f":"'CH4 from Abandoned Coal Mines'!P102","v":0},{"$f":"'CH4 from Abandoned Coal Mines'!R102","v":0},{"$f":"VLOOKUP(B101,'Abandoned Data'!$O$3:$V$187,6,FALSE)","v":""},{"$f":"VLOOKUP(B101,'Abandoned Data'!$O$3:$V$187,7,FALSE)","v":""},{"$f":"VLOOKUP(B101,'Abandoned Data'!$O$3:$V$187,8,FALSE)","v":""},"",null,null,null,null,null,null,null,null,null,null,null,null,98,0,0,0,0,0,0,0,0,0,0,0,0,0,0,0,0,0,0,0,0,0,0,0,0,0,0,0,0,0,0,0,0,0,0,0,0,0,0,0,0,0,{"$f":"IF(ISERROR(IF($D101<BN$3,IF($E101=\"Venting\",(($H101*mmcfd_m3)*((1+$I101*(BN$3-$D101))^$J101)-$G101)*Gg_m3,IF($E101=\"Sealed\",((($H101*mmcfd_m3)*((1+$I101*(BN$3-$D101))^$J101)*(1-$F101)-$G101)*Gg_m3),IF($E101=\"Flooded\",(($H101*mmcfd_m3)*EXP(-0.6728*(BN$3-$D101))*Gg_m3),(($H101*mmcfd_m3)*((1+$I101*(BN$3-$D101))^$J101)-$G101)*Gg_m3+((($H101*mmcfd_m3)*((1+$I101*(BN$3-$D101))^$J101)*(1-0.8)-$G101)*Gg_m3)+(($H101*mmcfd_m3)*EXP(-0.6728*(BN$3-$D101))*Gg_m3)))),0)),0,IF($D101<BN$3,IF($E101=\"Venting\",(($H101*mmcfd_m3)*((1+$I101*(BN$3-$D101))^$J101)-$G101)*Gg_m3,IF($E101=\"Sealed\",((($H101*mmcfd_m3)*((1+$I101*(BN$3-$D101))^$J101)*(1-$F101)-$G101)*Gg_m3),IF($E101=\"Flooded\",(($H101*mmcfd_m3)*EXP(-0.6728*(BN$3-$D101))*Gg_m3),(($H101*mmcfd_m3)*((1+$I101*(BN$3-$D101))^$J101)-$G101)*Gg_m3+((($H101*mmcfd_m3)*((1+$I101*(BN$3-$D101))^$J101)*(1-0.8)-$G101)*Gg_m3)+(($H101*mmcfd_m3)*EXP(-0.6728*(BN$3-$D101))*Gg_m3)))),0))","v":0},0,0,0,0,0,0,0,0,0,0,0,0,0,0,0,0,0,0,0]
[99,{"$f":"'CH4 from Abandoned Coal Mines'!D103","v":""},{"$f":"'CH4 from Abandoned Coal Mines'!H103","v":""},{"$f":"IFERROR(VALUE('CH4 from Abandoned Coal Mines'!J103), \"\")","v":""},{"$f":"IF('CH4 from Abandoned Coal Mines'!N103>0,'CH4 from Abandoned Coal Mines'!N103,'CH4 from Abandoned Coal Mines'!L103)","v":""},{"$f":"'CH4 from Abandoned Coal Mines'!P103","v":0},{"$f":"'CH4 from Abandoned Coal Mines'!R103","v":0},{"$f":"VLOOKUP(B102,'Abandoned Data'!$O$3:$V$187,6,FALSE)","v":""},{"$f":"VLOOKUP(B102,'Abandoned Data'!$O$3:$V$187,7,FALSE)","v":""},{"$f":"VLOOKUP(B102,'Abandoned Data'!$O$3:$V$187,8,FALSE)","v":""},"",null,null,null,null,null,null,null,null,null,null,null,null,99,0,0,0,0,0,0,0,0,0,0,0,0,0,0,0,0,0,0,0,0,0,0,0,0,0,0,0,0,0,0,0,0,0,0,0,0,0,0,0,0,0,0,0,0,0,0,0,0,0,0,0,0,0,0,0,0,0,0,0,0,0]
[100,{"$f":"'CH4 from Abandoned Coal Mines'!D104","v":""},{"$f":"'CH4 from Abandoned Coal Mines'!H104","v":""},{"$f":"IFERROR(VALUE('CH4 from Abandoned Coal Mines'!J104), \"\")","v":""},{"$f":"IF('CH4 from Abandoned Coal Mines'!N104>0,'CH4 from Abandoned Coal Mines'!N104,'CH4 from Abandoned Coal Mines'!L104)","v":""},{"$f":"'CH4 from Abandoned Coal Mines'!P104","v":0},{"$f":"'CH4 from Abandoned Coal Mines'!R104","v":0},{"$f":"VLOOKUP(B103,'Abandoned Data'!$O$3:$V$187,6,FALSE)","v":""},{"$f":"VLOOKUP(B103,'Abandoned Data'!$O$3:$V$187,7,FALSE)","v":""},{"$f":"VLOOKUP(B103,'Abandoned Data'!$O$3:$V$187,8,FALSE)","v":""},"",null,null,null,null,null,null,null,null,null,null,null,null,100,0,0,0,0,0,0,0,0,0,0,0,0,0,0,0,0,0,0,0,0,0,0,0,0,0,0,0,0,0,0,0,0,0,0,0,0,0,0,0,0,0,0,0,0,0,0,0,0,0,0,0,0,0,0,0,0,0,0,0,0,0]
[101,{"$f":"'CH4 from Abandoned Coal Mines'!D105","v":""},{"$f":"'CH4 from Abandoned Coal Mines'!H105","v":""},{"$f":"IFERROR(VALUE('CH4 from Abandoned Coal Mines'!J105), \"\")","v":""},{"$f":"IF('CH4 from Abandoned Coal Mines'!N105>0,'CH4 from Abandoned Coal Mines'!N105,'CH4 from Abandoned Coal Mines'!L105)","v":""},{"$f":"'CH4 from Abandoned Coal Mines'!P105","v":0},{"$f":"'CH4 from Abandoned Coal Mines'!R105","v":0},{"$f":"VLOOKUP(B104,'Abandoned Data'!$O$3:$V$187,6,FALSE)","v":""},{"$f":"VLOOKUP(B104,'Abandoned Data'!$O$3:$V$187,7,FALSE)","v":""},{"$f":"VLOOKUP(B104,'Abandoned Data'!$O$3:$V$187,8,FALSE)","v":""},"",null,null,null,null,null,null,null,null,null,null,null,null,101,{"$f":"IF(ISERROR(IF($D104<Y$3,IF($E104=\"Venting\",(($H104*mmcfd_m3)*((1+$I104*(Y$3-$D104))^$J104)-$G104)*Gg_m3,IF($E104=\"Sealed\",((($H104*mmcfd_m3)*((1+$I104*(Y$3-$D104))^$J104)*(1-$F104)-$G104)*Gg_m3),IF($E104=\"Flooded\",(($H104*mmcfd_m3)*EXP(-0.6728*(Y$3-$D104))*Gg_m3),(($H104*mmcfd_m3)*((1+$I104*(Y$3-$D104))^$J104)-$G104)*Gg_m3+((($H104*mmcfd_m3)*((1+$I104*(Y$3-$D104))^$J104)*(1-0.8)-$G104)*Gg_m3)+(($H104*mmcfd_m3)*EXP(-0.6728*(Y$3-$D104))*Gg_m3)))),0)),0,IF($D104<Y$3,IF($E104=\"Venting\",(($H104*mmcfd_m3)*((1+$I104*(Y$3-$D104))^$J104)-$G104)*Gg_m3,IF($E104=\"Sealed\",((($H104*mmcfd_m3)*((1+$I104*(Y$3-$D104))^$J104)*(1-$F104)-$G104)*Gg_m3),IF($E104=\"Flooded\",(($H104*mmcfd_m3)*EXP(-0.6728*(Y$3-$D104))*Gg_m3),(($H104*mmcfd_m3)*((1+$I104*(Y$3-$D104))^$J104)-$G104)*Gg_m3+((($H104*mmcfd_m3)*((1+$I104*(Y$3-$D104))^$J104)*(1-0.8)-$G104)*Gg_m3)+(($H104*mmcfd_m3)*EXP(-0.6728*(Y$3-$D104))*Gg_m3)))),0))","v":0},0,0,0,0,0,0,0,0,0,{"$f":"IF(ISERROR(IF($D104<AI$3,IF($E104=\"Venting\",(($H104*mmcfd_m3)*((1+$I104*(AI$3-$D104))^$J104)-$G104)*Gg_m3,IF($E104=\"Sealed\",((($H104*mmcfd_m3)*((1+$I104*(AI$3-$D104))^$J104)*(1-$F104)-$G104)*Gg_m3),IF($E104=\"Flooded\",(($H104*mmcfd_m3)*EXP(-0.6728*(AI$3-$D104))*Gg_m3),(($H104*mmcfd_m3)*((1+$I104*(AI$3-$D104))^$J104)-$G104)*Gg_m3+((($H104*mmcfd_m3)*((1+$I104*(AI$3-$D104))^$J104)*(1-0.8)-$G104)*Gg_m3)+(($H104*mmcfd_m3)*EXP(-0.6728*(AI$3-$D104))*Gg_m3)))),0)),0,IF($D104<AI$3,IF($E104=\"Venting\",(($H104*mmcfd_m3)*((1+$I104*(AI$3-$D104))^$J104)-$G104)*Gg_m3,IF($E104=\"Sealed\",((($H104*mmcfd_m3)*((1+$I104*(AI$3-$D104))^$J104)*(1-$F104)-$G104)*Gg_m3),IF($E104=\"Flooded\",(($H104*mmcfd_m3)*EXP(-0.6728*(AI$3-$D104))*Gg_m3),(($H104*mmcfd_m3)*((1+$I104*(AI$3-$D104))^$J104)-$G104)*Gg_m3+((($H104*mmcfd_m3)*((1+$I104*(AI$3-$D104))^$J104)*(1-0.8)-$G104)*Gg_m3)+(($H104*mmcfd_m3)*EXP(-0.6728*(AI$3-$D104))*Gg_m3)))),0))","v":0},0,0,0,0,0,0,0,0,0,{"$f":"IF(ISERROR(IF($D104<AS$3,IF($E104=\"Venting\",(($H104*mmcfd_m3)*((1+$I104*(AS$3-$D104))^$J104)-$G104)*Gg_m3,IF($E104=\"Sealed\",((($H104*mmcfd_m3)*((1+$I104*(AS$3-$D104))^$J104)*(1-$F104)-$G104)*Gg_m3),IF($E104=\"Flooded\",(($H104*mmcfd_m3)*EXP(-0.6728*(AS$3-$D104))*Gg_m3),(($H104*mmcfd_m3)*((1+$I104*(AS$3-$D104))^$J104)-$G104)*Gg_m3+((($H104*mmcfd_m3)*((1+$I104*(AS$3-$D104))^$J104)*(1-0.8)-$G104)*Gg_m3)+(($H104*mmcfd_m3)*EXP(-0.6728*(AS$3-$D104))*Gg_m3)))),0)),0,IF($D104<AS$3,IF($E104=\"Venting\",(($H104*mmcfd_m3)*((1+$I104*(AS$3-$D104))^$J104)-$G104)*Gg_m3,IF($E104=\"Sealed\",((($H104*mmcfd_m3)*((1+$I104*(AS$3-$D104))^$J104)*(1-$F104)-$G104)*Gg_m3),IF($E104=\"Flooded\",(($H104*mmcfd_m3)*EXP(-0.6728*(AS$3-$D104))*Gg_m3),(($H104*mmcfd_m3)*((1+$I104*(AS$3-$D104))^$J104)-$G104)*Gg_m3+((($H104*mmcfd_m3)*((1+$I104*(AS$3-$D104))^$J104)*(1-0.8)-$G104)*Gg_m3)+(($H104*mmcfd_m3)*EXP(-0.6728*(AS$3-$D104))*Gg_m3)))),0))","v":0},0,0,0,0,0,0,0,0,0,0,0,0,0,0,0,0,0,0,0,0,0,0,0,0,0,0,0,0,0,0,0,0,0,0,0,0,0,0,0,0]
[102,{"$f":"'CH4 from Abandoned Coal Mines'!D106","v":""},{"$f":"'CH4 from Abandoned Coal Mines'!H106","v":""},{"$f":"IFERROR(VALUE('CH4 from Abandoned Coal Mines'!J106), \"\")","v":""},{"$f":"IF('CH4 from Abandoned Coal Mines'!N106>0,'CH4 from Abandoned Coal Mines'!N106,'CH4 from Abandoned Coal Mines'!L106)","v":""},{"$f":"'CH4 from Abandoned Coal Mines'!P106","v":0},{"$f":"'CH4 from Abandoned Coal Mines'!R106","v":0},{"$f":"VLOOKUP(B105,'Abandoned Data'!$O$3:$V$187,6,FALSE)","v":""},{"$f":"VLOOKUP(B105,'Abandoned Data'!$O$3:$V$187,7,FALSE)","v":""},{"$f":"VLOOKUP(B105,'Abandoned Data'!$O$3:$V$187,8,FALSE)","v":""},"",null,null,null,null,null,null,null,null,null,null,null,null,102,0,0,0,0,0,0,0,0,0,0,0,0,0,0,0,0,0,0,0,0,0,0,0,0,0,0,0,0,0,0,0,0,0,0,0,0,0,0,0,0,0,0,0,0,0,0,0,0,0,0,0,0,0,0,0,0,0,0,0,0,0]
[103,{"$f":"'CH4 from Abandoned Coal Mines'!D107","v":""},{"$f":"'CH4 from Abandoned Coal Mines'!H107","v":""},{"$f":"IFERROR(VALUE('CH4 from Abandoned Coal Mines'!J107), \"\")","v":""},{"$f":"IF('CH4 from Abandoned Coal Mines'!N107>0,'CH4 from Abandoned Coal Mines'!N107,'CH4 from Abandoned Coal Mines'!L107)","v":""},{"$f":"'CH4 from Abandoned Coal Mines'!P107","v":0},{"$f":"'CH4 from Abandoned Coal Mines'!R107","v":0},{"$f":"VLOOKUP(B106,'Abandoned Data'!$O$3:$V$187,6,FALSE)","v":""},{"$f":"VLOOKUP(B106,'Abandoned Data'!$O$3:$V$187,7,FALSE)","v":""},{"$f":"VLOOKUP(B106,'Abandoned Data'!$O$3:$V$187,8,FALSE)","v":""},"",null,null,null,null,null,null,null,null,null,null,null,null,103,0,0,0,0,0,0,0,0,0,0,0,0,0,0,0,0,0,0,0,0,0,0,0,0,0,0,0,0,0,0,0,0,0,0,0,0,0,0,0,0,0,0,0,0,0,0,0,0,0,0,0,0,0,0,0,0,0,0,0,0,0]
[104,{"$f":"'CH4 from Abandoned Coal Mines'!D108","v":""},{"$f":"'CH4 from Abandoned Coal Mines'!H108","v":""},{"$f":"IFERROR(VALUE('CH4 from Abandoned Coal Mines'!J108), \"\")","v":""},{"$f":"IF('CH4 from Abandoned Coal Mines'!N108>0,'CH4 from Abandoned Coal Mines'!N108,'CH4 from Abandoned Coal Mines'!L108)","v":""},{"$f":"'CH4 from Abandoned Coal Mines'!P108","v":0},{"$f":"'CH4 from Abandoned Coal Mines'!R108","v":0},{"$f":"VLOOKUP(B107,'Abandoned Data'!$O$3:$V$187,6,FALSE)","v":""},{"$f":"VLOOKUP(B107,'Abandoned Data'!$O$3:$V$187,7,FALSE)","v":""},{"$f":"VLOOKUP(B107,'Abandoned Data'!$O$3:$V$187,8,FALSE)","v":""},"",null,null,null,null,null,null,null,null,null,null,null,null,104,0,0,0,0,0,0,0,0,0,0,0,0,0,0,0,0,0,0,0,0,0,0,0,0,0,0,0,0,0,0,0,0,0,0,0,0,0,0,0,0,0,0,0,0,0,0,0,0,0,0,0,0,0,0,0,0,0,0,0,0,0]
[105,{"$f":"'CH4 from Abandoned Coal Mines'!D109","v":""},{"$f":"'CH4 from Abandoned Coal Mines'!H109","v":""},{"$f":"IFERROR(VALUE('CH4 from Abandoned Coal Mines'!J109), \"\")","v":""},{"$f":"IF('CH4 from Abandoned Coal Mines'!N109>0,'CH4 from Abandoned Coal Mines'!N109,'CH4 from Abandoned Coal Mines'!L109)","v":""},{"$f":"'CH4 from Abandoned Coal Mines'!P109","v":0},{"$f":"'CH4 from Abandoned Coal Mines'!R109","v":0},{"$f":"VLOOKUP(B108,'Abandoned Data'!$O$3:$V$187,6,FALSE)","v":""},{"$f":"VLOOKUP(B108,'Abandoned Data'!$O$3:$V$187,7,FALSE)","v":""},{"$f":"VLOOKUP(B108,'Abandoned Data'!$O$3:$V$187,8,FALSE)","v":""},"",null,null,null,null,null,null,null,null,null,null,null,null,105,0,0,0,0,0,0,0,0,0,0,0,0,0,0,0,0,0,0,0,0,0,0,0,0,0,0,0,0,0,0,0,0,0,0,0,0,0,0,0,0,0,0,0,0,0,0,0,0,0,0,0,0,0,0,0,0,0,0,0,0,0]
[106,{"$f":"'CH4 from Abandoned Coal Mines'!D110","v":""},{"$f":"'CH4 from Abandoned Coal Mines'!H110","v":""},{"$f":"IFERROR(VALUE('CH4 from Abandoned Coal Mines'!J110), \"\")","v":""},{"$f":"IF('CH4 from Abandoned Coal Mines'!N110>0,'CH4 from Abandoned Coal Mines'!N110,'CH4 from Abandoned Coal Mines'!L110)","v":""},{"$f":"'CH4 from Abandoned Coal Mines'!P110","v":0},{"$f":"'CH4 from Abandoned Coal Mines'!R110","v":0},{"$f":"VLOOKUP(B109,'Abandoned Data'!$O$3:$V$187,6,FALSE)","v":""},{"$f":"VLOOKUP(B109,'Abandoned Data'!$O$3:$V$187,7,FALSE)","v":""},{"$f":"VLOOKUP(B109,'Abandoned Data'!$O$3:$V$187,8,FALSE)","v":""},"",null,null,null,null,null,null,null,null,null,null,null,null,106,0,0,0,0,0,0,0,0,0,0,0,0,0,0,0,0,0,0,0,0,0,0,0,0,0,0,0,0,0,0,0,0,0,0,0,0,0,0,0,0,0,0,0,0,0,0,0,0,0,0,0,0,0,0,0,0,0,0,0,0,0]
[107,{"$f":"'CH4 from Abandoned Coal Mines'!D111","v":""},{"$f":"'CH4 from Abandoned Coal Mines'!H111","v":""},{"$f":"IFERROR(VALUE('CH4 from Abandoned Coal Mines'!J111), \"\")","v":""},{"$f":"IF('CH4 from Abandoned Coal Mines'!N111>0,'CH4 from Abandoned Coal Mines'!N111,'CH4 from Abandoned Coal Mines'!L111)","v":""},{"$f":"'CH4 from Abandoned Coal Mines'!P111","v":0},{"$f":"'CH4 from Abandoned Coal Mines'!R111","v":0},{"$f":"VLOOKUP(B110,'Abandoned Data'!$O$3:$V$187,6,FALSE)","v":""},{"$f":"VLOOKUP(B110,'Abandoned Data'!$O$3:$V$187,7,FALSE)","v":""},{"$f":"VLOOKUP(B110,'Abandoned Data'!$O$3:$V$187,8,FALSE)","v":""},"",null,null,null,null,null,null,null,null,null,null,null,null,107,0,0,0,0,0,0,0,0,0,0,0,0,0,0,0,0,0,0,0,0,0,0,0,0,0,0,0,0,0,0,0,{"$f":"IF(ISERROR(IF($D110<BD$3,IF($E110=\"Venting\",(($H110*mmcfd_m3)*((1+$I110*(BD$3-$D110))^$J110)-$G110)*Gg_m3,IF($E110=\"Sealed\",((($H110*mmcfd_m3)*((1+$I110*(BD$3-$D110))^$J110)*(1-$F110)-$G110)*Gg_m3),IF($E110=\"Flooded\",(($H110*mmcfd_m3)*EXP(-0.6728*(BD$3-$D110))*Gg_m3),(($H110*mmcfd_m3)*((1+$I110*(BD$3-$D110))^$J110)-$G110)*Gg_m3+((($H110*mmcfd_m3)*((1+$I110*(BD$3-$D110))^$J110)*(1-0.8)-$G110)*Gg_m3)+(($H110*mmcfd_m3)*EXP(-0.6728*(BD$3-$D110))*Gg_m3)))),0)),0,IF($D110<BD$3,IF($E110=\"Venting\",(($H110*mmcfd_m3)*((1+$I110*(BD$3-$D110))^$J110)-$G110)*Gg_m3,IF($E110=\"Sealed\",((($H110*mmcfd_m3)*((1+$I110*(BD$3-$D110))^$J110)*(1-$F110)-$G110)*Gg_m3),IF($E110=\"Flooded\",(($H110*mmcfd_m3)*EXP(-0.6728*(BD$3-$D110))*Gg_m3),(($H110*mmcfd_m3)*((1+$I110*(BD$3-$D110))^$J110)-$G110)*Gg_m3+((($H110*mmcfd_m3)*((1+$I110*(BD$3-$D110))^$J110)*(1-0.8)-$G110)*Gg_m3)+(($H110*mmcfd_m3)*EXP(-0.6728*(BD$3-$D110))*Gg_m3)))),0))","v":0},0,0,0,0,0,0,0,0,0,0,0,0,0,0,0,0,0,0,0,0,0,0,0,0,0,0,0,0,0]
[108,{"$f":"'CH4 from Abandoned Coal Mines'!D112","v":""},{"$f":"'CH4 from Abandoned Coal Mines'!H112","v":""},{"$f":"IFERROR(VALUE('CH4 from Abandoned Coal Mines'!J112), \"\")","v":""},{"$f":"IF('CH4 from Abandoned Coal Mines'!N112>0,'CH4 from Abandoned Coal Mines'!N112,'CH4 from Abandoned Coal Mines'!L112)","v":""},{"$f":"'CH4 from Abandoned Coal Mines'!P112","v":0},{"$f":"'CH4 from Abandoned Coal Mines'!R112","v":0},{"$f":"VLOOKUP(B111,'Abandoned Data'!$O$3:$V$187,6,FALSE)","v":""},{"$f":"VLOOKUP(B111,'Abandoned Data'!$O$3:$V$187,7,FALSE)","v":""},{"$f":"VLOOKUP(B111,'Abandoned Data'!$O$3:$V$187,8,FALSE)","v":""},"",null,null,null,null,null,null,null,null,null,null,null,null,108,0,0,0,0,0,0,0,0,0,0,0,0,0,0,0,0,0,0,0,0,0,0,0,0,0,0,0,0,0,0,0,0,0,0,0,0,0,0,0,0,0,0,0,0,0,0,0,0,0,0,0,0,0,0,0,0,0,0,0,0,0]
[109,{"$f":"'CH4 from Abandoned Coal Mines'!D113","v":""},{"$f":"'CH4 from Abandoned Coal Mines'!H113","v":""},{"$f":"IFERROR(VALUE('CH4 from Abandoned Coal Mines'!J113), \"\")","v":""},{"$f":"IF('CH4 from Abandoned Coal Mines'!N113>0,'CH4 from Abandoned Coal Mines'!N113,'CH4 from Abandoned Coal Mines'!L113)","v":""},{"$f":"'CH4 from Abandoned Coal Mines'!P113","v":0},{"$f":"'CH4 from Abandoned Coal Mines'!R113","v":0},{"$f":"VLOOKUP(B112,'Abandoned Data'!$O$3:$V$187,6,FALSE)","v":""},{"$f":"VLOOKUP(B112,'Abandoned Data'!$O$3:$V$187,7,FALSE)","v":""},{"$f":"VLOOKUP(B112,'Abandoned Data'!$O$3:$V$187,8,FALSE)","v":""},"",null,null,null,null,null,null,null,null,null,null,null,null,109,0,0,0,0,0,0,0,0,0,0,0,0,0,0,0,0,0,0,0,0,0,0,0,0,0,0,0,0,0,0,0,0,0,0,0,0,0,0,0,0,0,0,0,0,0,0,0,0,0,0,0,0,0,0,0,0,0,0,0,0,0]
[110,{"$f":"'CH4 from Abandoned Coal Mines'!D114","v":""},{"$f":"'CH4 from Abandoned Coal Mines'!H114","v":""},{"$f":"IFERROR(VALUE('CH4 from Abandoned Coal Mines'!J114), \"\")","v":""},{"$f":"IF('CH4 from Abandoned Coal Mines'!N114>0,'CH4 from Abandoned Coal Mines'!N114,'CH4 from Abandoned Coal Mines'!L114)","v":""},{"$f":"'CH4 from Abandoned Coal Mines'!P114","v":0},{"$f":"'CH4 from Abandoned Coal Mines'!R114","v":0},{"$f":"VLOOKUP(B113,'Abandoned Data'!$O$3:$V$187,6,FALSE)","v":""},{"$f":"VLOOKUP(B113,'Abandoned Data'!$O$3:$V$187,7,FALSE)","v":""},{"$f":"VLOOKUP(B113,'Abandoned Data'!$O$3:$V$187,8,FALSE)","v":""},"",null,null,null,null,null,null,null,null,null,null,null,null,110,0,0,0,0,0,0,0,0,0,0,0,0,0,0,0,0,0,0,0,0,0,0,0,0,0,0,0,0,0,0,0,0,0,0,0,0,0,0,0,0,0,0,0,0,0,0,0,0,0,0,0,0,0,0,0,0,0,0,0,0,0]
[111,{"$f":"'CH4 from Abandoned Coal Mines'!D115","v":""},{"$f":"'CH4 from Abandoned Coal Mines'!H115","v":""},{"$f":"IFERROR(VALUE('CH4 from Abandoned Coal Mines'!J115), \"\")","v":""},{"$f":"IF('CH4 from Abandoned Coal Mines'!N115>0,'CH4 from Abandoned Coal Mines'!N115,'CH4 from Abandoned Coal Mines'!L115)","v":""},{"$f":"'CH4 from Abandoned Coal Mines'!P115","v":0},{"$f":"'CH4 from Abandoned Coal Mines'!R115","v":0},{"$f":"VLOOKUP(B114,'Abandoned Data'!$O$3:$V$187,6,FALSE)","v":""},{"$f":"VLOOKUP(B114,'Abandoned Data'!$O$3:$V$187,7,FALSE)","v":""},{"$f":"VLOOKUP(B114,'Abandoned Data'!$O$3:$V$187,8,FALSE)","v":""},"",null,null,null,null,null,null,null,null,null,null,null,null,111,{"$f":"IF(ISERROR(IF($D114<Y$3,IF($E114=\"Venting\",(($H114*mmcfd_m3)*((1+$I114*(Y$3-$D114))^$J114)-$G114)*Gg_m3,IF($E114=\"Sealed\",((($H114*mmcfd_m3)*((1+$I114*(Y$3-$D114))^$J114)*(1-$F114)-$G114)*Gg_m3),IF($E114=\"Flooded\",(($H114*mmcfd_m3)*EXP(-0.6728*(Y$3-$D114))*Gg_m3),(($H114*mmcfd_m3)*((1+$I114*(Y$3-$D114))^$J114)-$G114)*Gg_m3+((($H114*mmcfd_m3)*((1+$I114*(Y$3-$D114))^$J114)*(1-0.8)-$G114)*Gg_m3)+(($H114*mmcfd_m3)*EXP(-0.6728*(Y$3-$D114))*Gg_m3)))),0)),0,IF($D114<Y$3,IF($E114=\"Venting\",(($H114*mmcfd_m3)*((1+$I114*(Y$3-$D114))^$J114)-$G114)*Gg_m3,IF($E114=\"Sealed\",((($H114*mmcfd_m3)*((1+$I114*(Y$3-$D114))^$J114)*(1-$F114)-$G114)*Gg_m3),IF($E114=\"Flooded\",(($H114*mmcfd_m3)*EXP(-0.6728*(Y$3-$D114))*Gg_m3),(($H114*mmcfd_m3)*((1+$I114*(Y$3-$D114))^$J114)-$G114)*Gg_m3+((($H114*mmcfd_m3)*((1+$I114*(Y$3-$D114))^$J114)*(1-0.8)-$G114)*Gg_m3)+(($H114*mmcfd_m3)*EXP(-0.6728*(Y$3-$D114))*Gg_m3)))),0))","v":0},0,0,0,0,0,0,0,0,0,{"$f":"IF(ISERROR(IF($D114<AI$3,IF($E114=\"Venting\",(($H114*mmcfd_m3)*((1+$I114*(AI$3-$D114))^$J114)-$G114)*Gg_m3,IF($E114=\"Sealed\",((($H114*mmcfd_m3)*((1+$I114*(AI$3-$D114))^$J114)*(1-$F114)-$G114)*Gg_m3),IF($E114=\"Flooded\",(($H114*mmcfd_m3)*EXP(-0.6728*(AI$3-$D114))*Gg_m3),(($H114*mmcfd_m3)*((1+$I114*(AI$3-$D114))^$J114)-$G114)*Gg_m3+((($H114*mmcfd_m3)*((1+$I114*(AI$3-$D114))^$J114)*(1-0.8)-$G114)*Gg_m3)+(($H114*mmcfd_m3)*EXP(-0.6728*(AI$3-$D114))*Gg_m3)))),0)),0,IF($D114<AI$3,IF($E114=\"Venting\",(($H114*mmcfd_m3)*((1+$I114*(AI$3-$D114))^$J114)-$G114)*Gg_m3,IF($E114=\"Sealed\",((($H114*mmcfd_m3)*((1+$I114*(AI$3-$D114))^$J114)*(1-$F114)-$G114)*Gg_m3),IF($E114=\"Flooded\",(($H114*mmcfd_m3)*EXP(-0.6728*(AI$3-$D114))*Gg_m3),(($H114*mmcfd_m3)*((1+$I114*(AI$3-$D114))^$J114)-$G114)*Gg_m3+((($H114*mmcfd_m3)*((1+$I114*(AI$3-$D114))^$J114)*(1-0.8)-$G114)*Gg_m3)+(($H114*mmcfd_m3)*EXP(-0.6728*(AI$3-$D114))*Gg_m3)))),0))","v":0},0,0,0,0,0,0,0,0,0,{"$f":"IF(ISERROR(IF($D114<AS$3,IF($E114=\"Venting\",(($H114*mmcfd_m3)*((1+$I114*(AS$3-$D114))^$J114)-$G114)*Gg_m3,IF($E114=\"Sealed\",((($H114*mmcfd_m3)*((1+$I114*(AS$3-$D114))^$J114)*(1-$F114)-$G114)*Gg_m3),IF($E114=\"Flooded\",(($H114*mmcfd_m3)*EXP(-0.6728*(AS$3-$D114))*Gg_m3),(($H114*mmcfd_m3)*((1+$I114*(AS$3-$D114))^$J114)-$G114)*Gg_m3+((($H114*mmcfd_m3)*((1+$I114*(AS$3-$D114))^$J114)*(1-0.8)-$G114)*Gg_m3)+(($H114*mmcfd_m3)*EXP(-0.6728*(AS$3-$D114))*Gg_m3)))),0)),0,IF($D114<AS$3,IF($E114=\"Venting\",(($H114*mmcfd_m3)*((1+$I114*(AS$3-$D114))^$J114)-$G114)*Gg_m3,IF($E114=\"Sealed\",((($H114*mmcfd_m3)*((1+$I114*(AS$3-$D114))^$J114)*(1-$F114)-$G114)*Gg_m3),IF($E114=\"Flooded\",(($H114*mmcfd_m3)*EXP(-0.6728*(AS$3-$D114))*Gg_m3),(($H114*mmcfd_m3)*((1+$I114*(AS$3-$D114))^$J114)-$G114)*Gg_m3+((($H114*mmcfd_m3)*((1+$I114*(AS$3-$D114))^$J114)*(1-0.8)-$G114)*Gg_m3)+(($H114*mmcfd_m3)*EXP(-0.6728*(AS$3-$D114))*Gg_m3)))),0))","v":0},0,0,0,0,0,0,0,0,0,0,0,0,0,0,0,0,0,0,0,0,0,0,0,0,0,0,0,0,0,0,0,0,0,0,0,0,0,0,0,0]
[112,{"$f":"'CH4 from Abandoned Coal Mines'!D116","v":""},{"$f":"'CH4 from Abandoned Coal Mines'!H116","v":""},{"$f":"IFERROR(VALUE('CH4 from Abandoned Coal Mines'!J116), \"\")","v":""},{"$f":"IF('CH4 from Abandoned Coal Mines'!N116>0,'CH4 from Abandoned Coal Mines'!N116,'CH4 from Abandoned Coal Mines'!L116)","v":""},{"$f":"'CH4 from Abandoned Coal Mines'!P116","v":0},{"$f":"'CH4 from Abandoned Coal Mines'!R116","v":0},{"$f":"VLOOKUP(B115,'Abandoned Data'!$O$3:$V$187,6,FALSE)","v":""},{"$f":"VLOOKUP(B115,'Abandoned Data'!$O$3:$V$187,7,FALSE)","v":""},{"$f":"VLOOKUP(B115,'Abandoned Data'!$O$3:$V$187,8,FALSE)","v":""},"",null,null,null,null,null,null,null,null,null,null,null,null,112,0,0,0,0,0,0,0,0,0,0,0,0,0,0,0,0,0,0,0,0,0,0,0,0,0,0,0,0,0,0,0,0,0,0,0,0,0,0,0,0,0,0,0,0,0,0,0,0,0,0,0,0,0,0,0,0,0,0,0,0,0]
[113,{"$f":"'CH4 from Abandoned Coal Mines'!D117","v":""},{"$f":"'CH4 from Abandoned Coal Mines'!H117","v":""},{"$f":"IFERROR(VALUE('CH4 from Abandoned Coal Mines'!J117), \"\")","v":""},{"$f":"IF('CH4 from Abandoned Coal Mines'!N117>0,'CH4 from Abandoned Coal Mines'!N117,'CH4 from Abandoned Coal Mines'!L117)","v":""},{"$f":"'CH4 from Abandoned Coal Mines'!P117","v":0},{"$f":"'CH4 from Abandoned Coal Mines'!R117","v":0},{"$f":"VLOOKUP(B116,'Abandoned Data'!$O$3:$V$187,6,FALSE)","v":""},{"$f":"VLOOKUP(B116,'Abandoned Data'!$O$3:$V$187,7,FALSE)","v":""},{"$f":"VLOOKUP(B116,'Abandoned Data'!$O$3:$V$187,8,FALSE)","v":""},"",null,null,null,null,null,null,null,null,null,null,null,null,113,0,0,0,0,0,0,0,0,0,0,0,0,0,0,0,0,0,0,0,0,0,0,0,0,0,0,0,0,0,0,0,0,0,0,0,0,0,0,0,0,0,0,0,0,0,0,0,0,0,0,0,0,0,0,0,0,0,0,0,0,0]
[114,{"$f":"'CH4 from Abandoned Coal Mines'!D118","v":""},{"$f":"'CH4 from Abandoned Coal Mines'!H118","v":""},{"$f":"IFERROR(VALUE('CH4 from Abandoned Coal Mines'!J118), \"\")","v":""},{"$f":"IF('CH4 from Abandoned Coal Mines'!N118>0,'CH4 from Abandoned Coal Mines'!N118,'CH4 from Abandoned Coal Mines'!L118)","v":""},{"$f":"'CH4 from Abandoned Coal Mines'!P118","v":0},{"$f":"'CH4 from Abandoned Coal Mines'!R118","v":0},{"$f":"VLOOKUP(B117,'Abandoned Data'!$O$3:$V$187,6,FALSE)","v":""},{"$f":"VLOOKUP(B117,'Abandoned Data'!$O$3:$V$187,7,FALSE)","v":""},{"$f":"VLOOKUP(B117,'Abandoned Data'!$O$3:$V$187,8,FALSE)","v":""},"",null,null,null,null,null,null,null,null,null,null,null,null,114,0,0,0,0,0,0,0,0,0,0,0,0,0,0,0,0,0,0,0,0,0,0,0,0,0,0,0,0,0,0,0,0,0,0,0,0,0,0,0,0,0,0,0,0,0,0,0,0,0,0,0,0,0,0,0,0,0,0,0,0,0]
[115,{"$f":"'CH4 from Abandoned Coal Mines'!D119","v":""},{"$f":"'CH4 from Abandoned Coal Mines'!H119","v":""},{"$f":"IFERROR(VALUE('CH4 from Abandoned Coal Mines'!J119), \"\")","v":""},{"$f":"IF('CH4 from Abandoned Coal Mines'!N119>0,'CH4 from Abandoned Coal Mines'!N119,'CH4 from Abandoned Coal Mines'!L119)","v":""},{"$f":"'CH4 from Abandoned Coal Mines'!P119","v":0},{"$f":"'CH4 from Abandoned Coal Mines'!R119","v":0},{"$f":"VLOOKUP(B118,'Abandoned Data'!$O$3:$V$187,6,FALSE)","v":""},{"$f":"VLOOKUP(B118,'Abandoned Data'!$O$3:$V$187,7,FALSE)","v":""},{"$f":"VLOOKUP(B118,'Abandoned Data'!$O$3:$V$187,8,FALSE)","v":""},"",null,null,null,null,null,null,null,null,null,null,null,null,115,0,0,0,0,0,0,0,0,0,0,0,0,0,0,0,0,0,0,0,0,0,0,0,0,0,0,0,0,0,0,0,0,0,0,0,0,0,0,0,0,0,0,0,0,0,0,0,0,0,0,0,{"$f":"IF(ISERROR(IF($D118<BX$3,IF($E118=\"Venting\",(($H118*mmcfd_m3)*((1+$I118*(BX$3-$D118))^$J118)-$G118)*Gg_m3,IF($E118=\"Sealed\",((($H118*mmcfd_m3)*((1+$I118*(BX$3-$D118))^$J118)*(1-$F118)-$G118)*Gg_m3),IF($E118=\"Flooded\",(($H118*mmcfd_m3)*EXP(-0.6728*(BX$3-$D118))*Gg_m3),(($H118*mmcfd_m3)*((1+$I118*(BX$3-$D118))^$J118)-$G118)*Gg_m3+((($H118*mmcfd_m3)*((1+$I118*(BX$3-$D118))^$J118)*(1-0.8)-$G118)*Gg_m3)+(($H118*mmcfd_m3)*EXP(-0.6728*(BX$3-$D118))*Gg_m3)))),0)),0,IF($D118<BX$3,IF($E118=\"Venting\",(($H118*mmcfd_m3)*((1+$I118*(BX$3-$D118))^$J118)-$G118)*Gg_m3,IF($E118=\"Sealed\",((($H118*mmcfd_m3)*((1+$I118*(BX$3-$D118))^$J118)*(1-$F118)-$G118)*Gg_m3),IF($E118=\"Flooded\",(($H118*mmcfd_m3)*EXP(-0.6728*(BX$3-$D118))*Gg_m3),(($H118*mmcfd_m3)*((1+$I118*(BX$3-$D118))^$J118)-$G118)*Gg_m3+((($H118*mmcfd_m3)*((1+$I118*(BX$3-$D118))^$J118)*(1-0.8)-$G118)*Gg_m3)+(($H118*mmcfd_m3)*EXP(-0.6728*(BX$3-$D118))*Gg_m3)))),0))","v":0},0,0,0,0,0,0,0,0,0]
[116,{"$f":"'CH4 from Abandoned Coal Mines'!D120","v":""},{"$f":"'CH4 from Abandoned Coal Mines'!H120","v":""},{"$f":"IFERROR(VALUE('CH4 from Abandoned Coal Mines'!J120), \"\")","v":""},{"$f":"IF('CH4 from Abandoned Coal Mines'!N120>0,'CH4 from Abandoned Coal Mines'!N120,'CH4 from Abandoned Coal Mines'!L120)","v":""},{"$f":"'CH4 from Abandoned Coal Mines'!P120","v":0},{"$f":"'CH4 from Abandoned Coal Mines'!R120","v":0},{"$f":"VLOOKUP(B119,'Abandoned Data'!$O$3:$V$187,6,FALSE)","v":""},{"$f":"VLOOKUP(B119,'Abandoned Data'!$O$3:$V$187,7,FALSE)","v":""},{"$f":"VLOOKUP(B119,'Abandoned Data'!$O$3:$V$187,8,FALSE)","v":""},"",null,null,null,null,null,null,null,null,null,null,null,null,116,0,0,0,0,0,0,0,0,0,0,0,0,0,0,0,0,0,0,0,0,0,0,0,0,0,0,0,0,0,0,0,0,0,0,0,0,0,0,0,0,0,0,0,0,0,0,0,0,0,0,0,0,0,0,0,0,0,0,0,0,0]
[117,{"$f":"'CH4 from Abandoned Coal Mines'!D121","v":""},{"$f":"'CH4 from Abandoned Coal Mines'!H121","v":""},{"$f":"IFERROR(VALUE('CH4 from Abandoned Coal Mines'!J121), \"\")","v":""},{"$f":"IF('CH4 from Abandoned Coal Mines'!N121>0,'CH4 from Abandoned Coal Mines'!N121,'CH4 from Abandoned Coal Mines'!L121)","v":""},{"$f":"'CH4 from Abandoned Coal Mines'!P121","v":0},{"$f":"'CH4 from Abandoned Coal Mines'!R121","v":0},{"$f":"VLOOKUP(B120,'Abandoned Data'!$O$3:$V$187,6,FALSE)","v":""},{"$f":"VLOOKUP(B120,'Abandoned Data'!$O$3:$V$187,7,FALSE)","v":""},{"$f":"VLOOKUP(B120,'Abandoned Data'!$O$3:$V$187,8,FALSE)","v":""},"",null,null,null,null,null,null,null,null,null,null,null,null,117,0,0,0,0,0,0,0,0,0,0,0,0,0,0,0,0,0,0,0,0,0,0,0,0,0,0,0,0,0,0,0,0,0,0,0,0,0,0,0,0,0,0,0,0,0,0,0,0,0,0,0,0,0,0,0,0,0,0,0,0,0]
[118,{"$f":"'CH4 from Abandoned Coal Mines'!D122","v":""},{"$f":"'CH4 from Abandoned Coal Mines'!H122","v":""},{"$f":"IFERROR(VALUE('CH4 from Abandoned Coal Mines'!J122), \"\")","v":""},{"$f":"IF('CH4 from Abandoned Coal Mines'!N122>0,'CH4 from Abandoned Coal Mines'!N122,'CH4 from Abandoned Coal Mines'!L122)","v":""},{"$f":"'CH4 from Abandoned Coal Mines'!P122","v":0},{"$f":"'CH4 from Abandoned Coal Mines'!R122","v":0},{"$f":"VLOOKUP(B121,'Abandoned Data'!$O$3:$V$187,6,FALSE)","v":""},{"$f":"VLOOKUP(B121,'Abandoned Data'!$O$3:$V$187,7,FALSE)","v":""},{"$f":"VLOOKUP(B121,'Abandoned Data'!$O$3:$V$187,8,FALSE)","v":""},"",null,null,null,null,null,null,null,null,null,null,null,null,118,0,0,0,0,0,0,0,0,0,0,0,0,0,0,0,0,0,0,0,0,0,0,0,0,0,0,0,0,0,0,0,0,0,0,0,0,0,0,0,0,0,0,0,0,0,0,0,0,0,0,0,0,0,0,0,0,0,0,0,0,0]
[119,{"$f":"'CH4 from Abandoned Coal Mines'!D123","v":""},{"$f":"'CH4 from Abandoned Coal Mines'!H123","v":""},{"$f":"IFERROR(VALUE('CH4 from Abandoned Coal Mines'!J123), \"\")","v":""},{"$f":"IF('CH4 from Abandoned Coal Mines'!N123>0,'CH4 from Abandoned Coal Mines'!N123,'CH4 from Abandoned Coal Mines'!L123)","v":""},{"$f":"'CH4 from Abandoned Coal Mines'!P123","v":0},{"$f":"'CH4 from Abandoned Coal Mines'!R123","v":0},{"$f":"VLOOKUP(B122,'Abandoned Data'!$O$3:$V$187,6,FALSE)","v":""},{"$f":"VLOOKUP(B122,'Abandoned Data'!$O$3:$V$187,7,FALSE)","v":""},{"$f":"VLOOKUP(B122,'Abandoned Data'!$O$3:$V$187,8,FALSE)","v":""},"",null,null,null,null,null,null,null,null,null,null,null,null,119,0,0,0,0,0,0,0,0,0,0,0,0,0,0,0,0,0,0,0,0,0,0,0,0,0,0,0,0,0,0,0,0,0,0,0,0,0,0,0,0,0,0,0,0,0,0,0,0,0,0,0,0,0,0,0,0,0,0,0,0,0]
[120,{"$f":"'CH4 from Abandoned Coal Mines'!D124","v":""},{"$f":"'CH4 from Abandoned Coal Mines'!H124","v":""},{"$f":"IFERROR(VALUE('CH4 from Abandoned Coal Mines'!J124), \"\")","v":""},{"$f":"IF('CH4 from Abandoned Coal Mines'!N124>0,'CH4 from Abandoned Coal Mines'!N124,'CH4 from Abandoned Coal Mines'!L124)","v":""},{"$f":"'CH4 from Abandoned Coal Mines'!P124","v":0},{"$f":"'CH4 from Abandoned Coal Mines'!R124","v":0},{"$f":"VLOOKUP(B123,'Abandoned Data'!$O$3:$V$187,6,FALSE)","v":""},{"$f":"VLOOKUP(B123,'Abandoned Data'!$O$3:$V$187,7,FALSE)","v":""},{"$f":"VLOOKUP(B123,'Abandoned Data'!$O$3:$V$187,8,FALSE)","v":""},"",null,null,null,null,null,null,null,null,null,null,null,null,120,0,0,0,0,0,0,0,0,0,0,0,0,0,0,0,0,0,0,0,0,0,0,0,0,0,0,0,0,0,0,0,0,0,0,0,0,0,0,0,0,0,0,0,0,0,0,0,0,0,0,0,0,0,0,0,0,0,0,0,0,0]
[121,{"$f":"'CH4 from Abandoned Coal Mines'!D125","v":""},{"$f":"'CH4 from Abandoned Coal Mines'!H125","v":""},{"$f":"IFERROR(VALUE('CH4 from Abandoned Coal Mines'!J125), \"\")","v":""},{"$f":"IF('CH4 from Abandoned Coal Mines'!N125>0,'CH4 from Abandoned Coal Mines'!N125,'CH4 from Abandoned Coal Mines'!L125)","v":""},{"$f":"'CH4 from Abandoned Coal Mines'!P125","v":0},{"$f":"'CH4 from Abandoned Coal Mines'!R125","v":0},{"$f":"VLOOKUP(B124,'Abandoned Data'!$O$3:$V$187,6,FALSE)","v":""},{"$f":"VLOOKUP(B124,'Abandoned Data'!$O$3:$V$187,7,FALSE)","v":""},{"$f":"VLOOKUP(B124,'Abandoned Data'!$O$3:$V$187,8,FALSE)","v":""},"",null,null,null,null,null,null,null,null,null,null,null,null,121,{"$f":"IF(ISERROR(IF($D124<Y$3,IF($E124=\"Venting\",(($H124*mmcfd_m3)*((1+$I124*(Y$3-$D124))^$J124)-$G124)*Gg_m3,IF($E124=\"Sealed\",((($H124*mmcfd_m3)*((1+$I124*(Y$3-$D124))^$J124)*(1-$F124)-$G124)*Gg_m3),IF($E124=\"Flooded\",(($H124*mmcfd_m3)*EXP(-0.6728*(Y$3-$D124))*Gg_m3),(($H124*mmcfd_m3)*((1+$I124*(Y$3-$D124))^$J124)-$G124)*Gg_m3+((($H124*mmcfd_m3)*((1+$I124*(Y$3-$D124))^$J124)*(1-0.8)-$G124)*Gg_m3)+(($H124*mmcfd_m3)*EXP(-0.6728*(Y$3-$D124))*Gg_m3)))),0)),0,IF($D124<Y$3,IF($E124=\"Venting\",(($H124*mmcfd_m3)*((1+$I124*(Y$3-$D124))^$J124)-$G124)*Gg_m3,IF($E124=\"Sealed\",((($H124*mmcfd_m3)*((1+$I124*(Y$3-$D124))^$J124)*(1-$F124)-$G124)*Gg_m3),IF($E124=\"Flooded\",(($H124*mmcfd_m3)*EXP(-0.6728*(Y$3-$D124))*Gg_m3),(($H124*mmcfd_m3)*((1+$I124*(Y$3-$D124))^$J124)-$G124)*Gg_m3+((($H124*mmcfd_m3)*((1+$I124*(Y$3-$D124))^$J124)*(1-0.8)-$G124)*Gg_m3)+(($H124*mmcfd_m3)*EXP(-0.6728*(Y$3-$D124))*Gg_m3)))),0))","v":0},0,0,0,0,0,0,0,0,0,{"$f":"IF(ISERROR(IF($D124<AI$3,IF($E124=\"Venting\",(($H124*mmcfd_m3)*((1+$I124*(AI$3-$D124))^$J124)-$G124)*Gg_m3,IF($E124=\"Sealed\",((($H124*mmcfd_m3)*((1+$I124*(AI$3-$D124))^$J124)*(1-$F124)-$G124)*Gg_m3),IF($E124=\"Flooded\",(($H124*mmcfd_m3)*EXP(-0.6728*(AI$3-$D124))*Gg_m3),(($H124*mmcfd_m3)*((1+$I124*(AI$3-$D124))^$J124)-$G124)*Gg_m3+((($H124*mmcfd_m3)*((1+$I124*(AI$3-$D124))^$J124)*(1-0.8)-$G124)*Gg_m3)+(($H124*mmcfd_m3)*EXP(-0.6728*(AI$3-$D124))*Gg_m3)))),0)),0,IF($D124<AI$3,IF($E124=\"Venting\",(($H124*mmcfd_m3)*((1+$I124*(AI$3-$D124))^$J124)-$G124)*Gg_m3,IF($E124=\"Sealed\",((($H124*mmcfd_m3)*((1+$I124*(AI$3-$D124))^$J124)*(1-$F124)-$G124)*Gg_m3),IF($E124=\"Flooded\",(($H124*mmcfd_m3)*EXP(-0.6728*(AI$3-$D124))*Gg_m3),(($H124*mmcfd_m3)*((1+$I124*(AI$3-$D124))^$J124)-$G124)*Gg_m3+((($H124*mmcfd_m3)*((1+$I124*(AI$3-$D124))^$J124)*(1-0.8)-$G124)*Gg_m3)+(($H124*mmcfd_m3)*EXP(-0.6728*(AI$3-$D124))*Gg_m3)))),0))","v":0},0,0,0,0,0,0,0,0,0,{"$f":"IF(ISERROR(IF($D124<AS$3,IF($E124=\"Venting\",(($H124*mmcfd_m3)*((1+$I124*(AS$3-$D124))^$J124)-$G124)*Gg_m3,IF($E124=\"Sealed\",((($H124*mmcfd_m3)*((1+$I124*(AS$3-$D124))^$J124)*(1-$F124)-$G124)*Gg_m3),IF($E124=\"Flooded\",(($H124*mmcfd_m3)*EXP(-0.6728*(AS$3-$D124))*Gg_m3),(($H124*mmcfd_m3)*((1+$I124*(AS$3-$D124))^$J124)-$G124)*Gg_m3+((($H124*mmcfd_m3)*((1+$I124*(AS$3-$D124))^$J124)*(1-0.8)-$G124)*Gg_m3)+(($H124*mmcfd_m3)*EXP(-0.6728*(AS$3-$D124))*Gg_m3)))),0)),0,IF($D124<AS$3,IF($E124=\"Venting\",(($H124*mmcfd_m3)*((1+$I124*(AS$3-$D124))^$J124)-$G124)*Gg_m3,IF($E124=\"Sealed\",((($H124*mmcfd_m3)*((1+$I124*(AS$3-$D124))^$J124)*(1-$F124)-$G124)*Gg_m3),IF($E124=\"Flooded\",(($H124*mmcfd_m3)*EXP(-0.6728*(AS$3-$D124))*Gg_m3),(($H124*mmcfd_m3)*((1+$I124*(AS$3-$D124))^$J124)-$G124)*Gg_m3+((($H124*mmcfd_m3)*((1+$I124*(AS$3-$D124))^$J124)*(1-0.8)-$G124)*Gg_m3)+(($H124*mmcfd_m3)*EXP(-0.6728*(AS$3-$D124))*Gg_m3)))),0))","v":0},0,0,0,0,0,0,0,0,0,0,0,0,0,0,0,0,0,0,0,0,0,0,0,0,0,0,0,0,0,0,0,0,0,0,0,0,0,0,0,0]
[122,{"$f":"'CH4 from Abandoned Coal Mines'!D126","v":""},{"$f":"'CH4 from Abandoned Coal Mines'!H126","v":""},{"$f":"IFERROR(VALUE('CH4 from Abandoned Coal Mines'!J126), \"\")","v":""},{"$f":"IF('CH4 from Abandoned Coal Mines'!N126>0,'CH4 from Abandoned Coal Mines'!N126,'CH4 from Abandoned Coal Mines'!L126)","v":""},{"$f":"'CH4 from Abandoned Coal Mines'!P126","v":0},{"$f":"'CH4 from Abandoned Coal Mines'!R126","v":0},{"$f":"VLOOKUP(B125,'Abandoned Data'!$O$3:$V$187,6,FALSE)","v":""},{"$f":"VLOOKUP(B125,'Abandoned Data'!$O$3:$V$187,7,FALSE)","v":""},{"$f":"VLOOKUP(B125,'Abandoned Data'!$O$3:$V$187,8,FALSE)","v":""},"",null,null,null,null,null,null,null,null,null,null,null,null,122,0,0,0,0,0,0,0,0,0,0,0,0,0,0,0,0,0,0,0,0,0,0,0,0,0,0,0,0,0,0,0,0,0,0,0,0,0,0,0,0,0,0,0,0,0,0,0,0,0,0,0,0,0,0,0,0,0,0,0,0,0]
[123,{"$f":"'CH4 from Abandoned Coal Mines'!D127","v":""},{"$f":"'CH4 from Abandoned Coal Mines'!H127","v":""},{"$f":"IFERROR(VALUE('CH4 from Abandoned Coal Mines'!J127), \"\")","v":""},{"$f":"IF('CH4 from Abandoned Coal Mines'!N127>0,'CH4 from Abandoned Coal Mines'!N127,'CH4 from Abandoned Coal Mines'!L127)","v":""},{"$f":"'CH4 from Abandoned Coal Mines'!P127","v":0},{"$f":"'CH4 from Abandoned Coal Mines'!R127","v":0},{"$f":"VLOOKUP(B126,'Abandoned Data'!$O$3:$V$187,6,FALSE)","v":""},{"$f":"VLOOKUP(B126,'Abandoned Data'!$O$3:$V$187,7,FALSE)","v":""},{"$f":"VLOOKUP(B126,'Abandoned Data'!$O$3:$V$187,8,FALSE)","v":""},"",null,null,null,null,null,null,null,null,null,null,null,null,123,0,0,0,0,0,0,0,0,0,0,0,0,0,0,0,0,0,0,0,0,0,0,0,0,0,0,0,0,0,0,0,0,0,0,0,0,0,0,0,0,0,0,0,0,0,0,0,0,0,0,0,0,0,0,0,0,0,0,0,0,0]
[124,{"$f":"'CH4 from Abandoned Coal Mines'!D128","v":""},{"$f":"'CH4 from Abandoned Coal Mines'!H128","v":""},{"$f":"IFERROR(VALUE('CH4 from Abandoned Coal Mines'!J128), \"\")","v":""},{"$f":"IF('CH4 from Abandoned Coal Mines'!N128>0,'CH4 from Abandoned Coal Mines'!N128,'CH4 from Abandoned Coal Mines'!L128)","v":""},{"$f":"'CH4 from Abandoned Coal Mines'!P128","v":0},{"$f":"'CH4 from Abandoned Coal Mines'!R128","v":0},{"$f":"VLOOKUP(B127,'Abandoned Data'!$O$3:$V$187,6,FALSE)","v":""},{"$f":"VLOOKUP(B127,'Abandoned Data'!$O$3:$V$187,7,FALSE)","v":""},{"$f":"VLOOKUP(B127,'Abandoned Data'!$O$3:$V$187,8,FALSE)","v":""},"",null,null,null,null,null,null,null,null,null,null,null,null,124,0,0,0,0,0,0,0,0,0,0,0,0,0,0,0,0,0,0,0,0,0,0,0,0,0,0,0,0,0,0,0,0,0,0,0,0,0,0,0,0,0,{"$f":"IF(ISERROR(IF($D127<BN$3,IF($E127=\"Venting\",(($H127*mmcfd_m3)*((1+$I127*(BN$3-$D127))^$J127)-$G127)*Gg_m3,IF($E127=\"Sealed\",((($H127*mmcfd_m3)*((1+$I127*(BN$3-$D127))^$J127)*(1-$F127)-$G127)*Gg_m3),IF($E127=\"Flooded\",(($H127*mmcfd_m3)*EXP(-0.6728*(BN$3-$D127))*Gg_m3),(($H127*mmcfd_m3)*((1+$I127*(BN$3-$D127))^$J127)-$G127)*Gg_m3+((($H127*mmcfd_m3)*((1+$I127*(BN$3-$D127))^$J127)*(1-0.8)-$G127)*Gg_m3)+(($H127*mmcfd_m3)*EXP(-0.6728*(BN$3-$D127))*Gg_m3)))),0)),0,IF($D127<BN$3,IF($E127=\"Venting\",(($H127*mmcfd_m3)*((1+$I127*(BN$3-$D127))^$J127)-$G127)*Gg_m3,IF($E127=\"Sealed\",((($H127*mmcfd_m3)*((1+$I127*(BN$3-$D127))^$J127)*(1-$F127)-$G127)*Gg_m3),IF($E127=\"Flooded\",(($H127*mmcfd_m3)*EXP(-0.6728*(BN$3-$D127))*Gg_m3),(($H127*mmcfd_m3)*((1+$I127*(BN$3-$D127))^$J127)-$G127)*Gg_m3+((($H127*mmcfd_m3)*((1+$I127*(BN$3-$D127))^$J127)*(1-0.8)-$G127)*Gg_m3)+(($H127*mmcfd_m3)*EXP(-0.6728*(BN$3-$D127))*Gg_m3)))),0))","v":0},0,0,0,0,0,0,0,0,0,0,0,0,0,0,0,0,0,0,0]
[125,{"$f":"'CH4 from Abandoned Coal Mines'!D129","v":""},{"$f":"'CH4 from Abandoned Coal Mines'!H129","v":""},{"$f":"IFERROR(VALUE('CH4 from Abandoned Coal Mines'!J129), \"\")","v":""},{"$f":"IF('CH4 from Abandoned Coal Mines'!N129>0,'CH4 from Abandoned Coal Mines'!N129,'CH4 from Abandoned Coal Mines'!L129)","v":""},{"$f":"'CH4 from Abandoned Coal Mines'!P129","v":0},{"$f":"'CH4 from Abandoned Coal Mines'!R129","v":0},{"$f":"VLOOKUP(B128,'Abandoned Data'!$O$3:$V$187,6,FALSE)","v":""},{"$f":"VLOOKUP(B128,'Abandoned Data'!$O$3:$V$187,7,FALSE)","v":""},{"$f":"VLOOKUP(B128,'Abandoned Data'!$O$3:$V$187,8,FALSE)","v":""},"",null,null,null,null,null,null,null,null,null,null,null,null,125,0,0,0,0,0,0,0,0,0,0,0,0,0,0,0,0,0,0,0,0,0,0,0,0,0,0,0,0,0,0,0,0,0,0,0,0,0,0,0,0,0,0,0,0,0,0,0,0,0,0,0,0,0,0,0,0,0,0,0,0,0]
[126,{"$f":"'CH4 from Abandoned Coal Mines'!D130","v":""},{"$f":"'CH4 from Abandoned Coal Mines'!H130","v":""},{"$f":"IFERROR(VALUE('CH4 from Abandoned Coal Mines'!J130), \"\")","v":""},{"$f":"IF('CH4 from Abandoned Coal Mines'!N130>0,'CH4 from Abandoned Coal Mines'!N130,'CH4 from Abandoned Coal Mines'!L130)","v":""},{"$f":"'CH4 from Abandoned Coal Mines'!P130","v":0},{"$f":"'CH4 from Abandoned Coal Mines'!R130","v":0},{"$f":"VLOOKUP(B129,'Abandoned Data'!$O$3:$V$187,6,FALSE)","v":""},{"$f":"VLOOKUP(B129,'Abandoned Data'!$O$3:$V$187,7,FALSE)","v":""},{"$f":"VLOOKUP(B129,'Abandoned Data'!$O$3:$V$187,8,FALSE)","v":""},"",null,null,null,null,null,null,null,null,null,null,null,null,126,0,0,0,0,0,0,0,0,0,0,0,0,0,0,0,0,0,0,0,0,0,0,0,0,0,0,0,0,0,0,0,0,0,0,0,0,0,0,0,0,0,0,0,0,0,0,0,0,0,0,0,0,0,0,0,0,0,0,0,0,0]
[127,{"$f":"'CH4 from Abandoned Coal Mines'!D131","v":""},{"$f":"'CH4 from Abandoned Coal Mines'!H131","v":""},{"$f":"IFERROR(VALUE('CH4 from Abandoned Coal Mines'!J131), \"\")","v":""},{"$f":"IF('CH4 from Abandoned Coal Mines'!N131>0,'CH4 from Abandoned Coal Mines'!N131,'CH4 from Abandoned Coal Mines'!L131)","v":""},{"$f":"'CH4 from Abandoned Coal Mines'!P131","v":0},{"$f":"'CH4 from Abandoned Coal Mines'!R131","v":0},{"$f":"VLOOKUP(B130,'Abandoned Data'!$O$3:$V$187,6,FALSE)","v":""},{"$f":"VLOOKUP(B130,'Abandoned Data'!$O$3:$V$187,7,FALSE)","v":""},{"$f":"VLOOKUP(B130,'Abandoned Data'!$O$3:$V$187,8,FALSE)","v":""},"",null,null,null,null,null,null,null,null,null,null,null,null,127,0,0,0,0,0,0,0,0,0,0,0,0,0,0,0,0,0,0,0,0,0,0,0,0,0,0,0,0,0,0,0,0,0,0,0,0,0,0,0,0,0,0,0,0,0,0,0,0,0,0,0,0,0,0,0,0,0,0,0,0,0]
[128,{"$f":"'CH4 from Abandoned Coal Mines'!D132","v":""},{"$f":"'CH4 from Abandoned Coal Mines'!H132","v":""},{"$f":"IFERROR(VALUE('CH4 from Abandoned Coal Mines'!J132), \"\")","v":""},{"$f":"IF('CH4 from Abandoned Coal Mines'!N132>0,'CH4 from Abandoned Coal Mines'!N132,'CH4 from Abandoned Coal Mines'!L132)","v":""},{"$f":"'CH4 from Abandoned Coal Mines'!P132","v":0},{"$f":"'CH4 from Abandoned Coal Mines'!R132","v":0},{"$f":"VLOOKUP(B131,'Abandoned Data'!$O$3:$V$187,6,FALSE)","v":""},{"$f":"VLOOKUP(B131,'Abandoned Data'!$O$3:$V$187,7,FALSE)","v":""},{"$f":"VLOOKUP(B131,'Abandoned Data'!$O$3:$V$187,8,FALSE)","v":""},"",null,null,null,null,null,null,null,null,null,null,null,null,128,0,0,0,0,0,0,0,0,0,0,0,0,0,0,0,0,0,0,0,0,0,0,0,0,0,0,0,0,0,0,0,0,0,0,0,0,0,0,0,0,0,0,0,0,0,0,0,0,0,0,0,0,0,0,0,0,0,0,0,0,0]
[129,{"$f":"'CH4 from Abandoned Coal Mines'!D133","v":""},{"$f":"'CH4 from Abandoned Coal Mines'!H133","v":""},{"$f":"IFERROR(VALUE('CH4 from Abandoned Coal Mines'!J133), \"\")","v":""},{"$f":"IF('CH4 from Abandoned Coal Mines'!N133>0,'CH4 from Abandoned Coal Mines'!N133,'CH4 from Abandoned Coal Mines'!L133)","v":""},{"$f":"'CH4 from Abandoned Coal Mines'!P133","v":0},{"$f":"'CH4 from Abandoned Coal Mines'!R133","v":0},{"$f":"VLOOKUP(B132,'Abandoned Data'!$O$3:$V$187,6,FALSE)","v":""},{"$f":"VLOOKUP(B132,'Abandoned Data'!$O$3:$V$187,7,FALSE)","v":""},{"$f":"VLOOKUP(B132,'Abandoned Data'!$O$3:$V$187,8,FALSE)","v":""},{"$f":"IFERROR(IF(E132=\"Venting\",((H132*mmcfd_m3)*((1+I132*($BC$3-D132))^J132)-G132)*Gg_m3,IF(E132=\"Sealed\",(((H132*mmcfd_m3)*((1+I132*($BC$3-D132))^J132)*(1-F132)-G132)*Gg_m3),IF(E132=\"Flooded\",((H132*mmcfd_m3)*EXP(-0.6728*($BC$3-D132))*Gg_m3),((H132*mmcfd_m3)*((1+I132*($BC$3-D132))^J132)-G132)*Gg_m3+(((H132*mmcfd_m3)*((1+I132*($BC$3-D132))^J132)*(1-0.8)-G132)*Gg_m3)+((H132*mmcfd_m3)*EXP(-0.6728*($BC$3-D132))*Gg_m3)))), \"\")","v":""},null,null,null,null,null,null,null,null,null,null,null,null,129,0,0,0,0,0,0,0,0,0,0,0,0,0,0,0,0,0,0,0,0,0,0,0,0,0,0,0,0,0,0,0,0,0,0,0,0,0,0,0,0,0,0,0,0,0,0,0,0,0,0,0,0,0,0,0,0,0,0,0,0,0]
[130,{"$f":"'CH4 from Abandoned Coal Mines'!D134","v":""},{"$f":"'CH4 from Abandoned Coal Mines'!H134","v":""},{"$f":"IFERROR(VALUE('CH4 from Abandoned Coal Mines'!J134), \"\")","v":""},{"$f":"IF('CH4 from Abandoned Coal Mines'!N134>0,'CH4 from Abandoned Coal Mines'!N134,'CH4 from Abandoned Coal Mines'!L134)","v":""},{"$f":"'CH4 from Abandoned Coal Mines'!P134","v":0},{"$f":"'CH4 from Abandoned Coal Mines'!R134","v":0},{"$f":"VLOOKUP(B133,'Abandoned Data'!$O$3:$V$187,6,FALSE)","v":""},{"$f":"VLOOKUP(B133,'Abandoned Data'!$O$3:$V$187,7,FALSE)","v":""},{"$f":"VLOOKUP(B133,'Abandoned Data'!$O$3:$V$187,8,FALSE)","v":""},"",null,null,null,null,null,null,null,null,null,null,null,null,130,0,0,0,0,0,0,0,0,0,0,0,0,0,0,0,0,0,0,0,0,0,0,0,0,0,0,0,0,0,0,0,0,0,0,0,0,0,0,0,0,0,0,0,0,0,0,0,0,0,0,0,0,0,0,0,0,0,0,0,0,0]
[131,{"$f":"'CH4 from Abandoned Coal Mines'!D135","v":""},{"$f":"'CH4 from Abandoned Coal Mines'!H135","v":""},{"$f":"IFERROR(VALUE('CH4 from Abandoned Coal Mines'!J135), \"\")","v":""},{"$f":"IF('CH4 from Abandoned Coal Mines'!N135>0,'CH4 from Abandoned Coal Mines'!N135,'CH4 from Abandoned Coal Mines'!L135)","v":""},{"$f":"'CH4 from Abandoned Coal Mines'!P135","v":0},{"$f":"'CH4 from Abandoned Coal Mines'!R135","v":0},{"$f":"VLOOKUP(B134,'Abandoned Data'!$O$3:$V$187,6,FALSE)","v":""},{"$f":"VLOOKUP(B134,'Abandoned Data'!$O$3:$V$187,7,FALSE)","v":""},{"$f":"VLOOKUP(B134,'Abandoned Data'!$O$3:$V$187,8,FALSE)","v":""},"",null,null,null,null,null,null,null,null,null,null,null,null,131,{"$f":"IF(ISERROR(IF($D134<Y$3,IF($E134=\"Venting\",(($H134*mmcfd_m3)*((1+$I134*(Y$3-$D134))^$J134)-$G134)*Gg_m3,IF($E134=\"Sealed\",((($H134*mmcfd_m3)*((1+$I134*(Y$3-$D134))^$J134)*(1-$F134)-$G134)*Gg_m3),IF($E134=\"Flooded\",(($H134*mmcfd_m3)*EXP(-0.6728*(Y$3-$D134))*Gg_m3),(($H134*mmcfd_m3)*((1+$I134*(Y$3-$D134))^$J134)-$G134)*Gg_m3+((($H134*mmcfd_m3)*((1+$I134*(Y$3-$D134))^$J134)*(1-0.8)-$G134)*Gg_m3)+(($H134*mmcfd_m3)*EXP(-0.6728*(Y$3-$D134))*Gg_m3)))),0)),0,IF($D134<Y$3,IF($E134=\"Venting\",(($H134*mmcfd_m3)*((1+$I134*(Y$3-$D134))^$J134)-$G134)*Gg_m3,IF($E134=\"Sealed\",((($H134*mmcfd_m3)*((1+$I134*(Y$3-$D134))^$J134)*(1-$F134)-$G134)*Gg_m3),IF($E134=\"Flooded\",(($H134*mmcfd_m3)*EXP(-0.6728*(Y$3-$D134))*Gg_m3),(($H134*mmcfd_m3)*((1+$I134*(Y$3-$D134))^$J134)-$G134)*Gg_m3+((($H134*mmcfd_m3)*((1+$I134*(Y$3-$D134))^$J134)*(1-0.8)-$G134)*Gg_m3)+(($H134*mmcfd_m3)*EXP(-0.6728*(Y$3-$D134))*Gg_m3)))),0))","v":0},0,0,0,0,0,0,0,0,0,{"$f":"IF(ISERROR(IF($D134<AI$3,IF($E134=\"Venting\",(($H134*mmcfd_m3)*((1+$I134*(AI$3-$D134))^$J134)-$G134)*Gg_m3,IF($E134=\"Sealed\",((($H134*mmcfd_m3)*((1+$I134*(AI$3-$D134))^$J134)*(1-$F134)-$G134)*Gg_m3),IF($E134=\"Flooded\",(($H134*mmcfd_m3)*EXP(-0.6728*(AI$3-$D134))*Gg_m3),(($H134*mmcfd_m3)*((1+$I134*(AI$3-$D134))^$J134)-$G134)*Gg_m3+((($H134*mmcfd_m3)*((1+$I134*(AI$3-$D134))^$J134)*(1-0.8)-$G134)*Gg_m3)+(($H134*mmcfd_m3)*EXP(-0.6728*(AI$3-$D134))*Gg_m3)))),0)),0,IF($D134<AI$3,IF($E134=\"Venting\",(($H134*mmcfd_m3)*((1+$I134*(AI$3-$D134))^$J134)-$G134)*Gg_m3,IF($E134=\"Sealed\",((($H134*mmcfd_m3)*((1+$I134*(AI$3-$D134))^$J134)*(1-$F134)-$G134)*Gg_m3),IF($E134=\"Flooded\",(($H134*mmcfd_m3)*EXP(-0.6728*(AI$3-$D134))*Gg_m3),(($H134*mmcfd_m3)*((1+$I134*(AI$3-$D134))^$J134)-$G134)*Gg_m3+((($H134*mmcfd_m3)*((1+$I134*(AI$3-$D134))^$J134)*(1-0.8)-$G134)*Gg_m3)+(($H134*mmcfd_m3)*EXP(-0.6728*(AI$3-$D134))*Gg_m3)))),0))","v":0},0,0,0,0,0,0,0,0,0,{"$f":"IF(ISERROR(IF($D134<AS$3,IF($E134=\"Venting\",(($H134*mmcfd_m3)*((1+$I134*(AS$3-$D134))^$J134)-$G134)*Gg_m3,IF($E134=\"Sealed\",((($H134*mmcfd_m3)*((1+$I134*(AS$3-$D134))^$J134)*(1-$F134)-$G134)*Gg_m3),IF($E134=\"Flooded\",(($H134*mmcfd_m3)*EXP(-0.6728*(AS$3-$D134))*Gg_m3),(($H134*mmcfd_m3)*((1+$I134*(AS$3-$D134))^$J134)-$G134)*Gg_m3+((($H134*mmcfd_m3)*((1+$I134*(AS$3-$D134))^$J134)*(1-0.8)-$G134)*Gg_m3)+(($H134*mmcfd_m3)*EXP(-0.6728*(AS$3-$D134))*Gg_m3)))),0)),0,IF($D134<AS$3,IF($E134=\"Venting\",(($H134*mmcfd_m3)*((1+$I134*(AS$3-$D134))^$J134)-$G134)*Gg_m3,IF($E134=\"Sealed\",((($H134*mmcfd_m3)*((1+$I134*(AS$3-$D134))^$J134)*(1-$F134)-$G134)*Gg_m3),IF($E134=\"Flooded\",(($H134*mmcfd_m3)*EXP(-0.6728*(AS$3-$D134))*Gg_m3),(($H134*mmcfd_m3)*((1+$I134*(AS$3-$D134))^$J134)-$G134)*Gg_m3+((($H134*mmcfd_m3)*((1+$I134*(AS$3-$D134))^$J134)*(1-0.8)-$G134)*Gg_m3)+(($H134*mmcfd_m3)*EXP(-0.6728*(AS$3-$D134))*Gg_m3)))),0))","v":0},0,0,0,0,0,0,0,0,0,0,0,0,0,0,0,0,0,0,0,0,0,0,0,0,0,0,0,0,0,0,0,0,0,0,0,0,0,0,0,0]
[132,{"$f":"'CH4 from Abandoned Coal Mines'!D136","v":""},{"$f":"'CH4 from Abandoned Coal Mines'!H136","v":""},{"$f":"IFERROR(VALUE('CH4 from Abandoned Coal Mines'!J136), \"\")","v":""},{"$f":"IF('CH4 from Abandoned Coal Mines'!N136>0,'CH4 from Abandoned Coal Mines'!N136,'CH4 from Abandoned Coal Mines'!L136)","v":""},{"$f":"'CH4 from Abandoned Coal Mines'!P136","v":0},{"$f":"'CH4 from Abandoned Coal Mines'!R136","v":0},{"$f":"VLOOKUP(B135,'Abandoned Data'!$O$3:$V$187,6,FALSE)","v":""},{"$f":"VLOOKUP(B135,'Abandoned Data'!$O$3:$V$187,7,FALSE)","v":""},{"$f":"VLOOKUP(B135,'Abandoned Data'!$O$3:$V$187,8,FALSE)","v":""},"",null,null,null,null,null,null,null,null,null,null,null,null,132,0,0,0,0,0,0,0,0,0,0,0,0,0,0,0,0,0,0,0,0,0,0,0,0,0,0,0,0,0,0,0,0,0,0,0,0,0,0,0,0,0,0,0,0,0,0,0,0,0,0,0,0,0,0,0,0,0,0,0,0,0]
[133,{"$f":"'CH4 from Abandoned Coal Mines'!D137","v":""},{"$f":"'CH4 from Abandoned Coal Mines'!H137","v":""},{"$f":"IFERROR(VALUE('CH4 from Abandoned Coal Mines'!J137), \"\")","v":""},{"$f":"IF('CH4 from Abandoned Coal Mines'!N137>0,'CH4 from Abandoned Coal Mines'!N137,'CH4 from Abandoned Coal Mines'!L137)","v":""},{"$f":"'CH4 from Abandoned Coal Mines'!P137","v":0},{"$f":"'CH4 from Abandoned Coal Mines'!R137","v":0},{"$f":"VLOOKUP(B136,'Abandoned Data'!$O$3:$V$187,6,FALSE)","v":""},{"$f":"VLOOKUP(B136,'Abandoned Data'!$O$3:$V$187,7,FALSE)","v":""},{"$f":"VLOOKUP(B136,'Abandoned Data'!$O$3:$V$187,8,FALSE)","v":""},"",null,null,null,null,null,null,null,null,null,null,null,null,133,0,0,0,0,0,0,0,0,0,0,0,0,0,0,0,0,0,0,0,0,0,0,0,0,0,0,0,0,0,0,0,{"$f":"IF(ISERROR(IF($D136<BD$3,IF($E136=\"Venting\",(($H136*mmcfd_m3)*((1+$I136*(BD$3-$D136))^$J136)-$G136)*Gg_m3,IF($E136=\"Sealed\",((($H136*mmcfd_m3)*((1+$I136*(BD$3-$D136))^$J136)*(1-$F136)-$G136)*Gg_m3),IF($E136=\"Flooded\",(($H136*mmcfd_m3)*EXP(-0.6728*(BD$3-$D136))*Gg_m3),(($H136*mmcfd_m3)*((1+$I136*(BD$3-$D136))^$J136)-$G136)*Gg_m3+((($H136*mmcfd_m3)*((1+$I136*(BD$3-$D136))^$J136)*(1-0.8)-$G136)*Gg_m3)+(($H136*mmcfd_m3)*EXP(-0.6728*(BD$3-$D136))*Gg_m3)))),0)),0,IF($D136<BD$3,IF($E136=\"Venting\",(($H136*mmcfd_m3)*((1+$I136*(BD$3-$D136))^$J136)-$G136)*Gg_m3,IF($E136=\"Sealed\",((($H136*mmcfd_m3)*((1+$I136*(BD$3-$D136))^$J136)*(1-$F136)-$G136)*Gg_m3),IF($E136=\"Flooded\",(($H136*mmcfd_m3)*EXP(-0.6728*(BD$3-$D136))*Gg_m3),(($H136*mmcfd_m3)*((1+$I136*(BD$3-$D136))^$J136)-$G136)*Gg_m3+((($H136*mmcfd_m3)*((1+$I136*(BD$3-$D136))^$J136)*(1-0.8)-$G136)*Gg_m3)+(($H136*mmcfd_m3)*EXP(-0.6728*(BD$3-$D136))*Gg_m3)))),0))","v":0},0,0,0,0,0,0,0,0,0,0,0,0,0,0,0,0,0,0,0,0,0,0,0,0,0,0,0,0,0]
[134,{"$f":"'CH4 from Abandoned Coal Mines'!D138","v":""},{"$f":"'CH4 from Abandoned Coal Mines'!H138","v":""},{"$f":"IFERROR(VALUE('CH4 from Abandoned Coal Mines'!J138), \"\")","v":""},{"$f":"IF('CH4 from Abandoned Coal Mines'!N138>0,'CH4 from Abandoned Coal Mines'!N138,'CH4 from Abandoned Coal Mines'!L138)","v":""},{"$f":"'CH4 from Abandoned Coal Mines'!P138","v":0},{"$f":"'CH4 from Abandoned Coal Mines'!R138","v":0},{"$f":"VLOOKUP(B137,'Abandoned Data'!$O$3:$V$187,6,FALSE)","v":""},{"$f":"VLOOKUP(B137,'Abandoned Data'!$O$3:$V$187,7,FALSE)","v":""},{"$f":"VLOOKUP(B137,'Abandoned Data'!$O$3:$V$187,8,FALSE)","v":""},"",null,null,null,null,null,null,null,null,null,null,null,null,134,0,0,0,0,0,0,0,0,0,0,0,0,0,0,0,0,0,0,0,0,0,0,0,0,0,0,0,0,0,0,0,0,0,0,0,0,0,0,0,0,0,0,0,0,0,0,0,0,0,0,0,0,0,0,0,0,0,0,0,0,0]
[135,{"$f":"'CH4 from Abandoned Coal Mines'!D139","v":""},{"$f":"'CH4 from Abandoned Coal Mines'!H139","v":""},{"$f":"IFERROR(VALUE('CH4 from Abandoned Coal Mines'!J139), \"\")","v":""},{"$f":"IF('CH4 from Abandoned Coal Mines'!N139>0,'CH4 from Abandoned Coal Mines'!N139,'CH4 from Abandoned Coal Mines'!L139)","v":""},{"$f":"'CH4 from Abandoned Coal Mines'!P139","v":0},{"$f":"'CH4 from Abandoned Coal Mines'!R139","v":0},{"$f":"VLOOKUP(B138,'Abandoned Data'!$O$3:$V$187,6,FALSE)","v":""},{"$f":"VLOOKUP(B138,'Abandoned Data'!$O$3:$V$187,7,FALSE)","v":""},{"$f":"VLOOKUP(B138,'Abandoned Data'!$O$3:$V$187,8,FALSE)","v":""},"",null,null,null,null,null,null,null,null,null,null,null,null,135,0,0,0,0,0,0,0,0,0,0,0,0,0,0,0,0,0,0,0,0,0,0,0,0,0,0,0,0,0,0,0,0,0,0,0,0,0,0,0,0,0,0,0,0,0,0,0,0,0,0,0,0,0,0,0,0,0,0,0,0,0]
[136,{"$f":"'CH4 from Abandoned Coal Mines'!D140","v":""},{"$f":"'CH4 from Abandoned Coal Mines'!H140","v":""},{"$f":"IFERROR(VALUE('CH4 from Abandoned Coal Mines'!J140), \"\")","v":""},{"$f":"IF('CH4 from Abandoned Coal Mines'!N140>0,'CH4 from Abandoned Coal Mines'!N140,'CH4 from Abandoned Coal Mines'!L140)","v":""},{"$f":"'CH4 from Abandoned Coal Mines'!P140","v":0},{"$f":"'CH4 from Abandoned Coal Mines'!R140","v":0},{"$f":"VLOOKUP(B139,'Abandoned Data'!$O$3:$V$187,6,FALSE)","v":""},{"$f":"VLOOKUP(B139,'Abandoned Data'!$O$3:$V$187,7,FALSE)","v":""},{"$f":"VLOOKUP(B139,'Abandoned Data'!$O$3:$V$187,8,FALSE)","v":""},"",null,null,null,null,null,null,null,null,null,null,null,null,136,0,0,0,0,0,0,0,0,0,0,0,0,0,0,0,0,0,0,0,0,0,0,0,0,0,0,0,0,0,0,0,0,0,0,0,0,0,0,0,0,0,0,0,0,0,0,0,0,0,0,0,0,0,0,0,0,0,0,0,0,0]
[137,{"$f":"'CH4 from Abandoned Coal Mines'!D141","v":""},{"$f":"'CH4 from Abandoned Coal Mines'!H141","v":""},{"$f":"IFERROR(VALUE('CH4 from Abandoned Coal Mines'!J141), \"\")","v":""},{"$f":"IF('CH4 from Abandoned Coal Mines'!N141>0,'CH4 from Abandoned Coal Mines'!N141,'CH4 from Abandoned Coal Mines'!L141)","v":""},{"$f":"'CH4 from Abandoned Coal Mines'!P141","v":0},{"$f":"'CH4 from Abandoned Coal Mines'!R141","v":0},{"$f":"VLOOKUP(B140,'Abandoned Data'!$O$3:$V$187,6,FALSE)","v":""},{"$f":"VLOOKUP(B140,'Abandoned Data'!$O$3:$V$187,7,FALSE)","v":""},{"$f":"VLOOKUP(B140,'Abandoned Data'!$O$3:$V$187,8,FALSE)","v":""},"",null,null,null,null,null,null,null,null,null,null,null,null,137,0,0,0,0,0,0,0,0,0,0,0,0,0,0,0,0,0,0,0,0,0,0,0,0,0,0,0,0,0,0,0,0,0,0,0,0,0,0,0,0,0,0,0,0,0,0,0,0,0,0,0,0,0,0,0,0,0,0,0,0,0]
[138,{"$f":"'CH4 from Abandoned Coal Mines'!D142","v":""},{"$f":"'CH4 from Abandoned Coal Mines'!H142","v":""},{"$f":"IFERROR(VALUE('CH4 from Abandoned Coal Mines'!J142), \"\")","v":""},{"$f":"IF('CH4 from Abandoned Coal Mines'!N142>0,'CH4 from Abandoned Coal Mines'!N142,'CH4 from Abandoned Coal Mines'!L142)","v":""},{"$f":"'CH4 from Abandoned Coal Mines'!P142","v":0},{"$f":"'CH4 from Abandoned Coal Mines'!R142","v":0},{"$f":"VLOOKUP(B141,'Abandoned Data'!$O$3:$V$187,6,FALSE)","v":""},{"$f":"VLOOKUP(B141,'Abandoned Data'!$O$3:$V$187,7,FALSE)","v":""},{"$f":"VLOOKUP(B141,'Abandoned Data'!$O$3:$V$187,8,FALSE)","v":""},"",null,null,null,null,null,null,null,null,null,null,null,null,138,0,0,0,0,0,0,0,0,0,0,0,0,0,0,0,0,0,0,0,0,0,0,0,0,0,0,0,0,0,0,0,0,0,0,0,0,0,0,0,0,0,0,0,0,0,0,0,0,0,0,0,0,0,0,0,0,0,0,0,0,0]
[139,{"$f":"'CH4 from Abandoned Coal Mines'!D143","v":""},{"$f":"'CH4 from Abandoned Coal Mines'!H143","v":""},{"$f":"IFERROR(VALUE('CH4 from Abandoned Coal Mines'!J143), \"\")","v":""},{"$f":"IF('CH4 from Abandoned Coal Mines'!N143>0,'CH4 from Abandoned Coal Mines'!N143,'CH4 from Abandoned Coal Mines'!L143)","v":""},{"$f":"'CH4 from Abandoned Coal Mines'!P143","v":0},{"$f":"'CH4 from Abandoned Coal Mines'!R143","v":0},{"$f":"VLOOKUP(B142,'Abandoned Data'!$O$3:$V$187,6,FALSE)","v":""},{"$f":"VLOOKUP(B142,'Abandoned Data'!$O$3:$V$187,7,FALSE)","v":""},{"$f":"VLOOKUP(B142,'Abandoned Data'!$O$3:$V$187,8,FALSE)","v":""},"",null,null,null,null,null,null,null,null,null,null,null,null,139,0,0,0,0,0,0,0,0,0,0,0,0,0,0,0,0,0,0,0,0,0,0,0,0,0,0,0,0,0,0,0,0,0,0,0,0,0,0,0,0,0,0,0,0,0,0,0,0,0,0,0,0,0,0,0,0,0,0,0,0,0]
[140,{"$f":"'CH4 from Abandoned Coal Mines'!D144","v":""},{"$f":"'CH4 from Abandoned Coal Mines'!H144","v":""},{"$f":"IFERROR(VALUE('CH4 from Abandoned Coal Mines'!J144), \"\")","v":""},{"$f":"IF('CH4 from Abandoned Coal Mines'!N144>0,'CH4 from Abandoned Coal Mines'!N144,'CH4 from Abandoned Coal Mines'!L144)","v":""},{"$f":"'CH4 from Abandoned Coal Mines'!P144","v":0},{"$f":"'CH4 from Abandoned Coal Mines'!R144","v":0},{"$f":"VLOOKUP(B143,'Abandoned Data'!$O$3:$V$187,6,FALSE)","v":""},{"$f":"VLOOKUP(B143,'Abandoned Data'!$O$3:$V$187,7,FALSE)","v":""},{"$f":"VLOOKUP(B143,'Abandoned Data'!$O$3:$V$187,8,FALSE)","v":""},"",null,null,null,null,null,null,null,null,null,null,null,null,140,0,0,0,0,0,0,0,0,0,0,0,0,0,0,0,0,0,0,0,0,0,0,0,0,0,0,0,0,0,0,0,0,0,0,0,0,0,0,0,0,0,0,0,0,0,0,0,0,0,0,0,0,0,0,0,0,0,0,0,0,0]
[141,{"$f":"'CH4 from Abandoned Coal Mines'!D145","v":""},{"$f":"'CH4 from Abandoned Coal Mines'!H145","v":""},{"$f":"IFERROR(VALUE('CH4 from Abandoned Coal Mines'!J145), \"\")","v":""},{"$f":"IF('CH4 from Abandoned Coal Mines'!N145>0,'CH4 from Abandoned Coal Mines'!N145,'CH4 from Abandoned Coal Mines'!L145)","v":""},{"$f":"'CH4 from Abandoned Coal Mines'!P145","v":0},{"$f":"'CH4 from Abandoned Coal Mines'!R145","v":0},{"$f":"VLOOKUP(B144,'Abandoned Data'!$O$3:$V$187,6,FALSE)","v":""},{"$f":"VLOOKUP(B144,'Abandoned Data'!$O$3:$V$187,7,FALSE)","v":""},{"$f":"VLOOKUP(B144,'Abandoned Data'!$O$3:$V$187,8,FALSE)","v":""},"",null,null,null,null,null,null,null,null,null,null,null,null,141,0,0,0,0,0,0,0,0,0,0,0,0,0,0,0,0,0,0,0,0,0,0,0,0,0,0,0,0,0,0,0,0,0,0,0,0,0,0,0,0,0,0,0,0,0,0,{"$f":"IF(ISERROR(IF($D144<BS$3,IF($E144=\"Venting\",(($H144*mmcfd_m3)*((1+$I144*(BS$3-$D144))^$J144)-$G144)*Gg_m3,IF($E144=\"Sealed\",((($H144*mmcfd_m3)*((1+$I144*(BS$3-$D144))^$J144)*(1-$F144)-$G144)*Gg_m3),IF($E144=\"Flooded\",(($H144*mmcfd_m3)*EXP(-0.6728*(BS$3-$D144))*Gg_m3),(($H144*mmcfd_m3)*((1+$I144*(BS$3-$D144))^$J144)-$G144)*Gg_m3+((($H144*mmcfd_m3)*((1+$I144*(BS$3-$D144))^$J144)*(1-0.8)-$G144)*Gg_m3)+(($H144*mmcfd_m3)*EXP(-0.6728*(BS$3-$D144))*Gg_m3)))),0)),0,IF($D144<BS$3,IF($E144=\"Venting\",(($H144*mmcfd_m3)*((1+$I144*(BS$3-$D144))^$J144)-$G144)*Gg_m3,IF($E144=\"Sealed\",((($H144*mmcfd_m3)*((1+$I144*(BS$3-$D144))^$J144)*(1-$F144)-$G144)*Gg_m3),IF($E144=\"Flooded\",(($H144*mmcfd_m3)*EXP(-0.6728*(BS$3-$D144))*Gg_m3),(($H144*mmcfd_m3)*((1+$I144*(BS$3-$D144))^$J144)-$G144)*Gg_m3+((($H144*mmcfd_m3)*((1+$I144*(BS$3-$D144))^$J144)*(1-0.8)-$G144)*Gg_m3)+(($H144*mmcfd_m3)*EXP(-0.6728*(BS$3-$D144))*Gg_m3)))),0))","v":0},0,0,0,0,0,0,0,0,0,0,0,0,0,0]
[142,{"$f":"'CH4 from Abandoned Coal Mines'!D146","v":""},{"$f":"'CH4 from Abandoned Coal Mines'!H146","v":""},{"$f":"IFERROR(VALUE('CH4 from Abandoned Coal Mines'!J146), \"\")","v":""},{"$f":"IF('CH4 from Abandoned Coal Mines'!N146>0,'CH4 from Abandoned Coal Mines'!N146,'CH4 from Abandoned Coal Mines'!L146)","v":""},{"$f":"'CH4 from Abandoned Coal Mines'!P146","v":0},{"$f":"'CH4 from Abandoned Coal Mines'!R146","v":0},{"$f":"VLOOKUP(B145,'Abandoned Data'!$O$3:$V$187,6,FALSE)","v":""},{"$f":"VLOOKUP(B145,'Abandoned Data'!$O$3:$V$187,7,FALSE)","v":""},{"$f":"VLOOKUP(B145,'Abandoned Data'!$O$3:$V$187,8,FALSE)","v":""},"",null,null,null,null,null,null,null,null,null,null,null,null,142,0,0,0,0,0,0,0,0,0,0,0,0,0,0,0,0,0,0,0,0,0,0,0,0,0,0,0,0,0,0,0,0,0,0,0,0,0,0,0,0,0,0,0,0,0,0,0,0,0,0,0,0,0,0,0,0,0,0,0,0,0]
[143,{"$f":"'CH4 from Abandoned Coal Mines'!D147","v":""},{"$f":"'CH4 from Abandoned Coal Mines'!H147","v":""},{"$f":"IFERROR(VALUE('CH4 from Abandoned Coal Mines'!J147), \"\")","v":""},{"$f":"IF('CH4 from Abandoned Coal Mines'!N147>0,'CH4 from Abandoned Coal Mines'!N147,'CH4 from Abandoned Coal Mines'!L147)","v":""},{"$f":"'CH4 from Abandoned Coal Mines'!P147","v":0},{"$f":"'CH4 from Abandoned Coal Mines'!R147","v":0},{"$f":"VLOOKUP(B146,'Abandoned Data'!$O$3:$V$187,6,FALSE)","v":""},{"$f":"VLOOKUP(B146,'Abandoned Data'!$O$3:$V$187,7,FALSE)","v":""},{"$f":"VLOOKUP(B146,'Abandoned Data'!$O$3:$V$187,8,FALSE)","v":""},"",null,null,null,null,null,null,null,null,null,null,null,null,{"$f":"X145+1","v":143},0,0,0,0,0,0,0,0,0,0,0,0,0,0,0,0,0,0,0,0,0,0,0,0,0,0,0,0,0,0,0,0,0,0,0,0,0,0,0,0,0,0,0,0,0,0,0,0,0,0,0,0,0,0,0,0,0,0,0,0,0]
[144,{"$f":"'CH4 from Abandoned Coal Mines'!D148","v":""},{"$f":"'CH4 from Abandoned Coal Mines'!H148","v":""},{"$f":"IFERROR(VALUE('CH4 from Abandoned Coal Mines'!J148), \"\")","v":""},{"$f":"IF('CH4 from Abandoned Coal Mines'!N148>0,'CH4 from Abandoned Coal Mines'!N148,'CH4 from Abandoned Coal Mines'!L148)","v":""},{"$f":"'CH4 from Abandoned Coal Mines'!P148","v":0},{"$f":"'CH4 from Abandoned Coal Mines'!R148","v":0},{"$f":"VLOOKUP(B147,'Abandoned Data'!$O$3:$V$187,6,FALSE)","v":""},{"$f":"VLOOKUP(B147,'Abandoned Data'!$O$3:$V$187,7,FALSE)","v":""},{"$f":"VLOOKUP(B147,'Abandoned Data'!$O$3:$V$187,8,FALSE)","v":""},"",null,null,null,null,null,null,null,null,null,null,null,null,{"$f":"X146+1","v":144},0,0,0,0,0,0,0,0,0,0,0,0,0,0,0,0,0,0,0,0,0,0,0,0,0,0,0,0,0,0,0,0,0,0,0,0,0,0,0,0,0,0,0,0,0,0,0,0,0,0,0,0,0,0,0,0,0,0,0,0,0]
[145,{"$f":"'CH4 from Abandoned Coal Mines'!D149","v":""},{"$f":"'CH4 from Abandoned Coal Mines'!H149","v":""},{"$f":"IFERROR(VALUE('CH4 from Abandoned Coal Mines'!J149), \"\")","v":""},{"$f":"IF('CH4 from Abandoned Coal Mines'!N149>0,'CH4 from Abandoned Coal Mines'!N149,'CH4 from Abandoned Coal Mines'!L149)","v":""},{"$f":"'CH4 from Abandoned Coal Mines'!P149","v":0},{"$f":"'CH4 from Abandoned Coal Mines'!R149","v":0},{"$f":"VLOOKUP(B148,'Abandoned Data'!$O$3:$V$187,6,FALSE)","v":""},{"$f":"VLOOKUP(B148,'Abandoned Data'!$O$3:$V$187,7,FALSE)","v":""},{"$f":"VLOOKUP(B148,'Abandoned Data'!$O$3:$V$187,8,FALSE)","v":""},"",null,null,null,null,null,null,null,null,null,null,null,null,145,0,0,0,0,0,0,0,0,0,0,0,0,0,0,0,0,0,0,0,0,0,0,0,0,0,0,0,0,0,0,0,0,0,0,0,0,0,0,0,0,0,0,0,0,0,0,0,0,0,0,0,0,0,0,0,0,0,0,0,0,0]
[{"$f":"A148+1","v":146},{"$f":"'CH4 from Abandoned Coal Mines'!D150","v":""},{"$f":"'CH4 from Abandoned Coal Mines'!H150","v":""},{"$f":"IFERROR(VALUE('CH4 from Abandoned Coal Mines'!J150), \"\")","v":""},{"$f":"IF('CH4 from Abandoned Coal Mines'!N150>0,'CH4 from Abandoned Coal Mines'!N150,'CH4 from Abandoned Coal Mines'!L150)","v":""},{"$f":"'CH4 from Abandoned Coal Mines'!P150","v":0},{"$f":"'CH4 from Abandoned Coal Mines'!R150","v":0},{"$f":"VLOOKUP(B149,'Abandoned Data'!$O$3:$V$187,6,FALSE)","v":""},{"$f":"VLOOKUP(B149,'Abandoned Data'!$O$3:$V$187,7,FALSE)","v":""},{"$f":"VLOOKUP(B149,'Abandoned Data'!$O$3:$V$187,8,FALSE)","v":""},"",null,null,null,null,null,null,null,null,null,null,null,null,146,0,0,0,0,0,0,0,0,0,0,0,0,0,0,0,0,0,0,0,0,0,0,0,0,0,0,0,0,0,0,0,0,0,0,0,0,0,0,0,0,0,0,0,0,0,0,0,0,0,0,0,0,0,0,0,0,0,0,0,0,0]
[{"$f":"A149+1","v":147},{"$f":"'CH4 from Abandoned Coal Mines'!D151","v":""},{"$f":"'CH4 from Abandoned Coal Mines'!H151","v":""},{"$f":"IFERROR(VALUE('CH4 from Abandoned Coal Mines'!J151), \"\")","v":""},{"$f":"IF('CH4 from Abandoned Coal Mines'!N151>0,'CH4 from Abandoned Coal Mines'!N151,'CH4 from Abandoned Coal Mines'!L151)","v":""},{"$f":"'CH4 from Abandoned Coal Mines'!P151","v":0},{"$f":"'CH4 from Abandoned Coal Mines'!R151","v":0},{"$f":"VLOOKUP(B150,'Abandoned Data'!$O$3:$V$187,6,FALSE)","v":""},{"$f":"VLOOKUP(B150,'Abandoned Data'!$O$3:$V$187,7,FALSE)","v":""},{"$f":"VLOOKUP(B150,'Abandoned Data'!$O$3:$V$187,8,FALSE)","v":""},"",null,null,null,null,null,null,null,null,null,null,null,null,147,{"$f":"IF(ISERROR(IF($D150<Y$3,IF($E150=\"Venting\",(($H150*mmcfd_m3)*((1+$I150*(Y$3-$D150))^$J150)-$G150)*Gg_m3,IF($E150=\"Sealed\",((($H150*mmcfd_m3)*((1+$I150*(Y$3-$D150))^$J150)*(1-$F150)-$G150)*Gg_m3),IF($E150=\"Flooded\",(($H150*mmcfd_m3)*EXP(-0.6728*(Y$3-$D150))*Gg_m3),(($H150*mmcfd_m3)*((1+$I150*(Y$3-$D150))^$J150)-$G150)*Gg_m3+((($H150*mmcfd_m3)*((1+$I150*(Y$3-$D150))^$J150)*(1-0.8)-$G150)*Gg_m3)+(($H150*mmcfd_m3)*EXP(-0.6728*(Y$3-$D150))*Gg_m3)))),0)),0,IF($D150<Y$3,IF($E150=\"Venting\",(($H150*mmcfd_m3)*((1+$I150*(Y$3-$D150))^$J150)-$G150)*Gg_m3,IF($E150=\"Sealed\",((($H150*mmcfd_m3)*((1+$I150*(Y$3-$D150))^$J150)*(1-$F150)-$G150)*Gg_m3),IF($E150=\"Flooded\",(($H150*mmcfd_m3)*EXP(-0.6728*(Y$3-$D150))*Gg_m3),(($H150*mmcfd_m3)*((1+$I150*(Y$3-$D150))^$J150)-$G150)*Gg_m3+((($H150*mmcfd_m3)*((1+$I150*(Y$3-$D150))^$J150)*(1-0.8)-$G150)*Gg_m3)+(($H150*mmcfd_m3)*EXP(-0.6728*(Y$3-$D150))*Gg_m3)))),0))","v":0},0,0,0,0,0,0,0,0,0,0,0,0,0,0,0,{"$f":"IF(ISERROR(IF($D150<AO$3,IF($E150=\"Venting\",(($H150*mmcfd_m3)*((1+$I150*(AO$3-$D150))^$J150)-$G150)*Gg_m3,IF($E150=\"Sealed\",((($H150*mmcfd_m3)*((1+$I150*(AO$3-$D150))^$J150)*(1-$F150)-$G150)*Gg_m3),IF($E150=\"Flooded\",(($H150*mmcfd_m3)*EXP(-0.6728*(AO$3-$D150))*Gg_m3),(($H150*mmcfd_m3)*((1+$I150*(AO$3-$D150))^$J150)-$G150)*Gg_m3+((($H150*mmcfd_m3)*((1+$I150*(AO$3-$D150))^$J150)*(1-0.8)-$G150)*Gg_m3)+(($H150*mmcfd_m3)*EXP(-0.6728*(AO$3-$D150))*Gg_m3)))),0)),0,IF($D150<AO$3,IF($E150=\"Venting\",(($H150*mmcfd_m3)*((1+$I150*(AO$3-$D150))^$J150)-$G150)*Gg_m3,IF($E150=\"Sealed\",((($H150*mmcfd_m3)*((1+$I150*(AO$3-$D150))^$J150)*(1-$F150)-$G150)*Gg_m3),IF($E150=\"Flooded\",(($H150*mmcfd_m3)*EXP(-0.6728*(AO$3-$D150))*Gg_m3),(($H150*mmcfd_m3)*((1+$I150*(AO$3-$D150))^$J150)-$G150)*Gg_m3+((($H150*mmcfd_m3)*((1+$I150*(AO$3-$D150))^$J150)*(1-0.8)-$G150)*Gg_m3)+(($H150*mmcfd_m3)*EXP(-0.6728*(AO$3-$D150))*Gg_m3)))),0))","v":0},0,0,0,0,0,0,0,0,0,0,0,0,0,0,0,0,0,0,0,0,0,0,0,0,0,0,0,0,0,0,0,0,0,0,0,0,0,0,0,0,0,0,0,0]
[148,{"$f":"'CH4 from Abandoned Coal Mines'!D152","v":""},{"$f":"'CH4 from Abandoned Coal Mines'!H152","v":""},{"$f":"IFERROR(VALUE('CH4 from Abandoned Coal Mines'!J152), \"\")","v":""},{"$f":"IF('CH4 from Abandoned Coal Mines'!N152>0,'CH4 from Abandoned Coal Mines'!N152,'CH4 from Abandoned Coal Mines'!L152)","v":""},{"$f":"'CH4 from Abandoned Coal Mines'!P152","v":0},{"$f":"'CH4 from Abandoned Coal Mines'!R152","v":0},{"$f":"VLOOKUP(B151,'Abandoned Data'!$O$3:$V$187,6,FALSE)","v":""},{"$f":"VLOOKUP(B151,'Abandoned Data'!$O$3:$V$187,7,FALSE)","v":""},{"$f":"VLOOKUP(B151,'Abandoned Data'!$O$3:$V$187,8,FALSE)","v":""},"",null,null,null,null,null,null,null,null,null,null,null,null,148,0,0,0,0,0,0,0,0,0,0,0,0,0,0,0,0,0,0,0,0,0,0,0,0,0,0,0,0,0,0,0,0,0,0,0,0,0,0,0,0,0,0,0,0,0,0,0,0,0,0,0,0,0,0,0,0,0,0,0,0,0]
[149,{"$f":"'CH4 from Abandoned Coal Mines'!D153","v":""},{"$f":"'CH4 from Abandoned Coal Mines'!H153","v":""},{"$f":"IFERROR(VALUE('CH4 from Abandoned Coal Mines'!J153), \"\")","v":""},{"$f":"IF('CH4 from Abandoned Coal Mines'!N153>0,'CH4 from Abandoned Coal Mines'!N153,'CH4 from Abandoned Coal Mines'!L153)","v":""},{"$f":"'CH4 from Abandoned Coal Mines'!P153","v":0},{"$f":"'CH4 from Abandoned Coal Mines'!R153","v":0},{"$f":"VLOOKUP(B152,'Abandoned Data'!$O$3:$V$187,6,FALSE)","v":""},{"$f":"VLOOKUP(B152,'Abandoned Data'!$O$3:$V$187,7,FALSE)","v":""},{"$f":"VLOOKUP(B152,'Abandoned Data'!$O$3:$V$187,8,FALSE)","v":""},"",null,null,null,null,null,null,null,null,null,null,null,null,149,0,0,0,0,0,0,0,0,0,0,0,0,0,0,0,0,0,0,0,0,0,0,0,0,0,0,0,0,0,0,0,0,0,0,0,0,0,0,0,0,0,0,0,0,0,0,0,0,0,0,0,0,0,0,0,0,0,0,0,0,0]
[150,{"$f":"'CH4 from Abandoned Coal Mines'!D154","v":""},{"$f":"'CH4 from Abandoned Coal Mines'!H154","v":""},{"$f":"IFERROR(VALUE('CH4 from Abandoned Coal Mines'!J154), \"\")","v":""},{"$f":"IF('CH4 from Abandoned Coal Mines'!N154>0,'CH4 from Abandoned Coal Mines'!N154,'CH4 from Abandoned Coal Mines'!L154)","v":""},{"$f":"'CH4 from Abandoned Coal Mines'!P154","v":0},{"$f":"'CH4 from Abandoned Coal Mines'!R154","v":0},{"$f":"VLOOKUP(B153,'Abandoned Data'!$O$3:$V$187,6,FALSE)","v":""},{"$f":"VLOOKUP(B153,'Abandoned Data'!$O$3:$V$187,7,FALSE)","v":""},{"$f":"VLOOKUP(B153,'Abandoned Data'!$O$3:$V$187,8,FALSE)","v":""},"",null,null,null,null,null,null,null,null,null,null,null,null,150,0,0,0,0,0,0,0,0,0,0,0,0,0,0,0,0,0,0,0,0,0,0,0,0,0,0,0,0,0,0,0,{"$f":"IF(ISERROR(IF($D153<BD$3,IF($E153=\"Venting\",(($H153*mmcfd_m3)*((1+$I153*(BD$3-$D153))^$J153)-$G153)*Gg_m3,IF($E153=\"Sealed\",((($H153*mmcfd_m3)*((1+$I153*(BD$3-$D153))^$J153)*(1-$F153)-$G153)*Gg_m3),IF($E153=\"Flooded\",(($H153*mmcfd_m3)*EXP(-0.6728*(BD$3-$D153))*Gg_m3),(($H153*mmcfd_m3)*((1+$I153*(BD$3-$D153))^$J153)-$G153)*Gg_m3+((($H153*mmcfd_m3)*((1+$I153*(BD$3-$D153))^$J153)*(1-0.8)-$G153)*Gg_m3)+(($H153*mmcfd_m3)*EXP(-0.6728*(BD$3-$D153))*Gg_m3)))),0)),0,IF($D153<BD$3,IF($E153=\"Venting\",(($H153*mmcfd_m3)*((1+$I153*(BD$3-$D153))^$J153)-$G153)*Gg_m3,IF($E153=\"Sealed\",((($H153*mmcfd_m3)*((1+$I153*(BD$3-$D153))^$J153)*(1-$F153)-$G153)*Gg_m3),IF($E153=\"Flooded\",(($H153*mmcfd_m3)*EXP(-0.6728*(BD$3-$D153))*Gg_m3),(($H153*mmcfd_m3)*((1+$I153*(BD$3-$D153))^$J153)-$G153)*Gg_m3+((($H153*mmcfd_m3)*((1+$I153*(BD$3-$D153))^$J153)*(1-0.8)-$G153)*Gg_m3)+(($H153*mmcfd_m3)*EXP(-0.6728*(BD$3-$D153))*Gg_m3)))),0))","v":0},0,0,0,0,0,0,0,0,0,0,0,0,0,0,0,{"$f":"IF(ISERROR(IF($D153<BT$3,IF($E153=\"Venting\",(($H153*mmcfd_m3)*((1+$I153*(BT$3-$D153))^$J153)-$G153)*Gg_m3,IF($E153=\"Sealed\",((($H153*mmcfd_m3)*((1+$I153*(BT$3-$D153))^$J153)*(1-$F153)-$G153)*Gg_m3),IF($E153=\"Flooded\",(($H153*mmcfd_m3)*EXP(-0.6728*(BT$3-$D153))*Gg_m3),(($H153*mmcfd_m3)*((1+$I153*(BT$3-$D153))^$J153)-$G153)*Gg_m3+((($H153*mmcfd_m3)*((1+$I153*(BT$3-$D153))^$J153)*(1-0.8)-$G153)*Gg_m3)+(($H153*mmcfd_m3)*EXP(-0.6728*(BT$3-$D153))*Gg_m3)))),0)),0,IF($D153<BT$3,IF($E153=\"Venting\",(($H153*mmcfd_m3)*((1+$I153*(BT$3-$D153))^$J153)-$G153)*Gg_m3,IF($E153=\"Sealed\",((($H153*mmcfd_m3)*((1+$I153*(BT$3-$D153))^$J153)*(1-$F153)-$G153)*Gg_m3),IF($E153=\"Flooded\",(($H153*mmcfd_m3)*EXP(-0.6728*(BT$3-$D153))*Gg_m3),(($H153*mmcfd_m3)*((1+$I153*(BT$3-$D153))^$J153)-$G153)*Gg_m3+((($H153*mmcfd_m3)*((1+$I153*(BT$3-$D153))^$J153)*(1-0.8)-$G153)*Gg_m3)+(($H153*mmcfd_m3)*EXP(-0.6728*(BT$3-$D153))*Gg_m3)))),0))","v":0},0,0,0,0,0,0,0,0,0,0,0,0,0]
[151,{"$f":"'CH4 from Abandoned Coal Mines'!D155","v":""},{"$f":"'CH4 from Abandoned Coal Mines'!H155","v":""},{"$f":"IFERROR(VALUE('CH4 from Abandoned Coal Mines'!J155), \"\")","v":""},{"$f":"IF('CH4 from Abandoned Coal Mines'!N155>0,'CH4 from Abandoned Coal Mines'!N155,'CH4 from Abandoned Coal Mines'!L155)","v":""},{"$f":"'CH4 from Abandoned Coal Mines'!P155","v":0},{"$f":"'CH4 from Abandoned Coal Mines'!R155","v":0},{"$f":"VLOOKUP(B154,'Abandoned Data'!$O$3:$V$187,6,FALSE)","v":""},{"$f":"VLOOKUP(B154,'Abandoned Data'!$O$3:$V$187,7,FALSE)","v":""},{"$f":"VLOOKUP(B154,'Abandoned Data'!$O$3:$V$187,8,FALSE)","v":""},"",null,null,null,null,null,null,null,null,null,null,null,null,151,0,0,0,0,0,0,0,0,0,0,0,0,0,0,0,0,0,0,0,0,0,0,0,0,0,0,0,0,0,0,0,0,0,0,0,0,0,0,0,0,0,0,0,0,0,0,0,0,0,0,0,0,0,0,0,0,0,0,0,0,0]
[152,{"$f":"'CH4 from Abandoned Coal Mines'!D156","v":""},{"$f":"'CH4 from Abandoned Coal Mines'!H156","v":""},{"$f":"IFERROR(VALUE('CH4 from Abandoned Coal Mines'!J156), \"\")","v":""},{"$f":"IF('CH4 from Abandoned Coal Mines'!N156>0,'CH4 from Abandoned Coal Mines'!N156,'CH4 from Abandoned Coal Mines'!L156)","v":""},{"$f":"'CH4 from Abandoned Coal Mines'!P156","v":0},{"$f":"'CH4 from Abandoned Coal Mines'!R156","v":0},{"$f":"VLOOKUP(B155,'Abandoned Data'!$O$3:$V$187,6,FALSE)","v":""},{"$f":"VLOOKUP(B155,'Abandoned Data'!$O$3:$V$187,7,FALSE)","v":""},{"$f":"VLOOKUP(B155,'Abandoned Data'!$O$3:$V$187,8,FALSE)","v":""},"",null,null,null,null,null,null,null,null,null,null,null,null,152,0,0,0,0,0,0,0,0,0,0,0,0,0,0,0,0,0,0,0,0,0,0,0,0,0,0,0,0,0,0,0,0,0,0,0,0,0,0,0,0,0,0,0,0,0,0,0,0,0,0,0,0,0,0,0,0,0,0,0,0,0]
[153,{"$f":"'CH4 from Abandoned Coal Mines'!D157","v":""},{"$f":"'CH4 from Abandoned Coal Mines'!H157","v":""},{"$f":"IFERROR(VALUE('CH4 from Abandoned Coal Mines'!J157), \"\")","v":""},{"$f":"IF('CH4 from Abandoned Coal Mines'!N157>0,'CH4 from Abandoned Coal Mines'!N157,'CH4 from Abandoned Coal Mines'!L157)","v":""},{"$f":"'CH4 from Abandoned Coal Mines'!P157","v":0},{"$f":"'CH4 from Abandoned Coal Mines'!R157","v":0},{"$f":"VLOOKUP(B156,'Abandoned Data'!$O$3:$V$187,6,FALSE)","v":""},{"$f":"VLOOKUP(B156,'Abandoned Data'!$O$3:$V$187,7,FALSE)","v":""},{"$f":"VLOOKUP(B156,'Abandoned Data'!$O$3:$V$187,8,FALSE)","v":""},"",null,null,null,null,null,null,null,null,null,null,null,null,153,0,0,0,0,0,0,0,0,0,0,0,0,0,0,0,0,0,0,0,0,0,0,0,0,0,0,0,0,0,0,0,0,0,0,0,0,0,0,0,0,0,0,0,0,0,0,0,0,0,0,0,0,0,0,0,0,0,0,0,0,0]
[154,{"$f":"'CH4 from Abandoned Coal Mines'!D158","v":""},{"$f":"'CH4 from Abandoned Coal Mines'!H158","v":""},{"$f":"IFERROR(VALUE('CH4 from Abandoned Coal Mines'!J158), \"\")","v":""},{"$f":"IF('CH4 from Abandoned Coal Mines'!N158>0,'CH4 from Abandoned Coal Mines'!N158,'CH4 from Abandoned Coal Mines'!L158)","v":""},{"$f":"'CH4 from Abandoned Coal Mines'!P158","v":0},{"$f":"'CH4 from Abandoned Coal Mines'!R158","v":0},{"$f":"VLOOKUP(B157,'Abandoned Data'!$O$3:$V$187,6,FALSE)","v":""},{"$f":"VLOOKUP(B157,'Abandoned Data'!$O$3:$V$187,7,FALSE)","v":""},{"$f":"VLOOKUP(B157,'Abandoned Data'!$O$3:$V$187,8,FALSE)","v":""},"",null,null,null,null,null,null,null,null,null,null,null,null,154,0,0,0,0,0,0,0,0,0,0,0,0,0,0,0,0,0,0,0,0,0,0,0,0,0,0,0,0,0,0,0,0,0,0,0,0,0,0,0,0,0,0,0,0,0,0,0,0,0,0,0,0,0,0,0,0,0,0,0,0,0]
[155,{"$f":"'CH4 from Abandoned Coal Mines'!D159","v":""},{"$f":"'CH4 from Abandoned Coal Mines'!H159","v":""},{"$f":"IFERROR(VALUE('CH4 from Abandoned Coal Mines'!J159), \"\")","v":""},{"$f":"IF('CH4 from Abandoned Coal Mines'!N159>0,'CH4 from Abandoned Coal Mines'!N159,'CH4 from Abandoned Coal Mines'!L159)","v":""},{"$f":"'CH4 from Abandoned Coal Mines'!P159","v":0},{"$f":"'CH4 from Abandoned Coal Mines'!R159","v":0},{"$f":"VLOOKUP(B158,'Abandoned Data'!$O$3:$V$187,6,FALSE)","v":""},{"$f":"VLOOKUP(B158,'Abandoned Data'!$O$3:$V$187,7,FALSE)","v":""},{"$f":"VLOOKUP(B158,'Abandoned Data'!$O$3:$V$187,8,FALSE)","v":""},"",null,null,null,null,null,null,null,null,null,null,null,null,155,0,0,0,0,0,0,0,0,0,0,0,0,0,0,0,0,0,0,0,0,0,0,0,0,0,0,0,0,0,0,0,0,0,0,0,0,0,0,0,0,0,0,0,0,0,0,0,0,0,0,0,0,0,0,0,0,0,0,0,0,0]
[156,{"$f":"'CH4 from Abandoned Coal Mines'!D160","v":""},{"$f":"'CH4 from Abandoned Coal Mines'!H160","v":""},{"$f":"IFERROR(VALUE('CH4 from Abandoned Coal Mines'!J160), \"\")","v":""},{"$f":"IF('CH4 from Abandoned Coal Mines'!N160>0,'CH4 from Abandoned Coal Mines'!N160,'CH4 from Abandoned Coal Mines'!L160)","v":""},{"$f":"'CH4 from Abandoned Coal Mines'!P160","v":0},{"$f":"'CH4 from Abandoned Coal Mines'!R160","v":0},{"$f":"VLOOKUP(B159,'Abandoned Data'!$O$3:$V$187,6,FALSE)","v":""},{"$f":"VLOOKUP(B159,'Abandoned Data'!$O$3:$V$187,7,FALSE)","v":""},{"$f":"VLOOKUP(B159,'Abandoned Data'!$O$3:$V$187,8,FALSE)","v":""},"",null,null,null,null,null,null,null,null,null,null,null,null,156,0,0,0,0,0,0,0,0,0,0,0,0,0,0,0,0,0,0,0,0,0,0,0,0,0,0,0,0,0,0,0,0,0,0,0,0,0,0,0,0,0,0,0,0,0,0,0,0,0,0,0,0,0,0,0,0,0,0,0,0,0]
[157,{"$f":"'CH4 from Abandoned Coal Mines'!D161","v":""},{"$f":"'CH4 from Abandoned Coal Mines'!H161","v":""},{"$f":"IFERROR(VALUE('CH4 from Abandoned Coal Mines'!J161), \"\")","v":""},{"$f":"IF('CH4 from Abandoned Coal Mines'!N161>0,'CH4 from Abandoned Coal Mines'!N161,'CH4 from Abandoned Coal Mines'!L161)","v":""},{"$f":"'CH4 from Abandoned Coal Mines'!P161","v":0},{"$f":"'CH4 from Abandoned Coal Mines'!R161","v":0},{"$f":"VLOOKUP(B160,'Abandoned Data'!$O$3:$V$187,6,FALSE)","v":""},{"$f":"VLOOKUP(B160,'Abandoned Data'!$O$3:$V$187,7,FALSE)","v":""},{"$f":"VLOOKUP(B160,'Abandoned Data'!$O$3:$V$187,8,FALSE)","v":""},"",null,null,null,null,null,null,null,null,null,null,null,null,157,0,0,0,0,0,0,0,0,0,0,0,0,0,0,0,0,0,0,0,0,0,0,0,0,0,0,0,0,0,0,0,0,0,0,0,0,0,0,0,0,0,0,0,0,0,0,0,0,0,0,0,0,0,0,0,0,0,0,0,0,0]
[158,{"$f":"'CH4 from Abandoned Coal Mines'!D162","v":""},{"$f":"'CH4 from Abandoned Coal Mines'!H162","v":""},{"$f":"IFERROR(VALUE('CH4 from Abandoned Coal Mines'!J162), \"\")","v":""},{"$f":"IF('CH4 from Abandoned Coal Mines'!N162>0,'CH4 from Abandoned Coal Mines'!N162,'CH4 from Abandoned Coal Mines'!L162)","v":""},{"$f":"'CH4 from Abandoned Coal Mines'!P162","v":0},{"$f":"'CH4 from Abandoned Coal Mines'!R162","v":0},{"$f":"VLOOKUP(B161,'Abandoned Data'!$O$3:$V$187,6,FALSE)","v":""},{"$f":"VLOOKUP(B161,'Abandoned Data'!$O$3:$V$187,7,FALSE)","v":""},{"$f":"VLOOKUP(B161,'Abandoned Data'!$O$3:$V$187,8,FALSE)","v":""},"",null,null,null,null,null,null,null,null,null,null,null,null,158,0,0,0,0,0,0,0,0,0,0,0,0,0,0,0,0,0,0,0,0,0,0,0,0,0,0,0,0,0,0,0,0,0,0,0,0,0,0,0,0,0,0,0,0,0,0,0,0,0,0,0,0,0,0,0,0,0,0,0,0,0]
[159,{"$f":"'CH4 from Abandoned Coal Mines'!D163","v":""},{"$f":"'CH4 from Abandoned Coal Mines'!H163","v":""},{"$f":"IFERROR(VALUE('CH4 from Abandoned Coal Mines'!J163), \"\")","v":""},{"$f":"IF('CH4 from Abandoned Coal Mines'!N163>0,'CH4 from Abandoned Coal Mines'!N163,'CH4 from Abandoned Coal Mines'!L163)","v":""},{"$f":"'CH4 from Abandoned Coal Mines'!P163","v":0},{"$f":"'CH4 from Abandoned Coal Mines'!R163","v":0},{"$f":"VLOOKUP(B162,'Abandoned Data'!$O$3:$V$187,6,FALSE)","v":""},{"$f":"VLOOKUP(B162,'Abandoned Data'!$O$3:$V$187,7,FALSE)","v":""},{"$f":"VLOOKUP(B162,'Abandoned Data'!$O$3:$V$187,8,FALSE)","v":""},"",null,null,null,null,null,null,null,null,null,null,null,null,159,0,0,0,0,0,0,0,0,0,0,0,0,0,0,0,0,0,0,0,0,0,0,0,0,0,0,0,0,0,0,0,0,0,0,0,0,0,0,0,0,0,0,0,0,0,0,0,0,0,0,0,0,0,0,0,0,0,0,0,0,0]
[160,{"$f":"'CH4 from Abandoned Coal Mines'!D164","v":""},{"$f":"'CH4 from Abandoned Coal Mines'!H164","v":""},{"$f":"IFERROR(VALUE('CH4 from Abandoned Coal Mines'!J164), \"\")","v":""},{"$f":"IF('CH4 from Abandoned Coal Mines'!N164>0,'CH4 from Abandoned Coal Mines'!N164,'CH4 from Abandoned Coal Mines'!L164)","v":""},{"$f":"'CH4 from Abandoned Coal Mines'!P164","v":0},{"$f":"'CH4 from Abandoned Coal Mines'!R164","v":0},{"$f":"VLOOKUP(B163,'Abandoned Data'!$O$3:$V$187,6,FALSE)","v":""},{"$f":"VLOOKUP(B163,'Abandoned Data'!$O$3:$V$187,7,FALSE)","v":""},{"$f":"VLOOKUP(B163,'Abandoned Data'!$O$3:$V$187,8,FALSE)","v":""},"",null,null,null,null,null,null,null,null,null,null,null,null,160,0,0,0,0,0,0,0,0,0,0,0,0,0,0,0,0,0,0,0,0,0,0,0,0,0,0,0,0,0,0,0,0,0,0,0,0,0,0,0,0,0,0,0,0,0,0,0,0,0,0,0,0,0,0,0,0,0,0,0,0,0]
[161,{"$f":"'CH4 from Abandoned Coal Mines'!D165","v":""},{"$f":"'CH4 from Abandoned Coal Mines'!H165","v":""},{"$f":"IFERROR(VALUE('CH4 from Abandoned Coal Mines'!J165), \"\")","v":""},{"$f":"IF('CH4 from Abandoned Coal Mines'!N165>0,'CH4 from Abandoned Coal Mines'!N165,'CH4 from Abandoned Coal Mines'!L165)","v":""},{"$f":"'CH4 from Abandoned Coal Mines'!P165","v":0},{"$f":"'CH4 from Abandoned Coal Mines'!R165","v":0},{"$f":"VLOOKUP(B164,'Abandoned Data'!$O$3:$V$187,6,FALSE)","v":""},{"$f":"VLOOKUP(B164,'Abandoned Data'!$O$3:$V$187,7,FALSE)","v":""},{"$f":"VLOOKUP(B164,'Abandoned Data'!$O$3:$V$187,8,FALSE)","v":""},{"$f":"IFERROR(IF(E164=\"Venting\",((H164*mmcfd_m3)*((1+I164*($BC$3-D164))^J164)-G164)*Gg_m3,IF(E164=\"Sealed\",(((H164*mmcfd_m3)*((1+I164*($BC$3-D164))^J164)*(1-F164)-G164)*Gg_m3),IF(E164=\"Flooded\",((H164*mmcfd_m3)*EXP(-0.6728*($BC$3-D164))*Gg_m3),((H164*mmcfd_m3)*((1+I164*($BC$3-D164))^J164)-G164)*Gg_m3+(((H164*mmcfd_m3)*((1+I164*($BC$3-D164))^J164)*(1-0.8)-G164)*Gg_m3)+((H164*mmcfd_m3)*EXP(-0.6728*($BC$3-D164))*Gg_m3)))), \"\")","v":""},null,null,null,null,null,null,null,null,null,null,null,null,161,0,0,0,0,0,0,0,0,0,0,0,0,0,0,0,0,0,0,0,0,0,0,0,0,0,0,0,0,0,0,0,0,0,0,0,0,0,0,0,0,0,0,0,0,0,0,0,0,0,0,0,0,0,0,0,0,0,0,0,0,0]
[162,{"$f":"'CH4 from Abandoned Coal Mines'!D166","v":""},{"$f":"'CH4 from Abandoned Coal Mines'!H166","v":""},{"$f":"IFERROR(VALUE('CH4 from Abandoned Coal Mines'!J166), \"\")","v":""},{"$f":"IF('CH4 from Abandoned Coal Mines'!N166>0,'CH4 from Abandoned Coal Mines'!N166,'CH4 from Abandoned Coal Mines'!L166)","v":""},{"$f":"'CH4 from Abandoned Coal Mines'!P166","v":0},{"$f":"'CH4 from Abandoned Coal Mines'!R166","v":0},{"$f":"VLOOKUP(B165,'Abandoned Data'!$O$3:$V$187,6,FALSE)","v":""},{"$f":"VLOOKUP(B165,'Abandoned Data'!$O$3:$V$187,7,FALSE)","v":""},{"$f":"VLOOKUP(B165,'Abandoned Data'!$O$3:$V$187,8,FALSE)","v":""},"",null,null,null,null,null,null,null,null,null,null,null,null,162,0,0,0,0,0,0,0,0,0,0,0,0,0,0,0,{"$f":"IF(ISERROR(IF($D165<AN$3,IF($E165=\"Venting\",(($H165*mmcfd_m3)*((1+$I165*(AN$3-$D165))^$J165)-$G165)*Gg_m3,IF($E165=\"Sealed\",((($H165*mmcfd_m3)*((1+$I165*(AN$3-$D165))^$J165)*(1-$F165)-$G165)*Gg_m3),IF($E165=\"Flooded\",(($H165*mmcfd_m3)*EXP(-0.6728*(AN$3-$D165))*Gg_m3),(($H165*mmcfd_m3)*((1+$I165*(AN$3-$D165))^$J165)-$G165)*Gg_m3+((($H165*mmcfd_m3)*((1+$I165*(AN$3-$D165))^$J165)*(1-0.8)-$G165)*Gg_m3)+(($H165*mmcfd_m3)*EXP(-0.6728*(AN$3-$D165))*Gg_m3)))),0)),0,IF($D165<AN$3,IF($E165=\"Venting\",(($H165*mmcfd_m3)*((1+$I165*(AN$3-$D165))^$J165)-$G165)*Gg_m3,IF($E165=\"Sealed\",((($H165*mmcfd_m3)*((1+$I165*(AN$3-$D165))^$J165)*(1-$F165)-$G165)*Gg_m3),IF($E165=\"Flooded\",(($H165*mmcfd_m3)*EXP(-0.6728*(AN$3-$D165))*Gg_m3),(($H165*mmcfd_m3)*((1+$I165*(AN$3-$D165))^$J165)-$G165)*Gg_m3+((($H165*mmcfd_m3)*((1+$I165*(AN$3-$D165))^$J165)*(1-0.8)-$G165)*Gg_m3)+(($H165*mmcfd_m3)*EXP(-0.6728*(AN$3-$D165))*Gg_m3)))),0))","v":0},0,0,0,0,0,0,0,0,0,0,0,0,0,0,0,0,0,0,0,0,0,0,0,0,0,0,0,0,0,0,0,0,0,0,0,0,0,0,0,0,0,0,0,0,0]
[163,{"$f":"'CH4 from Abandoned Coal Mines'!D167","v":""},{"$f":"'CH4 from Abandoned Coal Mines'!H167","v":""},{"$f":"IFERROR(VALUE('CH4 from Abandoned Coal Mines'!J167), \"\")","v":""},{"$f":"IF('CH4 from Abandoned Coal Mines'!N167>0,'CH4 from Abandoned Coal Mines'!N167,'CH4 from Abandoned Coal Mines'!L167)","v":""},{"$f":"'CH4 from Abandoned Coal Mines'!P167","v":0},{"$f":"'CH4 from Abandoned Coal Mines'!R167","v":0},{"$f":"VLOOKUP(B166,'Abandoned Data'!$O$3:$V$187,6,FALSE)","v":""},{"$f":"VLOOKUP(B166,'Abandoned Data'!$O$3:$V$187,7,FALSE)","v":""},{"$f":"VLOOKUP(B166,'Abandoned Data'!$O$3:$V$187,8,FALSE)","v":""},"",null,null,null,null,null,null,null,null,null,null,null,null,163,{"$f":"IF(ISERROR(IF($D166<Y$3,IF($E166=\"Venting\",(($H166*mmcfd_m3)*((1+$I166*(Y$3-$D166))^$J166)-$G166)*Gg_m3,IF($E166=\"Sealed\",((($H166*mmcfd_m3)*((1+$I166*(Y$3-$D166))^$J166)*(1-$F166)-$G166)*Gg_m3),IF($E166=\"Flooded\",(($H166*mmcfd_m3)*EXP(-0.6728*(Y$3-$D166))*Gg_m3),(($H166*mmcfd_m3)*((1+$I166*(Y$3-$D166))^$J166)-$G166)*Gg_m3+((($H166*mmcfd_m3)*((1+$I166*(Y$3-$D166))^$J166)*(1-0.8)-$G166)*Gg_m3)+(($H166*mmcfd_m3)*EXP(-0.6728*(Y$3-$D166))*Gg_m3)))),0)),0,IF($D166<Y$3,IF($E166=\"Venting\",(($H166*mmcfd_m3)*((1+$I166*(Y$3-$D166))^$J166)-$G166)*Gg_m3,IF($E166=\"Sealed\",((($H166*mmcfd_m3)*((1+$I166*(Y$3-$D166))^$J166)*(1-$F166)-$G166)*Gg_m3),IF($E166=\"Flooded\",(($H166*mmcfd_m3)*EXP(-0.6728*(Y$3-$D166))*Gg_m3),(($H166*mmcfd_m3)*((1+$I166*(Y$3-$D166))^$J166)-$G166)*Gg_m3+((($H166*mmcfd_m3)*((1+$I166*(Y$3-$D166))^$J166)*(1-0.8)-$G166)*Gg_m3)+(($H166*mmcfd_m3)*EXP(-0.6728*(Y$3-$D166))*Gg_m3)))),0))","v":0},0,0,0,0,0,0,0,0,0,0,0,0,0,0,0,0,0,0,0,0,0,0,0,0,0,0,0,0,0,0,0,0,0,0,0,0,0,0,0,0,0,0,0,0,0,0,0,0,0,0,0,0,0,0,0,0,0,0,0,0]
[164,{"$f":"'CH4 from Abandoned Coal Mines'!D168","v":""},{"$f":"'CH4 from Abandoned Coal Mines'!H168","v":""},{"$f":"IFERROR(VALUE('CH4 from Abandoned Coal Mines'!J168), \"\")","v":""},{"$f":"IF('CH4 from Abandoned Coal Mines'!N168>0,'CH4 from Abandoned Coal Mines'!N168,'CH4 from Abandoned Coal Mines'!L168)","v":""},{"$f":"'CH4 from Abandoned Coal Mines'!P168","v":0},{"$f":"'CH4 from Abandoned Coal Mines'!R168","v":0},{"$f":"VLOOKUP(B167,'Abandoned Data'!$O$3:$V$187,6,FALSE)","v":""},{"$f":"VLOOKUP(B167,'Abandoned Data'!$O$3:$V$187,7,FALSE)","v":""},{"$f":"VLOOKUP(B167,'Abandoned Data'!$O$3:$V$187,8,FALSE)","v":""},"",null,null,null,null,null,null,null,null,null,null,null,null,164,0,0,0,0,0,0,0,0,0,0,0,0,0,0,0,0,0,0,0,0,0,0,0,0,0,0,0,0,{"$f":"IF(ISERROR(IF($D167<BA$3,IF($E167=\"Venting\",(($H167*mmcfd_m3)*((1+$I167*(BA$3-$D167))^$J167)-$G167)*Gg_m3,IF($E167=\"Sealed\",((($H167*mmcfd_m3)*((1+$I167*(BA$3-$D167))^$J167)*(1-$F167)-$G167)*Gg_m3),IF($E167=\"Flooded\",(($H167*mmcfd_m3)*EXP(-0.6728*(BA$3-$D167))*Gg_m3),(($H167*mmcfd_m3)*((1+$I167*(BA$3-$D167))^$J167)-$G167)*Gg_m3+((($H167*mmcfd_m3)*((1+$I167*(BA$3-$D167))^$J167)*(1-0.8)-$G167)*Gg_m3)+(($H167*mmcfd_m3)*EXP(-0.6728*(BA$3-$D167))*Gg_m3)))),0)),0,IF($D167<BA$3,IF($E167=\"Venting\",(($H167*mmcfd_m3)*((1+$I167*(BA$3-$D167))^$J167)-$G167)*Gg_m3,IF($E167=\"Sealed\",((($H167*mmcfd_m3)*((1+$I167*(BA$3-$D167))^$J167)*(1-$F167)-$G167)*Gg_m3),IF($E167=\"Flooded\",(($H167*mmcfd_m3)*EXP(-0.6728*(BA$3-$D167))*Gg_m3),(($H167*mmcfd_m3)*((1+$I167*(BA$3-$D167))^$J167)-$G167)*Gg_m3+((($H167*mmcfd_m3)*((1+$I167*(BA$3-$D167))^$J167)*(1-0.8)-$G167)*Gg_m3)+(($H167*mmcfd_m3)*EXP(-0.6728*(BA$3-$D167))*Gg_m3)))),0))","v":0},0,0,0,0,0,0,0,0,0,0,0,0,0,0,0,0,0,0,0,0,0,0,0,0,0,0,0,0,0,0,0,0]
[165,{"$f":"'CH4 from Abandoned Coal Mines'!D169","v":""},{"$f":"'CH4 from Abandoned Coal Mines'!H169","v":""},{"$f":"IFERROR(VALUE('CH4 from Abandoned Coal Mines'!J169), \"\")","v":""},{"$f":"IF('CH4 from Abandoned Coal Mines'!N169>0,'CH4 from Abandoned Coal Mines'!N169,'CH4 from Abandoned Coal Mines'!L169)","v":""},{"$f":"'CH4 from Abandoned Coal Mines'!P169","v":0},{"$f":"'CH4 from Abandoned Coal Mines'!R169","v":0},{"$f":"VLOOKUP(B168,'Abandoned Data'!$O$3:$V$187,6,FALSE)","v":""},{"$f":"VLOOKUP(B168,'Abandoned Data'!$O$3:$V$187,7,FALSE)","v":""},{"$f":"VLOOKUP(B168,'Abandoned Data'!$O$3:$V$187,8,FALSE)","v":""},"",null,null,null,null,null,null,null,null,null,null,null,null,165,0,0,0,0,0,0,0,0,0,0,0,0,0,0,0,0,0,0,0,0,0,0,0,0,0,0,0,0,0,0,0,0,0,0,0,0,0,0,0,0,0,0,0,0,0,0,{"$f":"IF(ISERROR(IF($D168<BS$3,IF($E168=\"Venting\",(($H168*mmcfd_m3)*((1+$I168*(BS$3-$D168))^$J168)-$G168)*Gg_m3,IF($E168=\"Sealed\",((($H168*mmcfd_m3)*((1+$I168*(BS$3-$D168))^$J168)*(1-$F168)-$G168)*Gg_m3),IF($E168=\"Flooded\",(($H168*mmcfd_m3)*EXP(-0.6728*(BS$3-$D168))*Gg_m3),(($H168*mmcfd_m3)*((1+$I168*(BS$3-$D168))^$J168)-$G168)*Gg_m3+((($H168*mmcfd_m3)*((1+$I168*(BS$3-$D168))^$J168)*(1-0.8)-$G168)*Gg_m3)+(($H168*mmcfd_m3)*EXP(-0.6728*(BS$3-$D168))*Gg_m3)))),0)),0,IF($D168<BS$3,IF($E168=\"Venting\",(($H168*mmcfd_m3)*((1+$I168*(BS$3-$D168))^$J168)-$G168)*Gg_m3,IF($E168=\"Sealed\",((($H168*mmcfd_m3)*((1+$I168*(BS$3-$D168))^$J168)*(1-$F168)-$G168)*Gg_m3),IF($E168=\"Flooded\",(($H168*mmcfd_m3)*EXP(-0.6728*(BS$3-$D168))*Gg_m3),(($H168*mmcfd_m3)*((1+$I168*(BS$3-$D168))^$J168)-$G168)*Gg_m3+((($H168*mmcfd_m3)*((1+$I168*(BS$3-$D168))^$J168)*(1-0.8)-$G168)*Gg_m3)+(($H168*mmcfd_m3)*EXP(-0.6728*(BS$3-$D168))*Gg_m3)))),0))","v":0},0,0,0,0,0,0,0,0,0,0,0,0,0,0]
[166,{"$f":"'CH4 from Abandoned Coal Mines'!D170","v":""},{"$f":"'CH4 from Abandoned Coal Mines'!H170","v":""},{"$f":"IFERROR(VALUE('CH4 from Abandoned Coal Mines'!J170), \"\")","v":""},{"$f":"IF('CH4 from Abandoned Coal Mines'!N170>0,'CH4 from Abandoned Coal Mines'!N170,'CH4 from Abandoned Coal Mines'!L170)","v":""},{"$f":"'CH4 from Abandoned Coal Mines'!P170","v":0},{"$f":"'CH4 from Abandoned Coal Mines'!R170","v":0},{"$f":"VLOOKUP(B169,'Abandoned Data'!$O$3:$V$187,6,FALSE)","v":""},{"$f":"VLOOKUP(B169,'Abandoned Data'!$O$3:$V$187,7,FALSE)","v":""},{"$f":"VLOOKUP(B169,'Abandoned Data'!$O$3:$V$187,8,FALSE)","v":""},"",null,null,null,null,null,null,null,null,null,null,null,null,166,0,0,0,0,0,0,0,0,0,0,0,0,0,0,0,0,0,0,0,0,0,0,0,0,0,0,0,0,0,0,0,0,0,0,0,0,{"$f":"IF(ISERROR(IF($D169<BI$3,IF($E169=\"Venting\",(($H169*mmcfd_m3)*((1+$I169*(BI$3-$D169))^$J169)-$G169)*Gg_m3,IF($E169=\"Sealed\",((($H169*mmcfd_m3)*((1+$I169*(BI$3-$D169))^$J169)*(1-$F169)-$G169)*Gg_m3),IF($E169=\"Flooded\",(($H169*mmcfd_m3)*EXP(-0.6728*(BI$3-$D169))*Gg_m3),(($H169*mmcfd_m3)*((1+$I169*(BI$3-$D169))^$J169)-$G169)*Gg_m3+((($H169*mmcfd_m3)*((1+$I169*(BI$3-$D169))^$J169)*(1-0.8)-$G169)*Gg_m3)+(($H169*mmcfd_m3)*EXP(-0.6728*(BI$3-$D169))*Gg_m3)))),0)),0,IF($D169<BI$3,IF($E169=\"Venting\",(($H169*mmcfd_m3)*((1+$I169*(BI$3-$D169))^$J169)-$G169)*Gg_m3,IF($E169=\"Sealed\",((($H169*mmcfd_m3)*((1+$I169*(BI$3-$D169))^$J169)*(1-$F169)-$G169)*Gg_m3),IF($E169=\"Flooded\",(($H169*mmcfd_m3)*EXP(-0.6728*(BI$3-$D169))*Gg_m3),(($H169*mmcfd_m3)*((1+$I169*(BI$3-$D169))^$J169)-$G169)*Gg_m3+((($H169*mmcfd_m3)*((1+$I169*(BI$3-$D169))^$J169)*(1-0.8)-$G169)*Gg_m3)+(($H169*mmcfd_m3)*EXP(-0.6728*(BI$3-$D169))*Gg_m3)))),0))","v":0},0,0,0,0,0,0,0,0,0,0,0,0,0,0,0,0,0,0,0,0,0,0,0,0]
[167,{"$f":"'CH4 from Abandoned Coal Mines'!D171","v":""},{"$f":"'CH4 from Abandoned Coal Mines'!H171","v":""},{"$f":"IFERROR(VALUE('CH4 from Abandoned Coal Mines'!J171), \"\")","v":""},{"$f":"IF('CH4 from Abandoned Coal Mines'!N171>0,'CH4 from Abandoned Coal Mines'!N171,'CH4 from Abandoned Coal Mines'!L171)","v":""},{"$f":"'CH4 from Abandoned Coal Mines'!P171","v":0},{"$f":"'CH4 from Abandoned Coal Mines'!R171","v":0},{"$f":"VLOOKUP(B170,'Abandoned Data'!$O$3:$V$187,6,FALSE)","v":""},{"$f":"VLOOKUP(B170,'Abandoned Data'!$O$3:$V$187,7,FALSE)","v":""},{"$f":"VLOOKUP(B170,'Abandoned Data'!$O$3:$V$187,8,FALSE)","v":""},"",null,null,null,null,null,null,null,null,null,null,null,null,167,0,0,0,0,0,0,0,0,0,0,0,0,0,0,0,0,0,0,0,0,0,0,0,0,0,0,0,0,0,0,0,0,0,0,0,0,0,0,0,0,0,0,0,0,0,0,0,0,0,0,0,0,0,0,0,0,0,0,0,0,0]
[168,{"$f":"'CH4 from Abandoned Coal Mines'!D172","v":""},{"$f":"'CH4 from Abandoned Coal Mines'!H172","v":""},{"$f":"IFERROR(VALUE('CH4 from Abandoned Coal Mines'!J172), \"\")","v":""},{"$f":"IF('CH4 from Abandoned Coal Mines'!N172>0,'CH4 from Abandoned Coal Mines'!N172,'CH4 from Abandoned Coal Mines'!L172)","v":""},{"$f":"'CH4 from Abandoned Coal Mines'!P172","v":0},{"$f":"'CH4 from Abandoned Coal Mines'!R172","v":0},{"$f":"VLOOKUP(B171,'Abandoned Data'!$O$3:$V$187,6,FALSE)","v":""},{"$f":"VLOOKUP(B171,'Abandoned Data'!$O$3:$V$187,7,FALSE)","v":""},{"$f":"VLOOKUP(B171,'Abandoned Data'!$O$3:$V$187,8,FALSE)","v":""},"",null,null,null,null,null,null,null,null,null,null,null,null,168,0,0,0,0,0,0,0,0,0,0,0,0,0,0,0,0,0,0,0,0,0,0,0,0,0,0,0,0,0,0,0,0,0,0,0,0,0,0,0,0,0,0,0,0,0,0,0,0,0,0,0,0,0,0,0,0,0,0,0,0,0]
[169,{"$f":"'CH4 from Abandoned Coal Mines'!D173","v":""},{"$f":"'CH4 from Abandoned Coal Mines'!H173","v":""},{"$f":"IFERROR(VALUE('CH4 from Abandoned Coal Mines'!J173), \"\")","v":""},{"$f":"IF('CH4 from Abandoned Coal Mines'!N173>0,'CH4 from Abandoned Coal Mines'!N173,'CH4 from Abandoned Coal Mines'!L173)","v":""},{"$f":"'CH4 from Abandoned Coal Mines'!P173","v":0},{"$f":"'CH4 from Abandoned Coal Mines'!R173","v":0},{"$f":"VLOOKUP(B172,'Abandoned Data'!$O$3:$V$187,6,FALSE)","v":""},{"$f":"VLOOKUP(B172,'Abandoned Data'!$O$3:$V$187,7,FALSE)","v":""},{"$f":"VLOOKUP(B172,'Abandoned Data'!$O$3:$V$187,8,FALSE)","v":""},"",null,null,null,null,null,null,null,null,null,null,null,null,169,0,0,0,0,0,0,0,0,0,0,0,0,0,0,0,0,0,0,0,0,0,0,0,0,0,0,0,0,0,0,0,0,0,0,0,0,0,0,0,0,0,0,0,0,0,0,0,0,0,0,0,0,0,0,0,0,0,0,0,0,0]
[170,{"$f":"'CH4 from Abandoned Coal Mines'!D174","v":""},{"$f":"'CH4 from Abandoned Coal Mines'!H174","v":""},{"$f":"IFERROR(VALUE('CH4 from Abandoned Coal Mines'!J174), \"\")","v":""},{"$f":"IF('CH4 from Abandoned Coal Mines'!N174>0,'CH4 from Abandoned Coal Mines'!N174,'CH4 from Abandoned Coal Mines'!L174)","v":""},{"$f":"'CH4 from Abandoned Coal Mines'!P174","v":0},{"$f":"'CH4 from Abandoned Coal Mines'!R174","v":0},{"$f":"VLOOKUP(B173,'Abandoned Data'!$O$3:$V$187,6,FALSE)","v":""},{"$f":"VLOOKUP(B173,'Abandoned Data'!$O$3:$V$187,7,FALSE)","v":""},{"$f":"VLOOKUP(B173,'Abandoned Data'!$O$3:$V$187,8,FALSE)","v":""},"",null,null,null,null,null,null,null,null,null,null,null,null,170,0,0,0,0,0,0,0,0,0,0,0,0,0,0,0,0,0,0,0,0,0,0,0,0,0,0,0,0,0,0,0,0,0,0,0,0,0,0,0,0,0,0,0,0,0,0,0,0,0,0,0,0,0,0,0,0,0,0,0,0,0]
[171,{"$f":"'CH4 from Abandoned Coal Mines'!D175","v":""},{"$f":"'CH4 from Abandoned Coal Mines'!H175","v":""},{"$f":"IFERROR(VALUE('CH4 from Abandoned Coal Mines'!J175), \"\")","v":""},{"$f":"IF('CH4 from Abandoned Coal Mines'!N175>0,'CH4 from Abandoned Coal Mines'!N175,'CH4 from Abandoned Coal Mines'!L175)","v":""},{"$f":"'CH4 from Abandoned Coal Mines'!P175","v":0},{"$f":"'CH4 from Abandoned Coal Mines'!R175","v":0},{"$f":"VLOOKUP(B174,'Abandoned Data'!$O$3:$V$187,6,FALSE)","v":""},{"$f":"VLOOKUP(B174,'Abandoned Data'!$O$3:$V$187,7,FALSE)","v":""},{"$f":"VLOOKUP(B174,'Abandoned Data'!$O$3:$V$187,8,FALSE)","v":""},"",null,null,null,null,null,null,null,null,null,null,null,null,171,0,0,0,0,0,0,0,0,0,0,0,0,0,0,0,0,0,0,0,0,0,0,0,0,0,0,0,0,0,0,0,0,0,0,0,0,0,0,0,0,0,0,0,0,0,0,0,0,0,0,0,0,0,0,0,0,0,0,0,0,0]
[172,{"$f":"'CH4 from Abandoned Coal Mines'!D176","v":""},{"$f":"'CH4 from Abandoned Coal Mines'!H176","v":""},{"$f":"IFERROR(VALUE('CH4 from Abandoned Coal Mines'!J176), \"\")","v":""},{"$f":"IF('CH4 from Abandoned Coal Mines'!N176>0,'CH4 from Abandoned Coal Mines'!N176,'CH4 from Abandoned Coal Mines'!L176)","v":""},{"$f":"'CH4 from Abandoned Coal Mines'!P176","v":0},{"$f":"'CH4 from Abandoned Coal Mines'!R176","v":0},{"$f":"VLOOKUP(B175,'Abandoned Data'!$O$3:$V$187,6,FALSE)","v":""},{"$f":"VLOOKUP(B175,'Abandoned Data'!$O$3:$V$187,7,FALSE)","v":""},{"$f":"VLOOKUP(B175,'Abandoned Data'!$O$3:$V$187,8,FALSE)","v":""},"",null,null,null,null,null,null,null,null,null,null,null,null,172,0,0,0,0,0,0,0,0,0,0,0,0,0,0,0,0,0,0,0,0,0,0,0,0,0,0,0,0,0,0,0,0,0,0,0,0,0,0,0,0,0,0,0,0,0,0,0,0,0,0,0,0,0,0,0,0,0,0,0,0,0]
[173,{"$f":"'CH4 from Abandoned Coal Mines'!D177","v":""},{"$f":"'CH4 from Abandoned Coal Mines'!H177","v":""},{"$f":"IFERROR(VALUE('CH4 from Abandoned Coal Mines'!J177), \"\")","v":""},{"$f":"IF('CH4 from Abandoned Coal Mines'!N177>0,'CH4 from Abandoned Coal Mines'!N177,'CH4 from Abandoned Coal Mines'!L177)","v":""},{"$f":"'CH4 from Abandoned Coal Mines'!P177","v":0},{"$f":"'CH4 from Abandoned Coal Mines'!R177","v":0},{"$f":"VLOOKUP(B176,'Abandoned Data'!$O$3:$V$187,6,FALSE)","v":""},{"$f":"VLOOKUP(B176,'Abandoned Data'!$O$3:$V$187,7,FALSE)","v":""},{"$f":"VLOOKUP(B176,'Abandoned Data'!$O$3:$V$187,8,FALSE)","v":""},"",null,null,null,null,null,null,null,null,null,null,null,null,173,0,0,0,0,0,0,0,0,0,0,0,0,0,0,0,0,0,0,0,0,0,0,0,0,0,0,0,0,0,0,0,0,0,0,0,0,0,0,0,0,0,0,0,0,0,0,0,0,0,0,0,0,0,0,0,0,0,0,0,0,0]
[174,{"$f":"'CH4 from Abandoned Coal Mines'!D178","v":""},{"$f":"'CH4 from Abandoned Coal Mines'!H178","v":""},{"$f":"IFERROR(VALUE('CH4 from Abandoned Coal Mines'!J178), \"\")","v":""},{"$f":"IF('CH4 from Abandoned Coal Mines'!N178>0,'CH4 from Abandoned Coal Mines'!N178,'CH4 from Abandoned Coal Mines'!L178)","v":""},{"$f":"'CH4 from Abandoned Coal Mines'!P178","v":0},{"$f":"'CH4 from Abandoned Coal Mines'!R178","v":0},{"$f":"VLOOKUP(B177,'Abandoned Data'!$O$3:$V$187,6,FALSE)","v":""},{"$f":"VLOOKUP(B177,'Abandoned Data'!$O$3:$V$187,7,FALSE)","v":""},{"$f":"VLOOKUP(B177,'Abandoned Data'!$O$3:$V$187,8,FALSE)","v":""},"",null,null,null,null,null,null,null,null,null,null,null,null,174,0,0,0,0,0,0,0,0,0,0,0,0,0,0,0,0,0,0,0,0,0,0,0,0,0,0,0,0,0,0,0,0,0,0,0,0,0,0,0,0,0,0,0,0,0,0,0,0,0,0,0,0,0,0,0,0,0,0,0,0,0]
[175,{"$f":"'CH4 from Abandoned Coal Mines'!D179","v":""},{"$f":"'CH4 from Abandoned Coal Mines'!H179","v":""},{"$f":"IFERROR(VALUE('CH4 from Abandoned Coal Mines'!J179), \"\")","v":""},{"$f":"IF('CH4 from Abandoned Coal Mines'!N179>0,'CH4 from Abandoned Coal Mines'!N179,'CH4 from Abandoned Coal Mines'!L179)","v":""},{"$f":"'CH4 from Abandoned Coal Mines'!P179","v":0},{"$f":"'CH4 from Abandoned Coal Mines'!R179","v":0},{"$f":"VLOOKUP(B178,'Abandoned Data'!$O$3:$V$187,6,FALSE)","v":""},{"$f":"VLOOKUP(B178,'Abandoned Data'!$O$3:$V$187,7,FALSE)","v":""},{"$f":"VLOOKUP(B178,'Abandoned Data'!$O$3:$V$187,8,FALSE)","v":""},"",null,null,null,null,null,null,null,null,null,null,null,null,175,0,0,0,0,0,0,0,0,0,0,0,0,0,0,0,0,0,0,0,0,0,0,0,0,0,0,0,0,0,0,0,0,0,0,0,0,0,0,0,0,0,0,0,0,0,0,0,0,0,0,0,0,0,0,0,0,0,0,0,0,0]
[176,{"$f":"'CH4 from Abandoned Coal Mines'!D180","v":""},{"$f":"'CH4 from Abandoned Coal Mines'!H180","v":""},{"$f":"IFERROR(VALUE('CH4 from Abandoned Coal Mines'!J180), \"\")","v":""},{"$f":"IF('CH4 from Abandoned Coal Mines'!N180>0,'CH4 from Abandoned Coal Mines'!N180,'CH4 from Abandoned Coal Mines'!L180)","v":""},{"$f":"'CH4 from Abandoned Coal Mines'!P180","v":0},{"$f":"'CH4 from Abandoned Coal Mines'!R180","v":0},{"$f":"VLOOKUP(B179,'Abandoned Data'!$O$3:$V$187,6,FALSE)","v":""},{"$f":"VLOOKUP(B179,'Abandoned Data'!$O$3:$V$187,7,FALSE)","v":""},{"$f":"VLOOKUP(B179,'Abandoned Data'!$O$3:$V$187,8,FALSE)","v":""},"",null,null,null,null,null,null,null,null,null,null,null,null,176,0,0,0,0,0,0,0,0,0,0,0,0,0,0,0,0,0,0,0,0,0,0,0,0,0,0,0,0,0,0,0,0,0,0,0,0,0,0,0,0,0,0,0,0,0,0,0,0,0,0,0,0,0,0,0,0,0,0,0,0,0]
[177,{"$f":"'CH4 from Abandoned Coal Mines'!D181","v":""},{"$f":"'CH4 from Abandoned Coal Mines'!H181","v":""},{"$f":"IFERROR(VALUE('CH4 from Abandoned Coal Mines'!J181), \"\")","v":""},{"$f":"IF('CH4 from Abandoned Coal Mines'!N181>0,'CH4 from Abandoned Coal Mines'!N181,'CH4 from Abandoned Coal Mines'!L181)","v":""},{"$f":"'CH4 from Abandoned Coal Mines'!P181","v":0},{"$f":"'CH4 from Abandoned Coal Mines'!R181","v":0},{"$f":"VLOOKUP(B180,'Abandoned Data'!$O$3:$V$187,6,FALSE)","v":""},{"$f":"VLOOKUP(B180,'Abandoned Data'!$O$3:$V$187,7,FALSE)","v":""},{"$f":"VLOOKUP(B180,'Abandoned Data'!$O$3:$V$187,8,FALSE)","v":""},"",null,null,null,null,null,null,null,null,null,null,null,null,177,0,0,0,0,0,0,0,0,0,0,0,0,0,0,0,0,0,0,0,0,0,0,0,0,0,0,0,0,0,0,0,0,0,0,0,0,0,0,0,0,0,0,0,0,0,0,0,0,0,0,0,0,0,0,0,0,0,0,0,0,0]
[178,{"$f":"'CH4 from Abandoned Coal Mines'!D182","v":""},{"$f":"'CH4 from Abandoned Coal Mines'!H182","v":""},{"$f":"IFERROR(VALUE('CH4 from Abandoned Coal Mines'!J182), \"\")","v":""},{"$f":"IF('CH4 from Abandoned Coal Mines'!N182>0,'CH4 from Abandoned Coal Mines'!N182,'CH4 from Abandoned Coal Mines'!L182)","v":""},{"$f":"'CH4 from Abandoned Coal Mines'!P182","v":0},{"$f":"'CH4 from Abandoned Coal Mines'!R182","v":0},{"$f":"VLOOKUP(B181,'Abandoned Data'!$O$3:$V$187,6,FALSE)","v":""},{"$f":"VLOOKUP(B181,'Abandoned Data'!$O$3:$V$187,7,FALSE)","v":""},{"$f":"VLOOKUP(B181,'Abandoned Data'!$O$3:$V$187,8,FALSE)","v":""},"",null,null,null,null,null,null,null,null,null,null,null,null,178,0,0,0,0,0,0,0,0,0,0,0,0,0,0,0,0,{"$f":"IF(ISERROR(IF($D181<AO$3,IF($E181=\"Venting\",(($H181*mmcfd_m3)*((1+$I181*(AO$3-$D181))^$J181)-$G181)*Gg_m3,IF($E181=\"Sealed\",((($H181*mmcfd_m3)*((1+$I181*(AO$3-$D181))^$J181)*(1-$F181)-$G181)*Gg_m3),IF($E181=\"Flooded\",(($H181*mmcfd_m3)*EXP(-0.6728*(AO$3-$D181))*Gg_m3),(($H181*mmcfd_m3)*((1+$I181*(AO$3-$D181))^$J181)-$G181)*Gg_m3+((($H181*mmcfd_m3)*((1+$I181*(AO$3-$D181))^$J181)*(1-0.8)-$G181)*Gg_m3)+(($H181*mmcfd_m3)*EXP(-0.6728*(AO$3-$D181))*Gg_m3)))),0)),0,IF($D181<AO$3,IF($E181=\"Venting\",(($H181*mmcfd_m3)*((1+$I181*(AO$3-$D181))^$J181)-$G181)*Gg_m3,IF($E181=\"Sealed\",((($H181*mmcfd_m3)*((1+$I181*(AO$3-$D181))^$J181)*(1-$F181)-$G181)*Gg_m3),IF($E181=\"Flooded\",(($H181*mmcfd_m3)*EXP(-0.6728*(AO$3-$D181))*Gg_m3),(($H181*mmcfd_m3)*((1+$I181*(AO$3-$D181))^$J181)-$G181)*Gg_m3+((($H181*mmcfd_m3)*((1+$I181*(AO$3-$D181))^$J181)*(1-0.8)-$G181)*Gg_m3)+(($H181*mmcfd_m3)*EXP(-0.6728*(AO$3-$D181))*Gg_m3)))),0))","v":0},0,0,0,0,0,0,0,0,0,0,0,0,0,0,0,0,0,0,0,0,0,0,0,0,0,0,0,0,0,0,0,0,0,0,0,0,0,0,0,0,0,0,0,0]
[179,{"$f":"'CH4 from Abandoned Coal Mines'!D183","v":""},{"$f":"'CH4 from Abandoned Coal Mines'!H183","v":""},{"$f":"IFERROR(VALUE('CH4 from Abandoned Coal Mines'!J183), \"\")","v":""},{"$f":"IF('CH4 from Abandoned Coal Mines'!N183>0,'CH4 from Abandoned Coal Mines'!N183,'CH4 from Abandoned Coal Mines'!L183)","v":""},{"$f":"'CH4 from Abandoned Coal Mines'!P183","v":0},{"$f":"'CH4 from Abandoned Coal Mines'!R183","v":0},{"$f":"VLOOKUP(B182,'Abandoned Data'!$O$3:$V$187,6,FALSE)","v":""},{"$f":"VLOOKUP(B182,'Abandoned Data'!$O$3:$V$187,7,FALSE)","v":""},{"$f":"VLOOKUP(B182,'Abandoned Data'!$O$3:$V$187,8,FALSE)","v":""},"",null,null,null,null,null,null,null,null,null,null,null,null,179,{"$f":"IF(ISERROR(IF($D182<Y$3,IF($E182=\"Venting\",(($H182*mmcfd_m3)*((1+$I182*(Y$3-$D182))^$J182)-$G182)*Gg_m3,IF($E182=\"Sealed\",((($H182*mmcfd_m3)*((1+$I182*(Y$3-$D182))^$J182)*(1-$F182)-$G182)*Gg_m3),IF($E182=\"Flooded\",(($H182*mmcfd_m3)*EXP(-0.6728*(Y$3-$D182))*Gg_m3),(($H182*mmcfd_m3)*((1+$I182*(Y$3-$D182))^$J182)-$G182)*Gg_m3+((($H182*mmcfd_m3)*((1+$I182*(Y$3-$D182))^$J182)*(1-0.8)-$G182)*Gg_m3)+(($H182*mmcfd_m3)*EXP(-0.6728*(Y$3-$D182))*Gg_m3)))),0)),0,IF($D182<Y$3,IF($E182=\"Venting\",(($H182*mmcfd_m3)*((1+$I182*(Y$3-$D182))^$J182)-$G182)*Gg_m3,IF($E182=\"Sealed\",((($H182*mmcfd_m3)*((1+$I182*(Y$3-$D182))^$J182)*(1-$F182)-$G182)*Gg_m3),IF($E182=\"Flooded\",(($H182*mmcfd_m3)*EXP(-0.6728*(Y$3-$D182))*Gg_m3),(($H182*mmcfd_m3)*((1+$I182*(Y$3-$D182))^$J182)-$G182)*Gg_m3+((($H182*mmcfd_m3)*((1+$I182*(Y$3-$D182))^$J182)*(1-0.8)-$G182)*Gg_m3)+(($H182*mmcfd_m3)*EXP(-0.6728*(Y$3-$D182))*Gg_m3)))),0))","v":0},0,0,0,0,0,0,0,0,0,0,0,0,0,0,0,0,0,0,0,0,0,0,0,0,0,0,0,0,0,0,0,0,0,0,0,0,0,0,0,0,0,0,0,0,0,0,0,0,0,0,0,0,0,0,0,0,0,0,0,0]
[180,{"$f":"'CH4 from Abandoned Coal Mines'!D184","v":""},{"$f":"'CH4 from Abandoned Coal Mines'!H184","v":""},{"$f":"IFERROR(VALUE('CH4 from Abandoned Coal Mines'!J184), \"\")","v":""},{"$f":"IF('CH4 from Abandoned Coal Mines'!N184>0,'CH4 from Abandoned Coal Mines'!N184,'CH4 from Abandoned Coal Mines'!L184)","v":""},{"$f":"'CH4 from Abandoned Coal Mines'!P184","v":0},{"$f":"'CH4 from Abandoned Coal Mines'!R184","v":0},{"$f":"VLOOKUP(B183,'Abandoned Data'!$O$3:$V$187,6,FALSE)","v":""},{"$f":"VLOOKUP(B183,'Abandoned Data'!$O$3:$V$187,7,FALSE)","v":""},{"$f":"VLOOKUP(B183,'Abandoned Data'!$O$3:$V$187,8,FALSE)","v":""},"",null,null,null,null,null,null,null,null,null,null,null,null,180,0,0,0,0,0,0,0,0,0,0,0,0,0,0,0,0,0,0,0,0,0,0,0,0,0,0,{"$f":"IF(ISERROR(IF($D183<AY$3,IF($E183=\"Venting\",(($H183*mmcfd_m3)*((1+$I183*(AY$3-$D183))^$J183)-$G183)*Gg_m3,IF($E183=\"Sealed\",((($H183*mmcfd_m3)*((1+$I183*(AY$3-$D183))^$J183)*(1-$F183)-$G183)*Gg_m3),IF($E183=\"Flooded\",(($H183*mmcfd_m3)*EXP(-0.6728*(AY$3-$D183))*Gg_m3),(($H183*mmcfd_m3)*((1+$I183*(AY$3-$D183))^$J183)-$G183)*Gg_m3+((($H183*mmcfd_m3)*((1+$I183*(AY$3-$D183))^$J183)*(1-0.8)-$G183)*Gg_m3)+(($H183*mmcfd_m3)*EXP(-0.6728*(AY$3-$D183))*Gg_m3)))),0)),0,IF($D183<AY$3,IF($E183=\"Venting\",(($H183*mmcfd_m3)*((1+$I183*(AY$3-$D183))^$J183)-$G183)*Gg_m3,IF($E183=\"Sealed\",((($H183*mmcfd_m3)*((1+$I183*(AY$3-$D183))^$J183)*(1-$F183)-$G183)*Gg_m3),IF($E183=\"Flooded\",(($H183*mmcfd_m3)*EXP(-0.6728*(AY$3-$D183))*Gg_m3),(($H183*mmcfd_m3)*((1+$I183*(AY$3-$D183))^$J183)-$G183)*Gg_m3+((($H183*mmcfd_m3)*((1+$I183*(AY$3-$D183))^$J183)*(1-0.8)-$G183)*Gg_m3)+(($H183*mmcfd_m3)*EXP(-0.6728*(AY$3-$D183))*Gg_m3)))),0))","v":0},0,0,0,0,0,0,0,0,0,0,0,0,0,0,0,0,0,0,0,0,0,0,0,0,0,0,0,0,0,0,0,0,0,0]
[181,{"$f":"'CH4 from Abandoned Coal Mines'!D185","v":""},{"$f":"'CH4 from Abandoned Coal Mines'!H185","v":""},{"$f":"IFERROR(VALUE('CH4 from Abandoned Coal Mines'!J185), \"\")","v":""},{"$f":"IF('CH4 from Abandoned Coal Mines'!N185>0,'CH4 from Abandoned Coal Mines'!N185,'CH4 from Abandoned Coal Mines'!L185)","v":""},{"$f":"'CH4 from Abandoned Coal Mines'!P185","v":0},{"$f":"'CH4 from Abandoned Coal Mines'!R185","v":0},{"$f":"VLOOKUP(B184,'Abandoned Data'!$O$3:$V$187,6,FALSE)","v":""},{"$f":"VLOOKUP(B184,'Abandoned Data'!$O$3:$V$187,7,FALSE)","v":""},{"$f":"VLOOKUP(B184,'Abandoned Data'!$O$3:$V$187,8,FALSE)","v":""},"",null,null,null,null,null,null,null,null,null,null,null,null,181,0,0,0,0,0,0,0,0,0,0,0,0,0,0,0,0,0,0,0,0,0,0,0,0,0,0,0,0,0,0,0,0,0,0,0,0,0,0,0,0,0,0,0,0,0,0,0,{"$f":"IF(ISERROR(IF($D184<BT$3,IF($E184=\"Venting\",(($H184*mmcfd_m3)*((1+$I184*(BT$3-$D184))^$J184)-$G184)*Gg_m3,IF($E184=\"Sealed\",((($H184*mmcfd_m3)*((1+$I184*(BT$3-$D184))^$J184)*(1-$F184)-$G184)*Gg_m3),IF($E184=\"Flooded\",(($H184*mmcfd_m3)*EXP(-0.6728*(BT$3-$D184))*Gg_m3),(($H184*mmcfd_m3)*((1+$I184*(BT$3-$D184))^$J184)-$G184)*Gg_m3+((($H184*mmcfd_m3)*((1+$I184*(BT$3-$D184))^$J184)*(1-0.8)-$G184)*Gg_m3)+(($H184*mmcfd_m3)*EXP(-0.6728*(BT$3-$D184))*Gg_m3)))),0)),0,IF($D184<BT$3,IF($E184=\"Venting\",(($H184*mmcfd_m3)*((1+$I184*(BT$3-$D184))^$J184)-$G184)*Gg_m3,IF($E184=\"Sealed\",((($H184*mmcfd_m3)*((1+$I184*(BT$3-$D184))^$J184)*(1-$F184)-$G184)*Gg_m3),IF($E184=\"Flooded\",(($H184*mmcfd_m3)*EXP(-0.6728*(BT$3-$D184))*Gg_m3),(($H184*mmcfd_m3)*((1+$I184*(BT$3-$D184))^$J184)-$G184)*Gg_m3+((($H184*mmcfd_m3)*((1+$I184*(BT$3-$D184))^$J184)*(1-0.8)-$G184)*Gg_m3)+(($H184*mmcfd_m3)*EXP(-0.6728*(BT$3-$D184))*Gg_m3)))),0))","v":0},0,0,0,0,0,0,0,0,0,0,0,0,0]
[182,{"$f":"'CH4 from Abandoned Coal Mines'!D186","v":""},{"$f":"'CH4 from Abandoned Coal Mines'!H186","v":""},{"$f":"IFERROR(VALUE('CH4 from Abandoned Coal Mines'!J186), \"\")","v":""},{"$f":"IF('CH4 from Abandoned Coal Mines'!N186>0,'CH4 from Abandoned Coal Mines'!N186,'CH4 from Abandoned Coal Mines'!L186)","v":""},{"$f":"'CH4 from Abandoned Coal Mines'!P186","v":0},{"$f":"'CH4 from Abandoned Coal Mines'!R186","v":0},{"$f":"VLOOKUP(B185,'Abandoned Data'!$O$3:$V$187,6,FALSE)","v":""},{"$f":"VLOOKUP(B185,'Abandoned Data'!$O$3:$V$187,7,FALSE)","v":""},{"$f":"VLOOKUP(B185,'Abandoned Data'!$O$3:$V$187,8,FALSE)","v":""},"",null,null,null,null,null,null,null,null,null,null,null,null,182,0,0,0,0,0,0,0,0,0,0,0,0,0,0,0,0,0,0,0,0,0,0,0,0,0,0,0,0,0,0,0,0,0,0,0,0,0,0,0,0,0,0,0,0,0,0,0,0,0,0,0,0,0,0,0,0,0,0,0,0,0]
[183,{"$f":"'CH4 from Abandoned Coal Mines'!D187","v":""},{"$f":"'CH4 from Abandoned Coal Mines'!H187","v":""},{"$f":"IFERROR(VALUE('CH4 from Abandoned Coal Mines'!J187), \"\")","v":""},{"$f":"IF('CH4 from Abandoned Coal Mines'!N187>0,'CH4 from Abandoned Coal Mines'!N187,'CH4 from Abandoned Coal Mines'!L187)","v":""},{"$f":"'CH4 from Abandoned Coal Mines'!P187","v":0},{"$f":"'CH4 from Abandoned Coal Mines'!R187","v":0},{"$f":"VLOOKUP(B186,'Abandoned Data'!$O$3:$V$187,6,FALSE)","v":""},{"$f":"VLOOKUP(B186,'Abandoned Data'!$O$3:$V$187,7,FALSE)","v":""},{"$f":"VLOOKUP(B186,'Abandoned Data'!$O$3:$V$187,8,FALSE)","v":""},"",null,null,null,null,null,null,null,null,null,null,null,null,183,0,0,0,0,0,0,0,0,0,0,0,0,0,0,0,0,0,0,0,0,0,0,0,0,0,0,0,0,0,0,0,0,0,0,0,{"$f":"IF(ISERROR(IF($D186<BH$3,IF($E186=\"Venting\",(($H186*mmcfd_m3)*((1+$I186*(BH$3-$D186))^$J186)-$G186)*Gg_m3,IF($E186=\"Sealed\",((($H186*mmcfd_m3)*((1+$I186*(BH$3-$D186))^$J186)*(1-$F186)-$G186)*Gg_m3),IF($E186=\"Flooded\",(($H186*mmcfd_m3)*EXP(-0.6728*(BH$3-$D186))*Gg_m3),(($H186*mmcfd_m3)*((1+$I186*(BH$3-$D186))^$J186)-$G186)*Gg_m3+((($H186*mmcfd_m3)*((1+$I186*(BH$3-$D186))^$J186)*(1-0.8)-$G186)*Gg_m3)+(($H186*mmcfd_m3)*EXP(-0.6728*(BH$3-$D186))*Gg_m3)))),0)),0,IF($D186<BH$3,IF($E186=\"Venting\",(($H186*mmcfd_m3)*((1+$I186*(BH$3-$D186))^$J186)-$G186)*Gg_m3,IF($E186=\"Sealed\",((($H186*mmcfd_m3)*((1+$I186*(BH$3-$D186))^$J186)*(1-$F186)-$G186)*Gg_m3),IF($E186=\"Flooded\",(($H186*mmcfd_m3)*EXP(-0.6728*(BH$3-$D186))*Gg_m3),(($H186*mmcfd_m3)*((1+$I186*(BH$3-$D186))^$J186)-$G186)*Gg_m3+((($H186*mmcfd_m3)*((1+$I186*(BH$3-$D186))^$J186)*(1-0.8)-$G186)*Gg_m3)+(($H186*mmcfd_m3)*EXP(-0.6728*(BH$3-$D186))*Gg_m3)))),0))","v":0},0,0,0,0,0,0,0,0,0,0,0,0,0,0,0,0,0,0,0,0,0,0,0,0,0]
[184,{"$f":"'CH4 from Abandoned Coal Mines'!D188","v":""},{"$f":"'CH4 from Abandoned Coal Mines'!H188","v":""},{"$f":"IFERROR(VALUE('CH4 from Abandoned Coal Mines'!J188), \"\")","v":""},{"$f":"IF('CH4 from Abandoned Coal Mines'!N188>0,'CH4 from Abandoned Coal Mines'!N188,'CH4 from Abandoned Coal Mines'!L188)","v":""},{"$f":"'CH4 from Abandoned Coal Mines'!P188","v":0},{"$f":"'CH4 from Abandoned Coal Mines'!R188","v":0},{"$f":"VLOOKUP(B187,'Abandoned Data'!$O$3:$V$187,6,FALSE)","v":""},{"$f":"VLOOKUP(B187,'Abandoned Data'!$O$3:$V$187,7,FALSE)","v":""},{"$f":"VLOOKUP(B187,'Abandoned Data'!$O$3:$V$187,8,FALSE)","v":""},"",null,null,null,null,null,null,null,null,null,null,null,null,184,0,0,0,0,0,0,0,0,0,0,0,0,0,0,0,0,0,0,0,0,0,0,0,0,0,0,0,0,0,0,0,0,0,0,0,0,0,0,0,0,0,0,0,0,0,0,0,0,0,0,0,0,0,0,0,0,0,0,0,0,0]
[185,{"$f":"'CH4 from Abandoned Coal Mines'!D189","v":""},{"$f":"'CH4 from Abandoned Coal Mines'!H189","v":""},{"$f":"IFERROR(VALUE('CH4 from Abandoned Coal Mines'!J189), \"\")","v":""},{"$f":"IF('CH4 from Abandoned Coal Mines'!N189>0,'CH4 from Abandoned Coal Mines'!N189,'CH4 from Abandoned Coal Mines'!L189)","v":""},{"$f":"'CH4 from Abandoned Coal Mines'!P189","v":0},{"$f":"'CH4 from Abandoned Coal Mines'!R189","v":0},{"$f":"VLOOKUP(B188,'Abandoned Data'!$O$3:$V$187,6,FALSE)","v":""},{"$f":"VLOOKUP(B188,'Abandoned Data'!$O$3:$V$187,7,FALSE)","v":""},{"$f":"VLOOKUP(B188,'Abandoned Data'!$O$3:$V$187,8,FALSE)","v":""},"",null,null,null,null,null,null,null,null,null,null,null,null,185,0,0,0,0,0,0,0,0,0,0,0,0,0,0,0,0,0,0,0,0,0,0,0,0,0,0,0,0,0,0,0,0,0,0,0,0,0,0,0,0,0,0,0,0,0,0,0,0,0,0,0,0,0,0,0,0,0,0,0,0,0]
[]
[]
[]
[]
[]
[]
[]
[]
[]
["Additional Data inputs and Emissions",null,null,null,null,null,null,null,null,null,null,null,null,null,null,null,null,"Default Distribution Table for Unknowns",null,null,null,null,null,"Emissions By Year (Gg) for Added Mines"]
[]
["Mine Listed","Mine Name","County","Year Abandoned","Status","Percent Sealed","Methane Recovered (m3/yr)","Active Emiss. (mmcfd) ","Coal Rank","Constant A","Constant B","Emissions",null,"Sealed Emissions","Vented Emissions","Flooded Emissions","Unknowns",null,null,null,null,null,null,null,1990,1991,1992,1993,1994,1995,1996,1997,1998,1999,2000,2001,2002,2003,2004,2005,2006,2007,2008,2009,2010,2011,2012,2013,2014,2015,2016,2017,2018,2019,2020,2021,2022,2023,2024,2025]
[1,{"$f":"'CH4 from Abandoned Coal Mines'!D209","v":0},{"$f":"'CH4 from Abandoned Coal Mines'!F209","v":0},{"$f":"'CH4 from Abandoned Coal Mines'!J209","v":0},{"$f":"'CH4 from Abandoned Coal Mines'!L209","v":0},{"$f":"1-'CH4 from Abandoned Coal Mines'!N209","v":1},{"$f":"'CH4 from Abandoned Coal Mines'!R209","v":0},{"$f":"'CH4 from Abandoned Coal Mines'!P209","v":0},{"$f":"'CH4 from Abandoned Coal Mines'!H209","v":0},{"$f":"IF(ISERROR(VLOOKUP(I201,$M$205:$O$207,2,FALSE)),0,VLOOKUP(I201,$M$205:$O$207,2,FALSE))","v":0},{"$f":"IF(ISERROR(VLOOKUP(I201,$M$205:$O$207,3,FALSE)),0,VLOOKUP(I201,$M$205:$O$207,3,FALSE))","v":0},{"$f":"IF(E201=\"Venting\",((H201*mmcfd_m3)*((1+J201*($AM$3-D201))^K201)-G201)*Gg_m3,IF(E201=\"Sealed\",(((H201*mmcfd_m3)*((1+J201*($AM$3-D201))^K201)*F201-G201)*Gg_m3),IF(E201=\"Flooded\",((H201*mmcfd_m3)*EXP(-0.6728*($AM$3-D201))*Gg_m3),((H201*mmcfd_m3)*((1+J201*($AM$3-D201))^K201)-G201)*Gg_m3+(((H201*mmcfd_m3)*((1+J201*($AM$3-D201))^K201)*F201-G201)*Gg_m3)+((H201*mmcfd_m3)*EXP(-0.6728*($AM$3-D201))*Gg_m3))))","v":0},"Subtotal",{"$f":"SUMIF($E$201:$E$250,\"Sealed\",$L$201:$L$250)","v":0},{"$f":"SUMIF($E$201:$E$250,\"Venting\",$L$201:$L$250)","v":0},{"$f":"SUMIF($E$201:$E$250,\"Flooded\",$L$201:$L$250)","v":0},{"$f":"SUMIF($E$201:$E$250,\"Unknown\",$L$201:$L$250)","v":0},null,null,null,null,null,null,1,{"$f":"IF(D201<$Y$200,IF(E201=\"Venting\",((H201*mmcfd_m3)*((1+J201*($Y$200-D201))^K201)-G201)*Gg_m3,IF(E201=\"Sealed\",(((H201*mmcfd_m3)*((1+J201*($Y$200-D201))^K201)*F201-G201)*Gg_m3),IF(E201=\"Flooded\",((H201*mmcfd_m3)*EXP(-0.6728*($Y$200-D201))*Gg_m3),((H201*mmcfd_m3)*((1+J201*($Y$200-D201))^K201)-G201)*Gg_m3+(((H201*mmcfd_m3)*((1+J201*($Y$200-D201))^K201)*F201-G201)*Gg_m3)+((H201*mmcfd_m3)*EXP(-0.6728*($Y$200-D201))*Gg_m3)))),0)","v":0},{"$f":"IF(D201<$Z$200,IF(E201=\"Venting\",((H201*mmcfd_m3)*((1+J201*($Z$200-D201))^K201)-G201)*Gg_m3,IF(E201=\"Sealed\",(((H201*mmcfd_m3)*((1+J201*($Z$200-D201))^K201)*F201-G201)*Gg_m3),IF(E201=\"Flooded\",((H201*mmcfd_m3)*EXP(-0.6728*($Z$200-D201))*Gg_m3),((H201*mmcfd_m3)*((1+J201*($Z$200-D201))^K201)-G201)*Gg_m3+(((H201*mmcfd_m3)*((1+J201*($Z$200-D201))^K201)*F201-G201)*Gg_m3)+((H201*mmcfd_m3)*EXP(-0.6728*($Z$200-D201))*Gg_m3)))),0)","v":0},{"$f":"IF(D201<$AA$200,IF(E201=\"Venting\",((H201*mmcfd_m3)*((1+J201*($AA$200-D201))^K201)-G201)*Gg_m3,IF(E201=\"Sealed\",(((H201*mmcfd_m3)*((1+J201*($AA$200-D201))^K201)*F201-G201)*Gg_m3),IF(E201=\"Flooded\",((H201*mmcfd_m3)*EXP(-0.6728*($AA$200-D201))*Gg_m3),((H201*mmcfd_m3)*((1+J201*($AA$200-D201))^K201)-G201)*Gg_m3+(((H201*mmcfd_m3)*((1+J201*($AA$200-D201))^K201)*F201-G201)*Gg_m3)+((H201*mmcfd_m3)*EXP(-0.6728*($AA$200-D201))*Gg_m3)))),0)","v":0},{"$f":"IF(D201<$AB$200,IF(E201=\"Venting\",((H201*mmcfd_m3)*((1+J201*($AB$200-D201))^K201)-G201)*Gg_m3,IF(E201=\"Sealed\",(((H201*mmcfd_m3)*((1+J201*($AB$200-D201))^K201)*F201-G201)*Gg_m3),IF(E201=\"Flooded\",((H201*mmcfd_m3)*EXP(-0.6728*($AB$200-D201))*Gg_m3),((H201*mmcfd_m3)*((1+J201*($AB$200-D201))^K201)-G201)*Gg_m3+(((H201*mmcfd_m3)*((1+J201*($AB$200-D201))^K201)*F201-G201)*Gg_m3)+((H201*mmcfd_m3)*EXP(-0.6728*($AB$200-D201))*Gg_m3)))),0)","v":0},{"$f":"IF(D201<$AC$200,IF(E201=\"Venting\",((H201*mmcfd_m3)*((1+J201*($AC$200-D201))^K201)-G201)*Gg_m3,IF(E201=\"Sealed\",(((H201*mmcfd_m3)*((1+J201*($AC$200-D201))^K201)*F201-G201)*Gg_m3),IF(E201=\"Flooded\",((H201*mmcfd_m3)*EXP(-0.6728*($AC$200-D201))*Gg_m3),((H201*mmcfd_m3)*((1+J201*($AC$200-D201))^K201)-G201)*Gg_m3+(((H201*mmcfd_m3)*((1+J201*($AC$200-D201))^K201)*F201-G201)*Gg_m3)+((H201*mmcfd_m3)*EXP(-0.6728*($AC$200-D201))*Gg_m3)))),0)","v":0},{"$f":"IF(D201<$AD$200,IF(E201=\"Venting\",((H201*mmcfd_m3)*((1+J201*($AD$200-D201))^K201)-G201)*Gg_m3,IF(E201=\"Sealed\",(((H201*mmcfd_m3)*((1+J201*($AD$200-D201))^K201)*F201-G201)*Gg_m3),IF(E201=\"Flooded\",((H201*mmcfd_m3)*EXP(-0.6728*($AD$200-D201))*Gg_m3),((H201*mmcfd_m3)*((1+J201*($AD$200-D201))^K201)-G201)*Gg_m3+(((H201*mmcfd_m3)*((1+J201*($AD$200-D201))^K201)*F201-G201)*Gg_m3)+((H201*mmcfd_m3)*EXP(-0.6728*($AD$200-D201))*Gg_m3)))),0)","v":0},{"$f":"IF(D201<$AE$200,IF(E201=\"Venting\",((H201*mmcfd_m3)*((1+J201*($AE$200-D201))^K201)-G201)*Gg_m3,IF(E201=\"Sealed\",(((H201*mmcfd_m3)*((1+J201*($AE$200-D201))^K201)*F201-G201)*Gg_m3),IF(E201=\"Flooded\",((H201*mmcfd_m3)*EXP(-0.6728*($AE$200-D201))*Gg_m3),((H201*mmcfd_m3)*((1+J201*($AE$200-D201))^K201)-G201)*Gg_m3+(((H201*mmcfd_m3)*((1+J201*($AE$200-D201))^K201)*F201-G201)*Gg_m3)+((H201*mmcfd_m3)*EXP(-0.6728*($AE$200-D201))*Gg_m3)))),0)","v":0},{"$f":"IF(D201<$AF$200,IF(E201=\"Venting\",((H201*mmcfd_m3)*((1+J201*($AF$200-D201))^K201)-G201)*Gg_m3,IF(E201=\"Sealed\",(((H201*mmcfd_m3)*((1+J201*($AF$200-D201))^K201)*F201-G201)*Gg_m3),IF(E201=\"Flooded\",((H201*mmcfd_m3)*EXP(-0.6728*($AF$200-D201))*Gg_m3),((H201*mmcfd_m3)*((1+J201*($AF$200-D201))^K201)-G201)*Gg_m3+(((H201*mmcfd_m3)*((1+J201*($AF$200-D201))^K201)*F201-G201)*Gg_m3)+((H201*mmcfd_m3)*EXP(-0.6728*($AF$200-D201))*Gg_m3)))),0)","v":0},{"$f":"IF(D201<$AG$200,IF(E201=\"Venting\",((H201*mmcfd_m3)*((1+J201*($AG$200-D201))^K201)-G201)*Gg_m3,IF(E201=\"Sealed\",(((H201*mmcfd_m3)*((1+J201*($AG$200-D201))^K201)*F201-G201)*Gg_m3),IF(E201=\"Flooded\",((H201*mmcfd_m3)*EXP(-0.6728*($AG$200-D201))*Gg_m3),((H201*mmcfd_m3)*((1+J201*($AG$200-D201))^K201)-G201)*Gg_m3+(((H201*mmcfd_m3)*((1+J201*($AG$200-D201))^K201)*F201-G201)*Gg_m3)+((H201*mmcfd_m3)*EXP(-0.6728*($AG$200-D201))*Gg_m3)))),0)","v":0},{"$f":"IF(D201<$AH$200,IF(E201=\"Venting\",((H201*mmcfd_m3)*((1+J201*($AH$200-D201))^K201)-G201)*Gg_m3,IF(E201=\"Sealed\",(((H201*mmcfd_m3)*((1+J201*($AH$200-D201))^K201)*F201-G201)*Gg_m3),IF(E201=\"Flooded\",((H201*mmcfd_m3)*EXP(-0.6728*($AH$200-D201))*Gg_m3),((H201*mmcfd_m3)*((1+J201*($AH$200-D201))^K201)-G201)*Gg_m3+(((H201*mmcfd_m3)*((1+J201*($AH$200-D201))^K201)*F201-G201)*Gg_m3)+((H201*mmcfd_m3)*EXP(-0.6728*($AH$200-D201))*Gg_m3)))),0)","v":0},{"$f":"IF(D201<$AI$200,IF(E201=\"Venting\",((H201*mmcfd_m3)*((1+J201*($AI$200-D201))^K201)-G201)*Gg_m3,IF(E201=\"Sealed\",(((H201*mmcfd_m3)*((1+J201*($AI$200-D201))^K201)*F201-G201)*Gg_m3),IF(E201=\"Flooded\",((H201*mmcfd_m3)*EXP(-0.6728*($AI$200-D201))*Gg_m3),((H201*mmcfd_m3)*((1+J201*($AI$200-D201))^K201)-G201)*Gg_m3+(((H201*mmcfd_m3)*((1+J201*($AI$200-D201))^K201)*F201-G201)*Gg_m3)+((H201*mmcfd_m3)*EXP(-0.6728*($AI$200-D201))*Gg_m3)))),0)","v":0},{"$f":"IF(D201<$AJ$200,IF(E201=\"Venting\",((H201*mmcfd_m3)*((1+J201*($AJ$200-D201))^K201)-G201)*Gg_m3,IF(E201=\"Sealed\",(((H201*mmcfd_m3)*((1+J201*($AJ$200-D201))^K201)*F201-G201)*Gg_m3),IF(E201=\"Flooded\",((H201*mmcfd_m3)*EXP(-0.6728*($AJ$200-D201))*Gg_m3),((H201*mmcfd_m3)*((1+J201*($AJ$200-D201))^K201)-G201)*Gg_m3+(((H201*mmcfd_m3)*((1+J201*($AJ$200-D201))^K201)*F201-G201)*Gg_m3)+((H201*mmcfd_m3)*EXP(-0.6728*($AJ$200-D201))*Gg_m3)))),0)","v":0},{"$f":"IF(D201<$AK$200,IF(E201=\"Venting\",((H201*mmcfd_m3)*((1+J201*($AK$200-D201))^K201)-G201)*Gg_m3,IF(E201=\"Sealed\",(((H201*mmcfd_m3)*((1+J201*($AK$200-D201))^K201)*F201-G201)*Gg_m3),IF(E201=\"Flooded\",((H201*mmcfd_m3)*EXP(-0.6728*($AK$200-D201))*Gg_m3),((H201*mmcfd_m3)*((1+J201*($AK$200-D201))^K201)-G201)*Gg_m3+(((H201*mmcfd_m3)*((1+J201*($AK$200-D201))^K201)*F201-G201)*Gg_m3)+((H201*mmcfd_m3)*EXP(-0.6728*($AK$200-D201))*Gg_m3)))),0)","v":0},{"$f":"IF(D201<$AL$200,IF(E201=\"Venting\",((H201*mmcfd_m3)*((1+J201*($AL$200-D201))^K201)-G201)*Gg_m3,IF(E201=\"Sealed\",(((H201*mmcfd_m3)*((1+J201*($AL$200-D201))^K201)*F201-G201)*Gg_m3),IF(E201=\"Flooded\",((H201*mmcfd_m3)*EXP(-0.6728*($AL$200-D201))*Gg_m3),((H201*mmcfd_m3)*((1+J201*($AL$200-D201))^K201)-G201)*Gg_m3+(((H201*mmcfd_m3)*((1+J201*($AL$200-D201))^K201)*F201-G201)*Gg_m3)+((H201*mmcfd_m3)*EXP(-0.6728*($AL$200-D201))*Gg_m3)))),0)","v":0},{"$f":"IF(D201<$AM$200,IF(E201=\"Venting\",((H201*mmcfd_m3)*((1+J201*($AM$200-D201))^K201)-G201)*Gg_m3,IF(E201=\"Sealed\",(((H201*mmcfd_m3)*((1+J201*($AM$200-D201))^K201)*F201-G201)*Gg_m3),IF(E201=\"Flooded\",((H201*mmcfd_m3)*EXP(-0.6728*($AM$200-D201))*Gg_m3),((H201*mmcfd_m3)*((1+J201*($AM$200-D201))^K201)-G201)*Gg_m3+(((H201*mmcfd_m3)*((1+J201*($AM$200-D201))^K201)*F201-G201)*Gg_m3)+((H201*mmcfd_m3)*EXP(-0.6728*($AM$200-D201))*Gg_m3)))),0)","v":0},{"$f":"IF(D201<$AN$200,IF(E201=\"Venting\",((H201*mmcfd_m3)*((1+J201*($AN$200-D201))^K201)-G201)*Gg_m3,IF(E201=\"Sealed\",(((H201*mmcfd_m3)*((1+J201*($AN$200-D201))^K201)*F201-G201)*Gg_m3),IF(E201=\"Flooded\",((H201*mmcfd_m3)*EXP(-0.6728*($AN$200-D201))*Gg_m3),((H201*mmcfd_m3)*((1+J201*($AN$200-D201))^K201)-G201)*Gg_m3+(((H201*mmcfd_m3)*((1+J201*($AN$200-D201))^K201)*F201-G201)*Gg_m3)+((H201*mmcfd_m3)*EXP(-0.6728*($AN$200-D201))*Gg_m3)))),0)","v":0},{"$f":"IF(D201<$AO$200,IF(E201=\"Venting\",((H201*mmcfd_m3)*((1+J201*($AO$200-D201))^K201)-G201)*Gg_m3,IF(E201=\"Sealed\",(((H201*mmcfd_m3)*((1+J201*($AO$200-D201))^K201)*F201-G201)*Gg_m3),IF(E201=\"Flooded\",((H201*mmcfd_m3)*EXP(-0.6728*($AO$200-D201))*Gg_m3),((H201*mmcfd_m3)*((1+J201*($AO$200-D201))^K201)-G201)*Gg_m3+(((H201*mmcfd_m3)*((1+J201*($AO$200-D201))^K201)*F201-G201)*Gg_m3)+((H201*mmcfd_m3)*EXP(-0.6728*($AO$200-D201))*Gg_m3)))),0)","v":0},{"$f":"IF(D201<$AP$200,IF(E201=\"Venting\",((H201*mmcfd_m3)*((1+J201*($AP$200-D201))^K201)-G201)*Gg_m3,IF(E201=\"Sealed\",(((H201*mmcfd_m3)*((1+J201*($AP$200-D201))^K201)*F201-G201)*Gg_m3),IF(E201=\"Flooded\",((H201*mmcfd_m3)*EXP(-0.6728*($AP$200-D201))*Gg_m3),((H201*mmcfd_m3)*((1+J201*($AP$200-D201))^K201)-G201)*Gg_m3+(((H201*mmcfd_m3)*((1+J201*($AP$200-D201))^K201)*F201-G201)*Gg_m3)+((H201*mmcfd_m3)*EXP(-0.6728*($AP$200-D201))*Gg_m3)))),0)","v":0},{"$f":"IF(D201<$AQ$200,IF(E201=\"Venting\",((H201*mmcfd_m3)*((1+J201*($AQ$200-D201))^K201)-G201)*Gg_m3,IF(E201=\"Sealed\",(((H201*mmcfd_m3)*((1+J201*($AQ$200-D201))^K201)*F201-G201)*Gg_m3),IF(E201=\"Flooded\",((H201*mmcfd_m3)*EXP(-0.6728*($AQ$200-D201))*Gg_m3),((H201*mmcfd_m3)*((1+J201*($AQ$200-D201))^K201)-G201)*Gg_m3+(((H201*mmcfd_m3)*((1+J201*($AQ$200-D201))^K201)*F201-G201)*Gg_m3)+((H201*mmcfd_m3)*EXP(-0.6728*($AQ$200-D201))*Gg_m3)))),0)","v":0},{"$f":"IF(D201<$AR$200,IF(E201=\"Venting\",((H201*mmcfd_m3)*((1+J201*($AR$200-D201))^K201)-G201)*Gg_m3,IF(E201=\"Sealed\",(((H201*mmcfd_m3)*((1+J201*($AR$200-D201))^K201)*F201-G201)*Gg_m3),IF(E201=\"Flooded\",((H201*mmcfd_m3)*EXP(-0.6728*($AR$200-D201))*Gg_m3),((H201*mmcfd_m3)*((1+J201*($AR$200-D201))^K201)-G201)*Gg_m3+(((H201*mmcfd_m3)*((1+J201*($AR$200-D201))^K201)*F201-G201)*Gg_m3)+((H201*mmcfd_m3)*EXP(-0.6728*($AR$200-D201))*Gg_m3)))),0)","v":0},{"$f":"IF(D201<$AS$200,IF(E201=\"Venting\",((H201*mmcfd_m3)*((1+J201*($AS$200-D201))^K201)-G201)*Gg_m3,IF(E201=\"Sealed\",(((H201*mmcfd_m3)*((1+J201*($AS$200-D201))^K201)*F201-G201)*Gg_m3),IF(E201=\"Flooded\",((H201*mmcfd_m3)*EXP(-0.6728*($AS$200-D201))*Gg_m3),((H201*mmcfd_m3)*((1+J201*($AS$200-D201))^K201)-G201)*Gg_m3+(((H201*mmcfd_m3)*((1+J201*($AS$200-D201))^K201)*F201-G201)*Gg_m3)+((H201*mmcfd_m3)*EXP(-0.6728*($AS$200-D201))*Gg_m3)))),0)","v":0},{"$f":"IF(D201<$AT$200,IF(E201=\"Venting\",((H201*mmcfd_m3)*((1+J201*($AT$200-D201))^K201)-G201)*Gg_m3,IF(E201=\"Sealed\",(((H201*mmcfd_m3)*((1+J201*($AT$200-D201))^K201)*F201-G201)*Gg_m3),IF(E201=\"Flooded\",((H201*mmcfd_m3)*EXP(-0.6728*($AT$200-D201))*Gg_m3),((H201*mmcfd_m3)*((1+J201*($AT$200-D201))^K201)-G201)*Gg_m3+(((H201*mmcfd_m3)*((1+J201*($AT$200-D201))^K201)*F201-G201)*Gg_m3)+((H201*mmcfd_m3)*EXP(-0.6728*($AT$200-D201))*Gg_m3)))),0)","v":0},{"$f":"IF(D201<$AU$200,IF(E201=\"Venting\",((H201*mmcfd_m3)*((1+J201*($AU$200-D201))^K201)-G201)*Gg_m3,IF(E201=\"Sealed\",(((H201*mmcfd_m3)*((1+J201*($AU$200-D201))^K201)*F201-G201)*Gg_m3),IF(E201=\"Flooded\",((H201*mmcfd_m3)*EXP(-0.6728*($AU$200-D201))*Gg_m3),((H201*mmcfd_m3)*((1+J201*($AU$200-D201))^K201)-G201)*Gg_m3+(((H201*mmcfd_m3)*((1+J201*($AU$200-D201))^K201)*F201-G201)*Gg_m3)+((H201*mmcfd_m3)*EXP(-0.6728*($AU$200-D201))*Gg_m3)))),0)","v":0},{"$f":"IF(D201<$AV$200,IF(E201=\"Venting\",((H201*mmcfd_m3)*((1+J201*($AV$200-D201))^K201)-G201)*Gg_m3,IF(E201=\"Sealed\",(((H201*mmcfd_m3)*((1+J201*($AV$200-D201))^K201)*F201-G201)*Gg_m3),IF(E201=\"Flooded\",((H201*mmcfd_m3)*EXP(-0.6728*($AV$200-D201))*Gg_m3),((H201*mmcfd_m3)*((1+J201*($AV$200-D201))^K201)-G201)*Gg_m3+(((H201*mmcfd_m3)*((1+J201*($AV$200-D201))^K201)*F201-G201)*Gg_m3)+((H201*mmcfd_m3)*EXP(-0.6728*($AV$200-D201))*Gg_m3)))),0)","v":0},{"$f":"IF(D201<$AW$200,IF(E201=\"Venting\",((H201*mmcfd_m3)*((1+J201*($AW$200-D201))^K201)-G201)*Gg_m3,IF(E201=\"Sealed\",(((H201*mmcfd_m3)*((1+J201*($AW$200-D201))^K201)*F201-G201)*Gg_m3),IF(E201=\"Flooded\",((H201*mmcfd_m3)*EXP(-0.6728*($AW$200-D201))*Gg_m3),((H201*mmcfd_m3)*((1+J201*($AW$200-D201))^K201)-G201)*Gg_m3+(((H201*mmcfd_m3)*((1+J201*($AW$200-D201))^K201)*F201-G201)*Gg_m3)+((H201*mmcfd_m3)*EXP(-0.6728*($AW$200-D201))*Gg_m3)))),0)","v":0},{"$f":"IF(D201<$AX$200,IF(E201=\"Venting\",((H201*mmcfd_m3)*((1+J201*($AX$200-D201))^K201)-G201)*Gg_m3,IF(E201=\"Sealed\",(((H201*mmcfd_m3)*((1+J201*($AX$200-D201))^K201)*F201-G201)*Gg_m3),IF(E201=\"Flooded\",((H201*mmcfd_m3)*EXP(-0.6728*($AX$200-D201))*Gg_m3),((H201*mmcfd_m3)*((1+J201*($AX$200-D201))^K201)-G201)*Gg_m3+(((H201*mmcfd_m3)*((1+J201*($AX$200-D201))^K201)*F201-G201)*Gg_m3)+((H201*mmcfd_m3)*EXP(-0.6728*($AX$200-D201))*Gg_m3)))),0)","v":0},{"$f":"IF(D201<$AY$200,IF(E201=\"Venting\",((H201*mmcfd_m3)*((1+J201*($AY$200-D201))^K201)-G201)*Gg_m3,IF(E201=\"Sealed\",(((H201*mmcfd_m3)*((1+J201*($AY$200-D201))^K201)*F201-G201)*Gg_m3),IF(E201=\"Flooded\",((H201*mmcfd_m3)*EXP(-0.6728*($AY$200-D201))*Gg_m3),((H201*mmcfd_m3)*((1+J201*($AY$200-D201))^K201)-G201)*Gg_m3+(((H201*mmcfd_m3)*((1+J201*($AY$200-D201))^K201)*F201-G201)*Gg_m3)+((H201*mmcfd_m3)*EXP(-0.6728*($AY$200-D201))*Gg_m3)))),0)","v":0},{"$f":"IF(D201<$AZ$200,IF(E201=\"Venting\",((H201*mmcfd_m3)*((1+J201*($AZ$200-D201))^K201)-G201)*Gg_m3,IF(E201=\"Sealed\",(((H201*mmcfd_m3)*((1+J201*($AZ$200-D201))^K201)*F201-G201)*Gg_m3),IF(E201=\"Flooded\",((H201*mmcfd_m3)*EXP(-0.6728*($AZ$200-D201))*Gg_m3),((H201*mmcfd_m3)*((1+J201*($AZ$200-D201))^K201)-G201)*Gg_m3+(((H201*mmcfd_m3)*((1+J201*($AZ$200-D201))^K201)*F201-G201)*Gg_m3)+((H201*mmcfd_m3)*EXP(-0.6728*($AZ$200-D201))*Gg_m3)))),0)","v":0},{"$f":"IF(D201<$BA$200,IF(E201=\"Venting\",((H201*mmcfd_m3)*((1+J201*($BA$200-D201))^K201)-G201)*Gg_m3,IF(E201=\"Sealed\",(((H201*mmcfd_m3)*((1+J201*($BA$200-D201))^K201)*F201-G201)*Gg_m3),IF(E201=\"Flooded\",((H201*mmcfd_m3)*EXP(-0.6728*($BA$200-D201))*Gg_m3),((H201*mmcfd_m3)*((1+J201*($BA$200-D201))^K201)-G201)*Gg_m3+(((H201*mmcfd_m3)*((1+J201*($BA$200-D201))^K201)*F201-G201)*Gg_m3)+((H201*mmcfd_m3)*EXP(-0.6728*($BA$200-D201))*Gg_m3)))),0)","v":0},{"$f":"IF(D201<$BB$200,IF(E201=\"Venting\",((H201*mmcfd_m3)*((1+J201*($BB$200-D201))^K201)-G201)*Gg_m3,IF(E201=\"Sealed\",(((H201*mmcfd_m3)*((1+J201*($BB$200-D201))^K201)*F201-G201)*Gg_m3),IF(E201=\"Flooded\",((H201*mmcfd_m3)*EXP(-0.6728*($BB$200-D201))*Gg_m3),((H201*mmcfd_m3)*((1+J201*($BB$200-D201))^K201)-G201)*Gg_m3+(((H201*mmcfd_m3)*((1+J201*($BB$200-D201))^K201)*F201-G201)*Gg_m3)+((H201*mmcfd_m3)*EXP(-0.6728*($BB$200-D201))*Gg_m3)))),0)","v":0},{"$f":"IF($D201<BC$200,IF($E201=\"Venting\",(($H201*mmcfd_m3)*((1+$J201*(BC$200-$D201))^$K201)-$G201)*Gg_m3,IF($E201=\"Sealed\",((($H201*mmcfd_m3)*((1+$J201*(BC$200-$D201))^$K201)*$F201-$G201)*Gg_m3),IF($E201=\"Flooded\",(($H201*mmcfd_m3)*EXP(-0.6728*(BC$200-$D201))*Gg_m3),(($H201*mmcfd_m3)*((1+$J201*(BC$200-$D201))^$K201)-$G201)*Gg_m3+((($H201*mmcfd_m3)*((1+$J201*(BC$200-$D201))^$K201)*$F201-$G201)*Gg_m3)+(($H201*mmcfd_m3)*EXP(-0.6728*(BC$200-$D201))*Gg_m3)))),0)","v":0},0,0,0,0,0,{"$f":"IF(J201<$BC$200,IF($E201=\"Venting\",(($H201*mmcfd_m3)*((1+$J201*($BC$200-$D201))^Q201)-$G201)*Gg_m3,IF($E201=\"Sealed\",((($H201*mmcfd_m3)*((1+$J201*($BC$200-$D201))^$K201)*$F201-$G201)*Gg_m3),IF($E201=\"Flooded\",(($H201*mmcfd_m3)*EXP(-0.6728*($BC$200-$D201))*Gg_m3),(($H201*mmcfd_m3)*((1+$J201*($BC$200-$D201))^$K201)-$G201)*Gg_m3+((($H201*mmcfd_m3)*((1+$J201*($BC$200-$D201))^$K201)*$F201-$G201)*Gg_m3)+(($H201*mmcfd_m3)*EXP(-0.6728*($BC$200-$D201))*Gg_m3)))),0)","v":0},0,0,0,0,0,0,0,0,0,0,0,0,0,0,0,0,0,0,0,0,0,0,0,0]
[2,{"$f":"'CH4 from Abandoned Coal Mines'!D210","v":0},{"$f":"'CH4 from Abandoned Coal Mines'!F210","v":0},{"$f":"'CH4 from Abandoned Coal Mines'!J210","v":0},{"$f":"'CH4 from Abandoned Coal Mines'!L210","v":0},{"$f":"1-'CH4 from Abandoned Coal Mines'!N210","v":1},{"$f":"'CH4 from Abandoned Coal Mines'!R210","v":0},{"$f":"'CH4 from Abandoned Coal Mines'!P210","v":0},{"$f":"'CH4 from Abandoned Coal Mines'!H210","v":0},0,0,0,"Unknowns",{"$f":"$Q$201*V4","v":{"$error":"#N/A"}},{"$f":"$Q$201*U4","v":{"$error":"#N/A"}},{"$f":"$Q$201*T4","v":{"$error":"#N/A"}},null,null,null,null,null,null,null,2,0,0,0,0,0,0,0,0,0,0,0,0,0,0,0,0,0,0,0,0,0,0,0,0,0,0,0,0,0,0,{"$f":"IF(D202<$BC$200,IF(E202=\"Venting\",((H202*mmcfd_m3)*((1+J202*($BC$200-D202))^K202)-G202)*Gg_m3,IF(E202=\"Sealed\",(((H202*mmcfd_m3)*((1+J202*($BC$200-D202))^K202)*F202-G202)*Gg_m3),IF(E202=\"Flooded\",((H202*mmcfd_m3)*EXP(-0.6728*($BC$200-D202))*Gg_m3),((H202*mmcfd_m3)*((1+J202*($BC$200-D202))^K202)-G202)*Gg_m3+(((H202*mmcfd_m3)*((1+J202*($BC$200-D202))^K202)*F202-G202)*Gg_m3)+((H202*mmcfd_m3)*EXP(-0.6728*($BC$200-D202))*Gg_m3)))),0)","v":0},{"$f":"IF($D202<BD$200,IF($E202=\"Venting\",(($H202*mmcfd_m3)*((1+$J202*(BD$200-$D202))^$K202)-$G202)*Gg_m3,IF($E202=\"Sealed\",((($H202*mmcfd_m3)*((1+$J202*(BD$200-$D202))^$K202)*$F202-$G202)*Gg_m3),IF($E202=\"Flooded\",(($H202*mmcfd_m3)*EXP(-0.6728*(BD$200-$D202))*Gg_m3),(($H202*mmcfd_m3)*((1+$J202*(BD$200-$D202))^$K202)-$G202)*Gg_m3+((($H202*mmcfd_m3)*((1+$J202*(BD$200-$D202))^$K202)*$F202-$G202)*Gg_m3)+(($H202*mmcfd_m3)*EXP(-0.6728*(BD$200-$D202))*Gg_m3)))),0)","v":0},0,0,0,0]
[3,{"$f":"'CH4 from Abandoned Coal Mines'!D211","v":0},{"$f":"'CH4 from Abandoned Coal Mines'!F211","v":0},{"$f":"'CH4 from Abandoned Coal Mines'!J211","v":0},{"$f":"'CH4 from Abandoned Coal Mines'!L211","v":0},{"$f":"1-'CH4 from Abandoned Coal Mines'!N211","v":1},{"$f":"'CH4 from Abandoned Coal Mines'!R211","v":0},{"$f":"'CH4 from Abandoned Coal Mines'!P211","v":0},{"$f":"'CH4 from Abandoned Coal Mines'!H211","v":0},0,0,0,"Total",{"$f":"SUM(N201:N202)","v":{"$error":"#N/A"}},{"$f":"SUM(O201:O202)","v":{"$error":"#N/A"}},{"$f":"SUM(P201:P202)","v":{"$error":"#N/A"}},null,null,null,null,null,null,null,3,0,0,0,0,0,0,0,0,0,0,0,0,0,0,0,0,0,0,0,0,0,0,0,0,0,0,0,0,0,0,0,0,0,0,0,0]
[4,{"$f":"'CH4 from Abandoned Coal Mines'!D212","v":0},{"$f":"'CH4 from Abandoned Coal Mines'!F212","v":0},{"$f":"'CH4 from Abandoned Coal Mines'!J212","v":0},{"$f":"'CH4 from Abandoned Coal Mines'!L212","v":0},{"$f":"1-'CH4 from Abandoned Coal Mines'!N212","v":1},{"$f":"'CH4 from Abandoned Coal Mines'!R212","v":0},{"$f":"'CH4 from Abandoned Coal Mines'!P212","v":0},{"$f":"'CH4 from Abandoned Coal Mines'!H212","v":0},0,0,0,null,"ConstantA","ConstantB",null,null,null,null,null,null,null,null,4,0,0,0,0,0,0,0,0,0,0,0,0,0,0,0,0,0,0,0,0,0,0,0,0,0,0,0,0,0,0,0,0,0,0,0,0]
[5,{"$f":"'CH4 from Abandoned Coal Mines'!D213","v":0},{"$f":"'CH4 from Abandoned Coal Mines'!F213","v":0},{"$f":"'CH4 from Abandoned Coal Mines'!J213","v":0},{"$f":"'CH4 from Abandoned Coal Mines'!L213","v":0},{"$f":"1-'CH4 from Abandoned Coal Mines'!N213","v":1},{"$f":"'CH4 from Abandoned Coal Mines'!R213","v":0},{"$f":"'CH4 from Abandoned Coal Mines'!P213","v":0},{"$f":"'CH4 from Abandoned Coal Mines'!H213","v":0},0,0,0,"Bituminous",3.72,-0.42,null,null,null,null,null,null,null,null,5,0,0,0,0,0,0,0,0,0,0,0,0,0,0,0,0,0,0,0,0,0,0,0,0,0,0,0,0,0,0,0,0,0,0,0,0]
[6,{"$f":"'CH4 from Abandoned Coal Mines'!D214","v":0},{"$f":"'CH4 from Abandoned Coal Mines'!F214","v":0},{"$f":"'CH4 from Abandoned Coal Mines'!J214","v":0},{"$f":"'CH4 from Abandoned Coal Mines'!L214","v":0},{"$f":"1-'CH4 from Abandoned Coal Mines'!N214","v":1},{"$f":"'CH4 from Abandoned Coal Mines'!R214","v":0},{"$f":"'CH4 from Abandoned Coal Mines'!P214","v":0},{"$f":"'CH4 from Abandoned Coal Mines'!H214","v":0},0,0,0,"Sub-bituminous",0.27,-1,null,null,null,null,null,null,null,null,6,0,0,0,0,0,0,0,0,0,0,0,0,0,0,0,0,0,0,0,0,0,0,0,0,0,0,0,0,0,0,0,0,0,0,0,0]
[7,{"$f":"'CH4 from Abandoned Coal Mines'!D215","v":0},{"$f":"'CH4 from Abandoned Coal Mines'!F215","v":0},{"$f":"'CH4 from Abandoned Coal Mines'!J215","v":0},{"$f":"'CH4 from Abandoned Coal Mines'!L215","v":0},{"$f":"1-'CH4 from Abandoned Coal Mines'!N215","v":1},{"$f":"'CH4 from Abandoned Coal Mines'!R215","v":0},{"$f":"'CH4 from Abandoned Coal Mines'!P215","v":0},{"$f":"'CH4 from Abandoned Coal Mines'!H215","v":0},0,0,0,"Anthracite",1.72,-0.57999999999999996,null,null,null,null,null,null,null,null,7,0,0,0,0,0,0,0,0,0,0,0,0,0,0,0,0,0,0,0,0,0,0,0,0,0,0,0,0,0,0,0,0,0,0,0,0]
[8,{"$f":"'CH4 from Abandoned Coal Mines'!D216","v":0},{"$f":"'CH4 from Abandoned Coal Mines'!F216","v":0},{"$f":"'CH4 from Abandoned Coal Mines'!J216","v":0},{"$f":"'CH4 from Abandoned Coal Mines'!L216","v":0},{"$f":"1-'CH4 from Abandoned Coal Mines'!N216","v":1},{"$f":"'CH4 from Abandoned Coal Mines'!R216","v":0},{"$f":"'CH4 from Abandoned Coal Mines'!P216","v":0},{"$f":"'CH4 from Abandoned Coal Mines'!H216","v":0},0,0,0,null,null,null,null,null,null,null,null,null,null,null,8,0,0,0,0,0,0,0,0,0,0,0,0,0,0,0,0,0,0,0,0,0,0,0,0,0,0,0,0,0,0,0,0,0,0,0,0]
[9,{"$f":"'CH4 from Abandoned Coal Mines'!D217","v":0},{"$f":"'CH4 from Abandoned Coal Mines'!F217","v":0},{"$f":"'CH4 from Abandoned Coal Mines'!J217","v":0},{"$f":"'CH4 from Abandoned Coal Mines'!L217","v":0},{"$f":"1-'CH4 from Abandoned Coal Mines'!N217","v":1},{"$f":"'CH4 from Abandoned Coal Mines'!R217","v":0},{"$f":"'CH4 from Abandoned Coal Mines'!P217","v":0},{"$f":"'CH4 from Abandoned Coal Mines'!H217","v":0},0,0,0,null,null,null,null,null,null,null,null,null,null,null,9,0,0,0,0,0,0,0,0,0,0,0,0,0,0,0,0,0,0,0,0,0,0,0,0,0,0,0,0,0,0,0,0,0,0,0,0]
[10,{"$f":"'CH4 from Abandoned Coal Mines'!D218","v":0},{"$f":"'CH4 from Abandoned Coal Mines'!F218","v":0},{"$f":"'CH4 from Abandoned Coal Mines'!J218","v":0},{"$f":"'CH4 from Abandoned Coal Mines'!L218","v":0},{"$f":"1-'CH4 from Abandoned Coal Mines'!N218","v":1},{"$f":"'CH4 from Abandoned Coal Mines'!R218","v":0},{"$f":"'CH4 from Abandoned Coal Mines'!P218","v":0},{"$f":"'CH4 from Abandoned Coal Mines'!H218","v":0},0,0,0,null,null,null,null,null,null,null,null,null,null,null,10,0,0,0,0,0,0,0,0,0,0,0,0,0,0,0,0,0,0,0,0,0,0,0,0,0,0,0,0,0,0,0,0,0,0,0,0]
[11,{"$f":"'CH4 from Abandoned Coal Mines'!D219","v":0},{"$f":"'CH4 from Abandoned Coal Mines'!F219","v":0},{"$f":"'CH4 from Abandoned Coal Mines'!J219","v":0},{"$f":"'CH4 from Abandoned Coal Mines'!L219","v":0},{"$f":"1-'CH4 from Abandoned Coal Mines'!N219","v":1},{"$f":"'CH4 from Abandoned Coal Mines'!R219","v":0},{"$f":"'CH4 from Abandoned Coal Mines'!P219","v":0},{"$f":"'CH4 from Abandoned Coal Mines'!H219","v":0},0,0,0,null,null,null,null,null,null,null,null,null,null,null,11,0,0,0,0,0,0,0,0,0,0,0,0,0,0,0,0,0,0,0,0,0,0,0,0,0,0,0,0,0,0,0,0,0,0,0,0]
[12,{"$f":"'CH4 from Abandoned Coal Mines'!D220","v":0},{"$f":"'CH4 from Abandoned Coal Mines'!F220","v":0},{"$f":"'CH4 from Abandoned Coal Mines'!J220","v":0},{"$f":"'CH4 from Abandoned Coal Mines'!L220","v":0},{"$f":"1-'CH4 from Abandoned Coal Mines'!N220","v":1},{"$f":"'CH4 from Abandoned Coal Mines'!R220","v":0},{"$f":"'CH4 from Abandoned Coal Mines'!P220","v":0},{"$f":"'CH4 from Abandoned Coal Mines'!H220","v":0},0,0,0,null,null,null,null,null,null,null,null,null,null,null,12,0,0,0,0,0,0,0,0,0,0,0,0,0,0,0,0,0,0,0,0,0,0,0,0,0,0,0,0,0,0,0,{"$f":"IF($D212<BD$200,IF($E212=\"Venting\",(($H212*mmcfd_m3)*((1+$J212*(BD$200-$D212))^$K212)-$G212)*Gg_m3,IF($E212=\"Sealed\",((($H212*mmcfd_m3)*((1+$J212*(BD$200-$D212))^$K212)*$F212-$G212)*Gg_m3),IF($E212=\"Flooded\",(($H212*mmcfd_m3)*EXP(-0.6728*(BD$200-$D212))*Gg_m3),(($H212*mmcfd_m3)*((1+$J212*(BD$200-$D212))^$K212)-$G212)*Gg_m3+((($H212*mmcfd_m3)*((1+$J212*(BD$200-$D212))^$K212)*$F212-$G212)*Gg_m3)+(($H212*mmcfd_m3)*EXP(-0.6728*(BD$200-$D212))*Gg_m3)))),0)","v":0},0,0,0,0]
[13,{"$f":"'CH4 from Abandoned Coal Mines'!D221","v":0},{"$f":"'CH4 from Abandoned Coal Mines'!F221","v":0},{"$f":"'CH4 from Abandoned Coal Mines'!J221","v":0},{"$f":"'CH4 from Abandoned Coal Mines'!L221","v":0},{"$f":"1-'CH4 from Abandoned Coal Mines'!N221","v":1},{"$f":"'CH4 from Abandoned Coal Mines'!R221","v":0},{"$f":"'CH4 from Abandoned Coal Mines'!P221","v":0},{"$f":"'CH4 from Abandoned Coal Mines'!H221","v":0},0,0,0,null,null,null,null,null,null,null,null,null,null,null,13,0,0,0,0,0,0,0,0,0,0,0,0,0,0,0,0,0,0,0,0,0,0,0,0,0,0,0,0,0,0,0,0,0,0,0,0]
[14,{"$f":"'CH4 from Abandoned Coal Mines'!D222","v":0},{"$f":"'CH4 from Abandoned Coal Mines'!F222","v":0},{"$f":"'CH4 from Abandoned Coal Mines'!J222","v":0},{"$f":"'CH4 from Abandoned Coal Mines'!L222","v":0},{"$f":"1-'CH4 from Abandoned Coal Mines'!N222","v":1},{"$f":"'CH4 from Abandoned Coal Mines'!R222","v":0},{"$f":"'CH4 from Abandoned Coal Mines'!P222","v":0},{"$f":"'CH4 from Abandoned Coal Mines'!H222","v":0},0,0,0,null,null,null,null,null,null,null,null,null,null,null,14,0,0,0,0,0,0,0,0,0,0,0,0,0,0,0,0,0,0,0,0,0,0,0,0,0,0,0,0,0,0,0,0,0,0,0,0]
[15,{"$f":"'CH4 from Abandoned Coal Mines'!D223","v":0},{"$f":"'CH4 from Abandoned Coal Mines'!F223","v":0},{"$f":"'CH4 from Abandoned Coal Mines'!J223","v":0},{"$f":"'CH4 from Abandoned Coal Mines'!L223","v":0},{"$f":"1-'CH4 from Abandoned Coal Mines'!N223","v":1},{"$f":"'CH4 from Abandoned Coal Mines'!R223","v":0},{"$f":"'CH4 from Abandoned Coal Mines'!P223","v":0},{"$f":"'CH4 from Abandoned Coal Mines'!H223","v":0},0,0,0,null,null,null,null,null,null,null,null,null,null,null,15,0,0,0,0,0,0,0,0,0,0,0,0,0,0,0,0,0,0,0,0,0,0,0,0,0,0,0,0,0,0,0,0,0,0,0,0]
[16,{"$f":"'CH4 from Abandoned Coal Mines'!D224","v":0},{"$f":"'CH4 from Abandoned Coal Mines'!F224","v":0},{"$f":"'CH4 from Abandoned Coal Mines'!J224","v":0},{"$f":"'CH4 from Abandoned Coal Mines'!L224","v":0},{"$f":"1-'CH4 from Abandoned Coal Mines'!N224","v":1},{"$f":"'CH4 from Abandoned Coal Mines'!R224","v":0},{"$f":"'CH4 from Abandoned Coal Mines'!P224","v":0},{"$f":"'CH4 from Abandoned Coal Mines'!H224","v":0},0,0,0,null,null,null,null,null,null,null,null,null,null,null,16,0,0,0,0,0,0,0,0,0,0,0,0,0,0,0,0,0,0,0,0,0,0,0,0,0,0,0,0,0,0,0,0,0,0,0,0]
[17,{"$f":"'CH4 from Abandoned Coal Mines'!D225","v":0},{"$f":"'CH4 from Abandoned Coal Mines'!F225","v":0},{"$f":"'CH4 from Abandoned Coal Mines'!J225","v":0},{"$f":"'CH4 from Abandoned Coal Mines'!L225","v":0},{"$f":"1-'CH4 from Abandoned Coal Mines'!N225","v":1},{"$f":"'CH4 from Abandoned Coal Mines'!R225","v":0},{"$f":"'CH4 from Abandoned Coal Mines'!P225","v":0},{"$f":"'CH4 from Abandoned Coal Mines'!H225","v":0},0,0,0,null,null,null,null,null,null,null,null,null,null,null,17,0,0,0,0,0,0,0,0,0,0,0,0,0,0,0,0,0,0,0,0,0,0,0,0,0,0,0,0,0,0,0,0,0,0,0,0]
[18,{"$f":"'CH4 from Abandoned Coal Mines'!D226","v":0},{"$f":"'CH4 from Abandoned Coal Mines'!F226","v":0},{"$f":"'CH4 from Abandoned Coal Mines'!J226","v":0},{"$f":"'CH4 from Abandoned Coal Mines'!L226","v":0},{"$f":"1-'CH4 from Abandoned Coal Mines'!N226","v":1},{"$f":"'CH4 from Abandoned Coal Mines'!R226","v":0},{"$f":"'CH4 from Abandoned Coal Mines'!P226","v":0},{"$f":"'CH4 from Abandoned Coal Mines'!H226","v":0},0,0,0,null,null,null,null,null,null,null,null,null,null,null,18,0,0,0,0,0,0,0,0,0,0,0,0,0,0,0,0,0,0,0,0,0,0,0,0,0,0,0,0,0,0,0,0,0,0,0,0]
[19,{"$f":"'CH4 from Abandoned Coal Mines'!D227","v":0},{"$f":"'CH4 from Abandoned Coal Mines'!F227","v":0},{"$f":"'CH4 from Abandoned Coal Mines'!J227","v":0},{"$f":"'CH4 from Abandoned Coal Mines'!L227","v":0},{"$f":"1-'CH4 from Abandoned Coal Mines'!N227","v":1},{"$f":"'CH4 from Abandoned Coal Mines'!R227","v":0},{"$f":"'CH4 from Abandoned Coal Mines'!P227","v":0},{"$f":"'CH4 from Abandoned Coal Mines'!H227","v":0},0,0,0,null,null,null,null,null,null,null,null,null,null,null,19,0,0,0,0,0,0,0,0,0,0,0,0,0,0,0,0,0,0,0,0,0,0,0,0,0,0,0,0,0,0,0,0,0,0,0,0]
[20,{"$f":"'CH4 from Abandoned Coal Mines'!D228","v":0},{"$f":"'CH4 from Abandoned Coal Mines'!F228","v":0},{"$f":"'CH4 from Abandoned Coal Mines'!J228","v":0},{"$f":"'CH4 from Abandoned Coal Mines'!L228","v":0},{"$f":"1-'CH4 from Abandoned Coal Mines'!N228","v":1},{"$f":"'CH4 from Abandoned Coal Mines'!R228","v":0},{"$f":"'CH4 from Abandoned Coal Mines'!P228","v":0},{"$f":"'CH4 from Abandoned Coal Mines'!H228","v":0},0,0,0,null,null,null,null,null,null,null,null,null,null,null,20,0,0,0,0,0,0,0,0,0,0,0,0,0,0,0,0,0,0,0,0,0,0,0,0,0,0,0,0,0,0,0,0,0,0,0,0]
[21,{"$f":"'CH4 from Abandoned Coal Mines'!D229","v":0},{"$f":"'CH4 from Abandoned Coal Mines'!F229","v":0},{"$f":"'CH4 from Abandoned Coal Mines'!J229","v":0},{"$f":"'CH4 from Abandoned Coal Mines'!L229","v":0},{"$f":"1-'CH4 from Abandoned Coal Mines'!N229","v":1},{"$f":"'CH4 from Abandoned Coal Mines'!R229","v":0},{"$f":"'CH4 from Abandoned Coal Mines'!P229","v":0},{"$f":"'CH4 from Abandoned Coal Mines'!H229","v":0},0,0,0,null,null,null,null,null,null,null,null,null,null,null,21,0,0,0,0,0,0,0,0,0,0,0,0,0,0,0,0,0,0,0,0,0,0,0,0,0,0,0,0,0,0,0,0,0,0,0,0]
[22,{"$f":"'CH4 from Abandoned Coal Mines'!D230","v":0},{"$f":"'CH4 from Abandoned Coal Mines'!F230","v":0},{"$f":"'CH4 from Abandoned Coal Mines'!J230","v":0},{"$f":"'CH4 from Abandoned Coal Mines'!L230","v":0},{"$f":"1-'CH4 from Abandoned Coal Mines'!N230","v":1},{"$f":"'CH4 from Abandoned Coal Mines'!R230","v":0},{"$f":"'CH4 from Abandoned Coal Mines'!P230","v":0},{"$f":"'CH4 from Abandoned Coal Mines'!H230","v":0},0,0,0,null,null,null,null,null,null,null,null,null,null,null,22,0,0,0,0,0,0,0,0,0,0,0,0,0,0,0,0,0,0,0,0,0,0,0,0,0,0,0,0,0,0,0,{"$f":"IF($D222<BD$200,IF($E222=\"Venting\",(($H222*mmcfd_m3)*((1+$J222*(BD$200-$D222))^$K222)-$G222)*Gg_m3,IF($E222=\"Sealed\",((($H222*mmcfd_m3)*((1+$J222*(BD$200-$D222))^$K222)*$F222-$G222)*Gg_m3),IF($E222=\"Flooded\",(($H222*mmcfd_m3)*EXP(-0.6728*(BD$200-$D222))*Gg_m3),(($H222*mmcfd_m3)*((1+$J222*(BD$200-$D222))^$K222)-$G222)*Gg_m3+((($H222*mmcfd_m3)*((1+$J222*(BD$200-$D222))^$K222)*$F222-$G222)*Gg_m3)+(($H222*mmcfd_m3)*EXP(-0.6728*(BD$200-$D222))*Gg_m3)))),0)","v":0},0,0,0,0]
[23,{"$f":"'CH4 from Abandoned Coal Mines'!D231","v":0},{"$f":"'CH4 from Abandoned Coal Mines'!F231","v":0},{"$f":"'CH4 from Abandoned Coal Mines'!J231","v":0},{"$f":"'CH4 from Abandoned Coal Mines'!L231","v":0},{"$f":"1-'CH4 from Abandoned Coal Mines'!N231","v":1},{"$f":"'CH4 from Abandoned Coal Mines'!R231","v":0},{"$f":"'CH4 from Abandoned Coal Mines'!P231","v":0},{"$f":"'CH4 from Abandoned Coal Mines'!H231","v":0},0,0,0,null,null,null,null,null,null,null,null,null,null,null,23,0,0,0,0,0,0,0,0,0,0,0,0,0,0,0,0,0,0,0,0,0,0,0,0,0,0,0,0,0,0,0,0,0,0,0,0]
[24,{"$f":"'CH4 from Abandoned Coal Mines'!D232","v":0},{"$f":"'CH4 from Abandoned Coal Mines'!F232","v":0},{"$f":"'CH4 from Abandoned Coal Mines'!J232","v":0},{"$f":"'CH4 from Abandoned Coal Mines'!L232","v":0},{"$f":"1-'CH4 from Abandoned Coal Mines'!N232","v":1},{"$f":"'CH4 from Abandoned Coal Mines'!R232","v":0},{"$f":"'CH4 from Abandoned Coal Mines'!P232","v":0},{"$f":"'CH4 from Abandoned Coal Mines'!H232","v":0},0,0,0,null,null,null,null,null,null,null,null,null,null,null,24,0,0,0,0,0,0,0,0,0,0,0,0,0,0,0,0,0,0,0,0,0,0,0,0,0,0,0,0,0,0,0,0,0,0,0,0]
[25,{"$f":"'CH4 from Abandoned Coal Mines'!D233","v":0},{"$f":"'CH4 from Abandoned Coal Mines'!F233","v":0},{"$f":"'CH4 from Abandoned Coal Mines'!J233","v":0},{"$f":"'CH4 from Abandoned Coal Mines'!L233","v":0},{"$f":"1-'CH4 from Abandoned Coal Mines'!N233","v":1},{"$f":"'CH4 from Abandoned Coal Mines'!R233","v":0},{"$f":"'CH4 from Abandoned Coal Mines'!P233","v":0},{"$f":"'CH4 from Abandoned Coal Mines'!H233","v":0},0,0,0,null,null,null,null,null,null,null,null,null,null,null,25,0,0,0,0,0,0,0,0,0,0,0,0,0,0,0,0,0,0,0,0,0,0,0,0,0,0,0,0,0,0,0,0,0,0,0,0]
[26,{"$f":"'CH4 from Abandoned Coal Mines'!D234","v":0},{"$f":"'CH4 from Abandoned Coal Mines'!F234","v":0},{"$f":"'CH4 from Abandoned Coal Mines'!J234","v":0},{"$f":"'CH4 from Abandoned Coal Mines'!L234","v":0},{"$f":"1-'CH4 from Abandoned Coal Mines'!N234","v":1},{"$f":"'CH4 from Abandoned Coal Mines'!R234","v":0},{"$f":"'CH4 from Abandoned Coal Mines'!P234","v":0},{"$f":"'CH4 from Abandoned Coal Mines'!H234","v":0},0,0,0,null,null,null,null,null,null,null,null,null,null,null,26,0,0,0,0,0,0,0,0,0,0,0,0,0,0,0,0,0,0,0,0,0,0,0,0,0,0,0,0,0,0,0,0,0,0,0,0]
[27,{"$f":"'CH4 from Abandoned Coal Mines'!D235","v":0},{"$f":"'CH4 from Abandoned Coal Mines'!F235","v":0},{"$f":"'CH4 from Abandoned Coal Mines'!J235","v":0},{"$f":"'CH4 from Abandoned Coal Mines'!L235","v":0},{"$f":"1-'CH4 from Abandoned Coal Mines'!N235","v":1},{"$f":"'CH4 from Abandoned Coal Mines'!R235","v":0},{"$f":"'CH4 from Abandoned Coal Mines'!P235","v":0},{"$f":"'CH4 from Abandoned Coal Mines'!H235","v":0},0,0,0,null,null,null,null,null,null,null,null,null,null,null,27,0,0,0,0,0,0,0,0,0,0,0,0,0,0,0,0,0,0,0,0,0,0,0,0,0,0,0,0,0,0,0,0,0,0,0,0]
[28,{"$f":"'CH4 from Abandoned Coal Mines'!D236","v":0},{"$f":"'CH4 from Abandoned Coal Mines'!F236","v":0},{"$f":"'CH4 from Abandoned Coal Mines'!J236","v":0},{"$f":"'CH4 from Abandoned Coal Mines'!L236","v":0},{"$f":"1-'CH4 from Abandoned Coal Mines'!N236","v":1},{"$f":"'CH4 from Abandoned Coal Mines'!R236","v":0},{"$f":"'CH4 from Abandoned Coal Mines'!P236","v":0},{"$f":"'CH4 from Abandoned Coal Mines'!H236","v":0},0,0,0,null,null,null,null,null,null,null,null,null,null,null,28,0,0,0,0,0,0,0,0,0,0,0,0,0,0,0,0,0,0,0,0,0,0,0,0,0,0,0,0,0,0,0,0,0,0,0,0]
[29,{"$f":"'CH4 from Abandoned Coal Mines'!D237","v":0},{"$f":"'CH4 from Abandoned Coal Mines'!F237","v":0},{"$f":"'CH4 from Abandoned Coal Mines'!J237","v":0},{"$f":"'CH4 from Abandoned Coal Mines'!L237","v":0},{"$f":"1-'CH4 from Abandoned Coal Mines'!N237","v":1},{"$f":"'CH4 from Abandoned Coal Mines'!R237","v":0},{"$f":"'CH4 from Abandoned Coal Mines'!P237","v":0},{"$f":"'CH4 from Abandoned Coal Mines'!H237","v":0},0,0,0,null,null,null,null,null,null,null,null,null,null,null,29,0,0,0,0,0,0,0,0,0,0,0,0,0,0,0,0,0,0,0,0,0,0,0,0,0,0,0,0,0,0,0,0,0,0,0,0]
[30,{"$f":"'CH4 from Abandoned Coal Mines'!D238","v":0},{"$f":"'CH4 from Abandoned Coal Mines'!F238","v":0},{"$f":"'CH4 from Abandoned Coal Mines'!J238","v":0},{"$f":"'CH4 from Abandoned Coal Mines'!L238","v":0},{"$f":"1-'CH4 from Abandoned Coal Mines'!N238","v":1},{"$f":"'CH4 from Abandoned Coal Mines'!R238","v":0},{"$f":"'CH4 from Abandoned Coal Mines'!P238","v":0},{"$f":"'CH4 from Abandoned Coal Mines'!H238","v":0},0,0,0,null,null,null,null,null,null,null,null,null,null,null,30,0,0,0,0,0,0,0,0,0,0,0,0,0,0,0,0,0,0,0,0,0,0,0,0,0,0,0,0,0,0,0,0,0,0,0,0]
[31,{"$f":"'CH4 from Abandoned Coal Mines'!D239","v":0},{"$f":"'CH4 from Abandoned Coal Mines'!F239","v":0},{"$f":"'CH4 from Abandoned Coal Mines'!J239","v":0},{"$f":"'CH4 from Abandoned Coal Mines'!L239","v":0},{"$f":"1-'CH4 from Abandoned Coal Mines'!N239","v":1},{"$f":"'CH4 from Abandoned Coal Mines'!R239","v":0},{"$f":"'CH4 from Abandoned Coal Mines'!P239","v":0},{"$f":"'CH4 from Abandoned Coal Mines'!H239","v":0},0,0,0,null,null,null,null,null,null,null,null,null,null,null,31,0,0,0,0,0,0,0,0,0,0,0,0,0,0,0,0,0,0,0,0,0,0,0,0,0,0,0,0,0,0,0,0,0,0,0,0]
[32,{"$f":"'CH4 from Abandoned Coal Mines'!D240","v":0},{"$f":"'CH4 from Abandoned Coal Mines'!F240","v":0},{"$f":"'CH4 from Abandoned Coal Mines'!J240","v":0},{"$f":"'CH4 from Abandoned Coal Mines'!L240","v":0},{"$f":"1-'CH4 from Abandoned Coal Mines'!N240","v":1},{"$f":"'CH4 from Abandoned Coal Mines'!R240","v":0},{"$f":"'CH4 from Abandoned Coal Mines'!P240","v":0},{"$f":"'CH4 from Abandoned Coal Mines'!H240","v":0},0,0,0,null,null,null,null,null,null,null,null,null,null,null,32,0,0,0,0,0,0,0,0,0,0,0,0,0,0,0,0,0,0,0,0,0,0,0,0,0,0,0,0,0,0,0,{"$f":"IF($D232<BD$200,IF($E232=\"Venting\",(($H232*mmcfd_m3)*((1+$J232*(BD$200-$D232))^$K232)-$G232)*Gg_m3,IF($E232=\"Sealed\",((($H232*mmcfd_m3)*((1+$J232*(BD$200-$D232))^$K232)*$F232-$G232)*Gg_m3),IF($E232=\"Flooded\",(($H232*mmcfd_m3)*EXP(-0.6728*(BD$200-$D232))*Gg_m3),(($H232*mmcfd_m3)*((1+$J232*(BD$200-$D232))^$K232)-$G232)*Gg_m3+((($H232*mmcfd_m3)*((1+$J232*(BD$200-$D232))^$K232)*$F232-$G232)*Gg_m3)+(($H232*mmcfd_m3)*EXP(-0.6728*(BD$200-$D232))*Gg_m3)))),0)","v":0},0,0,0,0]
[33,{"$f":"'CH4 from Abandoned Coal Mines'!D241","v":0},{"$f":"'CH4 from Abandoned Coal Mines'!F241","v":0},{"$f":"'CH4 from Abandoned Coal Mines'!J241","v":0},{"$f":"'CH4 from Abandoned Coal Mines'!L241","v":0},{"$f":"1-'CH4 from Abandoned Coal Mines'!N241","v":1},{"$f":"'CH4 from Abandoned Coal Mines'!R241","v":0},{"$f":"'CH4 from Abandoned Coal Mines'!P241","v":0},{"$f":"'CH4 from Abandoned Coal Mines'!H241","v":0},{"$f":"IF(ISERROR(VLOOKUP(I233,$M$205:$O$207,2,FALSE)),0,VLOOKUP(I233,$M$205:$O$207,2,FALSE))","v":0},{"$f":"IF(ISERROR(VLOOKUP(I233,$M$205:$O$207,3,FALSE)),0,VLOOKUP(I233,$M$205:$O$207,3,FALSE))","v":0},{"$f":"IF(E233=\"Venting\",((H233*mmcfd_m3)*((1+J233*($AM$3-D233))^K233)-G233)*Gg_m3,IF(E233=\"Sealed\",(((H233*mmcfd_m3)*((1+J233*($AM$3-D233))^K233)*F233-G233)*Gg_m3),IF(E233=\"Flooded\",((H233*mmcfd_m3)*EXP(-0.6728*($AM$3-D233))*Gg_m3),((H233*mmcfd_m3)*((1+J233*($AM$3-D233))^K233)-G233)*Gg_m3+(((H233*mmcfd_m3)*((1+J233*($AM$3-D233))^K233)*F233-G233)*Gg_m3)+((H233*mmcfd_m3)*EXP(-0.6728*($AM$3-D233))*Gg_m3))))","v":0},null,null,null,null,null,null,null,null,null,null,null,33,{"$f":"IF(D233<$Y$200,IF(E233=\"Venting\",((H233*mmcfd_m3)*((1+J233*($Y$200-D233))^K233)-G233)*Gg_m3,IF(E233=\"Sealed\",(((H233*mmcfd_m3)*((1+J233*($Y$200-D233))^K233)*F233-G233)*Gg_m3),IF(E233=\"Flooded\",((H233*mmcfd_m3)*EXP(-0.6728*($Y$200-D233))*Gg_m3),((H233*mmcfd_m3)*((1+J233*($Y$200-D233))^K233)-G233)*Gg_m3+(((H233*mmcfd_m3)*((1+J233*($Y$200-D233))^K233)*F233-G233)*Gg_m3)+((H233*mmcfd_m3)*EXP(-0.6728*($Y$200-D233))*Gg_m3)))),0)","v":0},{"$f":"IF(D233<$Z$200,IF(E233=\"Venting\",((H233*mmcfd_m3)*((1+J233*($Z$200-D233))^K233)-G233)*Gg_m3,IF(E233=\"Sealed\",(((H233*mmcfd_m3)*((1+J233*($Z$200-D233))^K233)*F233-G233)*Gg_m3),IF(E233=\"Flooded\",((H233*mmcfd_m3)*EXP(-0.6728*($Z$200-D233))*Gg_m3),((H233*mmcfd_m3)*((1+J233*($Z$200-D233))^K233)-G233)*Gg_m3+(((H233*mmcfd_m3)*((1+J233*($Z$200-D233))^K233)*F233-G233)*Gg_m3)+((H233*mmcfd_m3)*EXP(-0.6728*($Z$200-D233))*Gg_m3)))),0)","v":0},{"$f":"IF(D233<$AA$200,IF(E233=\"Venting\",((H233*mmcfd_m3)*((1+J233*($AA$200-D233))^K233)-G233)*Gg_m3,IF(E233=\"Sealed\",(((H233*mmcfd_m3)*((1+J233*($AA$200-D233))^K233)*F233-G233)*Gg_m3),IF(E233=\"Flooded\",((H233*mmcfd_m3)*EXP(-0.6728*($AA$200-D233))*Gg_m3),((H233*mmcfd_m3)*((1+J233*($AA$200-D233))^K233)-G233)*Gg_m3+(((H233*mmcfd_m3)*((1+J233*($AA$200-D233))^K233)*F233-G233)*Gg_m3)+((H233*mmcfd_m3)*EXP(-0.6728*($AA$200-D233))*Gg_m3)))),0)","v":0},{"$f":"IF(D233<$AB$200,IF(E233=\"Venting\",((H233*mmcfd_m3)*((1+J233*($AB$200-D233))^K233)-G233)*Gg_m3,IF(E233=\"Sealed\",(((H233*mmcfd_m3)*((1+J233*($AB$200-D233))^K233)*F233-G233)*Gg_m3),IF(E233=\"Flooded\",((H233*mmcfd_m3)*EXP(-0.6728*($AB$200-D233))*Gg_m3),((H233*mmcfd_m3)*((1+J233*($AB$200-D233))^K233)-G233)*Gg_m3+(((H233*mmcfd_m3)*((1+J233*($AB$200-D233))^K233)*F233-G233)*Gg_m3)+((H233*mmcfd_m3)*EXP(-0.6728*($AB$200-D233))*Gg_m3)))),0)","v":0},{"$f":"IF(D233<$AC$200,IF(E233=\"Venting\",((H233*mmcfd_m3)*((1+J233*($AC$200-D233))^K233)-G233)*Gg_m3,IF(E233=\"Sealed\",(((H233*mmcfd_m3)*((1+J233*($AC$200-D233))^K233)*F233-G233)*Gg_m3),IF(E233=\"Flooded\",((H233*mmcfd_m3)*EXP(-0.6728*($AC$200-D233))*Gg_m3),((H233*mmcfd_m3)*((1+J233*($AC$200-D233))^K233)-G233)*Gg_m3+(((H233*mmcfd_m3)*((1+J233*($AC$200-D233))^K233)*F233-G233)*Gg_m3)+((H233*mmcfd_m3)*EXP(-0.6728*($AC$200-D233))*Gg_m3)))),0)","v":0},{"$f":"IF(D233<$AD$200,IF(E233=\"Venting\",((H233*mmcfd_m3)*((1+J233*($AD$200-D233))^K233)-G233)*Gg_m3,IF(E233=\"Sealed\",(((H233*mmcfd_m3)*((1+J233*($AD$200-D233))^K233)*F233-G233)*Gg_m3),IF(E233=\"Flooded\",((H233*mmcfd_m3)*EXP(-0.6728*($AD$200-D233))*Gg_m3),((H233*mmcfd_m3)*((1+J233*($AD$200-D233))^K233)-G233)*Gg_m3+(((H233*mmcfd_m3)*((1+J233*($AD$200-D233))^K233)*F233-G233)*Gg_m3)+((H233*mmcfd_m3)*EXP(-0.6728*($AD$200-D233))*Gg_m3)))),0)","v":0},{"$f":"IF(D233<$AE$200,IF(E233=\"Venting\",((H233*mmcfd_m3)*((1+J233*($AE$200-D233))^K233)-G233)*Gg_m3,IF(E233=\"Sealed\",(((H233*mmcfd_m3)*((1+J233*($AE$200-D233))^K233)*F233-G233)*Gg_m3),IF(E233=\"Flooded\",((H233*mmcfd_m3)*EXP(-0.6728*($AE$200-D233))*Gg_m3),((H233*mmcfd_m3)*((1+J233*($AE$200-D233))^K233)-G233)*Gg_m3+(((H233*mmcfd_m3)*((1+J233*($AE$200-D233))^K233)*F233-G233)*Gg_m3)+((H233*mmcfd_m3)*EXP(-0.6728*($AE$200-D233))*Gg_m3)))),0)","v":0},{"$f":"IF(D233<$AF$200,IF(E233=\"Venting\",((H233*mmcfd_m3)*((1+J233*($AF$200-D233))^K233)-G233)*Gg_m3,IF(E233=\"Sealed\",(((H233*mmcfd_m3)*((1+J233*($AF$200-D233))^K233)*F233-G233)*Gg_m3),IF(E233=\"Flooded\",((H233*mmcfd_m3)*EXP(-0.6728*($AF$200-D233))*Gg_m3),((H233*mmcfd_m3)*((1+J233*($AF$200-D233))^K233)-G233)*Gg_m3+(((H233*mmcfd_m3)*((1+J233*($AF$200-D233))^K233)*F233-G233)*Gg_m3)+((H233*mmcfd_m3)*EXP(-0.6728*($AF$200-D233))*Gg_m3)))),0)","v":0},{"$f":"IF(D233<$AG$200,IF(E233=\"Venting\",((H233*mmcfd_m3)*((1+J233*($AG$200-D233))^K233)-G233)*Gg_m3,IF(E233=\"Sealed\",(((H233*mmcfd_m3)*((1+J233*($AG$200-D233))^K233)*F233-G233)*Gg_m3),IF(E233=\"Flooded\",((H233*mmcfd_m3)*EXP(-0.6728*($AG$200-D233))*Gg_m3),((H233*mmcfd_m3)*((1+J233*($AG$200-D233))^K233)-G233)*Gg_m3+(((H233*mmcfd_m3)*((1+J233*($AG$200-D233))^K233)*F233-G233)*Gg_m3)+((H233*mmcfd_m3)*EXP(-0.6728*($AG$200-D233))*Gg_m3)))),0)","v":0},{"$f":"IF(D233<$AH$200,IF(E233=\"Venting\",((H233*mmcfd_m3)*((1+J233*($AH$200-D233))^K233)-G233)*Gg_m3,IF(E233=\"Sealed\",(((H233*mmcfd_m3)*((1+J233*($AH$200-D233))^K233)*F233-G233)*Gg_m3),IF(E233=\"Flooded\",((H233*mmcfd_m3)*EXP(-0.6728*($AH$200-D233))*Gg_m3),((H233*mmcfd_m3)*((1+J233*($AH$200-D233))^K233)-G233)*Gg_m3+(((H233*mmcfd_m3)*((1+J233*($AH$200-D233))^K233)*F233-G233)*Gg_m3)+((H233*mmcfd_m3)*EXP(-0.6728*($AH$200-D233))*Gg_m3)))),0)","v":0},{"$f":"IF(D233<$AI$200,IF(E233=\"Venting\",((H233*mmcfd_m3)*((1+J233*($AI$200-D233))^K233)-G233)*Gg_m3,IF(E233=\"Sealed\",(((H233*mmcfd_m3)*((1+J233*($AI$200-D233))^K233)*F233-G233)*Gg_m3),IF(E233=\"Flooded\",((H233*mmcfd_m3)*EXP(-0.6728*($AI$200-D233))*Gg_m3),((H233*mmcfd_m3)*((1+J233*($AI$200-D233))^K233)-G233)*Gg_m3+(((H233*mmcfd_m3)*((1+J233*($AI$200-D233))^K233)*F233-G233)*Gg_m3)+((H233*mmcfd_m3)*EXP(-0.6728*($AI$200-D233))*Gg_m3)))),0)","v":0},{"$f":"IF(D233<$AJ$200,IF(E233=\"Venting\",((H233*mmcfd_m3)*((1+J233*($AJ$200-D233))^K233)-G233)*Gg_m3,IF(E233=\"Sealed\",(((H233*mmcfd_m3)*((1+J233*($AJ$200-D233))^K233)*F233-G233)*Gg_m3),IF(E233=\"Flooded\",((H233*mmcfd_m3)*EXP(-0.6728*($AJ$200-D233))*Gg_m3),((H233*mmcfd_m3)*((1+J233*($AJ$200-D233))^K233)-G233)*Gg_m3+(((H233*mmcfd_m3)*((1+J233*($AJ$200-D233))^K233)*F233-G233)*Gg_m3)+((H233*mmcfd_m3)*EXP(-0.6728*($AJ$200-D233))*Gg_m3)))),0)","v":0},{"$f":"IF(D233<$AK$200,IF(E233=\"Venting\",((H233*mmcfd_m3)*((1+J233*($AK$200-D233))^K233)-G233)*Gg_m3,IF(E233=\"Sealed\",(((H233*mmcfd_m3)*((1+J233*($AK$200-D233))^K233)*F233-G233)*Gg_m3),IF(E233=\"Flooded\",((H233*mmcfd_m3)*EXP(-0.6728*($AK$200-D233))*Gg_m3),((H233*mmcfd_m3)*((1+J233*($AK$200-D233))^K233)-G233)*Gg_m3+(((H233*mmcfd_m3)*((1+J233*($AK$200-D233))^K233)*F233-G233)*Gg_m3)+((H233*mmcfd_m3)*EXP(-0.6728*($AK$200-D233))*Gg_m3)))),0)","v":0},{"$f":"IF(D233<$AL$200,IF(E233=\"Venting\",((H233*mmcfd_m3)*((1+J233*($AL$200-D233))^K233)-G233)*Gg_m3,IF(E233=\"Sealed\",(((H233*mmcfd_m3)*((1+J233*($AL$200-D233))^K233)*F233-G233)*Gg_m3),IF(E233=\"Flooded\",((H233*mmcfd_m3)*EXP(-0.6728*($AL$200-D233))*Gg_m3),((H233*mmcfd_m3)*((1+J233*($AL$200-D233))^K233)-G233)*Gg_m3+(((H233*mmcfd_m3)*((1+J233*($AL$200-D233))^K233)*F233-G233)*Gg_m3)+((H233*mmcfd_m3)*EXP(-0.6728*($AL$200-D233))*Gg_m3)))),0)","v":0},{"$f":"IF(D233<$AM$200,IF(E233=\"Venting\",((H233*mmcfd_m3)*((1+J233*($AM$200-D233))^K233)-G233)*Gg_m3,IF(E233=\"Sealed\",(((H233*mmcfd_m3)*((1+J233*($AM$200-D233))^K233)*F233-G233)*Gg_m3),IF(E233=\"Flooded\",((H233*mmcfd_m3)*EXP(-0.6728*($AM$200-D233))*Gg_m3),((H233*mmcfd_m3)*((1+J233*($AM$200-D233))^K233)-G233)*Gg_m3+(((H233*mmcfd_m3)*((1+J233*($AM$200-D233))^K233)*F233-G233)*Gg_m3)+((H233*mmcfd_m3)*EXP(-0.6728*($AM$200-D233))*Gg_m3)))),0)","v":0},{"$f":"IF(D233<$AN$200,IF(E233=\"Venting\",((H233*mmcfd_m3)*((1+J233*($AN$200-D233))^K233)-G233)*Gg_m3,IF(E233=\"Sealed\",(((H233*mmcfd_m3)*((1+J233*($AN$200-D233))^K233)*F233-G233)*Gg_m3),IF(E233=\"Flooded\",((H233*mmcfd_m3)*EXP(-0.6728*($AN$200-D233))*Gg_m3),((H233*mmcfd_m3)*((1+J233*($AN$200-D233))^K233)-G233)*Gg_m3+(((H233*mmcfd_m3)*((1+J233*($AN$200-D233))^K233)*F233-G233)*Gg_m3)+((H233*mmcfd_m3)*EXP(-0.6728*($AN$200-D233))*Gg_m3)))),0)","v":0},{"$f":"IF(D233<$AO$200,IF(E233=\"Venting\",((H233*mmcfd_m3)*((1+J233*($AO$200-D233))^K233)-G233)*Gg_m3,IF(E233=\"Sealed\",(((H233*mmcfd_m3)*((1+J233*($AO$200-D233))^K233)*F233-G233)*Gg_m3),IF(E233=\"Flooded\",((H233*mmcfd_m3)*EXP(-0.6728*($AO$200-D233))*Gg_m3),((H233*mmcfd_m3)*((1+J233*($AO$200-D233))^K233)-G233)*Gg_m3+(((H233*mmcfd_m3)*((1+J233*($AO$200-D233))^K233)*F233-G233)*Gg_m3)+((H233*mmcfd_m3)*EXP(-0.6728*($AO$200-D233))*Gg_m3)))),0)","v":0},{"$f":"IF(D233<$AP$200,IF(E233=\"Venting\",((H233*mmcfd_m3)*((1+J233*($AP$200-D233))^K233)-G233)*Gg_m3,IF(E233=\"Sealed\",(((H233*mmcfd_m3)*((1+J233*($AP$200-D233))^K233)*F233-G233)*Gg_m3),IF(E233=\"Flooded\",((H233*mmcfd_m3)*EXP(-0.6728*($AP$200-D233))*Gg_m3),((H233*mmcfd_m3)*((1+J233*($AP$200-D233))^K233)-G233)*Gg_m3+(((H233*mmcfd_m3)*((1+J233*($AP$200-D233))^K233)*F233-G233)*Gg_m3)+((H233*mmcfd_m3)*EXP(-0.6728*($AP$200-D233))*Gg_m3)))),0)","v":0},{"$f":"IF(D233<$AQ$200,IF(E233=\"Venting\",((H233*mmcfd_m3)*((1+J233*($AQ$200-D233))^K233)-G233)*Gg_m3,IF(E233=\"Sealed\",(((H233*mmcfd_m3)*((1+J233*($AQ$200-D233))^K233)*F233-G233)*Gg_m3),IF(E233=\"Flooded\",((H233*mmcfd_m3)*EXP(-0.6728*($AQ$200-D233))*Gg_m3),((H233*mmcfd_m3)*((1+J233*($AQ$200-D233))^K233)-G233)*Gg_m3+(((H233*mmcfd_m3)*((1+J233*($AQ$200-D233))^K233)*F233-G233)*Gg_m3)+((H233*mmcfd_m3)*EXP(-0.6728*($AQ$200-D233))*Gg_m3)))),0)","v":0},{"$f":"IF(D233<$AR$200,IF(E233=\"Venting\",((H233*mmcfd_m3)*((1+J233*($AR$200-D233))^K233)-G233)*Gg_m3,IF(E233=\"Sealed\",(((H233*mmcfd_m3)*((1+J233*($AR$200-D233))^K233)*F233-G233)*Gg_m3),IF(E233=\"Flooded\",((H233*mmcfd_m3)*EXP(-0.6728*($AR$200-D233))*Gg_m3),((H233*mmcfd_m3)*((1+J233*($AR$200-D233))^K233)-G233)*Gg_m3+(((H233*mmcfd_m3)*((1+J233*($AR$200-D233))^K233)*F233-G233)*Gg_m3)+((H233*mmcfd_m3)*EXP(-0.6728*($AR$200-D233))*Gg_m3)))),0)","v":0},{"$f":"IF(D233<$AS$200,IF(E233=\"Venting\",((H233*mmcfd_m3)*((1+J233*($AS$200-D233))^K233)-G233)*Gg_m3,IF(E233=\"Sealed\",(((H233*mmcfd_m3)*((1+J233*($AS$200-D233))^K233)*F233-G233)*Gg_m3),IF(E233=\"Flooded\",((H233*mmcfd_m3)*EXP(-0.6728*($AS$200-D233))*Gg_m3),((H233*mmcfd_m3)*((1+J233*($AS$200-D233))^K233)-G233)*Gg_m3+(((H233*mmcfd_m3)*((1+J233*($AS$200-D233))^K233)*F233-G233)*Gg_m3)+((H233*mmcfd_m3)*EXP(-0.6728*($AS$200-D233))*Gg_m3)))),0)","v":0},{"$f":"IF(D233<$AT$200,IF(E233=\"Venting\",((H233*mmcfd_m3)*((1+J233*($AT$200-D233))^K233)-G233)*Gg_m3,IF(E233=\"Sealed\",(((H233*mmcfd_m3)*((1+J233*($AT$200-D233))^K233)*F233-G233)*Gg_m3),IF(E233=\"Flooded\",((H233*mmcfd_m3)*EXP(-0.6728*($AT$200-D233))*Gg_m3),((H233*mmcfd_m3)*((1+J233*($AT$200-D233))^K233)-G233)*Gg_m3+(((H233*mmcfd_m3)*((1+J233*($AT$200-D233))^K233)*F233-G233)*Gg_m3)+((H233*mmcfd_m3)*EXP(-0.6728*($AT$200-D233))*Gg_m3)))),0)","v":0},{"$f":"IF(D233<$AU$200,IF(E233=\"Venting\",((H233*mmcfd_m3)*((1+J233*($AU$200-D233))^K233)-G233)*Gg_m3,IF(E233=\"Sealed\",(((H233*mmcfd_m3)*((1+J233*($AU$200-D233))^K233)*F233-G233)*Gg_m3),IF(E233=\"Flooded\",((H233*mmcfd_m3)*EXP(-0.6728*($AU$200-D233))*Gg_m3),((H233*mmcfd_m3)*((1+J233*($AU$200-D233))^K233)-G233)*Gg_m3+(((H233*mmcfd_m3)*((1+J233*($AU$200-D233))^K233)*F233-G233)*Gg_m3)+((H233*mmcfd_m3)*EXP(-0.6728*($AU$200-D233))*Gg_m3)))),0)","v":0},{"$f":"IF(D233<$AV$200,IF(E233=\"Venting\",((H233*mmcfd_m3)*((1+J233*($AV$200-D233))^K233)-G233)*Gg_m3,IF(E233=\"Sealed\",(((H233*mmcfd_m3)*((1+J233*($AV$200-D233))^K233)*F233-G233)*Gg_m3),IF(E233=\"Flooded\",((H233*mmcfd_m3)*EXP(-0.6728*($AV$200-D233))*Gg_m3),((H233*mmcfd_m3)*((1+J233*($AV$200-D233))^K233)-G233)*Gg_m3+(((H233*mmcfd_m3)*((1+J233*($AV$200-D233))^K233)*F233-G233)*Gg_m3)+((H233*mmcfd_m3)*EXP(-0.6728*($AV$200-D233))*Gg_m3)))),0)","v":0},{"$f":"IF(D233<$AW$200,IF(E233=\"Venting\",((H233*mmcfd_m3)*((1+J233*($AW$200-D233))^K233)-G233)*Gg_m3,IF(E233=\"Sealed\",(((H233*mmcfd_m3)*((1+J233*($AW$200-D233))^K233)*F233-G233)*Gg_m3),IF(E233=\"Flooded\",((H233*mmcfd_m3)*EXP(-0.6728*($AW$200-D233))*Gg_m3),((H233*mmcfd_m3)*((1+J233*($AW$200-D233))^K233)-G233)*Gg_m3+(((H233*mmcfd_m3)*((1+J233*($AW$200-D233))^K233)*F233-G233)*Gg_m3)+((H233*mmcfd_m3)*EXP(-0.6728*($AW$200-D233))*Gg_m3)))),0)","v":0},{"$f":"IF(D233<$AX$200,IF(E233=\"Venting\",((H233*mmcfd_m3)*((1+J233*($AX$200-D233))^K233)-G233)*Gg_m3,IF(E233=\"Sealed\",(((H233*mmcfd_m3)*((1+J233*($AX$200-D233))^K233)*F233-G233)*Gg_m3),IF(E233=\"Flooded\",((H233*mmcfd_m3)*EXP(-0.6728*($AX$200-D233))*Gg_m3),((H233*mmcfd_m3)*((1+J233*($AX$200-D233))^K233)-G233)*Gg_m3+(((H233*mmcfd_m3)*((1+J233*($AX$200-D233))^K233)*F233-G233)*Gg_m3)+((H233*mmcfd_m3)*EXP(-0.6728*($AX$200-D233))*Gg_m3)))),0)","v":0},{"$f":"IF(D233<$AY$200,IF(E233=\"Venting\",((H233*mmcfd_m3)*((1+J233*($AY$200-D233))^K233)-G233)*Gg_m3,IF(E233=\"Sealed\",(((H233*mmcfd_m3)*((1+J233*($AY$200-D233))^K233)*F233-G233)*Gg_m3),IF(E233=\"Flooded\",((H233*mmcfd_m3)*EXP(-0.6728*($AY$200-D233))*Gg_m3),((H233*mmcfd_m3)*((1+J233*($AY$200-D233))^K233)-G233)*Gg_m3+(((H233*mmcfd_m3)*((1+J233*($AY$200-D233))^K233)*F233-G233)*Gg_m3)+((H233*mmcfd_m3)*EXP(-0.6728*($AY$200-D233))*Gg_m3)))),0)","v":0},{"$f":"IF(D233<$AZ$200,IF(E233=\"Venting\",((H233*mmcfd_m3)*((1+J233*($AZ$200-D233))^K233)-G233)*Gg_m3,IF(E233=\"Sealed\",(((H233*mmcfd_m3)*((1+J233*($AZ$200-D233))^K233)*F233-G233)*Gg_m3),IF(E233=\"Flooded\",((H233*mmcfd_m3)*EXP(-0.6728*($AZ$200-D233))*Gg_m3),((H233*mmcfd_m3)*((1+J233*($AZ$200-D233))^K233)-G233)*Gg_m3+(((H233*mmcfd_m3)*((1+J233*($AZ$200-D233))^K233)*F233-G233)*Gg_m3)+((H233*mmcfd_m3)*EXP(-0.6728*($AZ$200-D233))*Gg_m3)))),0)","v":0},{"$f":"IF(D233<$BA$200,IF(E233=\"Venting\",((H233*mmcfd_m3)*((1+J233*($BA$200-D233))^K233)-G233)*Gg_m3,IF(E233=\"Sealed\",(((H233*mmcfd_m3)*((1+J233*($BA$200-D233))^K233)*F233-G233)*Gg_m3),IF(E233=\"Flooded\",((H233*mmcfd_m3)*EXP(-0.6728*($BA$200-D233))*Gg_m3),((H233*mmcfd_m3)*((1+J233*($BA$200-D233))^K233)-G233)*Gg_m3+(((H233*mmcfd_m3)*((1+J233*($BA$200-D233))^K233)*F233-G233)*Gg_m3)+((H233*mmcfd_m3)*EXP(-0.6728*($BA$200-D233))*Gg_m3)))),0)","v":0},{"$f":"IF(D233<$BB$200,IF(E233=\"Venting\",((H233*mmcfd_m3)*((1+J233*($BB$200-D233))^K233)-G233)*Gg_m3,IF(E233=\"Sealed\",(((H233*mmcfd_m3)*((1+J233*($BB$200-D233))^K233)*F233-G233)*Gg_m3),IF(E233=\"Flooded\",((H233*mmcfd_m3)*EXP(-0.6728*($BB$200-D233))*Gg_m3),((H233*mmcfd_m3)*((1+J233*($BB$200-D233))^K233)-G233)*Gg_m3+(((H233*mmcfd_m3)*((1+J233*($BB$200-D233))^K233)*F233-G233)*Gg_m3)+((H233*mmcfd_m3)*EXP(-0.6728*($BB$200-D233))*Gg_m3)))),0)","v":0},{"$f":"IF(D233<$BC$200,IF(E233=\"Venting\",((H233*mmcfd_m3)*((1+J233*($BC$200-D233))^K233)-G233)*Gg_m3,IF(E233=\"Sealed\",(((H233*mmcfd_m3)*((1+J233*($BC$200-D233))^K233)*F233-G233)*Gg_m3),IF(E233=\"Flooded\",((H233*mmcfd_m3)*EXP(-0.6728*($BC$200-D233))*Gg_m3),((H233*mmcfd_m3)*((1+J233*($BC$200-D233))^K233)-G233)*Gg_m3+(((H233*mmcfd_m3)*((1+J233*($BC$200-D233))^K233)*F233-G233)*Gg_m3)+((H233*mmcfd_m3)*EXP(-0.6728*($BC$200-D233))*Gg_m3)))),0)","v":0},0,0,0,0,0]
[34,{"$f":"'CH4 from Abandoned Coal Mines'!D242","v":0},{"$f":"'CH4 from Abandoned Coal Mines'!F242","v":0},{"$f":"'CH4 from Abandoned Coal Mines'!J242","v":0},{"$f":"'CH4 from Abandoned Coal Mines'!L242","v":0},{"$f":"1-'CH4 from Abandoned Coal Mines'!N242","v":1},{"$f":"'CH4 from Abandoned Coal Mines'!R242","v":0},{"$f":"'CH4 from Abandoned Coal Mines'!P242","v":0},{"$f":"'CH4 from Abandoned Coal Mines'!H242","v":0},0,0,0,null,null,null,null,null,null,null,null,null,null,null,34,0,0,0,0,0,0,0,0,0,0,0,0,0,0,0,0,0,0,0,0,0,0,0,0,0,0,0,0,0,0,0,0,0,0,0,0]
[35,{"$f":"'CH4 from Abandoned Coal Mines'!D243","v":0},{"$f":"'CH4 from Abandoned Coal Mines'!F243","v":0},{"$f":"'CH4 from Abandoned Coal Mines'!J243","v":0},{"$f":"'CH4 from Abandoned Coal Mines'!L243","v":0},{"$f":"1-'CH4 from Abandoned Coal Mines'!N243","v":1},{"$f":"'CH4 from Abandoned Coal Mines'!R243","v":0},{"$f":"'CH4 from Abandoned Coal Mines'!P243","v":0},{"$f":"'CH4 from Abandoned Coal Mines'!H243","v":0},0,0,0,null,null,null,null,null,null,null,null,null,null,null,35,0,0,0,0,0,0,0,0,0,0,0,0,0,0,0,0,0,0,0,0,0,0,0,0,0,0,0,0,0,0,0,0,0,0,0,0]
[36,{"$f":"'CH4 from Abandoned Coal Mines'!D244","v":0},{"$f":"'CH4 from Abandoned Coal Mines'!F244","v":0},{"$f":"'CH4 from Abandoned Coal Mines'!J244","v":0},{"$f":"'CH4 from Abandoned Coal Mines'!L244","v":0},{"$f":"1-'CH4 from Abandoned Coal Mines'!N244","v":1},{"$f":"'CH4 from Abandoned Coal Mines'!R244","v":0},{"$f":"'CH4 from Abandoned Coal Mines'!P244","v":0},{"$f":"'CH4 from Abandoned Coal Mines'!H244","v":0},0,0,0,null,null,null,null,null,null,null,null,null,null,null,36,0,0,0,0,0,0,0,0,0,0,0,0,0,0,0,0,0,0,0,0,0,0,0,0,0,0,0,0,0,0,0,0,0,0,0,0]
[37,{"$f":"'CH4 from Abandoned Coal Mines'!D245","v":0},{"$f":"'CH4 from Abandoned Coal Mines'!F245","v":0},{"$f":"'CH4 from Abandoned Coal Mines'!J245","v":0},{"$f":"'CH4 from Abandoned Coal Mines'!L245","v":0},{"$f":"1-'CH4 from Abandoned Coal Mines'!N245","v":1},{"$f":"'CH4 from Abandoned Coal Mines'!R245","v":0},{"$f":"'CH4 from Abandoned Coal Mines'!P245","v":0},{"$f":"'CH4 from Abandoned Coal Mines'!H245","v":0},0,0,0,null,null,null,null,null,null,null,null,null,null,null,37,0,0,0,0,0,0,0,0,0,0,0,0,0,0,0,0,0,0,0,0,0,0,0,0,0,0,0,0,0,0,0,0,0,0,0,0]
[38,{"$f":"'CH4 from Abandoned Coal Mines'!D246","v":0},{"$f":"'CH4 from Abandoned Coal Mines'!F246","v":0},{"$f":"'CH4 from Abandoned Coal Mines'!J246","v":0},{"$f":"'CH4 from Abandoned Coal Mines'!L246","v":0},{"$f":"1-'CH4 from Abandoned Coal Mines'!N246","v":1},{"$f":"'CH4 from Abandoned Coal Mines'!R246","v":0},{"$f":"'CH4 from Abandoned Coal Mines'!P246","v":0},{"$f":"'CH4 from Abandoned Coal Mines'!H246","v":0},0,0,0,null,null,null,null,null,null,null,null,null,null,null,38,0,0,0,0,0,0,0,0,0,0,0,0,0,0,0,0,0,0,0,0,0,0,0,0,0,0,0,0,0,0,0,0,0,0,0,0]
[39,{"$f":"'CH4 from Abandoned Coal Mines'!D247","v":0},{"$f":"'CH4 from Abandoned Coal Mines'!F247","v":0},{"$f":"'CH4 from Abandoned Coal Mines'!J247","v":0},{"$f":"'CH4 from Abandoned Coal Mines'!L247","v":0},{"$f":"1-'CH4 from Abandoned Coal Mines'!N247","v":1},{"$f":"'CH4 from Abandoned Coal Mines'!R247","v":0},{"$f":"'CH4 from Abandoned Coal Mines'!P247","v":0},{"$f":"'CH4 from Abandoned Coal Mines'!H247","v":0},0,0,0,null,null,null,null,null,null,null,null,null,null,null,39,0,0,0,0,0,0,0,0,0,0,0,0,0,0,0,0,0,0,0,0,0,0,0,0,0,0,0,0,0,0,0,0,0,0,0,0]
[40,{"$f":"'CH4 from Abandoned Coal Mines'!D248","v":0},{"$f":"'CH4 from Abandoned Coal Mines'!F248","v":0},{"$f":"'CH4 from Abandoned Coal Mines'!J248","v":0},{"$f":"'CH4 from Abandoned Coal Mines'!L248","v":0},{"$f":"1-'CH4 from Abandoned Coal Mines'!N248","v":1},{"$f":"'CH4 from Abandoned Coal Mines'!R248","v":0},{"$f":"'CH4 from Abandoned Coal Mines'!P248","v":0},{"$f":"'CH4 from Abandoned Coal Mines'!H248","v":0},0,0,0,null,null,null,null,null,null,null,null,null,null,null,40,0,0,0,0,0,0,0,0,0,0,0,0,0,0,0,0,0,0,0,0,0,0,0,0,0,0,0,0,0,0,0,0,0,0,0,0]
[41,{"$f":"'CH4 from Abandoned Coal Mines'!D249","v":0},{"$f":"'CH4 from Abandoned Coal Mines'!F249","v":0},{"$f":"'CH4 from Abandoned Coal Mines'!J249","v":0},{"$f":"'CH4 from Abandoned Coal Mines'!L249","v":0},{"$f":"1-'CH4 from Abandoned Coal Mines'!N249","v":1},{"$f":"'CH4 from Abandoned Coal Mines'!R249","v":0},{"$f":"'CH4 from Abandoned Coal Mines'!P249","v":0},{"$f":"'CH4 from Abandoned Coal Mines'!H249","v":0},0,0,0,null,null,null,null,null,null,null,null,null,null,null,41,0,0,0,0,0,0,0,0,0,0,0,0,0,0,0,0,0,0,0,0,0,0,0,0,0,0,0,0,0,0,0,0,0,0,0,0]
[42,{"$f":"'CH4 from Abandoned Coal Mines'!D250","v":0},{"$f":"'CH4 from Abandoned Coal Mines'!F250","v":0},{"$f":"'CH4 from Abandoned Coal Mines'!J250","v":0},{"$f":"'CH4 from Abandoned Coal Mines'!L250","v":0},{"$f":"1-'CH4 from Abandoned Coal Mines'!N250","v":1},{"$f":"'CH4 from Abandoned Coal Mines'!R250","v":0},{"$f":"'CH4 from Abandoned Coal Mines'!P250","v":0},{"$f":"'CH4 from Abandoned Coal Mines'!H250","v":0},0,0,0,null,null,null,null,null,null,null,null,null,null,null,42,0,0,0,0,0,0,0,0,0,0,0,0,0,0,0,0,0,0,0,0,0,0,0,0,0,0,0,0,0,0,0,{"$f":"IF($D242<BD$200,IF($E242=\"Venting\",(($H242*mmcfd_m3)*((1+$J242*(BD$200-$D242))^$K242)-$G242)*Gg_m3,IF($E242=\"Sealed\",((($H242*mmcfd_m3)*((1+$J242*(BD$200-$D242))^$K242)*$F242-$G242)*Gg_m3),IF($E242=\"Flooded\",(($H242*mmcfd_m3)*EXP(-0.6728*(BD$200-$D242))*Gg_m3),(($H242*mmcfd_m3)*((1+$J242*(BD$200-$D242))^$K242)-$G242)*Gg_m3+((($H242*mmcfd_m3)*((1+$J242*(BD$200-$D242))^$K242)*$F242-$G242)*Gg_m3)+(($H242*mmcfd_m3)*EXP(-0.6728*(BD$200-$D242))*Gg_m3)))),0)","v":0},0,0,0,0]
[43,{"$f":"'CH4 from Abandoned Coal Mines'!D251","v":0},{"$f":"'CH4 from Abandoned Coal Mines'!F251","v":0},{"$f":"'CH4 from Abandoned Coal Mines'!J251","v":0},{"$f":"'CH4 from Abandoned Coal Mines'!L251","v":0},{"$f":"1-'CH4 from Abandoned Coal Mines'!N251","v":1},{"$f":"'CH4 from Abandoned Coal Mines'!R251","v":0},{"$f":"'CH4 from Abandoned Coal Mines'!P251","v":0},{"$f":"'CH4 from Abandoned Coal Mines'!H251","v":0},0,0,0,null,null,null,null,null,null,null,null,null,null,null,43,0,0,0,0,0,0,0,0,0,0,0,0,0,0,0,0,0,0,0,0,0,0,0,0,0,0,0,0,0,0,0,0,0,0,0,0]
[44,{"$f":"'CH4 from Abandoned Coal Mines'!D252","v":0},{"$f":"'CH4 from Abandoned Coal Mines'!F252","v":0},{"$f":"'CH4 from Abandoned Coal Mines'!J252","v":0},{"$f":"'CH4 from Abandoned Coal Mines'!L252","v":0},{"$f":"1-'CH4 from Abandoned Coal Mines'!N252","v":1},{"$f":"'CH4 from Abandoned Coal Mines'!R252","v":0},{"$f":"'CH4 from Abandoned Coal Mines'!P252","v":0},{"$f":"'CH4 from Abandoned Coal Mines'!H252","v":0},0,0,0,null,null,null,null,null,null,null,null,null,null,null,44,0,0,0,0,0,0,0,0,0,0,0,0,0,0,0,0,0,0,0,0,0,0,0,0,0,0,0,0,0,0,0,0,0,0,0,0]
[45,{"$f":"'CH4 from Abandoned Coal Mines'!D253","v":0},{"$f":"'CH4 from Abandoned Coal Mines'!F253","v":0},{"$f":"'CH4 from Abandoned Coal Mines'!J253","v":0},{"$f":"'CH4 from Abandoned Coal Mines'!L253","v":0},{"$f":"1-'CH4 from Abandoned Coal Mines'!N253","v":1},{"$f":"'CH4 from Abandoned Coal Mines'!R253","v":0},{"$f":"'CH4 from Abandoned Coal Mines'!P253","v":0},{"$f":"'CH4 from Abandoned Coal Mines'!H253","v":0},0,0,0,null,null,null,null,null,null,null,null,null,null,null,45,0,0,0,0,0,0,0,0,0,0,0,0,0,0,0,0,0,0,0,0,0,0,0,0,0,0,0,0,0,0,0,0,0,0,0,0]
[46,{"$f":"'CH4 from Abandoned Coal Mines'!D254","v":0},{"$f":"'CH4 from Abandoned Coal Mines'!F254","v":0},{"$f":"'CH4 from Abandoned Coal Mines'!J254","v":0},{"$f":"'CH4 from Abandoned Coal Mines'!L254","v":0},{"$f":"1-'CH4 from Abandoned Coal Mines'!N254","v":1},{"$f":"'CH4 from Abandoned Coal Mines'!R254","v":0},{"$f":"'CH4 from Abandoned Coal Mines'!P254","v":0},{"$f":"'CH4 from Abandoned Coal Mines'!H254","v":0},0,0,0,null,null,null,null,null,null,null,null,null,null,null,46,0,0,0,0,0,0,0,0,0,0,0,0,0,0,0,0,0,0,0,0,0,0,0,0,0,0,0,0,0,0,0,0,0,0,0,0]
[47,{"$f":"'CH4 from Abandoned Coal Mines'!D255","v":0},{"$f":"'CH4 from Abandoned Coal Mines'!F255","v":0},{"$f":"'CH4 from Abandoned Coal Mines'!J255","v":0},{"$f":"'CH4 from Abandoned Coal Mines'!L255","v":0},{"$f":"1-'CH4 from Abandoned Coal Mines'!N255","v":1},{"$f":"'CH4 from Abandoned Coal Mines'!R255","v":0},{"$f":"'CH4 from Abandoned Coal Mines'!P255","v":0},{"$f":"'CH4 from Abandoned Coal Mines'!H255","v":0},0,0,0,null,null,null,null,null,null,null,null,null,null,null,47,0,0,0,0,0,0,0,0,0,0,0,0,0,0,0,0,0,0,0,0,0,0,0,0,0,0,0,0,0,0,0,0,0,0,0,0]
[48,{"$f":"'CH4 from Abandoned Coal Mines'!D256","v":0},{"$f":"'CH4 from Abandoned Coal Mines'!F256","v":0},{"$f":"'CH4 from Abandoned Coal Mines'!J256","v":0},{"$f":"'CH4 from Abandoned Coal Mines'!L256","v":0},{"$f":"1-'CH4 from Abandoned Coal Mines'!N256","v":1},{"$f":"'CH4 from Abandoned Coal Mines'!R256","v":0},{"$f":"'CH4 from Abandoned Coal Mines'!P256","v":0},{"$f":"'CH4 from Abandoned Coal Mines'!H256","v":0},0,0,0,null,null,null,null,null,null,null,null,null,null,null,48,0,0,0,0,0,0,0,0,0,0,0,0,0,0,0,0,0,0,0,0,0,0,0,0,0,0,0,0,0,0,0,0,0,0,0,0]
[49,{"$f":"'CH4 from Abandoned Coal Mines'!D257","v":0},{"$f":"'CH4 from Abandoned Coal Mines'!F257","v":0},{"$f":"'CH4 from Abandoned Coal Mines'!J257","v":0},{"$f":"'CH4 from Abandoned Coal Mines'!L257","v":0},{"$f":"1-'CH4 from Abandoned Coal Mines'!N257","v":1},{"$f":"'CH4 from Abandoned Coal Mines'!R257","v":0},{"$f":"'CH4 from Abandoned Coal Mines'!P257","v":0},{"$f":"'CH4 from Abandoned Coal Mines'!H257","v":0},0,0,0,null,null,null,null,null,null,null,null,null,null,null,49,0,0,0,0,0,0,0,0,0,0,0,0,0,0,0,0,0,0,0,0,0,0,0,0,0,0,0,0,0,0,0,0,0,0,0,0]
[50,{"$f":"'CH4 from Abandoned Coal Mines'!D258","v":0},{"$f":"'CH4 from Abandoned Coal Mines'!F258","v":0},{"$f":"'CH4 from Abandoned Coal Mines'!J258","v":0},{"$f":"'CH4 from Abandoned Coal Mines'!L258","v":0},{"$f":"1-'CH4 from Abandoned Coal Mines'!N258","v":1},{"$f":"'CH4 from Abandoned Coal Mines'!R258","v":0},{"$f":"'CH4 from Abandoned Coal Mines'!P258","v":0},{"$f":"'CH4 from Abandoned Coal Mines'!H258","v":0},0,0,0,null,null,null,null,null,null,null,null,null,null,null,50,0,0,0,0,0,0,0,0,0,0,0,0,0,0,0,0,0,0,0,0,0,0,0,0,0,0,0,0,0,0,0,0,0,0,0,0]

{"sheet":"Additional Emission Sources","index":9,"n_rows":33,"n_cols":38,"rows_kept":33,"cut":false,"hidden":false,"merged":[[0,11,0,38]]}
[{"$f":"\"5. Additional Emission Sources in \"&constants!K1","v":"5. Additional Emission Sources in XX"}]
[]
[]
[]
[]
[]
[]
[]
[]
[]
[]
["Additional Emission Sources (MTCO2E)"]
["Option A"]
["Source","Gas",1990,1991,1992,1993,1994,1995,1996,1997,1998,1999,2000,2001,2002,2003,2004,2005,2006,2007,2008,2009,2010,2011,2012,2013,2014,2015,2016,2017,2018,2019,2020,2021,2022,2023,2024,2025]
[null,"CH4"]
[null,"CH4"]
[null,"CH4"]
[null,"CH4"]
[null,"CH4"]
[null,"CH4"]
[null,"CH4"]
[null,"CH4"]
[null,"CH4"]
[null,"CH4"]
[]
[]
[null,null,1990,1991,1992,1993,1994,1995,1996,1997,1998,1999,2000,2001,2002,2003,2004,2005,2006,2007,2008,2009,2010,2011,2012,2013,2014,2015,2016,2017,2018,2019,2020,2021,2022,2023,2024,2025]
["Additional Methane Emissions","CH4",{"$f":"SUM(C15:C24)","v":0},{"$f":"SUM(D15:D24)","v":0},0,0,0,0,0,0,0,0,0,0,0,0,0,0,0,0,0,0,0,0,0,0,0,0,0,0,0,0,0,0,0,0,0,0]
[]
[]
["Option B"]
[null,null,1990,1991,1992,1993,1994,1995,1996,1997,1998,1999,2000,2001,2002,2003,2004,2005,2006,2007,2008,2009,2010,2011,2012,2013,2014,2015,2016,2017,2018,2019,2020,2021,2022,2023,2024,2025]
["Additional Methane Emissions","CH4"]

{"sheet":"Summary","index":10,"n_rows":65,"n_cols":63,"rows_kept":65,"cut":false,"hidden":false,"merged":[[1,2,1,12]]}
[{"$f":"\"6. \"&constants!L1&\" Emissions Summary\"","v":"6. Select a State . . .  Emissions Summary"}]
[]
[]
[]
[]
[]
[null,"Emissions (MTCO2E)",null,null,null,null,null,null,null,null,null,null,null,null,null,null,null,null,null,null,null,null,null,null,null,null,null,null,null,null,null,"Default emissions for Abandoned Mines for 2022-2025 (lines 10-13) are automatically estimated and can be deleted",null,null,null,null,null,null,"Only used for macro that produces projections, keep hidden"]
[null,null,1990,"1991*","1992*",1993,1994,1995,1996,1997,1998,1999,2000,2001,2002,2003,2004,2005,2006,2007,2008,2009,2010,2011,2012,2013,2014,2015,2016,2017,2018,2019,2020,{"$f":"AG8+1","v":2021},2022,2023,2024,2025,2026,2027,2028,2029,2030,2031,2032,2033,2034,2035,2036,2037,2038,2039,2040,2041,2042,2043,2044,2045,2046,2047,2048,2049,2050]
[null,"Coal Mining",{"$f":"'CH4 from Coal Mining'!E19","v":0},{"$f":"'CH4 from Coal Mining'!E40","v":0},{"$f":"'CH4 from Coal Mining'!E61","v":0},{"$f":"'CH4 from Coal Mining'!E82","v":0},{"$f":"'CH4 from Coal Mining'!E103","v":0},{"$f":"'CH4 from Coal Mining'!E124","v":0},{"$f":"'CH4 from Coal Mining'!E145","v":0},{"$f":"'CH4 from Coal Mining'!E166","v":0},{"$f":"'CH4 from Coal Mining'!E187","v":0},{"$f":"'CH4 from Coal Mining'!E208","v":0},{"$f":"'CH4 from Coal Mining'!E229","v":0},{"$f":"'CH4 from Coal Mining'!E250","v":0},{"$f":"'CH4 from Coal Mining'!E271","v":0},{"$f":"'CH4 from Coal Mining'!E292","v":0},{"$f":"'CH4 from Coal Mining'!E313","v":0},{"$f":"'CH4 from Coal Mining'!E334","v":0},{"$f":"'CH4 from Coal Mining'!E355","v":0},{"$f":"'CH4 from Coal Mining'!E376","v":0},{"$f":"'CH4 from Coal Mining'!E397","v":0},{"$f":"'CH4 from Coal Mining'!E418","v":0},{"$f":"'CH4 from Coal Mining'!E439","v":0},{"$f":"'CH4 from Coal Mining'!E460","v":0},{"$f":"'CH4 from Coal Mining'!E481","v":0},{"$f":"'CH4 from Coal Mining'!E502","v":0},{"$f":"'CH4 from Coal Mining'!E523","v":0},{"$f":"'CH4 from Coal Mining'!E544","v":0},{"$f":"'CH4 from Coal Mining'!E565","v":0},{"$f":"'CH4 from Coal Mining'!E586","v":0},{"$f":"'CH4 from Coal Mining'!E607","v":0},{"$f":"'CH4 from Coal Mining'!E628","v":0},{"$f":"'CH4 from Coal Mining'!E649","v":0},{"$f":"'CH4 from Coal Mining'!E670","v":0},{"$f":"'CH4 from Coal Mining'!E691","v":0},{"$f":"'CH4 from Coal Mining'!E712","v":0},{"$f":"'CH4 from Coal Mining'!IE733","v":0},{"$f":"'CH4 from Coal Mining'!E754","v":0},{"$f":"'CH4 from Coal Mining'!K649","v":0},{"$f":"'CH4 from Coal Mining'!L649","v":0},{"$f":"'CH4 from Coal Mining'!M649","v":0},{"$f":"'CH4 from Coal Mining'!N649","v":0},{"$f":"'CH4 from Coal Mining'!O649","v":0},{"$f":"'CH4 from Coal Mining'!P649","v":0},{"$f":"'CH4 from Coal Mining'!Q649","v":0},{"$f":"'CH4 from Coal Mining'!R649","v":0},{"$f":"'CH4 from Coal Mining'!S649","v":0},{"$f":"'CH4 from Coal Mining'!T649","v":0},{"$f":"'CH4 from Coal Mining'!U649","v":0},{"$f":"'CH4 from Coal Mining'!V649","v":0},{"$f":"'CH4 from Coal Mining'!W649","v":0},{"$f":"'CH4 from Coal Mining'!X649","v":0},{"$f":"'CH4 from Coal Mining'!Y649","v":0},{"$f":"'CH4 from Coal Mining'!Z649","v":0},{"$f":"'CH4 from Coal Mining'!AA649","v":0},{"$f":"'CH4 from Coal Mining'!AB649","v":0},{"$f":"'CH4 from Coal Mining'!AC649","v":0},{"$f":"'CH4 from Coal Mining'!AD649","v":0},{"$f":"'CH4 from Coal Mining'!AE649","v":0},{"$f":"'CH4 from Coal Mining'!AF649","v":0},{"$f":"'CH4 from Coal Mining'!AG649","v":0},{"$f":"'CH4 from Coal Mining'!AH649","v":0},{"$f":"'CH4 from Coal Mining'!AI649","v":0}]
[null,"Abandoned Coal Mines",{"$f":"SUM('Summary Abandoned Coal Mines'!D24,'Summary Abandoned Coal Mines'!D39)","v":0},{"$f":"SUM('Summary Abandoned Coal Mines'!E24,'Summary Abandoned Coal Mines'!E39)","v":0},{"$f":"SUM('Summary Abandoned Coal Mines'!F24,'Summary Abandoned Coal Mines'!F39)","v":0},{"$f":"SUM('Summary Abandoned Coal Mines'!G24,'Summary Abandoned Coal Mines'!G39)","v":0},{"$f":"SUM('Summary Abandoned Coal Mines'!H24,'Summary Abandoned Coal Mines'!H39)","v":0},{"$f":"SUM('Summary Abandoned Coal Mines'!I24,'Summary Abandoned Coal Mines'!I39)","v":0},{"$f":"SUM('Summary Abandoned Coal Mines'!J24,'Summary Abandoned Coal Mines'!J39)","v":0},{"$f":"SUM('Summary Abandoned Coal Mines'!K24,'Summary Abandoned Coal Mines'!K39)","v":0},{"$f":"SUM('Summary Abandoned Coal Mines'!L24,'Summary Abandoned Coal Mines'!L39)","v":0},{"$f":"SUM('Summary Abandoned Coal Mines'!M24,'Summary Abandoned Coal Mines'!M39)","v":0},{"$f":"SUM('Summary Abandoned Coal Mines'!N24,'Summary Abandoned Coal Mines'!N39)","v":0},{"$f":"SUM('Summary Abandoned Coal Mines'!O24,'Summary Abandoned Coal Mines'!O39)","v":0},{"$f":"SUM('Summary Abandoned Coal Mines'!P24,'Summary Abandoned Coal Mines'!P39)","v":0},{"$f":"SUM('Summary Abandoned Coal Mines'!Q24,'Summary Abandoned Coal Mines'!Q39)","v":0},{"$f":"SUM('Summary Abandoned Coal Mines'!R24,'Summary Abandoned Coal Mines'!R39)","v":0},{"$f":"SUM('Summary Abandoned Coal Mines'!S24,'Summary Abandoned Coal Mines'!S39)","v":0},{"$f":"SUM('Summary Abandoned Coal Mines'!T24,'Summary Abandoned Coal Mines'!T39)","v":0},{"$f":"SUM('Summary Abandoned Coal Mines'!U24,'Summary Abandoned Coal Mines'!U39)","v":0},{"$f":"SUM('Summary Abandoned Coal Mines'!V24,'Summary Abandoned Coal Mines'!V39)","v":0},{"$f":"SUM('Summary Abandoned Coal Mines'!W24,'Summary Abandoned Coal Mines'!W39)","v":0},{"$f":"SUM('Summary Abandoned Coal Mines'!X24,'Summary Abandoned Coal Mines'!X39)","v":0},{"$f":"SUM('Summary Abandoned Coal Mines'!Y24,'Summary Abandoned Coal Mines'!Y39)","v":0},{"$f":"SUM('Summary Abandoned Coal Mines'!Z24,'Summary Abandoned Coal Mines'!Z39)","v":0},{"$f":"SUM('Summary Abandoned Coal Mines'!AA24,'Summary Abandoned Coal Mines'!AA39)","v":0},{"$f":"SUM('Summary Abandoned Coal Mines'!AB24,'Summary Abandoned Coal Mines'!AB39)","v":0},{"$f":"SUM('Summary Abandoned Coal Mines'!AC24,'Summary Abandoned Coal Mines'!AC39)","v":0},{"$f":"SUM('Summary Abandoned Coal Mines'!AD24,'Summary Abandoned Coal Mines'!AD39)","v":0},{"$f":"SUM('Summary Abandoned Coal Mines'!AE24,'Summary Abandoned Coal Mines'!AE39)","v":0},{"$f":"SUM('Summary Abandoned Coal Mines'!AF24,'Summary Abandoned Coal Mines'!AF39)","v":0},{"$f":"SUM('Summary Abandoned Coal Mines'!AG24,'Summary Abandoned Coal Mines'!AG39)","v":0},{"$f":"SUM('Summary Abandoned Coal Mines'!AH24,'Summary Abandoned Coal Mines'!AH39)","v":0},{"$f":"SUM('Summary Abandoned Coal Mines'!AI24,'Summary Abandoned Coal Mines'!AI39)","v":0},{"$f":"SUM('Summary Abandoned Coal Mines'!AJ24,'Summary Abandoned Coal Mines'!AJ39)","v":0},{"$f":"SUM('Summary Abandoned Coal Mines'!AK24,'Summary Abandoned Coal Mines'!AK39)","v":0},{"$f":"SUM('Summary Abandoned Coal Mines'!AL24,'Summary Abandoned Coal Mines'!AL39)","v":0},{"$f":"SUM('Summary Abandoned Coal Mines'!AM24,'Summary Abandoned Coal Mines'!AM39)","v":0},{"$f":"SUM('Summary Abandoned Coal Mines'!AN24,'Summary Abandoned Coal Mines'!AN39)","v":0},{"$f":"SUM('Summary Abandoned Coal Mines'!AO24,'Summary Abandoned Coal Mines'!AO39)","v":0},{"$f":"SUM('Summary Abandoned Coal Mines'!AP24,'Summary Abandoned Coal Mines'!AP39)","v":0},{"$f":"SUM('Summary Abandoned Coal Mines'!AQ24,'Summary Abandoned Coal Mines'!AQ39)","v":0},{"$f":"SUM('Summary Abandoned Coal Mines'!AR24,'Summary Abandoned Coal Mines'!AR39)","v":0},{"$f":"SUM('Summary Abandoned Coal Mines'!AS24,'Summary Abandoned Coal Mines'!AS39)","v":0},{"$f":"SUM('Summary Abandoned Coal Mines'!AT24,'Summary Abandoned Coal Mines'!AT39)","v":0},{"$f":"SUM('Summary Abandoned Coal Mines'!AU24,'Summary Abandoned Coal Mines'!AU39)","v":0},{"$f":"SUM('Summary Abandoned Coal Mines'!AV24,'Summary Abandoned Coal Mines'!AV39)","v":0},{"$f":"SUM('Summary Abandoned Coal Mines'!AW24,'Summary Abandoned Coal Mines'!AW39)","v":0},{"$f":"SUM('Summary Abandoned Coal Mines'!AX24,'Summary Abandoned Coal Mines'!AX39)","v":0},{"$f":"SUM('Summary Abandoned Coal Mines'!AY24,'Summary Abandoned Coal Mines'!AY39)","v":0},{"$f":"SUM('Summary Abandoned Coal Mines'!AZ24,'Summary Abandoned Coal Mines'!AZ39)","v":0},{"$f":"SUM('Summary Abandoned Coal Mines'!BA24,'Summary Abandoned Coal Mines'!BA39)","v":0},{"$f":"SUM('Summary Abandoned Coal Mines'!BB24,'Summary Abandoned Coal Mines'!BB39)","v":0},{"$f":"SUM('Summary Abandoned Coal Mines'!BC24,'Summary Abandoned Coal Mines'!BC39)","v":0},{"$f":"SUM('Summary Abandoned Coal Mines'!BD24,'Summary Abandoned Coal Mines'!BD39)","v":0},{"$f":"SUM('Summary Abandoned Coal Mines'!BE24,'Summary Abandoned Coal Mines'!BE39)","v":0},{"$f":"SUM('Summary Abandoned Coal Mines'!BF24,'Summary Abandoned Coal Mines'!BF39)","v":0},{"$f":"SUM('Summary Abandoned Coal Mines'!BG24,'Summary Abandoned Coal Mines'!BG39)","v":0},{"$f":"SUM('Summary Abandoned Coal Mines'!BH24,'Summary Abandoned Coal Mines'!BH39)","v":0},{"$f":"SUM('Summary Abandoned Coal Mines'!BI24,'Summary Abandoned Coal Mines'!BI39)","v":0},{"$f":"SUM('Summary Abandoned Coal Mines'!BJ24,'Summary Abandoned Coal Mines'!BJ39)","v":0},{"$f":"SUM('Summary Abandoned Coal Mines'!BK24,'Summary Abandoned Coal Mines'!BK39)","v":0},{"$f":"SUM('Summary Abandoned Coal Mines'!BL24,'Summary Abandoned Coal Mines'!BL39)","v":0}]
[null,"Vented",{"$f":"SUM('Summary Abandoned Coal Mines'!D21,'Summary Abandoned Coal Mines'!D36)","v":0},{"$f":"SUM('Summary Abandoned Coal Mines'!E21,'Summary Abandoned Coal Mines'!E36)","v":0},{"$f":"SUM('Summary Abandoned Coal Mines'!F21,'Summary Abandoned Coal Mines'!F36)","v":0},{"$f":"SUM('Summary Abandoned Coal Mines'!G21,'Summary Abandoned Coal Mines'!G36)","v":0},{"$f":"SUM('Summary Abandoned Coal Mines'!H21,'Summary Abandoned Coal Mines'!H36)","v":0},{"$f":"SUM('Summary Abandoned Coal Mines'!I21,'Summary Abandoned Coal Mines'!I36)","v":0},{"$f":"SUM('Summary Abandoned Coal Mines'!J21,'Summary Abandoned Coal Mines'!J36)","v":0},{"$f":"SUM('Summary Abandoned Coal Mines'!K21,'Summary Abandoned Coal Mines'!K36)","v":0},{"$f":"SUM('Summary Abandoned Coal Mines'!L21,'Summary Abandoned Coal Mines'!L36)","v":0},{"$f":"SUM('Summary Abandoned Coal Mines'!M21,'Summary Abandoned Coal Mines'!M36)","v":0},{"$f":"SUM('Summary Abandoned Coal Mines'!N21,'Summary Abandoned Coal Mines'!N36)","v":0},{"$f":"SUM('Summary Abandoned Coal Mines'!O21,'Summary Abandoned Coal Mines'!O36)","v":0},{"$f":"SUM('Summary Abandoned Coal Mines'!P21,'Summary Abandoned Coal Mines'!P36)","v":0},{"$f":"SUM('Summary Abandoned Coal Mines'!Q21,'Summary Abandoned Coal Mines'!Q36)","v":0},{"$f":"SUM('Summary Abandoned Coal Mines'!R21,'Summary Abandoned Coal Mines'!R36)","v":0},{"$f":"SUM('Summary Abandoned Coal Mines'!S21,'Summary Abandoned Coal Mines'!S36)","v":0},{"$f":"SUM('Summary Abandoned Coal Mines'!T21,'Summary Abandoned Coal Mines'!T36)","v":0},{"$f":"SUM('Summary Abandoned Coal Mines'!U21,'Summary Abandoned Coal Mines'!U36)","v":0},{"$f":"SUM('Summary Abandoned Coal Mines'!V21,'Summary Abandoned Coal Mines'!V36)","v":0},{"$f":"SUM('Summary Abandoned Coal Mines'!W21,'Summary Abandoned Coal Mines'!W36)","v":0},{"$f":"SUM('Summary Abandoned Coal Mines'!X21,'Summary Abandoned Coal Mines'!X36)","v":0},{"$f":"SUM('Summary Abandoned Coal Mines'!Y21,'Summary Abandoned Coal Mines'!Y36)","v":0},{"$f":"SUM('Summary Abandoned Coal Mines'!Z21,'Summary Abandoned Coal Mines'!Z36)","v":0},{"$f":"SUM('Summary Abandoned Coal Mines'!AA21,'Summary Abandoned Coal Mines'!AA36)","v":0},{"$f":"SUM('Summary Abandoned Coal Mines'!AB21,'Summary Abandoned Coal Mines'!AB36)","v":0},{"$f":"SUM('Summary Abandoned Coal Mines'!AC21,'Summary Abandoned Coal Mines'!AC36)","v":0},{"$f":"SUM('Summary Abandoned Coal Mines'!AD21,'Summary Abandoned Coal Mines'!AD36)","v":0},{"$f":"SUM('Summary Abandoned Coal Mines'!AE21,'Summary Abandoned Coal Mines'!AE36)","v":0},{"$f":"SUM('Summary Abandoned Coal Mines'!AF21,'Summary Abandoned Coal Mines'!AF36)","v":0},{"$f":"SUM('Summary Abandoned Coal Mines'!AG21,'Summary Abandoned Coal Mines'!AG36)","v":0},{"$f":"SUM('Summary Abandoned Coal Mines'!AH21,'Summary Abandoned Coal Mines'!AH36)","v":0},{"$f":"SUM('Summary Abandoned Coal Mines'!AI21,'Summary Abandoned Coal Mines'!AI36)","v":0},{"$f":"SUM('Summary Abandoned Coal Mines'!AJ21,'Summary Abandoned Coal Mines'!AJ36)","v":0},{"$f":"SUM('Summary Abandoned Coal Mines'!AK21,'Summary Abandoned Coal Mines'!AK36)","v":0},{"$f":"SUM('Summary Abandoned Coal Mines'!AL21,'Summary Abandoned Coal Mines'!AL36)","v":0},{"$f":"SUM('Summary Abandoned Coal Mines'!AM21,'Summary Abandoned Coal Mines'!AM36)","v":0},{"$f":"SUM('Summary Abandoned Coal Mines'!AN21,'Summary Abandoned Coal Mines'!AN36)","v":0},{"$f":"SUM('Summary Abandoned Coal Mines'!AO21,'Summary Abandoned Coal Mines'!AO36)","v":0},{"$f":"SUM('Summary Abandoned Coal Mines'!AP21,'Summary Abandoned Coal Mines'!AP36)","v":0},{"$f":"SUM('Summary Abandoned Coal Mines'!AQ21,'Summary Abandoned Coal Mines'!AQ36)","v":0},{"$f":"SUM('Summary Abandoned Coal Mines'!AR21,'Summary Abandoned Coal Mines'!AR36)","v":0},{"$f":"SUM('Summary Abandoned Coal Mines'!AS21,'Summary Abandoned Coal Mines'!AS36)","v":0},{"$f":"SUM('Summary Abandoned Coal Mines'!AT21,'Summary Abandoned Coal Mines'!AT36)","v":0},{"$f":"SUM('Summary Abandoned Coal Mines'!AU21,'Summary Abandoned Coal Mines'!AU36)","v":0},{"$f":"SUM('Summary Abandoned Coal Mines'!AV21,'Summary Abandoned Coal Mines'!AV36)","v":0},{"$f":"SUM('Summary Abandoned Coal Mines'!AW21,'Summary Abandoned Coal Mines'!AW36)","v":0},{"$f":"SUM('Summary Abandoned Coal Mines'!AX21,'Summary Abandoned Coal Mines'!AX36)","v":0},{"$f":"SUM('Summary Abandoned Coal Mines'!AY21,'Summary Abandoned Coal Mines'!AY36)","v":0},{"$f":"SUM('Summary Abandoned Coal Mines'!AZ21,'Summary Abandoned Coal Mines'!AZ36)","v":0},{"$f":"SUM('Summary Abandoned Coal Mines'!BA21,'Summary Abandoned Coal Mines'!BA36)","v":0},{"$f":"SUM('Summary Abandoned Coal Mines'!BB21,'Summary Abandoned Coal Mines'!BB36)","v":0},{"$f":"SUM('Summary Abandoned Coal Mines'!BC21,'Summary Abandoned Coal Mines'!BC36)","v":0},{"$f":"SUM('Summary Abandoned Coal Mines'!BD21,'Summary Abandoned Coal Mines'!BD36)","v":0},{"$f":"SUM('Summary Abandoned Coal Mines'!BE21,'Summary Abandoned Coal Mines'!BE36)","v":0},{"$f":"SUM('Summary Abandoned Coal Mines'!BF21,'Summary Abandoned Coal Mines'!BF36)","v":0},{"$f":"SUM('Summary Abandoned Coal Mines'!BG21,'Summary Abandoned Coal Mines'!BG36)","v":0},{"$f":"SUM('Summary Abandoned Coal Mines'!BH21,'Summary Abandoned Coal Mines'!BH36)","v":0},{"$f":"SUM('Summary Abandoned Coal Mines'!BI21,'Summary Abandoned Coal Mines'!BI36)","v":0},{"$f":"SUM('Summary Abandoned Coal Mines'!BJ21,'Summary Abandoned Coal Mines'!BJ36)","v":0},{"$f":"SUM('Summary Abandoned Coal Mines'!BK21,'Summary Abandoned Coal Mines'!BK36)","v":0},{"$f":"SUM('Summary Abandoned Coal Mines'!BL21,'Summary Abandoned Coal Mines'!BL36)","v":0}]
[null,"Sealed",{"$f":"SUM('Summary Abandoned Coal Mines'!D22,'Summary Abandoned Coal Mines'!D37)","v":0},{"$f":"SUM('Summary Abandoned Coal Mines'!E22,'Summary Abandoned Coal Mines'!E37)","v":0},{"$f":"SUM('Summary Abandoned Coal Mines'!F22,'Summary Abandoned Coal Mines'!F37)","v":0},{"$f":"SUM('Summary Abandoned Coal Mines'!G22,'Summary Abandoned Coal Mines'!G37)","v":0},{"$f":"SUM('Summary Abandoned Coal Mines'!H22,'Summary Abandoned Coal Mines'!H37)","v":0},{"$f":"SUM('Summary Abandoned Coal Mines'!I22,'Summary Abandoned Coal Mines'!I37)","v":0},{"$f":"SUM('Summary Abandoned Coal Mines'!J22,'Summary Abandoned Coal Mines'!J37)","v":0},{"$f":"SUM('Summary Abandoned Coal Mines'!K22,'Summary Abandoned Coal Mines'!K37)","v":0},{"$f":"SUM('Summary Abandoned Coal Mines'!L22,'Summary Abandoned Coal Mines'!L37)","v":0},{"$f":"SUM('Summary Abandoned Coal Mines'!M22,'Summary Abandoned Coal Mines'!M37)","v":0},{"$f":"SUM('Summary Abandoned Coal Mines'!N22,'Summary Abandoned Coal Mines'!N37)","v":0},{"$f":"SUM('Summary Abandoned Coal Mines'!O22,'Summary Abandoned Coal Mines'!O37)","v":0},{"$f":"SUM('Summary Abandoned Coal Mines'!P22,'Summary Abandoned Coal Mines'!P37)","v":0},{"$f":"SUM('Summary Abandoned Coal Mines'!Q22,'Summary Abandoned Coal Mines'!Q37)","v":0},{"$f":"SUM('Summary Abandoned Coal Mines'!R22,'Summary Abandoned Coal Mines'!R37)","v":0},{"$f":"SUM('Summary Abandoned Coal Mines'!S22,'Summary Abandoned Coal Mines'!S37)","v":0},{"$f":"SUM('Summary Abandoned Coal Mines'!T22,'Summary Abandoned Coal Mines'!T37)","v":0},{"$f":"SUM('Summary Abandoned Coal Mines'!U22,'Summary Abandoned Coal Mines'!U37)","v":0},{"$f":"SUM('Summary Abandoned Coal Mines'!V22,'Summary Abandoned Coal Mines'!V37)","v":0},{"$f":"SUM('Summary Abandoned Coal Mines'!W22,'Summary Abandoned Coal Mines'!W37)","v":0},{"$f":"SUM('Summary Abandoned Coal Mines'!X22,'Summary Abandoned Coal Mines'!X37)","v":0},{"$f":"SUM('Summary Abandoned Coal Mines'!Y22,'Summary Abandoned Coal Mines'!Y37)","v":0},{"$f":"SUM('Summary Abandoned Coal Mines'!Z22,'Summary Abandoned Coal Mines'!Z37)","v":0},{"$f":"SUM('Summary Abandoned Coal Mines'!AA22,'Summary Abandoned Coal Mines'!AA37)","v":0},{"$f":"SUM('Summary Abandoned Coal Mines'!AB22,'Summary Abandoned Coal Mines'!AB37)","v":0},{"$f":"SUM('Summary Abandoned Coal Mines'!AC22,'Summary Abandoned Coal Mines'!AC37)","v":0},{"$f":"SUM('Summary Abandoned Coal Mines'!AD22,'Summary Abandoned Coal Mines'!AD37)","v":0},{"$f":"SUM('Summary Abandoned Coal Mines'!AE22,'Summary Abandoned Coal Mines'!AE37)","v":0},{"$f":"SUM('Summary Abandoned Coal Mines'!AF22,'Summary Abandoned Coal Mines'!AF37)","v":0},{"$f":"SUM('Summary Abandoned Coal Mines'!AG22,'Summary Abandoned Coal Mines'!AG37)","v":0},{"$f":"SUM('Summary Abandoned Coal Mines'!AH22,'Summary Abandoned Coal Mines'!AH37)","v":0},{"$f":"SUM('Summary Abandoned Coal Mines'!AI22,'Summary Abandoned Coal Mines'!AI37)","v":0},{"$f":"SUM('Summary Abandoned Coal Mines'!AJ22,'Summary Abandoned Coal Mines'!AJ37)","v":0},{"$f":"SUM('Summary Abandoned Coal Mines'!AK22,'Summary Abandoned Coal Mines'!AK37)","v":0},{"$f":"SUM('Summary Abandoned Coal Mines'!AL22,'Summary Abandoned Coal Mines'!AL37)","v":0},{"$f":"SUM('Summary Abandoned Coal Mines'!AM22,'Summary Abandoned Coal Mines'!AM37)","v":0},{"$f":"SUM('Summary Abandoned Coal Mines'!AN22,'Summary Abandoned Coal Mines'!AN37)","v":0},{"$f":"SUM('Summary Abandoned Coal Mines'!AO22,'Summary Abandoned Coal Mines'!AO37)","v":0},{"$f":"SUM('Summary Abandoned Coal Mines'!AP22,'Summary Abandoned Coal Mines'!AP37)","v":0},{"$f":"SUM('Summary Abandoned Coal Mines'!AQ22,'Summary Abandoned Coal Mines'!AQ37)","v":0},{"$f":"SUM('Summary Abandoned Coal Mines'!AR22,'Summary Abandoned Coal Mines'!AR37)","v":0},{"$f":"SUM('Summary Abandoned Coal Mines'!AS22,'Summary Abandoned Coal Mines'!AS37)","v":0},{"$f":"SUM('Summary Abandoned Coal Mines'!AT22,'Summary Abandoned Coal Mines'!AT37)","v":0},{"$f":"SUM('Summary Abandoned Coal Mines'!AU22,'Summary Abandoned Coal Mines'!AU37)","v":0},{"$f":"SUM('Summary Abandoned Coal Mines'!AV22,'Summary Abandoned Coal Mines'!AV37)","v":0},{"$f":"SUM('Summary Abandoned Coal Mines'!AW22,'Summary Abandoned Coal Mines'!AW37)","v":0},{"$f":"SUM('Summary Abandoned Coal Mines'!AX22,'Summary Abandoned Coal Mines'!AX37)","v":0},{"$f":"SUM('Summary Abandoned Coal Mines'!AY22,'Summary Abandoned Coal Mines'!AY37)","v":0},{"$f":"SUM('Summary Abandoned Coal Mines'!AZ22,'Summary Abandoned Coal Mines'!AZ37)","v":0},{"$f":"SUM('Summary Abandoned Coal Mines'!BA22,'Summary Abandoned Coal Mines'!BA37)","v":0},{"$f":"SUM('Summary Abandoned Coal Mines'!BB22,'Summary Abandoned Coal Mines'!BB37)","v":0},{"$f":"SUM('Summary Abandoned Coal Mines'!BC22,'Summary Abandoned Coal Mines'!BC37)","v":0},{"$f":"SUM('Summary Abandoned Coal Mines'!BD22,'Summary Abandoned Coal Mines'!BD37)","v":0},{"$f":"SUM('Summary Abandoned Coal Mines'!BE22,'Summary Abandoned Coal Mines'!BE37)","v":0},{"$f":"SUM('Summary Abandoned Coal Mines'!BF22,'Summary Abandoned Coal Mines'!BF37)","v":0},{"$f":"SUM('Summary Abandoned Coal Mines'!BG22,'Summary Abandoned Coal Mines'!BG37)","v":0},{"$f":"SUM('Summary Abandoned Coal Mines'!BH22,'Summary Abandoned Coal Mines'!BH37)","v":0},{"$f":"SUM('Summary Abandoned Coal Mines'!BI22,'Summary Abandoned Coal Mines'!BI37)","v":0},{"$f":"SUM('Summary Abandoned Coal Mines'!BJ22,'Summary Abandoned Coal Mines'!BJ37)","v":0},{"$f":"SUM('Summary Abandoned Coal Mines'!BK22,'Summary Abandoned Coal Mines'!BK37)","v":0},{"$f":"SUM('Summary Abandoned Coal Mines'!BL22,'Summary Abandoned Coal Mines'!BL37)","v":0}]
[null,"Flooded",{"$f":"SUM('Summary Abandoned Coal Mines'!D23,'Summary Abandoned Coal Mines'!D38)","v":0},{"$f":"SUM('Summary Abandoned Coal Mines'!E23,'Summary Abandoned Coal Mines'!E38)","v":0},{"$f":"SUM('Summary Abandoned Coal Mines'!F23,'Summary Abandoned Coal Mines'!F38)","v":0},{"$f":"SUM('Summary Abandoned Coal Mines'!G23,'Summary Abandoned Coal Mines'!G38)","v":0},{"$f":"SUM('Summary Abandoned Coal Mines'!H23,'Summary Abandoned Coal Mines'!H38)","v":0},{"$f":"SUM('Summary Abandoned Coal Mines'!I23,'Summary Abandoned Coal Mines'!I38)","v":0},{"$f":"SUM('Summary Abandoned Coal Mines'!J23,'Summary Abandoned Coal Mines'!J38)","v":0},{"$f":"SUM('Summary Abandoned Coal Mines'!K23,'Summary Abandoned Coal Mines'!K38)","v":0},{"$f":"SUM('Summary Abandoned Coal Mines'!L23,'Summary Abandoned Coal Mines'!L38)","v":0},{"$f":"SUM('Summary Abandoned Coal Mines'!M23,'Summary Abandoned Coal Mines'!M38)","v":0},{"$f":"SUM('Summary Abandoned Coal Mines'!N23,'Summary Abandoned Coal Mines'!N38)","v":0},{"$f":"SUM('Summary Abandoned Coal Mines'!O23,'Summary Abandoned Coal Mines'!O38)","v":0},{"$f":"SUM('Summary Abandoned Coal Mines'!P23,'Summary Abandoned Coal Mines'!P38)","v":0},{"$f":"SUM('Summary Abandoned Coal Mines'!Q23,'Summary Abandoned Coal Mines'!Q38)","v":0},{"$f":"SUM('Summary Abandoned Coal Mines'!R23,'Summary Abandoned Coal Mines'!R38)","v":0},{"$f":"SUM('Summary Abandoned Coal Mines'!S23,'Summary Abandoned Coal Mines'!S38)","v":0},{"$f":"SUM('Summary Abandoned Coal Mines'!T23,'Summary Abandoned Coal Mines'!T38)","v":0},{"$f":"SUM('Summary Abandoned Coal Mines'!U23,'Summary Abandoned Coal Mines'!U38)","v":0},{"$f":"SUM('Summary Abandoned Coal Mines'!V23,'Summary Abandoned Coal Mines'!V38)","v":0},{"$f":"SUM('Summary Abandoned Coal Mines'!W23,'Summary Abandoned Coal Mines'!W38)","v":0},{"$f":"SUM('Summary Abandoned Coal Mines'!X23,'Summary Abandoned Coal Mines'!X38)","v":0},{"$f":"SUM('Summary Abandoned Coal Mines'!Y23,'Summary Abandoned Coal Mines'!Y38)","v":0},{"$f":"SUM('Summary Abandoned Coal Mines'!Z23,'Summary Abandoned Coal Mines'!Z38)","v":0},{"$f":"SUM('Summary Abandoned Coal Mines'!AA23,'Summary Abandoned Coal Mines'!AA38)","v":0},{"$f":"SUM('Summary Abandoned Coal Mines'!AB23,'Summary Abandoned Coal Mines'!AB38)","v":0},{"$f":"SUM('Summary Abandoned Coal Mines'!AC23,'Summary Abandoned Coal Mines'!AC38)","v":0},{"$f":"SUM('Summary Abandoned Coal Mines'!AD23,'Summary Abandoned Coal Mines'!AD38)","v":0},{"$f":"SUM('Summary Abandoned Coal Mines'!AE23,'Summary Abandoned Coal Mines'!AE38)","v":0},{"$f":"SUM('Summary Abandoned Coal Mines'!AF23,'Summary Abandoned Coal Mines'!AF38)","v":0},{"$f":"SUM('Summary Abandoned Coal Mines'!AG23,'Summary Abandoned Coal Mines'!AG38)","v":0},{"$f":"SUM('Summary Abandoned Coal Mines'!AH23,'Summary Abandoned Coal Mines'!AH38)","v":0},{"$f":"SUM('Summary Abandoned Coal Mines'!AI23,'Summary Abandoned Coal Mines'!AI38)","v":0},{"$f":"SUM('Summary Abandoned Coal Mines'!AJ23,'Summary Abandoned Coal Mines'!AJ38)","v":0},{"$f":"SUM('Summary Abandoned Coal Mines'!AK23,'Summary Abandoned Coal Mines'!AK38)","v":0},{"$f":"SUM('Summary Abandoned Coal Mines'!AL23,'Summary Abandoned Coal Mines'!AL38)","v":0},{"$f":"SUM('Summary Abandoned Coal Mines'!AM23,'Summary Abandoned Coal Mines'!AM38)","v":0}]
[null,"Additional Emission Sources",{"$f":"IFERROR(IF('Additional Emission Sources'!C28<>0,'Additional Emission Sources'!C28,'Additional Emission Sources'!C33), 0)","v":0},{"$f":"IFERROR(IF('Additional Emission Sources'!D28<>0,'Additional Emission Sources'!D28,'Additional Emission Sources'!D33), 0)","v":0},{"$f":"IFERROR(IF('Additional Emission Sources'!E28<>0,'Additional Emission Sources'!E28,'Additional Emission Sources'!E33), 0)","v":0},{"$f":"IFERROR(IF('Additional Emission Sources'!F28<>0,'Additional Emission Sources'!F28,'Additional Emission Sources'!F33), 0)","v":0},{"$f":"IFERROR(IF('Additional Emission Sources'!G28<>0,'Additional Emission Sources'!G28,'Additional Emission Sources'!G33), 0)","v":0},{"$f":"IFERROR(IF('Additional Emission Sources'!H28<>0,'Additional Emission Sources'!H28,'Additional Emission Sources'!H33), 0)","v":0},{"$f":"IFERROR(IF('Additional Emission Sources'!I28<>0,'Additional Emission Sources'!I28,'Additional Emission Sources'!I33), 0)","v":0},{"$f":"IFERROR(IF('Additional Emission Sources'!J28<>0,'Additional Emission Sources'!J28,'Additional Emission Sources'!J33), 0)","v":0},{"$f":"IFERROR(IF('Additional Emission Sources'!K28<>0,'Additional Emission Sources'!K28,'Additional Emission Sources'!K33), 0)","v":0},{"$f":"IFERROR(IF('Additional Emission Sources'!L28<>0,'Additional Emission Sources'!L28,'Additional Emission Sources'!L33), 0)","v":0},{"$f":"IFERROR(IF('Additional Emission Sources'!M28<>0,'Additional Emission Sources'!M28,'Additional Emission Sources'!M33), 0)","v":0},{"$f":"IFERROR(IF('Additional Emission Sources'!N28<>0,'Additional Emission Sources'!N28,'Additional Emission Sources'!N33), 0)","v":0},{"$f":"IFERROR(IF('Additional Emission Sources'!O28<>0,'Additional Emission Sources'!O28,'Additional Emission Sources'!O33), 0)","v":0},{"$f":"IFERROR(IF('Additional Emission Sources'!P28<>0,'Additional Emission Sources'!P28,'Additional Emission Sources'!P33), 0)","v":0},{"$f":"IFERROR(IF('Additional Emission Sources'!Q28<>0,'Additional Emission Sources'!Q28,'Additional Emission Sources'!Q33), 0)","v":0},{"$f":"IFERROR(IF('Additional Emission Sources'!R28<>0,'Additional Emission Sources'!R28,'Additional Emission Sources'!R33), 0)","v":0},{"$f":"IFERROR(IF('Additional Emission Sources'!S28<>0,'Additional Emission Sources'!S28,'Additional Emission Sources'!S33), 0)","v":0},{"$f":"IFERROR(IF('Additional Emission Sources'!T28<>0,'Additional Emission Sources'!T28,'Additional Emission Sources'!T33), 0)","v":0},{"$f":"IFERROR(IF('Additional Emission Sources'!U28<>0,'Additional Emission Sources'!U28,'Additional Emission Sources'!U33), 0)","v":0},{"$f":"IFERROR(IF('Additional Emission Sources'!V28<>0,'Additional Emission Sources'!V28,'Additional Emission Sources'!V33), 0)","v":0},{"$f":"IFERROR(IF('Additional Emission Sources'!W28<>0,'Additional Emission Sources'!W28,'Additional Emission Sources'!W33), 0)","v":0},{"$f":"IFERROR(IF('Additional Emission Sources'!X28<>0,'Additional Emission Sources'!X28,'Additional Emission Sources'!X33), 0)","v":0},{"$f":"IFERROR(IF('Additional Emission Sources'!Y28<>0,'Additional Emission Sources'!Y28,'Additional Emission Sources'!Y33), 0)","v":0},{"$f":"IFERROR(IF('Additional Emission Sources'!Z28<>0,'Additional Emission Sources'!Z28,'Additional Emission Sources'!Z33), 0)","v":0},{"$f":"IFERROR(IF('Additional Emission Sources'!AA28<>0,'Additional Emission Sources'!AA28,'Additional Emission Sources'!AA33), 0)","v":0},{"$f":"IFERROR(IF('Additional Emission Sources'!AB28<>0,'Additional Emission Sources'!AB28,'Additional Emission Sources'!AB33), 0)","v":0},{"$f":"IFERROR(IF('Additional Emission Sources'!AC28<>0,'Additional Emission Sources'!AC28,'Additional Emission Sources'!AC33), 0)","v":0},{"$f":"IFERROR(IF('Additional Emission Sources'!AD28<>0,'Additional Emission Sources'!AD28,'Additional Emission Sources'!AD33), 0)","v":0},{"$f":"IFERROR(IF('Additional Emission Sources'!AE28<>0,'Additional Emission Sources'!AE28,'Additional Emission Sources'!AE33), 0)","v":0},{"$f":"IFERROR(IF('Additional Emission Sources'!AF28<>0,'Additional Emission Sources'!AF28,'Additional Emission Sources'!AF33), 0)","v":0},{"$f":"IFERROR(IF('Additional Emission Sources'!AG28<>0,'Additional Emission Sources'!AG28,'Additional Emission Sources'!AG33), 0)","v":0},{"$f":"IFERROR(IF('Additional Emission Sources'!AH28<>0,'Additional Emission Sources'!AH28,'Additional Emission Sources'!AH33), 0)","v":0},{"$f":"IFERROR(IF('Additional Emission Sources'!AI28<>0,'Additional Emission Sources'!AI28,'Additional Emission Sources'!AI33), 0)","v":0},{"$f":"IFERROR(IF('Additional Emission Sources'!AJ28<>0,'Additional Emission Sources'!AJ28,'Additional Emission Sources'!AJ33), 0)","v":0},{"$f":"IFERROR(IF('Additional Emission Sources'!AK28<>0,'Additional Emission Sources'!AK28,'Additional Emission Sources'!AK33), 0)","v":0},{"$f":"IFERROR(IF('Additional Emission Sources'!AL28<>0,'Additional Emission Sources'!AL28,'Additional Emission Sources'!AL33), 0)","v":0}]
[null,null,null,null,null,null,null,null,null,null,null,null,null,null,null,null,null,null,null,null,null,null,null,null,null,null,null,null,null,null,null,null,null,null,null,null,null,null,{"$f":"SUM('Summary Abandoned Coal Mines'!AN23,'Summary Abandoned Coal Mines'!AN38)","v":0},{"$f":"SUM('Summary Abandoned Coal Mines'!AO23,'Summary Abandoned Coal Mines'!AO38)","v":0},{"$f":"SUM('Summary Abandoned Coal Mines'!AP23,'Summary Abandoned Coal Mines'!AP38)","v":0},{"$f":"SUM('Summary Abandoned Coal Mines'!AQ23,'Summary Abandoned Coal Mines'!AQ38)","v":0},{"$f":"SUM('Summary Abandoned Coal Mines'!AR23,'Summary Abandoned Coal Mines'!AR38)","v":0},{"$f":"SUM('Summary Abandoned Coal Mines'!AS23,'Summary Abandoned Coal Mines'!AS38)","v":0},{"$f":"SUM('Summary Abandoned Coal Mines'!AT23,'Summary Abandoned Coal Mines'!AT38)","v":0},{"$f":"SUM('Summary Abandoned Coal Mines'!AU23,'Summary Abandoned Coal Mines'!AU38)","v":0},{"$f":"SUM('Summary Abandoned Coal Mines'!AV23,'Summary Abandoned Coal Mines'!AV38)","v":0},{"$f":"SUM('Summary Abandoned Coal Mines'!AW23,'Summary Abandoned Coal Mines'!AW38)","v":0},{"$f":"SUM('Summary Abandoned Coal Mines'!AX23,'Summary Abandoned Coal Mines'!AX38)","v":0},{"$f":"SUM('Summary Abandoned Coal Mines'!AY23,'Summary Abandoned Coal Mines'!AY38)","v":0},{"$f":"SUM('Summary Abandoned Coal Mines'!AZ23,'Summary Abandoned Coal Mines'!AZ38)","v":0},{"$f":"SUM('Summary Abandoned Coal Mines'!BA23,'Summary Abandoned Coal Mines'!BA38)","v":0},{"$f":"SUM('Summary Abandoned Coal Mines'!BB23,'Summary Abandoned Coal Mines'!BB38)","v":0},{"$f":"SUM('Summary Abandoned Coal Mines'!BC23,'Summary Abandoned Coal Mines'!BC38)","v":0},{"$f":"SUM('Summary Abandoned Coal Mines'!BD23,'Summary Abandoned Coal Mines'!BD38)","v":0},{"$f":"SUM('Summary Abandoned Coal Mines'!BE23,'Summary Abandoned Coal Mines'!BE38)","v":0},{"$f":"SUM('Summary Abandoned Coal Mines'!BF23,'Summary Abandoned Coal Mines'!BF38)","v":0},{"$f":"SUM('Summary Abandoned Coal Mines'!BG23,'Summary Abandoned Coal Mines'!BG38)","v":0},{"$f":"SUM('Summary Abandoned Coal Mines'!BH23,'Summary Abandoned Coal Mines'!BH38)","v":0},{"$f":"SUM('Summary Abandoned Coal Mines'!BI23,'Summary Abandoned Coal Mines'!BI38)","v":0},{"$f":"SUM('Summary Abandoned Coal Mines'!BJ23,'Summary Abandoned Coal Mines'!BJ38)","v":0},{"$f":"SUM('Summary Abandoned Coal Mines'!BK23,'Summary Abandoned Coal Mines'!BK38)","v":0},{"$f":"SUM('Summary Abandoned Coal Mines'!BL23,'Summary Abandoned Coal Mines'!BL38)","v":0}]
[null,null,null,null,null,null,null,null,null,null,null,null,null,null,null,null,null,null,null,null,null,null,null,null,null,null,null,null,null,null,null,null,null,null,null,null,null,null,{"$f":"IFERROR(IF('Additional Emission Sources'!AM28<>0,'Additional Emission Sources'!AM28,'Additional Emission Sources'!AM33), 0)","v":0},{"$f":"IFERROR(IF('Additional Emission Sources'!AN28<>0,'Additional Emission Sources'!AN28,'Additional Emission Sources'!AN33), 0)","v":0},{"$f":"IFERROR(IF('Additional Emission Sources'!AO28<>0,'Additional Emission Sources'!AO28,'Additional Emission Sources'!AO33), 0)","v":0},{"$f":"IFERROR(IF('Additional Emission Sources'!AP28<>0,'Additional Emission Sources'!AP28,'Additional Emission Sources'!AP33), 0)","v":0},{"$f":"IFERROR(IF('Additional Emission Sources'!AQ28<>0,'Additional Emission Sources'!AQ28,'Additional Emission Sources'!AQ33), 0)","v":0},{"$f":"IFERROR(IF('Additional Emission Sources'!AR28<>0,'Additional Emission Sources'!AR28,'Additional Emission Sources'!AR33), 0)","v":0},{"$f":"IFERROR(IF('Additional Emission Sources'!AS28<>0,'Additional Emission Sources'!AS28,'Additional Emission Sources'!AS33), 0)","v":0},{"$f":"IFERROR(IF('Additional Emission Sources'!AT28<>0,'Additional Emission Sources'!AT28,'Additional Emission Sources'!AT33), 0)","v":0},{"$f":"IFERROR(IF('Additional Emission Sources'!AU28<>0,'Additional Emission Sources'!AU28,'Additional Emission Sources'!AU33), 0)","v":0},{"$f":"IFERROR(IF('Additional Emission Sources'!AV28<>0,'Additional Emission Sources'!AV28,'Additional Emission Sources'!AV33), 0)","v":0},{"$f":"IFERROR(IF('Additional Emission Sources'!AW28<>0,'Additional Emission Sources'!AW28,'Additional Emission Sources'!AW33), 0)","v":0},{"$f":"IFERROR(IF('Additional Emission Sources'!AX28<>0,'Additional Emission Sources'!AX28,'Additional Emission Sources'!AX33), 0)","v":0},{"$f":"IFERROR(IF('Additional Emission Sources'!AY28<>0,'Additional Emission Sources'!AY28,'Additional Emission Sources'!AY33), 0)","v":0},{"$f":"IFERROR(IF('Additional Emission Sources'!AZ28<>0,'Additional Emission Sources'!AZ28,'Additional Emission Sources'!AZ33), 0)","v":0},{"$f":"IFERROR(IF('Additional Emission Sources'!BA28<>0,'Additional Emission Sources'!BA28,'Additional Emission Sources'!BA33), 0)","v":0},{"$f":"IFERROR(IF('Additional Emission Sources'!BB28<>0,'Additional Emission Sources'!BB28,'Additional Emission Sources'!BB33), 0)","v":0},{"$f":"IFERROR(IF('Additional Emission Sources'!BC28<>0,'Additional Emission Sources'!BC28,'Additional Emission Sources'!BC33), 0)","v":0},{"$f":"IFERROR(IF('Additional Emission Sources'!BD28<>0,'Additional Emission Sources'!BD28,'Additional Emission Sources'!BD33), 0)","v":0},{"$f":"IFERROR(IF('Additional Emission Sources'!BE28<>0,'Additional Emission Sources'!BE28,'Additional Emission Sources'!BE33), 0)","v":0}]
[null,"Emissions (MTCE)"]
[null,null,1990,"1991*","1992*",1993,1994,1995,1996,1997,1998,1999,2000,2001,2002,2003,2004,2005,2006,2007,2008,2009,2010,2011,2012,2013,2014,2015,2016,2017,2018,2019,2020,2021,2022,2023,2024,2025]
[null,"Coal Mining",{"$f":"C$9*C_CO2","v":0},0,0,0,0,0,0,0,0,0,0,0,0,0,0,0,0,0,0,0,0,0,0,0,0,0,0,0,0,0,0,0,0,0,0,0]
[null,"Abandoned Coal Mines",{"$f":"C$10*C_CO2","v":0},0,0,0,0,0,0,0,0,0,0,0,0,0,0,0,0,0,0,0,0,0,0,0,0,0,0,0,0,0,0,0,0,0,0,0]
[null,"Vented",{"$f":"C11*C_CO2","v":0},0,0,0,0,0,0,0,0,0,0,0,0,0,0,0,0,0,0,0,0,0,0,0,0,0,0,0,0,0,0,0,0,0,0,0]
[null,"Sealed",{"$f":"C12*C_CO2","v":0},0,0,0,0,0,0,0,0,0,0,0,0,0,0,0,0,0,0,0,0,0,0,0,0,0,0,0,0,0,0,0,0,0,0,0]
[null,"Flooded",{"$f":"#REF!*C_CO2","v":{"$error":"#REF!"}},{"$f":"#REF!*C_CO2","v":{"$error":"#REF!"}},{"$f":"#REF!*C_CO2","v":{"$error":"#REF!"}},{"$f":"#REF!*C_CO2","v":{"$error":"#REF!"}},{"$f":"#REF!*C_CO2","v":{"$error":"#REF!"}},{"$f":"#REF!*C_CO2","v":{"$error":"#REF!"}},{"$f":"#REF!*C_CO2","v":{"$error":"#REF!"}},{"$f":"#REF!*C_CO2","v":{"$error":"#REF!"}},{"$f":"#REF!*C_CO2","v":{"$error":"#REF!"}},{"$f":"#REF!*C_CO2","v":{"$error":"#REF!"}},{"$f":"#REF!*C_CO2","v":{"$error":"#REF!"}},{"$f":"#REF!*C_CO2","v":{"$error":"#REF!"}},{"$f":"#REF!*C_CO2","v":{"$error":"#REF!"}},{"$f":"#REF!*C_CO2","v":{"$error":"#REF!"}},{"$f":"#REF!*C_CO2","v":{"$error":"#REF!"}},{"$f":"#REF!*C_CO2","v":{"$error":"#REF!"}},{"$f":"#REF!*C_CO2","v":{"$error":"#REF!"}},{"$f":"#REF!*C_CO2","v":{"$error":"#REF!"}},{"$f":"#REF!*C_CO2","v":{"$error":"#REF!"}},{"$f":"#REF!*C_CO2","v":{"$error":"#REF!"}},{"$f":"#REF!*C_CO2","v":{"$error":"#REF!"}},{"$f":"#REF!*C_CO2","v":{"$error":"#REF!"}},{"$f":"#REF!*C_CO2","v":{"$error":"#REF!"}},{"$f":"#REF!*C_CO2","v":{"$error":"#REF!"}},{"$f":"#REF!*C_CO2","v":{"$error":"#REF!"}},{"$f":"#REF!*C_CO2","v":{"$error":"#REF!"}},{"$f":"#REF!*C_CO2","v":{"$error":"#REF!"}},{"$f":"#REF!*C_CO2","v":{"$error":"#REF!"}},{"$f":"#REF!*C_CO2","v":{"$error":"#REF!"}},{"$f":"#REF!*C_CO2","v":{"$error":"#REF!"}},{"$f":"#REF!*C_CO2","v":{"$error":"#REF!"}},{"$f":"#REF!*C_CO2","v":{"$error":"#REF!"}},{"$f":"#REF!*C_CO2","v":{"$error":"#REF!"}},{"$f":"#REF!*C_CO2","v":{"$error":"#REF!"}},{"$f":"#REF!*C_CO2","v":{"$error":"#REF!"}},{"$f":"#REF!*C_CO2","v":{"$error":"#REF!"}}]
[null,"Abandoned Emission Sources",{"$f":"C14*C_CO2","v":0},0,0,0,0,0,0,0,0,0,0,0,0,0,0,0,0,0,0,0,0,0,0,0,0,0,0,0,0,0,0,0,0,0,0,0]
[]
[null,"Emissions by Gas (MTCH4)"]
[null,null,1990,"1991*","1992*",1993,1994,1995,1996,1997,1998,1999,2000,2001,2002,2003,2004,2005,2006,2007,2008,2009,2010,2011,2012,2013,2014,2015,2016,2017,2018,2019,2020,{"$f":"AG27+1","v":2021},2022,2023,2024,2025,2026,2027,2028,2029,2030,2031,2032,2033,2034,2035,2036,2037,2038,2039,2040,2041,2042,2043,2044,2045,2046,2047,2048,2049,2050]
[null,"Coal Mining",{"$f":"C9/CH4GWP","v":0},0,0,0,0,0,0,0,0,0,0,0,0,0,0,0,0,0,0,0,0,0,0,0,0,0,0,0,0,0,0,0,{"$f":"AI9/CH4GWP","v":0},0,0,0,0,0,0,0,0,0,0,0,0,0,0,0,0,0,0,0,0,0,0,0,0,0,0,0,0]
[null,"Abandoned Coal Mines",{"$f":"C10/CH4GWP","v":0},0,0,0,0,0,0,0,0,0,0,0,0,0,0,0,0,0,0,0,0,0,0,0,0,0,0,0,0,0,0,0,{"$f":"AI10/CH4GWP","v":0},0,0,0,0,0,0,0,0,0,0,0,0,0,0,0,0,0,0,0,0,0,0,0,0,0,0,0,0]
[null,"Vented",{"$f":"C11/CH4GWP","v":0},0,0,0,0,0,0,0,0,0,0,0,0,0,0,0,0,0,0,0,0,0,0,0,0,0,0,0,0,0,0,0,{"$f":"AI11/CH4GWP","v":0},0,0,0,0,0,0,0,0,0,0,0,0,0,0,0,0,0,0,0,0,0,0,0,0,0,0,0,0]
[null,"Sealed",{"$f":"C12/CH4GWP","v":0},0,0,0,0,0,0,0,0,0,0,0,0,0,0,0,0,0,0,0,0,0,0,0,0,0,0,0,0,0,0,0,{"$f":"AI12/CH4GWP","v":0},0,0,0,0,0,0,0,0,0,0,0,0,0,0,0,0,0,0,0,0,0,0,0,0,0,0,0,0]
[null,"Flooded",{"$f":"C13/CH4GWP","v":0},0,0,0,0,0,0,0,0,0,0,0,0,0,0,0,0,0,0,0,0,0,0,0,0,0,0,0,0,0,0,0,{"$f":"AI13/CH4GWP","v":0},0,0,0,0,0,0,0,0,0,0,0,0,0,0,0,0,0,0,0,0,0,0,0,0,0,0,0,0]
[null,"Additional Emission Sources",{"$f":"C14/CH4GWP","v":0},0,0,0,0,0,0,0,0,0,0,0,0,0,0,0,0,0,0,0,0,0,0,0,0,0,0,0,0,0,0,0,{"$f":"AI14/CH4GWP","v":0},0,0,0,0,0,0,0,0,0,0,0,0,0,0,0,0,0,0,0,0,0,0,0,0,0,0,0,0]
[]
[]
[]
[null,null,{"$f":"SUM(C28:C29)","v":0},0,0,0,0,0,0,0,0,0,0,0,0,0,0,0,0,0,0,0,0,0,0,0,0,0,0,0,0,0,0,0,0,0,0,0]
[null,{"$f":"MAX(C40:AL40)","v":0},1,{"$f":"IF(_xlfn.NUMBERVALUE(LEFT(D27,4))<=$B$38,C38+1,0)","v":0},0,0,0,0,0,0,0,0,0,0,0,0,0,0,0,0,0,0,0,0,0,0,0,0,0,0,0,0,0,0,0,0,0,0]
[null,null,{"$f":"IF(C38=0,0,C27)","v":1990},0,0,0,0,0,0,0,0,0,0,0,0,0,0,0,0,0,0,0,0,0,0,0,0,0,0,0,0,0,0,0,{"$f":"IF(AI38=0,0,AI27)","v":0},0,0,0,0,0,0,0,0,0,0,0,0,0,0,0,0,0,0,0,0,0,0,0,0,0,0,0,0]
[null,null,{"$f":"IF(C37=0,0,C27)","v":0},0,0,0,0,0,0,0,0,0,0,0,0,0,0,0,0,0,0,0,0,0,0,0,0,0,0,0,0,0,0,0,0,0,0,0]
[]
[]
[null,null,{"$f":"\"Greenhouse Gas Emissions from Coal Mining, 1990-\"&MAX($C$39:$AG$39)","v":"Greenhouse Gas Emissions from Coal Mining, 1990-1990"}]
[null,null,{"$f":"\"Greenhouse Gas Emissions from Abandoned Coal Mines, 1990-\"&MAX($C$39:$AG$39)","v":"Greenhouse Gas Emissions from Abandoned Coal Mines, 1990-1990"}]
[]
[]
[]
[]
[]
[]
[]
[]
[]
[]
[]
[]
[]
[]
[]
[]
[]
[]
[]
[null,null,{"$f":"\"Greenhoues Gas Emissions from Coal Mining, 1990-\" &B38","v":"Greenhoues Gas Emissions from Coal Mining, 1990-0"}]
[null,null,{"$f":"\"Greenhouse Gas Emissions from Abandoned Coal Mines, 1990-\" &B38","v":"Greenhouse Gas Emissions from Abandoned Coal Mines, 1990-0"}]

{"sheet":"Uncertainty","index":11,"n_rows":3,"n_cols":2,"rows_kept":3,"cut":false,"hidden":false,"merged":[]}
[]
["Uncertainty Associated With Coal Mining Emissions Estimates"]
[null,"Excerpted from EIIP Guidance, Chapter 4."]

{"sheet":"Coal codes","index":12,"n_rows":53,"n_cols":13,"rows_kept":53,"cut":false,"hidden":false,"merged":[]}
[]
[null,"State","Underground Basin1 ","Underground Basin 2","Surface Basin 1","Surface Basin 2"]
["XX"," ","---","---","---","---",null,null,"Underground Basins",null,"Ave In-situ content"]
["AL","Alabama","WRB","---","WRB","---",null,null,"Basin","Basin","(cf/ton)","Post-Mining Underground Factors"]
["AK","Alaska","NWB1","---","NWB","---",null,null,"NAB","Northern Appalachian Basin",138.4,44.980000000000004]
["AZ","Arizona","WTB3","---","WTB1","---",null,null,"CAB1","Central Appalachian Basin (WV)",136.80000000000001,44.460000000000008]
["AR","Arkansas","WIN2","---","WIN2","---",null,null,"CAB2","Central Appalachian Basin (VA)",399.1,129.70750000000001]
["CA","California","WTB3","---","WTB1","---",null,null,"CAB3","Central Appalachian Basin (E KY)",61.4,19.955000000000002]
["CO","Colorado","WTB1","---","WTB2","---",null,null,"WRB","Warrior Basin",266.7,86.677499999999995]
["CT","Connecticut","---","---","---","---",null,null,"ILB","Illinois Basin",64.3,20.897500000000001]
["DE","Delaware","---","---","---","---",null,null,"WTB1","Rockies (Piceance)",196.4,63.830000000000005]
["FL","Florida","---","---","---","---",null,null,"WTB2","Rockies (Unita)",99.4,32.305]
["GA","Georgia","---","---","---","---",null,null,"WTB3","Rockies (San Juan)",104.8,34.06]
["HI","Hawaii","---","---","---","---",null,null,"WTB4","Rockies (Green River)",247.2,80.34]
["ID","Idaho","---","---","---","---",null,null,"WTB5","Rockies (Raton Mesa)",127.9,41.567500000000003]
["IL","Illinois","ILB","---","ILB","---",null,null,"NGP","North Great Plains Basin (WY,MT)",15.8,5.1350000000000007]
["IN","Indiana","ILB","---","ILB","---",null,null,"NGP2","North Great Plains Basin (ND)",{"$f":"K16","v":15.8},{"$f":"L16","v":5.1350000000000007}]
["IA","Iowa","WIN1","---","WIN1","---",null,null,"WIN1","West Interior Basin (Forest City, Cherokee)",64.3,20.897500000000001]
["KS","Kansas","WIN1","---","WIN1","---",null,null,"WIN2","West Interior Basin (Arkoma)",331.2,107.64]
["KY","Kentucky","CAB3","ILB","CAB","ILB",null,null,"WIN3","West Interior Basin(Gulf Coast)",127.9,41.567500000000003]
["LA","Louisiana","WIN3","---","WIN3","---",null,null,"NWB1","Northwest Basin (Alaska)",160,52]
["ME","Maine","---","---","---","---",null,null,"NWB2","Northwest Basin (Washington)",47.3,15.372499999999999]
["MD","Maryland","NAB","---","NAB","---",null,null,"---","---"]
["MA","Massachusetts","---","---","---","---"]
["MI","Michigan","---","---","---","---",null,null,"Above ground basins",null,"Ave In-situ content","Surface Mine Factors","Post-Mining Surface Factors"]
["MN","Minnesota","---","---","---","---",null,null,"Basin",null,"(cf/ton)","EF","EF"]
["MS","Mississippi","WRB","---","WRB","---",null,null,"NAB","Northern Appalachian Basin",59.5,89.25,19.337500000000002]
["MO","Missouri","WIN1","---","WIN1","---",null,null,"CAB","Central Appalachian Basin",24.9,37.349999999999994,8.0924999999999994]
["MT","Montana","NGP","---","NGP","---",null,null,"WRB","Warrior Basin",30.7,46.05,9.9775000000000009]
["NE","Nebraska","---","---","---","---",null,null,"ILB","Illinois Basin",34.299999999999997,51.449999999999996,11.147499999999999]
["NV","Nevada","---","---","---","---",null,null,"WTB1","Southwest/Rockies (NM, AZ, CA)",7.3,10.95,2.3725000000000001]
["NH","New Hampshire","---","---","---","---",null,null,"WTB2","Southwest/Rockies (CO)",33.1,49.650000000000006,10.7575]
["NJ","New Jersey","---","---","---","---",null,null,"WTB3","Southwest/Rockies (UT)",16,24,5.2]
["NM","New Mexico","WTB3","---","WTB1","---",null,null,"NGP","North Great Plains Basin (WY,MT)",20,30,6.5]
["NY","New York","---","---","---","---",null,null,"NGP2","North Great Plains Basin (ND)",5.6,8.3999999999999986,1.8199999999999998]
["NC","North Carolina","---","---","---","---",null,null,"WIN1","West Interior Basin (Forest City, Cherokee)",34.299999999999997,51.449999999999996,11.147499999999999]
["ND","North Dakota","NGP2","---","NGP2","---",null,null,"WIN2","West Interior Basin (Arkoma)",74.5,111.75,24.212500000000002]
["OH","Ohio","NAB","---","NAB","---",null,null,"WIN3","West Interior Basin(Gulf Coast)",11,16.5,3.5750000000000002]
["OK","Oklahoma","WIN2","---","WIN2","---",null,null,"NWB","Northwest Basin",16,24,5.2]
["OR","Oregon","---","---","---","---",null,null,"---","---"]
["PA","Pennsylvania","NAB","---","NAB","---"]
["RI","Rhode Island","---","---","---","---"]
["SC","South Carolina","---","---","---","---"]
["SD","South Dakota","---","---","---","---"]
["TN","Tennessee","CAB3","---","CAB","---"]
["TX","Texas","WIN3","---","WIN3","---"]
["UT","Utah","WTB2","---","WTB3","---"]
["VT","Vermont","---","---","---","---"]
["VA","Virginia","CAB2","---","CAB","---"]
["WA","Washington","NWB2","---","NWB","---"]
["WV","West Virginia","CAB1","NAB","CAB","NAB"]
["WI","Wisconsin","---","---","---","---"]
["WY","Wyoming","NGP","---","NGP","---"]

{"sheet":"Coal data","index":13,"n_rows":2029,"n_cols":12,"rows_kept":2029,"cut":false,"hidden":false,"merged":[[2,0,2,11]]}
["Underground Mine Emission Data"]
["Source: U.S. National Inventory Calculation spreadsheet, Coal1990-2021.xlsm"]
["\"Annual Coal Production\" worksheet contains coal production for underground mines; \"UG-[current year]\" worksheet has ventilation system emissions and degasification liberation emissions in columns J or K and Q or R respectively. Recovered and used methane emissions are on the \"UG-Avoided\" worksheet."]
["Year","State","Year&State","Ventilation System Emissions (mmcf)","Degasification Liberations (mmcf)","Recovered and Used Methane (mmcf)","Underground Coal Production ('000 short tons)","2nd Basin Underground","Total Underground","Surface Coal Production ('000 short tons)","2nd Basin Surface"]
[null,null,1,2,3,4,5,6,7,8,9]
[1990,"AL","1990AL",29273,13149.81308,13149.813080000002,17531,0,{"$f":"SUM(G6:H6)","v":17531},11413,0,{"$f":"INDEX('Coal codes'!$B$4:$B$53,MATCH(B6,'Coal codes'!$A$4:$A$53,0))","v":"Alabama"}]
[1990,"AK","1990AK",0,0,0,0,0,{"$f":"SUM(G7:H7)","v":0},1706,0,{"$f":"INDEX('Coal codes'!$B$4:$B$53,MATCH(B7,'Coal codes'!$A$4:$A$53,0))","v":"Alaska"}]
[1990,"AZ","1990AZ",0,0,0,0,0,0,11304,0,{"$f":"INDEX('Coal codes'!$B$4:$B$53,MATCH(B8,'Coal codes'!$A$4:$A$53,0))","v":"Arizona"}]
[1990,"AR","1990AR",0,0,0,0,0,0,39,0,{"$f":"INDEX('Coal codes'!$B$4:$B$53,MATCH(B9,'Coal codes'!$A$4:$A$53,0))","v":"Arkansas"}]
[1990,"CA","1990CA",0,0,0,0,0,0,61,0,{"$f":"INDEX('Coal codes'!$B$4:$B$53,MATCH(B10,'Coal codes'!$A$4:$A$53,0))","v":"California"}]
[1990,"CO","1990CO",5621,3260.666666666667,0,10621,0,10621,8281,0,{"$f":"INDEX('Coal codes'!$B$4:$B$53,MATCH(B11,'Coal codes'!$A$4:$A$53,0))","v":"Colorado"}]
[1990,"CT","1990CT",0,0,0,0,0,0,0,0,{"$f":"INDEX('Coal codes'!$B$4:$B$53,MATCH(B12,'Coal codes'!$A$4:$A$53,0))","v":"Connecticut"}]
[1990,"DE","1990DE",0,0,0,0,0,0,0,0,{"$f":"INDEX('Coal codes'!$B$4:$B$53,MATCH(B13,'Coal codes'!$A$4:$A$53,0))","v":"Delaware"}]
[1990,"FL","1990FL",0,0,0,0,0,0,0,0,{"$f":"INDEX('Coal codes'!$B$4:$B$53,MATCH(B14,'Coal codes'!$A$4:$A$53,0))","v":"Florida"}]
[1990,"GA","1990GA",0,0,0,0,0,0,0,0,{"$f":"INDEX('Coal codes'!$B$4:$B$53,MATCH(B15,'Coal codes'!$A$4:$A$53,0))","v":"Georgia"}]
[1990,"HI","1990HI",0,0,0,0,0,0,0,0,{"$f":"INDEX('Coal codes'!$B$4:$B$53,MATCH(B16,'Coal codes'!$A$4:$A$53,0))","v":"Hawaii"}]
[1990,"ID","1990ID",0,0,0,0,0,0,0,0,{"$f":"INDEX('Coal codes'!$B$4:$B$53,MATCH(B17,'Coal codes'!$A$4:$A$53,0))","v":"Idaho"}]
[1990,"IL","1990IL",7957,0,0,41671,0,41671,18722,0,{"$f":"INDEX('Coal codes'!$B$4:$B$53,MATCH(B18,'Coal codes'!$A$4:$A$53,0))","v":"Illinois"}]
[1990,"IN","1990IN",109.5,0,0,3037,0,3037,32849,0,{"$f":"INDEX('Coal codes'!$B$4:$B$53,MATCH(B19,'Coal codes'!$A$4:$A$53,0))","v":"Indiana"}]
[1990,"IA","1990IA",0,0,0,0,0,0,381,0,{"$f":"INDEX('Coal codes'!$B$4:$B$53,MATCH(B20,'Coal codes'!$A$4:$A$53,0))","v":"Iowa"}]
[1990,"KS","1990KS",0,0,0,0,0,0,721,0,{"$f":"INDEX('Coal codes'!$B$4:$B$53,MATCH(B21,'Coal codes'!$A$4:$A$53,0))","v":"Kansas"}]
[1990,"KY","1990KY",4234,146,0,80416,24459,104875,47241,20429,{"$f":"INDEX('Coal codes'!$B$4:$B$53,MATCH(B22,'Coal codes'!$A$4:$A$53,0))","v":"Kentucky"}]
[1990,"LA","1990LA",0,0,0,0,0,0,3186,0,{"$f":"INDEX('Coal codes'!$B$4:$B$53,MATCH(B23,'Coal codes'!$A$4:$A$53,0))","v":"Louisiana"}]
[1990,"ME","1990ME",0,0,0,0,0,0,0,0,{"$f":"INDEX('Coal codes'!$B$4:$B$53,MATCH(B24,'Coal codes'!$A$4:$A$53,0))","v":"Maine"}]
[1990,"MD","1990MD",219,0,0,1985,0,1985,1484,0,{"$f":"INDEX('Coal codes'!$B$4:$B$53,MATCH(B25,'Coal codes'!$A$4:$A$53,0))","v":"Maryland"}]
[1990,"MA","1990MA",0,0,0,0,0,0,0,0,{"$f":"INDEX('Coal codes'!$B$4:$B$53,MATCH(B26,'Coal codes'!$A$4:$A$53,0))","v":"Massachusetts"}]
[1990,"MI","1990MI",0,0,0,0,0,0,0,0,{"$f":"INDEX('Coal codes'!$B$4:$B$53,MATCH(B27,'Coal codes'!$A$4:$A$53,0))","v":"Michigan"}]
[1990,"MN","1990MN",0,0,0,0,0,0,0,0,{"$f":"INDEX('Coal codes'!$B$4:$B$53,MATCH(B28,'Coal codes'!$A$4:$A$53,0))","v":"Minnesota"}]
[1990,"MS","1990MS",0,0,0,0,0,0,0,0,{"$f":"INDEX('Coal codes'!$B$4:$B$53,MATCH(B29,'Coal codes'!$A$4:$A$53,0))","v":"Mississippi"}]
[1990,"MO","1990MO",0,0,0,0,0,0,2646,0,{"$f":"INDEX('Coal codes'!$B$4:$B$53,MATCH(B30,'Coal codes'!$A$4:$A$53,0))","v":"Missouri"}]
[1990,"MT","1990MT",0,0,0,0,0,0,37616,0,{"$f":"INDEX('Coal codes'!$B$4:$B$53,MATCH(B31,'Coal codes'!$A$4:$A$53,0))","v":"Montana"}]
[1990,"NE","1990NE",0,0,0,0,0,0,0,0,{"$f":"INDEX('Coal codes'!$B$4:$B$53,MATCH(B32,'Coal codes'!$A$4:$A$53,0))","v":"Nebraska"}]
[1990,"NV","1990NV",0,0,0,0,0,0,0,0,{"$f":"INDEX('Coal codes'!$B$4:$B$53,MATCH(B33,'Coal codes'!$A$4:$A$53,0))","v":"Nevada"}]
[1990,"NH","1990NH",0,0,0,0,0,0,0,0,{"$f":"INDEX('Coal codes'!$B$4:$B$53,MATCH(B34,'Coal codes'!$A$4:$A$53,0))","v":"New Hampshire"}]
[1990,"NJ","1990NJ",0,0,0,0,0,0,0,0,{"$f":"INDEX('Coal codes'!$B$4:$B$53,MATCH(B35,'Coal codes'!$A$4:$A$53,0))","v":"New Jersey"}]
[1990,"NM","1990NM",36.5,0,0,76,0,76,24217,0,{"$f":"INDEX('Coal codes'!$B$4:$B$53,MATCH(B36,'Coal codes'!$A$4:$A$53,0))","v":"New Mexico"}]
[1990,"NY","1990NY",0,0,0,0,0,0,0,0,{"$f":"INDEX('Coal codes'!$B$4:$B$53,MATCH(B37,'Coal codes'!$A$4:$A$53,0))","v":"New York"}]
[1990,"NC","1990NC",0,0,0,0,0,0,0,0,{"$f":"INDEX('Coal codes'!$B$4:$B$53,MATCH(B38,'Coal codes'!$A$4:$A$53,0))","v":"North Carolina"}]
[1990,"ND","1990ND",0,0,0,0,0,0,29213,0,{"$f":"INDEX('Coal codes'!$B$4:$B$53,MATCH(B39,'Coal codes'!$A$4:$A$53,0))","v":"North Dakota"}]
[1990,"OH","1990OH",1387,0,0,12920,0,12920,22160,0,{"$f":"INDEX('Coal codes'!$B$4:$B$53,MATCH(B40,'Coal codes'!$A$4:$A$53,0))","v":"Ohio"}]
[1990,"OK","1990OK",0,0,0,105,0,105,1582,0,{"$f":"INDEX('Coal codes'!$B$4:$B$53,MATCH(B41,'Coal codes'!$A$4:$A$53,0))","v":"Oklahoma"}]
[1990,"OR","1990OR",0,0,0,0,0,0,0,0,{"$f":"INDEX('Coal codes'!$B$4:$B$53,MATCH(B42,'Coal codes'!$A$4:$A$53,0))","v":"Oregon"}]
[1990,"PA","1990PA",12300.5,4291.254901960785,0,40319,0,40319,29281,0,{"$f":"INDEX('Coal codes'!$B$4:$B$53,MATCH(B43,'Coal codes'!$A$4:$A$53,0))","v":"Pennsylvania"}]
[1990,"RI","1990RI",0,0,0,0,0,0,0,0,{"$f":"INDEX('Coal codes'!$B$4:$B$53,MATCH(B44,'Coal codes'!$A$4:$A$53,0))","v":"Rhode Island"}]
[1990,"SC","1990SC",0,0,0,0,0,0,0,0,{"$f":"INDEX('Coal codes'!$B$4:$B$53,MATCH(B45,'Coal codes'!$A$4:$A$53,0))","v":"South Carolina"}]
[1990,"SD","1990SD",0,0,0,0,0,0,0,0,{"$f":"INDEX('Coal codes'!$B$4:$B$53,MATCH(B46,'Coal codes'!$A$4:$A$53,0))","v":"South Dakota"}]
[1990,"TN","1990TN",109.5,0,0,4453,0,4453,1650,0,{"$f":"INDEX('Coal codes'!$B$4:$B$53,MATCH(B47,'Coal codes'!$A$4:$A$53,0))","v":"Tennessee"}]
[1990,"TX","1990TX",0,0,0,0,0,0,55755,0,{"$f":"INDEX('Coal codes'!$B$4:$B$53,MATCH(B48,'Coal codes'!$A$4:$A$53,0))","v":"Texas"}]
[1990,"UT","1990UT",2810.5,130.29808999999977,130.29808999999977,22057,0,22057,0,0,{"$f":"INDEX('Coal codes'!$B$4:$B$53,MATCH(B49,'Coal codes'!$A$4:$A$53,0))","v":"Utah"}]
[1990,"VT","1990VT",0,0,0,0,0,0,0,0,{"$f":"INDEX('Coal codes'!$B$4:$B$53,MATCH(B50,'Coal codes'!$A$4:$A$53,0))","v":"Vermont"}]
[1990,"VA","1990VA",20184.5,19981.142857142855,0,39071,0,39071,7681,0,{"$f":"INDEX('Coal codes'!$B$4:$B$53,MATCH(B51,'Coal codes'!$A$4:$A$53,0))","v":"Virginia"}]
[1990,"WA","1990WA",0,0,0,0,0,0,5001,0,{"$f":"INDEX('Coal codes'!$B$4:$B$53,MATCH(B52,'Coal codes'!$A$4:$A$53,0))","v":"Washington"}]
[1990,"WV","1990WV",27448,12562.952380952382,365.24333333333345,74472,48641,123113,37771,7836,{"$f":"INDEX('Coal codes'!$B$4:$B$53,MATCH(B53,'Coal codes'!$A$4:$A$53,0))","v":"West Virginia"}]
[1990,"WI","1990WI",0,0,0,0,0,0,0,0,{"$f":"INDEX('Coal codes'!$B$4:$B$53,MATCH(B54,'Coal codes'!$A$4:$A$53,0))","v":"Wisconsin"}]
[1990,"WY","1990WY",0,0,0,1722,0,1722,182527,0,{"$f":"INDEX('Coal codes'!$B$4:$B$53,MATCH(B55,'Coal codes'!$A$4:$A$53,0))","v":"Wyoming"}]
[1991,"AL","1991AL",0,0,13346.89068,17062,0,17062,10104,0,{"$f":"INDEX('Coal codes'!$B$4:$B$53,MATCH(B56,'Coal codes'!$A$4:$A$53,0))","v":"Alabama"}]
[1991,"AK","1991AK",0,0,0,0,0,0,1436,0,{"$f":"INDEX('Coal codes'!$B$4:$B$53,MATCH(B57,'Coal codes'!$A$4:$A$53,0))","v":"Alaska"}]
[1991,"AZ","1991AZ",0,0,0,0,0,0,13203,0,{"$f":"INDEX('Coal codes'!$B$4:$B$53,MATCH(B58,'Coal codes'!$A$4:$A$53,0))","v":"Arizona"}]
[1991,"AR","1991AR",0,0,0,0,0,0,34,0,{"$f":"INDEX('Coal codes'!$B$4:$B$53,MATCH(B59,'Coal codes'!$A$4:$A$53,0))","v":"Arkansas"}]
[1991,"CA","1991CA",0,0,0,0,0,0,57,0,{"$f":"INDEX('Coal codes'!$B$4:$B$53,MATCH(B60,'Coal codes'!$A$4:$A$53,0))","v":"California"}]
[1991,"CO","1991CO",0,0,0,9598,0,9598,8233,0,{"$f":"INDEX('Coal codes'!$B$4:$B$53,MATCH(B61,'Coal codes'!$A$4:$A$53,0))","v":"Colorado"}]
[1991,"CT","1991CT",0,0,0,0,0,0,0,0,{"$f":"INDEX('Coal codes'!$B$4:$B$53,MATCH(B62,'Coal codes'!$A$4:$A$53,0))","v":"Connecticut"}]
[1991,"DE","1991DE",0,0,0,0,0,0,0,0,{"$f":"INDEX('Coal codes'!$B$4:$B$53,MATCH(B63,'Coal codes'!$A$4:$A$53,0))","v":"Delaware"}]
[1991,"FL","1991FL",0,0,0,0,0,0,0,0,{"$f":"INDEX('Coal codes'!$B$4:$B$53,MATCH(B64,'Coal codes'!$A$4:$A$53,0))","v":"Florida"}]
[1991,"GA","1991GA",0,0,0,0,0,0,0,0,{"$f":"INDEX('Coal codes'!$B$4:$B$53,MATCH(B65,'Coal codes'!$A$4:$A$53,0))","v":"Georgia"}]
[1991,"HI","1991HI",0,0,0,0,0,0,0,0,{"$f":"INDEX('Coal codes'!$B$4:$B$53,MATCH(B66,'Coal codes'!$A$4:$A$53,0))","v":"Hawaii"}]
[1991,"ID","1991ID",0,0,0,0,0,0,0,0,{"$f":"INDEX('Coal codes'!$B$4:$B$53,MATCH(B67,'Coal codes'!$A$4:$A$53,0))","v":"Idaho"}]
[1991,"IL","1991IL",0,0,0,43134,0,43134,17120,0,{"$f":"INDEX('Coal codes'!$B$4:$B$53,MATCH(B68,'Coal codes'!$A$4:$A$53,0))","v":"Illinois"}]
[1991,"IN","1991IN",0,0,0,2832,0,2832,28624,0,{"$f":"INDEX('Coal codes'!$B$4:$B$53,MATCH(B69,'Coal codes'!$A$4:$A$53,0))","v":"Indiana"}]
[1991,"IA","1991IA",0,0,0,0,0,0,344,0,{"$f":"INDEX('Coal codes'!$B$4:$B$53,MATCH(B70,'Coal codes'!$A$4:$A$53,0))","v":"Iowa"}]
[1991,"KS","1991KS",0,0,0,0,0,{"$f":"SUM(G71:H71)","v":0},416,0,{"$f":"INDEX('Coal codes'!$B$4:$B$53,MATCH(B71,'Coal codes'!$A$4:$A$53,0))","v":"Kansas"}]
[1991,"KY","1991KY",0,0,0,73039,23981,97020,43571,17739,{"$f":"INDEX('Coal codes'!$B$4:$B$53,MATCH(B72,'Coal codes'!$A$4:$A$53,0))","v":"Kentucky"}]
[1991,"LA","1991LA",0,0,0,0,0,0,3151,0,{"$f":"INDEX('Coal codes'!$B$4:$B$53,MATCH(B73,'Coal codes'!$A$4:$A$53,0))","v":"Louisiana"}]
[1991,"ME","1991ME",0,0,0,0,0,0,0,0,{"$f":"INDEX('Coal codes'!$B$4:$B$53,MATCH(B74,'Coal codes'!$A$4:$A$53,0))","v":"Maine"}]
[1991,"MD","1991MD",0,0,0,2631,0,2631,1112,0,{"$f":"INDEX('Coal codes'!$B$4:$B$53,MATCH(B75,'Coal codes'!$A$4:$A$53,0))","v":"Maryland"}]
[1991,"MA","1991MA",0,0,0,0,0,0,0,0,{"$f":"INDEX('Coal codes'!$B$4:$B$53,MATCH(B76,'Coal codes'!$A$4:$A$53,0))","v":"Massachusetts"}]
[1991,"MI","1991MI",0,0,0,0,0,0,0,0,{"$f":"INDEX('Coal codes'!$B$4:$B$53,MATCH(B77,'Coal codes'!$A$4:$A$53,0))","v":"Michigan"}]
[1991,"MN","1991MN",0,0,0,0,0,0,0,0,{"$f":"INDEX('Coal codes'!$B$4:$B$53,MATCH(B78,'Coal codes'!$A$4:$A$53,0))","v":"Minnesota"}]
[1991,"MS","1991MS",0,0,0,0,0,0,0,0,{"$f":"INDEX('Coal codes'!$B$4:$B$53,MATCH(B79,'Coal codes'!$A$4:$A$53,0))","v":"Mississippi"}]
[1991,"MO","1991MO",0,0,0,0,0,0,2304,0,{"$f":"INDEX('Coal codes'!$B$4:$B$53,MATCH(B80,'Coal codes'!$A$4:$A$53,0))","v":"Missouri"}]
[1991,"MT","1991MT",0,0,0,0,0,0,38227,0,{"$f":"INDEX('Coal codes'!$B$4:$B$53,MATCH(B81,'Coal codes'!$A$4:$A$53,0))","v":"Montana"}]
[1991,"NE","1991NE",0,0,0,0,0,0,0,0,{"$f":"INDEX('Coal codes'!$B$4:$B$53,MATCH(B82,'Coal codes'!$A$4:$A$53,0))","v":"Nebraska"}]
[1991,"NV","1991NV",0,0,0,0,0,0,0,0,{"$f":"INDEX('Coal codes'!$B$4:$B$53,MATCH(B83,'Coal codes'!$A$4:$A$53,0))","v":"Nevada"}]
[1991,"NH","1991NH",0,0,0,0,0,0,0,0,{"$f":"INDEX('Coal codes'!$B$4:$B$53,MATCH(B84,'Coal codes'!$A$4:$A$53,0))","v":"New Hampshire"}]
[1991,"NJ","1991NJ",0,0,0,0,0,0,0,0,{"$f":"INDEX('Coal codes'!$B$4:$B$53,MATCH(B85,'Coal codes'!$A$4:$A$53,0))","v":"New Jersey"}]
[1991,"NM","1991NM",0,0,0,25,0,25,21492,0,{"$f":"INDEX('Coal codes'!$B$4:$B$53,MATCH(B86,'Coal codes'!$A$4:$A$53,0))","v":"New Mexico"}]
[1991,"NY","1991NY",0,0,0,0,0,0,0,0,{"$f":"INDEX('Coal codes'!$B$4:$B$53,MATCH(B87,'Coal codes'!$A$4:$A$53,0))","v":"New York"}]
[1991,"NC","1991NC",0,0,0,0,0,0,0,0,{"$f":"INDEX('Coal codes'!$B$4:$B$53,MATCH(B88,'Coal codes'!$A$4:$A$53,0))","v":"North Carolina"}]
[1991,"ND","1991ND",0,0,0,0,0,0,29530,0,{"$f":"INDEX('Coal codes'!$B$4:$B$53,MATCH(B89,'Coal codes'!$A$4:$A$53,0))","v":"North Dakota"}]
[1991,"OH","1991OH",0,0,0,12231,0,12231,18229,0,{"$f":"INDEX('Coal codes'!$B$4:$B$53,MATCH(B90,'Coal codes'!$A$4:$A$53,0))","v":"Ohio"}]
[1991,"OK","1991OK",0,0,0,26,0,26,1815,0,{"$f":"INDEX('Coal codes'!$B$4:$B$53,MATCH(B91,'Coal codes'!$A$4:$A$53,0))","v":"Oklahoma"}]
[1991,"OR","1991OR",0,0,0,0,0,0,0,0,{"$f":"INDEX('Coal codes'!$B$4:$B$53,MATCH(B92,'Coal codes'!$A$4:$A$53,0))","v":"Oregon"}]
[1991,"PA","1991PA",0,0,0,40725,0,40725,23746,0,{"$f":"INDEX('Coal codes'!$B$4:$B$53,MATCH(B93,'Coal codes'!$A$4:$A$53,0))","v":"Pennsylvania"}]
[1991,"RI","1991RI",0,0,0,0,0,0,0,0,{"$f":"INDEX('Coal codes'!$B$4:$B$53,MATCH(B94,'Coal codes'!$A$4:$A$53,0))","v":"Rhode Island"}]
[1991,"SC","1991SC",0,0,0,0,0,0,0,0,{"$f":"INDEX('Coal codes'!$B$4:$B$53,MATCH(B95,'Coal codes'!$A$4:$A$53,0))","v":"South Carolina"}]
[1991,"SD","1991SD",0,0,0,0,0,0,0,0,{"$f":"INDEX('Coal codes'!$B$4:$B$53,MATCH(B96,'Coal codes'!$A$4:$A$53,0))","v":"South Dakota"}]
[1991,"TN","1991TN",0,0,0,3006,0,3006,1197,0,{"$f":"INDEX('Coal codes'!$B$4:$B$53,MATCH(B97,'Coal codes'!$A$4:$A$53,0))","v":"Tennessee"}]
[1991,"TX","1991TX",0,0,0,0,0,0,53825,0,{"$f":"INDEX('Coal codes'!$B$4:$B$53,MATCH(B98,'Coal codes'!$A$4:$A$53,0))","v":"Texas"}]
[1991,"UT","1991UT",0,0,130.29808999999977,21945,0,21945,0,0,{"$f":"INDEX('Coal codes'!$B$4:$B$53,MATCH(B99,'Coal codes'!$A$4:$A$53,0))","v":"Utah"}]
[1991,"VT","1991VT",0,0,0,0,0,0,0,0,{"$f":"INDEX('Coal codes'!$B$4:$B$53,MATCH(B100,'Coal codes'!$A$4:$A$53,0))","v":"Vermont"}]
[1991,"VA","1991VA",0,0,608.20655399999998,34034,0,34034,7777,0,{"$f":"INDEX('Coal codes'!$B$4:$B$53,MATCH(B101,'Coal codes'!$A$4:$A$53,0))","v":"Virginia"}]
[1991,"WA","1991WA",0,0,0,0,0,0,5143,0,{"$f":"INDEX('Coal codes'!$B$4:$B$53,MATCH(B102,'Coal codes'!$A$4:$A$53,0))","v":"Washington"}]
[1991,"WV","1991WV",0,0,365,71794.2,47862.8,119657,39239.910000000003,8037.09,{"$f":"INDEX('Coal codes'!$B$4:$B$53,MATCH(B103,'Coal codes'!$A$4:$A$53,0))","v":"West Virginia"}]
[1991,"WI","1991WI",0,0,0,0,0,0,0,0,{"$f":"INDEX('Coal codes'!$B$4:$B$53,MATCH(B104,'Coal codes'!$A$4:$A$53,0))","v":"Wisconsin"}]
[1991,"WY","1991WY",0,0,0,2418,0,2418,191437,0,{"$f":"INDEX('Coal codes'!$B$4:$B$53,MATCH(B105,'Coal codes'!$A$4:$A$53,0))","v":"Wyoming"}]
[1992,"AL","1992AL",0,0,12718.004440000001,15944,0,15944,9775,0,{"$f":"INDEX('Coal codes'!$B$4:$B$53,MATCH(B106,'Coal codes'!$A$4:$A$53,0))","v":"Alabama"}]
[1992,"AK","1992AK",0,0,0,0,0,0,1534,0,{"$f":"INDEX('Coal codes'!$B$4:$B$53,MATCH(B107,'Coal codes'!$A$4:$A$53,0))","v":"Alaska"}]
[1992,"AZ","1992AZ",0,0,0,0,0,0,12512,0,{"$f":"INDEX('Coal codes'!$B$4:$B$53,MATCH(B108,'Coal codes'!$A$4:$A$53,0))","v":"Arizona"}]
[1992,"AR","1992AR",0,0,0,0,0,0,46,0,{"$f":"INDEX('Coal codes'!$B$4:$B$53,MATCH(B109,'Coal codes'!$A$4:$A$53,0))","v":"Arkansas"}]
[1992,"CA","1992CA",0,0,0,0,0,0,103,0,{"$f":"INDEX('Coal codes'!$B$4:$B$53,MATCH(B110,'Coal codes'!$A$4:$A$53,0))","v":"California"}]
[1992,"CO","1992CO",0,0,0,10238,0,10238,8981,0,{"$f":"INDEX('Coal codes'!$B$4:$B$53,MATCH(B111,'Coal codes'!$A$4:$A$53,0))","v":"Colorado"}]
[1992,"CT","1992CT",0,0,0,0,0,0,0,0,{"$f":"INDEX('Coal codes'!$B$4:$B$53,MATCH(B112,'Coal codes'!$A$4:$A$53,0))","v":"Connecticut"}]
[1992,"DE","1992DE",0,0,0,0,0,0,0,0,{"$f":"INDEX('Coal codes'!$B$4:$B$53,MATCH(B113,'Coal codes'!$A$4:$A$53,0))","v":"Delaware"}]
[1992,"FL","1992FL",0,0,0,0,0,0,0,0,{"$f":"INDEX('Coal codes'!$B$4:$B$53,MATCH(B114,'Coal codes'!$A$4:$A$53,0))","v":"Florida"}]
[1992,"GA","1992GA",0,0,0,0,0,0,0,0,{"$f":"INDEX('Coal codes'!$B$4:$B$53,MATCH(B115,'Coal codes'!$A$4:$A$53,0))","v":"Georgia"}]
[1992,"HI","1992HI",0,0,0,0,0,0,0,0,{"$f":"INDEX('Coal codes'!$B$4:$B$53,MATCH(B116,'Coal codes'!$A$4:$A$53,0))","v":"Hawaii"}]
[1992,"ID","1992ID",0,0,0,0,0,0,0,0,{"$f":"INDEX('Coal codes'!$B$4:$B$53,MATCH(B117,'Coal codes'!$A$4:$A$53,0))","v":"Idaho"}]
[1992,"IL","1992IL",0,0,0,46965,0,46965,12892,0,{"$f":"INDEX('Coal codes'!$B$4:$B$53,MATCH(B118,'Coal codes'!$A$4:$A$53,0))","v":"Illinois"}]
[1992,"IN","1992IN",0,0,0,2641,0,2641,27820,0,{"$f":"INDEX('Coal codes'!$B$4:$B$53,MATCH(B119,'Coal codes'!$A$4:$A$53,0))","v":"Indiana"}]
[1992,"IA","1992IA",0,0,0,0,0,0,289,0,{"$f":"INDEX('Coal codes'!$B$4:$B$53,MATCH(B120,'Coal codes'!$A$4:$A$53,0))","v":"Iowa"}]
[1992,"KS","1992KS",0,0,0,0,0,0,363,0,{"$f":"INDEX('Coal codes'!$B$4:$B$53,MATCH(B121,'Coal codes'!$A$4:$A$53,0))","v":"Kansas"}]
[1992,"KY","1992KY",0,0,0,72141,23548,95689,46683,18102,{"$f":"INDEX('Coal codes'!$B$4:$B$53,MATCH(B122,'Coal codes'!$A$4:$A$53,0))","v":"Kentucky"}]
[1992,"LA","1992LA",0,0,0,0,0,0,3240,0,{"$f":"INDEX('Coal codes'!$B$4:$B$53,MATCH(B123,'Coal codes'!$A$4:$A$53,0))","v":"Louisiana"}]
[1992,"ME","1992ME",0,0,0,0,0,0,0,0,{"$f":"INDEX('Coal codes'!$B$4:$B$53,MATCH(B124,'Coal codes'!$A$4:$A$53,0))","v":"Maine"}]
[1992,"MD","1992MD",0,0,0,2265,0,2265,1032,0,{"$f":"INDEX('Coal codes'!$B$4:$B$53,MATCH(B125,'Coal codes'!$A$4:$A$53,0))","v":"Maryland"}]
[1992,"MA","1992MA",0,0,0,0,0,0,0,0,{"$f":"INDEX('Coal codes'!$B$4:$B$53,MATCH(B126,'Coal codes'!$A$4:$A$53,0))","v":"Massachusetts"}]
[1992,"MI","1992MI",0,0,0,0,0,0,0,0,{"$f":"INDEX('Coal codes'!$B$4:$B$53,MATCH(B127,'Coal codes'!$A$4:$A$53,0))","v":"Michigan"}]
[1992,"MN","1992MN",0,0,0,0,0,0,0,0,{"$f":"INDEX('Coal codes'!$B$4:$B$53,MATCH(B128,'Coal codes'!$A$4:$A$53,0))","v":"Minnesota"}]
[1992,"MS","1992MS",0,0,0,0,0,0,0,0,{"$f":"INDEX('Coal codes'!$B$4:$B$53,MATCH(B129,'Coal codes'!$A$4:$A$53,0))","v":"Mississippi"}]
[1992,"MO","1992MO",0,0,0,0,0,0,2878,0,{"$f":"INDEX('Coal codes'!$B$4:$B$53,MATCH(B130,'Coal codes'!$A$4:$A$53,0))","v":"Missouri"}]
[1992,"MT","1992MT",0,0,0,0,0,0,38879,0,{"$f":"INDEX('Coal codes'!$B$4:$B$53,MATCH(B131,'Coal codes'!$A$4:$A$53,0))","v":"Montana"}]
[1992,"NE","1992NE",0,0,0,0,0,0,0,0,{"$f":"INDEX('Coal codes'!$B$4:$B$53,MATCH(B132,'Coal codes'!$A$4:$A$53,0))","v":"Nebraska"}]
[1992,"NV","1992NV",0,0,0,0,0,0,0,0,{"$f":"INDEX('Coal codes'!$B$4:$B$53,MATCH(B133,'Coal codes'!$A$4:$A$53,0))","v":"Nevada"}]
[1992,"NH","1992NH",0,0,0,0,0,0,0,0,{"$f":"INDEX('Coal codes'!$B$4:$B$53,MATCH(B134,'Coal codes'!$A$4:$A$53,0))","v":"New Hampshire"}]
[1992,"NJ","1992NJ",0,0,0,0,0,{"$f":"SUM(G135:H135)","v":0},0,0,{"$f":"INDEX('Coal codes'!$B$4:$B$53,MATCH(B135,'Coal codes'!$A$4:$A$53,0))","v":"New Jersey"}]
[1992,"NM","1992NM",0,0,0,93,0,93,24456,0,{"$f":"INDEX('Coal codes'!$B$4:$B$53,MATCH(B136,'Coal codes'!$A$4:$A$53,0))","v":"New Mexico"}]
[1992,"NY","1992NY",0,0,0,0,0,0,0,0,{"$f":"INDEX('Coal codes'!$B$4:$B$53,MATCH(B137,'Coal codes'!$A$4:$A$53,0))","v":"New York"}]
[1992,"NC","1992NC",0,0,0,0,0,0,0,0,{"$f":"INDEX('Coal codes'!$B$4:$B$53,MATCH(B138,'Coal codes'!$A$4:$A$53,0))","v":"North Carolina"}]
[1992,"ND","1992ND",0,0,0,0,0,0,31744,0,{"$f":"INDEX('Coal codes'!$B$4:$B$53,MATCH(B139,'Coal codes'!$A$4:$A$53,0))","v":"North Dakota"}]
[1992,"OH","1992OH",0,0,0,12031,0,12031,18218,0,{"$f":"INDEX('Coal codes'!$B$4:$B$53,MATCH(B140,'Coal codes'!$A$4:$A$53,0))","v":"Ohio"}]
[1992,"OK","1992OK",0,0,0,59,0,59,1675,0,{"$f":"INDEX('Coal codes'!$B$4:$B$53,MATCH(B141,'Coal codes'!$A$4:$A$53,0))","v":"Oklahoma"}]
[1992,"OR","1992OR",0,0,0,0,0,0,0,0,{"$f":"INDEX('Coal codes'!$B$4:$B$53,MATCH(B142,'Coal codes'!$A$4:$A$53,0))","v":"Oregon"}]
[1992,"PA","1992PA",0,0,0,44887,0,44887,23316,0,{"$f":"INDEX('Coal codes'!$B$4:$B$53,MATCH(B143,'Coal codes'!$A$4:$A$53,0))","v":"Pennsylvania"}]
[1992,"RI","1992RI",0,0,0,0,0,0,0,0,{"$f":"INDEX('Coal codes'!$B$4:$B$53,MATCH(B144,'Coal codes'!$A$4:$A$53,0))","v":"Rhode Island"}]
[1992,"SC","1992SC",0,0,0,0,0,0,0,0,{"$f":"INDEX('Coal codes'!$B$4:$B$53,MATCH(B145,'Coal codes'!$A$4:$A$53,0))","v":"South Carolina"}]
[1992,"SD","1992SD",0,0,0,0,0,0,0,0,{"$f":"INDEX('Coal codes'!$B$4:$B$53,MATCH(B146,'Coal codes'!$A$4:$A$53,0))","v":"South Dakota"}]
[1992,"TN","1992TN",0,0,0,1973,0,1973,1428,0,{"$f":"INDEX('Coal codes'!$B$4:$B$53,MATCH(B147,'Coal codes'!$A$4:$A$53,0))","v":"Tennessee"}]
[1992,"TX","1992TX",0,0,0,0,0,0,55071,0,{"$f":"INDEX('Coal codes'!$B$4:$B$53,MATCH(B148,'Coal codes'!$A$4:$A$53,0))","v":"Texas"}]
[1992,"UT","1992UT",0,0,130.29808999999977,21339,0,21339,0,0,{"$f":"INDEX('Coal codes'!$B$4:$B$53,MATCH(B149,'Coal codes'!$A$4:$A$53,0))","v":"Utah"}]
[1992,"VT","1992VT",0,0,0,0,0,0,0,0,{"$f":"INDEX('Coal codes'!$B$4:$B$53,MATCH(B150,'Coal codes'!$A$4:$A$53,0))","v":"Vermont"}]
[1992,"VA","1992VA",0,0,3771.9525600000002,34607,0,34607,8259,0,{"$f":"INDEX('Coal codes'!$B$4:$B$53,MATCH(B151,'Coal codes'!$A$4:$A$53,0))","v":"Virginia"}]
[1992,"WA","1992WA",0,0,0,0,0,0,5251,0,{"$f":"INDEX('Coal codes'!$B$4:$B$53,MATCH(B152,'Coal codes'!$A$4:$A$53,0))","v":"Washington"}]
[1992,"WV","1992WV",0,0,365,69055.8,46037.2,115093,38793.370000000003,7945.63,{"$f":"INDEX('Coal codes'!$B$4:$B$53,MATCH(B153,'Coal codes'!$A$4:$A$53,0))","v":"West Virginia"}]
[1992,"WI","1992WI",0,0,0,0,0,0,0,0,{"$f":"INDEX('Coal codes'!$B$4:$B$53,MATCH(B154,'Coal codes'!$A$4:$A$53,0))","v":"Wisconsin"}]
[1992,"WY","1992WY",0,0,0,2511,0,2511,187658,0,{"$f":"INDEX('Coal codes'!$B$4:$B$53,MATCH(B155,'Coal codes'!$A$4:$A$53,0))","v":"Wyoming"}]
[1993,"AL","1993AL",23287,11049.503879999998,11049.50388,15557,0,15557,9211,0,{"$f":"INDEX('Coal codes'!$B$4:$B$53,MATCH(B156,'Coal codes'!$A$4:$A$53,0))","v":"Alabama"}]
[1993,"AK","1993AK",0,0,0,0,0,0,1601,0,{"$f":"INDEX('Coal codes'!$B$4:$B$53,MATCH(B157,'Coal codes'!$A$4:$A$53,0))","v":"Alaska"}]
[1993,"AZ","1993AZ",0,0,0,0,0,0,12173,0,{"$f":"INDEX('Coal codes'!$B$4:$B$53,MATCH(B158,'Coal codes'!$A$4:$A$53,0))","v":"Arizona"}]
[1993,"AR","1993AR",0,0,0,2,0,2,43,0,{"$f":"INDEX('Coal codes'!$B$4:$B$53,MATCH(B159,'Coal codes'!$A$4:$A$53,0))","v":"Arkansas"}]
[1993,"CA","1993CA",0,0,0,0,0,0,0,0,{"$f":"INDEX('Coal codes'!$B$4:$B$53,MATCH(B160,'Coal codes'!$A$4:$A$53,0))","v":"California"}]
[1993,"CO","1993CO",4416.5,1192.3333333333335,0,12843,0,12843,9043,0,{"$f":"INDEX('Coal codes'!$B$4:$B$53,MATCH(B161,'Coal codes'!$A$4:$A$53,0))","v":"Colorado"}]
[1993,"CT","1993CT",0,0,0,0,0,0,0,0,{"$f":"INDEX('Coal codes'!$B$4:$B$53,MATCH(B162,'Coal codes'!$A$4:$A$53,0))","v":"Connecticut"}]
[1993,"DE","1993DE",0,0,0,0,0,0,0,0,{"$f":"INDEX('Coal codes'!$B$4:$B$53,MATCH(B163,'Coal codes'!$A$4:$A$53,0))","v":"Delaware"}]
[1993,"FL","1993FL",0,0,0,0,0,0,0,0,{"$f":"INDEX('Coal codes'!$B$4:$B$53,MATCH(B164,'Coal codes'!$A$4:$A$53,0))","v":"Florida"}]
[1993,"GA","1993GA",0,0,0,0,0,0,0,0,{"$f":"INDEX('Coal codes'!$B$4:$B$53,MATCH(B165,'Coal codes'!$A$4:$A$53,0))","v":"Georgia"}]
[1993,"HI","1993HI",0,0,0,0,0,0,0,0,{"$f":"INDEX('Coal codes'!$B$4:$B$53,MATCH(B166,'Coal codes'!$A$4:$A$53,0))","v":"Hawaii"}]
[1993,"ID","1993ID",0,0,0,0,0,0,0,0,{"$f":"INDEX('Coal codes'!$B$4:$B$53,MATCH(B167,'Coal codes'!$A$4:$A$53,0))","v":"Idaho"}]
[1993,"IL","1993IL",7190.5,0,0,33096,0,33096,8002,0,{"$f":"INDEX('Coal codes'!$B$4:$B$53,MATCH(B168,'Coal codes'!$A$4:$A$53,0))","v":"Illinois"}]
[1993,"IN","1993IN",146,0,0,2583,0,2583,26713,0,{"$f":"INDEX('Coal codes'!$B$4:$B$53,MATCH(B169,'Coal codes'!$A$4:$A$53,0))","v":"Indiana"}]
[1993,"IA","1993IA",0,0,0,0,0,0,175,0,{"$f":"INDEX('Coal codes'!$B$4:$B$53,MATCH(B170,'Coal codes'!$A$4:$A$53,0))","v":"Iowa"}]
[1993,"KS","1993KS",0,0,0,0,0,0,341,0,{"$f":"INDEX('Coal codes'!$B$4:$B$53,MATCH(B171,'Coal codes'!$A$4:$A$53,0))","v":"Kansas"}]
[1993,"KY","1993KY",3650,462.33333333333348,0,71919,20288,92207,48272,15820,{"$f":"INDEX('Coal codes'!$B$4:$B$53,MATCH(B172,'Coal codes'!$A$4:$A$53,0))","v":"Kentucky"}]
[1993,"LA","1993LA",0,0,0,0,0,0,3134,0,{"$f":"INDEX('Coal codes'!$B$4:$B$53,MATCH(B173,'Coal codes'!$A$4:$A$53,0))","v":"Louisiana"}]
[1993,"ME","1993ME",0,0,0,0,0,0,0,0,{"$f":"INDEX('Coal codes'!$B$4:$B$53,MATCH(B174,'Coal codes'!$A$4:$A$53,0))","v":"Maine"}]
[1993,"MD","1993MD",0,0,0,2528,0,2528,827,0,{"$f":"INDEX('Coal codes'!$B$4:$B$53,MATCH(B175,'Coal codes'!$A$4:$A$53,0))","v":"Maryland"}]
[1993,"MA","1993MA",0,0,0,0,0,0,0,0,{"$f":"INDEX('Coal codes'!$B$4:$B$53,MATCH(B176,'Coal codes'!$A$4:$A$53,0))","v":"Massachusetts"}]
[1993,"MI","1993MI",0,0,0,0,0,0,0,0,{"$f":"INDEX('Coal codes'!$B$4:$B$53,MATCH(B177,'Coal codes'!$A$4:$A$53,0))","v":"Michigan"}]
[1993,"MN","1993MN",0,0,0,0,0,0,0,0,{"$f":"INDEX('Coal codes'!$B$4:$B$53,MATCH(B178,'Coal codes'!$A$4:$A$53,0))","v":"Minnesota"}]
[1993,"MS","1993MS",0,0,0,0,0,0,0,0,{"$f":"INDEX('Coal codes'!$B$4:$B$53,MATCH(B179,'Coal codes'!$A$4:$A$53,0))","v":"Mississippi"}]
[1993,"MO","1993MO",0,0,0,0,0,0,653,0,{"$f":"INDEX('Coal codes'!$B$4:$B$53,MATCH(B180,'Coal codes'!$A$4:$A$53,0))","v":"Missouri"}]
[1993,"MT","1993MT",0,0,0,10,0,10,35907,0,{"$f":"INDEX('Coal codes'!$B$4:$B$53,MATCH(B181,'Coal codes'!$A$4:$A$53,0))","v":"Montana"}]
[1993,"NE","1993NE",0,0,0,0,0,0,0,0,{"$f":"INDEX('Coal codes'!$B$4:$B$53,MATCH(B182,'Coal codes'!$A$4:$A$53,0))","v":"Nebraska"}]
[1993,"NV","1993NV",0,0,0,0,0,0,0,0,{"$f":"INDEX('Coal codes'!$B$4:$B$53,MATCH(B183,'Coal codes'!$A$4:$A$53,0))","v":"Nevada"}]
[1993,"NH","1993NH",0,0,0,0,0,0,0,0,{"$f":"INDEX('Coal codes'!$B$4:$B$53,MATCH(B184,'Coal codes'!$A$4:$A$53,0))","v":"New Hampshire"}]
[1993,"NJ","1993NJ",0,0,0,0,0,0,0,0,{"$f":"INDEX('Coal codes'!$B$4:$B$53,MATCH(B185,'Coal codes'!$A$4:$A$53,0))","v":"New Jersey"}]
[1993,"NM","1993NM",146,0,0,719,0,719,27549,0,{"$f":"INDEX('Coal codes'!$B$4:$B$53,MATCH(B186,'Coal codes'!$A$4:$A$53,0))","v":"New Mexico"}]
[1993,"NY","1993NY",0,0,0,0,0,0,0,0,{"$f":"INDEX('Coal codes'!$B$4:$B$53,MATCH(B187,'Coal codes'!$A$4:$A$53,0))","v":"New York"}]
[1993,"NC","1993NC",0,0,0,0,0,0,0,0,{"$f":"INDEX('Coal codes'!$B$4:$B$53,MATCH(B188,'Coal codes'!$A$4:$A$53,0))","v":"North Carolina"}]
[1993,"ND","1993ND",0,0,0,0,0,0,31973,0,{"$f":"INDEX('Coal codes'!$B$4:$B$53,MATCH(B189,'Coal codes'!$A$4:$A$53,0))","v":"North Dakota"}]
[1993,"OH","1993OH",1350.5,0,0,10437,0,10437,18379,0,{"$f":"INDEX('Coal codes'!$B$4:$B$53,MATCH(B190,'Coal codes'!$A$4:$A$53,0))","v":"Ohio"}]
[1993,"OK","1993OK",0,0,0,98,0,98,1661,0,{"$f":"INDEX('Coal codes'!$B$4:$B$53,MATCH(B191,'Coal codes'!$A$4:$A$53,0))","v":"Oklahoma"}]
[1993,"OR","1993OR",0,0,0,0,0,0,0,0,{"$f":"INDEX('Coal codes'!$B$4:$B$53,MATCH(B192,'Coal codes'!$A$4:$A$53,0))","v":"Oregon"}]
[1993,"PA","1993PA",14673,6619.3823529411784,0,36934,0,36934,22766,0,{"$f":"INDEX('Coal codes'!$B$4:$B$53,MATCH(B193,'Coal codes'!$A$4:$A$53,0))","v":"Pennsylvania"}]
[1993,"RI","1993RI",0,0,0,0,0,0,0,0,{"$f":"INDEX('Coal codes'!$B$4:$B$53,MATCH(B194,'Coal codes'!$A$4:$A$53,0))","v":"Rhode Island"}]
[1993,"SC","1993SC",0,0,0,0,0,0,0,0,{"$f":"INDEX('Coal codes'!$B$4:$B$53,MATCH(B195,'Coal codes'!$A$4:$A$53,0))","v":"South Carolina"}]
[1993,"SD","1993SD",0,0,0,0,0,0,0,0,{"$f":"INDEX('Coal codes'!$B$4:$B$53,MATCH(B196,'Coal codes'!$A$4:$A$53,0))","v":"South Dakota"}]
[1993,"TN","1993TN",0,0,0,1896,0,1896,1151,0,{"$f":"INDEX('Coal codes'!$B$4:$B$53,MATCH(B197,'Coal codes'!$A$4:$A$53,0))","v":"Tennessee"}]
[1993,"TX","1993TX",0,0,0,0,0,0,54567,0,{"$f":"INDEX('Coal codes'!$B$4:$B$53,MATCH(B198,'Coal codes'!$A$4:$A$53,0))","v":"Texas"}]
[1993,"UT","1993UT",2737.5,394.79900000000089,383,21847,0,{"$f":"SUM(G199:H199)","v":21847},0,0,{"$f":"INDEX('Coal codes'!$B$4:$B$53,MATCH(B199,'Coal codes'!$A$4:$A$53,0))","v":"Utah"}]
[1993,"VT","1993VT",0,0,0,0,0,0,0,0,{"$f":"INDEX('Coal codes'!$B$4:$B$53,MATCH(B200,'Coal codes'!$A$4:$A$53,0))","v":"Vermont"}]
[1993,"VA","1993VA",18286.5,17958.417938931299,10787.027053999998,30166,0,30166,9151,0,{"$f":"INDEX('Coal codes'!$B$4:$B$53,MATCH(B201,'Coal codes'!$A$4:$A$53,0))","v":"Virginia"}]
[1993,"WA","1993WA",0,0,0,0,0,0,4739,0,{"$f":"INDEX('Coal codes'!$B$4:$B$53,MATCH(B202,'Coal codes'!$A$4:$A$53,0))","v":"Washington"}]
[1993,"WV","1993WV",18980,7281.042635658916,138,60864,27133,87997,35859,6669,{"$f":"INDEX('Coal codes'!$B$4:$B$53,MATCH(B203,'Coal codes'!$A$4:$A$53,0))","v":"West Virginia"}]
[1993,"WI","1993WI",0,0,0,0,0,0,0,0,{"$f":"INDEX('Coal codes'!$B$4:$B$53,MATCH(B204,'Coal codes'!$A$4:$A$53,0))","v":"Wisconsin"}]
[1993,"WY","1993WY",0,0,0,2136,0,2136,207993,0,{"$f":"INDEX('Coal codes'!$B$4:$B$53,MATCH(B205,'Coal codes'!$A$4:$A$53,0))","v":"Wyoming"}]
[1994,"AL","1994AL",27119.5,11195.922870920245,11195.18692,14471,0,14471,8795,0,{"$f":"INDEX('Coal codes'!$B$4:$B$53,MATCH(B206,'Coal codes'!$A$4:$A$53,0))","v":"Alabama"}]
[1994,"AK","1994AK",0,0,0,0,0,0,1567,0,{"$f":"INDEX('Coal codes'!$B$4:$B$53,MATCH(B207,'Coal codes'!$A$4:$A$53,0))","v":"Alaska"}]
[1994,"AZ","1994AZ",0,0,0,0,0,0,13056,0,{"$f":"INDEX('Coal codes'!$B$4:$B$53,MATCH(B208,'Coal codes'!$A$4:$A$53,0))","v":"Arizona"}]
[1994,"AR","1994AR",0,0,0,12,0,12,38,0,{"$f":"INDEX('Coal codes'!$B$4:$B$53,MATCH(B209,'Coal codes'!$A$4:$A$53,0))","v":"Arkansas"}]
[1994,"CA","1994CA",0,0,0,0,0,0,0,0,{"$f":"INDEX('Coal codes'!$B$4:$B$53,MATCH(B210,'Coal codes'!$A$4:$A$53,0))","v":"California"}]
[1994,"CO","1994CO",5913,1411.333333333333,0,16332,0,16332,8972,0,{"$f":"INDEX('Coal codes'!$B$4:$B$53,MATCH(B211,'Coal codes'!$A$4:$A$53,0))","v":"Colorado"}]
[1994,"CT","1994CT",0,0,0,0,0,0,0,0,{"$f":"INDEX('Coal codes'!$B$4:$B$53,MATCH(B212,'Coal codes'!$A$4:$A$53,0))","v":"Connecticut"}]
[1994,"DE","1994DE",0,0,0,0,0,0,0,0,{"$f":"INDEX('Coal codes'!$B$4:$B$53,MATCH(B213,'Coal codes'!$A$4:$A$53,0))","v":"Delaware"}]
[1994,"FL","1994FL",0,0,0,0,0,0,0,0,{"$f":"INDEX('Coal codes'!$B$4:$B$53,MATCH(B214,'Coal codes'!$A$4:$A$53,0))","v":"Florida"}]
[1994,"GA","1994GA",0,0,0,0,0,0,0,0,{"$f":"INDEX('Coal codes'!$B$4:$B$53,MATCH(B215,'Coal codes'!$A$4:$A$53,0))","v":"Georgia"}]
[1994,"HI","1994HI",0,0,0,0,0,0,0,0,{"$f":"INDEX('Coal codes'!$B$4:$B$53,MATCH(B216,'Coal codes'!$A$4:$A$53,0))","v":"Hawaii"}]
[1994,"ID","1994ID",0,0,0,0,0,0,0,0,{"$f":"INDEX('Coal codes'!$B$4:$B$53,MATCH(B217,'Coal codes'!$A$4:$A$53,0))","v":"Idaho"}]
[1994,"IL","1994IL",8723.5,0,0,43281,0,43281,9516,0,{"$f":"INDEX('Coal codes'!$B$4:$B$53,MATCH(B218,'Coal codes'!$A$4:$A$53,0))","v":"Illinois"}]
[1994,"IN","1994IN",219,0,0,3324,0,3324,27603,0,{"$f":"INDEX('Coal codes'!$B$4:$B$53,MATCH(B219,'Coal codes'!$A$4:$A$53,0))","v":"Indiana"}]
[1994,"IA","1994IA",0,0,0,0,0,0,46,0,{"$f":"INDEX('Coal codes'!$B$4:$B$53,MATCH(B220,'Coal codes'!$A$4:$A$53,0))","v":"Iowa"}]
[1994,"KS","1994KS",0,0,0,0,0,0,284,0,{"$f":"INDEX('Coal codes'!$B$4:$B$53,MATCH(B221,'Coal codes'!$A$4:$A$53,0))","v":"Kansas"}]
[1994,"KY","1994KY",4562.5,511,0,72969,22445,95414,51478,14749,{"$f":"INDEX('Coal codes'!$B$4:$B$53,MATCH(B222,'Coal codes'!$A$4:$A$53,0))","v":"Kentucky"}]
[1994,"LA","1994LA",0,0,0,0,0,0,3463,0,{"$f":"INDEX('Coal codes'!$B$4:$B$53,MATCH(B223,'Coal codes'!$A$4:$A$53,0))","v":"Louisiana"}]
[1994,"ME","1994ME",0,0,0,0,0,0,0,0,{"$f":"INDEX('Coal codes'!$B$4:$B$53,MATCH(B224,'Coal codes'!$A$4:$A$53,0))","v":"Maine"}]
[1994,"MD","1994MD",0,0,0,2839,0,2839,793,0,{"$f":"INDEX('Coal codes'!$B$4:$B$53,MATCH(B225,'Coal codes'!$A$4:$A$53,0))","v":"Maryland"}]
[1994,"MA","1994MA",0,0,0,0,0,0,0,0,{"$f":"INDEX('Coal codes'!$B$4:$B$53,MATCH(B226,'Coal codes'!$A$4:$A$53,0))","v":"Massachusetts"}]
[1994,"MI","1994MI",0,0,0,0,0,0,0,0,{"$f":"INDEX('Coal codes'!$B$4:$B$53,MATCH(B227,'Coal codes'!$A$4:$A$53,0))","v":"Michigan"}]
[1994,"MN","1994MN",0,0,0,0,0,0,0,0,{"$f":"INDEX('Coal codes'!$B$4:$B$53,MATCH(B228,'Coal codes'!$A$4:$A$53,0))","v":"Minnesota"}]
[1994,"MS","1994MS",0,0,0,0,0,0,0,0,{"$f":"INDEX('Coal codes'!$B$4:$B$53,MATCH(B229,'Coal codes'!$A$4:$A$53,0))","v":"Mississippi"}]
[1994,"MO","1994MO",0,0,0,0,0,0,838,0,{"$f":"INDEX('Coal codes'!$B$4:$B$53,MATCH(B230,'Coal codes'!$A$4:$A$53,0))","v":"Missouri"}]
[1994,"MT","1994MT",0,0,0,3,0,3,41636,0,{"$f":"INDEX('Coal codes'!$B$4:$B$53,MATCH(B231,'Coal codes'!$A$4:$A$53,0))","v":"Montana"}]
[1994,"NE","1994NE",0,0,0,0,0,0,0,0,{"$f":"INDEX('Coal codes'!$B$4:$B$53,MATCH(B232,'Coal codes'!$A$4:$A$53,0))","v":"Nebraska"}]
[1994,"NV","1994NV",0,0,0,0,0,0,0,0,{"$f":"INDEX('Coal codes'!$B$4:$B$53,MATCH(B233,'Coal codes'!$A$4:$A$53,0))","v":"Nevada"}]
[1994,"NH","1994NH",0,0,0,0,0,0,0,0,{"$f":"INDEX('Coal codes'!$B$4:$B$53,MATCH(B234,'Coal codes'!$A$4:$A$53,0))","v":"New Hampshire"}]
[1994,"NJ","1994NJ",0,0,0,0,0,0,0,0,{"$f":"INDEX('Coal codes'!$B$4:$B$53,MATCH(B235,'Coal codes'!$A$4:$A$53,0))","v":"New Jersey"}]
[1994,"NM","1994NM",182.5,0,0,950,0,950,27091,0,{"$f":"INDEX('Coal codes'!$B$4:$B$53,MATCH(B236,'Coal codes'!$A$4:$A$53,0))","v":"New Mexico"}]
[1994,"NY","1994NY",0,0,0,0,0,0,0,0,{"$f":"INDEX('Coal codes'!$B$4:$B$53,MATCH(B237,'Coal codes'!$A$4:$A$53,0))","v":"New York"}]
[1994,"NC","1994NC",0,0,0,0,0,0,0,0,{"$f":"INDEX('Coal codes'!$B$4:$B$53,MATCH(B238,'Coal codes'!$A$4:$A$53,0))","v":"North Carolina"}]
[1994,"ND","1994ND",0,0,0,0,0,0,32286,0,{"$f":"INDEX('Coal codes'!$B$4:$B$53,MATCH(B239,'Coal codes'!$A$4:$A$53,0))","v":"North Dakota"}]
[1994,"OH","1994OH",1678.9999999999998,0,0,13607,0,13607,16290,0,{"$f":"INDEX('Coal codes'!$B$4:$B$53,MATCH(B240,'Coal codes'!$A$4:$A$53,0))","v":"Ohio"}]
[1994,"OK","1994OK",36.5,0,0,135,0,135,1776,0,{"$f":"INDEX('Coal codes'!$B$4:$B$53,MATCH(B241,'Coal codes'!$A$4:$A$53,0))","v":"Oklahoma"}]
[1994,"OR","1994OR",0,0,0,0,0,0,0,0,{"$f":"INDEX('Coal codes'!$B$4:$B$53,MATCH(B242,'Coal codes'!$A$4:$A$53,0))","v":"Oregon"}]
[1994,"PA","1994PA",12884.5,5968.8235294117649,0,39974,0,39974,22263,0,{"$f":"INDEX('Coal codes'!$B$4:$B$53,MATCH(B243,'Coal codes'!$A$4:$A$53,0))","v":"Pennsylvania"}]
[1994,"RI","1994RI",0,0,0,0,0,0,0,0,{"$f":"INDEX('Coal codes'!$B$4:$B$53,MATCH(B244,'Coal codes'!$A$4:$A$53,0))","v":"Rhode Island"}]
[1994,"SC","1994SC",0,0,0,0,0,0,0,0,{"$f":"INDEX('Coal codes'!$B$4:$B$53,MATCH(B245,'Coal codes'!$A$4:$A$53,0))","v":"South Carolina"}]
[1994,"SD","1994SD",0,0,0,0,0,0,0,0,{"$f":"INDEX('Coal codes'!$B$4:$B$53,MATCH(B246,'Coal codes'!$A$4:$A$53,0))","v":"South Dakota"}]
[1994,"TN","1994TN",0,0,0,1893,0,1893,1093,0,{"$f":"INDEX('Coal codes'!$B$4:$B$53,MATCH(B247,'Coal codes'!$A$4:$A$53,0))","v":"Tennessee"}]
[1994,"TX","1994TX",0,0,0,0,0,0,52346,0,{"$f":"INDEX('Coal codes'!$B$4:$B$53,MATCH(B248,'Coal codes'!$A$4:$A$53,0))","v":"Texas"}]
[1994,"UT","1994UT",1496.5,311.05375757575825,3.4961197609077534,24399,0,24399,0,0,{"$f":"INDEX('Coal codes'!$B$4:$B$53,MATCH(B249,'Coal codes'!$A$4:$A$53,0))","v":"Utah"}]
[1994,"VT","1994VT",0,0,0,0,0,0,0,0,{"$f":"INDEX('Coal codes'!$B$4:$B$53,MATCH(B250,'Coal codes'!$A$4:$A$53,0))","v":"Vermont"}]
[1994,"VA","1994VA",17264.5,20347.463587668812,15426.28909241096,28054,0,28054,9075,0,{"$f":"INDEX('Coal codes'!$B$4:$B$53,MATCH(B251,'Coal codes'!$A$4:$A$53,0))","v":"Virginia"}]
[1994,"WA","1994WA",0,0,0,0,0,0,4893,0,{"$f":"INDEX('Coal codes'!$B$4:$B$53,MATCH(B252,'Coal codes'!$A$4:$A$53,0))","v":"Washington"}]
[1994,"WV","1994WV",16169.5,5857.2596899224809,70.072888837209305,67977,43702,111679,44483,5614,{"$f":"INDEX('Coal codes'!$B$4:$B$53,MATCH(B253,'Coal codes'!$A$4:$A$53,0))","v":"West Virginia"}]
[1994,"WI","1994WI",0,0,0,0,0,0,0,0,{"$f":"INDEX('Coal codes'!$B$4:$B$53,MATCH(B254,'Coal codes'!$A$4:$A$53,0))","v":"Wisconsin"}]
[1994,"WY","1994WY",0,0,0,2735,0,2735,234357,0,{"$f":"INDEX('Coal codes'!$B$4:$B$53,MATCH(B255,'Coal codes'!$A$4:$A$53,0))","v":"Wyoming"}]
[1995,"AL","1995AL",28988.3,12770.48828,12770.48828,17605,0,17605,7036,0,{"$f":"INDEX('Coal codes'!$B$4:$B$53,MATCH(B256,'Coal codes'!$A$4:$A$53,0))","v":"Alabama"}]
[1995,"AK","1995AK",0,0,0,0,0,0,1698,0,{"$f":"INDEX('Coal codes'!$B$4:$B$53,MATCH(B257,'Coal codes'!$A$4:$A$53,0))","v":"Alaska"}]
[1995,"AZ","1995AZ",0,0,0,0,0,0,11947,0,{"$f":"INDEX('Coal codes'!$B$4:$B$53,MATCH(B258,'Coal codes'!$A$4:$A$53,0))","v":"Arizona"}]
[1995,"AR","1995AR",0,0,0,0,0,0,29,0,{"$f":"INDEX('Coal codes'!$B$4:$B$53,MATCH(B259,'Coal codes'!$A$4:$A$53,0))","v":"Arkansas"}]
[1995,"CA","1995CA",0,0,0,0,0,0,0,0,{"$f":"INDEX('Coal codes'!$B$4:$B$53,MATCH(B260,'Coal codes'!$A$4:$A$53,0))","v":"California"}]
[1995,"CO","1995CO",5329,0,0,17187,0,17187,8523,0,{"$f":"INDEX('Coal codes'!$B$4:$B$53,MATCH(B261,'Coal codes'!$A$4:$A$53,0))","v":"Colorado"}]
[1995,"CT","1995CT",0,0,0,0,0,0,0,0,{"$f":"INDEX('Coal codes'!$B$4:$B$53,MATCH(B262,'Coal codes'!$A$4:$A$53,0))","v":"Connecticut"}]
[1995,"DE","1995DE",0,0,0,0,0,{"$f":"SUM(G263:H263)","v":0},0,0,{"$f":"INDEX('Coal codes'!$B$4:$B$53,MATCH(B263,'Coal codes'!$A$4:$A$53,0))","v":"Delaware"}]
[1995,"FL","1995FL",0,0,0,0,0,0,0,0,{"$f":"INDEX('Coal codes'!$B$4:$B$53,MATCH(B264,'Coal codes'!$A$4:$A$53,0))","v":"Florida"}]
[1995,"GA","1995GA",0,0,0,0,0,0,0,0,{"$f":"INDEX('Coal codes'!$B$4:$B$53,MATCH(B265,'Coal codes'!$A$4:$A$53,0))","v":"Georgia"}]
[1995,"HI","1995HI",0,0,0,0,0,0,0,0,{"$f":"INDEX('Coal codes'!$B$4:$B$53,MATCH(B266,'Coal codes'!$A$4:$A$53,0))","v":"Hawaii"}]
[1995,"ID","1995ID",0,0,0,0,0,0,0,0,{"$f":"INDEX('Coal codes'!$B$4:$B$53,MATCH(B267,'Coal codes'!$A$4:$A$53,0))","v":"Idaho"}]
[1995,"IL","1995IL",9271,0,0,41118,0,41118,7062,0,{"$f":"INDEX('Coal codes'!$B$4:$B$53,MATCH(B268,'Coal codes'!$A$4:$A$53,0))","v":"Illinois"}]
[1995,"IN","1995IN",146,0,0,3540,0,3540,22467,0,{"$f":"INDEX('Coal codes'!$B$4:$B$53,MATCH(B269,'Coal codes'!$A$4:$A$53,0))","v":"Indiana"}]
[1995,"IA","1995IA",0,0,0,0,0,0,0,0,{"$f":"INDEX('Coal codes'!$B$4:$B$53,MATCH(B270,'Coal codes'!$A$4:$A$53,0))","v":"Iowa"}]
[1995,"KS","1995KS",0,0,0,0,0,0,285,0,{"$f":"INDEX('Coal codes'!$B$4:$B$53,MATCH(B271,'Coal codes'!$A$4:$A$53,0))","v":"Kansas"}]
[1995,"KY","1995KY",4281.4499999999989,0,0,69856,24351,94207,48685,10847,{"$f":"INDEX('Coal codes'!$B$4:$B$53,MATCH(B272,'Coal codes'!$A$4:$A$53,0))","v":"Kentucky"}]
[1995,"LA","1995LA",0,0,0,0,0,0,3719,0,{"$f":"INDEX('Coal codes'!$B$4:$B$53,MATCH(B273,'Coal codes'!$A$4:$A$53,0))","v":"Louisiana"}]
[1995,"ME","1995ME",0,0,0,0,0,0,0,0,{"$f":"INDEX('Coal codes'!$B$4:$B$53,MATCH(B274,'Coal codes'!$A$4:$A$53,0))","v":"Maine"}]
[1995,"MD","1995MD",0,0,0,2891,0,2891,776,0,{"$f":"INDEX('Coal codes'!$B$4:$B$53,MATCH(B275,'Coal codes'!$A$4:$A$53,0))","v":"Maryland"}]
[1995,"MA","1995MA",0,0,0,0,0,0,0,0,{"$f":"INDEX('Coal codes'!$B$4:$B$53,MATCH(B276,'Coal codes'!$A$4:$A$53,0))","v":"Massachusetts"}]
[1995,"MI","1995MI",0,0,0,0,0,0,0,0,{"$f":"INDEX('Coal codes'!$B$4:$B$53,MATCH(B277,'Coal codes'!$A$4:$A$53,0))","v":"Michigan"}]
[1995,"MN","1995MN",0,0,0,0,0,0,0,0,{"$f":"INDEX('Coal codes'!$B$4:$B$53,MATCH(B278,'Coal codes'!$A$4:$A$53,0))","v":"Minnesota"}]
[1995,"MS","1995MS",0,0,0,0,0,0,0,0,{"$f":"INDEX('Coal codes'!$B$4:$B$53,MATCH(B279,'Coal codes'!$A$4:$A$53,0))","v":"Mississippi"}]
[1995,"MO","1995MO",0,0,0,0,0,0,548,0,{"$f":"INDEX('Coal codes'!$B$4:$B$53,MATCH(B280,'Coal codes'!$A$4:$A$53,0))","v":"Missouri"}]
[1995,"MT","1995MT",0,0,0,10,0,10,39441,0,{"$f":"INDEX('Coal codes'!$B$4:$B$53,MATCH(B281,'Coal codes'!$A$4:$A$53,0))","v":"Montana"}]
[1995,"NE","1995NE",0,0,0,0,0,0,0,0,{"$f":"INDEX('Coal codes'!$B$4:$B$53,MATCH(B282,'Coal codes'!$A$4:$A$53,0))","v":"Nebraska"}]
[1995,"NV","1995NV",0,0,0,0,0,0,0,0,{"$f":"INDEX('Coal codes'!$B$4:$B$53,MATCH(B283,'Coal codes'!$A$4:$A$53,0))","v":"Nevada"}]
[1995,"NH","1995NH",0,0,0,0,0,0,0,0,{"$f":"INDEX('Coal codes'!$B$4:$B$53,MATCH(B284,'Coal codes'!$A$4:$A$53,0))","v":"New Hampshire"}]
[1995,"NJ","1995NJ",0,0,0,0,0,0,0,0,{"$f":"INDEX('Coal codes'!$B$4:$B$53,MATCH(B285,'Coal codes'!$A$4:$A$53,0))","v":"New Jersey"}]
[1995,"NM","1995NM",109.5,0,0,640,0,640,26173,0,{"$f":"INDEX('Coal codes'!$B$4:$B$53,MATCH(B286,'Coal codes'!$A$4:$A$53,0))","v":"New Mexico"}]
[1995,"NY","1995NY",0,0,0,0,0,0,0,0,{"$f":"INDEX('Coal codes'!$B$4:$B$53,MATCH(B287,'Coal codes'!$A$4:$A$53,0))","v":"New York"}]
[1995,"NC","1995NC",0,0,0,0,0,0,0,0,{"$f":"INDEX('Coal codes'!$B$4:$B$53,MATCH(B288,'Coal codes'!$A$4:$A$53,0))","v":"North Carolina"}]
[1995,"ND","1995ND",0,0,0,0,0,0,30112,0,{"$f":"INDEX('Coal codes'!$B$4:$B$53,MATCH(B289,'Coal codes'!$A$4:$A$53,0))","v":"North Dakota"}]
[1995,"OH","1995OH",1642.5,0,0,13077,0,13077,13041,0,{"$f":"INDEX('Coal codes'!$B$4:$B$53,MATCH(B290,'Coal codes'!$A$4:$A$53,0))","v":"Ohio"}]
[1995,"OK","1995OK",0,0,0,25,0,25,1851,0,{"$f":"INDEX('Coal codes'!$B$4:$B$53,MATCH(B291,'Coal codes'!$A$4:$A$53,0))","v":"Oklahoma"}]
[1995,"OR","1995OR",0,0,0,0,0,0,0,0,{"$f":"INDEX('Coal codes'!$B$4:$B$53,MATCH(B292,'Coal codes'!$A$4:$A$53,0))","v":"Oregon"}]
[1995,"PA","1995PA",15804.5,3672.1862745098047,0,41409,0,41409,20167,0,{"$f":"INDEX('Coal codes'!$B$4:$B$53,MATCH(B293,'Coal codes'!$A$4:$A$53,0))","v":"Pennsylvania"}]
[1995,"RI","1995RI",0,0,0,0,0,0,0,0,{"$f":"INDEX('Coal codes'!$B$4:$B$53,MATCH(B294,'Coal codes'!$A$4:$A$53,0))","v":"Rhode Island"}]
[1995,"SC","1995SC",0,0,0,0,0,0,0,0,{"$f":"INDEX('Coal codes'!$B$4:$B$53,MATCH(B295,'Coal codes'!$A$4:$A$53,0))","v":"South Carolina"}]
[1995,"SD","1995SD",0,0,0,0,0,0,0,0,{"$f":"INDEX('Coal codes'!$B$4:$B$53,MATCH(B296,'Coal codes'!$A$4:$A$53,0))","v":"South Dakota"}]
[1995,"TN","1995TN",0,0,0,1964,0,1964,1258,0,{"$f":"INDEX('Coal codes'!$B$4:$B$53,MATCH(B297,'Coal codes'!$A$4:$A$53,0))","v":"Tennessee"}]
[1995,"TX","1995TX",0,0,0,0,0,0,52684,0,{"$f":"INDEX('Coal codes'!$B$4:$B$53,MATCH(B298,'Coal codes'!$A$4:$A$53,0))","v":"Texas"}]
[1995,"UT","1995UT",1606,0,0,25167,0,25167,0,0,{"$f":"INDEX('Coal codes'!$B$4:$B$53,MATCH(B299,'Coal codes'!$A$4:$A$53,0))","v":"Utah"}]
[1995,"VT","1995VT",0,0,0,0,0,0,0,0,{"$f":"INDEX('Coal codes'!$B$4:$B$53,MATCH(B300,'Coal codes'!$A$4:$A$53,0))","v":"Vermont"}]
[1995,"VA","1995VA",13067,19740.020361990952,17769.615620000004,25372,0,25372,8727,0,{"$f":"INDEX('Coal codes'!$B$4:$B$53,MATCH(B301,'Coal codes'!$A$4:$A$53,0))","v":"Virginia"}]
[1995,"WA","1995WA",0,0,0,0,0,0,4868,0,{"$f":"INDEX('Coal codes'!$B$4:$B$53,MATCH(B302,'Coal codes'!$A$4:$A$53,0))","v":"Washington"}]
[1995,"WV","1995WV",19717.3,572.38636363636397,0,69303,40726,110029,47580,5388,{"$f":"INDEX('Coal codes'!$B$4:$B$53,MATCH(B303,'Coal codes'!$A$4:$A$53,0))","v":"West Virginia"}]
[1995,"WI","1995WI",0,0,0,0,0,0,0,0,{"$f":"INDEX('Coal codes'!$B$4:$B$53,MATCH(B304,'Coal codes'!$A$4:$A$53,0))","v":"Wisconsin"}]
[1995,"WY","1995WY",0,0,0,2008,0,2008,261814,0,{"$f":"INDEX('Coal codes'!$B$4:$B$53,MATCH(B305,'Coal codes'!$A$4:$A$53,0))","v":"Wyoming"}]
[1996,"AL","1996AL",25158.840000000004,17846.141800000001,17846.141800000001,18217,0,18217,6420,0,{"$f":"INDEX('Coal codes'!$B$4:$B$53,MATCH(B306,'Coal codes'!$A$4:$A$53,0))","v":"Alabama"}]
[1996,"AK","1996AK",0,0,0,0,0,0,1481,0,{"$f":"INDEX('Coal codes'!$B$4:$B$53,MATCH(B307,'Coal codes'!$A$4:$A$53,0))","v":"Alaska"}]
[1996,"AZ","1996AZ",0,0,0,0,0,0,10442,0,{"$f":"INDEX('Coal codes'!$B$4:$B$53,MATCH(B308,'Coal codes'!$A$4:$A$53,0))","v":"Arizona"}]
[1996,"AR","1996AR",0,0,0,0,0,0,21,0,{"$f":"INDEX('Coal codes'!$B$4:$B$53,MATCH(B309,'Coal codes'!$A$4:$A$53,0))","v":"Arkansas"}]
[1996,"CA","1996CA",0,0,0,0,0,0,0,0,{"$f":"INDEX('Coal codes'!$B$4:$B$53,MATCH(B310,'Coal codes'!$A$4:$A$53,0))","v":"California"}]
[1996,"CO","1996CO",3806.3999999999996,97.600000000000023,0,15581,0,15581,9305,0,{"$f":"INDEX('Coal codes'!$B$4:$B$53,MATCH(B311,'Coal codes'!$A$4:$A$53,0))","v":"Colorado"}]
[1996,"CT","1996CT",0,0,0,0,0,0,0,0,{"$f":"INDEX('Coal codes'!$B$4:$B$53,MATCH(B312,'Coal codes'!$A$4:$A$53,0))","v":"Connecticut"}]
[1996,"DE","1996DE",0,0,0,0,0,0,0,0,{"$f":"INDEX('Coal codes'!$B$4:$B$53,MATCH(B313,'Coal codes'!$A$4:$A$53,0))","v":"Delaware"}]
[1996,"FL","1996FL",0,0,0,0,0,0,0,0,{"$f":"INDEX('Coal codes'!$B$4:$B$53,MATCH(B314,'Coal codes'!$A$4:$A$53,0))","v":"Florida"}]
[1996,"GA","1996GA",0,0,0,0,0,0,0,0,{"$f":"INDEX('Coal codes'!$B$4:$B$53,MATCH(B315,'Coal codes'!$A$4:$A$53,0))","v":"Georgia"}]
[1996,"HI","1996HI",0,0,0,0,0,0,0,0,{"$f":"INDEX('Coal codes'!$B$4:$B$53,MATCH(B316,'Coal codes'!$A$4:$A$53,0))","v":"Hawaii"}]
[1996,"ID","1996ID",0,0,0,0,0,0,0,0,{"$f":"INDEX('Coal codes'!$B$4:$B$53,MATCH(B317,'Coal codes'!$A$4:$A$53,0))","v":"Idaho"}]
[1996,"IL","1996IL",8637.6,0,0,38948,0,38948,7707,0,{"$f":"INDEX('Coal codes'!$B$4:$B$53,MATCH(B318,'Coal codes'!$A$4:$A$53,0))","v":"Illinois"}]
[1996,"IN","1996IN",0,0,0,2963,0,2963,26707,0,{"$f":"INDEX('Coal codes'!$B$4:$B$53,MATCH(B319,'Coal codes'!$A$4:$A$53,0))","v":"Indiana"}]
[1996,"IA","1996IA",0,0,0,0,0,0,0,0,{"$f":"INDEX('Coal codes'!$B$4:$B$53,MATCH(B320,'Coal codes'!$A$4:$A$53,0))","v":"Iowa"}]
[1996,"KS","1996KS",0,0,0,0,0,0,232,0,{"$f":"INDEX('Coal codes'!$B$4:$B$53,MATCH(B321,'Coal codes'!$A$4:$A$53,0))","v":"Kansas"}]
[1996,"KY","1996KY",3169.56,24.400000000000006,0,69172,25135,94307,47779,10340,{"$f":"INDEX('Coal codes'!$B$4:$B$53,MATCH(B322,'Coal codes'!$A$4:$A$53,0))","v":"Kentucky"}]
[1996,"LA","1996LA",0,0,0,0,0,0,3221,0,{"$f":"INDEX('Coal codes'!$B$4:$B$53,MATCH(B323,'Coal codes'!$A$4:$A$53,0))","v":"Louisiana"}]
[1996,"ME","1996ME",0,0,0,0,0,0,0,0,{"$f":"INDEX('Coal codes'!$B$4:$B$53,MATCH(B324,'Coal codes'!$A$4:$A$53,0))","v":"Maine"}]
[1996,"MD","1996MD",0,0,0,3296,0,3296,797,0,{"$f":"INDEX('Coal codes'!$B$4:$B$53,MATCH(B325,'Coal codes'!$A$4:$A$53,0))","v":"Maryland"}]
[1996,"MA","1996MA",0,0,0,0,0,0,0,0,{"$f":"INDEX('Coal codes'!$B$4:$B$53,MATCH(B326,'Coal codes'!$A$4:$A$53,0))","v":"Massachusetts"}]
[1996,"MI","1996MI",0,0,0,0,0,{"$f":"SUM(G327:H327)","v":0},0,0,{"$f":"INDEX('Coal codes'!$B$4:$B$53,MATCH(B327,'Coal codes'!$A$4:$A$53,0))","v":"Michigan"}]
[1996,"MN","1996MN",0,0,0,0,0,0,0,0,{"$f":"INDEX('Coal codes'!$B$4:$B$53,MATCH(B328,'Coal codes'!$A$4:$A$53,0))","v":"Minnesota"}]
[1996,"MS","1996MS",0,0,0,0,0,0,0,0,{"$f":"INDEX('Coal codes'!$B$4:$B$53,MATCH(B329,'Coal codes'!$A$4:$A$53,0))","v":"Mississippi"}]
[1996,"MO","1996MO",0,0,0,0,0,0,710,0,{"$f":"INDEX('Coal codes'!$B$4:$B$53,MATCH(B330,'Coal codes'!$A$4:$A$53,0))","v":"Missouri"}]
[1996,"MT","1996MT",0,0,0,147,0,147,37744,0,{"$f":"INDEX('Coal codes'!$B$4:$B$53,MATCH(B331,'Coal codes'!$A$4:$A$53,0))","v":"Montana"}]
[1996,"NE","1996NE",0,0,0,0,0,0,0,0,{"$f":"INDEX('Coal codes'!$B$4:$B$53,MATCH(B332,'Coal codes'!$A$4:$A$53,0))","v":"Nebraska"}]
[1996,"NV","1996NV",0,0,0,0,0,0,0,0,{"$f":"INDEX('Coal codes'!$B$4:$B$53,MATCH(B333,'Coal codes'!$A$4:$A$53,0))","v":"Nevada"}]
[1996,"NH","1996NH",0,0,0,0,0,0,0,0,{"$f":"INDEX('Coal codes'!$B$4:$B$53,MATCH(B334,'Coal codes'!$A$4:$A$53,0))","v":"New Hampshire"}]
[1996,"NJ","1996NJ",0,0,0,0,0,0,0,0,{"$f":"INDEX('Coal codes'!$B$4:$B$53,MATCH(B335,'Coal codes'!$A$4:$A$53,0))","v":"New Jersey"}]
[1996,"NM","1996NM",0,0,0,0,0,0,24067,0,{"$f":"INDEX('Coal codes'!$B$4:$B$53,MATCH(B336,'Coal codes'!$A$4:$A$53,0))","v":"New Mexico"}]
[1996,"NY","1996NY",0,0,0,0,0,0,0,0,{"$f":"INDEX('Coal codes'!$B$4:$B$53,MATCH(B337,'Coal codes'!$A$4:$A$53,0))","v":"New York"}]
[1996,"NC","1996NC",0,0,0,0,0,0,0,0,{"$f":"INDEX('Coal codes'!$B$4:$B$53,MATCH(B338,'Coal codes'!$A$4:$A$53,0))","v":"North Carolina"}]
[1996,"ND","1996ND",0,0,0,0,0,0,29861,0,{"$f":"INDEX('Coal codes'!$B$4:$B$53,MATCH(B339,'Coal codes'!$A$4:$A$53,0))","v":"North Dakota"}]
[1996,"OH","1996OH",1464,0,0,15912,0,15912,12660,0,{"$f":"INDEX('Coal codes'!$B$4:$B$53,MATCH(B340,'Coal codes'!$A$4:$A$53,0))","v":"Ohio"}]
[1996,"OK","1996OK",0,0,0,137,0,137,1564,0,{"$f":"INDEX('Coal codes'!$B$4:$B$53,MATCH(B341,'Coal codes'!$A$4:$A$53,0))","v":"Oklahoma"}]
[1996,"OR","1996OR",0,0,0,0,0,0,0,0,{"$f":"INDEX('Coal codes'!$B$4:$B$53,MATCH(B342,'Coal codes'!$A$4:$A$53,0))","v":"Oregon"}]
[1996,"PA","1996PA",14200.800000000001,5919.8705882352951,0,47247,0,47247,20694,0,{"$f":"INDEX('Coal codes'!$B$4:$B$53,MATCH(B343,'Coal codes'!$A$4:$A$53,0))","v":"Pennsylvania"}]
[1996,"RI","1996RI",0,0,0,0,0,0,0,0,{"$f":"INDEX('Coal codes'!$B$4:$B$53,MATCH(B344,'Coal codes'!$A$4:$A$53,0))","v":"Rhode Island"}]
[1996,"SC","1996SC",0,0,0,0,0,0,0,0,{"$f":"INDEX('Coal codes'!$B$4:$B$53,MATCH(B345,'Coal codes'!$A$4:$A$53,0))","v":"South Carolina"}]
[1996,"SD","1996SD",0,0,0,0,0,0,0,0,{"$f":"INDEX('Coal codes'!$B$4:$B$53,MATCH(B346,'Coal codes'!$A$4:$A$53,0))","v":"South Dakota"}]
[1996,"TN","1996TN",0,0,0,1794,0,1794,1857,0,{"$f":"INDEX('Coal codes'!$B$4:$B$53,MATCH(B347,'Coal codes'!$A$4:$A$53,0))","v":"Tennessee"}]
[1996,"TX","1996TX",0,0,0,0,0,0,55164,0,{"$f":"INDEX('Coal codes'!$B$4:$B$53,MATCH(B348,'Coal codes'!$A$4:$A$53,0))","v":"Texas"}]
[1996,"UT","1996UT",1756.8,0,0,27507,0,27507,0,0,{"$f":"INDEX('Coal codes'!$B$4:$B$53,MATCH(B349,'Coal codes'!$A$4:$A$53,0))","v":"Utah"}]
[1996,"VT","1996VT",0,0,0,0,0,0,0,0,{"$f":"INDEX('Coal codes'!$B$4:$B$53,MATCH(B350,'Coal codes'!$A$4:$A$53,0))","v":"Vermont"}]
[1996,"VA","1996VA",13102.8,20853.124225774227,19310.350493000002,25568,0,25568,10022,0,{"$f":"INDEX('Coal codes'!$B$4:$B$53,MATCH(B351,'Coal codes'!$A$4:$A$53,0))","v":"Virginia"}]
[1996,"WA","1996WA",0,0,0,0,0,0,4565,0,{"$f":"INDEX('Coal codes'!$B$4:$B$53,MATCH(B352,'Coal codes'!$A$4:$A$53,0))","v":"Washington"}]
[1996,"WV","1996WV",19068.600000000002,7276.8536585365864,538.50247999999999,75311,40274,115585,49211,5637,{"$f":"INDEX('Coal codes'!$B$4:$B$53,MATCH(B353,'Coal codes'!$A$4:$A$53,0))","v":"West Virginia"}]
[1996,"WI","1996WI",0,0,0,0,0,0,0,0,{"$f":"INDEX('Coal codes'!$B$4:$B$53,MATCH(B354,'Coal codes'!$A$4:$A$53,0))","v":"Wisconsin"}]
[1996,"WY","1996WY",0,0,0,2641,0,2641,275799,0,{"$f":"INDEX('Coal codes'!$B$4:$B$53,MATCH(B355,'Coal codes'!$A$4:$A$53,0))","v":"Wyoming"}]
[1997,"AL","1997AL",23687.062265,11182.444453571428,10473.431159999998,18505,0,18505,5963,0,{"$f":"INDEX('Coal codes'!$B$4:$B$53,MATCH(B356,'Coal codes'!$A$4:$A$53,0))","v":"Alabama"}]
[1997,"AK","1997AK",0,0,0,0,0,0,1450,0,{"$f":"INDEX('Coal codes'!$B$4:$B$53,MATCH(B357,'Coal codes'!$A$4:$A$53,0))","v":"Alaska"}]
[1997,"AZ","1997AZ",0,0,0,0,0,0,11723,0,{"$f":"INDEX('Coal codes'!$B$4:$B$53,MATCH(B358,'Coal codes'!$A$4:$A$53,0))","v":"Arizona"}]
[1997,"AR","1997AR",0,0,0,0,0,0,18,0,{"$f":"INDEX('Coal codes'!$B$4:$B$53,MATCH(B359,'Coal codes'!$A$4:$A$53,0))","v":"Arkansas"}]
[1997,"CA","1997CA",0,0,0,0,0,0,0,0,{"$f":"INDEX('Coal codes'!$B$4:$B$53,MATCH(B360,'Coal codes'!$A$4:$A$53,0))","v":"California"}]
[1997,"CO","1997CO",7310.4568849999996,0,0,17820,0,17820,9626,0,{"$f":"INDEX('Coal codes'!$B$4:$B$53,MATCH(B361,'Coal codes'!$A$4:$A$53,0))","v":"Colorado"}]
[1997,"CT","1997CT",0,0,0,0,0,0,0,0,{"$f":"INDEX('Coal codes'!$B$4:$B$53,MATCH(B362,'Coal codes'!$A$4:$A$53,0))","v":"Connecticut"}]
[1997,"DE","1997DE",0,0,0,0,0,0,0,0,{"$f":"INDEX('Coal codes'!$B$4:$B$53,MATCH(B363,'Coal codes'!$A$4:$A$53,0))","v":"Delaware"}]
[1997,"FL","1997FL",0,0,0,0,0,0,0,0,{"$f":"INDEX('Coal codes'!$B$4:$B$53,MATCH(B364,'Coal codes'!$A$4:$A$53,0))","v":"Florida"}]
[1997,"GA","1997GA",0,0,0,0,0,0,0,0,{"$f":"INDEX('Coal codes'!$B$4:$B$53,MATCH(B365,'Coal codes'!$A$4:$A$53,0))","v":"Georgia"}]
[1997,"HI","1997HI",0,0,0,0,0,0,0,0,{"$f":"INDEX('Coal codes'!$B$4:$B$53,MATCH(B366,'Coal codes'!$A$4:$A$53,0))","v":"Hawaii"}]
[1997,"ID","1997ID",0,0,0,0,0,0,0,0,{"$f":"INDEX('Coal codes'!$B$4:$B$53,MATCH(B367,'Coal codes'!$A$4:$A$53,0))","v":"Idaho"}]
[1997,"IL","1997IL",7301.3355349999993,0,0,34824,0,34824,6334,0,{"$f":"INDEX('Coal codes'!$B$4:$B$53,MATCH(B368,'Coal codes'!$A$4:$A$53,0))","v":"Illinois"}]
[1997,"IN","1997IN",118.81917999999999,0,0,3530,0,3530,31967,0,{"$f":"INDEX('Coal codes'!$B$4:$B$53,MATCH(B369,'Coal codes'!$A$4:$A$53,0))","v":"Indiana"}]
[1997,"IA","1997IA",0,0,0,0,0,0,0,0,{"$f":"INDEX('Coal codes'!$B$4:$B$53,MATCH(B370,'Coal codes'!$A$4:$A$53,0))","v":"Iowa"}]
[1997,"KS","1997KS",0,0,0,0,0,0,360,0,{"$f":"INDEX('Coal codes'!$B$4:$B$53,MATCH(B371,'Coal codes'!$A$4:$A$53,0))","v":"Kansas"}]
[1997,"KY","1997KY",4786.0948937500025,83.301111111111027,0,69928,26374,96302,50990,8561,{"$f":"INDEX('Coal codes'!$B$4:$B$53,MATCH(B372,'Coal codes'!$A$4:$A$53,0))","v":"Kentucky"}]
[1997,"LA","1997LA",0,0,0,0,0,0,3545,0,{"$f":"INDEX('Coal codes'!$B$4:$B$53,MATCH(B373,'Coal codes'!$A$4:$A$53,0))","v":"Louisiana"}]
[1997,"ME","1997ME",0,0,0,0,0,0,0,0,{"$f":"INDEX('Coal codes'!$B$4:$B$53,MATCH(B374,'Coal codes'!$A$4:$A$53,0))","v":"Maine"}]
[1997,"MD","1997MD",0,0,0,3301,0,3301,859,0,{"$f":"INDEX('Coal codes'!$B$4:$B$53,MATCH(B375,'Coal codes'!$A$4:$A$53,0))","v":"Maryland"}]
[1997,"MA","1997MA",0,0,0,0,0,0,0,0,{"$f":"INDEX('Coal codes'!$B$4:$B$53,MATCH(B376,'Coal codes'!$A$4:$A$53,0))","v":"Massachusetts"}]
[1997,"MI","1997MI",0,0,0,0,0,0,0,0,{"$f":"INDEX('Coal codes'!$B$4:$B$53,MATCH(B377,'Coal codes'!$A$4:$A$53,0))","v":"Michigan"}]
[1997,"MN","1997MN",0,0,0,0,0,0,0,0,{"$f":"INDEX('Coal codes'!$B$4:$B$53,MATCH(B378,'Coal codes'!$A$4:$A$53,0))","v":"Minnesota"}]
[1997,"MS","1997MS",0,0,0,0,0,0,0,0,{"$f":"INDEX('Coal codes'!$B$4:$B$53,MATCH(B379,'Coal codes'!$A$4:$A$53,0))","v":"Mississippi"}]
[1997,"MO","1997MO",0,0,0,0,0,0,401,0,{"$f":"INDEX('Coal codes'!$B$4:$B$53,MATCH(B380,'Coal codes'!$A$4:$A$53,0))","v":"Missouri"}]
[1997,"MT","1997MT",0,0,0,8,0,8,40997,0,{"$f":"INDEX('Coal codes'!$B$4:$B$53,MATCH(B381,'Coal codes'!$A$4:$A$53,0))","v":"Montana"}]
[1997,"NE","1997NE",0,0,0,0,0,0,0,0,{"$f":"INDEX('Coal codes'!$B$4:$B$53,MATCH(B382,'Coal codes'!$A$4:$A$53,0))","v":"Nebraska"}]
[1997,"NV","1997NV",0,0,0,0,0,0,0,0,{"$f":"INDEX('Coal codes'!$B$4:$B$53,MATCH(B383,'Coal codes'!$A$4:$A$53,0))","v":"Nevada"}]
[1997,"NH","1997NH",0,0,0,0,0,0,0,0,{"$f":"INDEX('Coal codes'!$B$4:$B$53,MATCH(B384,'Coal codes'!$A$4:$A$53,0))","v":"New Hampshire"}]
[1997,"NJ","1997NJ",0,0,0,0,0,0,0,0,{"$f":"INDEX('Coal codes'!$B$4:$B$53,MATCH(B385,'Coal codes'!$A$4:$A$53,0))","v":"New Jersey"}]
[1997,"NM","1997NM",0,0,0,0,0,0,27025,0,{"$f":"INDEX('Coal codes'!$B$4:$B$53,MATCH(B386,'Coal codes'!$A$4:$A$53,0))","v":"New Mexico"}]
[1997,"NY","1997NY",0,0,0,0,0,0,0,0,{"$f":"INDEX('Coal codes'!$B$4:$B$53,MATCH(B387,'Coal codes'!$A$4:$A$53,0))","v":"New York"}]
[1997,"NC","1997NC",0,0,0,0,0,0,0,0,{"$f":"INDEX('Coal codes'!$B$4:$B$53,MATCH(B388,'Coal codes'!$A$4:$A$53,0))","v":"North Carolina"}]
[1997,"ND","1997ND",0,0,0,0,0,0,29580,0,{"$f":"INDEX('Coal codes'!$B$4:$B$53,MATCH(B389,'Coal codes'!$A$4:$A$53,0))","v":"North Dakota"}]
[1997,"OH","1997OH",1898.1029299999998,0,0,16949,0,16949,12205,0,{"$f":"INDEX('Coal codes'!$B$4:$B$53,MATCH(B390,'Coal codes'!$A$4:$A$53,0))","v":"Ohio"}]
[1997,"OK","1997OK",117.96398500000001,0,0,212,0,{"$f":"SUM(G391:H391)","v":212},1409,0,{"$f":"INDEX('Coal codes'!$B$4:$B$53,MATCH(B391,'Coal codes'!$A$4:$A$53,0))","v":"Oklahoma"}]
[1997,"OR","1997OR",0,0,0,0,0,0,0,0,{"$f":"INDEX('Coal codes'!$B$4:$B$53,MATCH(B392,'Coal codes'!$A$4:$A$53,0))","v":"Oregon"}]
[1997,"PA","1997PA",17768.926350000002,6834.405048137256,0,54829,0,54829,21369,0,{"$f":"INDEX('Coal codes'!$B$4:$B$53,MATCH(B393,'Coal codes'!$A$4:$A$53,0))","v":"Pennsylvania"}]
[1997,"RI","1997RI",0,0,0,0,0,0,0,0,{"$f":"INDEX('Coal codes'!$B$4:$B$53,MATCH(B394,'Coal codes'!$A$4:$A$53,0))","v":"Rhode Island"}]
[1997,"SC","1997SC",0,0,0,0,0,0,0,0,{"$f":"INDEX('Coal codes'!$B$4:$B$53,MATCH(B395,'Coal codes'!$A$4:$A$53,0))","v":"South Carolina"}]
[1997,"SD","1997SD",0,0,0,0,0,0,0,0,{"$f":"INDEX('Coal codes'!$B$4:$B$53,MATCH(B396,'Coal codes'!$A$4:$A$53,0))","v":"South Dakota"}]
[1997,"TN","1997TN",10.158649583333334,0,0,1396,0,1396,1904,0,{"$f":"INDEX('Coal codes'!$B$4:$B$53,MATCH(B397,'Coal codes'!$A$4:$A$53,0))","v":"Tennessee"}]
[1997,"TX","1997TX",0,0,0,0,0,0,53328,0,{"$f":"INDEX('Coal codes'!$B$4:$B$53,MATCH(B398,'Coal codes'!$A$4:$A$53,0))","v":"Texas"}]
[1997,"UT","1997UT",2704.0444649999999,0,0,26683,0,26683,0,0,{"$f":"INDEX('Coal codes'!$B$4:$B$53,MATCH(B399,'Coal codes'!$A$4:$A$53,0))","v":"Utah"}]
[1997,"VT","1997VT",0,0,0,0,0,0,0,0,{"$f":"INDEX('Coal codes'!$B$4:$B$53,MATCH(B400,'Coal codes'!$A$4:$A$53,0))","v":"Vermont"}]
[1997,"VA","1997VA",11701.352500000005,17804.24513615403,16662.681623999997,26929,0,26929,8907,0,{"$f":"INDEX('Coal codes'!$B$4:$B$53,MATCH(B401,'Coal codes'!$A$4:$A$53,0))","v":"Virginia"}]
[1997,"WA","1997WA",0,0,0,0,0,0,4495,0,{"$f":"INDEX('Coal codes'!$B$4:$B$53,MATCH(B402,'Coal codes'!$A$4:$A$53,0))","v":"Washington"}]
[1997,"WV","1997WV",18777.38944291669,7234.2532962585265,1432.16941,79467,37056,116523,51474,5746,{"$f":"INDEX('Coal codes'!$B$4:$B$53,MATCH(B403,'Coal codes'!$A$4:$A$53,0))","v":"West Virginia"}]
[1997,"WI","1997WI",0,0,0,0,0,0,0,0,{"$f":"INDEX('Coal codes'!$B$4:$B$53,MATCH(B404,'Coal codes'!$A$4:$A$53,0))","v":"Wisconsin"}]
[1997,"WY","1997WY",4.6811249999999998,0,0,2846,0,2846,279035,0,{"$f":"INDEX('Coal codes'!$B$4:$B$53,MATCH(B405,'Coal codes'!$A$4:$A$53,0))","v":"Wyoming"}]
[1998,"AL","1998AL",23976.85,13520.585651270072,13509.731440000001,17316,0,17316,5697,0,{"$f":"INDEX('Coal codes'!$B$4:$B$53,MATCH(B406,'Coal codes'!$A$4:$A$53,0))","v":"Alabama"}]
[1998,"AK","1998AK",0,0,0,0,0,0,1344,0,{"$f":"INDEX('Coal codes'!$B$4:$B$53,MATCH(B407,'Coal codes'!$A$4:$A$53,0))","v":"Alaska"}]
[1998,"AZ","1998AZ",0,0,0,0,0,0,11315,0,{"$f":"INDEX('Coal codes'!$B$4:$B$53,MATCH(B408,'Coal codes'!$A$4:$A$53,0))","v":"Arizona"}]
[1998,"AR","1998AR",0,0,0,0,0,0,24,0,{"$f":"INDEX('Coal codes'!$B$4:$B$53,MATCH(B409,'Coal codes'!$A$4:$A$53,0))","v":"Arkansas"}]
[1998,"CA","1998CA",0,0,0,0,0,0,0,0,{"$f":"INDEX('Coal codes'!$B$4:$B$53,MATCH(B410,'Coal codes'!$A$4:$A$53,0))","v":"California"}]
[1998,"CO","1998CO",7000.3349999999991,0,0,19705,0,19705,9926,0,{"$f":"INDEX('Coal codes'!$B$4:$B$53,MATCH(B411,'Coal codes'!$A$4:$A$53,0))","v":"Colorado"}]
[1998,"CT","1998CT",0,0,0,0,0,0,0,0,{"$f":"INDEX('Coal codes'!$B$4:$B$53,MATCH(B412,'Coal codes'!$A$4:$A$53,0))","v":"Connecticut"}]
[1998,"DE","1998DE",0,0,0,0,0,0,0,0,{"$f":"INDEX('Coal codes'!$B$4:$B$53,MATCH(B413,'Coal codes'!$A$4:$A$53,0))","v":"Delaware"}]
[1998,"FL","1998FL",0,0,0,0,0,0,0,0,{"$f":"INDEX('Coal codes'!$B$4:$B$53,MATCH(B414,'Coal codes'!$A$4:$A$53,0))","v":"Florida"}]
[1998,"GA","1998GA",0,0,0,0,0,0,0,0,{"$f":"INDEX('Coal codes'!$B$4:$B$53,MATCH(B415,'Coal codes'!$A$4:$A$53,0))","v":"Georgia"}]
[1998,"HI","1998HI",0,0,0,0,0,0,0,0,{"$f":"INDEX('Coal codes'!$B$4:$B$53,MATCH(B416,'Coal codes'!$A$4:$A$53,0))","v":"Hawaii"}]
[1998,"ID","1998ID",0,0,0,0,0,0,0,0,{"$f":"INDEX('Coal codes'!$B$4:$B$53,MATCH(B417,'Coal codes'!$A$4:$A$53,0))","v":"Idaho"}]
[1998,"IL","1998IL",6602.85,0,0,35251,0,35251,4482,0,{"$f":"INDEX('Coal codes'!$B$4:$B$53,MATCH(B418,'Coal codes'!$A$4:$A$53,0))","v":"Illinois"}]
[1998,"IN","1998IN",142.35,0,0,3445,0,3445,33359,0,{"$f":"INDEX('Coal codes'!$B$4:$B$53,MATCH(B419,'Coal codes'!$A$4:$A$53,0))","v":"Indiana"}]
[1998,"IA","1998IA",0,0,0,0,0,0,0,0,{"$f":"INDEX('Coal codes'!$B$4:$B$53,MATCH(B420,'Coal codes'!$A$4:$A$53,0))","v":"Iowa"}]
[1998,"KS","1998KS",0,0,0,0,0,0,341,0,{"$f":"INDEX('Coal codes'!$B$4:$B$53,MATCH(B421,'Coal codes'!$A$4:$A$53,0))","v":"Kansas"}]
[1998,"KY","1998KY",4451.1750000000002,77.461111111111109,0,67066,25767,92833,49589,7874,{"$f":"INDEX('Coal codes'!$B$4:$B$53,MATCH(B422,'Coal codes'!$A$4:$A$53,0))","v":"Kentucky"}]
[1998,"LA","1998LA",0,0,0,0,0,0,3216,0,{"$f":"INDEX('Coal codes'!$B$4:$B$53,MATCH(B423,'Coal codes'!$A$4:$A$53,0))","v":"Louisiana"}]
[1998,"ME","1998ME",0,0,0,0,0,0,0,0,{"$f":"INDEX('Coal codes'!$B$4:$B$53,MATCH(B424,'Coal codes'!$A$4:$A$53,0))","v":"Maine"}]
[1998,"MD","1998MD",0,0,0,3325,0,3325,734,0,{"$f":"INDEX('Coal codes'!$B$4:$B$53,MATCH(B425,'Coal codes'!$A$4:$A$53,0))","v":"Maryland"}]
[1998,"MA","1998MA",0,0,0,0,0,0,0,0,{"$f":"INDEX('Coal codes'!$B$4:$B$53,MATCH(B426,'Coal codes'!$A$4:$A$53,0))","v":"Massachusetts"}]
[1998,"MI","1998MI",0,0,0,0,0,0,0,0,{"$f":"INDEX('Coal codes'!$B$4:$B$53,MATCH(B427,'Coal codes'!$A$4:$A$53,0))","v":"Michigan"}]
[1998,"MN","1998MN",0,0,0,0,0,0,0,0,{"$f":"INDEX('Coal codes'!$B$4:$B$53,MATCH(B428,'Coal codes'!$A$4:$A$53,0))","v":"Minnesota"}]
[1998,"MS","1998MS",0,0,0,0,0,0,0,0,{"$f":"INDEX('Coal codes'!$B$4:$B$53,MATCH(B429,'Coal codes'!$A$4:$A$53,0))","v":"Mississippi"}]
[1998,"MO","1998MO",0,0,0,0,0,0,372,0,{"$f":"INDEX('Coal codes'!$B$4:$B$53,MATCH(B430,'Coal codes'!$A$4:$A$53,0))","v":"Missouri"}]
[1998,"MT","1998MT",0,0,0,0,0,0,42840,0,{"$f":"INDEX('Coal codes'!$B$4:$B$53,MATCH(B431,'Coal codes'!$A$4:$A$53,0))","v":"Montana"}]
[1998,"NE","1998NE",0,0,0,0,0,0,0,0,{"$f":"INDEX('Coal codes'!$B$4:$B$53,MATCH(B432,'Coal codes'!$A$4:$A$53,0))","v":"Nebraska"}]
[1998,"NV","1998NV",0,0,0,0,0,0,0,0,{"$f":"INDEX('Coal codes'!$B$4:$B$53,MATCH(B433,'Coal codes'!$A$4:$A$53,0))","v":"Nevada"}]
[1998,"NH","1998NH",0,0,0,0,0,0,0,0,{"$f":"INDEX('Coal codes'!$B$4:$B$53,MATCH(B434,'Coal codes'!$A$4:$A$53,0))","v":"New Hampshire"}]
[1998,"NJ","1998NJ",0,0,0,0,0,0,0,0,{"$f":"INDEX('Coal codes'!$B$4:$B$53,MATCH(B435,'Coal codes'!$A$4:$A$53,0))","v":"New Jersey"}]
[1998,"NM","1998NM",0,0,0,203,0,203,28394,0,{"$f":"INDEX('Coal codes'!$B$4:$B$53,MATCH(B436,'Coal codes'!$A$4:$A$53,0))","v":"New Mexico"}]
[1998,"NY","1998NY",0,0,0,0,0,0,0,0,{"$f":"INDEX('Coal codes'!$B$4:$B$53,MATCH(B437,'Coal codes'!$A$4:$A$53,0))","v":"New York"}]
[1998,"NC","1998NC",0,0,0,0,0,0,0,0,{"$f":"INDEX('Coal codes'!$B$4:$B$53,MATCH(B438,'Coal codes'!$A$4:$A$53,0))","v":"North Carolina"}]
[1998,"ND","1998ND",0,0,0,0,0,0,29912,0,{"$f":"INDEX('Coal codes'!$B$4:$B$53,MATCH(B439,'Coal codes'!$A$4:$A$53,0))","v":"North Dakota"}]
[1998,"OH","1998OH",1792.15,0,0,14604,0,14604,13444,0,{"$f":"INDEX('Coal codes'!$B$4:$B$53,MATCH(B440,'Coal codes'!$A$4:$A$53,0))","v":"Ohio"}]
[1998,"OK","1998OK",120.45,0,0,247,0,247,1415,0,{"$f":"INDEX('Coal codes'!$B$4:$B$53,MATCH(B441,'Coal codes'!$A$4:$A$53,0))","v":"Oklahoma"}]
[1998,"OR","1998OR",0,0,0,0,0,0,0,0,{"$f":"INDEX('Coal codes'!$B$4:$B$53,MATCH(B442,'Coal codes'!$A$4:$A$53,0))","v":"Oregon"}]
[1998,"PA","1998PA",17505.400000000001,7333.9950980392168,0,59553,0,59553,21483,0,{"$f":"INDEX('Coal codes'!$B$4:$B$53,MATCH(B443,'Coal codes'!$A$4:$A$53,0))","v":"Pennsylvania"}]
[1998,"RI","1998RI",0,0,0,0,0,0,0,0,{"$f":"INDEX('Coal codes'!$B$4:$B$53,MATCH(B444,'Coal codes'!$A$4:$A$53,0))","v":"Rhode Island"}]
[1998,"SC","1998SC",0,0,0,0,0,0,0,0,{"$f":"INDEX('Coal codes'!$B$4:$B$53,MATCH(B445,'Coal codes'!$A$4:$A$53,0))","v":"South Carolina"}]
[1998,"SD","1998SD",0,0,0,0,0,0,0,0,{"$f":"INDEX('Coal codes'!$B$4:$B$53,MATCH(B446,'Coal codes'!$A$4:$A$53,0))","v":"South Dakota"}]
[1998,"TN","1998TN",0,0,0,1047,0,1047,1649,0,{"$f":"INDEX('Coal codes'!$B$4:$B$53,MATCH(B447,'Coal codes'!$A$4:$A$53,0))","v":"Tennessee"}]
[1998,"TX","1998TX",0,0,0,0,0,0,52583,0,{"$f":"INDEX('Coal codes'!$B$4:$B$53,MATCH(B448,'Coal codes'!$A$4:$A$53,0))","v":"Texas"}]
[1998,"UT","1998UT",2949.2000000000003,0,0,26075,0,26075,0,0,{"$f":"INDEX('Coal codes'!$B$4:$B$53,MATCH(B449,'Coal codes'!$A$4:$A$53,0))","v":"Utah"}]
[1998,"VT","1998VT",0,0,0,0,0,0,0,0,{"$f":"INDEX('Coal codes'!$B$4:$B$53,MATCH(B450,'Coal codes'!$A$4:$A$53,0))","v":"Vermont"}]
[1998,"VA","1998VA",9263.7000000000007,20607.818207282915,19867.731800000001,25212,0,25212,8535,0,{"$f":"INDEX('Coal codes'!$B$4:$B$53,MATCH(B451,'Coal codes'!$A$4:$A$53,0))","v":"Virginia"}]
[1998,"WA","1998WA",0,0,0,0,0,0,4638,0,{"$f":"INDEX('Coal codes'!$B$4:$B$53,MATCH(B452,'Coal codes'!$A$4:$A$53,0))","v":"Washington"}]
[1998,"WV","1998WV",20180.849999999995,8258.6140522875812,2118.8873100000001,77954,39236,117190,48572,5382,{"$f":"INDEX('Coal codes'!$B$4:$B$53,MATCH(B453,'Coal codes'!$A$4:$A$53,0))","v":"West Virginia"}]
[1998,"WI","1998WI",0,0,0,0,0,0,0,0,{"$f":"INDEX('Coal codes'!$B$4:$B$53,MATCH(B454,'Coal codes'!$A$4:$A$53,0))","v":"Wisconsin"}]
[1998,"WY","1998WY",0,0,0,1723,0,{"$f":"SUM(G455:H455)","v":1723},312686,0,{"$f":"INDEX('Coal codes'!$B$4:$B$53,MATCH(B455,'Coal codes'!$A$4:$A$53,0))","v":"Wyoming"}]
[1999,"AL","1999AL",23548.705000000002,9356.5781200000001,9381.8047599999991,14799,0,14799,4705,0,{"$f":"INDEX('Coal codes'!$B$4:$B$53,MATCH(B456,'Coal codes'!$A$4:$A$53,0))","v":"Alabama"}]
[1999,"AK","1999AK",0,0,0,0,0,0,1565,0,{"$f":"INDEX('Coal codes'!$B$4:$B$53,MATCH(B457,'Coal codes'!$A$4:$A$53,0))","v":"Alaska"}]
[1999,"AZ","1999AZ",0,0,0,0,0,0,11787,0,{"$f":"INDEX('Coal codes'!$B$4:$B$53,MATCH(B458,'Coal codes'!$A$4:$A$53,0))","v":"Arizona"}]
[1999,"AR","1999AR",0,0,0,0,0,0,22,0,{"$f":"INDEX('Coal codes'!$B$4:$B$53,MATCH(B459,'Coal codes'!$A$4:$A$53,0))","v":"Arkansas"}]
[1999,"CA","1999CA",0,0,0,0,0,0,0,0,{"$f":"INDEX('Coal codes'!$B$4:$B$53,MATCH(B460,'Coal codes'!$A$4:$A$53,0))","v":"California"}]
[1999,"CO","1999CO",7187.9450000000006,0,0,20478,0,20478,9511,0,{"$f":"INDEX('Coal codes'!$B$4:$B$53,MATCH(B461,'Coal codes'!$A$4:$A$53,0))","v":"Colorado"}]
[1999,"CT","1999CT",0,0,0,0,0,0,0,0,{"$f":"INDEX('Coal codes'!$B$4:$B$53,MATCH(B462,'Coal codes'!$A$4:$A$53,0))","v":"Connecticut"}]
[1999,"DE","1999DE",0,0,0,0,0,0,0,0,{"$f":"INDEX('Coal codes'!$B$4:$B$53,MATCH(B463,'Coal codes'!$A$4:$A$53,0))","v":"Delaware"}]
[1999,"FL","1999FL",0,0,0,0,0,0,0,0,{"$f":"INDEX('Coal codes'!$B$4:$B$53,MATCH(B464,'Coal codes'!$A$4:$A$53,0))","v":"Florida"}]
[1999,"GA","1999GA",0,0,0,0,0,0,0,0,{"$f":"INDEX('Coal codes'!$B$4:$B$53,MATCH(B465,'Coal codes'!$A$4:$A$53,0))","v":"Georgia"}]
[1999,"HI","1999HI",0,0,0,0,0,0,0,0,{"$f":"INDEX('Coal codes'!$B$4:$B$53,MATCH(B466,'Coal codes'!$A$4:$A$53,0))","v":"Hawaii"}]
[1999,"ID","1999ID",0,0,0,0,0,0,0,0,{"$f":"INDEX('Coal codes'!$B$4:$B$53,MATCH(B467,'Coal codes'!$A$4:$A$53,0))","v":"Idaho"}]
[1999,"IL","1999IL",6599.9299999999985,0,0,36758,0,36758,3659,0,{"$f":"INDEX('Coal codes'!$B$4:$B$53,MATCH(B468,'Coal codes'!$A$4:$A$53,0))","v":"Illinois"}]
[1999,"IN","1999IN",144.54000000000002,0,0,3553,0,3553,30451,0,{"$f":"INDEX('Coal codes'!$B$4:$B$53,MATCH(B469,'Coal codes'!$A$4:$A$53,0))","v":"Indiana"}]
[1999,"IA","1999IA",0,0,0,0,0,0,0,0,{"$f":"INDEX('Coal codes'!$B$4:$B$53,MATCH(B470,'Coal codes'!$A$4:$A$53,0))","v":"Iowa"}]
[1999,"KS","1999KS",0,0,0,0,0,0,409,0,{"$f":"INDEX('Coal codes'!$B$4:$B$53,MATCH(B471,'Coal codes'!$A$4:$A$53,0))","v":"Kansas"}]
[1999,"KY","1999KY",4404.454999999999,80.178333333333285,0,62932,23218,86150,47111,6364,{"$f":"INDEX('Coal codes'!$B$4:$B$53,MATCH(B472,'Coal codes'!$A$4:$A$53,0))","v":"Kentucky"}]
[1999,"LA","1999LA",0,0,0,0,0,0,2953,0,{"$f":"INDEX('Coal codes'!$B$4:$B$53,MATCH(B473,'Coal codes'!$A$4:$A$53,0))","v":"Louisiana"}]
[1999,"ME","1999ME",0,0,0,0,0,0,0,0,{"$f":"INDEX('Coal codes'!$B$4:$B$53,MATCH(B474,'Coal codes'!$A$4:$A$53,0))","v":"Maine"}]
[1999,"MD","1999MD",0,0,0,3280,0,3280,557,0,{"$f":"INDEX('Coal codes'!$B$4:$B$53,MATCH(B475,'Coal codes'!$A$4:$A$53,0))","v":"Maryland"}]
[1999,"MA","1999MA",0,0,0,0,0,0,0,0,{"$f":"INDEX('Coal codes'!$B$4:$B$53,MATCH(B476,'Coal codes'!$A$4:$A$53,0))","v":"Massachusetts"}]
[1999,"MI","1999MI",0,0,0,0,0,0,0,0,{"$f":"INDEX('Coal codes'!$B$4:$B$53,MATCH(B477,'Coal codes'!$A$4:$A$53,0))","v":"Michigan"}]
[1999,"MN","1999MN",0,0,0,0,0,0,0,0,{"$f":"INDEX('Coal codes'!$B$4:$B$53,MATCH(B478,'Coal codes'!$A$4:$A$53,0))","v":"Minnesota"}]
[1999,"MS","1999MS",0,0,0,0,0,0,18,0,{"$f":"INDEX('Coal codes'!$B$4:$B$53,MATCH(B479,'Coal codes'!$A$4:$A$53,0))","v":"Mississippi"}]
[1999,"MO","1999MO",0,0,0,0,0,0,392,0,{"$f":"INDEX('Coal codes'!$B$4:$B$53,MATCH(B480,'Coal codes'!$A$4:$A$53,0))","v":"Missouri"}]
[1999,"MT","1999MT",0,0,0,0,0,0,41102,0,{"$f":"INDEX('Coal codes'!$B$4:$B$53,MATCH(B481,'Coal codes'!$A$4:$A$53,0))","v":"Montana"}]
[1999,"NE","1999NE",0,0,0,0,0,0,0,0,{"$f":"INDEX('Coal codes'!$B$4:$B$53,MATCH(B482,'Coal codes'!$A$4:$A$53,0))","v":"Nebraska"}]
[1999,"NV","1999NV",0,0,0,0,0,0,0,0,{"$f":"INDEX('Coal codes'!$B$4:$B$53,MATCH(B483,'Coal codes'!$A$4:$A$53,0))","v":"Nevada"}]
[1999,"NH","1999NH",0,0,0,0,0,0,0,0,{"$f":"INDEX('Coal codes'!$B$4:$B$53,MATCH(B484,'Coal codes'!$A$4:$A$53,0))","v":"New Hampshire"}]
[1999,"NJ","1999NJ",0,0,0,0,0,0,0,0,{"$f":"INDEX('Coal codes'!$B$4:$B$53,MATCH(B485,'Coal codes'!$A$4:$A$53,0))","v":"New Jersey"}]
[1999,"NM","1999NM",0,0,0,106,0,106,29051,0,{"$f":"INDEX('Coal codes'!$B$4:$B$53,MATCH(B486,'Coal codes'!$A$4:$A$53,0))","v":"New Mexico"}]
[1999,"NY","1999NY",0,0,0,0,0,0,0,0,{"$f":"INDEX('Coal codes'!$B$4:$B$53,MATCH(B487,'Coal codes'!$A$4:$A$53,0))","v":"New York"}]
[1999,"NC","1999NC",0,0,0,0,0,0,0,0,{"$f":"INDEX('Coal codes'!$B$4:$B$53,MATCH(B488,'Coal codes'!$A$4:$A$53,0))","v":"North Carolina"}]
[1999,"ND","1999ND",0,0,0,0,0,0,31135,0,{"$f":"INDEX('Coal codes'!$B$4:$B$53,MATCH(B489,'Coal codes'!$A$4:$A$53,0))","v":"North Dakota"}]
[1999,"OH","1999OH",1830.1100000000001,0,0,11431,0,11431,11048,0,{"$f":"INDEX('Coal codes'!$B$4:$B$53,MATCH(B490,'Coal codes'!$A$4:$A$53,0))","v":"Ohio"}]
[1999,"OK","1999OK",190.53,0,0,200,0,200,1461,0,{"$f":"INDEX('Coal codes'!$B$4:$B$53,MATCH(B491,'Coal codes'!$A$4:$A$53,0))","v":"Oklahoma"}]
[1999,"OR","1999OR",0,0,0,0,0,0,0,0,{"$f":"INDEX('Coal codes'!$B$4:$B$53,MATCH(B492,'Coal codes'!$A$4:$A$53,0))","v":"Oregon"}]
[1999,"PA","1999PA",15480.015000000001,3994.3470833333331,0,59211,0,59211,17188,0,{"$f":"INDEX('Coal codes'!$B$4:$B$53,MATCH(B493,'Coal codes'!$A$4:$A$53,0))","v":"Pennsylvania"}]
[1999,"RI","1999RI",0,0,0,0,0,0,0,0,{"$f":"INDEX('Coal codes'!$B$4:$B$53,MATCH(B494,'Coal codes'!$A$4:$A$53,0))","v":"Rhode Island"}]
[1999,"SC","1999SC",0,0,0,0,0,0,0,0,{"$f":"INDEX('Coal codes'!$B$4:$B$53,MATCH(B495,'Coal codes'!$A$4:$A$53,0))","v":"South Carolina"}]
[1999,"SD","1999SD",0,0,0,0,0,0,0,0,{"$f":"INDEX('Coal codes'!$B$4:$B$53,MATCH(B496,'Coal codes'!$A$4:$A$53,0))","v":"South Dakota"}]
[1999,"TN","1999TN",0,0,0,1489,0,1489,1548,0,{"$f":"INDEX('Coal codes'!$B$4:$B$53,MATCH(B497,'Coal codes'!$A$4:$A$53,0))","v":"Tennessee"}]
[1999,"TX","1999TX",0,0,0,0,0,0,53072,0,{"$f":"INDEX('Coal codes'!$B$4:$B$53,MATCH(B498,'Coal codes'!$A$4:$A$53,0))","v":"Texas"}]
[1999,"UT","1999UT",2719.6149999999998,0,0,26373,0,26373,0,0,{"$f":"INDEX('Coal codes'!$B$4:$B$53,MATCH(B499,'Coal codes'!$A$4:$A$53,0))","v":"Utah"}]
[1999,"VT","1999VT",0,0,0,0,0,0,0,0,{"$f":"INDEX('Coal codes'!$B$4:$B$53,MATCH(B500,'Coal codes'!$A$4:$A$53,0))","v":"Vermont"}]
[1999,"VA","1999VA",9109.3050000000021,19970.435032384758,19455.791539999998,22562,0,22562,9732,0,{"$f":"INDEX('Coal codes'!$B$4:$B$53,MATCH(B501,'Coal codes'!$A$4:$A$53,0))","v":"Virginia"}]
[1999,"WA","1999WA",0,0,0,0,0,0,4101,0,{"$f":"INDEX('Coal codes'!$B$4:$B$53,MATCH(B502,'Coal codes'!$A$4:$A$53,0))","v":"Washington"}]
[1999,"WV","1999WV",20667.978999999996,6408.735880392157,2130.6349,70075,33653,103728,49116,5135,{"$f":"INDEX('Coal codes'!$B$4:$B$53,MATCH(B503,'Coal codes'!$A$4:$A$53,0))","v":"West Virginia"}]
[1999,"WI","1999WI",0,0,0,0,0,0,0,0,{"$f":"INDEX('Coal codes'!$B$4:$B$53,MATCH(B504,'Coal codes'!$A$4:$A$53,0))","v":"Wisconsin"}]
[1999,"WY","1999WY",0,0,0,1673,0,1673,335446,0,{"$f":"INDEX('Coal codes'!$B$4:$B$53,MATCH(B505,'Coal codes'!$A$4:$A$53,0))","v":"Wyoming"}]
[2000,"AL","2000AL",21235.32,13020.34823,13020.34823,15895,0,15895,3450,0,{"$f":"INDEX('Coal codes'!$B$4:$B$53,MATCH(B506,'Coal codes'!$A$4:$A$53,0))","v":"Alabama"}]
[2000,"AK","2000AK",0,0,0,0,0,0,1641,0,{"$f":"INDEX('Coal codes'!$B$4:$B$53,MATCH(B507,'Coal codes'!$A$4:$A$53,0))","v":"Alaska"}]
[2000,"AZ","2000AZ",0,0,0,0,0,0,13111,0,{"$f":"INDEX('Coal codes'!$B$4:$B$53,MATCH(B508,'Coal codes'!$A$4:$A$53,0))","v":"Arizona"}]
[2000,"AR","2000AR",0,0,0,0,0,0,12,0,{"$f":"INDEX('Coal codes'!$B$4:$B$53,MATCH(B509,'Coal codes'!$A$4:$A$53,0))","v":"Arkansas"}]
[2000,"CA","2000CA",0,0,0,0,0,0,0,0,{"$f":"INDEX('Coal codes'!$B$4:$B$53,MATCH(B510,'Coal codes'!$A$4:$A$53,0))","v":"California"}]
[2000,"CO","2000CO",6649.8539999999994,2097.1799999999998,0,18882,0,18882,9156,0,{"$f":"INDEX('Coal codes'!$B$4:$B$53,MATCH(B511,'Coal codes'!$A$4:$A$53,0))","v":"Colorado"}]
[2000,"CT","2000CT",0,0,0,0,0,0,0,0,{"$f":"INDEX('Coal codes'!$B$4:$B$53,MATCH(B512,'Coal codes'!$A$4:$A$53,0))","v":"Connecticut"}]
[2000,"DE","2000DE",0,0,0,0,0,0,0,0,{"$f":"INDEX('Coal codes'!$B$4:$B$53,MATCH(B513,'Coal codes'!$A$4:$A$53,0))","v":"Delaware"}]
[2000,"FL","2000FL",0,0,0,0,0,0,0,0,{"$f":"INDEX('Coal codes'!$B$4:$B$53,MATCH(B514,'Coal codes'!$A$4:$A$53,0))","v":"Florida"}]
[2000,"GA","2000GA",0,0,0,0,0,0,0,0,{"$f":"INDEX('Coal codes'!$B$4:$B$53,MATCH(B515,'Coal codes'!$A$4:$A$53,0))","v":"Georgia"}]
[2000,"HI","2000HI",0,0,0,0,0,0,0,0,{"$f":"INDEX('Coal codes'!$B$4:$B$53,MATCH(B516,'Coal codes'!$A$4:$A$53,0))","v":"Hawaii"}]
[2000,"ID","2000ID",0,0,0,0,0,0,0,0,{"$f":"INDEX('Coal codes'!$B$4:$B$53,MATCH(B517,'Coal codes'!$A$4:$A$53,0))","v":"Idaho"}]
[2000,"IL","2000IL",7449.9300000000012,0,0,29642,0,29642,3802,0,{"$f":"INDEX('Coal codes'!$B$4:$B$53,MATCH(B518,'Coal codes'!$A$4:$A$53,0))","v":"Illinois"}]
[2000,"IN","2000IN",213.37799999999999,0,0,3688,0,{"$f":"SUM(G519:H519)","v":3688},24277,0,{"$f":"INDEX('Coal codes'!$B$4:$B$53,MATCH(B519,'Coal codes'!$A$4:$A$53,0))","v":"Indiana"}]
[2000,"IA","2000IA",0,0,0,0,0,0,0,0,{"$f":"INDEX('Coal codes'!$B$4:$B$53,MATCH(B520,'Coal codes'!$A$4:$A$53,0))","v":"Iowa"}]
[2000,"KS","2000KS",0,0,0,0,0,0,201,0,{"$f":"INDEX('Coal codes'!$B$4:$B$53,MATCH(B521,'Coal codes'!$A$4:$A$53,0))","v":"Kansas"}]
[2000,"KY","2000KY",4332.735999999999,0,0,59787,20390,80177,45114,5552,{"$f":"INDEX('Coal codes'!$B$4:$B$53,MATCH(B522,'Coal codes'!$A$4:$A$53,0))","v":"Kentucky"}]
[2000,"LA","2000LA",0,0,0,0,0,0,3688,0,{"$f":"INDEX('Coal codes'!$B$4:$B$53,MATCH(B523,'Coal codes'!$A$4:$A$53,0))","v":"Louisiana"}]
[2000,"ME","2000ME",0,0,0,0,0,0,0,0,{"$f":"INDEX('Coal codes'!$B$4:$B$53,MATCH(B524,'Coal codes'!$A$4:$A$53,0))","v":"Maine"}]
[2000,"MD","2000MD",0,0,0,3196,0,3196,1350,0,{"$f":"INDEX('Coal codes'!$B$4:$B$53,MATCH(B525,'Coal codes'!$A$4:$A$53,0))","v":"Maryland"}]
[2000,"MA","2000MA",0,0,0,0,0,0,0,0,{"$f":"INDEX('Coal codes'!$B$4:$B$53,MATCH(B526,'Coal codes'!$A$4:$A$53,0))","v":"Massachusetts"}]
[2000,"MI","2000MI",0,0,0,0,0,0,0,0,{"$f":"INDEX('Coal codes'!$B$4:$B$53,MATCH(B527,'Coal codes'!$A$4:$A$53,0))","v":"Michigan"}]
[2000,"MN","2000MN",0,0,0,0,0,0,0,0,{"$f":"INDEX('Coal codes'!$B$4:$B$53,MATCH(B528,'Coal codes'!$A$4:$A$53,0))","v":"Minnesota"}]
[2000,"MS","2000MS",0,0,0,0,0,0,802,0,{"$f":"INDEX('Coal codes'!$B$4:$B$53,MATCH(B529,'Coal codes'!$A$4:$A$53,0))","v":"Mississippi"}]
[2000,"MO","2000MO",0,0,0,0,0,0,436,0,{"$f":"INDEX('Coal codes'!$B$4:$B$53,MATCH(B530,'Coal codes'!$A$4:$A$53,0))","v":"Missouri"}]
[2000,"MT","2000MT",0,0,0,0,0,0,38352,0,{"$f":"INDEX('Coal codes'!$B$4:$B$53,MATCH(B531,'Coal codes'!$A$4:$A$53,0))","v":"Montana"}]
[2000,"NE","2000NE",0,0,0,0,0,0,0,0,{"$f":"INDEX('Coal codes'!$B$4:$B$53,MATCH(B532,'Coal codes'!$A$4:$A$53,0))","v":"Nebraska"}]
[2000,"NV","2000NV",0,0,0,0,0,0,0,0,{"$f":"INDEX('Coal codes'!$B$4:$B$53,MATCH(B533,'Coal codes'!$A$4:$A$53,0))","v":"Nevada"}]
[2000,"NH","2000NH",0,0,0,0,0,0,0,0,{"$f":"INDEX('Coal codes'!$B$4:$B$53,MATCH(B534,'Coal codes'!$A$4:$A$53,0))","v":"New Hampshire"}]
[2000,"NJ","2000NJ",0,0,0,0,0,0,0,0,{"$f":"INDEX('Coal codes'!$B$4:$B$53,MATCH(B535,'Coal codes'!$A$4:$A$53,0))","v":"New Jersey"}]
[2000,"NM","2000NM",0,0,0,4,0,4,27320,0,{"$f":"INDEX('Coal codes'!$B$4:$B$53,MATCH(B536,'Coal codes'!$A$4:$A$53,0))","v":"New Mexico"}]
[2000,"NY","2000NY",0,0,0,0,0,0,0,0,{"$f":"INDEX('Coal codes'!$B$4:$B$53,MATCH(B537,'Coal codes'!$A$4:$A$53,0))","v":"New York"}]
[2000,"NC","2000NC",0,0,0,0,0,0,0,0,{"$f":"INDEX('Coal codes'!$B$4:$B$53,MATCH(B538,'Coal codes'!$A$4:$A$53,0))","v":"North Carolina"}]
[2000,"ND","2000ND",0,0,0,0,0,0,31270,0,{"$f":"INDEX('Coal codes'!$B$4:$B$53,MATCH(B539,'Coal codes'!$A$4:$A$53,0))","v":"North Dakota"}]
[2000,"OH","2000OH",1515.2399999999998,0,0,11933,0,11933,10356,0,{"$f":"INDEX('Coal codes'!$B$4:$B$53,MATCH(B540,'Coal codes'!$A$4:$A$53,0))","v":"Ohio"}]
[2000,"OK","2000OK",190.32,0,0,241,0,241,1345,0,{"$f":"INDEX('Coal codes'!$B$4:$B$53,MATCH(B541,'Coal codes'!$A$4:$A$53,0))","v":"Oklahoma"}]
[2000,"OR","2000OR",0,0,0,0,0,0,0,0,{"$f":"INDEX('Coal codes'!$B$4:$B$53,MATCH(B542,'Coal codes'!$A$4:$A$53,0))","v":"Oregon"}]
[2000,"PA","2000PA",17509.440000000002,2325.1729666729666,0,57964,0,57964,17283,0,{"$f":"INDEX('Coal codes'!$B$4:$B$53,MATCH(B543,'Coal codes'!$A$4:$A$53,0))","v":"Pennsylvania"}]
[2000,"RI","2000RI",0,0,0,0,0,0,0,0,{"$f":"INDEX('Coal codes'!$B$4:$B$53,MATCH(B544,'Coal codes'!$A$4:$A$53,0))","v":"Rhode Island"}]
[2000,"SC","2000SC",0,0,0,0,0,0,0,0,{"$f":"INDEX('Coal codes'!$B$4:$B$53,MATCH(B545,'Coal codes'!$A$4:$A$53,0))","v":"South Carolina"}]
[2000,"SD","2000SD",0,0,0,0,0,0,0,0,{"$f":"INDEX('Coal codes'!$B$4:$B$53,MATCH(B546,'Coal codes'!$A$4:$A$53,0))","v":"South Dakota"}]
[2000,"TN","2000TN",0,0,0,1458,0,1458,1213,0,{"$f":"INDEX('Coal codes'!$B$4:$B$53,MATCH(B547,'Coal codes'!$A$4:$A$53,0))","v":"Tennessee"}]
[2000,"TX","2000TX",0,0,0,0,0,0,48488,0,{"$f":"INDEX('Coal codes'!$B$4:$B$53,MATCH(B548,'Coal codes'!$A$4:$A$53,0))","v":"Texas"}]
[2000,"UT","2000UT",1905.2700000000002,0,0,26856,0,26856,0,0,{"$f":"INDEX('Coal codes'!$B$4:$B$53,MATCH(B549,'Coal codes'!$A$4:$A$53,0))","v":"Utah"}]
[2000,"VT","2000VT",0,0,0,0,0,0,0,0,{"$f":"INDEX('Coal codes'!$B$4:$B$53,MATCH(B550,'Coal codes'!$A$4:$A$53,0))","v":"Vermont"}]
[2000,"VA","2000VA",8106.9000000000005,22567.236086086778,22358.918830034891,23181,0,23181,9654,0,{"$f":"INDEX('Coal codes'!$B$4:$B$53,MATCH(B551,'Coal codes'!$A$4:$A$53,0))","v":"Virginia"}]
[2000,"WA","2000WA",0,0,0,0,0,0,4270,0,{"$f":"INDEX('Coal codes'!$B$4:$B$53,MATCH(B552,'Coal codes'!$A$4:$A$53,0))","v":"Washington"}]
[2000,"WV","2000WV",17809.119999999992,5671.4530450980392,1689.0553,66158,32281,98439,54498,5919,{"$f":"INDEX('Coal codes'!$B$4:$B$53,MATCH(B553,'Coal codes'!$A$4:$A$53,0))","v":"West Virginia"}]
[2000,"WI","2000WI",0,0,0,0,0,0,0,0,{"$f":"INDEX('Coal codes'!$B$4:$B$53,MATCH(B554,'Coal codes'!$A$4:$A$53,0))","v":"Wisconsin"}]
[2000,"WY","2000WY",0,0,0,1210,0,1210,338048,0,{"$f":"INDEX('Coal codes'!$B$4:$B$53,MATCH(B555,'Coal codes'!$A$4:$A$53,0))","v":"Wyoming"}]
[2001,"AL","2001AL",19831.398999999998,12156.958780000001,12156.958780000001,15171.504000000001,0,15171.504000000001,4192.3469999999998,0,{"$f":"INDEX('Coal codes'!$B$4:$B$53,MATCH(B556,'Coal codes'!$A$4:$A$53,0))","v":"Alabama"}]
[2001,"AK","2001AK",0,0,0,0,0,0,1514.241,0,{"$f":"INDEX('Coal codes'!$B$4:$B$53,MATCH(B557,'Coal codes'!$A$4:$A$53,0))","v":"Alaska"}]
[2001,"AZ","2001AZ",0,0,0,0,0,0,13417.523999999999,0,{"$f":"INDEX('Coal codes'!$B$4:$B$53,MATCH(B558,'Coal codes'!$A$4:$A$53,0))","v":"Arizona"}]
[2001,"AR","2001AR",0,0,0,1,0,1,13.362,0,{"$f":"INDEX('Coal codes'!$B$4:$B$53,MATCH(B559,'Coal codes'!$A$4:$A$53,0))","v":"Arkansas"}]
[2001,"CA","2001CA",0,0,0,0,0,0,0,0,{"$f":"INDEX('Coal codes'!$B$4:$B$53,MATCH(B560,'Coal codes'!$A$4:$A$53,0))","v":"California"}]
[2001,"CO","2001CO",6568.9050000000007,2139.7516666666666,0,23546.674999999999,0,23546.674999999999,9825.0300000000007,0,{"$f":"INDEX('Coal codes'!$B$4:$B$53,MATCH(B561,'Coal codes'!$A$4:$A$53,0))","v":"Colorado"}]
[2001,"CT","2001CT",0,0,0,0,0,0,0,0,{"$f":"INDEX('Coal codes'!$B$4:$B$53,MATCH(B562,'Coal codes'!$A$4:$A$53,0))","v":"Connecticut"}]
[2001,"DE","2001DE",0,0,0,0,0,0,0,0,{"$f":"INDEX('Coal codes'!$B$4:$B$53,MATCH(B563,'Coal codes'!$A$4:$A$53,0))","v":"Delaware"}]
[2001,"FL","2001FL",0,0,0,0,0,0,0,0,{"$f":"INDEX('Coal codes'!$B$4:$B$53,MATCH(B564,'Coal codes'!$A$4:$A$53,0))","v":"Florida"}]
[2001,"GA","2001GA",0,0,0,0,0,0,0,0,{"$f":"INDEX('Coal codes'!$B$4:$B$53,MATCH(B565,'Coal codes'!$A$4:$A$53,0))","v":"Georgia"}]
[2001,"HI","2001HI",0,0,0,0,0,0,0,0,{"$f":"INDEX('Coal codes'!$B$4:$B$53,MATCH(B566,'Coal codes'!$A$4:$A$53,0))","v":"Hawaii"}]
[2001,"ID","2001ID",0,0,0,0,0,0,0,0,{"$f":"INDEX('Coal codes'!$B$4:$B$53,MATCH(B567,'Coal codes'!$A$4:$A$53,0))","v":"Idaho"}]
[2001,"IL","2001IL",6091.4850000000006,0,0,28112.05,0,28112.05,5671.3919999999998,0,{"$f":"INDEX('Coal codes'!$B$4:$B$53,MATCH(B568,'Coal codes'!$A$4:$A$53,0))","v":"Illinois"}]
[2001,"IN","2001IN",847.16499999999996,0,0,7191.393,0,7191.393,29546.457999999999,0,{"$f":"INDEX('Coal codes'!$B$4:$B$53,MATCH(B569,'Coal codes'!$A$4:$A$53,0))","v":"Indiana"}]
[2001,"IA","2001IA",0,0,0,0,0,0,0,0,{"$f":"INDEX('Coal codes'!$B$4:$B$53,MATCH(B570,'Coal codes'!$A$4:$A$53,0))","v":"Iowa"}]
[2001,"KS","2001KS",0,0,0,0,0,0,176.06399999999999,0,{"$f":"INDEX('Coal codes'!$B$4:$B$53,MATCH(B571,'Coal codes'!$A$4:$A$53,0))","v":"Kansas"}]
[2001,"KY","2001KY",4441.1499999999996,0,0,61835.616999999998,19060.519,80896.135999999999,47262.281999999999,5675.9560000000001,{"$f":"INDEX('Coal codes'!$B$4:$B$53,MATCH(B572,'Coal codes'!$A$4:$A$53,0))","v":"Kentucky"}]
[2001,"LA","2001LA",0,0,0,0,0,0,3715.136,0,{"$f":"INDEX('Coal codes'!$B$4:$B$53,MATCH(B573,'Coal codes'!$A$4:$A$53,0))","v":"Louisiana"}]
[2001,"ME","2001ME",0,0,0,0,0,0,0,0,{"$f":"INDEX('Coal codes'!$B$4:$B$53,MATCH(B574,'Coal codes'!$A$4:$A$53,0))","v":"Maine"}]
[2001,"MD","2001MD",0,0,0,3244.5079999999998,0,3244.5079999999998,1399.49,0,{"$f":"INDEX('Coal codes'!$B$4:$B$53,MATCH(B575,'Coal codes'!$A$4:$A$53,0))","v":"Maryland"}]
[2001,"MA","2001MA",0,0,0,0,0,0,0,0,{"$f":"INDEX('Coal codes'!$B$4:$B$53,MATCH(B576,'Coal codes'!$A$4:$A$53,0))","v":"Massachusetts"}]
[2001,"MI","2001MI",0,0,0,0,0,0,0,0,{"$f":"INDEX('Coal codes'!$B$4:$B$53,MATCH(B577,'Coal codes'!$A$4:$A$53,0))","v":"Michigan"}]
[2001,"MN","2001MN",0,0,0,0,0,0,0,0,{"$f":"INDEX('Coal codes'!$B$4:$B$53,MATCH(B578,'Coal codes'!$A$4:$A$53,0))","v":"Minnesota"}]
[2001,"MS","2001MS",0,0,0,0,0,0,603.827,0,{"$f":"INDEX('Coal codes'!$B$4:$B$53,MATCH(B579,'Coal codes'!$A$4:$A$53,0))","v":"Mississippi"}]
[2001,"MO","2001MO",0,0,0,0,0,0,366.435,0,{"$f":"INDEX('Coal codes'!$B$4:$B$53,MATCH(B580,'Coal codes'!$A$4:$A$53,0))","v":"Missouri"}]
[2001,"MT","2001MT",0,0,0,0,0,0,39142.82,0,{"$f":"INDEX('Coal codes'!$B$4:$B$53,MATCH(B581,'Coal codes'!$A$4:$A$53,0))","v":"Montana"}]
[2001,"NE","2001NE",0,0,0,0,0,0,0,0,{"$f":"INDEX('Coal codes'!$B$4:$B$53,MATCH(B582,'Coal codes'!$A$4:$A$53,0))","v":"Nebraska"}]
[2001,"NV","2001NV",0,0,0,0,0,{"$f":"SUM(G583:H583)","v":0},0,0,{"$f":"INDEX('Coal codes'!$B$4:$B$53,MATCH(B583,'Coal codes'!$A$4:$A$53,0))","v":"Nevada"}]
[2001,"NH","2001NH",0,0,0,0,0,0,0,0,{"$f":"INDEX('Coal codes'!$B$4:$B$53,MATCH(B584,'Coal codes'!$A$4:$A$53,0))","v":"New Hampshire"}]
[2001,"NJ","2001NJ",0,0,0,0,0,0,0,0,{"$f":"INDEX('Coal codes'!$B$4:$B$53,MATCH(B585,'Coal codes'!$A$4:$A$53,0))","v":"New Jersey"}]
[2001,"NM","2001NM",113.515,0,0,680.096,0,680.096,28937.455999999998,0,{"$f":"INDEX('Coal codes'!$B$4:$B$53,MATCH(B586,'Coal codes'!$A$4:$A$53,0))","v":"New Mexico"}]
[2001,"NY","2001NY",0,0,0,0,0,0,0,0,{"$f":"INDEX('Coal codes'!$B$4:$B$53,MATCH(B587,'Coal codes'!$A$4:$A$53,0))","v":"New York"}]
[2001,"NC","2001NC",0,0,0,0,0,0,0,0,{"$f":"INDEX('Coal codes'!$B$4:$B$53,MATCH(B588,'Coal codes'!$A$4:$A$53,0))","v":"North Carolina"}]
[2001,"ND","2001ND",0,0,0,0,0,0,30475.417000000001,0,{"$f":"INDEX('Coal codes'!$B$4:$B$53,MATCH(B589,'Coal codes'!$A$4:$A$53,0))","v":"North Dakota"}]
[2001,"OH","2001OH",1280.3619999999999,0,0,12893.721,0,12893.721,12505.972,0,{"$f":"INDEX('Coal codes'!$B$4:$B$53,MATCH(B590,'Coal codes'!$A$4:$A$53,0))","v":"Ohio"}]
[2001,"OK","2001OK",342.73499999999996,0,0,414.62299999999999,0,414.62299999999999,1299.826,0,{"$f":"INDEX('Coal codes'!$B$4:$B$53,MATCH(B591,'Coal codes'!$A$4:$A$53,0))","v":"Oklahoma"}]
[2001,"OR","2001OR",0,0,0,0,0,0,0,0,{"$f":"INDEX('Coal codes'!$B$4:$B$53,MATCH(B592,'Coal codes'!$A$4:$A$53,0))","v":"Oregon"}]
[2001,"PA","2001PA",15502.279999999997,2320.35214095936,0,58134.561000000002,0,58134.561000000002,16011.203,0,{"$f":"INDEX('Coal codes'!$B$4:$B$53,MATCH(B593,'Coal codes'!$A$4:$A$53,0))","v":"Pennsylvania"}]
[2001,"RI","2001RI",0,0,0,0,0,0,0,0,{"$f":"INDEX('Coal codes'!$B$4:$B$53,MATCH(B594,'Coal codes'!$A$4:$A$53,0))","v":"Rhode Island"}]
[2001,"SC","2001SC",0,0,0,0,0,0,0,0,{"$f":"INDEX('Coal codes'!$B$4:$B$53,MATCH(B595,'Coal codes'!$A$4:$A$53,0))","v":"South Carolina"}]
[2001,"SD","2001SD",0,0,0,0,0,0,0,0,{"$f":"INDEX('Coal codes'!$B$4:$B$53,MATCH(B596,'Coal codes'!$A$4:$A$53,0))","v":"South Dakota"}]
[2001,"TN","2001TN",0,0,0,1321.077,0,1321.077,2003.194,0,{"$f":"INDEX('Coal codes'!$B$4:$B$53,MATCH(B597,'Coal codes'!$A$4:$A$53,0))","v":"Tennessee"}]
[2001,"TX","2001TX",0,0,0,0,0,0,45042.406000000003,0,{"$f":"INDEX('Coal codes'!$B$4:$B$53,MATCH(B598,'Coal codes'!$A$4:$A$53,0))","v":"Texas"}]
[2001,"UT","2001UT",1186.7669999999998,0,0,26966.482,0,26966.482,0,0,{"$f":"INDEX('Coal codes'!$B$4:$B$53,MATCH(B599,'Coal codes'!$A$4:$A$53,0))","v":"Utah"}]
[2001,"VT","2001VT",0,0,0,0,0,0,0,0,{"$f":"INDEX('Coal codes'!$B$4:$B$53,MATCH(B600,'Coal codes'!$A$4:$A$53,0))","v":"Vermont"}]
[2001,"VA","2001VA",7676.4709999999995,25839.999834974718,25698.483519999998,22502.638999999999,0,22502.638999999999,10271.385,0,{"$f":"INDEX('Coal codes'!$B$4:$B$53,MATCH(B601,'Coal codes'!$A$4:$A$53,0))","v":"Virginia"}]
[2001,"WA","2001WA",0,0,0,0,0,0,4624.2449999999999,0,{"$f":"INDEX('Coal codes'!$B$4:$B$53,MATCH(B602,'Coal codes'!$A$4:$A$53,0))","v":"Washington"}]
[2001,"WV","2001WV",20397.500000000004,6852.7061239215691,3005.3288200000002,66797.835999999996,32752.531999999999,99550.367999999988,57447.481,5417.9660000000003,{"$f":"INDEX('Coal codes'!$B$4:$B$53,MATCH(B603,'Coal codes'!$A$4:$A$53,0))","v":"West Virginia"}]
[2001,"WI","2001WI",0,0,0,0,0,0,0,0,{"$f":"INDEX('Coal codes'!$B$4:$B$53,MATCH(B604,'Coal codes'!$A$4:$A$53,0))","v":"Wisconsin"}]
[2001,"WY","2001WY",0,0,0,0,0,0,368749.17200000002,0,{"$f":"INDEX('Coal codes'!$B$4:$B$53,MATCH(B605,'Coal codes'!$A$4:$A$53,0))","v":"Wyoming"}]
[2002,"AL","2002AL",16726.544019999998,12944.57732,12944.577320000002,14915.886,0,14915.886,4015.4070000000002,0,{"$f":"INDEX('Coal codes'!$B$4:$B$53,MATCH(B606,'Coal codes'!$A$4:$A$53,0))","v":"Alabama"}]
[2002,"AK","2002AK",0,0,0,0,0,0,1145.713,0,{"$f":"INDEX('Coal codes'!$B$4:$B$53,MATCH(B607,'Coal codes'!$A$4:$A$53,0))","v":"Alaska"}]
[2002,"AZ","2002AZ",0,0,0,0,0,0,12804.057000000001,0,{"$f":"INDEX('Coal codes'!$B$4:$B$53,MATCH(B608,'Coal codes'!$A$4:$A$53,0))","v":"Arizona"}]
[2002,"AR","2002AR",0,0,0,0.89400000000000002,0,0.89400000000000002,12.888999999999999,0,{"$f":"INDEX('Coal codes'!$B$4:$B$53,MATCH(B609,'Coal codes'!$A$4:$A$53,0))","v":"Arkansas"}]
[2002,"CA","2002CA",0,0,0,0,0,0,0,0,{"$f":"INDEX('Coal codes'!$B$4:$B$53,MATCH(B610,'Coal codes'!$A$4:$A$53,0))","v":"California"}]
[2002,"CO","2002CO",5450.8830000000007,4138.8566666666666,0,25332.115000000002,0,25332.115000000002,9770.9449999999997,0,{"$f":"INDEX('Coal codes'!$B$4:$B$53,MATCH(B611,'Coal codes'!$A$4:$A$53,0))","v":"Colorado"}]
[2002,"CT","2002CT",0,0,0,0,0,0,0,0,{"$f":"INDEX('Coal codes'!$B$4:$B$53,MATCH(B612,'Coal codes'!$A$4:$A$53,0))","v":"Connecticut"}]
[2002,"DE","2002DE",0,0,0,0,0,0,0,0,{"$f":"INDEX('Coal codes'!$B$4:$B$53,MATCH(B613,'Coal codes'!$A$4:$A$53,0))","v":"Delaware"}]
[2002,"FL","2002FL",0,0,0,0,0,0,0,0,{"$f":"INDEX('Coal codes'!$B$4:$B$53,MATCH(B614,'Coal codes'!$A$4:$A$53,0))","v":"Florida"}]
[2002,"GA","2002GA",0,0,0,0,0,0,0,0,{"$f":"INDEX('Coal codes'!$B$4:$B$53,MATCH(B615,'Coal codes'!$A$4:$A$53,0))","v":"Georgia"}]
[2002,"HI","2002HI",0,0,0,0,0,0,0,0,{"$f":"INDEX('Coal codes'!$B$4:$B$53,MATCH(B616,'Coal codes'!$A$4:$A$53,0))","v":"Hawaii"}]
[2002,"ID","2002ID",0,0,0,0,0,0,0,0,{"$f":"INDEX('Coal codes'!$B$4:$B$53,MATCH(B617,'Coal codes'!$A$4:$A$53,0))","v":"Idaho"}]
[2002,"IL","2002IL",4791.3550000000005,0,0,26931.22,0,26931.22,6383.1459999999997,0,{"$f":"INDEX('Coal codes'!$B$4:$B$53,MATCH(B618,'Coal codes'!$A$4:$A$53,0))","v":"Illinois"}]
[2002,"IN","2002IN",1118.3599999999999,0,0,7908.8810000000003,0,7908.8810000000003,27427.753000000001,0,{"$f":"INDEX('Coal codes'!$B$4:$B$53,MATCH(B619,'Coal codes'!$A$4:$A$53,0))","v":"Indiana"}]
[2002,"IA","2002IA",0,0,0,0,0,0,0,0,{"$f":"INDEX('Coal codes'!$B$4:$B$53,MATCH(B620,'Coal codes'!$A$4:$A$53,0))","v":"Iowa"}]
[2002,"KS","2002KS",0,0,0,0,0,0,204.648,0,{"$f":"INDEX('Coal codes'!$B$4:$B$53,MATCH(B621,'Coal codes'!$A$4:$A$53,0))","v":"Kansas"}]
[2002,"KY","2002KY",3915.8609999999999,0,0,56413.241999999998,19175.645,75588.887000000002,42984.425000000003,5568.6869999999999,{"$f":"INDEX('Coal codes'!$B$4:$B$53,MATCH(B622,'Coal codes'!$A$4:$A$53,0))","v":"Kentucky"}]
[2002,"LA","2002LA",0,0,0,0,0,0,3802.509,0,{"$f":"INDEX('Coal codes'!$B$4:$B$53,MATCH(B623,'Coal codes'!$A$4:$A$53,0))","v":"Louisiana"}]
[2002,"ME","2002ME",0,0,0,0,0,0,0,0,{"$f":"INDEX('Coal codes'!$B$4:$B$53,MATCH(B624,'Coal codes'!$A$4:$A$53,0))","v":"Maine"}]
[2002,"MD","2002MD",0,0,0,3327.6239999999998,0,3327.6239999999998,1819.681,0,{"$f":"INDEX('Coal codes'!$B$4:$B$53,MATCH(B625,'Coal codes'!$A$4:$A$53,0))","v":"Maryland"}]
[2002,"MA","2002MA",0,0,0,0,0,0,0,0,{"$f":"INDEX('Coal codes'!$B$4:$B$53,MATCH(B626,'Coal codes'!$A$4:$A$53,0))","v":"Massachusetts"}]
[2002,"MI","2002MI",0,0,0,0,0,0,0,0,{"$f":"INDEX('Coal codes'!$B$4:$B$53,MATCH(B627,'Coal codes'!$A$4:$A$53,0))","v":"Michigan"}]
[2002,"MN","2002MN",0,0,0,0,0,0,0,0,{"$f":"INDEX('Coal codes'!$B$4:$B$53,MATCH(B628,'Coal codes'!$A$4:$A$53,0))","v":"Minnesota"}]
[2002,"MS","2002MS",0,0,0,0,0,0,2305.2620000000002,0,{"$f":"INDEX('Coal codes'!$B$4:$B$53,MATCH(B629,'Coal codes'!$A$4:$A$53,0))","v":"Mississippi"}]
[2002,"MO","2002MO",0,0,0,0,0,0,248.01599999999999,0,{"$f":"INDEX('Coal codes'!$B$4:$B$53,MATCH(B630,'Coal codes'!$A$4:$A$53,0))","v":"Missouri"}]
[2002,"MT","2002MT",0,0,0,0,0,0,37385.807000000001,0,{"$f":"INDEX('Coal codes'!$B$4:$B$53,MATCH(B631,'Coal codes'!$A$4:$A$53,0))","v":"Montana"}]
[2002,"NE","2002NE",0,0,0,0,0,0,0,0,{"$f":"INDEX('Coal codes'!$B$4:$B$53,MATCH(B632,'Coal codes'!$A$4:$A$53,0))","v":"Nebraska"}]
[2002,"NV","2002NV",0,0,0,0,0,0,0,0,{"$f":"INDEX('Coal codes'!$B$4:$B$53,MATCH(B633,'Coal codes'!$A$4:$A$53,0))","v":"Nevada"}]
[2002,"NH","2002NH",0,0,0,0,0,0,0,0,{"$f":"INDEX('Coal codes'!$B$4:$B$53,MATCH(B634,'Coal codes'!$A$4:$A$53,0))","v":"New Hampshire"}]
[2002,"NJ","2002NJ",0,0,0,0,0,0,0,0,{"$f":"INDEX('Coal codes'!$B$4:$B$53,MATCH(B635,'Coal codes'!$A$4:$A$53,0))","v":"New Jersey"}]
[2002,"NM","2002NM",559.91,186.63666666666666,0,1753.3989999999999,0,1753.3989999999999,27162.945,0,{"$f":"INDEX('Coal codes'!$B$4:$B$53,MATCH(B636,'Coal codes'!$A$4:$A$53,0))","v":"New Mexico"}]
[2002,"NY","2002NY",0,0,0,0,0,0,0,0,{"$f":"INDEX('Coal codes'!$B$4:$B$53,MATCH(B637,'Coal codes'!$A$4:$A$53,0))","v":"New York"}]
[2002,"NC","2002NC",0,0,0,0,0,0,0,0,{"$f":"INDEX('Coal codes'!$B$4:$B$53,MATCH(B638,'Coal codes'!$A$4:$A$53,0))","v":"North Carolina"}]
[2002,"ND","2002ND",0,0,0,0,0,0,30798.895,0,{"$f":"INDEX('Coal codes'!$B$4:$B$53,MATCH(B639,'Coal codes'!$A$4:$A$53,0))","v":"North Dakota"}]
[2002,"OH","2002OH",897.17000000000007,0,0,10850.954,0,10850.954,10306.245000000001,0,{"$f":"INDEX('Coal codes'!$B$4:$B$53,MATCH(B640,'Coal codes'!$A$4:$A$53,0))","v":"Ohio"}]
[2002,"OK","2002OK",436.53999999999996,0,0,463.47800000000001,0,463.47800000000001,942.81799999999998,0,{"$f":"INDEX('Coal codes'!$B$4:$B$53,MATCH(B641,'Coal codes'!$A$4:$A$53,0))","v":"Oklahoma"}]
[2002,"OR","2002OR",0,0,0,0,0,0,0,0,{"$f":"INDEX('Coal codes'!$B$4:$B$53,MATCH(B642,'Coal codes'!$A$4:$A$53,0))","v":"Oregon"}]
[2002,"PA","2002PA",14650.005000000003,1631.1957886176378,0,55781.324999999997,0,55781.324999999997,12611.867,0,{"$f":"INDEX('Coal codes'!$B$4:$B$53,MATCH(B643,'Coal codes'!$A$4:$A$53,0))","v":"Pennsylvania"}]
[2002,"RI","2002RI",0,0,0,0,0,0,0,0,{"$f":"INDEX('Coal codes'!$B$4:$B$53,MATCH(B644,'Coal codes'!$A$4:$A$53,0))","v":"Rhode Island"}]
[2002,"SC","2002SC",0,0,0,0,0,0,0,0,{"$f":"INDEX('Coal codes'!$B$4:$B$53,MATCH(B645,'Coal codes'!$A$4:$A$53,0))","v":"South Carolina"}]
[2002,"SD","2002SD",0,0,0,0,0,0,0,0,{"$f":"INDEX('Coal codes'!$B$4:$B$53,MATCH(B646,'Coal codes'!$A$4:$A$53,0))","v":"South Dakota"}]
[2002,"TN","2002TN",0,0,0,1085.1669999999999,0,{"$f":"SUM(G647:H647)","v":1085.1669999999999},2080.866,0,{"$f":"INDEX('Coal codes'!$B$4:$B$53,MATCH(B647,'Coal codes'!$A$4:$A$53,0))","v":"Tennessee"}]
[2002,"TX","2002TX",0,0,0,0,0,0,45246.622000000003,0,{"$f":"INDEX('Coal codes'!$B$4:$B$53,MATCH(B648,'Coal codes'!$A$4:$A$53,0))","v":"Texas"}]
[2002,"UT","2002UT",1847.9949999999999,0,0,25036.22,0,25036.22,267.517,0,{"$f":"INDEX('Coal codes'!$B$4:$B$53,MATCH(B649,'Coal codes'!$A$4:$A$53,0))","v":"Utah"}]
[2002,"VT","2002VT",0,0,0,0,0,0,0,0,{"$f":"INDEX('Coal codes'!$B$4:$B$53,MATCH(B650,'Coal codes'!$A$4:$A$53,0))","v":"Vermont"}]
[2002,"VA","2002VA",7842.7550000000001,26746.574550533267,26746.028540000003,20490.984,0,20490.984,9465.0789999999997,0,{"$f":"INDEX('Coal codes'!$B$4:$B$53,MATCH(B651,'Coal codes'!$A$4:$A$53,0))","v":"Virginia"}]
[2002,"WA","2002WA",0,0,0,0,0,0,5827.1620000000003,0,{"$f":"INDEX('Coal codes'!$B$4:$B$53,MATCH(B652,'Coal codes'!$A$4:$A$53,0))","v":"Washington"}]
[2002,"WV","2002WV",20436.74600000001,5010.1621126956879,3659.1308799999997,59235.383000000002,28682.55,87917.933000000005,56810.03,5349.7730000000001,{"$f":"INDEX('Coal codes'!$B$4:$B$53,MATCH(B653,'Coal codes'!$A$4:$A$53,0))","v":"West Virginia"}]
[2002,"WI","2002WI",0,0,0,0,0,0,0,0,{"$f":"INDEX('Coal codes'!$B$4:$B$53,MATCH(B654,'Coal codes'!$A$4:$A$53,0))","v":"Wisconsin"}]
[2002,"WY","2002WY",0,0,0,0,0,0,373161.33600000001,0,{"$f":"INDEX('Coal codes'!$B$4:$B$53,MATCH(B655,'Coal codes'!$A$4:$A$53,0))","v":"Wyoming"}]
[2003,"AL","2003AL",17225.55888,11063.3505,11063.3505,15375.364,0,15375.364,4742.1909999999998,0,{"$f":"INDEX('Coal codes'!$B$4:$B$53,MATCH(B656,'Coal codes'!$A$4:$A$53,0))","v":"Alabama"}]
[2003,"AK","2003AK",0,0,0,0,0,0,1081.3230000000001,0,{"$f":"INDEX('Coal codes'!$B$4:$B$53,MATCH(B657,'Coal codes'!$A$4:$A$53,0))","v":"Alaska"}]
[2003,"AZ","2003AZ",0,0,0,0,0,0,12059.093999999999,0,{"$f":"INDEX('Coal codes'!$B$4:$B$53,MATCH(B658,'Coal codes'!$A$4:$A$53,0))","v":"Arizona"}]
[2003,"AR","2003AR",0,0,0,1,0,1,6.5640000000000001,0,{"$f":"INDEX('Coal codes'!$B$4:$B$53,MATCH(B659,'Coal codes'!$A$4:$A$53,0))","v":"Arkansas"}]
[2003,"CA","2003CA",0,0,0,0,0,0,0,0,{"$f":"INDEX('Coal codes'!$B$4:$B$53,MATCH(B660,'Coal codes'!$A$4:$A$53,0))","v":"California"}]
[2003,"CO","2003CO",5728.2067049999996,4997.4921179951098,40,27177.469000000001,0,27177.469000000001,8653.7160000000003,0,{"$f":"INDEX('Coal codes'!$B$4:$B$53,MATCH(B661,'Coal codes'!$A$4:$A$53,0))","v":"Colorado"}]
[2003,"CT","2003CT",0,0,0,0,0,0,0,0,{"$f":"INDEX('Coal codes'!$B$4:$B$53,MATCH(B662,'Coal codes'!$A$4:$A$53,0))","v":"Connecticut"}]
[2003,"DE","2003DE",0,0,0,0,0,0,0,0,{"$f":"INDEX('Coal codes'!$B$4:$B$53,MATCH(B663,'Coal codes'!$A$4:$A$53,0))","v":"Delaware"}]
[2003,"FL","2003FL",0,0,0,0,0,0,0,0,{"$f":"INDEX('Coal codes'!$B$4:$B$53,MATCH(B664,'Coal codes'!$A$4:$A$53,0))","v":"Florida"}]
[2003,"GA","2003GA",0,0,0,0,0,0,0,0,{"$f":"INDEX('Coal codes'!$B$4:$B$53,MATCH(B665,'Coal codes'!$A$4:$A$53,0))","v":"Georgia"}]
[2003,"HI","2003HI",0,0,0,0,0,0,0,0,{"$f":"INDEX('Coal codes'!$B$4:$B$53,MATCH(B666,'Coal codes'!$A$4:$A$53,0))","v":"Hawaii"}]
[2003,"ID","2003ID",0,0,0,0,0,0,0,0,{"$f":"INDEX('Coal codes'!$B$4:$B$53,MATCH(B667,'Coal codes'!$A$4:$A$53,0))","v":"Idaho"}]
[2003,"IL","2003IL",3666.6037427499996,0,0,25984.675999999999,0,25984.675999999999,5655.348,0,{"$f":"INDEX('Coal codes'!$B$4:$B$53,MATCH(B668,'Coal codes'!$A$4:$A$53,0))","v":"Illinois"}]
[2003,"IN","2003IN",1475.9961249999997,0,0,8634.5419999999995,0,8634.5419999999995,26720.405999999999,0,{"$f":"INDEX('Coal codes'!$B$4:$B$53,MATCH(B669,'Coal codes'!$A$4:$A$53,0))","v":"Indiana"}]
[2003,"IA","2003IA",0,0,0,0,0,0,0,0,{"$f":"INDEX('Coal codes'!$B$4:$B$53,MATCH(B670,'Coal codes'!$A$4:$A$53,0))","v":"Iowa"}]
[2003,"KS","2003KS",0,0,0,0,0,0,153.65199999999999,0,{"$f":"INDEX('Coal codes'!$B$4:$B$53,MATCH(B671,'Coal codes'!$A$4:$A$53,0))","v":"Kansas"}]
[2003,"KY","2003KY",3931.5029927500004,0,0,52077.98,17159.861000000001,69237.841,39231.175000000003,4336.6019999999999,{"$f":"INDEX('Coal codes'!$B$4:$B$53,MATCH(B672,'Coal codes'!$A$4:$A$53,0))","v":"Kentucky"}]
[2003,"LA","2003LA",0,0,0,0,0,0,4028.11,0,{"$f":"INDEX('Coal codes'!$B$4:$B$53,MATCH(B673,'Coal codes'!$A$4:$A$53,0))","v":"Louisiana"}]
[2003,"ME","2003ME",0,0,0,0,0,0,0,0,{"$f":"INDEX('Coal codes'!$B$4:$B$53,MATCH(B674,'Coal codes'!$A$4:$A$53,0))","v":"Maine"}]
[2003,"MD","2003MD",0,0,0,3300.0169999999998,0,3300.0169999999998,1755.752,0,{"$f":"INDEX('Coal codes'!$B$4:$B$53,MATCH(B675,'Coal codes'!$A$4:$A$53,0))","v":"Maryland"}]
[2003,"MA","2003MA",0,0,0,0,0,0,0,0,{"$f":"INDEX('Coal codes'!$B$4:$B$53,MATCH(B676,'Coal codes'!$A$4:$A$53,0))","v":"Massachusetts"}]
[2003,"MI","2003MI",0,0,0,0,0,0,0,0,{"$f":"INDEX('Coal codes'!$B$4:$B$53,MATCH(B677,'Coal codes'!$A$4:$A$53,0))","v":"Michigan"}]
[2003,"MN","2003MN",0,0,0,0,0,0,0,0,{"$f":"INDEX('Coal codes'!$B$4:$B$53,MATCH(B678,'Coal codes'!$A$4:$A$53,0))","v":"Minnesota"}]
[2003,"MS","2003MS",0,0,0,0,0,0,3695.3850000000002,0,{"$f":"INDEX('Coal codes'!$B$4:$B$53,MATCH(B679,'Coal codes'!$A$4:$A$53,0))","v":"Mississippi"}]
[2003,"MO","2003MO",0,0,0,0,0,0,533.44100000000003,0,{"$f":"INDEX('Coal codes'!$B$4:$B$53,MATCH(B680,'Coal codes'!$A$4:$A$53,0))","v":"Missouri"}]
[2003,"MT","2003MT",0,0,0,31.925999999999998,0,31.925999999999998,36962.171999999999,0,{"$f":"INDEX('Coal codes'!$B$4:$B$53,MATCH(B681,'Coal codes'!$A$4:$A$53,0))","v":"Montana"}]
[2003,"NE","2003NE",0,0,0,0,0,0,0,0,{"$f":"INDEX('Coal codes'!$B$4:$B$53,MATCH(B682,'Coal codes'!$A$4:$A$53,0))","v":"Nebraska"}]
[2003,"NV","2003NV",0,0,0,0,0,0,0,0,{"$f":"INDEX('Coal codes'!$B$4:$B$53,MATCH(B683,'Coal codes'!$A$4:$A$53,0))","v":"Nevada"}]
[2003,"NH","2003NH",0,0,0,0,0,0,0,0,{"$f":"INDEX('Coal codes'!$B$4:$B$53,MATCH(B684,'Coal codes'!$A$4:$A$53,0))","v":"New Hampshire"}]
[2003,"NJ","2003NJ",0,0,0,0,0,0,0,0,{"$f":"INDEX('Coal codes'!$B$4:$B$53,MATCH(B685,'Coal codes'!$A$4:$A$53,0))","v":"New Jersey"}]
[2003,"NM","2003NM",459.64851500000003,853.63295642857156,8,5890.2460000000001,0,5890.2460000000001,20498.618999999999,0,{"$f":"INDEX('Coal codes'!$B$4:$B$53,MATCH(B686,'Coal codes'!$A$4:$A$53,0))","v":"New Mexico"}]
[2003,"NY","2003NY",0,0,0,0,0,0,0,0,{"$f":"INDEX('Coal codes'!$B$4:$B$53,MATCH(B687,'Coal codes'!$A$4:$A$53,0))","v":"New York"}]
[2003,"NC","2003NC",0,0,0,0,0,0,0,0,{"$f":"INDEX('Coal codes'!$B$4:$B$53,MATCH(B688,'Coal codes'!$A$4:$A$53,0))","v":"North Carolina"}]
[2003,"ND","2003ND",0,0,0,0,0,0,30775.437000000002,0,{"$f":"INDEX('Coal codes'!$B$4:$B$53,MATCH(B689,'Coal codes'!$A$4:$A$53,0))","v":"North Dakota"}]
[2003,"OH","2003OH",784.04500250000001,0,0,12827.72,0,12827.72,9181.5409999999993,0,{"$f":"INDEX('Coal codes'!$B$4:$B$53,MATCH(B690,'Coal codes'!$A$4:$A$53,0))","v":"Ohio"}]
[2003,"OK","2003OK",365.94461999999999,0,0,392.73599999999999,0,392.73599999999999,1172.48,0,{"$f":"INDEX('Coal codes'!$B$4:$B$53,MATCH(B691,'Coal codes'!$A$4:$A$53,0))","v":"Oklahoma"}]
[2003,"OR","2003OR",0,0,0,0,0,0,0,0,{"$f":"INDEX('Coal codes'!$B$4:$B$53,MATCH(B692,'Coal codes'!$A$4:$A$53,0))","v":"Oregon"}]
[2003,"PA","2003PA",14164.257159999999,2353.5199999999995,0,52212.432000000001,0,52212.432000000001,11495.449000000001,0,{"$f":"INDEX('Coal codes'!$B$4:$B$53,MATCH(B693,'Coal codes'!$A$4:$A$53,0))","v":"Pennsylvania"}]
[2003,"RI","2003RI",0,0,0,0,0,0,0,0,{"$f":"INDEX('Coal codes'!$B$4:$B$53,MATCH(B694,'Coal codes'!$A$4:$A$53,0))","v":"Rhode Island"}]
[2003,"SC","2003SC",0,0,0,0,0,0,0,0,{"$f":"INDEX('Coal codes'!$B$4:$B$53,MATCH(B695,'Coal codes'!$A$4:$A$53,0))","v":"South Carolina"}]
[2003,"SD","2003SD",0,0,0,0,0,0,0,0,{"$f":"INDEX('Coal codes'!$B$4:$B$53,MATCH(B696,'Coal codes'!$A$4:$A$53,0))","v":"South Dakota"}]
[2003,"TN","2003TN",0,0,0,656.74300000000005,0,656.74300000000005,1907.3920000000001,0,{"$f":"INDEX('Coal codes'!$B$4:$B$53,MATCH(B697,'Coal codes'!$A$4:$A$53,0))","v":"Tennessee"}]
[2003,"TX","2003TX",0,0,0,0,0,0,47516.756999999998,0,{"$f":"INDEX('Coal codes'!$B$4:$B$53,MATCH(B698,'Coal codes'!$A$4:$A$53,0))","v":"Texas"}]
[2003,"UT","2003UT",2603.9417549999998,0,0,23044.16,0,23044.16,25.082999999999998,0,{"$f":"INDEX('Coal codes'!$B$4:$B$53,MATCH(B699,'Coal codes'!$A$4:$A$53,0))","v":"Utah"}]
[2003,"VT","2003VT",0,0,0,0,0,0,0,0,{"$f":"INDEX('Coal codes'!$B$4:$B$53,MATCH(B700,'Coal codes'!$A$4:$A$53,0))","v":"Vermont"}]
[2003,"VA","2003VA",7351.7331860000004,26913.726415249155,25879.923170000002,21225.067999999999,0,21225.067999999999,10371.244000000001,0,{"$f":"INDEX('Coal codes'!$B$4:$B$53,MATCH(B701,'Coal codes'!$A$4:$A$53,0))","v":"Virginia"}]
[2003,"WA","2003WA",0,0,0,0,0,0,6231.8739999999998,0,{"$f":"INDEX('Coal codes'!$B$4:$B$53,MATCH(B702,'Coal codes'!$A$4:$A$53,0))","v":"Washington"}]
[2003,"WV","2003WV",17909.653205750004,3291.5943492322294,968.27075000000002,56764.161999999997,30028.583999999999,86792.745999999999,47997.716999999997,4920.8469999999998,{"$f":"INDEX('Coal codes'!$B$4:$B$53,MATCH(B703,'Coal codes'!$A$4:$A$53,0))","v":"West Virginia"}]
[2003,"WI","2003WI",0,0,0,0,0,0,0,0,{"$f":"INDEX('Coal codes'!$B$4:$B$53,MATCH(B704,'Coal codes'!$A$4:$A$53,0))","v":"Wisconsin"}]
[2003,"WY","2003WY",0,0,0,0,0,0,376269.98700000002,0,{"$f":"INDEX('Coal codes'!$B$4:$B$53,MATCH(B705,'Coal codes'!$A$4:$A$53,0))","v":"Wyoming"}]
[2004,"AL","2004AL",19618.698,9381.9668499999989,13036.046849999999,16114.223,0,16114.223,6156.3890000000001,0,{"$f":"INDEX('Coal codes'!$B$4:$B$53,MATCH(B706,'Coal codes'!$A$4:$A$53,0))","v":"Alabama"}]
[2004,"AK","2004AK",0,0,0,0,0,0,1511.787,0,{"$f":"INDEX('Coal codes'!$B$4:$B$53,MATCH(B707,'Coal codes'!$A$4:$A$53,0))","v":"Alaska"}]
[2004,"AZ","2004AZ",0,0,0,0,0,0,12730.829,0,{"$f":"INDEX('Coal codes'!$B$4:$B$53,MATCH(B708,'Coal codes'!$A$4:$A$53,0))","v":"Arizona"}]
[2004,"AR","2004AR",0,0,0,0.94399999999999995,0,0.94399999999999995,6.3840000000000003,0,{"$f":"INDEX('Coal codes'!$B$4:$B$53,MATCH(B709,'Coal codes'!$A$4:$A$53,0))","v":"Arkansas"}]
[2004,"CA","2004CA",0,0,0,0,0,0,0,0,{"$f":"INDEX('Coal codes'!$B$4:$B$53,MATCH(B710,'Coal codes'!$A$4:$A$53,0))","v":"California"}]
[2004,"CO","2004CO",5615.1391999999996,4329.6470666666664,170,29608.462,0,{"$f":"SUM(G711:H711)","v":29608.462},10261.635,0,{"$f":"INDEX('Coal codes'!$B$4:$B$53,MATCH(B711,'Coal codes'!$A$4:$A$53,0))","v":"Colorado"}]
[2004,"CT","2004CT",0,0,0,0,0,0,0,0,{"$f":"INDEX('Coal codes'!$B$4:$B$53,MATCH(B712,'Coal codes'!$A$4:$A$53,0))","v":"Connecticut"}]
[2004,"DE","2004DE",0,0,0,0,0,0,0,0,{"$f":"INDEX('Coal codes'!$B$4:$B$53,MATCH(B713,'Coal codes'!$A$4:$A$53,0))","v":"Delaware"}]
[2004,"FL","2004FL",0,0,0,0,0,0,0,0,{"$f":"INDEX('Coal codes'!$B$4:$B$53,MATCH(B714,'Coal codes'!$A$4:$A$53,0))","v":"Florida"}]
[2004,"GA","2004GA",0,0,0,0,0,0,0,0,{"$f":"INDEX('Coal codes'!$B$4:$B$53,MATCH(B715,'Coal codes'!$A$4:$A$53,0))","v":"Georgia"}]
[2004,"HI","2004HI",0,0,0,0,0,0,0,0,{"$f":"INDEX('Coal codes'!$B$4:$B$53,MATCH(B716,'Coal codes'!$A$4:$A$53,0))","v":"Hawaii"}]
[2004,"ID","2004ID",0,0,0,0,0,0,0,0,{"$f":"INDEX('Coal codes'!$B$4:$B$53,MATCH(B717,'Coal codes'!$A$4:$A$53,0))","v":"Idaho"}]
[2004,"IL","2004IL",4733.4780000000001,0,0,26907.16,0,26907.16,4945.826,0,{"$f":"INDEX('Coal codes'!$B$4:$B$53,MATCH(B718,'Coal codes'!$A$4:$A$53,0))","v":"Illinois"}]
[2004,"IN","2004IN",1295.6400000000001,0,0,10091.614,0,10091.614,25018.026999999998,0,{"$f":"INDEX('Coal codes'!$B$4:$B$53,MATCH(B719,'Coal codes'!$A$4:$A$53,0))","v":"Indiana"}]
[2004,"IA","2004IA",0,0,0,0,0,0,0,0,{"$f":"INDEX('Coal codes'!$B$4:$B$53,MATCH(B720,'Coal codes'!$A$4:$A$53,0))","v":"Iowa"}]
[2004,"KS","2004KS",0,0,0,0,0,0,70.650000000000006,0,{"$f":"INDEX('Coal codes'!$B$4:$B$53,MATCH(B721,'Coal codes'!$A$4:$A$53,0))","v":"Kansas"}]
[2004,"KY","2004KY",3840.9869999999996,0,0,52444.843000000001,19320.571,71765.414000000004,38425.894999999997,4052.34,{"$f":"INDEX('Coal codes'!$B$4:$B$53,MATCH(B722,'Coal codes'!$A$4:$A$53,0))","v":"Kentucky"}]
[2004,"LA","2004LA",0,0,0,0,0,0,3805.4879999999998,0,{"$f":"INDEX('Coal codes'!$B$4:$B$53,MATCH(B723,'Coal codes'!$A$4:$A$53,0))","v":"Louisiana"}]
[2004,"ME","2004ME",0,0,0,0,0,0,0,0,{"$f":"INDEX('Coal codes'!$B$4:$B$53,MATCH(B724,'Coal codes'!$A$4:$A$53,0))","v":"Maine"}]
[2004,"MD","2004MD",0,0,0,3338.7130000000002,0,3338.7130000000002,1886.2280000000001,0,{"$f":"INDEX('Coal codes'!$B$4:$B$53,MATCH(B725,'Coal codes'!$A$4:$A$53,0))","v":"Maryland"}]
[2004,"MA","2004MA",0,0,0,0,0,0,0,0,{"$f":"INDEX('Coal codes'!$B$4:$B$53,MATCH(B726,'Coal codes'!$A$4:$A$53,0))","v":"Massachusetts"}]
[2004,"MI","2004MI",0,0,0,0,0,0,0,0,{"$f":"INDEX('Coal codes'!$B$4:$B$53,MATCH(B727,'Coal codes'!$A$4:$A$53,0))","v":"Michigan"}]
[2004,"MN","2004MN",0,0,0,0,0,0,0,0,{"$f":"INDEX('Coal codes'!$B$4:$B$53,MATCH(B728,'Coal codes'!$A$4:$A$53,0))","v":"Minnesota"}]
[2004,"MS","2004MS",0,0,0,0,0,0,3586.3629999999998,0,{"$f":"INDEX('Coal codes'!$B$4:$B$53,MATCH(B729,'Coal codes'!$A$4:$A$53,0))","v":"Mississippi"}]
[2004,"MO","2004MO",0,0,0,0,0,0,578.06500000000005,0,{"$f":"INDEX('Coal codes'!$B$4:$B$53,MATCH(B730,'Coal codes'!$A$4:$A$53,0))","v":"Missouri"}]
[2004,"MT","2004MT",0,0,0,157.578,0,157.578,39830.925000000003,0,{"$f":"INDEX('Coal codes'!$B$4:$B$53,MATCH(B731,'Coal codes'!$A$4:$A$53,0))","v":"Montana"}]
[2004,"NE","2004NE",0,0,0,0,0,0,0,0,{"$f":"INDEX('Coal codes'!$B$4:$B$53,MATCH(B732,'Coal codes'!$A$4:$A$53,0))","v":"Nebraska"}]
[2004,"NV","2004NV",0,0,0,0,0,0,0,0,{"$f":"INDEX('Coal codes'!$B$4:$B$53,MATCH(B733,'Coal codes'!$A$4:$A$53,0))","v":"Nevada"}]
[2004,"NH","2004NH",0,0,0,0,0,0,0,0,{"$f":"INDEX('Coal codes'!$B$4:$B$53,MATCH(B734,'Coal codes'!$A$4:$A$53,0))","v":"New Hampshire"}]
[2004,"NJ","2004NJ",0,0,0,0,0,0,0,0,{"$f":"INDEX('Coal codes'!$B$4:$B$53,MATCH(B735,'Coal codes'!$A$4:$A$53,0))","v":"New Jersey"}]
[2004,"NM","2004NM",605.36399999999992,908.04599999999971,69,7685.0410000000002,0,7685.0410000000002,19564.91,0,{"$f":"INDEX('Coal codes'!$B$4:$B$53,MATCH(B736,'Coal codes'!$A$4:$A$53,0))","v":"New Mexico"}]
[2004,"NY","2004NY",0,0,0,0,0,0,0,0,{"$f":"INDEX('Coal codes'!$B$4:$B$53,MATCH(B737,'Coal codes'!$A$4:$A$53,0))","v":"New York"}]
[2004,"NC","2004NC",0,0,0,0,0,0,0,0,{"$f":"INDEX('Coal codes'!$B$4:$B$53,MATCH(B738,'Coal codes'!$A$4:$A$53,0))","v":"North Carolina"}]
[2004,"ND","2004ND",0,0,0,0,0,0,29942.870999999999,0,{"$f":"INDEX('Coal codes'!$B$4:$B$53,MATCH(B739,'Coal codes'!$A$4:$A$53,0))","v":"North Dakota"}]
[2004,"OH","2004OH",1274.046,0,0,14270.084000000001,0,14270.084000000001,8951.7659999999996,0,{"$f":"INDEX('Coal codes'!$B$4:$B$53,MATCH(B740,'Coal codes'!$A$4:$A$53,0))","v":"Ohio"}]
[2004,"OK","2004OK",552.66,0,0,409.06599999999997,0,409.06599999999997,1383.1669999999999,0,{"$f":"INDEX('Coal codes'!$B$4:$B$53,MATCH(B741,'Coal codes'!$A$4:$A$53,0))","v":"Oklahoma"}]
[2004,"OR","2004OR",0,0,0,0,0,0,0,0,{"$f":"INDEX('Coal codes'!$B$4:$B$53,MATCH(B742,'Coal codes'!$A$4:$A$53,0))","v":"Oregon"}]
[2004,"PA","2004PA",13946.173799999999,2096.4256800000003,0,53224.05,0,53224.05,12771.871999999999,0,{"$f":"INDEX('Coal codes'!$B$4:$B$53,MATCH(B743,'Coal codes'!$A$4:$A$53,0))","v":"Pennsylvania"}]
[2004,"RI","2004RI",0,0,0,0,0,0,0,0,{"$f":"INDEX('Coal codes'!$B$4:$B$53,MATCH(B744,'Coal codes'!$A$4:$A$53,0))","v":"Rhode Island"}]
[2004,"SC","2004SC",0,0,0,0,0,0,0,0,{"$f":"INDEX('Coal codes'!$B$4:$B$53,MATCH(B745,'Coal codes'!$A$4:$A$53,0))","v":"South Carolina"}]
[2004,"SD","2004SD",0,0,0,0,0,0,0,0,{"$f":"INDEX('Coal codes'!$B$4:$B$53,MATCH(B746,'Coal codes'!$A$4:$A$53,0))","v":"South Dakota"}]
[2004,"TN","2004TN",0,0,0,826.03300000000002,0,826.03300000000002,2060.605,0,{"$f":"INDEX('Coal codes'!$B$4:$B$53,MATCH(B747,'Coal codes'!$A$4:$A$53,0))","v":"Tennessee"}]
[2004,"TX","2004TX",0,0,0,0,0,0,45862.826000000001,0,{"$f":"INDEX('Coal codes'!$B$4:$B$53,MATCH(B748,'Coal codes'!$A$4:$A$53,0))","v":"Texas"}]
[2004,"UT","2004UT",4218.5160000000005,235.82600000000002,0,21746.089,0,21746.089,0,0,{"$f":"INDEX('Coal codes'!$B$4:$B$53,MATCH(B749,'Coal codes'!$A$4:$A$53,0))","v":"Utah"}]
[2004,"VT","2004VT",0,0,0,0,0,0,0,0,{"$f":"INDEX('Coal codes'!$B$4:$B$53,MATCH(B750,'Coal codes'!$A$4:$A$53,0))","v":"Vermont"}]
[2004,"VA","2004VA",7855.7142000000013,25047.262692524928,24979.133579999998,20437.148000000001,0,20437.148000000001,10983.172,0,{"$f":"INDEX('Coal codes'!$B$4:$B$53,MATCH(B751,'Coal codes'!$A$4:$A$53,0))","v":"Virginia"}]
[2004,"WA","2004WA",0,0,0,0,0,0,5653.2209999999995,0,{"$f":"INDEX('Coal codes'!$B$4:$B$53,MATCH(B752,'Coal codes'!$A$4:$A$53,0))","v":"Washington"}]
[2004,"WV","2004WV",18986.606800000001,3258.476032162228,1443.6025300000001,54850.646000000001,36081.803,90932.448999999993,52496.534,4564.2179999999998,{"$f":"INDEX('Coal codes'!$B$4:$B$53,MATCH(B753,'Coal codes'!$A$4:$A$53,0))","v":"West Virginia"}]
[2004,"WI","2004WI",0,0,0,0,0,0,0,0,{"$f":"INDEX('Coal codes'!$B$4:$B$53,MATCH(B754,'Coal codes'!$A$4:$A$53,0))","v":"Wisconsin"}]
[2004,"WY","2004WY",0,0,0,43.186999999999998,0,43.186999999999998,396449.90500000003,0,{"$f":"INDEX('Coal codes'!$B$4:$B$53,MATCH(B755,'Coal codes'!$A$4:$A$53,0))","v":"Wyoming"}]
[2005,"AL","2005AL",13362.212,15743.263720549452,15180.916019999999,13294.915999999999,0,13294.915999999999,8043.7659999999996,0,{"$f":"INDEX('Coal codes'!$B$4:$B$53,MATCH(B756,'Coal codes'!$A$4:$A$53,0))","v":"Alabama"}]
[2005,"AK","2005AK",0,0,0,0,0,0,1454.0139999999999,0,{"$f":"INDEX('Coal codes'!$B$4:$B$53,MATCH(B757,'Coal codes'!$A$4:$A$53,0))","v":"Alaska"}]
[2005,"AZ","2005AZ",0,0,0,0,0,0,12071.575999999999,0,{"$f":"INDEX('Coal codes'!$B$4:$B$53,MATCH(B758,'Coal codes'!$A$4:$A$53,0))","v":"Arizona"}]
[2005,"AR","2005AR",0,0,0,0,0,0,2.5630000000000002,0,{"$f":"INDEX('Coal codes'!$B$4:$B$53,MATCH(B759,'Coal codes'!$A$4:$A$53,0))","v":"Arkansas"}]
[2005,"CA","2005CA",0,0,0,0,0,0,0,0,{"$f":"INDEX('Coal codes'!$B$4:$B$53,MATCH(B760,'Coal codes'!$A$4:$A$53,0))","v":"California"}]
[2005,"CO","2005CO",6296.1597000000002,4748.4495666666671,170,28439.200000000001,0,28439.200000000001,10070.77,0,{"$f":"INDEX('Coal codes'!$B$4:$B$53,MATCH(B761,'Coal codes'!$A$4:$A$53,0))","v":"Colorado"}]
[2005,"CT","2005CT",0,0,0,0,0,0,0,0,{"$f":"INDEX('Coal codes'!$B$4:$B$53,MATCH(B762,'Coal codes'!$A$4:$A$53,0))","v":"Connecticut"}]
[2005,"DE","2005DE",0,0,0,0,0,0,0,0,{"$f":"INDEX('Coal codes'!$B$4:$B$53,MATCH(B763,'Coal codes'!$A$4:$A$53,0))","v":"Delaware"}]
[2005,"FL","2005FL",0,0,0,0,0,0,0,0,{"$f":"INDEX('Coal codes'!$B$4:$B$53,MATCH(B764,'Coal codes'!$A$4:$A$53,0))","v":"Florida"}]
[2005,"GA","2005GA",0,0,0,0,0,0,0,0,{"$f":"INDEX('Coal codes'!$B$4:$B$53,MATCH(B765,'Coal codes'!$A$4:$A$53,0))","v":"Georgia"}]
[2005,"HI","2005HI",0,0,0,0,0,0,0,0,{"$f":"INDEX('Coal codes'!$B$4:$B$53,MATCH(B766,'Coal codes'!$A$4:$A$53,0))","v":"Hawaii"}]
[2005,"ID","2005ID",0,0,0,0,0,0,0,0,{"$f":"INDEX('Coal codes'!$B$4:$B$53,MATCH(B767,'Coal codes'!$A$4:$A$53,0))","v":"Idaho"}]
[2005,"IL","2005IL",5458.94,0,0,26342.901999999998,0,26342.901999999998,5671.0609999999997,0,{"$f":"INDEX('Coal codes'!$B$4:$B$53,MATCH(B768,'Coal codes'!$A$4:$A$53,0))","v":"Illinois"}]
[2005,"IN","2005IN",1577.1285,0,0,11188.861000000001,0,11188.861000000001,23268.496999999999,0,{"$f":"INDEX('Coal codes'!$B$4:$B$53,MATCH(B769,'Coal codes'!$A$4:$A$53,0))","v":"Indiana"}]
[2005,"IA","2005IA",0,0,0,0,0,0,0,0,{"$f":"INDEX('Coal codes'!$B$4:$B$53,MATCH(B770,'Coal codes'!$A$4:$A$53,0))","v":"Iowa"}]
[2005,"KS","2005KS",0,0,0,0,0,0,170.65799999999999,0,{"$f":"INDEX('Coal codes'!$B$4:$B$53,MATCH(B771,'Coal codes'!$A$4:$A$53,0))","v":"Kansas"}]
[2005,"KY","2005KY",3161.8430999999996,0,0,52053.79,21648.052,73701.842000000004,41268.629999999997,4763.451,{"$f":"INDEX('Coal codes'!$B$4:$B$53,MATCH(B772,'Coal codes'!$A$4:$A$53,0))","v":"Kentucky"}]
[2005,"LA","2005LA",0,0,0,0,0,0,4160.9620000000004,0,{"$f":"INDEX('Coal codes'!$B$4:$B$53,MATCH(B773,'Coal codes'!$A$4:$A$53,0))","v":"Louisiana"}]
[2005,"ME","2005ME",0,0,0,0,0,0,0,0,{"$f":"INDEX('Coal codes'!$B$4:$B$53,MATCH(B774,'Coal codes'!$A$4:$A$53,0))","v":"Maine"}]
[2005,"MD","2005MD",0,0,0,3174.9050000000002,0,{"$f":"SUM(G775:H775)","v":3174.9050000000002},2008.548,0,{"$f":"INDEX('Coal codes'!$B$4:$B$53,MATCH(B775,'Coal codes'!$A$4:$A$53,0))","v":"Maryland"}]
[2005,"MA","2005MA",0,0,0,0,0,0,0,0,{"$f":"INDEX('Coal codes'!$B$4:$B$53,MATCH(B776,'Coal codes'!$A$4:$A$53,0))","v":"Massachusetts"}]
[2005,"MI","2005MI",0,0,0,0,0,0,0,0,{"$f":"INDEX('Coal codes'!$B$4:$B$53,MATCH(B777,'Coal codes'!$A$4:$A$53,0))","v":"Michigan"}]
[2005,"MN","2005MN",0,0,0,0,0,0,0,0,{"$f":"INDEX('Coal codes'!$B$4:$B$53,MATCH(B778,'Coal codes'!$A$4:$A$53,0))","v":"Minnesota"}]
[2005,"MS","2005MS",0,0,0,0,0,0,3555.3510000000001,0,{"$f":"INDEX('Coal codes'!$B$4:$B$53,MATCH(B779,'Coal codes'!$A$4:$A$53,0))","v":"Mississippi"}]
[2005,"MO","2005MO",0,0,0,0,0,0,597.61800000000005,0,{"$f":"INDEX('Coal codes'!$B$4:$B$53,MATCH(B780,'Coal codes'!$A$4:$A$53,0))","v":"Missouri"}]
[2005,"MT","2005MT",0,0,0,162.238,0,162.238,40191.745999999999,0,{"$f":"INDEX('Coal codes'!$B$4:$B$53,MATCH(B781,'Coal codes'!$A$4:$A$53,0))","v":"Montana"}]
[2005,"NE","2005NE",0,0,0,0,0,0,0,0,{"$f":"INDEX('Coal codes'!$B$4:$B$53,MATCH(B782,'Coal codes'!$A$4:$A$53,0))","v":"Nebraska"}]
[2005,"NV","2005NV",0,0,0,0,0,0,0,0,{"$f":"INDEX('Coal codes'!$B$4:$B$53,MATCH(B783,'Coal codes'!$A$4:$A$53,0))","v":"Nevada"}]
[2005,"NH","2005NH",0,0,0,0,0,0,0,0,{"$f":"INDEX('Coal codes'!$B$4:$B$53,MATCH(B784,'Coal codes'!$A$4:$A$53,0))","v":"New Hampshire"}]
[2005,"NJ","2005NJ",0,0,0,0,0,0,0,0,{"$f":"INDEX('Coal codes'!$B$4:$B$53,MATCH(B785,'Coal codes'!$A$4:$A$53,0))","v":"New Jersey"}]
[2005,"NM","2005NM",1411.1264999999999,940.7510000000002,2.25,7905.4769999999999,0,7905.4769999999999,20613.251,0,{"$f":"INDEX('Coal codes'!$B$4:$B$53,MATCH(B786,'Coal codes'!$A$4:$A$53,0))","v":"New Mexico"}]
[2005,"NY","2005NY",0,0,0,0,0,0,0,0,{"$f":"INDEX('Coal codes'!$B$4:$B$53,MATCH(B787,'Coal codes'!$A$4:$A$53,0))","v":"New York"}]
[2005,"NC","2005NC",0,0,0,0,0,0,0,0,{"$f":"INDEX('Coal codes'!$B$4:$B$53,MATCH(B788,'Coal codes'!$A$4:$A$53,0))","v":"North Carolina"}]
[2005,"ND","2005ND",0,0,0,0,0,0,29956.258999999998,0,{"$f":"INDEX('Coal codes'!$B$4:$B$53,MATCH(B789,'Coal codes'!$A$4:$A$53,0))","v":"North Dakota"}]
[2005,"OH","2005OH",1410.2139999999999,0,0,15822.618,0,15822.618,8895.6209999999992,0,{"$f":"INDEX('Coal codes'!$B$4:$B$53,MATCH(B790,'Coal codes'!$A$4:$A$53,0))","v":"Ohio"}]
[2005,"OK","2005OK",573.0865,0,0,465.459,0,465.459,1391.038,0,{"$f":"INDEX('Coal codes'!$B$4:$B$53,MATCH(B791,'Coal codes'!$A$4:$A$53,0))","v":"Oklahoma"}]
[2005,"OR","2005OR",0,0,0,0,0,0,0,0,{"$f":"INDEX('Coal codes'!$B$4:$B$53,MATCH(B792,'Coal codes'!$A$4:$A$53,0))","v":"Oregon"}]
[2005,"PA","2005PA",12332.839,2527.5136449411762,1095,54562.550999999999,0,54562.550999999999,12931.261,0,{"$f":"INDEX('Coal codes'!$B$4:$B$53,MATCH(B793,'Coal codes'!$A$4:$A$53,0))","v":"Pennsylvania"}]
[2005,"RI","2005RI",0,0,0,0,0,0,0,0,{"$f":"INDEX('Coal codes'!$B$4:$B$53,MATCH(B794,'Coal codes'!$A$4:$A$53,0))","v":"Rhode Island"}]
[2005,"SC","2005SC",0,0,0,0,0,0,0,0,{"$f":"INDEX('Coal codes'!$B$4:$B$53,MATCH(B795,'Coal codes'!$A$4:$A$53,0))","v":"South Carolina"}]
[2005,"SD","2005SD",0,0,0,0,0,0,0,0,{"$f":"INDEX('Coal codes'!$B$4:$B$53,MATCH(B796,'Coal codes'!$A$4:$A$53,0))","v":"South Dakota"}]
[2005,"TN","2005TN",0,0,0,1223.9590000000001,0,1223.9590000000001,1992.885,0,{"$f":"INDEX('Coal codes'!$B$4:$B$53,MATCH(B797,'Coal codes'!$A$4:$A$53,0))","v":"Tennessee"}]
[2005,"TX","2005TX",0,0,0,0,0,0,45938.678999999996,0,{"$f":"INDEX('Coal codes'!$B$4:$B$53,MATCH(B798,'Coal codes'!$A$4:$A$53,0))","v":"Texas"}]
[2005,"UT","2005UT",3181.9970000000003,740.76750000000004,0,24521.343000000001,0,24521.343000000001,0,0,{"$f":"INDEX('Coal codes'!$B$4:$B$53,MATCH(B799,'Coal codes'!$A$4:$A$53,0))","v":"Utah"}]
[2005,"VT","2005VT",0,0,0,0,0,0,0,0,{"$f":"INDEX('Coal codes'!$B$4:$B$53,MATCH(B800,'Coal codes'!$A$4:$A$53,0))","v":"Vermont"}]
[2005,"VA","2005VA",5874.5795999999982,16055.597495392147,16056.328040000002,16386.075000000001,0,16386.075000000001,11357.321,0,{"$f":"INDEX('Coal codes'!$B$4:$B$53,MATCH(B801,'Coal codes'!$A$4:$A$53,0))","v":"Virginia"}]
[2005,"WA","2005WA",0,0,0,0,0,0,5265.6719999999996,0,{"$f":"INDEX('Coal codes'!$B$4:$B$53,MATCH(B802,'Coal codes'!$A$4:$A$53,0))","v":"Washington"}]
[2005,"WV","2005WV",20187.38470000001,6722.6920934453783,4853.9629800000002,53418.639000000003,37590.449999999997,91009.089000000007,57603.303,5037.2550000000001,{"$f":"INDEX('Coal codes'!$B$4:$B$53,MATCH(B803,'Coal codes'!$A$4:$A$53,0))","v":"West Virginia"}]
[2005,"WI","2005WI",0,0,0,0,0,0,0,0,{"$f":"INDEX('Coal codes'!$B$4:$B$53,MATCH(B804,'Coal codes'!$A$4:$A$53,0))","v":"Wisconsin"}]
[2005,"WY","2005WY",0,0,0,410.065,0,410.065,403908.46899999998,0,{"$f":"INDEX('Coal codes'!$B$4:$B$53,MATCH(B805,'Coal codes'!$A$4:$A$53,0))","v":"Wyoming"}]
[2006,"AL","2006AL",12389.111992916667,18434.861540549453,17872.51384,10737.477000000001,0,10737.477000000001,8092.3850000000002,0,{"$f":"INDEX('Coal codes'!$B$4:$B$53,MATCH(B806,'Coal codes'!$A$4:$A$53,0))","v":"Alabama"}]
[2006,"AK","2006AK",0,0,0,0,0,0,1425.0229999999999,0,{"$f":"INDEX('Coal codes'!$B$4:$B$53,MATCH(B807,'Coal codes'!$A$4:$A$53,0))","v":"Alaska"}]
[2006,"AZ","2006AZ",0,0,0,0,0,0,8216.2549999999992,0,{"$f":"INDEX('Coal codes'!$B$4:$B$53,MATCH(B808,'Coal codes'!$A$4:$A$53,0))","v":"Arizona"}]
[2006,"AR","2006AR",0,0,0,17.565000000000001,0,17.565000000000001,5.1870000000000003,0,{"$f":"INDEX('Coal codes'!$B$4:$B$53,MATCH(B809,'Coal codes'!$A$4:$A$53,0))","v":"Arkansas"}]
[2006,"CA","2006CA",0,0,0,0,0,0,0,0,{"$f":"INDEX('Coal codes'!$B$4:$B$53,MATCH(B810,'Coal codes'!$A$4:$A$53,0))","v":"California"}]
[2006,"CO","2006CO",6494.6727600000013,4184.0936716666665,170,26659.156999999999,0,26659.156999999999,9662.6260000000002,0,{"$f":"INDEX('Coal codes'!$B$4:$B$53,MATCH(B811,'Coal codes'!$A$4:$A$53,0))","v":"Colorado"}]
[2006,"CT","2006CT",0,0,0,0,0,0,0,0,{"$f":"INDEX('Coal codes'!$B$4:$B$53,MATCH(B812,'Coal codes'!$A$4:$A$53,0))","v":"Connecticut"}]
[2006,"DE","2006DE",0,0,0,0,0,0,0,0,{"$f":"INDEX('Coal codes'!$B$4:$B$53,MATCH(B813,'Coal codes'!$A$4:$A$53,0))","v":"Delaware"}]
[2006,"FL","2006FL",0,0,0,0,0,0,0,0,{"$f":"INDEX('Coal codes'!$B$4:$B$53,MATCH(B814,'Coal codes'!$A$4:$A$53,0))","v":"Florida"}]
[2006,"GA","2006GA",0,0,0,0,0,0,0,0,{"$f":"INDEX('Coal codes'!$B$4:$B$53,MATCH(B815,'Coal codes'!$A$4:$A$53,0))","v":"Georgia"}]
[2006,"HI","2006HI",0,0,0,0,0,0,0,0,{"$f":"INDEX('Coal codes'!$B$4:$B$53,MATCH(B816,'Coal codes'!$A$4:$A$53,0))","v":"Hawaii"}]
[2006,"ID","2006ID",0,0,0,0,0,0,0,0,{"$f":"INDEX('Coal codes'!$B$4:$B$53,MATCH(B817,'Coal codes'!$A$4:$A$53,0))","v":"Idaho"}]
[2006,"IL","2006IL",5807.6155345000006,0,0,27120.28,0,27120.28,5608.52,0,{"$f":"INDEX('Coal codes'!$B$4:$B$53,MATCH(B818,'Coal codes'!$A$4:$A$53,0))","v":"Illinois"}]
[2006,"IN","2006IN",1820.3830937500002,0,0,10736.428,0,10736.428,24382.632000000001,0,{"$f":"INDEX('Coal codes'!$B$4:$B$53,MATCH(B819,'Coal codes'!$A$4:$A$53,0))","v":"Indiana"}]
[2006,"IA","2006IA",0,0,0,0,0,0,0,0,{"$f":"INDEX('Coal codes'!$B$4:$B$53,MATCH(B820,'Coal codes'!$A$4:$A$53,0))","v":"Iowa"}]
[2006,"KS","2006KS",0,0,0,0,0,0,425.99700000000001,0,{"$f":"INDEX('Coal codes'!$B$4:$B$53,MATCH(B821,'Coal codes'!$A$4:$A$53,0))","v":"Kansas"}]
[2006,"KY","2006KY",4712.2356932499997,0,0,49311.964,23870.41,73182.373999999996,44295.14,3370.4389999999999,{"$f":"INDEX('Coal codes'!$B$4:$B$53,MATCH(B822,'Coal codes'!$A$4:$A$53,0))","v":"Kentucky"}]
[2006,"LA","2006LA",0,0,0,0,0,0,4114.0159999999996,0,{"$f":"INDEX('Coal codes'!$B$4:$B$53,MATCH(B823,'Coal codes'!$A$4:$A$53,0))","v":"Louisiana"}]
[2006,"ME","2006ME",0,0,0,0,0,0,0,0,{"$f":"INDEX('Coal codes'!$B$4:$B$53,MATCH(B824,'Coal codes'!$A$4:$A$53,0))","v":"Maine"}]
[2006,"MD","2006MD",0,0,0,2826.3820000000001,0,2826.3820000000001,2227.64,0,{"$f":"INDEX('Coal codes'!$B$4:$B$53,MATCH(B825,'Coal codes'!$A$4:$A$53,0))","v":"Maryland"}]
[2006,"MA","2006MA",0,0,0,0,0,0,0,0,{"$f":"INDEX('Coal codes'!$B$4:$B$53,MATCH(B826,'Coal codes'!$A$4:$A$53,0))","v":"Massachusetts"}]
[2006,"MI","2006MI",0,0,0,0,0,0,0,0,{"$f":"INDEX('Coal codes'!$B$4:$B$53,MATCH(B827,'Coal codes'!$A$4:$A$53,0))","v":"Michigan"}]
[2006,"MN","2006MN",0,0,0,0,0,0,0,0,{"$f":"INDEX('Coal codes'!$B$4:$B$53,MATCH(B828,'Coal codes'!$A$4:$A$53,0))","v":"Minnesota"}]
[2006,"MS","2006MS",0,0,0,0,0,0,3797.4549999999999,0,{"$f":"INDEX('Coal codes'!$B$4:$B$53,MATCH(B829,'Coal codes'!$A$4:$A$53,0))","v":"Mississippi"}]
[2006,"MO","2006MO",0,0,0,0,0,0,394.1,0,{"$f":"INDEX('Coal codes'!$B$4:$B$53,MATCH(B830,'Coal codes'!$A$4:$A$53,0))","v":"Missouri"}]
[2006,"MT","2006MT",0,0,0,320.84699999999998,0,320.84699999999998,41501.957999999999,0,{"$f":"INDEX('Coal codes'!$B$4:$B$53,MATCH(B831,'Coal codes'!$A$4:$A$53,0))","v":"Montana"}]
[2006,"NE","2006NE",0,0,0,0,0,0,0,0,{"$f":"INDEX('Coal codes'!$B$4:$B$53,MATCH(B832,'Coal codes'!$A$4:$A$53,0))","v":"Nebraska"}]
[2006,"NV","2006NV",0,0,0,0,0,0,0,0,{"$f":"INDEX('Coal codes'!$B$4:$B$53,MATCH(B833,'Coal codes'!$A$4:$A$53,0))","v":"Nevada"}]
[2006,"NH","2006NH",0,0,0,0,0,0,0,0,{"$f":"INDEX('Coal codes'!$B$4:$B$53,MATCH(B834,'Coal codes'!$A$4:$A$53,0))","v":"New Hampshire"}]
[2006,"NJ","2006NJ",0,0,0,0,0,0,0,0,{"$f":"INDEX('Coal codes'!$B$4:$B$53,MATCH(B835,'Coal codes'!$A$4:$A$53,0))","v":"New Jersey"}]
[2006,"NM","2006NM",1427.27702,951.51801333333333,0,6993.143,0,6993.143,18919.38,0,{"$f":"INDEX('Coal codes'!$B$4:$B$53,MATCH(B836,'Coal codes'!$A$4:$A$53,0))","v":"New Mexico"}]
[2006,"NY","2006NY",0,0,0,0,0,0,0,0,{"$f":"INDEX('Coal codes'!$B$4:$B$53,MATCH(B837,'Coal codes'!$A$4:$A$53,0))","v":"New York"}]
[2006,"NC","2006NC",0,0,0,0,0,0,0,0,{"$f":"INDEX('Coal codes'!$B$4:$B$53,MATCH(B838,'Coal codes'!$A$4:$A$53,0))","v":"North Carolina"}]
[2006,"ND","2006ND",0,0,0,0,0,{"$f":"SUM(G839:H839)","v":0},30411.056,0,{"$f":"INDEX('Coal codes'!$B$4:$B$53,MATCH(B839,'Coal codes'!$A$4:$A$53,0))","v":"North Dakota"}]
[2006,"OH","2006OH",1644.68562,0,0,15126.040999999999,0,15126.040999999999,7596.0079999999998,0,{"$f":"INDEX('Coal codes'!$B$4:$B$53,MATCH(B840,'Coal codes'!$A$4:$A$53,0))","v":"Ohio"}]
[2006,"OK","2006OK",334.77144100000004,0,0,464.08699999999999,0,464.08699999999999,1534.277,0,{"$f":"INDEX('Coal codes'!$B$4:$B$53,MATCH(B841,'Coal codes'!$A$4:$A$53,0))","v":"Oklahoma"}]
[2006,"OR","2006OR",0,0,0,0,0,0,0,0,{"$f":"INDEX('Coal codes'!$B$4:$B$53,MATCH(B842,'Coal codes'!$A$4:$A$53,0))","v":"Oregon"}]
[2006,"PA","2006PA",12982.601493,2615.9674779411766,1277.5,53800.927000000003,0,53800.927000000003,12227.888000000001,0,{"$f":"INDEX('Coal codes'!$B$4:$B$53,MATCH(B843,'Coal codes'!$A$4:$A$53,0))","v":"Pennsylvania"}]
[2006,"RI","2006RI",0,0,0,0,0,0,0,0,{"$f":"INDEX('Coal codes'!$B$4:$B$53,MATCH(B844,'Coal codes'!$A$4:$A$53,0))","v":"Rhode Island"}]
[2006,"SC","2006SC",0,0,0,0,0,0,0,0,{"$f":"INDEX('Coal codes'!$B$4:$B$53,MATCH(B845,'Coal codes'!$A$4:$A$53,0))","v":"South Carolina"}]
[2006,"SD","2006SD",0,0,0,0,0,0,0,0,{"$f":"INDEX('Coal codes'!$B$4:$B$53,MATCH(B846,'Coal codes'!$A$4:$A$53,0))","v":"South Dakota"}]
[2006,"TN","2006TN",0,0,0,1191.1289999999999,0,1191.1289999999999,1612.8150000000001,0,{"$f":"INDEX('Coal codes'!$B$4:$B$53,MATCH(B847,'Coal codes'!$A$4:$A$53,0))","v":"Tennessee"}]
[2006,"TX","2006TX",0,0,0,0,0,0,45547.616999999998,0,{"$f":"INDEX('Coal codes'!$B$4:$B$53,MATCH(B848,'Coal codes'!$A$4:$A$53,0))","v":"Texas"}]
[2006,"UT","2006UT",3737.1879149999995,782.67193333333353,0,26017.697,0,26017.697,0,0,{"$f":"INDEX('Coal codes'!$B$4:$B$53,MATCH(B849,'Coal codes'!$A$4:$A$53,0))","v":"Utah"}]
[2006,"VT","2006VT",0,0,0,0,0,0,0,0,{"$f":"INDEX('Coal codes'!$B$4:$B$53,MATCH(B850,'Coal codes'!$A$4:$A$53,0))","v":"Vermont"}]
[2006,"VA","2006VA",6674.1506405,23341.138999999999,23341.138999999999,18681.339,0,18681.339,11058.63,0,{"$f":"INDEX('Coal codes'!$B$4:$B$53,MATCH(B851,'Coal codes'!$A$4:$A$53,0))","v":"Virginia"}]
[2006,"WA","2006WA",0,0,0,0,0,0,2579.549,0,{"$f":"INDEX('Coal codes'!$B$4:$B$53,MATCH(B852,'Coal codes'!$A$4:$A$53,0))","v":"Washington"}]
[2006,"WV","2006WV",20650.972160000005,3692.8994530882346,3574.21621,48554.146999999997,36073.644,84627.790999999997,61421.358,6324.4660000000003,{"$f":"INDEX('Coal codes'!$B$4:$B$53,MATCH(B853,'Coal codes'!$A$4:$A$53,0))","v":"West Virginia"}]
[2006,"WI","2006WI",0,0,0,0,0,0,0,0,{"$f":"INDEX('Coal codes'!$B$4:$B$53,MATCH(B854,'Coal codes'!$A$4:$A$53,0))","v":"Wisconsin"}]
[2006,"WY","2006WY",0,0,0,519.15099999999995,0,519.15099999999995,446223.10200000001,0,{"$f":"INDEX('Coal codes'!$B$4:$B$53,MATCH(B855,'Coal codes'!$A$4:$A$53,0))","v":"Wyoming"}]
[2007,"AL","2007AL",15258.142775000002,14134.339927472527,13773.288399999999,11461.986000000001,0,11461.986000000001,7865.317,0,{"$f":"INDEX('Coal codes'!$B$4:$B$53,MATCH(B856,'Coal codes'!$A$4:$A$53,0))","v":"Alabama"}]
[2007,"AK","2007AK",0,0,0,0,0,0,1323.56,0,{"$f":"INDEX('Coal codes'!$B$4:$B$53,MATCH(B857,'Coal codes'!$A$4:$A$53,0))","v":"Alaska"}]
[2007,"AZ","2007AZ",0,0,0,0,0,0,7982.5839999999998,0,{"$f":"INDEX('Coal codes'!$B$4:$B$53,MATCH(B858,'Coal codes'!$A$4:$A$53,0))","v":"Arizona"}]
[2007,"AR","2007AR",135.51783875000001,0,0,80.28,0,80.28,2.3969999999999998,0,{"$f":"INDEX('Coal codes'!$B$4:$B$53,MATCH(B859,'Coal codes'!$A$4:$A$53,0))","v":"Arkansas"}]
[2007,"CA","2007CA",0,0,0,0,0,0,0,0,{"$f":"INDEX('Coal codes'!$B$4:$B$53,MATCH(B860,'Coal codes'!$A$4:$A$53,0))","v":"California"}]
[2007,"CO","2007CO",7166.7254832499993,3745.2348875000002,170,27609.687000000002,0,27609.687000000002,8774.2160000000003,0,{"$f":"INDEX('Coal codes'!$B$4:$B$53,MATCH(B861,'Coal codes'!$A$4:$A$53,0))","v":"Colorado"}]
[2007,"CT","2007CT",0,0,0,0,0,0,0,0,{"$f":"INDEX('Coal codes'!$B$4:$B$53,MATCH(B862,'Coal codes'!$A$4:$A$53,0))","v":"Connecticut"}]
[2007,"DE","2007DE",0,0,0,0,0,0,0,0,{"$f":"INDEX('Coal codes'!$B$4:$B$53,MATCH(B863,'Coal codes'!$A$4:$A$53,0))","v":"Delaware"}]
[2007,"FL","2007FL",0,0,0,0,0,0,0,0,{"$f":"INDEX('Coal codes'!$B$4:$B$53,MATCH(B864,'Coal codes'!$A$4:$A$53,0))","v":"Florida"}]
[2007,"GA","2007GA",0,0,0,0,0,0,0,0,{"$f":"INDEX('Coal codes'!$B$4:$B$53,MATCH(B865,'Coal codes'!$A$4:$A$53,0))","v":"Georgia"}]
[2007,"HI","2007HI",0,0,0,0,0,0,0,0,{"$f":"INDEX('Coal codes'!$B$4:$B$53,MATCH(B866,'Coal codes'!$A$4:$A$53,0))","v":"Hawaii"}]
[2007,"ID","2007ID",0,0,0,0,0,0,0,0,{"$f":"INDEX('Coal codes'!$B$4:$B$53,MATCH(B867,'Coal codes'!$A$4:$A$53,0))","v":"Idaho"}]
[2007,"IL","2007IL",3482.8197155000003,0,0,26807.222000000002,0,26807.222000000002,5638.0230000000001,0,{"$f":"INDEX('Coal codes'!$B$4:$B$53,MATCH(B868,'Coal codes'!$A$4:$A$53,0))","v":"Illinois"}]
[2007,"IN","2007IN",2179.3727990000002,0,0,10604.067999999999,0,10604.067999999999,24399.030999999999,0,{"$f":"INDEX('Coal codes'!$B$4:$B$53,MATCH(B869,'Coal codes'!$A$4:$A$53,0))","v":"Indiana"}]
[2007,"IA","2007IA",0,0,0,0,0,0,0,0,{"$f":"INDEX('Coal codes'!$B$4:$B$53,MATCH(B870,'Coal codes'!$A$4:$A$53,0))","v":"Iowa"}]
[2007,"KS","2007KS",0,0,0,0,0,0,420.43599999999998,0,{"$f":"INDEX('Coal codes'!$B$4:$B$53,MATCH(B871,'Coal codes'!$A$4:$A$53,0))","v":"Kansas"}]
[2007,"KY","2007KY",5126.3688512499984,0,0,44703.364999999998,24513.208999999999,69216.573999999993,42365.088000000003,3698.64,{"$f":"INDEX('Coal codes'!$B$4:$B$53,MATCH(B872,'Coal codes'!$A$4:$A$53,0))","v":"Kentucky"}]
[2007,"LA","2007LA",0,0,0,0,0,0,3126.5859999999998,0,{"$f":"INDEX('Coal codes'!$B$4:$B$53,MATCH(B873,'Coal codes'!$A$4:$A$53,0))","v":"Louisiana"}]
[2007,"ME","2007ME",0,0,0,0,0,0,0,0,{"$f":"INDEX('Coal codes'!$B$4:$B$53,MATCH(B874,'Coal codes'!$A$4:$A$53,0))","v":"Maine"}]
[2007,"MD","2007MD",0,0,0,610.69600000000003,0,610.69600000000003,1690.489,0,{"$f":"INDEX('Coal codes'!$B$4:$B$53,MATCH(B875,'Coal codes'!$A$4:$A$53,0))","v":"Maryland"}]
[2007,"MA","2007MA",0,0,0,0,0,0,0,0,{"$f":"INDEX('Coal codes'!$B$4:$B$53,MATCH(B876,'Coal codes'!$A$4:$A$53,0))","v":"Massachusetts"}]
[2007,"MI","2007MI",0,0,0,0,0,0,0,0,{"$f":"INDEX('Coal codes'!$B$4:$B$53,MATCH(B877,'Coal codes'!$A$4:$A$53,0))","v":"Michigan"}]
[2007,"MN","2007MN",0,0,0,0,0,0,0,0,{"$f":"INDEX('Coal codes'!$B$4:$B$53,MATCH(B878,'Coal codes'!$A$4:$A$53,0))","v":"Minnesota"}]
[2007,"MS","2007MS",0,0,0,0,0,0,3545.2660000000001,0,{"$f":"INDEX('Coal codes'!$B$4:$B$53,MATCH(B879,'Coal codes'!$A$4:$A$53,0))","v":"Mississippi"}]
[2007,"MO","2007MO",0,0,0,0,0,0,236.107,0,{"$f":"INDEX('Coal codes'!$B$4:$B$53,MATCH(B880,'Coal codes'!$A$4:$A$53,0))","v":"Missouri"}]
[2007,"MT","2007MT",0,0,0,47.164999999999999,0,47.164999999999999,43342.667999999998,0,{"$f":"INDEX('Coal codes'!$B$4:$B$53,MATCH(B881,'Coal codes'!$A$4:$A$53,0))","v":"Montana"}]
[2007,"NE","2007NE",0,0,0,0,0,0,0,0,{"$f":"INDEX('Coal codes'!$B$4:$B$53,MATCH(B882,'Coal codes'!$A$4:$A$53,0))","v":"Nebraska"}]
[2007,"NV","2007NV",0,0,0,0,0,0,0,0,{"$f":"INDEX('Coal codes'!$B$4:$B$53,MATCH(B883,'Coal codes'!$A$4:$A$53,0))","v":"Nevada"}]
[2007,"NH","2007NH",0,0,0,0,0,0,0,0,{"$f":"INDEX('Coal codes'!$B$4:$B$53,MATCH(B884,'Coal codes'!$A$4:$A$53,0))","v":"New Hampshire"}]
[2007,"NJ","2007NJ",0,0,0,0,0,0,0,0,{"$f":"INDEX('Coal codes'!$B$4:$B$53,MATCH(B885,'Coal codes'!$A$4:$A$53,0))","v":"New Jersey"}]
[2007,"NM","2007NM",1276.5332062499999,851.02213749999987,0,6898.04,0,6898.04,17552.789000000001,0,{"$f":"INDEX('Coal codes'!$B$4:$B$53,MATCH(B886,'Coal codes'!$A$4:$A$53,0))","v":"New Mexico"}]
[2007,"NY","2007NY",0,0,0,0,0,0,0,0,{"$f":"INDEX('Coal codes'!$B$4:$B$53,MATCH(B887,'Coal codes'!$A$4:$A$53,0))","v":"New York"}]
[2007,"NC","2007NC",0,0,0,0,0,0,0,0,{"$f":"INDEX('Coal codes'!$B$4:$B$53,MATCH(B888,'Coal codes'!$A$4:$A$53,0))","v":"North Carolina"}]
[2007,"ND","2007ND",0,0,0,0,0,0,29606.266,0,{"$f":"INDEX('Coal codes'!$B$4:$B$53,MATCH(B889,'Coal codes'!$A$4:$A$53,0))","v":"North Dakota"}]
[2007,"OH","2007OH",1023.1559687500001,0,0,15792.616,0,15792.616,6782.77,0,{"$f":"INDEX('Coal codes'!$B$4:$B$53,MATCH(B890,'Coal codes'!$A$4:$A$53,0))","v":"Ohio"}]
[2007,"OK","2007OK",522.45282100000009,0,0,514.28800000000001,0,514.28800000000001,1133.6469999999999,0,{"$f":"INDEX('Coal codes'!$B$4:$B$53,MATCH(B891,'Coal codes'!$A$4:$A$53,0))","v":"Oklahoma"}]
[2007,"OR","2007OR",0,0,0,0,0,0,0,0,{"$f":"INDEX('Coal codes'!$B$4:$B$53,MATCH(B892,'Coal codes'!$A$4:$A$53,0))","v":"Oregon"}]
[2007,"PA","2007PA",14239.53684445,2740.9947362500006,1461.4,53544.148999999998,0,53544.148999999998,11503.89,0,{"$f":"INDEX('Coal codes'!$B$4:$B$53,MATCH(B893,'Coal codes'!$A$4:$A$53,0))","v":"Pennsylvania"}]
[2007,"RI","2007RI",0,0,0,0,0,0,0,0,{"$f":"INDEX('Coal codes'!$B$4:$B$53,MATCH(B894,'Coal codes'!$A$4:$A$53,0))","v":"Rhode Island"}]
[2007,"SC","2007SC",0,0,0,0,0,0,0,0,{"$f":"INDEX('Coal codes'!$B$4:$B$53,MATCH(B895,'Coal codes'!$A$4:$A$53,0))","v":"South Carolina"}]
[2007,"SD","2007SD",0,0,0,0,0,0,0,0,{"$f":"INDEX('Coal codes'!$B$4:$B$53,MATCH(B896,'Coal codes'!$A$4:$A$53,0))","v":"South Dakota"}]
[2007,"TN","2007TN",0,0,0,891.64800000000002,0,891.64800000000002,1762.8030000000001,0,{"$f":"INDEX('Coal codes'!$B$4:$B$53,MATCH(B897,'Coal codes'!$A$4:$A$53,0))","v":"Tennessee"}]
[2007,"TX","2007TX",0,0,0,0,0,0,41948.406000000003,0,{"$f":"INDEX('Coal codes'!$B$4:$B$53,MATCH(B898,'Coal codes'!$A$4:$A$53,0))","v":"Texas"}]
[2007,"UT","2007UT",2742.9607105,662.65558583333336,512.71900000000005,24306.580999999998,0,24306.580999999998,0,0,{"$f":"INDEX('Coal codes'!$B$4:$B$53,MATCH(B899,'Coal codes'!$A$4:$A$53,0))","v":"Utah"}]
[2007,"VT","2007VT",0,0,0,0,0,0,0,0,{"$f":"INDEX('Coal codes'!$B$4:$B$53,MATCH(B900,'Coal codes'!$A$4:$A$53,0))","v":"Vermont"}]
[2007,"VA","2007VA",7521.39006075,19087.624219999998,19087.624219999998,15730.584999999999,0,15730.584999999999,9615.4979999999996,0,{"$f":"INDEX('Coal codes'!$B$4:$B$53,MATCH(B901,'Coal codes'!$A$4:$A$53,0))","v":"Virginia"}]
[2007,"WA","2007WA",0,0,0,0,0,0,0,0,{"$f":"INDEX('Coal codes'!$B$4:$B$53,MATCH(B902,'Coal codes'!$A$4:$A$53,0))","v":"Washington"}]
[2007,"WV","2007WV",20173.045692499993,3731.4691672941181,2509.3002900000001,48776.944000000003,36075.57,{"$f":"SUM(G903:H903)","v":84852.513999999996},62483.315000000002,6143.6859999999997,{"$f":"INDEX('Coal codes'!$B$4:$B$53,MATCH(B903,'Coal codes'!$A$4:$A$53,0))","v":"West Virginia"}]
[2007,"WI","2007WI",0,0,0,0,0,0,0,0,{"$f":"INDEX('Coal codes'!$B$4:$B$53,MATCH(B904,'Coal codes'!$A$4:$A$53,0))","v":"Wisconsin"}]
[2007,"WY","2007WY",0,0,0,2821.835,0,2821.835,450746.424,0,{"$f":"INDEX('Coal codes'!$B$4:$B$53,MATCH(B905,'Coal codes'!$A$4:$A$53,0))","v":"Wyoming"}]
[2008,"AL","2008AL",18488.894781250001,11217.896791428573,10439.748219999999,12281.035,0,12281.035,8330.3439999999991,0,{"$f":"INDEX('Coal codes'!$B$4:$B$53,MATCH(B906,'Coal codes'!$A$4:$A$53,0))","v":"Alabama"}]
[2008,"AK","2008AK",0,0,0,0,0,0,1477.0150000000001,0,{"$f":"INDEX('Coal codes'!$B$4:$B$53,MATCH(B907,'Coal codes'!$A$4:$A$53,0))","v":"Alaska"}]
[2008,"AZ","2008AZ",0,0,0,0,0,0,8024.973,0,{"$f":"INDEX('Coal codes'!$B$4:$B$53,MATCH(B908,'Coal codes'!$A$4:$A$53,0))","v":"Arizona"}]
[2008,"AR","2008AR",226.66052874999997,0,0,67.391999999999996,0,67.391999999999996,1.7889999999999999,0,{"$f":"INDEX('Coal codes'!$B$4:$B$53,MATCH(B909,'Coal codes'!$A$4:$A$53,0))","v":"Arkansas"}]
[2008,"CA","2008CA",0,0,0,0,0,0,0,0,{"$f":"INDEX('Coal codes'!$B$4:$B$53,MATCH(B910,'Coal codes'!$A$4:$A$53,0))","v":"California"}]
[2008,"CO","2008CO",7282.4112887499996,3663.8566166666669,170,24369.613000000001,0,24369.613000000001,7658.8469999999998,0,{"$f":"INDEX('Coal codes'!$B$4:$B$53,MATCH(B911,'Coal codes'!$A$4:$A$53,0))","v":"Colorado"}]
[2008,"CT","2008CT",0,0,0,0,0,0,0,0,{"$f":"INDEX('Coal codes'!$B$4:$B$53,MATCH(B912,'Coal codes'!$A$4:$A$53,0))","v":"Connecticut"}]
[2008,"DE","2008DE",0,0,0,0,0,0,0,0,{"$f":"INDEX('Coal codes'!$B$4:$B$53,MATCH(B913,'Coal codes'!$A$4:$A$53,0))","v":"Delaware"}]
[2008,"FL","2008FL",0,0,0,0,0,0,0,0,{"$f":"INDEX('Coal codes'!$B$4:$B$53,MATCH(B914,'Coal codes'!$A$4:$A$53,0))","v":"Florida"}]
[2008,"GA","2008GA",0,0,0,0,0,0,0,0,{"$f":"INDEX('Coal codes'!$B$4:$B$53,MATCH(B915,'Coal codes'!$A$4:$A$53,0))","v":"Georgia"}]
[2008,"HI","2008HI",0,0,0,0,0,0,0,0,{"$f":"INDEX('Coal codes'!$B$4:$B$53,MATCH(B916,'Coal codes'!$A$4:$A$53,0))","v":"Hawaii"}]
[2008,"ID","2008ID",0,0,0,0,0,0,0,0,{"$f":"INDEX('Coal codes'!$B$4:$B$53,MATCH(B917,'Coal codes'!$A$4:$A$53,0))","v":"Idaho"}]
[2008,"IL","2008IL",6656.1069264999996,0,0,27054.886999999999,0,27054.886999999999,5863.1570000000002,0,{"$f":"INDEX('Coal codes'!$B$4:$B$53,MATCH(B918,'Coal codes'!$A$4:$A$53,0))","v":"Illinois"}]
[2008,"IN","2008IN",3275.0539324999995,0,0,12223.085999999999,0,12223.085999999999,23670.026000000002,0,{"$f":"INDEX('Coal codes'!$B$4:$B$53,MATCH(B919,'Coal codes'!$A$4:$A$53,0))","v":"Indiana"}]
[2008,"IA","2008IA",0,0,0,0,0,0,0,0,{"$f":"INDEX('Coal codes'!$B$4:$B$53,MATCH(B920,'Coal codes'!$A$4:$A$53,0))","v":"Iowa"}]
[2008,"KS","2008KS",0,0,0,0,0,0,229.24600000000001,0,{"$f":"INDEX('Coal codes'!$B$4:$B$53,MATCH(B921,'Coal codes'!$A$4:$A$53,0))","v":"Kansas"}]
[2008,"KY","2008KY",6119.6901302499991,0,0,44142.877999999997,25330.864000000001,69473.741999999998,46115.586000000003,4733.38,{"$f":"INDEX('Coal codes'!$B$4:$B$53,MATCH(B922,'Coal codes'!$A$4:$A$53,0))","v":"Kentucky"}]
[2008,"LA","2008LA",0,0,0,0,0,0,3843.2429999999999,0,{"$f":"INDEX('Coal codes'!$B$4:$B$53,MATCH(B923,'Coal codes'!$A$4:$A$53,0))","v":"Louisiana"}]
[2008,"ME","2008ME",0,0,0,0,0,0,0,0,{"$f":"INDEX('Coal codes'!$B$4:$B$53,MATCH(B924,'Coal codes'!$A$4:$A$53,0))","v":"Maine"}]
[2008,"MD","2008MD",0,0,0,753.13800000000003,0,753.13800000000003,2106.8270000000002,0,{"$f":"INDEX('Coal codes'!$B$4:$B$53,MATCH(B925,'Coal codes'!$A$4:$A$53,0))","v":"Maryland"}]
[2008,"MA","2008MA",0,0,0,0,0,0,0,0,{"$f":"INDEX('Coal codes'!$B$4:$B$53,MATCH(B926,'Coal codes'!$A$4:$A$53,0))","v":"Massachusetts"}]
[2008,"MI","2008MI",0,0,0,0,0,0,0,0,{"$f":"INDEX('Coal codes'!$B$4:$B$53,MATCH(B927,'Coal codes'!$A$4:$A$53,0))","v":"Michigan"}]
[2008,"MN","2008MN",0,0,0,0,0,0,0,0,{"$f":"INDEX('Coal codes'!$B$4:$B$53,MATCH(B928,'Coal codes'!$A$4:$A$53,0))","v":"Minnesota"}]
[2008,"MS","2008MS",0,0,0,0,0,0,2841.5120000000002,0,{"$f":"INDEX('Coal codes'!$B$4:$B$53,MATCH(B929,'Coal codes'!$A$4:$A$53,0))","v":"Mississippi"}]
[2008,"MO","2008MO",0,0,0,0,0,0,247.04900000000001,0,{"$f":"INDEX('Coal codes'!$B$4:$B$53,MATCH(B930,'Coal codes'!$A$4:$A$53,0))","v":"Missouri"}]
[2008,"MT","2008MT",0,0,0,168.25200000000001,0,168.25200000000001,44617.447999999997,0,{"$f":"INDEX('Coal codes'!$B$4:$B$53,MATCH(B931,'Coal codes'!$A$4:$A$53,0))","v":"Montana"}]
[2008,"NE","2008NE",0,0,0,0,0,0,0,0,{"$f":"INDEX('Coal codes'!$B$4:$B$53,MATCH(B932,'Coal codes'!$A$4:$A$53,0))","v":"Nebraska"}]
[2008,"NV","2008NV",0,0,0,0,0,0,0,0,{"$f":"INDEX('Coal codes'!$B$4:$B$53,MATCH(B933,'Coal codes'!$A$4:$A$53,0))","v":"Nevada"}]
[2008,"NH","2008NH",0,0,0,0,0,0,0,0,{"$f":"INDEX('Coal codes'!$B$4:$B$53,MATCH(B934,'Coal codes'!$A$4:$A$53,0))","v":"New Hampshire"}]
[2008,"NJ","2008NJ",0,0,0,0,0,0,0,0,{"$f":"INDEX('Coal codes'!$B$4:$B$53,MATCH(B935,'Coal codes'!$A$4:$A$53,0))","v":"New Jersey"}]
[2008,"NM","2008NM",1743.195835,1162.130556666667,0,7046.1989999999996,0,7046.1989999999996,18598.651999999998,0,{"$f":"INDEX('Coal codes'!$B$4:$B$53,MATCH(B936,'Coal codes'!$A$4:$A$53,0))","v":"New Mexico"}]
[2008,"NY","2008NY",0,0,0,0,0,0,0,0,{"$f":"INDEX('Coal codes'!$B$4:$B$53,MATCH(B937,'Coal codes'!$A$4:$A$53,0))","v":"New York"}]
[2008,"NC","2008NC",0,0,0,0,0,0,0,0,{"$f":"INDEX('Coal codes'!$B$4:$B$53,MATCH(B938,'Coal codes'!$A$4:$A$53,0))","v":"North Carolina"}]
[2008,"ND","2008ND",0,0,0,0,0,0,29627.097000000002,0,{"$f":"INDEX('Coal codes'!$B$4:$B$53,MATCH(B939,'Coal codes'!$A$4:$A$53,0))","v":"North Dakota"}]
[2008,"OH","2008OH",1900.2536924999999,0,0,17053,0,17053,9197.9240000000009,0,{"$f":"INDEX('Coal codes'!$B$4:$B$53,MATCH(B940,'Coal codes'!$A$4:$A$53,0))","v":"Ohio"}]
[2008,"OK","2008OK",737.80698500000005,0,0,440.577,0,440.577,1022.919,0,{"$f":"INDEX('Coal codes'!$B$4:$B$53,MATCH(B941,'Coal codes'!$A$4:$A$53,0))","v":"Oklahoma"}]
[2008,"OR","2008OR",0,0,0,0,0,0,0,0,{"$f":"INDEX('Coal codes'!$B$4:$B$53,MATCH(B942,'Coal codes'!$A$4:$A$53,0))","v":"Oregon"}]
[2008,"PA","2008PA",15763.427685000002,2868.2394661764706,1825,53318.402999999998,0,53318.402999999998,12095.241,0,{"$f":"INDEX('Coal codes'!$B$4:$B$53,MATCH(B943,'Coal codes'!$A$4:$A$53,0))","v":"Pennsylvania"}]
[2008,"RI","2008RI",0,0,0,0,0,0,0,0,{"$f":"INDEX('Coal codes'!$B$4:$B$53,MATCH(B944,'Coal codes'!$A$4:$A$53,0))","v":"Rhode Island"}]
[2008,"SC","2008SC",0,0,0,0,0,0,0,0,{"$f":"INDEX('Coal codes'!$B$4:$B$53,MATCH(B945,'Coal codes'!$A$4:$A$53,0))","v":"South Carolina"}]
[2008,"SD","2008SD",0,0,0,0,0,0,0,0,{"$f":"INDEX('Coal codes'!$B$4:$B$53,MATCH(B946,'Coal codes'!$A$4:$A$53,0))","v":"South Dakota"}]
[2008,"TN","2008TN",0,0,0,788.74800000000005,0,788.74800000000005,1544.028,0,{"$f":"INDEX('Coal codes'!$B$4:$B$53,MATCH(B947,'Coal codes'!$A$4:$A$53,0))","v":"Tennessee"}]
[2008,"TX","2008TX",0,0,0,0,0,0,39016.927000000003,0,{"$f":"INDEX('Coal codes'!$B$4:$B$53,MATCH(B948,'Coal codes'!$A$4:$A$53,0))","v":"Texas"}]
[2008,"UT","2008UT",3836.3431042500001,1260.4969899999999,400,24365.168000000001,0,24365.168000000001,0,0,{"$f":"INDEX('Coal codes'!$B$4:$B$53,MATCH(B949,'Coal codes'!$A$4:$A$53,0))","v":"Utah"}]
[2008,"VT","2008VT",0,0,0,0,0,0,0,0,{"$f":"INDEX('Coal codes'!$B$4:$B$53,MATCH(B950,'Coal codes'!$A$4:$A$53,0))","v":"Vermont"}]
[2008,"VA","2008VA",6698.0335744999984,24794.818169999999,24794.818169999999,15805.509,0,15805.509,8906.8970000000008,0,{"$f":"INDEX('Coal codes'!$B$4:$B$53,MATCH(B951,'Coal codes'!$A$4:$A$53,0))","v":"Virginia"}]
[2008,"WA","2008WA",0,0,0,0,0,0,0,0,{"$f":"INDEX('Coal codes'!$B$4:$B$53,MATCH(B952,'Coal codes'!$A$4:$A$53,0))","v":"Washington"}]
[2008,"WV","2008WV",27161.21258641667,3599.4733509558823,2168.7369599999997,54260.017999999996,34109.457000000002,88369.475000000006,62395.214,7013.3980000000001,{"$f":"INDEX('Coal codes'!$B$4:$B$53,MATCH(B953,'Coal codes'!$A$4:$A$53,0))","v":"West Virginia"}]
[2008,"WI","2008WI",0,0,0,0,0,0,0,0,{"$f":"INDEX('Coal codes'!$B$4:$B$53,MATCH(B954,'Coal codes'!$A$4:$A$53,0))","v":"Wisconsin"}]
[2008,"WY","2008WY",0,0,0,3501.1469999999999,0,3501.1469999999999,464143.02100000001,0,{"$f":"INDEX('Coal codes'!$B$4:$B$53,MATCH(B955,'Coal codes'!$A$4:$A$53,0))","v":"Wyoming"}]
[2009,"AL","2009AL",21682.1358,12057.60009,13253.839090000001,11504.736000000001,0,11504.736000000001,7291.4539999999997,0,{"$f":"INDEX('Coal codes'!$B$4:$B$53,MATCH(B956,'Coal codes'!$A$4:$A$53,0))","v":"Alabama"}]
[2009,"AK","2009AK",0,0,0,0,0,0,1860.3630000000001,0,{"$f":"INDEX('Coal codes'!$B$4:$B$53,MATCH(B957,'Coal codes'!$A$4:$A$53,0))","v":"Alaska"}]
[2009,"AZ","2009AZ",0,0,0,0,0,0,7474.0290000000005,0,{"$f":"INDEX('Coal codes'!$B$4:$B$53,MATCH(B958,'Coal codes'!$A$4:$A$53,0))","v":"Arizona"}]
[2009,"AR","2009AR",116.78202375000001,0,0,3.98,0,3.98,0.65800000000000003,0,{"$f":"INDEX('Coal codes'!$B$4:$B$53,MATCH(B959,'Coal codes'!$A$4:$A$53,0))","v":"Arkansas"}]
[2009,"CA","2009CA",0,0,0,0,0,0,0,0,{"$f":"INDEX('Coal codes'!$B$4:$B$53,MATCH(B960,'Coal codes'!$A$4:$A$53,0))","v":"California"}]
[2009,"CO","2009CO",7526.1993512499985,4780.3394520833335,170,22199.435000000001,0,22199.435000000001,6067.7719999999999,0,{"$f":"INDEX('Coal codes'!$B$4:$B$53,MATCH(B961,'Coal codes'!$A$4:$A$53,0))","v":"Colorado"}]
[2009,"CT","2009CT",0,0,0,0,0,0,0,0,{"$f":"INDEX('Coal codes'!$B$4:$B$53,MATCH(B962,'Coal codes'!$A$4:$A$53,0))","v":"Connecticut"}]
[2009,"DE","2009DE",0,0,0,0,0,0,0,0,{"$f":"INDEX('Coal codes'!$B$4:$B$53,MATCH(B963,'Coal codes'!$A$4:$A$53,0))","v":"Delaware"}]
[2009,"FL","2009FL",0,0,0,0,0,0,0,0,{"$f":"INDEX('Coal codes'!$B$4:$B$53,MATCH(B964,'Coal codes'!$A$4:$A$53,0))","v":"Florida"}]
[2009,"GA","2009GA",0,0,0,0,0,0,0,0,{"$f":"INDEX('Coal codes'!$B$4:$B$53,MATCH(B965,'Coal codes'!$A$4:$A$53,0))","v":"Georgia"}]
[2009,"HI","2009HI",0,0,0,0,0,0,0,0,{"$f":"INDEX('Coal codes'!$B$4:$B$53,MATCH(B966,'Coal codes'!$A$4:$A$53,0))","v":"Hawaii"}]
[2009,"ID","2009ID",0,0,0,0,0,{"$f":"SUM(G967:H967)","v":0},0,0,{"$f":"INDEX('Coal codes'!$B$4:$B$53,MATCH(B967,'Coal codes'!$A$4:$A$53,0))","v":"Idaho"}]
[2009,"IL","2009IL",6237.3160024999997,0,0,28406.602999999999,0,28406.602999999999,5341.8249999999998,0,{"$f":"INDEX('Coal codes'!$B$4:$B$53,MATCH(B968,'Coal codes'!$A$4:$A$53,0))","v":"Illinois"}]
[2009,"IN","2009IN",4022.8127500000001,0,0,12797.413,0,12797.413,22857.859,0,{"$f":"INDEX('Coal codes'!$B$4:$B$53,MATCH(B969,'Coal codes'!$A$4:$A$53,0))","v":"Indiana"}]
[2009,"IA","2009IA",0,0,0,0,0,0,0,0,{"$f":"INDEX('Coal codes'!$B$4:$B$53,MATCH(B970,'Coal codes'!$A$4:$A$53,0))","v":"Iowa"}]
[2009,"KS","2009KS",0,0,0,0,0,0,184.81200000000001,0,{"$f":"INDEX('Coal codes'!$B$4:$B$53,MATCH(B971,'Coal codes'!$A$4:$A$53,0))","v":"Kansas"}]
[2009,"KY","2009KY",8539.3396162499976,0,0,37170.417000000001,25981.589,63152.006000000001,37548.688999999998,6637.3590000000004,{"$f":"INDEX('Coal codes'!$B$4:$B$53,MATCH(B972,'Coal codes'!$A$4:$A$53,0))","v":"Kentucky"}]
[2009,"LA","2009LA",0,0,0,0,0,0,3657.4160000000002,0,{"$f":"INDEX('Coal codes'!$B$4:$B$53,MATCH(B973,'Coal codes'!$A$4:$A$53,0))","v":"Louisiana"}]
[2009,"ME","2009ME",0,0,0,0,0,0,0,0,{"$f":"INDEX('Coal codes'!$B$4:$B$53,MATCH(B974,'Coal codes'!$A$4:$A$53,0))","v":"Maine"}]
[2009,"MD","2009MD",0,0,0,494.73200000000003,0,494.73200000000003,1810.7270000000001,0,{"$f":"INDEX('Coal codes'!$B$4:$B$53,MATCH(B975,'Coal codes'!$A$4:$A$53,0))","v":"Maryland"}]
[2009,"MA","2009MA",0,0,0,0,0,0,0,0,{"$f":"INDEX('Coal codes'!$B$4:$B$53,MATCH(B976,'Coal codes'!$A$4:$A$53,0))","v":"Massachusetts"}]
[2009,"MI","2009MI",0,0,0,0,0,0,0,0,{"$f":"INDEX('Coal codes'!$B$4:$B$53,MATCH(B977,'Coal codes'!$A$4:$A$53,0))","v":"Michigan"}]
[2009,"MN","2009MN",0,0,0,0,0,0,0,0,{"$f":"INDEX('Coal codes'!$B$4:$B$53,MATCH(B978,'Coal codes'!$A$4:$A$53,0))","v":"Minnesota"}]
[2009,"MS","2009MS",0,0,0,0,0,0,3439.9870000000001,0,{"$f":"INDEX('Coal codes'!$B$4:$B$53,MATCH(B979,'Coal codes'!$A$4:$A$53,0))","v":"Mississippi"}]
[2009,"MO","2009MO",0,0,0,0,0,0,452.45600000000002,0,{"$f":"INDEX('Coal codes'!$B$4:$B$53,MATCH(B980,'Coal codes'!$A$4:$A$53,0))","v":"Missouri"}]
[2009,"MT","2009MT",0,0,0,775.53200000000004,0,775.53200000000004,38710.305,0,{"$f":"INDEX('Coal codes'!$B$4:$B$53,MATCH(B981,'Coal codes'!$A$4:$A$53,0))","v":"Montana"}]
[2009,"NE","2009NE",0,0,0,0,0,0,0,0,{"$f":"INDEX('Coal codes'!$B$4:$B$53,MATCH(B982,'Coal codes'!$A$4:$A$53,0))","v":"Nebraska"}]
[2009,"NV","2009NV",0,0,0,0,0,0,0,0,{"$f":"INDEX('Coal codes'!$B$4:$B$53,MATCH(B983,'Coal codes'!$A$4:$A$53,0))","v":"Nevada"}]
[2009,"NH","2009NH",0,0,0,0,0,0,0,0,{"$f":"INDEX('Coal codes'!$B$4:$B$53,MATCH(B984,'Coal codes'!$A$4:$A$53,0))","v":"New Hampshire"}]
[2009,"NJ","2009NJ",0,0,0,0,0,0,0,0,{"$f":"INDEX('Coal codes'!$B$4:$B$53,MATCH(B985,'Coal codes'!$A$4:$A$53,0))","v":"New Jersey"}]
[2009,"NM","2009NM",2007.07103375,1338.0473558333333,0,6499.1949999999997,0,6499.1949999999997,18624.901000000002,0,{"$f":"INDEX('Coal codes'!$B$4:$B$53,MATCH(B986,'Coal codes'!$A$4:$A$53,0))","v":"New Mexico"}]
[2009,"NY","2009NY",0,0,0,0,0,0,0,0,{"$f":"INDEX('Coal codes'!$B$4:$B$53,MATCH(B987,'Coal codes'!$A$4:$A$53,0))","v":"New York"}]
[2009,"NC","2009NC",0,0,0,0,0,0,0,0,{"$f":"INDEX('Coal codes'!$B$4:$B$53,MATCH(B988,'Coal codes'!$A$4:$A$53,0))","v":"North Carolina"}]
[2009,"ND","2009ND",0,0,0,0,0,0,29945.292000000001,0,{"$f":"INDEX('Coal codes'!$B$4:$B$53,MATCH(B989,'Coal codes'!$A$4:$A$53,0))","v":"North Dakota"}]
[2009,"OH","2009OH",2531.1581087499999,0,0,17306.79,0,17306.79,10193.772999999999,0,{"$f":"INDEX('Coal codes'!$B$4:$B$53,MATCH(B990,'Coal codes'!$A$4:$A$53,0))","v":"Ohio"}]
[2009,"OK","2009OK",499.95163249999996,0,0,384.42899999999997,0,384.42899999999997,571.77599999999995,0,{"$f":"INDEX('Coal codes'!$B$4:$B$53,MATCH(B991,'Coal codes'!$A$4:$A$53,0))","v":"Oklahoma"}]
[2009,"OR","2009OR",0,0,0,0,0,0,0,0,{"$f":"INDEX('Coal codes'!$B$4:$B$53,MATCH(B992,'Coal codes'!$A$4:$A$53,0))","v":"Oregon"}]
[2009,"PA","2009PA",18665.623898999991,2958.4573991176485,2080.5,48679.489000000001,0,48679.489000000001,9299.9629999999997,0,{"$f":"INDEX('Coal codes'!$B$4:$B$53,MATCH(B993,'Coal codes'!$A$4:$A$53,0))","v":"Pennsylvania"}]
[2009,"RI","2009RI",0,0,0,0,0,0,0,0,{"$f":"INDEX('Coal codes'!$B$4:$B$53,MATCH(B994,'Coal codes'!$A$4:$A$53,0))","v":"Rhode Island"}]
[2009,"SC","2009SC",0,0,0,0,0,0,0,0,{"$f":"INDEX('Coal codes'!$B$4:$B$53,MATCH(B995,'Coal codes'!$A$4:$A$53,0))","v":"South Carolina"}]
[2009,"SD","2009SD",0,0,0,0,0,0,0,0,{"$f":"INDEX('Coal codes'!$B$4:$B$53,MATCH(B996,'Coal codes'!$A$4:$A$53,0))","v":"South Dakota"}]
[2009,"TN","2009TN",0,0,0,842.34400000000005,0,842.34400000000005,1153.7550000000001,0,{"$f":"INDEX('Coal codes'!$B$4:$B$53,MATCH(B997,'Coal codes'!$A$4:$A$53,0))","v":"Tennessee"}]
[2009,"TX","2009TX",0,0,0,0,0,0,35093.267999999996,0,{"$f":"INDEX('Coal codes'!$B$4:$B$53,MATCH(B998,'Coal codes'!$A$4:$A$53,0))","v":"Texas"}]
[2009,"UT","2009UT",3604.2383987499998,1105.6648133333333,0,21717.588,0,21717.588,0,0,{"$f":"INDEX('Coal codes'!$B$4:$B$53,MATCH(B999,'Coal codes'!$A$4:$A$53,0))","v":"Utah"}]
[2009,"VT","2009VT",0,0,0,0,0,0,0,0,{"$f":"INDEX('Coal codes'!$B$4:$B$53,MATCH(B1000,'Coal codes'!$A$4:$A$53,0))","v":"Vermont"}]
[2009,"VA","2009VA",5926.8798549999992,22181.442430000003,22181.442430000003,12938.244000000001,0,12938.244000000001,8080.9340000000002,0,{"$f":"INDEX('Coal codes'!$B$4:$B$53,MATCH(B1001,'Coal codes'!$A$4:$A$53,0))","v":"Virginia"}]
[2009,"WA","2009WA",0,0,0,0,0,0,0,0,{"$f":"INDEX('Coal codes'!$B$4:$B$53,MATCH(B1002,'Coal codes'!$A$4:$A$53,0))","v":"Washington"}]
[2009,"WV","2009WV",32278.007496250004,4319.2250687185879,2977.4557421009413,47738.938999999998,33148.283000000003,80887.222000000009,50993.466,5246.634,{"$f":"INDEX('Coal codes'!$B$4:$B$53,MATCH(B1003,'Coal codes'!$A$4:$A$53,0))","v":"West Virginia"}]
[2009,"WI","2009WI",0,0,0,0,0,0,0,0,{"$f":"INDEX('Coal codes'!$B$4:$B$53,MATCH(B1004,'Coal codes'!$A$4:$A$53,0))","v":"Wisconsin"}]
[2009,"WY","2009WY",0,0,0,3471.8440000000001,0,3471.8440000000001,427634.78700000001,0,{"$f":"INDEX('Coal codes'!$B$4:$B$53,MATCH(B1005,'Coal codes'!$A$4:$A$53,0))","v":"Wyoming"}]
[2010,"AL","2010AL",19314.221374999997,16749.446939999998,16389.156940000001,12513.392,0,12513.392,7401.5479999999998,0,{"$f":"INDEX('Coal codes'!$B$4:$B$53,MATCH(B1006,'Coal codes'!$A$4:$A$53,0))","v":"Alabama"}]
[2010,"AK","2010AK",0,0,0,0,0,0,2151.0940000000001,0,{"$f":"INDEX('Coal codes'!$B$4:$B$53,MATCH(B1007,'Coal codes'!$A$4:$A$53,0))","v":"Alaska"}]
[2010,"AZ","2010AZ",0,0,0,0,0,0,7752.277,0,{"$f":"INDEX('Coal codes'!$B$4:$B$53,MATCH(B1008,'Coal codes'!$A$4:$A$53,0))","v":"Arizona"}]
[2010,"AR","2010AR",124.784375,0,0,31.143999999999998,0,31.143999999999998,1.157,0,{"$f":"INDEX('Coal codes'!$B$4:$B$53,MATCH(B1009,'Coal codes'!$A$4:$A$53,0))","v":"Arkansas"}]
[2010,"CA","2010CA",0,0,0,0,0,0,0,0,{"$f":"INDEX('Coal codes'!$B$4:$B$53,MATCH(B1010,'Coal codes'!$A$4:$A$53,0))","v":"California"}]
[2010,"CO","2010CO",9546.5246299999999,5404.6229611132185,170,20084.685000000001,0,20084.685000000001,5077.8410000000003,0,{"$f":"INDEX('Coal codes'!$B$4:$B$53,MATCH(B1011,'Coal codes'!$A$4:$A$53,0))","v":"Colorado"}]
[2010,"CT","2010CT",0,0,0,0,0,0,0,0,{"$f":"INDEX('Coal codes'!$B$4:$B$53,MATCH(B1012,'Coal codes'!$A$4:$A$53,0))","v":"Connecticut"}]
[2010,"DE","2010DE",0,0,0,0,0,0,0,0,{"$f":"INDEX('Coal codes'!$B$4:$B$53,MATCH(B1013,'Coal codes'!$A$4:$A$53,0))","v":"Delaware"}]
[2010,"FL","2010FL",0,0,0,0,0,0,0,0,{"$f":"INDEX('Coal codes'!$B$4:$B$53,MATCH(B1014,'Coal codes'!$A$4:$A$53,0))","v":"Florida"}]
[2010,"GA","2010GA",0,0,0,0,0,0,0,0,{"$f":"INDEX('Coal codes'!$B$4:$B$53,MATCH(B1015,'Coal codes'!$A$4:$A$53,0))","v":"Georgia"}]
[2010,"HI","2010HI",0,0,0,0,0,0,0,0,{"$f":"INDEX('Coal codes'!$B$4:$B$53,MATCH(B1016,'Coal codes'!$A$4:$A$53,0))","v":"Hawaii"}]
[2010,"ID","2010ID",0,0,0,0,0,0,0,0,{"$f":"INDEX('Coal codes'!$B$4:$B$53,MATCH(B1017,'Coal codes'!$A$4:$A$53,0))","v":"Idaho"}]
[2010,"IL","2010IL",7640.3537030000007,0,0,28286.164000000001,0,28286.164000000001,4955.2280000000001,0,{"$f":"INDEX('Coal codes'!$B$4:$B$53,MATCH(B1018,'Coal codes'!$A$4:$A$53,0))","v":"Illinois"}]
[2010,"IN","2010IN",4301.1567150000001,0,0,14286.655000000001,0,14286.655000000001,20663.313999999998,0,{"$f":"INDEX('Coal codes'!$B$4:$B$53,MATCH(B1019,'Coal codes'!$A$4:$A$53,0))","v":"Indiana"}]
[2010,"IA","2010IA",0,0,0,0,0,0,0,0,{"$f":"INDEX('Coal codes'!$B$4:$B$53,MATCH(B1020,'Coal codes'!$A$4:$A$53,0))","v":"Iowa"}]
[2010,"KS","2010KS",0,0,0,0,0,0,132.691,0,{"$f":"INDEX('Coal codes'!$B$4:$B$53,MATCH(B1021,'Coal codes'!$A$4:$A$53,0))","v":"Kansas"}]
[2010,"KY","2010KY",8917.4270400000005,0,0,34388.021000000001,29604.898000000001,63992.919000000002,33674.606,7292.5929999999998,{"$f":"INDEX('Coal codes'!$B$4:$B$53,MATCH(B1022,'Coal codes'!$A$4:$A$53,0))","v":"Kentucky"}]
[2010,"LA","2010LA",0,0,0,0,0,0,3944.5419999999999,0,{"$f":"INDEX('Coal codes'!$B$4:$B$53,MATCH(B1023,'Coal codes'!$A$4:$A$53,0))","v":"Louisiana"}]
[2010,"ME","2010ME",0,0,0,0,0,0,0,0,{"$f":"INDEX('Coal codes'!$B$4:$B$53,MATCH(B1024,'Coal codes'!$A$4:$A$53,0))","v":"Maine"}]
[2010,"MD","2010MD",0,0,0,677.01599999999996,0,677.01599999999996,1908.14,0,{"$f":"INDEX('Coal codes'!$B$4:$B$53,MATCH(B1025,'Coal codes'!$A$4:$A$53,0))","v":"Maryland"}]
[2010,"MA","2010MA",0,0,0,0,0,0,0,0,{"$f":"INDEX('Coal codes'!$B$4:$B$53,MATCH(B1026,'Coal codes'!$A$4:$A$53,0))","v":"Massachusetts"}]
[2010,"MI","2010MI",0,0,0,0,0,0,0,0,{"$f":"INDEX('Coal codes'!$B$4:$B$53,MATCH(B1027,'Coal codes'!$A$4:$A$53,0))","v":"Michigan"}]
[2010,"MN","2010MN",0,0,0,0,0,0,0,0,{"$f":"INDEX('Coal codes'!$B$4:$B$53,MATCH(B1028,'Coal codes'!$A$4:$A$53,0))","v":"Minnesota"}]
[2010,"MS","2010MS",0,0,0,0,0,0,4003.5050000000001,0,{"$f":"INDEX('Coal codes'!$B$4:$B$53,MATCH(B1029,'Coal codes'!$A$4:$A$53,0))","v":"Mississippi"}]
[2010,"MO","2010MO",0,0,0,0,0,0,458.47699999999998,0,{"$f":"INDEX('Coal codes'!$B$4:$B$53,MATCH(B1030,'Coal codes'!$A$4:$A$53,0))","v":"Missouri"}]
[2010,"MT","2010MT",0,0,0,4388.8519999999999,0,{"$f":"SUM(G1031:H1031)","v":4388.8519999999999},40343.313000000002,0,{"$f":"INDEX('Coal codes'!$B$4:$B$53,MATCH(B1031,'Coal codes'!$A$4:$A$53,0))","v":"Montana"}]
[2010,"NE","2010NE",0,0,0,0,0,0,0,0,{"$f":"INDEX('Coal codes'!$B$4:$B$53,MATCH(B1032,'Coal codes'!$A$4:$A$53,0))","v":"Nebraska"}]
[2010,"NV","2010NV",0,0,0,0,0,0,0,0,{"$f":"INDEX('Coal codes'!$B$4:$B$53,MATCH(B1033,'Coal codes'!$A$4:$A$53,0))","v":"Nevada"}]
[2010,"NH","2010NH",0,0,0,0,0,0,0,0,{"$f":"INDEX('Coal codes'!$B$4:$B$53,MATCH(B1034,'Coal codes'!$A$4:$A$53,0))","v":"New Hampshire"}]
[2010,"NJ","2010NJ",0,0,0,0,0,0,0,0,{"$f":"INDEX('Coal codes'!$B$4:$B$53,MATCH(B1035,'Coal codes'!$A$4:$A$53,0))","v":"New Jersey"}]
[2010,"NM","2010NM",2130.719255,1420.4795033333335,0,4931.8909999999996,0,4931.8909999999996,16058.697,0,{"$f":"INDEX('Coal codes'!$B$4:$B$53,MATCH(B1036,'Coal codes'!$A$4:$A$53,0))","v":"New Mexico"}]
[2010,"NY","2010NY",0,0,0,0,0,0,0,0,{"$f":"INDEX('Coal codes'!$B$4:$B$53,MATCH(B1037,'Coal codes'!$A$4:$A$53,0))","v":"New York"}]
[2010,"NC","2010NC",0,0,0,0,0,0,0,0,{"$f":"INDEX('Coal codes'!$B$4:$B$53,MATCH(B1038,'Coal codes'!$A$4:$A$53,0))","v":"North Carolina"}]
[2010,"ND","2010ND",0,0,0,0,0,0,28948.944,0,{"$f":"INDEX('Coal codes'!$B$4:$B$53,MATCH(B1039,'Coal codes'!$A$4:$A$53,0))","v":"North Dakota"}]
[2010,"OH","2010OH",1805.8882349999999,0,0,17462.989000000001,0,17462.989000000001,9243.5669999999991,0,{"$f":"INDEX('Coal codes'!$B$4:$B$53,MATCH(B1040,'Coal codes'!$A$4:$A$53,0))","v":"Ohio"}]
[2010,"OK","2010OK",306.13515999999998,0,0,393.89100000000002,0,393.89100000000002,616.52,0,{"$f":"INDEX('Coal codes'!$B$4:$B$53,MATCH(B1041,'Coal codes'!$A$4:$A$53,0))","v":"Oklahoma"}]
[2010,"OR","2010OR",0,0,0,0,0,0,0,0,{"$f":"INDEX('Coal codes'!$B$4:$B$53,MATCH(B1042,'Coal codes'!$A$4:$A$53,0))","v":"Oregon"}]
[2010,"PA","2010PA",18319.671339000004,3609.8970434503303,2080.5,47667.491000000002,0,47667.491000000002,10925.62,0,{"$f":"INDEX('Coal codes'!$B$4:$B$53,MATCH(B1043,'Coal codes'!$A$4:$A$53,0))","v":"Pennsylvania"}]
[2010,"RI","2010RI",0,0,0,0,0,0,0,0,{"$f":"INDEX('Coal codes'!$B$4:$B$53,MATCH(B1044,'Coal codes'!$A$4:$A$53,0))","v":"Rhode Island"}]
[2010,"SC","2010SC",0,0,0,0,0,0,0,0,{"$f":"INDEX('Coal codes'!$B$4:$B$53,MATCH(B1045,'Coal codes'!$A$4:$A$53,0))","v":"South Carolina"}]
[2010,"SD","2010SD",0,0,0,0,0,0,0,0,{"$f":"INDEX('Coal codes'!$B$4:$B$53,MATCH(B1046,'Coal codes'!$A$4:$A$53,0))","v":"South Dakota"}]
[2010,"TN","2010TN",0,0,0,554.71500000000003,0,554.71500000000003,1225.463,0,{"$f":"INDEX('Coal codes'!$B$4:$B$53,MATCH(B1047,'Coal codes'!$A$4:$A$53,0))","v":"Tennessee"}]
[2010,"TX","2010TX",0,0,0,0,0,0,40982.000999999997,0,{"$f":"INDEX('Coal codes'!$B$4:$B$53,MATCH(B1048,'Coal codes'!$A$4:$A$53,0))","v":"Texas"}]
[2010,"UT","2010UT",4068.8188849999997,891.32918351405658,0,19350.951000000001,0,19350.951000000001,0,0,{"$f":"INDEX('Coal codes'!$B$4:$B$53,MATCH(B1049,'Coal codes'!$A$4:$A$53,0))","v":"Utah"}]
[2010,"VT","2010VT",0,0,0,0,0,0,0,0,{"$f":"INDEX('Coal codes'!$B$4:$B$53,MATCH(B1050,'Coal codes'!$A$4:$A$53,0))","v":"Vermont"}]
[2010,"VA","2010VA",6778.4111500000008,27514.745350000001,27514.745350000001,14168.584999999999,0,14168.584999999999,8216.8169999999991,0,{"$f":"INDEX('Coal codes'!$B$4:$B$53,MATCH(B1051,'Coal codes'!$A$4:$A$53,0))","v":"Virginia"}]
[2010,"WA","2010WA",0,0,0,0,0,0,0,0,{"$f":"INDEX('Coal codes'!$B$4:$B$53,MATCH(B1052,'Coal codes'!$A$4:$A$53,0))","v":"Washington"}]
[2010,"WV","2010WV",33725.638082999998,3014.9845096532845,3166.1030044279582,47242.237000000001,37301.892999999996,84544.13,46671.372000000003,4004.2469999999998,{"$f":"INDEX('Coal codes'!$B$4:$B$53,MATCH(B1053,'Coal codes'!$A$4:$A$53,0))","v":"West Virginia"}]
[2010,"WI","2010WI",0,0,0,0,0,0,0,0,{"$f":"INDEX('Coal codes'!$B$4:$B$53,MATCH(B1054,'Coal codes'!$A$4:$A$53,0))","v":"Wisconsin"}]
[2010,"WY","2010WY",0,0,0,3819.1439999999998,0,3819.1439999999998,438703.228,0,{"$f":"INDEX('Coal codes'!$B$4:$B$53,MATCH(B1055,'Coal codes'!$A$4:$A$53,0))","v":"Wyoming"}]
[2011,"AL","2011AL",16937.8708075,12151.093769519999,12138.6026224,10878.707,0,10878.707,8192.3430000000008,0,{"$f":"INDEX('Coal codes'!$B$4:$B$53,MATCH(B1056,'Coal codes'!$A$4:$A$53,0))","v":"Alabama"}]
[2011,"AK","2011AK",0,0,0,0,0,0,2148.9259999999999,0,{"$f":"INDEX('Coal codes'!$B$4:$B$53,MATCH(B1057,'Coal codes'!$A$4:$A$53,0))","v":"Alaska"}]
[2011,"AZ","2011AZ",0,0,0,0,0,0,8110.942,0,{"$f":"INDEX('Coal codes'!$B$4:$B$53,MATCH(B1058,'Coal codes'!$A$4:$A$53,0))","v":"Arizona"}]
[2011,"AR","2011AR",330.25355124999999,0,0,126.628,0,126.628,6.7190000000000003,0,{"$f":"INDEX('Coal codes'!$B$4:$B$53,MATCH(B1059,'Coal codes'!$A$4:$A$53,0))","v":"Arkansas"}]
[2011,"CA","2011CA",0,0,0,0,0,0,0,0,{"$f":"INDEX('Coal codes'!$B$4:$B$53,MATCH(B1060,'Coal codes'!$A$4:$A$53,0))","v":"California"}]
[2011,"CO","2011CO",6302.2943087499989,3120.3512172222222,0,21507.613000000001,0,21507.613000000001,5382.0190000000002,0,{"$f":"INDEX('Coal codes'!$B$4:$B$53,MATCH(B1061,'Coal codes'!$A$4:$A$53,0))","v":"Colorado"}]
[2011,"CT","2011CT",0,0,0,0,0,0,0,0,{"$f":"INDEX('Coal codes'!$B$4:$B$53,MATCH(B1062,'Coal codes'!$A$4:$A$53,0))","v":"Connecticut"}]
[2011,"DE","2011DE",0,0,0,0,0,0,0,0,{"$f":"INDEX('Coal codes'!$B$4:$B$53,MATCH(B1063,'Coal codes'!$A$4:$A$53,0))","v":"Delaware"}]
[2011,"FL","2011FL",0,0,0,0,0,0,0,0,{"$f":"INDEX('Coal codes'!$B$4:$B$53,MATCH(B1064,'Coal codes'!$A$4:$A$53,0))","v":"Florida"}]
[2011,"GA","2011GA",0,0,0,0,0,0,0,0,{"$f":"INDEX('Coal codes'!$B$4:$B$53,MATCH(B1065,'Coal codes'!$A$4:$A$53,0))","v":"Georgia"}]
[2011,"HI","2011HI",0,0,0,0,0,0,0,0,{"$f":"INDEX('Coal codes'!$B$4:$B$53,MATCH(B1066,'Coal codes'!$A$4:$A$53,0))","v":"Hawaii"}]
[2011,"ID","2011ID",0,0,0,0,0,0,0,0,{"$f":"INDEX('Coal codes'!$B$4:$B$53,MATCH(B1067,'Coal codes'!$A$4:$A$53,0))","v":"Idaho"}]
[2011,"IL","2011IL",6510.3839532500006,0,0,32717.169000000002,0,32717.169000000002,5053.2280000000001,0,{"$f":"INDEX('Coal codes'!$B$4:$B$53,MATCH(B1068,'Coal codes'!$A$4:$A$53,0))","v":"Illinois"}]
[2011,"IN","2011IN",4499.7417175,0,0,16468.928,0,16468.928,20956.755000000001,0,{"$f":"INDEX('Coal codes'!$B$4:$B$53,MATCH(B1069,'Coal codes'!$A$4:$A$53,0))","v":"Indiana"}]
[2011,"IA","2011IA",0,0,0,0,0,0,0,0,{"$f":"INDEX('Coal codes'!$B$4:$B$53,MATCH(B1070,'Coal codes'!$A$4:$A$53,0))","v":"Iowa"}]
[2011,"KS","2011KS",0,0,0,0,0,0,37.256999999999998,0,{"$f":"INDEX('Coal codes'!$B$4:$B$53,MATCH(B1071,'Coal codes'!$A$4:$A$53,0))","v":"Kansas"}]
[2011,"KY","2011KY",7054.635867500001,0,0,33345.317000000003,31902.825000000001,65248.142000000007,34585.071000000004,8932.9369999999999,{"$f":"INDEX('Coal codes'!$B$4:$B$53,MATCH(B1072,'Coal codes'!$A$4:$A$53,0))","v":"Kentucky"}]
[2011,"LA","2011LA",0,0,0,0,0,0,3864.7,0,{"$f":"INDEX('Coal codes'!$B$4:$B$53,MATCH(B1073,'Coal codes'!$A$4:$A$53,0))","v":"Louisiana"}]
[2011,"ME","2011ME",0,0,0,0,0,0,0,0,{"$f":"INDEX('Coal codes'!$B$4:$B$53,MATCH(B1074,'Coal codes'!$A$4:$A$53,0))","v":"Maine"}]
[2011,"MD","2011MD",0,0,0,872.64800000000002,0,872.64800000000002,2064.11,0,{"$f":"INDEX('Coal codes'!$B$4:$B$53,MATCH(B1075,'Coal codes'!$A$4:$A$53,0))","v":"Maryland"}]
[2011,"MA","2011MA",0,0,0,0,0,0,0,0,{"$f":"INDEX('Coal codes'!$B$4:$B$53,MATCH(B1076,'Coal codes'!$A$4:$A$53,0))","v":"Massachusetts"}]
[2011,"MI","2011MI",0,0,0,0,0,0,0,0,{"$f":"INDEX('Coal codes'!$B$4:$B$53,MATCH(B1077,'Coal codes'!$A$4:$A$53,0))","v":"Michigan"}]
[2011,"MN","2011MN",0,0,0,0,0,0,0,0,{"$f":"INDEX('Coal codes'!$B$4:$B$53,MATCH(B1078,'Coal codes'!$A$4:$A$53,0))","v":"Minnesota"}]
[2011,"MS","2011MS",0,0,0,0,0,0,2746.7440000000001,0,{"$f":"INDEX('Coal codes'!$B$4:$B$53,MATCH(B1079,'Coal codes'!$A$4:$A$53,0))","v":"Mississippi"}]
[2011,"MO","2011MO",0,0,0,0,0,0,464.738,0,{"$f":"INDEX('Coal codes'!$B$4:$B$53,MATCH(B1080,'Coal codes'!$A$4:$A$53,0))","v":"Missouri"}]
[2011,"MT","2011MT",0,0,0,5135.57,0,5135.57,36872.667999999998,0,{"$f":"INDEX('Coal codes'!$B$4:$B$53,MATCH(B1081,'Coal codes'!$A$4:$A$53,0))","v":"Montana"}]
[2011,"NE","2011NE",0,0,0,0,0,0,0,0,{"$f":"INDEX('Coal codes'!$B$4:$B$53,MATCH(B1082,'Coal codes'!$A$4:$A$53,0))","v":"Nebraska"}]
[2011,"NV","2011NV",0,0,0,0,0,0,0,0,{"$f":"INDEX('Coal codes'!$B$4:$B$53,MATCH(B1083,'Coal codes'!$A$4:$A$53,0))","v":"Nevada"}]
[2011,"NH","2011NH",0,0,0,0,0,0,0,0,{"$f":"INDEX('Coal codes'!$B$4:$B$53,MATCH(B1084,'Coal codes'!$A$4:$A$53,0))","v":"New Hampshire"}]
[2011,"NJ","2011NJ",0,0,0,0,0,0,0,0,{"$f":"INDEX('Coal codes'!$B$4:$B$53,MATCH(B1085,'Coal codes'!$A$4:$A$53,0))","v":"New Jersey"}]
[2011,"NM","2011NM",2273.1296625,1515.4197750000003,0,3983.0250000000001,0,3983.0250000000001,17939.432000000001,0,{"$f":"INDEX('Coal codes'!$B$4:$B$53,MATCH(B1086,'Coal codes'!$A$4:$A$53,0))","v":"New Mexico"}]
[2011,"NY","2011NY",0,0,0,0,0,0,0,0,{"$f":"INDEX('Coal codes'!$B$4:$B$53,MATCH(B1087,'Coal codes'!$A$4:$A$53,0))","v":"New York"}]
[2011,"NC","2011NC",0,0,0,0,0,0,0,0,{"$f":"INDEX('Coal codes'!$B$4:$B$53,MATCH(B1088,'Coal codes'!$A$4:$A$53,0))","v":"North Carolina"}]
[2011,"ND","2011ND",0,0,0,0,0,0,28231.419000000002,0,{"$f":"INDEX('Coal codes'!$B$4:$B$53,MATCH(B1089,'Coal codes'!$A$4:$A$53,0))","v":"North Dakota"}]
[2011,"OH","2011OH",2035.9385187500002,0,0,18971.509999999998,0,18971.509999999998,9194.2039999999997,0,{"$f":"INDEX('Coal codes'!$B$4:$B$53,MATCH(B1090,'Coal codes'!$A$4:$A$53,0))","v":"Ohio"}]
[2011,"OK","2011OK",213.48275125000001,0,0,408.358,0,408.358,736.30700000000002,0,{"$f":"INDEX('Coal codes'!$B$4:$B$53,MATCH(B1091,'Coal codes'!$A$4:$A$53,0))","v":"Oklahoma"}]
[2011,"OR","2011OR",0,0,0,0,0,0,0,0,{"$f":"INDEX('Coal codes'!$B$4:$B$53,MATCH(B1092,'Coal codes'!$A$4:$A$53,0))","v":"Oregon"}]
[2011,"PA","2011PA",13512.410460999998,2717.9167233698572,2080.5,47317.197,0,47317.197,11864.63,0,{"$f":"INDEX('Coal codes'!$B$4:$B$53,MATCH(B1093,'Coal codes'!$A$4:$A$53,0))","v":"Pennsylvania"}]
[2011,"RI","2011RI",0,0,0,0,0,0,0,0,{"$f":"INDEX('Coal codes'!$B$4:$B$53,MATCH(B1094,'Coal codes'!$A$4:$A$53,0))","v":"Rhode Island"}]
[2011,"SC","2011SC",0,0,0,0,0,{"$f":"SUM(G1095:H1095)","v":0},0,0,{"$f":"INDEX('Coal codes'!$B$4:$B$53,MATCH(B1095,'Coal codes'!$A$4:$A$53,0))","v":"South Carolina"}]
[2011,"SD","2011SD",0,0,0,0,0,0,0,0,{"$f":"INDEX('Coal codes'!$B$4:$B$53,MATCH(B1096,'Coal codes'!$A$4:$A$53,0))","v":"South Dakota"}]
[2011,"TN","2011TN",0,0,0,422.65100000000001,0,422.65100000000001,1124.384,0,{"$f":"INDEX('Coal codes'!$B$4:$B$53,MATCH(B1097,'Coal codes'!$A$4:$A$53,0))","v":"Tennessee"}]
[2011,"TX","2011TX",0,0,0,0,0,0,45903.597000000002,0,{"$f":"INDEX('Coal codes'!$B$4:$B$53,MATCH(B1098,'Coal codes'!$A$4:$A$53,0))","v":"Texas"}]
[2011,"UT","2011UT",2284.4464874999999,707.95637249999982,0,19648.02,0,19648.02,0,0,{"$f":"INDEX('Coal codes'!$B$4:$B$53,MATCH(B1099,'Coal codes'!$A$4:$A$53,0))","v":"Utah"}]
[2011,"VT","2011VT",0,0,0,0,0,0,0,0,{"$f":"INDEX('Coal codes'!$B$4:$B$53,MATCH(B1100,'Coal codes'!$A$4:$A$53,0))","v":"Vermont"}]
[2011,"VA","2011VA",6135.6556224999986,26343.794577700311,26343.794577700311,15461.237999999999,0,15461.237999999999,7061.43,0,{"$f":"INDEX('Coal codes'!$B$4:$B$53,MATCH(B1101,'Coal codes'!$A$4:$A$53,0))","v":"Virginia"}]
[2011,"WA","2011WA",0,0,0,0,0,0,0,0,{"$f":"INDEX('Coal codes'!$B$4:$B$53,MATCH(B1102,'Coal codes'!$A$4:$A$53,0))","v":"Washington"}]
[2011,"WV","2011WV",28794.38738358,4186.8823565371404,3837.9613636000008,44805.017,38589.978000000003,83394.994999999995,48007.976000000002,3258.7739999999999,{"$f":"INDEX('Coal codes'!$B$4:$B$53,MATCH(B1103,'Coal codes'!$A$4:$A$53,0))","v":"West Virginia"}]
[2011,"WI","2011WI",0,0,0,0,0,0,0,0,{"$f":"INDEX('Coal codes'!$B$4:$B$53,MATCH(B1104,'Coal codes'!$A$4:$A$53,0))","v":"Wisconsin"}]
[2011,"WY","2011WY",0,0,0,3043.11,0,3043.11,435630.27799999999,0,{"$f":"INDEX('Coal codes'!$B$4:$B$53,MATCH(B1105,'Coal codes'!$A$4:$A$53,0))","v":"Wyoming"}]
[2012,"AL","2012AL",16335.762336249998,13637.987826500004,13483.7631,12569.599,0,12569.599,6751.54,0,{"$f":"INDEX('Coal codes'!$B$4:$B$53,MATCH(B1106,'Coal codes'!$A$4:$A$53,0))","v":"Alabama"}]
[2012,"AK","2012AK",0,0,0,0,0,0,2052.0859999999998,0,{"$f":"INDEX('Coal codes'!$B$4:$B$53,MATCH(B1107,'Coal codes'!$A$4:$A$53,0))","v":"Alaska"}]
[2012,"AZ","2012AZ",0,0,0,0,0,0,7493.2759999999998,0,{"$f":"INDEX('Coal codes'!$B$4:$B$53,MATCH(B1108,'Coal codes'!$A$4:$A$53,0))","v":"Arizona"}]
[2012,"AR","2012AR",376.00246874999999,0,0,96.2,0,96.2,1.921,0,{"$f":"INDEX('Coal codes'!$B$4:$B$53,MATCH(B1109,'Coal codes'!$A$4:$A$53,0))","v":"Arkansas"}]
[2012,"CA","2012CA",0,0,0,0,0,0,0,0,{"$f":"INDEX('Coal codes'!$B$4:$B$53,MATCH(B1110,'Coal codes'!$A$4:$A$53,0))","v":"California"}]
[2012,"CO","2012CO",5419.8651987500007,2067.2999999999997,45.333333333333329,23646.097000000002,0,23646.097000000002,4919.9970000000003,0,{"$f":"INDEX('Coal codes'!$B$4:$B$53,MATCH(B1111,'Coal codes'!$A$4:$A$53,0))","v":"Colorado"}]
[2012,"CT","2012CT",0,0,0,0,0,0,0,0,{"$f":"INDEX('Coal codes'!$B$4:$B$53,MATCH(B1112,'Coal codes'!$A$4:$A$53,0))","v":"Connecticut"}]
[2012,"DE","2012DE",0,0,0,0,0,0,0,0,{"$f":"INDEX('Coal codes'!$B$4:$B$53,MATCH(B1113,'Coal codes'!$A$4:$A$53,0))","v":"Delaware"}]
[2012,"FL","2012FL",0,0,0,0,0,0,0,0,{"$f":"INDEX('Coal codes'!$B$4:$B$53,MATCH(B1114,'Coal codes'!$A$4:$A$53,0))","v":"Florida"}]
[2012,"GA","2012GA",0,0,0,0,0,0,0,0,{"$f":"INDEX('Coal codes'!$B$4:$B$53,MATCH(B1115,'Coal codes'!$A$4:$A$53,0))","v":"Georgia"}]
[2012,"HI","2012HI",0,0,0,0,0,0,0,0,{"$f":"INDEX('Coal codes'!$B$4:$B$53,MATCH(B1116,'Coal codes'!$A$4:$A$53,0))","v":"Hawaii"}]
[2012,"ID","2012ID",0,0,0,0,0,0,0,0,{"$f":"INDEX('Coal codes'!$B$4:$B$53,MATCH(B1117,'Coal codes'!$A$4:$A$53,0))","v":"Idaho"}]
[2012,"IL","2012IL",8425.8691449999988,0,0,42836.671000000002,0,42836.671000000002,5649.3770000000004,0,{"$f":"INDEX('Coal codes'!$B$4:$B$53,MATCH(B1118,'Coal codes'!$A$4:$A$53,0))","v":"Illinois"}]
[2012,"IN","2012IN",5197.4607899999992,472.2,0,15564.55,0,15564.55,21155.624,0,{"$f":"INDEX('Coal codes'!$B$4:$B$53,MATCH(B1119,'Coal codes'!$A$4:$A$53,0))","v":"Indiana"}]
[2012,"IA","2012IA",0,0,0,0,0,0,0,0,{"$f":"INDEX('Coal codes'!$B$4:$B$53,MATCH(B1120,'Coal codes'!$A$4:$A$53,0))","v":"Iowa"}]
[2012,"KS","2012KS",0,0,0,0,0,0,15.864000000000001,0,{"$f":"INDEX('Coal codes'!$B$4:$B$53,MATCH(B1121,'Coal codes'!$A$4:$A$53,0))","v":"Kansas"}]
[2012,"KY","2012KY",5125.0087087499996,0,0,24099.933000000001,34097.845999999998,58197.778999999995,24698.381000000001,7965.6440000000002,{"$f":"INDEX('Coal codes'!$B$4:$B$53,MATCH(B1122,'Coal codes'!$A$4:$A$53,0))","v":"Kentucky"}]
[2012,"LA","2012LA",0,0,0,0,0,0,3971.1289999999999,0,{"$f":"INDEX('Coal codes'!$B$4:$B$53,MATCH(B1123,'Coal codes'!$A$4:$A$53,0))","v":"Louisiana"}]
[2012,"ME","2012ME",0,0,0,0,0,0,0,0,{"$f":"INDEX('Coal codes'!$B$4:$B$53,MATCH(B1124,'Coal codes'!$A$4:$A$53,0))","v":"Maine"}]
[2012,"MD","2012MD",0,0,0,797.45,0,797.45,1485.8910000000001,0,{"$f":"INDEX('Coal codes'!$B$4:$B$53,MATCH(B1125,'Coal codes'!$A$4:$A$53,0))","v":"Maryland"}]
[2012,"MA","2012MA",0,0,0,0,0,0,0,0,{"$f":"INDEX('Coal codes'!$B$4:$B$53,MATCH(B1126,'Coal codes'!$A$4:$A$53,0))","v":"Massachusetts"}]
[2012,"MI","2012MI",0,0,0,0,0,0,0,0,{"$f":"INDEX('Coal codes'!$B$4:$B$53,MATCH(B1127,'Coal codes'!$A$4:$A$53,0))","v":"Michigan"}]
[2012,"MN","2012MN",0,0,0,0,0,0,0,0,{"$f":"INDEX('Coal codes'!$B$4:$B$53,MATCH(B1128,'Coal codes'!$A$4:$A$53,0))","v":"Minnesota"}]
[2012,"MS","2012MS",0,0,0,0,0,0,2952.8180000000002,0,{"$f":"INDEX('Coal codes'!$B$4:$B$53,MATCH(B1129,'Coal codes'!$A$4:$A$53,0))","v":"Mississippi"}]
[2012,"MO","2012MO",0,0,0,0,0,0,421.58699999999999,0,{"$f":"INDEX('Coal codes'!$B$4:$B$53,MATCH(B1130,'Coal codes'!$A$4:$A$53,0))","v":"Missouri"}]
[2012,"MT","2012MT",0,0,0,5707.6329999999998,0,5707.6329999999998,30986.348999999998,0,{"$f":"INDEX('Coal codes'!$B$4:$B$53,MATCH(B1131,'Coal codes'!$A$4:$A$53,0))","v":"Montana"}]
[2012,"NE","2012NE",0,0,0,0,0,0,0,0,{"$f":"INDEX('Coal codes'!$B$4:$B$53,MATCH(B1132,'Coal codes'!$A$4:$A$53,0))","v":"Nebraska"}]
[2012,"NV","2012NV",0,0,0,0,0,0,0,0,{"$f":"INDEX('Coal codes'!$B$4:$B$53,MATCH(B1133,'Coal codes'!$A$4:$A$53,0))","v":"Nevada"}]
[2012,"NH","2012NH",0,0,0,0,0,0,0,0,{"$f":"INDEX('Coal codes'!$B$4:$B$53,MATCH(B1134,'Coal codes'!$A$4:$A$53,0))","v":"New Hampshire"}]
[2012,"NJ","2012NJ",0,0,0,0,0,0,0,0,{"$f":"INDEX('Coal codes'!$B$4:$B$53,MATCH(B1135,'Coal codes'!$A$4:$A$53,0))","v":"New Jersey"}]
[2012,"NM","2012NM",1289.5824124999999,443.3,0,4960.375,0,4960.375,17491.900000000001,0,{"$f":"INDEX('Coal codes'!$B$4:$B$53,MATCH(B1136,'Coal codes'!$A$4:$A$53,0))","v":"New Mexico"}]
[2012,"NY","2012NY",0,0,0,0,0,0,0,0,{"$f":"INDEX('Coal codes'!$B$4:$B$53,MATCH(B1137,'Coal codes'!$A$4:$A$53,0))","v":"New York"}]
[2012,"NC","2012NC",0,0,0,0,0,0,0,0,{"$f":"INDEX('Coal codes'!$B$4:$B$53,MATCH(B1138,'Coal codes'!$A$4:$A$53,0))","v":"North Carolina"}]
[2012,"ND","2012ND",0,0,0,0,0,0,27528.666000000001,0,{"$f":"INDEX('Coal codes'!$B$4:$B$53,MATCH(B1139,'Coal codes'!$A$4:$A$53,0))","v":"North Dakota"}]
[2012,"OH","2012OH",1665.4754935000001,0,0,18124.782999999999,0,18124.782999999999,8202.8529999999992,0,{"$f":"INDEX('Coal codes'!$B$4:$B$53,MATCH(B1140,'Coal codes'!$A$4:$A$53,0))","v":"Ohio"}]
[2012,"OK","2012OK",362.00526625000003,0,0,349.48899999999998,0,349.48899999999998,704.48400000000004,0,{"$f":"INDEX('Coal codes'!$B$4:$B$53,MATCH(B1141,'Coal codes'!$A$4:$A$53,0))","v":"Oklahoma"}]
[2012,"OR","2012OR",0,0,0,0,0,0,0,0,{"$f":"INDEX('Coal codes'!$B$4:$B$53,MATCH(B1142,'Coal codes'!$A$4:$A$53,0))","v":"Oregon"}]
[2012,"PA","2012PA",12522.630544166665,3027.8,985.5,45041.468999999997,0,45041.468999999997,9677.3330000000005,0,{"$f":"INDEX('Coal codes'!$B$4:$B$53,MATCH(B1143,'Coal codes'!$A$4:$A$53,0))","v":"Pennsylvania"}]
[2012,"RI","2012RI",0,0,0,0,0,0,0,0,{"$f":"INDEX('Coal codes'!$B$4:$B$53,MATCH(B1144,'Coal codes'!$A$4:$A$53,0))","v":"Rhode Island"}]
[2012,"SC","2012SC",0,0,0,0,0,0,0,0,{"$f":"INDEX('Coal codes'!$B$4:$B$53,MATCH(B1145,'Coal codes'!$A$4:$A$53,0))","v":"South Carolina"}]
[2012,"SD","2012SD",0,0,0,0,0,0,0,0,{"$f":"INDEX('Coal codes'!$B$4:$B$53,MATCH(B1146,'Coal codes'!$A$4:$A$53,0))","v":"South Dakota"}]
[2012,"TN","2012TN",0,0,0,572.91,0,572.91,517.33699999999999,0,{"$f":"INDEX('Coal codes'!$B$4:$B$53,MATCH(B1147,'Coal codes'!$A$4:$A$53,0))","v":"Tennessee"}]
[2012,"TX","2012TX",0,0,0,0,0,0,44178.224999999999,0,{"$f":"INDEX('Coal codes'!$B$4:$B$53,MATCH(B1148,'Coal codes'!$A$4:$A$53,0))","v":"Texas"}]
[2012,"UT","2012UT",2198.0044499999999,854.8,0,16445.780999999999,0,16445.780999999999,570.13800000000003,0,{"$f":"INDEX('Coal codes'!$B$4:$B$53,MATCH(B1149,'Coal codes'!$A$4:$A$53,0))","v":"Utah"}]
[2012,"VT","2012VT",0,0,0,0,0,0,0,0,{"$f":"INDEX('Coal codes'!$B$4:$B$53,MATCH(B1150,'Coal codes'!$A$4:$A$53,0))","v":"Vermont"}]
[2012,"VA","2012VA",4563.5626062500005,22873.952078950308,22873.952078950308,12370.370999999999,0,12370.370999999999,6594.7340000000004,0,{"$f":"INDEX('Coal codes'!$B$4:$B$53,MATCH(B1151,'Coal codes'!$A$4:$A$53,0))","v":"Virginia"}]
[2012,"WA","2012WA",0,0,0,0,0,0,0,0,{"$f":"INDEX('Coal codes'!$B$4:$B$53,MATCH(B1152,'Coal codes'!$A$4:$A$53,0))","v":"Washington"}]
[2012,"WV","2012WV",26789.830028750002,1973.8146858400003,3709.1608216177588,41024.04,39444.883000000002,80468.92300000001,37911.288,2044.547,{"$f":"INDEX('Coal codes'!$B$4:$B$53,MATCH(B1153,'Coal codes'!$A$4:$A$53,0))","v":"West Virginia"}]
[2012,"WI","2012WI",0,0,0,0,0,0,0,0,{"$f":"INDEX('Coal codes'!$B$4:$B$53,MATCH(B1154,'Coal codes'!$A$4:$A$53,0))","v":"Wisconsin"}]
[2012,"WY","2012WY",0,0,0,4636.5569999999998,0,4636.5569999999998,396805.054,0,{"$f":"INDEX('Coal codes'!$B$4:$B$53,MATCH(B1155,'Coal codes'!$A$4:$A$53,0))","v":"Wyoming"}]
[2013,"AL","2013AL",15221.17088125,12180.690600000002,11363.9166,13514.885,0,13514.885,5105.1319999999996,0,{"$f":"INDEX('Coal codes'!$B$4:$B$53,MATCH(B1156,'Coal codes'!$A$4:$A$53,0))","v":"Alabama"}]
[2013,"AK","2013AK",0,0,0,0,0,0,1631.5840000000001,0,{"$f":"INDEX('Coal codes'!$B$4:$B$53,MATCH(B1157,'Coal codes'!$A$4:$A$53,0))","v":"Alaska"}]
[2013,"AZ","2013AZ",0,0,0,0,0,0,7602.7219999999998,0,{"$f":"INDEX('Coal codes'!$B$4:$B$53,MATCH(B1158,'Coal codes'!$A$4:$A$53,0))","v":"Arizona"}]
[2013,"AR","2013AR",207.08585625000001,0,0,54.604999999999997,0,{"$f":"SUM(G1159:H1159)","v":54.604999999999997},3.9729999999999999,0,{"$f":"INDEX('Coal codes'!$B$4:$B$53,MATCH(B1159,'Coal codes'!$A$4:$A$53,0))","v":"Arkansas"}]
[2013,"CA","2013CA",0,0,0,0,0,0,0,0,{"$f":"INDEX('Coal codes'!$B$4:$B$53,MATCH(B1160,'Coal codes'!$A$4:$A$53,0))","v":"California"}]
[2013,"CO","2013CO",2508.2908939999998,1247.24735422,448.25,19415.989000000001,0,19415.989000000001,4820.2969999999996,0,{"$f":"INDEX('Coal codes'!$B$4:$B$53,MATCH(B1161,'Coal codes'!$A$4:$A$53,0))","v":"Colorado"}]
[2013,"CT","2013CT",0,0,0,0,0,0,0,0,{"$f":"INDEX('Coal codes'!$B$4:$B$53,MATCH(B1162,'Coal codes'!$A$4:$A$53,0))","v":"Connecticut"}]
[2013,"DE","2013DE",0,0,0,0,0,0,0,0,{"$f":"INDEX('Coal codes'!$B$4:$B$53,MATCH(B1163,'Coal codes'!$A$4:$A$53,0))","v":"Delaware"}]
[2013,"FL","2013FL",0,0,0,0,0,0,0,0,{"$f":"INDEX('Coal codes'!$B$4:$B$53,MATCH(B1164,'Coal codes'!$A$4:$A$53,0))","v":"Florida"}]
[2013,"GA","2013GA",0,0,0,0,0,0,0,0,{"$f":"INDEX('Coal codes'!$B$4:$B$53,MATCH(B1165,'Coal codes'!$A$4:$A$53,0))","v":"Georgia"}]
[2013,"HI","2013HI",0,0,0,0,0,0,0,0,{"$f":"INDEX('Coal codes'!$B$4:$B$53,MATCH(B1166,'Coal codes'!$A$4:$A$53,0))","v":"Hawaii"}]
[2013,"ID","2013ID",0,0,0,0,0,0,0,0,{"$f":"INDEX('Coal codes'!$B$4:$B$53,MATCH(B1167,'Coal codes'!$A$4:$A$53,0))","v":"Idaho"}]
[2013,"IL","2013IL",7592.1436407500005,0,0,46446.546999999999,0,46446.546999999999,5700.6459999999997,0,{"$f":"INDEX('Coal codes'!$B$4:$B$53,MATCH(B1168,'Coal codes'!$A$4:$A$53,0))","v":"Illinois"}]
[2013,"IN","2013IN",4178.1898549999996,503.39,0,16836.931,0,16836.931,22264.902999999998,0,{"$f":"INDEX('Coal codes'!$B$4:$B$53,MATCH(B1169,'Coal codes'!$A$4:$A$53,0))","v":"Indiana"}]
[2013,"IA","2013IA",0,0,0,0,0,0,0,0,{"$f":"INDEX('Coal codes'!$B$4:$B$53,MATCH(B1170,'Coal codes'!$A$4:$A$53,0))","v":"Iowa"}]
[2013,"KS","2013KS",0,0,0,0,0,0,22.15,0,{"$f":"INDEX('Coal codes'!$B$4:$B$53,MATCH(B1171,'Coal codes'!$A$4:$A$53,0))","v":"Kansas"}]
[2013,"KY","2013KY",5702.6312212499997,0,0,19573.269,35047.091,54620.36,19927.546999999999,5831.8720000000003,{"$f":"INDEX('Coal codes'!$B$4:$B$53,MATCH(B1172,'Coal codes'!$A$4:$A$53,0))","v":"Kentucky"}]
[2013,"LA","2013LA",0,0,0,0,0,0,2809.7710000000002,0,{"$f":"INDEX('Coal codes'!$B$4:$B$53,MATCH(B1173,'Coal codes'!$A$4:$A$53,0))","v":"Louisiana"}]
[2013,"ME","2013ME",0,0,0,0,0,0,0,0,{"$f":"INDEX('Coal codes'!$B$4:$B$53,MATCH(B1174,'Coal codes'!$A$4:$A$53,0))","v":"Maine"}]
[2013,"MD","2013MD",0,0,0,670.45500000000004,0,670.45500000000004,1254.836,0,{"$f":"INDEX('Coal codes'!$B$4:$B$53,MATCH(B1175,'Coal codes'!$A$4:$A$53,0))","v":"Maryland"}]
[2013,"MA","2013MA",0,0,0,0,0,0,0,0,{"$f":"INDEX('Coal codes'!$B$4:$B$53,MATCH(B1176,'Coal codes'!$A$4:$A$53,0))","v":"Massachusetts"}]
[2013,"MI","2013MI",0,0,0,0,0,0,0,0,{"$f":"INDEX('Coal codes'!$B$4:$B$53,MATCH(B1177,'Coal codes'!$A$4:$A$53,0))","v":"Michigan"}]
[2013,"MN","2013MN",0,0,0,0,0,0,0,0,{"$f":"INDEX('Coal codes'!$B$4:$B$53,MATCH(B1178,'Coal codes'!$A$4:$A$53,0))","v":"Minnesota"}]
[2013,"MS","2013MS",0,0,0,0,0,0,3575.069,0,{"$f":"INDEX('Coal codes'!$B$4:$B$53,MATCH(B1179,'Coal codes'!$A$4:$A$53,0))","v":"Mississippi"}]
[2013,"MO","2013MO",0,0,0,0,0,0,413.70299999999997,0,{"$f":"INDEX('Coal codes'!$B$4:$B$53,MATCH(B1180,'Coal codes'!$A$4:$A$53,0))","v":"Missouri"}]
[2013,"MT","2013MT",0,0,0,8682.884,0,8682.884,33548.599000000002,0,{"$f":"INDEX('Coal codes'!$B$4:$B$53,MATCH(B1181,'Coal codes'!$A$4:$A$53,0))","v":"Montana"}]
[2013,"NE","2013NE",0,0,0,0,0,0,0,0,{"$f":"INDEX('Coal codes'!$B$4:$B$53,MATCH(B1182,'Coal codes'!$A$4:$A$53,0))","v":"Nebraska"}]
[2013,"NV","2013NV",0,0,0,0,0,0,0,0,{"$f":"INDEX('Coal codes'!$B$4:$B$53,MATCH(B1183,'Coal codes'!$A$4:$A$53,0))","v":"Nevada"}]
[2013,"NH","2013NH",0,0,0,0,0,0,0,0,{"$f":"INDEX('Coal codes'!$B$4:$B$53,MATCH(B1184,'Coal codes'!$A$4:$A$53,0))","v":"New Hampshire"}]
[2013,"NJ","2013NJ",0,0,0,0,0,0,0,0,{"$f":"INDEX('Coal codes'!$B$4:$B$53,MATCH(B1185,'Coal codes'!$A$4:$A$53,0))","v":"New Jersey"}]
[2013,"NM","2013NM",1729.52,698.27,0,5989.38,0,5989.38,15979.261,0,{"$f":"INDEX('Coal codes'!$B$4:$B$53,MATCH(B1186,'Coal codes'!$A$4:$A$53,0))","v":"New Mexico"}]
[2013,"NY","2013NY",0,0,0,0,0,0,0,0,{"$f":"INDEX('Coal codes'!$B$4:$B$53,MATCH(B1187,'Coal codes'!$A$4:$A$53,0))","v":"New York"}]
[2013,"NC","2013NC",0,0,0,0,0,0,0,0,{"$f":"INDEX('Coal codes'!$B$4:$B$53,MATCH(B1188,'Coal codes'!$A$4:$A$53,0))","v":"North Carolina"}]
[2013,"ND","2013ND",0,0,0,0,0,0,27639.06,0,{"$f":"INDEX('Coal codes'!$B$4:$B$53,MATCH(B1189,'Coal codes'!$A$4:$A$53,0))","v":"North Dakota"}]
[2013,"OH","2013OH",1558.057869,0,0,17426.21,0,17426.21,7686.6270000000004,0,{"$f":"INDEX('Coal codes'!$B$4:$B$53,MATCH(B1190,'Coal codes'!$A$4:$A$53,0))","v":"Ohio"}]
[2013,"OK","2013OK",140.28151500000001,0,0,443.46,0,443.46,692.33699999999999,0,{"$f":"INDEX('Coal codes'!$B$4:$B$53,MATCH(B1191,'Coal codes'!$A$4:$A$53,0))","v":"Oklahoma"}]
[2013,"OR","2013OR",0,0,0,0,0,0,0,0,{"$f":"INDEX('Coal codes'!$B$4:$B$53,MATCH(B1192,'Coal codes'!$A$4:$A$53,0))","v":"Oregon"}]
[2013,"PA","2013PA",15475.494980249998,3957.05,1332.04,45164.288,0,45164.288,8844.4599999999991,0,{"$f":"INDEX('Coal codes'!$B$4:$B$53,MATCH(B1193,'Coal codes'!$A$4:$A$53,0))","v":"Pennsylvania"}]
[2013,"RI","2013RI",0,0,0,0,0,0,0,0,{"$f":"INDEX('Coal codes'!$B$4:$B$53,MATCH(B1194,'Coal codes'!$A$4:$A$53,0))","v":"Rhode Island"}]
[2013,"SC","2013SC",0,0,0,0,0,0,0,0,{"$f":"INDEX('Coal codes'!$B$4:$B$53,MATCH(B1195,'Coal codes'!$A$4:$A$53,0))","v":"South Carolina"}]
[2013,"SD","2013SD",0,0,0,0,0,0,0,0,{"$f":"INDEX('Coal codes'!$B$4:$B$53,MATCH(B1196,'Coal codes'!$A$4:$A$53,0))","v":"South Dakota"}]
[2013,"TN","2013TN",0,0,0,730.91899999999998,0,730.91899999999998,367.51799999999997,0,{"$f":"INDEX('Coal codes'!$B$4:$B$53,MATCH(B1197,'Coal codes'!$A$4:$A$53,0))","v":"Tennessee"}]
[2013,"TX","2013TX",0,0,0,0,0,0,42850.618999999999,0,{"$f":"INDEX('Coal codes'!$B$4:$B$53,MATCH(B1198,'Coal codes'!$A$4:$A$53,0))","v":"Texas"}]
[2013,"UT","2013UT",1471.7110725,733.19,0,16235.546,0,16235.546,741.178,0,{"$f":"INDEX('Coal codes'!$B$4:$B$53,MATCH(B1199,'Coal codes'!$A$4:$A$53,0))","v":"Utah"}]
[2013,"VT","2013VT",0,0,0,0,0,0,0,0,{"$f":"INDEX('Coal codes'!$B$4:$B$53,MATCH(B1200,'Coal codes'!$A$4:$A$53,0))","v":"Vermont"}]
[2013,"VA","2013VA",6355.1243725000004,21824.395730000004,21824.395730000004,12190.192999999999,0,12190.192999999999,4428.8789999999999,0,{"$f":"INDEX('Coal codes'!$B$4:$B$53,MATCH(B1201,'Coal codes'!$A$4:$A$53,0))","v":"Virginia"}]
[2013,"WA","2013WA",0,0,0,0,0,0,0,0,{"$f":"INDEX('Coal codes'!$B$4:$B$53,MATCH(B1202,'Coal codes'!$A$4:$A$53,0))","v":"Washington"}]
[2013,"WV","2013WV",26784.429720000007,11885.666896817947,10975.689937097946,37948.748,40870.536999999997,78819.285000000003,32447.653999999999,1519.348,{"$f":"INDEX('Coal codes'!$B$4:$B$53,MATCH(B1203,'Coal codes'!$A$4:$A$53,0))","v":"West Virginia"}]
[2013,"WI","2013WI",0,0,0,0,0,0,0,0,{"$f":"INDEX('Coal codes'!$B$4:$B$53,MATCH(B1204,'Coal codes'!$A$4:$A$53,0))","v":"Wisconsin"}]
[2013,"WY","2013WY",2.7660149999999999,0,0,4442.616,0,4442.616,383481.212,0,{"$f":"INDEX('Coal codes'!$B$4:$B$53,MATCH(B1205,'Coal codes'!$A$4:$A$53,0))","v":"Wyoming"}]
[2014,"AL","2014AL",14221.991506844,10056.75848,9278.0984800000006,12516.207,0,12516.207,3846.7379999999998,0,{"$f":"INDEX('Coal codes'!$B$4:$B$53,MATCH(B1206,'Coal codes'!$A$4:$A$53,0))","v":"Alabama"}]
[2014,"AK","2014AK",0,0,0,0,0,0,1501.758,0,{"$f":"INDEX('Coal codes'!$B$4:$B$53,MATCH(B1207,'Coal codes'!$A$4:$A$53,0))","v":"Alaska"}]
[2014,"AZ","2014AZ",0,0,0,0,0,0,8050.607,0,{"$f":"INDEX('Coal codes'!$B$4:$B$53,MATCH(B1208,'Coal codes'!$A$4:$A$53,0))","v":"Arizona"}]
[2014,"AR","2014AR",165.34,0,0,86.988,0,86.988,7.0010000000000003,0,{"$f":"INDEX('Coal codes'!$B$4:$B$53,MATCH(B1209,'Coal codes'!$A$4:$A$53,0))","v":"Arkansas"}]
[2014,"CA","2014CA",0,0,0,0,0,0,0,0,{"$f":"INDEX('Coal codes'!$B$4:$B$53,MATCH(B1210,'Coal codes'!$A$4:$A$53,0))","v":"California"}]
[2014,"CO","2014CO",1850.312433028,1826.0600000000002,1150.6600000000001,18123.084999999999,0,18123.084999999999,5884.41,0,{"$f":"INDEX('Coal codes'!$B$4:$B$53,MATCH(B1211,'Coal codes'!$A$4:$A$53,0))","v":"Colorado"}]
[2014,"CT","2014CT",0,0,0,0,0,0,0,0,{"$f":"INDEX('Coal codes'!$B$4:$B$53,MATCH(B1212,'Coal codes'!$A$4:$A$53,0))","v":"Connecticut"}]
[2014,"DE","2014DE",0,0,0,0,0,0,0,0,{"$f":"INDEX('Coal codes'!$B$4:$B$53,MATCH(B1213,'Coal codes'!$A$4:$A$53,0))","v":"Delaware"}]
[2014,"FL","2014FL",0,0,0,0,0,0,0,0,{"$f":"INDEX('Coal codes'!$B$4:$B$53,MATCH(B1214,'Coal codes'!$A$4:$A$53,0))","v":"Florida"}]
[2014,"GA","2014GA",0,0,0,0,0,0,0,0,{"$f":"INDEX('Coal codes'!$B$4:$B$53,MATCH(B1215,'Coal codes'!$A$4:$A$53,0))","v":"Georgia"}]
[2014,"HI","2014HI",0,0,0,0,0,0,0,0,{"$f":"INDEX('Coal codes'!$B$4:$B$53,MATCH(B1216,'Coal codes'!$A$4:$A$53,0))","v":"Hawaii"}]
[2014,"ID","2014ID",0,0,0,0,0,0,0,0,{"$f":"INDEX('Coal codes'!$B$4:$B$53,MATCH(B1217,'Coal codes'!$A$4:$A$53,0))","v":"Idaho"}]
[2014,"IL","2014IL",7786.7812633999993,0,0,52713.125,0,52713.125,5256.1750000000002,0,{"$f":"INDEX('Coal codes'!$B$4:$B$53,MATCH(B1218,'Coal codes'!$A$4:$A$53,0))","v":"Illinois"}]
[2014,"IN","2014IN",4634.0143099159995,821.86000000000013,0,18105.163,0,18105.163,21161.813999999998,0,{"$f":"INDEX('Coal codes'!$B$4:$B$53,MATCH(B1219,'Coal codes'!$A$4:$A$53,0))","v":"Indiana"}]
[2014,"IA","2014IA",0,0,0,0,0,0,0,0,{"$f":"INDEX('Coal codes'!$B$4:$B$53,MATCH(B1220,'Coal codes'!$A$4:$A$53,0))","v":"Iowa"}]
[2014,"KS","2014KS",0,0,0,0,0,0,66.366,0,{"$f":"INDEX('Coal codes'!$B$4:$B$53,MATCH(B1221,'Coal codes'!$A$4:$A$53,0))","v":"Kansas"}]
[2014,"KY","2014KY",5923.480948475999,0,0,18413.945,34393.330999999998,52807.275999999998,18976.095000000001,5551.3519999999999,{"$f":"INDEX('Coal codes'!$B$4:$B$53,MATCH(B1222,'Coal codes'!$A$4:$A$53,0))","v":"Kentucky"}]
[2014,"LA","2014LA",0,0,0,0,0,{"$f":"SUM(G1223:H1223)","v":0},2604.8879999999999,0,{"$f":"INDEX('Coal codes'!$B$4:$B$53,MATCH(B1223,'Coal codes'!$A$4:$A$53,0))","v":"Louisiana"}]
[2014,"ME","2014ME",0,0,0,0,0,0,0,0,{"$f":"INDEX('Coal codes'!$B$4:$B$53,MATCH(B1224,'Coal codes'!$A$4:$A$53,0))","v":"Maine"}]
[2014,"MD","2014MD",0,0,0,717.90800000000002,0,717.90800000000002,1260.02,0,{"$f":"INDEX('Coal codes'!$B$4:$B$53,MATCH(B1225,'Coal codes'!$A$4:$A$53,0))","v":"Maryland"}]
[2014,"MA","2014MA",0,0,0,0,0,0,0,0,{"$f":"INDEX('Coal codes'!$B$4:$B$53,MATCH(B1226,'Coal codes'!$A$4:$A$53,0))","v":"Massachusetts"}]
[2014,"MI","2014MI",0,0,0,0,0,0,0,0,{"$f":"INDEX('Coal codes'!$B$4:$B$53,MATCH(B1227,'Coal codes'!$A$4:$A$53,0))","v":"Michigan"}]
[2014,"MN","2014MN",0,0,0,0,0,0,0,0,{"$f":"INDEX('Coal codes'!$B$4:$B$53,MATCH(B1228,'Coal codes'!$A$4:$A$53,0))","v":"Minnesota"}]
[2014,"MS","2014MS",0,0,0,0,0,0,3737.1,0,{"$f":"INDEX('Coal codes'!$B$4:$B$53,MATCH(B1229,'Coal codes'!$A$4:$A$53,0))","v":"Mississippi"}]
[2014,"MO","2014MO",0,0,0,0,0,0,362.81299999999999,0,{"$f":"INDEX('Coal codes'!$B$4:$B$53,MATCH(B1230,'Coal codes'!$A$4:$A$53,0))","v":"Missouri"}]
[2014,"MT","2014MT",0,0,0,7901.7839999999997,0,7901.7839999999997,36660.264000000003,0,{"$f":"INDEX('Coal codes'!$B$4:$B$53,MATCH(B1231,'Coal codes'!$A$4:$A$53,0))","v":"Montana"}]
[2014,"NE","2014NE",0,0,0,0,0,0,0,0,{"$f":"INDEX('Coal codes'!$B$4:$B$53,MATCH(B1232,'Coal codes'!$A$4:$A$53,0))","v":"Nebraska"}]
[2014,"NV","2014NV",0,0,0,0,0,0,0,0,{"$f":"INDEX('Coal codes'!$B$4:$B$53,MATCH(B1233,'Coal codes'!$A$4:$A$53,0))","v":"Nevada"}]
[2014,"NH","2014NH",0,0,0,0,0,0,0,0,{"$f":"INDEX('Coal codes'!$B$4:$B$53,MATCH(B1234,'Coal codes'!$A$4:$A$53,0))","v":"New Hampshire"}]
[2014,"NJ","2014NJ",0,0,0,0,0,0,0,0,{"$f":"INDEX('Coal codes'!$B$4:$B$53,MATCH(B1235,'Coal codes'!$A$4:$A$53,0))","v":"New Jersey"}]
[2014,"NM","2014NM",975.46,768.75,0,8799.5540000000001,0,8799.5540000000001,13163.757,0,{"$f":"INDEX('Coal codes'!$B$4:$B$53,MATCH(B1236,'Coal codes'!$A$4:$A$53,0))","v":"New Mexico"}]
[2014,"NY","2014NY",0,0,0,0,0,0,0,0,{"$f":"INDEX('Coal codes'!$B$4:$B$53,MATCH(B1237,'Coal codes'!$A$4:$A$53,0))","v":"New York"}]
[2014,"NC","2014NC",0,0,0,0,0,0,0,0,{"$f":"INDEX('Coal codes'!$B$4:$B$53,MATCH(B1238,'Coal codes'!$A$4:$A$53,0))","v":"North Carolina"}]
[2014,"ND","2014ND",0,0,0,0,0,0,29157.192999999999,0,{"$f":"INDEX('Coal codes'!$B$4:$B$53,MATCH(B1239,'Coal codes'!$A$4:$A$53,0))","v":"North Dakota"}]
[2014,"OH","2014OH",1839.3424307800003,0,0,15549.686,0,15549.686,6702.6790000000001,0,{"$f":"INDEX('Coal codes'!$B$4:$B$53,MATCH(B1240,'Coal codes'!$A$4:$A$53,0))","v":"Ohio"}]
[2014,"OK","2014OK",0,0,0,398.06200000000001,0,398.06200000000001,506.24900000000002,0,{"$f":"INDEX('Coal codes'!$B$4:$B$53,MATCH(B1241,'Coal codes'!$A$4:$A$53,0))","v":"Oklahoma"}]
[2014,"OR","2014OR",0,0,0,0,0,0,0,0,{"$f":"INDEX('Coal codes'!$B$4:$B$53,MATCH(B1242,'Coal codes'!$A$4:$A$53,0))","v":"Oregon"}]
[2014,"PA","2014PA",14228.821860163998,3246.88,920.73,52911.731,0,52911.731,7997.973,0,{"$f":"INDEX('Coal codes'!$B$4:$B$53,MATCH(B1243,'Coal codes'!$A$4:$A$53,0))","v":"Pennsylvania"}]
[2014,"RI","2014RI",0,0,0,0,0,0,0,0,{"$f":"INDEX('Coal codes'!$B$4:$B$53,MATCH(B1244,'Coal codes'!$A$4:$A$53,0))","v":"Rhode Island"}]
[2014,"SC","2014SC",0,0,0,0,0,0,0,0,{"$f":"INDEX('Coal codes'!$B$4:$B$53,MATCH(B1245,'Coal codes'!$A$4:$A$53,0))","v":"South Carolina"}]
[2014,"SD","2014SD",0,0,0,0,0,0,0,0,{"$f":"INDEX('Coal codes'!$B$4:$B$53,MATCH(B1246,'Coal codes'!$A$4:$A$53,0))","v":"South Dakota"}]
[2014,"TN","2014TN",0,0,0,621.60500000000002,0,621.60500000000002,217.64400000000001,0,{"$f":"INDEX('Coal codes'!$B$4:$B$53,MATCH(B1247,'Coal codes'!$A$4:$A$53,0))","v":"Tennessee"}]
[2014,"TX","2014TX",0,0,0,0,0,0,43654.012999999999,0,{"$f":"INDEX('Coal codes'!$B$4:$B$53,MATCH(B1248,'Coal codes'!$A$4:$A$53,0))","v":"Texas"}]
[2014,"UT","2014UT",693.72,333.98,0,17379.148000000001,0,17379.148000000001,555.26800000000003,0,{"$f":"INDEX('Coal codes'!$B$4:$B$53,MATCH(B1249,'Coal codes'!$A$4:$A$53,0))","v":"Utah"}]
[2014,"VT","2014VT",0,0,0,0,0,0,0,0,{"$f":"INDEX('Coal codes'!$B$4:$B$53,MATCH(B1250,'Coal codes'!$A$4:$A$53,0))","v":"Vermont"}]
[2014,"VA","2014VA",5363.5232524080002,19966.082584566,19966.082584566,11066.746999999999,0,11066.746999999999,3992.431,0,{"$f":"INDEX('Coal codes'!$B$4:$B$53,MATCH(B1251,'Coal codes'!$A$4:$A$53,0))","v":"Virginia"}]
[2014,"WA","2014WA",0,0,0,0,0,0,0,0,{"$f":"INDEX('Coal codes'!$B$4:$B$53,MATCH(B1252,'Coal codes'!$A$4:$A$53,0))","v":"Washington"}]
[2014,"WV","2014WV",30861.794223664008,5463.44,3954.1899999999996,34116.366999999998,47519.824000000001,81636.190999999992,29212.559000000001,1338.623,{"$f":"INDEX('Coal codes'!$B$4:$B$53,MATCH(B1253,'Coal codes'!$A$4:$A$53,0))","v":"West Virginia"}]
[2014,"WI","2014WI",0,0,0,0,0,0,0,0,{"$f":"INDEX('Coal codes'!$B$4:$B$53,MATCH(B1254,'Coal codes'!$A$4:$A$53,0))","v":"Wisconsin"}]
[2014,"WY","2014WY",2.4719287319999994,0,0,3369.7310000000002,0,3369.7310000000002,392295.36800000002,0,{"$f":"INDEX('Coal codes'!$B$4:$B$53,MATCH(B1255,'Coal codes'!$A$4:$A$53,0))","v":"Wyoming"}]
[2015,"AL","2015AL",11151.701812937292,12440.259320000001,11959.839320000001,9897.3269999999993,0,9897.3269999999993,3293.5050000000001,0,{"$f":"INDEX('Coal codes'!$B$4:$B$53,MATCH(B1256,'Coal codes'!$A$4:$A$53,0))","v":"Alabama"}]
[2015,"AK","2015AK",0,0,0,0,0,0,1177.3900000000001,0,{"$f":"INDEX('Coal codes'!$B$4:$B$53,MATCH(B1257,'Coal codes'!$A$4:$A$53,0))","v":"Alaska"}]
[2015,"AZ","2015AZ",0,0,0,0,0,0,6804.5550000000003,0,{"$f":"INDEX('Coal codes'!$B$4:$B$53,MATCH(B1258,'Coal codes'!$A$4:$A$53,0))","v":"Arizona"}]
[2015,"AR","2015AR",548.95335395382256,0,0,91.272000000000006,0,91.272000000000006,0.19,0,{"$f":"INDEX('Coal codes'!$B$4:$B$53,MATCH(B1259,'Coal codes'!$A$4:$A$53,0))","v":"Arkansas"}]
[2015,"CA","2015CA",0,0,0,0,0,0,0,0,{"$f":"INDEX('Coal codes'!$B$4:$B$53,MATCH(B1260,'Coal codes'!$A$4:$A$53,0))","v":"California"}]
[2015,"CO","2015CO",1517.3987532211661,1320.13,774.78,13141.109,0,13141.109,5737.8059999999996,0,{"$f":"INDEX('Coal codes'!$B$4:$B$53,MATCH(B1261,'Coal codes'!$A$4:$A$53,0))","v":"Colorado"}]
[2015,"CT","2015CT",0,0,0,0,0,0,0,0,{"$f":"INDEX('Coal codes'!$B$4:$B$53,MATCH(B1262,'Coal codes'!$A$4:$A$53,0))","v":"Connecticut"}]
[2015,"DE","2015DE",0,0,0,0,0,0,0,0,{"$f":"INDEX('Coal codes'!$B$4:$B$53,MATCH(B1263,'Coal codes'!$A$4:$A$53,0))","v":"Delaware"}]
[2015,"FL","2015FL",0,0,0,0,0,0,0,0,{"$f":"INDEX('Coal codes'!$B$4:$B$53,MATCH(B1264,'Coal codes'!$A$4:$A$53,0))","v":"Florida"}]
[2015,"GA","2015GA",0,0,0,0,0,0,0,0,{"$f":"INDEX('Coal codes'!$B$4:$B$53,MATCH(B1265,'Coal codes'!$A$4:$A$53,0))","v":"Georgia"}]
[2015,"HI","2015HI",0,0,0,0,0,0,0,0,{"$f":"INDEX('Coal codes'!$B$4:$B$53,MATCH(B1266,'Coal codes'!$A$4:$A$53,0))","v":"Hawaii"}]
[2015,"ID","2015ID",0,0,0,0,0,0,0,0,{"$f":"INDEX('Coal codes'!$B$4:$B$53,MATCH(B1267,'Coal codes'!$A$4:$A$53,0))","v":"Idaho"}]
[2015,"IL","2015IL",9202.5083071868394,0,0,51973.264999999999,0,51973.264999999999,4127.7650000000003,0,{"$f":"INDEX('Coal codes'!$B$4:$B$53,MATCH(B1268,'Coal codes'!$A$4:$A$53,0))","v":"Illinois"}]
[2015,"IN","2015IN",5027.6434050291673,367.14,0,15607.761,0,15607.761,18687.683000000001,0,{"$f":"INDEX('Coal codes'!$B$4:$B$53,MATCH(B1269,'Coal codes'!$A$4:$A$53,0))","v":"Indiana"}]
[2015,"IA","2015IA",0,0,0,0,0,0,0,0,{"$f":"INDEX('Coal codes'!$B$4:$B$53,MATCH(B1270,'Coal codes'!$A$4:$A$53,0))","v":"Iowa"}]
[2015,"KS","2015KS",0,0,0,0,0,0,199.19900000000001,0,{"$f":"INDEX('Coal codes'!$B$4:$B$53,MATCH(B1271,'Coal codes'!$A$4:$A$53,0))","v":"Kansas"}]
[2015,"KY","2015KY",4587.4129292338603,0,0,14597.825999999999,28780.419000000002,43378.245000000003,13503.133,4543.5829999999996,{"$f":"INDEX('Coal codes'!$B$4:$B$53,MATCH(B1272,'Coal codes'!$A$4:$A$53,0))","v":"Kentucky"}]
[2015,"LA","2015LA",0,0,0,0,0,0,3438.7280000000001,0,{"$f":"INDEX('Coal codes'!$B$4:$B$53,MATCH(B1273,'Coal codes'!$A$4:$A$53,0))","v":"Louisiana"}]
[2015,"ME","2015ME",0,0,0,0,0,0,0,0,{"$f":"INDEX('Coal codes'!$B$4:$B$53,MATCH(B1274,'Coal codes'!$A$4:$A$53,0))","v":"Maine"}]
[2015,"MD","2015MD",0,0,0,599.077,0,599.077,1322.7919999999999,0,{"$f":"INDEX('Coal codes'!$B$4:$B$53,MATCH(B1275,'Coal codes'!$A$4:$A$53,0))","v":"Maryland"}]
[2015,"MA","2015MA",0,0,0,0,0,0,0,0,{"$f":"INDEX('Coal codes'!$B$4:$B$53,MATCH(B1276,'Coal codes'!$A$4:$A$53,0))","v":"Massachusetts"}]
[2015,"MI","2015MI",0,0,0,0,0,0,0,0,{"$f":"INDEX('Coal codes'!$B$4:$B$53,MATCH(B1277,'Coal codes'!$A$4:$A$53,0))","v":"Michigan"}]
[2015,"MN","2015MN",0,0,0,0,0,0,0,0,{"$f":"INDEX('Coal codes'!$B$4:$B$53,MATCH(B1278,'Coal codes'!$A$4:$A$53,0))","v":"Minnesota"}]
[2015,"MS","2015MS",0,0,0,0,0,0,3143.3919999999998,0,{"$f":"INDEX('Coal codes'!$B$4:$B$53,MATCH(B1279,'Coal codes'!$A$4:$A$53,0))","v":"Mississippi"}]
[2015,"MO","2015MO",0,0,0,0,0,0,138.20599999999999,0,{"$f":"INDEX('Coal codes'!$B$4:$B$53,MATCH(B1280,'Coal codes'!$A$4:$A$53,0))","v":"Missouri"}]
[2015,"MT","2015MT",25.913709360000002,0,0,6419.6450000000004,0,6419.6450000000004,35444.358999999997,0,{"$f":"INDEX('Coal codes'!$B$4:$B$53,MATCH(B1281,'Coal codes'!$A$4:$A$53,0))","v":"Montana"}]
[2015,"NE","2015NE",0,0,0,0,0,0,0,0,{"$f":"INDEX('Coal codes'!$B$4:$B$53,MATCH(B1282,'Coal codes'!$A$4:$A$53,0))","v":"Nebraska"}]
[2015,"NV","2015NV",0,0,0,0,0,0,0,0,{"$f":"INDEX('Coal codes'!$B$4:$B$53,MATCH(B1283,'Coal codes'!$A$4:$A$53,0))","v":"Nevada"}]
[2015,"NH","2015NH",0,0,0,0,0,0,0,0,{"$f":"INDEX('Coal codes'!$B$4:$B$53,MATCH(B1284,'Coal codes'!$A$4:$A$53,0))","v":"New Hampshire"}]
[2015,"NJ","2015NJ",0,0,0,0,0,0,0,0,{"$f":"INDEX('Coal codes'!$B$4:$B$53,MATCH(B1285,'Coal codes'!$A$4:$A$53,0))","v":"New Jersey"}]
[2015,"NM","2015NM",1616.9379614875916,633.38,0,6517.5190000000002,0,6517.5190000000002,13161.277,0,{"$f":"INDEX('Coal codes'!$B$4:$B$53,MATCH(B1286,'Coal codes'!$A$4:$A$53,0))","v":"New Mexico"}]
[2015,"NY","2015NY",0,0,0,0,0,{"$f":"SUM(G1287:H1287)","v":0},0,0,{"$f":"INDEX('Coal codes'!$B$4:$B$53,MATCH(B1287,'Coal codes'!$A$4:$A$53,0))","v":"New York"}]
[2015,"NC","2015NC",0,0,0,0,0,0,0,0,{"$f":"INDEX('Coal codes'!$B$4:$B$53,MATCH(B1288,'Coal codes'!$A$4:$A$53,0))","v":"North Carolina"}]
[2015,"ND","2015ND",0,0,0,0,0,0,28801.826000000001,0,{"$f":"INDEX('Coal codes'!$B$4:$B$53,MATCH(B1289,'Coal codes'!$A$4:$A$53,0))","v":"North Dakota"}]
[2015,"OH","2015OH",1644.6528865721677,0,0,12220.153,0,12220.153,4820.8220000000001,0,{"$f":"INDEX('Coal codes'!$B$4:$B$53,MATCH(B1290,'Coal codes'!$A$4:$A$53,0))","v":"Ohio"}]
[2015,"OK","2015OK",640.49816750000002,0,0,390.70600000000002,0,390.70600000000002,389.49299999999999,0,{"$f":"INDEX('Coal codes'!$B$4:$B$53,MATCH(B1291,'Coal codes'!$A$4:$A$53,0))","v":"Oklahoma"}]
[2015,"OR","2015OR",0,0,0,0,0,0,0,0,{"$f":"INDEX('Coal codes'!$B$4:$B$53,MATCH(B1292,'Coal codes'!$A$4:$A$53,0))","v":"Oregon"}]
[2015,"PA","2015PA",13064.233097278895,4538.8599999999997,689.41000000000008,43893.940999999999,0,43893.940999999999,6136.8919999999998,0,{"$f":"INDEX('Coal codes'!$B$4:$B$53,MATCH(B1293,'Coal codes'!$A$4:$A$53,0))","v":"Pennsylvania"}]
[2015,"RI","2015RI",0,0,0,0,0,0,0,0,{"$f":"INDEX('Coal codes'!$B$4:$B$53,MATCH(B1294,'Coal codes'!$A$4:$A$53,0))","v":"Rhode Island"}]
[2015,"SC","2015SC",0,0,0,0,0,0,0,0,{"$f":"INDEX('Coal codes'!$B$4:$B$53,MATCH(B1295,'Coal codes'!$A$4:$A$53,0))","v":"South Carolina"}]
[2015,"SD","2015SD",0,0,0,0,0,0,0,0,{"$f":"INDEX('Coal codes'!$B$4:$B$53,MATCH(B1296,'Coal codes'!$A$4:$A$53,0))","v":"South Dakota"}]
[2015,"TN","2015TN",12.696971760000002,0,0,531.197,0,531.197,366.28699999999998,0,{"$f":"INDEX('Coal codes'!$B$4:$B$53,MATCH(B1297,'Coal codes'!$A$4:$A$53,0))","v":"Tennessee"}]
[2015,"TX","2015TX",0,0,0,0,0,0,35917.966,0,{"$f":"INDEX('Coal codes'!$B$4:$B$53,MATCH(B1298,'Coal codes'!$A$4:$A$53,0))","v":"Texas"}]
[2015,"UT","2015UT",776.68346178547199,495,0,14103.385,0,14103.385,315.69299999999998,0,{"$f":"INDEX('Coal codes'!$B$4:$B$53,MATCH(B1299,'Coal codes'!$A$4:$A$53,0))","v":"Utah"}]
[2015,"VT","2015VT",0,0,0,0,0,0,0,0,{"$f":"INDEX('Coal codes'!$B$4:$B$53,MATCH(B1300,'Coal codes'!$A$4:$A$53,0))","v":"Vermont"}]
[2015,"VA","2015VA",4948.5331754256958,18682.236464566002,18682.236464566002,9676.9459999999999,0,9676.9459999999999,4237.3230000000003,0,{"$f":"INDEX('Coal codes'!$B$4:$B$53,MATCH(B1301,'Coal codes'!$A$4:$A$53,0))","v":"Virginia"}]
[2015,"WA","2015WA",0,0,0,0,0,0,0,0,{"$f":"INDEX('Coal codes'!$B$4:$B$53,MATCH(B1302,'Coal codes'!$A$4:$A$53,0))","v":"Washington"}]
[2015,"WV","2015WV",29514.429864274058,4442.51,1884.6859999999999,28424.197,46865.381999999998,75289.578999999998,19423.542000000001,919.779,{"$f":"INDEX('Coal codes'!$B$4:$B$53,MATCH(B1303,'Coal codes'!$A$4:$A$53,0))","v":"West Virginia"}]
[2015,"WI","2015WI",0,0,0,0,0,0,0,0,{"$f":"INDEX('Coal codes'!$B$4:$B$53,MATCH(B1304,'Coal codes'!$A$4:$A$53,0))","v":"Wisconsin"}]
[2015,"WY","2015WY",4.9848050000000006,0,0,3090.1750000000002,0,3090.1750000000002,372682.32900000003,0,{"$f":"INDEX('Coal codes'!$B$4:$B$53,MATCH(B1305,'Coal codes'!$A$4:$A$53,0))","v":"Wyoming"}]
[2016,"AL","2016AL",8625.8137322665225,13010.64552,11652.64552,7434.009,0,7434.009,2208.9650000000001,0,{"$f":"INDEX('Coal codes'!$B$4:$B$53,MATCH(B1306,'Coal codes'!$A$4:$A$53,0))","v":"Alabama"}]
[2016,"AK","2016AK",0,0,0,0,0,0,932.12199999999996,0,{"$f":"INDEX('Coal codes'!$B$4:$B$53,MATCH(B1307,'Coal codes'!$A$4:$A$53,0))","v":"Alaska"}]
[2016,"AZ","2016AZ",0,0,0,0,0,0,5422.85,0,{"$f":"INDEX('Coal codes'!$B$4:$B$53,MATCH(B1308,'Coal codes'!$A$4:$A$53,0))","v":"Arizona"}]
[2016,"AR","2016AR",241.66467499999999,0,0,36.780999999999999,0,36.780999999999999,12.634,0,{"$f":"INDEX('Coal codes'!$B$4:$B$53,MATCH(B1309,'Coal codes'!$A$4:$A$53,0))","v":"Arkansas"}]
[2016,"CA","2016CA",0,0,0,0,0,0,0,0,{"$f":"INDEX('Coal codes'!$B$4:$B$53,MATCH(B1310,'Coal codes'!$A$4:$A$53,0))","v":"California"}]
[2016,"CO","2016CO",1213.7329064728808,353,88,8785.2170000000006,0,8785.2170000000006,3848.9189999999999,0,{"$f":"INDEX('Coal codes'!$B$4:$B$53,MATCH(B1311,'Coal codes'!$A$4:$A$53,0))","v":"Colorado"}]
[2016,"CT","2016CT",0,0,0,0,0,0,0,0,{"$f":"INDEX('Coal codes'!$B$4:$B$53,MATCH(B1312,'Coal codes'!$A$4:$A$53,0))","v":"Connecticut"}]
[2016,"DE","2016DE",0,0,0,0,0,0,0,0,{"$f":"INDEX('Coal codes'!$B$4:$B$53,MATCH(B1313,'Coal codes'!$A$4:$A$53,0))","v":"Delaware"}]
[2016,"FL","2016FL",0,0,0,0,0,0,0,0,{"$f":"INDEX('Coal codes'!$B$4:$B$53,MATCH(B1314,'Coal codes'!$A$4:$A$53,0))","v":"Florida"}]
[2016,"GA","2016GA",0,0,0,0,0,0,0,0,{"$f":"INDEX('Coal codes'!$B$4:$B$53,MATCH(B1315,'Coal codes'!$A$4:$A$53,0))","v":"Georgia"}]
[2016,"HI","2016HI",0,0,0,0,0,0,0,0,{"$f":"INDEX('Coal codes'!$B$4:$B$53,MATCH(B1316,'Coal codes'!$A$4:$A$53,0))","v":"Hawaii"}]
[2016,"ID","2016ID",0,0,0,0,0,0,0,0,{"$f":"INDEX('Coal codes'!$B$4:$B$53,MATCH(B1317,'Coal codes'!$A$4:$A$53,0))","v":"Idaho"}]
[2016,"IL","2016IL",10035.89618263121,0,0,41257.171000000002,0,41257.171000000002,2164.9650000000001,0,{"$f":"INDEX('Coal codes'!$B$4:$B$53,MATCH(B1318,'Coal codes'!$A$4:$A$53,0))","v":"Illinois"}]
[2016,"IN","2016IN",4989.9839105892606,434,0,12263.212,0,12263.212,16503.492999999999,0,{"$f":"INDEX('Coal codes'!$B$4:$B$53,MATCH(B1319,'Coal codes'!$A$4:$A$53,0))","v":"Indiana"}]
[2016,"IA","2016IA",0,0,0,0,0,0,0,0,{"$f":"INDEX('Coal codes'!$B$4:$B$53,MATCH(B1320,'Coal codes'!$A$4:$A$53,0))","v":"Iowa"}]
[2016,"KS","2016KS",0,0,0,0,0,0,26.788,0,{"$f":"INDEX('Coal codes'!$B$4:$B$53,MATCH(B1321,'Coal codes'!$A$4:$A$53,0))","v":"Kansas"}]
[2016,"KY","2016KY",3692.3266089261947,0,0,9654.0439999999999,23057.263999999999,32711.307999999997,7117.8419999999996,3038.748,{"$f":"INDEX('Coal codes'!$B$4:$B$53,MATCH(B1322,'Coal codes'!$A$4:$A$53,0))","v":"Kentucky"}]
[2016,"LA","2016LA",0,0,0,0,0,0,2797.6559999999999,0,{"$f":"INDEX('Coal codes'!$B$4:$B$53,MATCH(B1323,'Coal codes'!$A$4:$A$53,0))","v":"Louisiana"}]
[2016,"ME","2016ME",0,0,0,0,0,0,0,0,{"$f":"INDEX('Coal codes'!$B$4:$B$53,MATCH(B1324,'Coal codes'!$A$4:$A$53,0))","v":"Maine"}]
[2016,"MD","2016MD",0.73,0,0,708.78700000000003,0,708.78700000000003,906.95899999999995,0,{"$f":"INDEX('Coal codes'!$B$4:$B$53,MATCH(B1325,'Coal codes'!$A$4:$A$53,0))","v":"Maryland"}]
[2016,"MA","2016MA",0,0,0,0,0,0,0,0,{"$f":"INDEX('Coal codes'!$B$4:$B$53,MATCH(B1326,'Coal codes'!$A$4:$A$53,0))","v":"Massachusetts"}]
[2016,"MI","2016MI",0,0,0,0,0,0,0,0,{"$f":"INDEX('Coal codes'!$B$4:$B$53,MATCH(B1327,'Coal codes'!$A$4:$A$53,0))","v":"Michigan"}]
[2016,"MN","2016MN",0,0,0,0,0,0,0,0,{"$f":"INDEX('Coal codes'!$B$4:$B$53,MATCH(B1328,'Coal codes'!$A$4:$A$53,0))","v":"Minnesota"}]
[2016,"MS","2016MS",0,0,0,0,0,0,2869.74,0,{"$f":"INDEX('Coal codes'!$B$4:$B$53,MATCH(B1329,'Coal codes'!$A$4:$A$53,0))","v":"Mississippi"}]
[2016,"MO","2016MO",0,0,0,0,0,0,233.898,0,{"$f":"INDEX('Coal codes'!$B$4:$B$53,MATCH(B1330,'Coal codes'!$A$4:$A$53,0))","v":"Missouri"}]
[2016,"MT","2016MT",0,0,0,5609.0420000000004,0,5609.0420000000004,26726.614000000001,0,{"$f":"INDEX('Coal codes'!$B$4:$B$53,MATCH(B1331,'Coal codes'!$A$4:$A$53,0))","v":"Montana"}]
[2016,"NE","2016NE",0,0,0,0,0,0,0,0,{"$f":"INDEX('Coal codes'!$B$4:$B$53,MATCH(B1332,'Coal codes'!$A$4:$A$53,0))","v":"Nebraska"}]
[2016,"NV","2016NV",0,0,0,0,0,0,0,0,{"$f":"INDEX('Coal codes'!$B$4:$B$53,MATCH(B1333,'Coal codes'!$A$4:$A$53,0))","v":"Nevada"}]
[2016,"NH","2016NH",0,0,0,0,0,0,0,0,{"$f":"INDEX('Coal codes'!$B$4:$B$53,MATCH(B1334,'Coal codes'!$A$4:$A$53,0))","v":"New Hampshire"}]
[2016,"NJ","2016NJ",0,0,0,0,0,0,0,0,{"$f":"INDEX('Coal codes'!$B$4:$B$53,MATCH(B1335,'Coal codes'!$A$4:$A$53,0))","v":"New Jersey"}]
[2016,"NM","2016NM",1425.1049249643308,261,0,4330.7169999999996,0,4330.7169999999996,9010.3719999999994,0,{"$f":"INDEX('Coal codes'!$B$4:$B$53,MATCH(B1336,'Coal codes'!$A$4:$A$53,0))","v":"New Mexico"}]
[2016,"NY","2016NY",0,0,0,0,0,0,0,0,{"$f":"INDEX('Coal codes'!$B$4:$B$53,MATCH(B1337,'Coal codes'!$A$4:$A$53,0))","v":"New York"}]
[2016,"NC","2016NC",0,0,0,0,0,0,0,0,{"$f":"INDEX('Coal codes'!$B$4:$B$53,MATCH(B1338,'Coal codes'!$A$4:$A$53,0))","v":"North Carolina"}]
[2016,"ND","2016ND",0,0,0,0,0,0,28120.859,0,{"$f":"INDEX('Coal codes'!$B$4:$B$53,MATCH(B1339,'Coal codes'!$A$4:$A$53,0))","v":"North Dakota"}]
[2016,"OH","2016OH",1224.6303364925122,0,0,9297.1669999999995,0,9297.1669999999995,3266.962,0,{"$f":"INDEX('Coal codes'!$B$4:$B$53,MATCH(B1340,'Coal codes'!$A$4:$A$53,0))","v":"Ohio"}]
[2016,"OK","2016OK",789.26991666666675,0,0,383.66800000000001,0,383.66800000000001,270.55200000000002,0,{"$f":"INDEX('Coal codes'!$B$4:$B$53,MATCH(B1341,'Coal codes'!$A$4:$A$53,0))","v":"Oklahoma"}]
[2016,"OR","2016OR",0,0,0,0,0,0,0,0,{"$f":"INDEX('Coal codes'!$B$4:$B$53,MATCH(B1342,'Coal codes'!$A$4:$A$53,0))","v":"Oregon"}]
[2016,"PA","2016PA",11663.425485811771,4383,447,41386.186000000002,0,41386.186000000002,4333.6000000000004,0,{"$f":"INDEX('Coal codes'!$B$4:$B$53,MATCH(B1343,'Coal codes'!$A$4:$A$53,0))","v":"Pennsylvania"}]
[2016,"RI","2016RI",0,0,0,0,0,0,0,0,{"$f":"INDEX('Coal codes'!$B$4:$B$53,MATCH(B1344,'Coal codes'!$A$4:$A$53,0))","v":"Rhode Island"}]
[2016,"SC","2016SC",0,0,0,0,0,0,0,0,{"$f":"INDEX('Coal codes'!$B$4:$B$53,MATCH(B1345,'Coal codes'!$A$4:$A$53,0))","v":"South Carolina"}]
[2016,"SD","2016SD",0,0,0,0,0,0,0,0,{"$f":"INDEX('Coal codes'!$B$4:$B$53,MATCH(B1346,'Coal codes'!$A$4:$A$53,0))","v":"South Dakota"}]
[2016,"TN","2016TN",8.19,0,0,423.27800000000002,0,423.27800000000002,220.703,0,{"$f":"INDEX('Coal codes'!$B$4:$B$53,MATCH(B1347,'Coal codes'!$A$4:$A$53,0))","v":"Tennessee"}]
[2016,"TX","2016TX",0,0,0,0,0,0,39000.584000000003,0,{"$f":"INDEX('Coal codes'!$B$4:$B$53,MATCH(B1348,'Coal codes'!$A$4:$A$53,0))","v":"Texas"}]
[2016,"UT","2016UT",338.98900539840247,0,0,13297.097,0,13297.097,669.02499999999998,0,{"$f":"INDEX('Coal codes'!$B$4:$B$53,MATCH(B1349,'Coal codes'!$A$4:$A$53,0))","v":"Utah"}]
[2016,"VT","2016VT",0,0,0,0,0,0,0,0,{"$f":"INDEX('Coal codes'!$B$4:$B$53,MATCH(B1350,'Coal codes'!$A$4:$A$53,0))","v":"Vermont"}]
[2016,"VA","2016VA",5349.8865549188986,19623.216122392401,19623.216122392401,8970.7530000000006,0,{"$f":"SUM(G1351:H1351)","v":8970.7530000000006},3938.9340000000002,0,{"$f":"INDEX('Coal codes'!$B$4:$B$53,MATCH(B1351,'Coal codes'!$A$4:$A$53,0))","v":"Virginia"}]
[2016,"WA","2016WA",0,0,0,0,0,0,0,0,{"$f":"INDEX('Coal codes'!$B$4:$B$53,MATCH(B1352,'Coal codes'!$A$4:$A$53,0))","v":"Washington"}]
[2016,"WV","2016WV",26575.432951038667,3984,1848.955469562462,20751.554,43293.042000000001,64044.596000000005,15481.383,231.33600000000001,{"$f":"INDEX('Coal codes'!$B$4:$B$53,MATCH(B1353,'Coal codes'!$A$4:$A$53,0))","v":"West Virginia"}]
[2016,"WI","2016WI",0,0,0,0,0,0,0,0,{"$f":"INDEX('Coal codes'!$B$4:$B$53,MATCH(B1354,'Coal codes'!$A$4:$A$53,0))","v":"Wisconsin"}]
[2016,"WY","2016WY",0,0,0,1167.2650000000001,0,1167.2650000000001,296050.86700000003,0,{"$f":"INDEX('Coal codes'!$B$4:$B$53,MATCH(B1355,'Coal codes'!$A$4:$A$53,0))","v":"Wyoming"}]
[2017,"AL","2017AL",10503.508238183907,14687.885422017556,15189.238879999999,10490.757,0,10490.757,2369.9009999999998,0,{"$f":"INDEX('Coal codes'!$B$4:$B$53,MATCH(B1356,'Coal codes'!$A$4:$A$53,0))","v":"Alabama"}]
[2017,"AK","2017AK",0,0,0,0,0,0,959.06799999999998,0,{"$f":"INDEX('Coal codes'!$B$4:$B$53,MATCH(B1357,'Coal codes'!$A$4:$A$53,0))","v":"Alaska"}]
[2017,"AZ","2017AZ",0,0,0,0,0,0,6221.3919999999998,0,{"$f":"INDEX('Coal codes'!$B$4:$B$53,MATCH(B1358,'Coal codes'!$A$4:$A$53,0))","v":"Arizona"}]
[2017,"AR","2017AR",764.45836084799976,0,0,23.893000000000001,0,23.893000000000001,18.844999999999999,0,{"$f":"INDEX('Coal codes'!$B$4:$B$53,MATCH(B1359,'Coal codes'!$A$4:$A$53,0))","v":"Arkansas"}]
[2017,"CA","2017CA",0,0,0,0,0,0,0,0,{"$f":"INDEX('Coal codes'!$B$4:$B$53,MATCH(B1360,'Coal codes'!$A$4:$A$53,0))","v":"California"}]
[2017,"CO","2017CO",858.84610502700014,134.11306357999996,0,11117.589,0,11117.589,3928.9209999999998,0,{"$f":"INDEX('Coal codes'!$B$4:$B$53,MATCH(B1361,'Coal codes'!$A$4:$A$53,0))","v":"Colorado"}]
[2017,"CT","2017CT",0,0,0,0,0,0,0,0,{"$f":"INDEX('Coal codes'!$B$4:$B$53,MATCH(B1362,'Coal codes'!$A$4:$A$53,0))","v":"Connecticut"}]
[2017,"DE","2017DE",0,0,0,0,0,0,0,0,{"$f":"INDEX('Coal codes'!$B$4:$B$53,MATCH(B1363,'Coal codes'!$A$4:$A$53,0))","v":"Delaware"}]
[2017,"FL","2017FL",0,0,0,0,0,0,0,0,{"$f":"INDEX('Coal codes'!$B$4:$B$53,MATCH(B1364,'Coal codes'!$A$4:$A$53,0))","v":"Florida"}]
[2017,"GA","2017GA",0,0,0,0,0,0,0,0,{"$f":"INDEX('Coal codes'!$B$4:$B$53,MATCH(B1365,'Coal codes'!$A$4:$A$53,0))","v":"Georgia"}]
[2017,"HI","2017HI",0,0,0,0,0,0,0,0,{"$f":"INDEX('Coal codes'!$B$4:$B$53,MATCH(B1366,'Coal codes'!$A$4:$A$53,0))","v":"Hawaii"}]
[2017,"ID","2017ID",0,0,0,0,0,0,0,0,{"$f":"INDEX('Coal codes'!$B$4:$B$53,MATCH(B1367,'Coal codes'!$A$4:$A$53,0))","v":"Idaho"}]
[2017,"IL","2017IL",7367.9728363765444,0,0,44905.845000000001,0,44905.845000000001,3298.3,0,{"$f":"INDEX('Coal codes'!$B$4:$B$53,MATCH(B1368,'Coal codes'!$A$4:$A$53,0))","v":"Illinois"}]
[2017,"IN","2017IN",4160.2347470156001,506.05284957700007,0,14396.119000000001,0,14396.119000000001,17075.748,0,{"$f":"INDEX('Coal codes'!$B$4:$B$53,MATCH(B1369,'Coal codes'!$A$4:$A$53,0))","v":"Indiana"}]
[2017,"IA","2017IA",0,0,0,0,0,0,0,0,{"$f":"INDEX('Coal codes'!$B$4:$B$53,MATCH(B1370,'Coal codes'!$A$4:$A$53,0))","v":"Iowa"}]
[2017,"KS","2017KS",0,0,0,0,0,0,0,0,{"$f":"INDEX('Coal codes'!$B$4:$B$53,MATCH(B1371,'Coal codes'!$A$4:$A$53,0))","v":"Kansas"}]
[2017,"KY","2017KY",3484.9857600999267,0,0,9959.0049999999992,21552.782999999999,31511.788,8219.8490000000002,2052.7750000000001,{"$f":"INDEX('Coal codes'!$B$4:$B$53,MATCH(B1372,'Coal codes'!$A$4:$A$53,0))","v":"Kentucky"}]
[2017,"LA","2017LA",0,0,0,0,0,0,2078.567,0,{"$f":"INDEX('Coal codes'!$B$4:$B$53,MATCH(B1373,'Coal codes'!$A$4:$A$53,0))","v":"Louisiana"}]
[2017,"ME","2017ME",0,0,0,0,0,0,0,0,{"$f":"INDEX('Coal codes'!$B$4:$B$53,MATCH(B1374,'Coal codes'!$A$4:$A$53,0))","v":"Maine"}]
[2017,"MD","2017MD",2.8032600959999998,0,0,744.47,0,744.47,1063.914,0,{"$f":"INDEX('Coal codes'!$B$4:$B$53,MATCH(B1375,'Coal codes'!$A$4:$A$53,0))","v":"Maryland"}]
[2017,"MA","2017MA",0,0,0,0,0,0,0,0,{"$f":"INDEX('Coal codes'!$B$4:$B$53,MATCH(B1376,'Coal codes'!$A$4:$A$53,0))","v":"Massachusetts"}]
[2017,"MI","2017MI",0,0,0,0,0,0,0,0,{"$f":"INDEX('Coal codes'!$B$4:$B$53,MATCH(B1377,'Coal codes'!$A$4:$A$53,0))","v":"Michigan"}]
[2017,"MN","2017MN",0,0,0,0,0,0,0,0,{"$f":"INDEX('Coal codes'!$B$4:$B$53,MATCH(B1378,'Coal codes'!$A$4:$A$53,0))","v":"Minnesota"}]
[2017,"MS","2017MS",0,0,0,0,0,0,2603.6680000000001,0,{"$f":"INDEX('Coal codes'!$B$4:$B$53,MATCH(B1379,'Coal codes'!$A$4:$A$53,0))","v":"Mississippi"}]
[2017,"MO","2017MO",0,0,0,0,0,0,244.345,0,{"$f":"INDEX('Coal codes'!$B$4:$B$53,MATCH(B1380,'Coal codes'!$A$4:$A$53,0))","v":"Missouri"}]
[2017,"MT","2017MT",0.95351255999999984,0,0,5883.82,0,5883.82,29348.023000000001,0,{"$f":"INDEX('Coal codes'!$B$4:$B$53,MATCH(B1381,'Coal codes'!$A$4:$A$53,0))","v":"Montana"}]
[2017,"NE","2017NE",0,0,0,0,0,0,0,0,{"$f":"INDEX('Coal codes'!$B$4:$B$53,MATCH(B1382,'Coal codes'!$A$4:$A$53,0))","v":"Nebraska"}]
[2017,"NV","2017NV",0,0,0,0,0,0,0,0,{"$f":"INDEX('Coal codes'!$B$4:$B$53,MATCH(B1383,'Coal codes'!$A$4:$A$53,0))","v":"Nevada"}]
[2017,"NH","2017NH",0,0,0,0,0,0,0,0,{"$f":"INDEX('Coal codes'!$B$4:$B$53,MATCH(B1384,'Coal codes'!$A$4:$A$53,0))","v":"New Hampshire"}]
[2017,"NJ","2017NJ",0,0,0,0,0,0,0,0,{"$f":"INDEX('Coal codes'!$B$4:$B$53,MATCH(B1385,'Coal codes'!$A$4:$A$53,0))","v":"New Jersey"}]
[2017,"NM","2017NM",1159.3986808000002,273.59777373405473,0,5327.442,0,5327.442,8516.241,0,{"$f":"INDEX('Coal codes'!$B$4:$B$53,MATCH(B1386,'Coal codes'!$A$4:$A$53,0))","v":"New Mexico"}]
[2017,"NY","2017NY",0,0,0,0,0,0,0,0,{"$f":"INDEX('Coal codes'!$B$4:$B$53,MATCH(B1387,'Coal codes'!$A$4:$A$53,0))","v":"New York"}]
[2017,"NC","2017NC",0,0,0,0,0,0,0,0,{"$f":"INDEX('Coal codes'!$B$4:$B$53,MATCH(B1388,'Coal codes'!$A$4:$A$53,0))","v":"North Carolina"}]
[2017,"ND","2017ND",0,0,0,0,0,0,28787.505000000001,0,{"$f":"INDEX('Coal codes'!$B$4:$B$53,MATCH(B1389,'Coal codes'!$A$4:$A$53,0))","v":"North Dakota"}]
[2017,"OH","2017OH",875.28494463631546,0,0,6800.5280000000002,0,6800.5280000000002,2688.366,0,{"$f":"INDEX('Coal codes'!$B$4:$B$53,MATCH(B1390,'Coal codes'!$A$4:$A$53,0))","v":"Ohio"}]
[2017,"OK","2017OK",2340.2158284959996,0,0,319.25,0,319.25,242.095,0,{"$f":"INDEX('Coal codes'!$B$4:$B$53,MATCH(B1391,'Coal codes'!$A$4:$A$53,0))","v":"Oklahoma"}]
[2017,"OR","2017OR",0,0,0,0,0,0,0,0,{"$f":"INDEX('Coal codes'!$B$4:$B$53,MATCH(B1392,'Coal codes'!$A$4:$A$53,0))","v":"Oregon"}]
[2017,"PA","2017PA",13339.306929624616,4225.9274486160984,460.35716373511201,43588.641000000003,0,43588.641000000003,5496.7030000000004,0,{"$f":"INDEX('Coal codes'!$B$4:$B$53,MATCH(B1393,'Coal codes'!$A$4:$A$53,0))","v":"Pennsylvania"}]
[2017,"RI","2017RI",0,0,0,0,0,0,0,0,{"$f":"INDEX('Coal codes'!$B$4:$B$53,MATCH(B1394,'Coal codes'!$A$4:$A$53,0))","v":"Rhode Island"}]
[2017,"SC","2017SC",0,0,0,0,0,0,0,0,{"$f":"INDEX('Coal codes'!$B$4:$B$53,MATCH(B1395,'Coal codes'!$A$4:$A$53,0))","v":"South Carolina"}]
[2017,"SD","2017SD",0,0,0,0,0,0,0,0,{"$f":"INDEX('Coal codes'!$B$4:$B$53,MATCH(B1396,'Coal codes'!$A$4:$A$53,0))","v":"South Dakota"}]
[2017,"TN","2017TN",3.1939165439999999,0,0,329.24599999999998,0,329.24599999999998,101.866,0,{"$f":"INDEX('Coal codes'!$B$4:$B$53,MATCH(B1397,'Coal codes'!$A$4:$A$53,0))","v":"Tennessee"}]
[2017,"TX","2017TX",0,0,0,0,0,0,36382.243999999999,0,{"$f":"INDEX('Coal codes'!$B$4:$B$53,MATCH(B1398,'Coal codes'!$A$4:$A$53,0))","v":"Texas"}]
[2017,"UT","2017UT",217.40626256100001,0,0,13601.793,0,13601.793,723.94399999999996,0,{"$f":"INDEX('Coal codes'!$B$4:$B$53,MATCH(B1399,'Coal codes'!$A$4:$A$53,0))","v":"Utah"}]
[2017,"VT","2017VT",0,0,0,0,0,0,0,0,{"$f":"INDEX('Coal codes'!$B$4:$B$53,MATCH(B1400,'Coal codes'!$A$4:$A$53,0))","v":"Vermont"}]
[2017,"VA","2017VA",6235.6682438039943,18075.672224566002,18075.672224566002,9819.9930000000004,0,9819.9930000000004,3381.8560000000002,0,{"$f":"INDEX('Coal codes'!$B$4:$B$53,MATCH(B1401,'Coal codes'!$A$4:$A$53,0))","v":"Virginia"}]
[2017,"WA","2017WA",0,0,0,0,0,0,0,0,{"$f":"INDEX('Coal codes'!$B$4:$B$53,MATCH(B1402,'Coal codes'!$A$4:$A$53,0))","v":"Washington"}]
[2017,"WV","2017WV",26930.781193437047,4539.5786180576706,2466.9245645499832,25944.326000000001,46607.559000000001,72551.885000000009,20092.307000000001,146.58199999999999,{"$f":"INDEX('Coal codes'!$B$4:$B$53,MATCH(B1403,'Coal codes'!$A$4:$A$53,0))","v":"West Virginia"}]
[2017,"WI","2017WI",0,0,0,0,0,0,0,0,{"$f":"INDEX('Coal codes'!$B$4:$B$53,MATCH(B1404,'Coal codes'!$A$4:$A$53,0))","v":"Wisconsin"}]
[2017,"WY","2017WY",0,0,0,1715.8009999999999,0,1715.8009999999999,314738.64399999997,0,{"$f":"INDEX('Coal codes'!$B$4:$B$53,MATCH(B1405,'Coal codes'!$A$4:$A$53,0))","v":"Wyoming"}]
[2018,"AL","2018AL",11175.34439286156,16742.28175299909,17000.942480000002,12199.405000000001,0,12199.405000000001,2583.712,0,{"$f":"INDEX('Coal codes'!$B$4:$B$53,MATCH(B1406,'Coal codes'!$A$4:$A$53,0))","v":"Alabama"}]
[2018,"AK","2018AK",0,0,0,0,0,0,901.64099999999996,0,{"$f":"INDEX('Coal codes'!$B$4:$B$53,MATCH(B1407,'Coal codes'!$A$4:$A$53,0))","v":"Alaska"}]
[2018,"AZ","2018AZ",0,0,0,0,0,0,6550.4170000000004,0,{"$f":"INDEX('Coal codes'!$B$4:$B$53,MATCH(B1408,'Coal codes'!$A$4:$A$53,0))","v":"Arizona"}]
[2018,"AR","2018AR",71.456112000000005,0,0,0,0,0,0,0,{"$f":"INDEX('Coal codes'!$B$4:$B$53,MATCH(B1409,'Coal codes'!$A$4:$A$53,0))","v":"Arkansas"}]
[2018,"CA","2018CA",0,0,0,0,0,0,0,0,{"$f":"INDEX('Coal codes'!$B$4:$B$53,MATCH(B1410,'Coal codes'!$A$4:$A$53,0))","v":"California"}]
[2018,"CO","2018CO",631.12539949200004,102.07149389999999,0,10414.151,0,10414.151,3611.357,0,{"$f":"INDEX('Coal codes'!$B$4:$B$53,MATCH(B1411,'Coal codes'!$A$4:$A$53,0))","v":"Colorado"}]
[2018,"CT","2018CT",0,0,0,0,0,0,0,0,{"$f":"INDEX('Coal codes'!$B$4:$B$53,MATCH(B1412,'Coal codes'!$A$4:$A$53,0))","v":"Connecticut"}]
[2018,"DE","2018DE",0,0,0,0,0,0,0,0,{"$f":"INDEX('Coal codes'!$B$4:$B$53,MATCH(B1413,'Coal codes'!$A$4:$A$53,0))","v":"Delaware"}]
[2018,"FL","2018FL",0,0,0,0,0,0,0,0,{"$f":"INDEX('Coal codes'!$B$4:$B$53,MATCH(B1414,'Coal codes'!$A$4:$A$53,0))","v":"Florida"}]
[2018,"GA","2018GA",0,0,0,0,0,{"$f":"SUM(G1415:H1415)","v":0},0,0,{"$f":"INDEX('Coal codes'!$B$4:$B$53,MATCH(B1415,'Coal codes'!$A$4:$A$53,0))","v":"Georgia"}]
[2018,"HI","2018HI",0,0,0,0,0,0,0,0,{"$f":"INDEX('Coal codes'!$B$4:$B$53,MATCH(B1416,'Coal codes'!$A$4:$A$53,0))","v":"Hawaii"}]
[2018,"ID","2018ID",0,0,0,0,0,0,0,0,{"$f":"INDEX('Coal codes'!$B$4:$B$53,MATCH(B1417,'Coal codes'!$A$4:$A$53,0))","v":"Idaho"}]
[2018,"IL","2018IL",5348.8227969538948,0,0,46072.226000000002,0,46072.226000000002,3491.2289999999998,0,{"$f":"INDEX('Coal codes'!$B$4:$B$53,MATCH(B1418,'Coal codes'!$A$4:$A$53,0))","v":"Illinois"}]
[2018,"IN","2018IN",4754.2802439681909,532.85639643000002,0,17355.793000000001,0,17355.793000000001,17242.414000000001,0,{"$f":"INDEX('Coal codes'!$B$4:$B$53,MATCH(B1419,'Coal codes'!$A$4:$A$53,0))","v":"Indiana"}]
[2018,"IA","2018IA",0,0,0,0,0,0,0,0,{"$f":"INDEX('Coal codes'!$B$4:$B$53,MATCH(B1420,'Coal codes'!$A$4:$A$53,0))","v":"Iowa"}]
[2018,"KS","2018KS",0,0,0,0,0,0,0,0,{"$f":"INDEX('Coal codes'!$B$4:$B$53,MATCH(B1421,'Coal codes'!$A$4:$A$53,0))","v":"Kansas"}]
[2018,"KY","2018KY",3594.7079137135447,0,0,8975.9290000000001,21987.608,30963.537,7931.9709999999995,671.51599999999996,{"$f":"INDEX('Coal codes'!$B$4:$B$53,MATCH(B1422,'Coal codes'!$A$4:$A$53,0))","v":"Kentucky"}]
[2018,"LA","2018LA",99.631114128000007,0,0,0,0,0,1483.241,0,{"$f":"INDEX('Coal codes'!$B$4:$B$53,MATCH(B1423,'Coal codes'!$A$4:$A$53,0))","v":"Louisiana"}]
[2018,"ME","2018ME",0,0,0,0,0,0,0,0,{"$f":"INDEX('Coal codes'!$B$4:$B$53,MATCH(B1424,'Coal codes'!$A$4:$A$53,0))","v":"Maine"}]
[2018,"MD","2018MD",0,0,0,435.80799999999999,0,435.80799999999999,862.3,0,{"$f":"INDEX('Coal codes'!$B$4:$B$53,MATCH(B1425,'Coal codes'!$A$4:$A$53,0))","v":"Maryland"}]
[2018,"MA","2018MA",0,0,0,0,0,0,0,0,{"$f":"INDEX('Coal codes'!$B$4:$B$53,MATCH(B1426,'Coal codes'!$A$4:$A$53,0))","v":"Massachusetts"}]
[2018,"MI","2018MI",0,0,0,0,0,0,0,0,{"$f":"INDEX('Coal codes'!$B$4:$B$53,MATCH(B1427,'Coal codes'!$A$4:$A$53,0))","v":"Michigan"}]
[2018,"MN","2018MN",0,0,0,0,0,0,0,0,{"$f":"INDEX('Coal codes'!$B$4:$B$53,MATCH(B1428,'Coal codes'!$A$4:$A$53,0))","v":"Minnesota"}]
[2018,"MS","2018MS",0,0,0,0,0,0,2939.7379999999998,0,{"$f":"INDEX('Coal codes'!$B$4:$B$53,MATCH(B1429,'Coal codes'!$A$4:$A$53,0))","v":"Mississippi"}]
[2018,"MO","2018MO",0,0,0,0,0,0,258.90199999999999,0,{"$f":"INDEX('Coal codes'!$B$4:$B$53,MATCH(B1430,'Coal codes'!$A$4:$A$53,0))","v":"Missouri"}]
[2018,"MT","2018MT",0,0,0,7566.48,0,7566.48,31043.66,0,{"$f":"INDEX('Coal codes'!$B$4:$B$53,MATCH(B1431,'Coal codes'!$A$4:$A$53,0))","v":"Montana"}]
[2018,"NE","2018NE",0,0,0,0,0,0,0,0,{"$f":"INDEX('Coal codes'!$B$4:$B$53,MATCH(B1432,'Coal codes'!$A$4:$A$53,0))","v":"Nebraska"}]
[2018,"NV","2018NV",0,0,0,0,0,0,0,0,{"$f":"INDEX('Coal codes'!$B$4:$B$53,MATCH(B1433,'Coal codes'!$A$4:$A$53,0))","v":"Nevada"}]
[2018,"NH","2018NH",0,0,0,0,0,0,0,0,{"$f":"INDEX('Coal codes'!$B$4:$B$53,MATCH(B1434,'Coal codes'!$A$4:$A$53,0))","v":"New Hampshire"}]
[2018,"NJ","2018NJ",0,0,0,0,0,0,0,0,{"$f":"INDEX('Coal codes'!$B$4:$B$53,MATCH(B1435,'Coal codes'!$A$4:$A$53,0))","v":"New Jersey"}]
[2018,"NM","2018NM",1064.5029297179999,113.1946799426451,0,1848.018,0,1848.018,8944.0280000000002,0,{"$f":"INDEX('Coal codes'!$B$4:$B$53,MATCH(B1436,'Coal codes'!$A$4:$A$53,0))","v":"New Mexico"}]
[2018,"NY","2018NY",0,0,0,0,0,0,0,0,{"$f":"INDEX('Coal codes'!$B$4:$B$53,MATCH(B1437,'Coal codes'!$A$4:$A$53,0))","v":"New York"}]
[2018,"NC","2018NC",0,0,0,0,0,0,0,0,{"$f":"INDEX('Coal codes'!$B$4:$B$53,MATCH(B1438,'Coal codes'!$A$4:$A$53,0))","v":"North Carolina"}]
[2018,"ND","2018ND",0,0,0,0,0,0,29643.43,0,{"$f":"INDEX('Coal codes'!$B$4:$B$53,MATCH(B1439,'Coal codes'!$A$4:$A$53,0))","v":"North Dakota"}]
[2018,"OH","2018OH",779.96814482317131,0,0,6518.152,0,6518.152,2474.6190000000001,0,{"$f":"INDEX('Coal codes'!$B$4:$B$53,MATCH(B1440,'Coal codes'!$A$4:$A$53,0))","v":"Ohio"}]
[2018,"OK","2018OK",2239.5493542240001,0,0,206.18299999999999,0,206.18299999999999,403.86399999999998,0,{"$f":"INDEX('Coal codes'!$B$4:$B$53,MATCH(B1441,'Coal codes'!$A$4:$A$53,0))","v":"Oklahoma"}]
[2018,"OR","2018OR",0,0,0,0,0,0,0,0,{"$f":"INDEX('Coal codes'!$B$4:$B$53,MATCH(B1442,'Coal codes'!$A$4:$A$53,0))","v":"Oregon"}]
[2018,"PA","2018PA",12673.145176137046,5673.6481983866652,229.76467800399996,44634.432000000001,0,44634.432000000001,5248.46,0,{"$f":"INDEX('Coal codes'!$B$4:$B$53,MATCH(B1443,'Coal codes'!$A$4:$A$53,0))","v":"Pennsylvania"}]
[2018,"RI","2018RI",0,0,0,0,0,0,0,0,{"$f":"INDEX('Coal codes'!$B$4:$B$53,MATCH(B1444,'Coal codes'!$A$4:$A$53,0))","v":"Rhode Island"}]
[2018,"SC","2018SC",0,0,0,0,0,0,0,0,{"$f":"INDEX('Coal codes'!$B$4:$B$53,MATCH(B1445,'Coal codes'!$A$4:$A$53,0))","v":"South Carolina"}]
[2018,"SD","2018SD",0,0,0,0,0,0,0,0,{"$f":"INDEX('Coal codes'!$B$4:$B$53,MATCH(B1446,'Coal codes'!$A$4:$A$53,0))","v":"South Dakota"}]
[2018,"TN","2018TN",17.078482511999997,0,0,173.80099999999999,0,173.80099999999999,58.228999999999999,0,{"$f":"INDEX('Coal codes'!$B$4:$B$53,MATCH(B1447,'Coal codes'!$A$4:$A$53,0))","v":"Tennessee"}]
[2018,"TX","2018TX",0,0,0,0,0,0,24822.522000000001,0,{"$f":"INDEX('Coal codes'!$B$4:$B$53,MATCH(B1448,'Coal codes'!$A$4:$A$53,0))","v":"Texas"}]
[2018,"UT","2018UT",190.58623019999996,0,0,13125.17,0,13125.17,493.53199999999998,0,{"$f":"INDEX('Coal codes'!$B$4:$B$53,MATCH(B1449,'Coal codes'!$A$4:$A$53,0))","v":"Utah"}]
[2018,"VT","2018VT",0,0,0,0,0,0,0,0,{"$f":"INDEX('Coal codes'!$B$4:$B$53,MATCH(B1450,'Coal codes'!$A$4:$A$53,0))","v":"Vermont"}]
[2018,"VA","2018VA",5678.5349005132848,19685.94531016349,19685.94531016349,9432.0049999999992,0,9432.0049999999992,3283.2339999999999,0,{"$f":"INDEX('Coal codes'!$B$4:$B$53,MATCH(B1451,'Coal codes'!$A$4:$A$53,0))","v":"Virginia"}]
[2018,"WA","2018WA",0,0,0,0,0,0,0,0,{"$f":"INDEX('Coal codes'!$B$4:$B$53,MATCH(B1452,'Coal codes'!$A$4:$A$53,0))","v":"Washington"}]
[2018,"WV","2018WV",22390.01438558802,4087.1749651419568,2067.6002625276524,26724.116000000002,45481.667999999998,72205.784,22525.635999999999,633.32299999999998,{"$f":"INDEX('Coal codes'!$B$4:$B$53,MATCH(B1453,'Coal codes'!$A$4:$A$53,0))","v":"West Virginia"}]
[2018,"WI","2018WI",0,0,0,0,0,0,0,0,{"$f":"INDEX('Coal codes'!$B$4:$B$53,MATCH(B1454,'Coal codes'!$A$4:$A$53,0))","v":"Wisconsin"}]
[2018,"WY","2018WY",2167.3959390719997,0,0,2210.433,0,2210.433,301977.16899999999,0,{"$f":"INDEX('Coal codes'!$B$4:$B$53,MATCH(B1455,'Coal codes'!$A$4:$A$53,0))","v":"Wyoming"}]
[2019,"AL",{"$f":"A1456&B1456","v":"2019AL"},8056.8458167481558,13432.43161148101,13153.62744086101,11980.025,0,11980.025,2144.1640000000002,0,{"$f":"INDEX('Coal codes'!$B$4:$B$53,MATCH(B1456,'Coal codes'!$A$4:$A$53,0))","v":"Alabama"}]
[2019,"AK",{"$f":"A1457&B1457","v":"2019AK"},0,0,0,0,0,0,974.702,0,{"$f":"INDEX('Coal codes'!$B$4:$B$53,MATCH(B1457,'Coal codes'!$A$4:$A$53,0))","v":"Alaska"}]
[2019,"AZ","2019AZ",0,0,0,0,0,0,3842.5079999999998,0,{"$f":"INDEX('Coal codes'!$B$4:$B$53,MATCH(B1458,'Coal codes'!$A$4:$A$53,0))","v":"Arizona"}]
[2019,"AR","2019AR",0,0,0,0,0,0,0,0,{"$f":"INDEX('Coal codes'!$B$4:$B$53,MATCH(B1459,'Coal codes'!$A$4:$A$53,0))","v":"Arkansas"}]
[2019,"CA","2019CA",0,0,0,0,0,0,0,0,{"$f":"INDEX('Coal codes'!$B$4:$B$53,MATCH(B1460,'Coal codes'!$A$4:$A$53,0))","v":"California"}]
[2019,"CO","2019CO",794.0426080909092,127.19606580000001,0,9315.8729999999996,0,9315.8729999999996,3552.2489999999998,0,{"$f":"INDEX('Coal codes'!$B$4:$B$53,MATCH(B1461,'Coal codes'!$A$4:$A$53,0))","v":"Colorado"}]
[2019,"CT","2019CT",0,0,0,0,0,0,0,0,{"$f":"INDEX('Coal codes'!$B$4:$B$53,MATCH(B1462,'Coal codes'!$A$4:$A$53,0))","v":"Connecticut"}]
[2019,"DE","2019DE",0,0,0,0,0,0,0,0,{"$f":"INDEX('Coal codes'!$B$4:$B$53,MATCH(B1463,'Coal codes'!$A$4:$A$53,0))","v":"Delaware"}]
[2019,"FL","2019FL",0,0,0,0,0,0,0,0,{"$f":"INDEX('Coal codes'!$B$4:$B$53,MATCH(B1464,'Coal codes'!$A$4:$A$53,0))","v":"Florida"}]
[2019,"GA","2019GA",0,0,0,0,0,0,0,0,{"$f":"INDEX('Coal codes'!$B$4:$B$53,MATCH(B1465,'Coal codes'!$A$4:$A$53,0))","v":"Georgia"}]
[2019,"HI","2019HI",0,0,0,0,0,0,0,0,{"$f":"INDEX('Coal codes'!$B$4:$B$53,MATCH(B1466,'Coal codes'!$A$4:$A$53,0))","v":"Hawaii"}]
[2019,"ID","2019ID",0,0,0,0,0,0,0,0,{"$f":"INDEX('Coal codes'!$B$4:$B$53,MATCH(B1467,'Coal codes'!$A$4:$A$53,0))","v":"Idaho"}]
[2019,"IL","2019IL",4559.7164041567012,0,0,42411.211000000003,0,42411.211000000003,3441.7040000000002,0,{"$f":"INDEX('Coal codes'!$B$4:$B$53,MATCH(B1468,'Coal codes'!$A$4:$A$53,0))","v":"Illinois"}]
[2019,"IN","2019IN",5095.1441833645222,443.85393743999998,0,16955.884999999998,0,16955.884999999998,14602.767,0,{"$f":"INDEX('Coal codes'!$B$4:$B$53,MATCH(B1469,'Coal codes'!$A$4:$A$53,0))","v":"Indiana"}]
[2019,"IA","2019IA",0,0,0,0,0,0,0,0,{"$f":"INDEX('Coal codes'!$B$4:$B$53,MATCH(B1470,'Coal codes'!$A$4:$A$53,0))","v":"Iowa"}]
[2019,"KS","2019KS",0,0,0,0,0,0,0,0,{"$f":"INDEX('Coal codes'!$B$4:$B$53,MATCH(B1471,'Coal codes'!$A$4:$A$53,0))","v":"Kansas"}]
[2019,"KY","2019KY",1330.8557706911552,0,0,7053.4549999999999,21693.715,28747.17,6712.1090000000004,546.42200000000003,{"$f":"INDEX('Coal codes'!$B$4:$B$53,MATCH(B1472,'Coal codes'!$A$4:$A$53,0))","v":"Kentucky"}]
[2019,"LA","2019LA",4.9640000000000004,0,0,0,0,0,1537.6690000000001,0,{"$f":"INDEX('Coal codes'!$B$4:$B$53,MATCH(B1473,'Coal codes'!$A$4:$A$53,0))","v":"Louisiana"}]
[2019,"ME","2019ME",0,0,0,0,0,0,0,0,{"$f":"INDEX('Coal codes'!$B$4:$B$53,MATCH(B1474,'Coal codes'!$A$4:$A$53,0))","v":"Maine"}]
[2019,"MD","2019MD",0,0,0,635.10699999999997,0,635.10699999999997,835.92399999999998,0,{"$f":"INDEX('Coal codes'!$B$4:$B$53,MATCH(B1475,'Coal codes'!$A$4:$A$53,0))","v":"Maryland"}]
[2019,"MA","2019MA",0,0,0,0,0,0,0,0,{"$f":"INDEX('Coal codes'!$B$4:$B$53,MATCH(B1476,'Coal codes'!$A$4:$A$53,0))","v":"Massachusetts"}]
[2019,"MI","2019MI",0,0,0,0,0,0,0,0,{"$f":"INDEX('Coal codes'!$B$4:$B$53,MATCH(B1477,'Coal codes'!$A$4:$A$53,0))","v":"Michigan"}]
[2019,"MN","2019MN",0,0,0,0,0,0,0,0,{"$f":"INDEX('Coal codes'!$B$4:$B$53,MATCH(B1478,'Coal codes'!$A$4:$A$53,0))","v":"Minnesota"}]
[2019,"MS","2019MS",0,0,0,0,0,{"$f":"SUM(G1479:H1479)","v":0},2697.3310000000001,0,{"$f":"INDEX('Coal codes'!$B$4:$B$53,MATCH(B1479,'Coal codes'!$A$4:$A$53,0))","v":"Mississippi"}]
[2019,"MO","2019MO",0,0,0,0,0,0,189.273,0,{"$f":"INDEX('Coal codes'!$B$4:$B$53,MATCH(B1480,'Coal codes'!$A$4:$A$53,0))","v":"Missouri"}]
[2019,"MT","2019MT",0,0,0,7019.1289999999999,0,7019.1289999999999,27448.404999999999,0,{"$f":"INDEX('Coal codes'!$B$4:$B$53,MATCH(B1481,'Coal codes'!$A$4:$A$53,0))","v":"Montana"}]
[2019,"NE","2019NE",0,0,0,0,0,0,0,0,{"$f":"INDEX('Coal codes'!$B$4:$B$53,MATCH(B1482,'Coal codes'!$A$4:$A$53,0))","v":"Nebraska"}]
[2019,"NV","2019NV",0,0,0,0,0,0,0,0,{"$f":"INDEX('Coal codes'!$B$4:$B$53,MATCH(B1483,'Coal codes'!$A$4:$A$53,0))","v":"Nevada"}]
[2019,"NH","2019NH",0,0,0,0,0,0,0,0,{"$f":"INDEX('Coal codes'!$B$4:$B$53,MATCH(B1484,'Coal codes'!$A$4:$A$53,0))","v":"New Hampshire"}]
[2019,"NJ","2019NJ",0,0,0,0,0,0,0,0,{"$f":"INDEX('Coal codes'!$B$4:$B$53,MATCH(B1485,'Coal codes'!$A$4:$A$53,0))","v":"New Jersey"}]
[2019,"NM","2019NM",976.27056300000004,197.52695986304968,0,3775.9589999999998,0,3775.9589999999998,10759.700999999999,0,{"$f":"INDEX('Coal codes'!$B$4:$B$53,MATCH(B1486,'Coal codes'!$A$4:$A$53,0))","v":"New Mexico"}]
[2019,"NY","2019NY",0,0,0,0,0,0,0,0,{"$f":"INDEX('Coal codes'!$B$4:$B$53,MATCH(B1487,'Coal codes'!$A$4:$A$53,0))","v":"New York"}]
[2019,"NC","2019NC",0,0,0,0,0,0,0,0,{"$f":"INDEX('Coal codes'!$B$4:$B$53,MATCH(B1488,'Coal codes'!$A$4:$A$53,0))","v":"North Carolina"}]
[2019,"ND","2019ND",0,0,0,0,0,0,26996.86,0,{"$f":"INDEX('Coal codes'!$B$4:$B$53,MATCH(B1489,'Coal codes'!$A$4:$A$53,0))","v":"North Dakota"}]
[2019,"OH","2019OH",840.87321196534674,0,0,6332.3649999999998,0,6332.3649999999998,1446.7370000000001,0,{"$f":"INDEX('Coal codes'!$B$4:$B$53,MATCH(B1490,'Coal codes'!$A$4:$A$53,0))","v":"Ohio"}]
[2019,"OK","2019OK",84.614811673846134,0,0,0,0,0,227.34100000000001,0,{"$f":"INDEX('Coal codes'!$B$4:$B$53,MATCH(B1491,'Coal codes'!$A$4:$A$53,0))","v":"Oklahoma"}]
[2019,"OR","2019OR",0,0,0,0,0,0,0,0,{"$f":"INDEX('Coal codes'!$B$4:$B$53,MATCH(B1492,'Coal codes'!$A$4:$A$53,0))","v":"Oregon"}]
[2019,"PA","2019PA",14826.421918929698,6353.9952883783972,181.67092296413762,44588.080999999998,0,44588.080999999998,5464.4650000000001,0,{"$f":"INDEX('Coal codes'!$B$4:$B$53,MATCH(B1493,'Coal codes'!$A$4:$A$53,0))","v":"Pennsylvania"}]
[2019,"RI","2019RI",0,0,0,0,0,0,0,0,{"$f":"INDEX('Coal codes'!$B$4:$B$53,MATCH(B1494,'Coal codes'!$A$4:$A$53,0))","v":"Rhode Island"}]
[2019,"SC","2019SC",0,0,0,0,0,0,0,0,{"$f":"INDEX('Coal codes'!$B$4:$B$53,MATCH(B1495,'Coal codes'!$A$4:$A$53,0))","v":"South Carolina"}]
[2019,"SD","2019SD",0,0,0,0,0,0,0,0,{"$f":"INDEX('Coal codes'!$B$4:$B$53,MATCH(B1496,'Coal codes'!$A$4:$A$53,0))","v":"South Dakota"}]
[2019,"TN","2019TN",5.1932402100627169,0,0,313.58300000000003,0,313.58300000000003,122.34,0,{"$f":"INDEX('Coal codes'!$B$4:$B$53,MATCH(B1497,'Coal codes'!$A$4:$A$53,0))","v":"Tennessee"}]
[2019,"TX","2019TX",0,0,0,0,0,0,23306.69,0,{"$f":"INDEX('Coal codes'!$B$4:$B$53,MATCH(B1498,'Coal codes'!$A$4:$A$53,0))","v":"Texas"}]
[2019,"UT","2019UT",345.95059166398408,0,0,14165.35,0,14165.35,240.01,0,{"$f":"INDEX('Coal codes'!$B$4:$B$53,MATCH(B1499,'Coal codes'!$A$4:$A$53,0))","v":"Utah"}]
[2019,"VT","2019VT",0,0,0,0,0,0,0,0,{"$f":"INDEX('Coal codes'!$B$4:$B$53,MATCH(B1500,'Coal codes'!$A$4:$A$53,0))","v":"Vermont"}]
[2019,"VA","2019VA",5666.1015245955405,18254.821612600001,18254.821612600001,8715.643,0,8715.643,3581.8229999999999,0,{"$f":"INDEX('Coal codes'!$B$4:$B$53,MATCH(B1501,'Coal codes'!$A$4:$A$53,0))","v":"Virginia"}]
[2019,"WA","2019WA",0,0,0,0,0,0,0,0,{"$f":"INDEX('Coal codes'!$B$4:$B$53,MATCH(B1502,'Coal codes'!$A$4:$A$53,0))","v":"Washington"}]
[2019,"WV","2019WV",19461.45904835673,3238.2299144941603,1383.1843091977548,23874.782999999999,46349.205000000002,70223.987999999998,22325.928,729.2,{"$f":"INDEX('Coal codes'!$B$4:$B$53,MATCH(B1503,'Coal codes'!$A$4:$A$53,0))","v":"West Virginia"}]
[2019,"WI","2019WI",0,0,0,0,0,0,0,0,{"$f":"INDEX('Coal codes'!$B$4:$B$53,MATCH(B1504,'Coal codes'!$A$4:$A$53,0))","v":"Wisconsin"}]
[2019,"WY","2019WY",370.7807581046531,0,0,2193.5650000000001,0,2193.5650000000001,274718.342,0,{"$f":"INDEX('Coal codes'!$B$4:$B$53,MATCH(B1505,'Coal codes'!$A$4:$A$53,0))","v":"Wyoming"}]
[2020,"AL","2020AL",8676.114314972021,15475.137785997333,15385.526812887332,10451,0,{"$f":"SUM(G1506:H1506)","v":10451},1701,0,{"$f":"INDEX('Coal codes'!$B$4:$B$53,MATCH(B1506,'Coal codes'!$A$4:$A$53,0))","v":"Alabama"}]
[2020,"AK","2020AK",0,0,0,0,0,{"$f":"SUM(G1507:H1507)","v":0},1021,0,{"$f":"INDEX('Coal codes'!$B$4:$B$53,MATCH(B1507,'Coal codes'!$A$4:$A$53,0))","v":"Alaska"}]
[2020,"AZ","2020AZ",0,0,0,0,0,0,0,0,{"$f":"INDEX('Coal codes'!$B$4:$B$53,MATCH(B1508,'Coal codes'!$A$4:$A$53,0))","v":"Arizona"}]
[2020,"AR","2020AR",0,0,0,0,0,0,0,0,{"$f":"INDEX('Coal codes'!$B$4:$B$53,MATCH(B1509,'Coal codes'!$A$4:$A$53,0))","v":"Arkansas"}]
[2020,"CA","2020CA",0,0,0,0,0,0,0,0,{"$f":"INDEX('Coal codes'!$B$4:$B$53,MATCH(B1510,'Coal codes'!$A$4:$A$53,0))","v":"California"}]
[2020,"CO","2020CO",721.75599190145442,38.941788419999995,9.8784894599999991,6209,0,6209,3848,0,{"$f":"INDEX('Coal codes'!$B$4:$B$53,MATCH(B1511,'Coal codes'!$A$4:$A$53,0))","v":"Colorado"}]
[2020,"CT","2020CT",0,0,0,0,0,0,0,0,{"$f":"INDEX('Coal codes'!$B$4:$B$53,MATCH(B1512,'Coal codes'!$A$4:$A$53,0))","v":"Connecticut"}]
[2020,"DE","2020DE",0,0,0,0,0,0,0,0,{"$f":"INDEX('Coal codes'!$B$4:$B$53,MATCH(B1513,'Coal codes'!$A$4:$A$53,0))","v":"Delaware"}]
[2020,"FL","2020FL",0,0,0,0,0,0,0,0,{"$f":"INDEX('Coal codes'!$B$4:$B$53,MATCH(B1514,'Coal codes'!$A$4:$A$53,0))","v":"Florida"}]
[2020,"GA","2020GA",0,0,0,0,0,0,0,0,{"$f":"INDEX('Coal codes'!$B$4:$B$53,MATCH(B1515,'Coal codes'!$A$4:$A$53,0))","v":"Georgia"}]
[2020,"HI","2020HI",0,0,0,0,0,0,0,0,{"$f":"INDEX('Coal codes'!$B$4:$B$53,MATCH(B1516,'Coal codes'!$A$4:$A$53,0))","v":"Hawaii"}]
[2020,"ID","2020ID",0,0,0,0,0,0,0,0,{"$f":"INDEX('Coal codes'!$B$4:$B$53,MATCH(B1517,'Coal codes'!$A$4:$A$53,0))","v":"Idaho"}]
[2020,"IL","2020IL",3356.5390198992759,0,0,29581,0,29581,1997,0,{"$f":"INDEX('Coal codes'!$B$4:$B$53,MATCH(B1518,'Coal codes'!$A$4:$A$53,0))","v":"Illinois"}]
[2020,"IN","2020IN",4661.8514425517142,538.43478866999999,0,9145,0,9145,10797,0,{"$f":"INDEX('Coal codes'!$B$4:$B$53,MATCH(B1519,'Coal codes'!$A$4:$A$53,0))","v":"Indiana"}]
[2020,"IA","2020IA",0,0,0,0,0,0,0,0,{"$f":"INDEX('Coal codes'!$B$4:$B$53,MATCH(B1520,'Coal codes'!$A$4:$A$53,0))","v":"Iowa"}]
[2020,"KS",{"$f":"A1521&B1521","v":"2020KS"},0,0,0,0,0,0,0,0,{"$f":"INDEX('Coal codes'!$B$4:$B$53,MATCH(B1521,'Coal codes'!$A$4:$A$53,0))","v":"Kansas"}]
[2020,"KY","2020KY",1145.3101342177713,0,0,4085,15608,19693,4248,304,{"$f":"INDEX('Coal codes'!$B$4:$B$53,MATCH(B1522,'Coal codes'!$A$4:$A$53,0))","v":"Kentucky"}]
[2020,"LA","2020LA",0,0,0,0,0,0,677,0,{"$f":"INDEX('Coal codes'!$B$4:$B$53,MATCH(B1523,'Coal codes'!$A$4:$A$53,0))","v":"Louisiana"}]
[2020,"ME","2020ME",0,0,0,0,0,0,0,0,{"$f":"INDEX('Coal codes'!$B$4:$B$53,MATCH(B1524,'Coal codes'!$A$4:$A$53,0))","v":"Maine"}]
[2020,"MD","2020MD",0,0,0,523,0,523,631,0,{"$f":"INDEX('Coal codes'!$B$4:$B$53,MATCH(B1525,'Coal codes'!$A$4:$A$53,0))","v":"Maryland"}]
[2020,"MA","2020MA",0,0,0,0,0,0,0,0,{"$f":"INDEX('Coal codes'!$B$4:$B$53,MATCH(B1526,'Coal codes'!$A$4:$A$53,0))","v":"Massachusetts"}]
[2020,"MI","2020MI",0,0,0,0,0,0,0,0,{"$f":"INDEX('Coal codes'!$B$4:$B$53,MATCH(B1527,'Coal codes'!$A$4:$A$53,0))","v":"Michigan"}]
[2020,"MN","2020MN",0,0,0,0,0,0,0,0,{"$f":"INDEX('Coal codes'!$B$4:$B$53,MATCH(B1528,'Coal codes'!$A$4:$A$53,0))","v":"Minnesota"}]
[2020,"MS","2020MS",0,0,0,0,0,0,2587,0,{"$f":"INDEX('Coal codes'!$B$4:$B$53,MATCH(B1529,'Coal codes'!$A$4:$A$53,0))","v":"Mississippi"}]
[2020,"MO","2020MO",0,0,0,0,0,0,159,0,{"$f":"INDEX('Coal codes'!$B$4:$B$53,MATCH(B1530,'Coal codes'!$A$4:$A$53,0))","v":"Missouri"}]
[2020,"MT","2020MT",0,0,0,6023,0,6023,20399,0,{"$f":"INDEX('Coal codes'!$B$4:$B$53,MATCH(B1531,'Coal codes'!$A$4:$A$53,0))","v":"Montana"}]
[2020,"NE","2020NE",0,0,0,0,0,0,0,0,{"$f":"INDEX('Coal codes'!$B$4:$B$53,MATCH(B1532,'Coal codes'!$A$4:$A$53,0))","v":"Nebraska"}]
[2020,"NV","2020NV",0,0,0,0,0,0,0,0,{"$f":"INDEX('Coal codes'!$B$4:$B$53,MATCH(B1533,'Coal codes'!$A$4:$A$53,0))","v":"Nevada"}]
[2020,"NH","2020NH",0,0,0,0,0,0,0,0,{"$f":"INDEX('Coal codes'!$B$4:$B$53,MATCH(B1534,'Coal codes'!$A$4:$A$53,0))","v":"New Hampshire"}]
[2020,"NJ","2020NJ",0,0,0,0,0,0,0,0,{"$f":"INDEX('Coal codes'!$B$4:$B$53,MATCH(B1535,'Coal codes'!$A$4:$A$53,0))","v":"New Jersey"}]
[2020,"NM","2020NM",516.09474,45.001823085455392,0,1246,0,1246,9003,0,{"$f":"INDEX('Coal codes'!$B$4:$B$53,MATCH(B1536,'Coal codes'!$A$4:$A$53,0))","v":"New Mexico"}]
[2020,"NY","2020NY",0,0,0,0,0,0,0,0,{"$f":"INDEX('Coal codes'!$B$4:$B$53,MATCH(B1537,'Coal codes'!$A$4:$A$53,0))","v":"New York"}]
[2020,"NC","2020NC",0,0,0,0,0,0,0,0,{"$f":"INDEX('Coal codes'!$B$4:$B$53,MATCH(B1538,'Coal codes'!$A$4:$A$53,0))","v":"North Carolina"}]
[2020,"ND","2020ND",0,0,0,0,0,0,26438,0,{"$f":"INDEX('Coal codes'!$B$4:$B$53,MATCH(B1539,'Coal codes'!$A$4:$A$53,0))","v":"North Dakota"}]
[2020,"OH","2020OH",564.65675195742085,0,0,2536,0,2536,1050,0,{"$f":"INDEX('Coal codes'!$B$4:$B$53,MATCH(B1540,'Coal codes'!$A$4:$A$53,0))","v":"Ohio"}]
[2020,"OK","2020OK",367.10444159999997,0,0,0,0,0,1,0,{"$f":"INDEX('Coal codes'!$B$4:$B$53,MATCH(B1541,'Coal codes'!$A$4:$A$53,0))","v":"Oklahoma"}]
[2020,"OR","2020OR",0,0,0,0,0,0,0,0,{"$f":"INDEX('Coal codes'!$B$4:$B$53,MATCH(B1542,'Coal codes'!$A$4:$A$53,0))","v":"Oregon"}]
[2020,"PA","2020PA",13424.867245906809,3888.6383435697644,209.3557251046671,32137,0,32137,4168,0,{"$f":"INDEX('Coal codes'!$B$4:$B$53,MATCH(B1543,'Coal codes'!$A$4:$A$53,0))","v":"Pennsylvania"}]
[2020,"RI","2020RI",0,0,0,0,0,0,0,0,{"$f":"INDEX('Coal codes'!$B$4:$B$53,MATCH(B1544,'Coal codes'!$A$4:$A$53,0))","v":"Rhode Island"}]
[2020,"SC","2020SC",0,0,0,0,0,0,0,0,{"$f":"INDEX('Coal codes'!$B$4:$B$53,MATCH(B1545,'Coal codes'!$A$4:$A$53,0))","v":"South Carolina"}]
[2020,"SD","2020SD",0,0,0,0,0,0,0,0,{"$f":"INDEX('Coal codes'!$B$4:$B$53,MATCH(B1546,'Coal codes'!$A$4:$A$53,0))","v":"South Dakota"}]
[2020,"TN","2020TN",4.4809764300000001,0,0,83,0,83,9,0,{"$f":"INDEX('Coal codes'!$B$4:$B$53,MATCH(B1547,'Coal codes'!$A$4:$A$53,0))","v":"Tennessee"}]
[2020,"TX","2020TX",0,0,0,0,0,0,19682,0,{"$f":"INDEX('Coal codes'!$B$4:$B$53,MATCH(B1548,'Coal codes'!$A$4:$A$53,0))","v":"Texas"}]
[2020,"UT","2020UT",421.16538862748615,0,0,12594,0,12594,569,0,{"$f":"INDEX('Coal codes'!$B$4:$B$53,MATCH(B1549,'Coal codes'!$A$4:$A$53,0))","v":"Utah"}]
[2020,"VT","2020VT",0,0,0,0,0,0,0,0,{"$f":"INDEX('Coal codes'!$B$4:$B$53,MATCH(B1550,'Coal codes'!$A$4:$A$53,0))","v":"Vermont"}]
[2020,"VA","2020VA",5680.868640018839,17416.623452215663,17416.623452215663,7185,0,7185,2501,0,{"$f":"INDEX('Coal codes'!$B$4:$B$53,MATCH(B1551,'Coal codes'!$A$4:$A$53,0))","v":"Virginia"}]
[2020,"WA","2020WA",0,0,0,0,0,0,0,0,{"$f":"INDEX('Coal codes'!$B$4:$B$53,MATCH(B1552,'Coal codes'!$A$4:$A$53,0))","v":"Washington"}]
[2020,"WV","2020WV",20072.708855888777,2048.5620975148076,886.77967528213412,18896,36802,55698,11163,366,{"$f":"INDEX('Coal codes'!$B$4:$B$53,MATCH(B1553,'Coal codes'!$A$4:$A$53,0))","v":"West Virginia"}]
[2020,"WI","2020WI",0,0,0,0,0,0,0,0,{"$f":"INDEX('Coal codes'!$B$4:$B$53,MATCH(B1554,'Coal codes'!$A$4:$A$53,0))","v":"Wisconsin"}]
[2020,"WY","2020WY",198.19514682819064,0,0,2424,0,2424,216131,0,{"$f":"INDEX('Coal codes'!$B$4:$B$53,MATCH(B1555,'Coal codes'!$A$4:$A$53,0))","v":"Wyoming"}]
[2021,"AL",{"$f":"A1556&B1556","v":"2021AL"},7469.1641400809458,5796.480550235965,5813.1359714505425,7959,0,7959,1380,0,{"$f":"INDEX('Coal codes'!$B$4:$B$53,MATCH(B1556,'Coal codes'!$A$4:$A$53,0))","v":"Alabama"}]
[2021,"AK",{"$f":"A1557&B1557","v":"2021AK"},0,0,0,0,0,0,1042,0,{"$f":"INDEX('Coal codes'!$B$4:$B$53,MATCH(B1557,'Coal codes'!$A$4:$A$53,0))","v":"Alaska"}]
[2021,"AZ","2021AZ",0,0,0,0,0,0,0,0,{"$f":"INDEX('Coal codes'!$B$4:$B$53,MATCH(B1558,'Coal codes'!$A$4:$A$53,0))","v":"Arizona"}]
[2021,"AR","2021AR",0,0,0,0,0,0,0,0,{"$f":"INDEX('Coal codes'!$B$4:$B$53,MATCH(B1559,'Coal codes'!$A$4:$A$53,0))","v":"Arkansas"}]
[2021,"CA","2021CA",0,0,0,0,0,0,0,0,{"$f":"INDEX('Coal codes'!$B$4:$B$53,MATCH(B1560,'Coal codes'!$A$4:$A$53,0))","v":"California"}]
[2021,"CO","2021CO",645.86837105999996,15.792810569999999,11.68378263,7130,0,7130,4745,0,{"$f":"INDEX('Coal codes'!$B$4:$B$53,MATCH(B1561,'Coal codes'!$A$4:$A$53,0))","v":"Colorado"}]
[2021,"CT","2021CT",0,0,0,0,0,0,0,0,{"$f":"INDEX('Coal codes'!$B$4:$B$53,MATCH(B1562,'Coal codes'!$A$4:$A$53,0))","v":"Connecticut"}]
[2021,"DE","2021DE",0,0,0,0,0,0,0,0,{"$f":"INDEX('Coal codes'!$B$4:$B$53,MATCH(B1563,'Coal codes'!$A$4:$A$53,0))","v":"Delaware"}]
[2021,"FL","2021FL",0,0,0,0,0,0,0,0,{"$f":"INDEX('Coal codes'!$B$4:$B$53,MATCH(B1564,'Coal codes'!$A$4:$A$53,0))","v":"Florida"}]
[2021,"GA","2021GA",0,0,0,0,0,0,0,0,{"$f":"INDEX('Coal codes'!$B$4:$B$53,MATCH(B1565,'Coal codes'!$A$4:$A$53,0))","v":"Georgia"}]
[2021,"HI","2021HI",0,0,0,0,0,0,0,0,{"$f":"INDEX('Coal codes'!$B$4:$B$53,MATCH(B1566,'Coal codes'!$A$4:$A$53,0))","v":"Hawaii"}]
[2021,"ID","2021ID",0,0,0,0,0,0,0,0,{"$f":"INDEX('Coal codes'!$B$4:$B$53,MATCH(B1567,'Coal codes'!$A$4:$A$53,0))","v":"Idaho"}]
[2021,"IL","2021IL",3484.8590446950993,0,0,36198,0,36198,416,0,{"$f":"INDEX('Coal codes'!$B$4:$B$53,MATCH(B1568,'Coal codes'!$A$4:$A$53,0))","v":"Illinois"}]
[2021,"IN","2021IN",5114.74445001,546.88077773999998,0,10411,0,10411,9059,0,{"$f":"INDEX('Coal codes'!$B$4:$B$53,MATCH(B1569,'Coal codes'!$A$4:$A$53,0))","v":"Indiana"}]
[2021,"IA","2021IA",0,0,0,0,0,0,0,0,{"$f":"INDEX('Coal codes'!$B$4:$B$53,MATCH(B1570,'Coal codes'!$A$4:$A$53,0))","v":"Iowa"}]
[2021,"KS","2021KS",0,0,0,0,0,{"$f":"SUM(G1571:H1571)","v":0},0,0,{"$f":"INDEX('Coal codes'!$B$4:$B$53,MATCH(B1571,'Coal codes'!$A$4:$A$53,0))","v":"Kansas"}]
[2021,"KY","2021KY",1491.8078824482859,0,0,5439,16058,21497,4691,238,{"$f":"INDEX('Coal codes'!$B$4:$B$53,MATCH(B1572,'Coal codes'!$A$4:$A$53,0))","v":"Kentucky"}]
[2021,"LA","2021LA",0,0,0,0,0,0,300,0,{"$f":"INDEX('Coal codes'!$B$4:$B$53,MATCH(B1573,'Coal codes'!$A$4:$A$53,0))","v":"Louisiana"}]
[2021,"ME","2021ME",0,0,0,0,0,0,0,0,{"$f":"INDEX('Coal codes'!$B$4:$B$53,MATCH(B1574,'Coal codes'!$A$4:$A$53,0))","v":"Maine"}]
[2021,"MD","2021MD",0,0,0,375,0,375,888,0,{"$f":"INDEX('Coal codes'!$B$4:$B$53,MATCH(B1575,'Coal codes'!$A$4:$A$53,0))","v":"Maryland"}]
[2021,"MA","2021MA",0,0,0,0,0,0,0,0,{"$f":"INDEX('Coal codes'!$B$4:$B$53,MATCH(B1576,'Coal codes'!$A$4:$A$53,0))","v":"Massachusetts"}]
[2021,"MI","2021MI",0,0,0,0,0,0,0,0,{"$f":"INDEX('Coal codes'!$B$4:$B$53,MATCH(B1577,'Coal codes'!$A$4:$A$53,0))","v":"Michigan"}]
[2021,"MN","2021MN",0,0,0,0,0,0,0,0,{"$f":"INDEX('Coal codes'!$B$4:$B$53,MATCH(B1578,'Coal codes'!$A$4:$A$53,0))","v":"Minnesota"}]
[2021,"MS","2021MS",0,0,0,0,0,0,3201,0,{"$f":"INDEX('Coal codes'!$B$4:$B$53,MATCH(B1579,'Coal codes'!$A$4:$A$53,0))","v":"Mississippi"}]
[2021,"MO","2021MO",0,0,0,0,0,0,44,0,{"$f":"INDEX('Coal codes'!$B$4:$B$53,MATCH(B1580,'Coal codes'!$A$4:$A$53,0))","v":"Missouri"}]
[2021,"MT","2021MT",0,0,0,7247,0,7247,21333,0,{"$f":"INDEX('Coal codes'!$B$4:$B$53,MATCH(B1581,'Coal codes'!$A$4:$A$53,0))","v":"Montana"}]
[2021,"NE","2021NE",0,0,0,0,0,0,0,0,{"$f":"INDEX('Coal codes'!$B$4:$B$53,MATCH(B1582,'Coal codes'!$A$4:$A$53,0))","v":"Nebraska"}]
[2021,"NV","2021NV",0,0,0,0,0,0,0,0,{"$f":"INDEX('Coal codes'!$B$4:$B$53,MATCH(B1583,'Coal codes'!$A$4:$A$53,0))","v":"Nevada"}]
[2021,"NH","2021NH",0,0,0,0,0,0,0,0,{"$f":"INDEX('Coal codes'!$B$4:$B$53,MATCH(B1584,'Coal codes'!$A$4:$A$53,0))","v":"New Hampshire"}]
[2021,"NJ","2021NJ",0,0,0,0,0,0,0,0,{"$f":"INDEX('Coal codes'!$B$4:$B$53,MATCH(B1585,'Coal codes'!$A$4:$A$53,0))","v":"New Jersey"}]
[2021,"NM","2021NM",1439.9770140000001,64.822748121931497,0,1572,0,1572,7693,0,{"$f":"INDEX('Coal codes'!$B$4:$B$53,MATCH(B1586,'Coal codes'!$A$4:$A$53,0))","v":"New Mexico"}]
[2021,"NY","2021NY",0,0,0,0,0,0,0,0,{"$f":"INDEX('Coal codes'!$B$4:$B$53,MATCH(B1587,'Coal codes'!$A$4:$A$53,0))","v":"New York"}]
[2021,"NC","2021NC",0,0,0,0,0,0,0,0,{"$f":"INDEX('Coal codes'!$B$4:$B$53,MATCH(B1588,'Coal codes'!$A$4:$A$53,0))","v":"North Carolina"}]
[2021,"ND","2021ND",0,0,0,0,0,0,26513,0,{"$f":"INDEX('Coal codes'!$B$4:$B$53,MATCH(B1589,'Coal codes'!$A$4:$A$53,0))","v":"North Dakota"}]
[2021,"OH","2021OH",665.36946468019971,0,0,1781,0,1781,978,0,{"$f":"INDEX('Coal codes'!$B$4:$B$53,MATCH(B1590,'Coal codes'!$A$4:$A$53,0))","v":"Ohio"}]
[2021,"OK","2021OK",0,0,0,0,0,0,1,0,{"$f":"INDEX('Coal codes'!$B$4:$B$53,MATCH(B1591,'Coal codes'!$A$4:$A$53,0))","v":"Oklahoma"}]
[2021,"OR","2021OR",0,0,0,0,0,0,0,0,{"$f":"INDEX('Coal codes'!$B$4:$B$53,MATCH(B1592,'Coal codes'!$A$4:$A$53,0))","v":"Oregon"}]
[2021,"PA","2021PA",13001.463262080537,4630.9437503761392,638.70252766346698,38052,0,38052,4407,0,{"$f":"INDEX('Coal codes'!$B$4:$B$53,MATCH(B1593,'Coal codes'!$A$4:$A$53,0))","v":"Pennsylvania"}]
[2021,"RI","2021RI",0,0,0,0,0,0,0,0,{"$f":"INDEX('Coal codes'!$B$4:$B$53,MATCH(B1594,'Coal codes'!$A$4:$A$53,0))","v":"Rhode Island"}]
[2021,"SC","2021SC",0,0,0,0,0,0,0,0,{"$f":"INDEX('Coal codes'!$B$4:$B$53,MATCH(B1595,'Coal codes'!$A$4:$A$53,0))","v":"South Carolina"}]
[2021,"SD","2021SD",0,0,0,0,0,0,0,0,{"$f":"INDEX('Coal codes'!$B$4:$B$53,MATCH(B1596,'Coal codes'!$A$4:$A$53,0))","v":"South Dakota"}]
[2021,"TN","2021TN",0,0,0,0,0,0,0,0,{"$f":"INDEX('Coal codes'!$B$4:$B$53,MATCH(B1597,'Coal codes'!$A$4:$A$53,0))","v":"Tennessee"}]
[2021,"TX","2021TX",0,0,0,0,0,0,17250,0,{"$f":"INDEX('Coal codes'!$B$4:$B$53,MATCH(B1598,'Coal codes'!$A$4:$A$53,0))","v":"Texas"}]
[2021,"UT","2021UT",370.16039911246884,0,0,12000,0,12000,434,0,{"$f":"INDEX('Coal codes'!$B$4:$B$53,MATCH(B1599,'Coal codes'!$A$4:$A$53,0))","v":"Utah"}]
[2021,"VT","2021VT",0,0,0,0,0,0,0,0,{"$f":"INDEX('Coal codes'!$B$4:$B$53,MATCH(B1600,'Coal codes'!$A$4:$A$53,0))","v":"Vermont"}]
[2021,"VA","2021VA",5036.2846246545623,24147.42473281216,24147.42473281216,8023,0,8023,2668,0,{"$f":"INDEX('Coal codes'!$B$4:$B$53,MATCH(B1601,'Coal codes'!$A$4:$A$53,0))","v":"Virginia"}]
[2021,"WA","2021WA",0,0,0,0,0,0,0,0,{"$f":"INDEX('Coal codes'!$B$4:$B$53,MATCH(B1602,'Coal codes'!$A$4:$A$53,0))","v":"Washington"}]
[2021,"WV","2021WV",18248.575934858494,2726.0552357677448,3106.5879012018358,21100,44057,65157,12940,404,{"$f":"INDEX('Coal codes'!$B$4:$B$53,MATCH(B1603,'Coal codes'!$A$4:$A$53,0))","v":"West Virginia"}]
[2021,"WI","2021WI",0,0,0,0,0,0,0,0,{"$f":"INDEX('Coal codes'!$B$4:$B$53,MATCH(B1604,'Coal codes'!$A$4:$A$53,0))","v":"Wisconsin"}]
[2021,"WY","2021WY",5.6149366854654001,0,0,3195,0,3195,235578,0,{"$f":"INDEX('Coal codes'!$B$4:$B$53,MATCH(B1605,'Coal codes'!$A$4:$A$53,0))","v":"Wyoming"}]
[2022,"AL",{"$f":"A1606&B1606","v":"2022AL"}]
[2022,"AK",{"$f":"A1607&B1607","v":"2022AK"}]
[2022,"AZ","2022AZ"]
[2022,"AR","2022AR"]
[2022,"CA","2022CA"]
[2022,"CO","2022CO"]
[2022,"CT","2022CT"]
[2022,"DE","2022DE"]
[2022,"FL","2022FL"]
[2022,"GA","2022GA"]
[2022,"HI","2022HI"]
[2022,"ID","2022ID"]
[2022,"IL","2022IL"]
[2022,"IN","2022IN"]
[2022,"IA","2022IA"]
[2022,"KS","2022KS"]
[2022,"KY","2022KY"]
[2022,"LA","2022LA"]
[2022,"ME","2022ME"]
[2022,"MD","2022MD"]
[2022,"MA","2022MA"]
[2022,"MI","2022MI"]
[2022,"MN","2022MN"]
[2022,"MS","2022MS"]
[2022,"MO","2022MO"]
[2022,"MT","2022MT"]
[2022,"NE","2022NE"]
[2022,"NV","2022NV"]
[2022,"NH","2022NH"]
[2022,"NJ","2022NJ"]
[2022,"NM","2022NM"]
[2022,"NY","2022NY"]
[2022,"NC","2022NC"]
[2022,"ND","2022ND"]
[2022,"OH","2022OH"]
[2022,"OK","2022OK"]
[2022,"OR","2022OR"]
[2022,"PA","2022PA"]
[2022,"RI","2022RI"]
[2022,"SC","2022SC"]
[2022,"SD","2022SD"]
[2022,"TN","2022TN"]
[2022,"TX","2022TX"]
[2022,"UT","2022UT"]
[2022,"VT","2022VT"]
[2022,"VA","2022VA"]
[2022,"WA","2022WA"]
[2022,"WV","2022WV"]
[2022,"WI","2022WI"]
[2022,"WY","2022WY"]
[2022,"US","2022US"]
[2023,"AL",{"$f":"A1657&B1657","v":"2023AL"}]
[2023,"AK",{"$f":"A1658&B1658","v":"2023AK"}]
[2023,"AZ","2023AZ"]
[2023,"AR","2023AR"]
[2023,"CA","2023CA"]
[2023,"CO","2023CO"]
[2023,"CT","2023CT"]
[2023,"DE","2023DE"]
[2023,"FL","2023FL"]
[2023,"GA","2023GA"]
[2023,"HI","2023HI"]
[2023,"ID","2023ID"]
[2023,"IL","2023IL"]
[2023,"IN","2023IN"]
[2023,"IA","2023IA"]
[2023,"KS","2023KS"]
[2023,"KY","2023KY"]
[2023,"LA","2023LA"]
[2023,"ME","2023ME"]
[2023,"MD","2023MD"]
[2023,"MA","2023MA"]
[2023,"MI","2023MI"]
[2023,"MN","2023MN"]
[2023,"MS","2023MS"]
[2023,"MO","2023MO"]
[2023,"MT","2023MT"]
[2023,"NE","2023NE"]
[2023,"NV","2023NV"]
[2023,"NH","2023NH"]
[2023,"NJ","2023NJ"]
[2023,"NM","2023NM"]
[2023,"NY","2023NY"]
[2023,"NC","2023NC"]
[2023,"ND","2023ND"]
[2023,"OH","2023OH"]
[2023,"OK","2023OK"]
[2023,"OR","2023OR"]
[2023,"PA","2023PA"]
[2023,"RI","2023RI"]
[2023,"SC","2023SC"]
[2023,"SD","2023SD"]
[2023,"TN","2023TN"]
[2023,"TX","2023TX"]
[2023,"UT","2023UT"]
[2023,"VT","2023VT"]
[2023,"VA","2023VA"]
[2023,"WA","2023WA"]
[2023,"WV","2023WV"]
[2023,"WI","2023WI"]
[2023,"WY","2023WY"]
[2023,"US","2023US"]
[2024,"AL",{"$f":"A1708&B1708","v":"2024AL"}]
[2024,"AK",{"$f":"A1709&B1709","v":"2024AK"}]
[2024,"AZ","2024AZ"]
[2024,"AR","2024AR"]
[2024,"CA","2024CA"]
[2024,"CO","2024CO"]
[2024,"CT","2024CT"]
[2024,"DE","2024DE"]
[2024,"FL","2024FL"]
[2024,"GA","2024GA"]
[2024,"HI","2024HI"]
[2024,"ID","2024ID"]
[2024,"IL","2024IL"]
[2024,"IN","2024IN"]
[2024,"IA","2024IA"]
[2024,"KS","2024KS"]
[2024,"KY","2024KY"]
[2024,"LA","2024LA"]
[2024,"ME","2024ME"]
[2024,"MD","2024MD"]
[2024,"MA","2024MA"]
[2024,"MI","2024MI"]
[2024,"MN","2024MN"]
[2024,"MS","2024MS"]
[2024,"MO","2024MO"]
[2024,"MT","2024MT"]
[2024,"NE","2024NE"]
[2024,"NV","2024NV"]
[2024,"NH","2024NH"]
[2024,"NJ","2024NJ"]
[2024,"NM","2024NM"]
[2024,"NY","2024NY"]
[2024,"NC","2024NC"]
[2024,"ND","2024ND"]
[2024,"OH","2024OH"]
[2024,"OK","2024OK"]
[2024,"OR","2024OR"]
[2024,"PA","2024PA"]
[2024,"RI","2024RI"]
[2024,"SC","2024SC"]
[2024,"SD","2024SD"]
[2024,"TN","2024TN"]
[2024,"TX","2024TX"]
[2024,"UT","2024UT"]
[2024,"VT","2024VT"]
[2024,"VA","2024VA"]
[2024,"WA","2024WA"]
[2024,"WV","2024WV"]
[2024,"WI","2024WI"]
[2024,"WY","2024WY"]
[2024,"US","2024US"]
[2025,"AL",{"$f":"A1759&B1759","v":"2025AL"}]
[2025,"AK",{"$f":"A1760&B1760","v":"2025AK"}]
[2025,"AZ","2025AZ"]
[2025,"AR","2025AR"]
[2025,"CA","2025CA"]
[2025,"CO","2025CO"]
[2025,"CT","2025CT"]
[2025,"DE","2025DE"]
[2025,"FL","2025FL"]
[2025,"GA","2025GA"]
[2025,"HI","2025HI"]
[2025,"ID","2025ID"]
[2025,"IL","2025IL"]
[2025,"IN","2025IN"]
[2025,"IA","2025IA"]
[2025,"KS","2025KS"]
[2025,"KY","2025KY"]
[2025,"LA","2025LA"]
[2025,"ME","2025ME"]
[2025,"MD","2025MD"]
[2025,"MA","2025MA"]
[2025,"MI","2025MI"]
[2025,"MN","2025MN"]
[2025,"MS","2025MS"]
[2025,"MO","2025MO"]
[2025,"MT","2025MT"]
[2025,"NE","2025NE"]
[2025,"NV","2025NV"]
[2025,"NH","2025NH"]
[2025,"NJ","2025NJ"]
[2025,"NM","2025NM"]
[2025,"NY","2025NY"]
[2025,"NC","2025NC"]
[2025,"ND","2025ND"]
[2025,"OH","2025OH"]
[2025,"OK","2025OK"]
[2025,"OR","2025OR"]
[2025,"PA","2025PA"]
[2025,"RI","2025RI"]
[2025,"SC","2025SC"]
[2025,"SD","2025SD"]
[2025,"TN","2025TN"]
[2025,"TX","2025TX"]
[2025,"UT","2025UT"]
[2025,"VT","2025VT"]
[2025,"VA","2025VA"]
[2025,"WA","2025WA"]
[2025,"WV","2025WV"]
[2025,"WI","2025WI"]
[2025,"WY","2025WY"]
[2025,"US","2025US"]
[]
[]
[]
[]
[]
[]
[]
[]
[]
[2021,"VT",{"$f":"A1819&B1819","v":"2021VT"}]
[2021,"VA","2021VA"]
[2021,"WA","2021WA"]
[2021,"WV","2021WV"]
[2021,"WI","2021WI"]
[2021,"WY","2021WY"]
[2021,"US","2021US"]
[2022,"AL",{"$f":"A1826&B1826","v":"2022AL"}]
[2022,"AK",{"$f":"A1827&B1827","v":"2022AK"}]
[2022,"AZ","2022AZ"]
[2022,"AR","2022AR"]
[2022,"CA","2022CA"]
[2022,"CO","2022CO"]
[2022,"CT","2022CT"]
[2022,"DE","2022DE"]
[2022,"FL","2022FL"]
[2022,"GA","2022GA"]
[2022,"HI","2022HI"]
[2022,"ID","2022ID"]
[2022,"IL","2022IL"]
[2022,"IN","2022IN"]
[2022,"IA","2022IA"]
[2022,"KS","2022KS"]
[2022,"KY","2022KY"]
[2022,"LA","2022LA"]
[2022,"ME","2022ME"]
[2022,"MD","2022MD"]
[2022,"MA","2022MA"]
[2022,"MI","2022MI"]
[2022,"MN","2022MN"]
[2022,"MS","2022MS"]
[2022,"MO","2022MO"]
[2022,"MT","2022MT"]
[2022,"NE","2022NE"]
[2022,"NV","2022NV"]
[2022,"NH","2022NH"]
[2022,"NJ","2022NJ"]
[2022,"NM","2022NM"]
[2022,"NY","2022NY"]
[2022,"NC","2022NC"]
[2022,"ND","2022ND"]
[2022,"OH","2022OH"]
[2022,"OK","2022OK"]
[2022,"OR","2022OR"]
[2022,"PA","2022PA"]
[2022,"RI","2022RI"]
[2022,"SC","2022SC"]
[2022,"SD","2022SD"]
[2022,"TN","2022TN"]
[2022,"TX","2022TX"]
[2022,"UT","2022UT"]
[2022,"VT","2022VT"]
[2022,"VA","2022VA"]
[2022,"WA","2022WA"]
[2022,"WV","2022WV"]
[2022,"WI","2022WI"]
[2022,"WY","2022WY"]
[2022,"US","2022US"]
[2023,"AL",{"$f":"A1877&B1877","v":"2023AL"}]
[2023,"AK",{"$f":"A1878&B1878","v":"2023AK"}]
[2023,"AZ","2023AZ"]
[2023,"AR","2023AR"]
[2023,"CA","2023CA"]
[2023,"CO","2023CO"]
[2023,"CT","2023CT"]
[2023,"DE","2023DE"]
[2023,"FL","2023FL"]
[2023,"GA","2023GA"]
[2023,"HI","2023HI"]
[2023,"ID","2023ID"]
[2023,"IL","2023IL"]
[2023,"IN","2023IN"]
[2023,"IA","2023IA"]
[2023,"KS","2023KS"]
[2023,"KY","2023KY"]
[2023,"LA","2023LA"]
[2023,"ME","2023ME"]
[2023,"MD","2023MD"]
[2023,"MA","2023MA"]
[2023,"MI","2023MI"]
[2023,"MN","2023MN"]
[2023,"MS","2023MS"]
[2023,"MO","2023MO"]
[2023,"MT","2023MT"]
[2023,"NE","2023NE"]
[2023,"NV","2023NV"]
[2023,"NH","2023NH"]
[2023,"NJ","2023NJ"]
[2023,"NM","2023NM"]
[2023,"NY","2023NY"]
[2023,"NC","2023NC"]
[2023,"ND","2023ND"]
[2023,"OH","2023OH"]
[2023,"OK","2023OK"]
[2023,"OR","2023OR"]
[2023,"PA","2023PA"]
[2023,"RI","2023RI"]
[2023,"SC","2023SC"]
[2023,"SD","2023SD"]
[2023,"TN","2023TN"]
[2023,"TX","2023TX"]
[2023,"UT","2023UT"]
[2023,"VT","2023VT"]
[2023,"VA","2023VA"]
[2023,"WA","2023WA"]
[2023,"WV","2023WV"]
[2023,"WI","2023WI"]
[2023,"WY","2023WY"]
[2023,"US","2023US"]
[2024,"AL",{"$f":"A1928&B1928","v":"2024AL"}]
[2024,"AK",{"$f":"A1929&B1929","v":"2024AK"}]
[2024,"AZ","2024AZ"]
[2024,"AR","2024AR"]
[2024,"CA","2024CA"]
[2024,"CO","2024CO"]
[2024,"CT","2024CT"]
[2024,"DE","2024DE"]
[2024,"FL","2024FL"]
[2024,"GA","2024GA"]
[2024,"HI","2024HI"]
[2024,"ID","2024ID"]
[2024,"IL","2024IL"]
[2024,"IN","2024IN"]
[2024,"IA","2024IA"]
[2024,"KS","2024KS"]
[2024,"KY","2024KY"]
[2024,"LA","2024LA"]
[2024,"ME","2024ME"]
[2024,"MD","2024MD"]
[2024,"MA","2024MA"]
[2024,"MI","2024MI"]
[2024,"MN","2024MN"]
[2024,"MS","2024MS"]
[2024,"MO","2024MO"]
[2024,"MT","2024MT"]
[2024,"NE","2024NE"]
[2024,"NV","2024NV"]
[2024,"NH","2024NH"]
[2024,"NJ","2024NJ"]
[2024,"NM","2024NM"]
[2024,"NY","2024NY"]
[2024,"NC","2024NC"]
[2024,"ND","2024ND"]
[2024,"OH","2024OH"]
[2024,"OK","2024OK"]
[2024,"OR","2024OR"]
[2024,"PA","2024PA"]
[2024,"RI","2024RI"]
[2024,"SC","2024SC"]
[2024,"SD","2024SD"]
[2024,"TN","2024TN"]
[2024,"TX","2024TX"]
[2024,"UT","2024UT"]
[2024,"VT","2024VT"]
[2024,"VA","2024VA"]
[2024,"WA","2024WA"]
[2024,"WV","2024WV"]
[2024,"WI","2024WI"]
[2024,"WY","2024WY"]
[2024,"US","2024US"]
[2025,"AL",{"$f":"A1979&B1979","v":"2025AL"}]
[2025,"AK",{"$f":"A1980&B1980","v":"2025AK"}]
[2025,"AZ","2025AZ"]
[2025,"AR","2025AR"]
[2025,"CA","2025CA"]
[2025,"CO","2025CO"]
[2025,"CT","2025CT"]
[2025,"DE","2025DE"]
[2025,"FL","2025FL"]
[2025,"GA","2025GA"]
[2025,"HI","2025HI"]
[2025,"ID","2025ID"]
[2025,"IL","2025IL"]
[2025,"IN","2025IN"]
[2025,"IA","2025IA"]
[2025,"KS","2025KS"]
[2025,"KY","2025KY"]
[2025,"LA","2025LA"]
[2025,"ME","2025ME"]
[2025,"MD","2025MD"]
[2025,"MA","2025MA"]
[2025,"MI","2025MI"]
[2025,"MN","2025MN"]
[2025,"MS","2025MS"]
[2025,"MO","2025MO"]
[2025,"MT","2025MT"]
[2025,"NE","2025NE"]
[2025,"NV","2025NV"]
[2025,"NH","2025NH"]
[2025,"NJ","2025NJ"]
[2025,"NM","2025NM"]
[2025,"NY","2025NY"]
[2025,"NC","2025NC"]
[2025,"ND","2025ND"]
[2025,"OH","2025OH"]
[2025,"OK","2025OK"]
[2025,"OR","2025OR"]
[2025,"PA","2025PA"]
[2025,"RI","2025RI"]
[2025,"SC","2025SC"]
[2025,"SD","2025SD"]
[2025,"TN","2025TN"]
[2025,"TX","2025TX"]
[2025,"UT","2025UT"]
[2025,"VT","2025VT"]
[2025,"VA","2025VA"]
[2025,"WA","2025WA"]
[2025,"WV","2025WV"]
[2025,"WI","2025WI"]
[2025,"WY","2025WY"]
[2025,"US","2025US"]

{"sheet":"Data Sources","index":14,"n_rows":42,"n_cols":5,"rows_kept":42,"cut":false,"hidden":false,"merged":[[2,1,2,9],[19,3,19,8],[25,3,25,8],[21,3,21,8],[18,4,18,7],[6,3,8,8],[9,4,9,7],[10,3,10,8],[11,4,11,8],[12,3,12,7],[13,4,14,8],[36,1,36,9],[41,4,41,7],[42,3,42,8],[28,1,28,9],[33,4,33,7],[34,3,34,8]]}
[]
[]
[null,"Possible Data Sources for Coal Mining Activity Data"]
[]
[]
[null,null,"Greenhouse Gas Reporting Program emissions data"]
[null,null,null,"- Emissions data are available through the EPA’s Mandatory Reporting Rule (MRR)/Greenhouse Gas Reporting Program (GHGRP) data sets. "]
[]
[]
[null,null,null,null,"https://www.epa.gov/ghgreporting"]
[null,null,null,"- Facility Level GHG Emissions"]
[null,null,null,null,"https://ghgdata.epa.gov/ghgp/main.do"]
[null,null,null,"- Greenhouse Gas Customized Search"]
[null,null,null,null,"https://www.epa.gov/enviro/greenhouse-gas-customized-search"]
[]
[]
[null,null,"Quantity of CH4 emitted from ventilation systems"]
[null,null,null,"- U.S. EPA’s Coalbed Methane Outreach Program (CMOP)"]
[null,null,null,null,"https://www.epa.gov/cmop"]
[null,null,null,"- Mine Safety and Health Administration (MSHA) district offices. For a complete listing of MSHA district offices, see:"]
[null,null,null,null,"https://www.msha.gov"]
[null,null,null,"- Default data taken from the Non-CO2 Gases and Sequestration Branch (NGSB) in the U.S. EPA’s Office of Air and Radiation (estimates can be found in the Inventory of U.S. Greenhouse Gas Emissions and Sinks 1990-2015 (U.S. EPA 2017))"]
[]
[null,null,"Coal production data"]
[null,null,null,"- In-state coal agencies"]
[null,null,null,"- Default data taken from Energy Information Administration’s Annual Coal Report, Table 1:"]
[null,null,null,"http://www.eia.gov/coal/annual/"]
[]
[null,"Possible Data Sources for Abandoned Coal Mine Activity Data"]
[]
[]
[null,null,"Abandoned Coal Mine Data"]
[null,null,null,"Mine Safety and Health Administration's Data Retrieval System"]
[null,null,null,null,"https://arlweb.msha.gov/drs/drshome.htm"]
[]
[]
[null,"Possible Data Sources for Additional Emission Sources"]
[]
[]
[null,null,"Additional Emission Sources"]
[null,null,null,"For state-level data on additional emission sources go to:"]
[null,null,null,null,"https://www.epa.gov/ghgemissions/state-ghg-emissions-and-removals"]

{"sheet":"constants","index":15,"n_rows":52,"n_cols":16,"rows_kept":52,"cut":false,"hidden":false,"merged":[[0,1,0,2],[1,1,1,2]]}
[null,"Constants",null,null,null,null,null,null,null,1,{"$f":"VLOOKUP(J1,J2:M52,3,FALSE)","v":"XX"},{"$f":"VLOOKUP(J1,J2:M52,2,FALSE)","v":"Select a State . . . "},{"$f":"VLOOKUP(StateID,J2:M52,4,FALSE)","v":0},null,"VersionNumber",0]
[null,"General",null,null,null,null,null,null,null,1,"Select a State . . . ","XX",0,null,"VersionDate","2024-01-31"]
[null,0.90720000000000001,"MT/ton",null,null,null,null,null,null,2,"Alabama","AL",1]
[null,2000,"lbs/ton",null,null,null,null,null,null,3,"Alaska","AK",1]
[null,0.45400000000000001,"kg/lb",null,null,null,null,null,null,4,"Arizona","AZ",1]
[null,1000,"kg/MT",null,null,null,null,null,null,5,"Arkansas","AR",1]
[null,35.31,"ft3 CH4/m3 CH4",null,null,null,null,null,null,6,"California","CA",1]
[null,0.66800000000000004,"kg/m3 CH4",null,null,null,null,null,null,7,"Colorado","CO",1]
[null,{"$f":"1000/1.1023","v":907.19404880703974},"kg/ton",null,null,null,null,null,null,8,"Connecticut","CT",1]
[null,365,"days/year",null,null,null,null,null,null,9,"Delaware","DE",1]
[null,{"$f":"44/28","v":1.5714285714285714},"N2O:N2 (44/28)",null,null,null,null,null,null,10,"Florida","FL",1]
[null,28,"CH4 GWP",null,null,null,null,null,null,11,"Georgia","GA",1]
[null,null,null,null,null,null,null,null,null,12,"Hawaii","HI",1]
[null,{"$f":"12/44","v":0.27272727272727271},"C:CO2 (12/44)",null,null,null,null,null,null,13,"Idaho","ID",1]
[null,100,"lbs/hundredweight",null,null,null,null,null,null,14,"Illinois","IL",1]
[null,0.2,"Volatilization Percent (used in Manure Management-N20 and Ag Soils-Animal)",null,null,null,null,null,null,15,"Indiana","IN",1]
[null,null,null,null,null,null,null,null,null,16,"Iowa","IA",1]
[null,"coal mining",null,null,null,null,null,null,null,17,"Kansas","KS",1]
[null,19.3,"grams/cubic foot of methane",null,null,null,null,null,null,18,"Kentucky","KY",2]
[null,{"$f":"1/1000000","v":9.9999999999999995E-7},"metric tons/gram",null,null,null,null,null,null,19,"Louisiana","LA",1]
[null,35.314500000000002,"cf / m3",null,null,null,null,null,null,20,"Maine","ME",1]
[null,365,"days / year",null,null,null,null,null,null,21,"Maryland","MD",1]
[null,1000000,"cf / mmcf",null,null,null,null,null,null,22,"Massachusetts","MA",1]
[null,{"$f":"B22*B23/B21","v":10335697.801186481},"mmcfd --> m3/year",null,null,null,null,null,null,23,"Michigan","MI",1]
[null,6.7000000000000004E-7,"Gg/m3",null,null,null,null,null,null,24,"Minnesota","MN",1]
[null,null,null,null,null,null,null,null,null,25,"Mississippi","MS",1]
[null,null,null,null,null,null,null,null,null,26,"Missouri","MO",1]
[null,null,null,null,null,null,null,null,null,27,"Montana","MT",1]
[null,null,null,null,null,null,null,null,null,28,"Nebraska","NE",1]
[null,null,null,null,null,null,null,null,null,29,"Nevada","NV",1]
[null,null,null,null,null,null,null,null,null,30,"New Hampshire","NH",1]
[null,null,null,null,null,null,null,null,null,31,"New Jersey","NJ",1]
[null,null,null,null,null,null,null,null,null,32,"New Mexico","NM",1]
[null,"Percentages for Abandoned Coal Mines",null,null,null,null,null,null,null,33,"New York","NY",1]
[null,0.5,null,null,null,null,null,null,null,34,"North Carolina","NC",1]
[null,0.8,null,null,null,null,null,null,null,35,"North Dakota","ND",1]
[null,0.95,null,null,null,null,null,null,null,36,"Ohio","OH",1]
[null,null,null,null,null,null,null,null,null,37,"Oklahoma","OK",1]
[null,null,null,null,null,null,null,null,null,38,"Oregon","OR",1]
[null,null,null,null,null,null,null,null,null,39,"Pennsylvania","PA",1]
[null,null,null,null,null,null,null,null,null,40,"Rhode Island","RI",1]
[null,null,null,null,null,null,null,null,null,41,"South Carolina","SC",1]
[null,null,null,null,null,null,null,null,null,42,"South Dakota","SD",1]
[null,null,null,null,null,null,null,null,null,43,"Tennessee","TN",1]
[null,null,null,null,null,null,null,null,null,44,"Texas","TX",1]
[null,null,null,null,null,null,null,null,null,45,"Utah","UT",1]
[null,null,null,null,null,null,null,null,null,46,"Vermont","VT",1]
[null,null,null,null,null,null,null,null,null,47,"Virginia","VA",1]
[null,null,null,null,null,null,null,null,null,48,"Washington","WA",1]
[null,null,null,null,null,null,null,null,null,49,"West Virginia","WV",2]
[null,null,null,null,null,null,null,null,null,50,"Wisconsin","WI",1]
[null,null,null,null,null,null,null,null,null,51,"Wyoming","WY",1]

{"sheet":"Documentation","index":16,"n_rows":21,"n_cols":2,"rows_kept":21,"cut":false,"hidden":true,"merged":[[13,0,15,10]]}
["Documentation "]
[]
["Methods, Emission Factors, Data Sources"]
["EIIP (2004) EIIP Volume VIII, Estimating Greenhouse Gas Emissions, Emission Inventory Improvement Program, Technical Report Series (in review)."]
["EPA (2004) Inventory of U.S. Greenhouse Gas Emissions and Sinks: 1990-2002. U.S. Environmental Protection Agency, Washington, DC, EPA, April 2004."]
["ERG (2003) coal 2002.xls. Calculation spreadsheets for the U.S. Inventory"]
[]
["Coal Mining","Methodology Source"]
[null,"EPA (2004), EIIP (2004)"]
[]
[]
[]
["Notes:"]
["For the years 1991 and 1992, no ventilation, degasification, or recovered emissions data were available.   To calculate emissions from underground mines for these years it is assumed that emissions stayed in the same proportion to coal produciton as they did in 1990.  Emissions were grown off of 1990 values using this emissions to production ratio."]
[]
[]
[]
["Abandoned Coal Mines","Methodology Source"]
[null,"Franklin, P., E. Scheehle, R.C. Collings, M.M. Coté, and R.C. Pilcher. White Paper: Proposed Methodology for Estimating Emission Inventories from Abandoned"]
[null,"Coal Mines. U.S. EPA, Prepared for 2006 IPCC Greenhouse Gas Inventories Guidelines Fourth Authors Experts Meeting. Energy : Methane Emissions "]
[null,"for Coal Mining and Handling, Arusha, Tanzania (2004)"]

{"sheet":"AbandonedMethods","index":17,"n_rows":83,"n_cols":7,"rows_kept":83,"cut":false,"hidden":false,"merged":[[67,2,68,2],[71,2,72,2],[81,2,82,2]]}
[]
[null,"Methodology for Abandoned Underground Coal Mine Methane Emissions SIT module"]
[]
[null,"The methodology for determining emissions from abandoned coal mines is based on an EPA White Paper, Proposed Methodology for Estimating Emission"]
[null,"Inventories from Abandoned Coal Mine.   The module uses a database of abandoned coal mines provided by the EPA."]
[]
[null,"1.","The database is of gassy coal mines abandoned since 1972.  Data provided include: state, county, coal basin, mine name and MSHA (Mine Safety and"]
[null,null,"Health Administration) number, methane emissions when active (in million cubic feet per day), date of abandonment, and mine status (whether the mine is vented,"]
[null,null,"flooded, or sealed).  Many of the mines on the list are of unknown status.  In addition, some mines are known to be recovering methane, either to be flared onsite,"]
[null,null,"or collected for energy recovery (e.g., electricity production)."]
[]
[null,"2.","Different coal seams vary in the amount of gas present initially, and the way by which the methane is adsorbed to the coal—some coals release methane"]
[null,null,"more readily than others.  These methane release characteristics were assigned to the mines based on the known coal rank of the basin they are located in."]
[null,null,"Coal rank (sub-bituminous, bituminous, anthracite) is a general measure of coal quality."]
[]
[null,"3.","Methane emissions from abandoned mines vary based on the status of the mine (either vented, sealed, or flooded), the time since abandonment,"]
[null,null,"and the nature of the coal seam."]
[]
[null,null,"a. A vented mine is one that can release methane to the atmosphere freely.  The emissions of such a mine will depend only on time since"]
[null,null,"abandonment and coal characteristics.  "]
[]
[null,null,"b. A sealed mine has been sealed to prevent the escape of methane. However, given the nature of rock used to seal mines, such sealing is never"]
[null,null,"100 percent effective.  The effect of a seal is not to prevent methane emissions, but to slow them—to spread them out over a longer period of time."]
[]
[null,null,"c. A completely flooded mine releases little to no methane to the atmosphere.  After a mine is abandoned, if it is in an area prone to flooding,"]
[null,null,"it will gradually fill up with water.  Therefore, most emissions will occur in the first few years following abandonment, dropping off quickly as the mine floods."]
[]
[null,"4.","Each status of mine has a decline curve associated with it that characterizes the pattern of methane emissions over time."]
[]
[null,null,"a. Vented:  q = qi × (1 + aT)b "]
[null,null,"b. Sealed:   q = qi × (1-c)*(1 + aT)b"]
[null,null,"c. Flooded:  q = qi × e(-DT)"]
[]
[null,null,"Where,"]
[null,null,"q = current emission rate, m3/yr"]
[null,null,"qi = emission rate at abandonment, m3/yr "]
[null,null,"a = constant unique to each decline curve"]
[null,null,"b = constant unique to each decline curve"]
[null,null,"T = time since abandonment, yr"]
[null,null,"c = degree of sealing of the mine (50%, 80%, or 95%)"]
[null,null,"D = decline rate, fraction per year (given as -0.672)"]
[]
[null,"5.","The constants “a” and “b” for the three coal ranks were also provided, and are shown in Table 1 below:"]
[]
[null,null,"Table 1: Constants “a” and “b” by Coal Rank"]
[null,null,"Coal Rank","a","b"]
[null,null,"Anthracite",1.72,-0.57999999999999996]
[null,null,"Bituminous",3.72,-0.42]
[null,null,"Sub-bituminous",0.27,-0.99]
[]
[null,"6.","Default emissions for a state are calculated separately for each status of mine in that state, using the decline equations and constants listed in 4. and 5. above."]
[null,null,"The coal rank, based on the coal basin location of the mine, is used to determine which values of “a” and “b” to use.  The emissions from each status of mine"]
[null,null,"are then added together, along with emissions from mines of unknown status (methodology described in number 7, below)."]
[]
[null,"7.","The complex issue of determining emissions from mines of unknown status was resolved in the following manner:"]
[]
[null,null,"a. The percentage of known-status mines in a particular state and coal basin belonging to each status was determined, as shown in Table 2.  "]
[]
[null,null,"b. The emissions for mines of unknown status was then calculated for each status and multiplied by the appropriate percentage.  For example,"]
[null,null,"emissions were calculated for all the mines of unknown status in Alabama as if they were all flooded.  That number was then multiplied by 92 percent,"]
[null,null,"the proportion of flooded mines among mines of known status in Alabama.  The same procedure was done for each status of mine, and the results"]
[null,null,"added together, to give an estimate of emissions from mines of unknown status in Alabama that reflects what is known about mine characteristics there, "]
[null,null,"without artificially assigning unknown mines to a particular status."]
[]
[null,null,"Table 2: Known Mine Status Distribution by State and Coal Basin"]
[null,null,"State","Basin","Flooded","Vented","Sealed"]
[null,null,"AL","Warrior",{"$f":"'Abandoned Data Inputs'!T8","v":0.92307692307692313},{"$f":"'Abandoned Data Inputs'!U8","v":0},{"$f":"'Abandoned Data Inputs'!V8","v":7.6923076923076927E-2}]
[null,null,"CO","Piceance",{"$f":"'Abandoned Data Inputs'!T10","v":0.14285714285714285},{"$f":"'Abandoned Data Inputs'!U10","v":0},{"$f":"'Abandoned Data Inputs'!V10","v":0.8571428571428571}]
[null,null,null,"Raton",{"$f":"'Abandoned Data Inputs'!T11","v":0},{"$f":"'Abandoned Data Inputs'!U11","v":0},{"$f":"'Abandoned Data Inputs'!V11","v":1}]
[null,null,"IL","Illinois",{"$f":"'Abandoned Data Inputs'!T12","v":0.15789473684210525},{"$f":"'Abandoned Data Inputs'!U12","v":0.15789473684210525},{"$f":"'Abandoned Data Inputs'!V12","v":0.68421052631578949}]
[null,null,"IN","Illinois",{"$f":"'Abandoned Data Inputs'!T13","v":0},{"$f":"'Abandoned Data Inputs'!U13","v":0},{"$f":"'Abandoned Data Inputs'!V13","v":1}]
[null,null,"KY","Central Appl.",{"$f":"'Abandoned Data Inputs'!T15","v":0.33333333333333331},{"$f":"'Abandoned Data Inputs'!U15","v":0.16666666666666666},{"$f":"'Abandoned Data Inputs'!V15","v":0.5}]
[null,null,null,"Illinois",{"$f":"'Abandoned Data Inputs'!T16","v":0.6875},{"$f":"'Abandoned Data Inputs'!U16","v":0},{"$f":"'Abandoned Data Inputs'!V16","v":0.3125}]
[null,null,"MD","Central Appl.",{"$f":"'Abandoned Data Inputs'!T17","v":0.625},{"$f":"'Abandoned Data Inputs'!U17","v":0.125},{"$f":"'Abandoned Data Inputs'!V17","v":0.25}]
[null,null,"NM","Raton",{"$f":"'Abandoned Data Inputs'!T18","v":0},{"$f":"'Abandoned Data Inputs'!U18","v":0},{"$f":"'Abandoned Data Inputs'!V18","v":1}]
[null,null,"OH","Northern Appl.",{"$f":"'Abandoned Data Inputs'!T19","v":7.1428571428571425E-2},{"$f":"'Abandoned Data Inputs'!U19","v":0.5714285714285714},{"$f":"'Abandoned Data Inputs'!V19","v":0.35714285714285715}]
[null,null,"OK","Arkoma",{"$f":"'Abandoned Data Inputs'!T20","v":0.1},{"$f":"'Abandoned Data Inputs'!U20","v":0},{"$f":"'Abandoned Data Inputs'!V20","v":0.9}]
[null,null,"PA","Northern Appl.",{"$f":"'Abandoned Data Inputs'!T21","v":0.41025641025641024},{"$f":"'Abandoned Data Inputs'!U21","v":0.10256410256410256},{"$f":"'Abandoned Data Inputs'!V21","v":0.48717948717948717}]
[null,null,"TN","Central Appl.",{"$f":"'Abandoned Data Inputs'!T22","v":0.33333333333333331},{"$f":"'Abandoned Data Inputs'!U22","v":0.16666666666666666},{"$f":"'Abandoned Data Inputs'!V22","v":0.5}]
[null,null,"UT","Uinta",{"$f":"'Abandoned Data Inputs'!T23","v":0.1},{"$f":"'Abandoned Data Inputs'!U23","v":0},{"$f":"'Abandoned Data Inputs'!V23","v":0.9}]
[null,null,"VA","Central Appl.",{"$f":"'Abandoned Data Inputs'!T24","v":0.625},{"$f":"'Abandoned Data Inputs'!U24","v":0.125},{"$f":"'Abandoned Data Inputs'!V24","v":0.25}]
[null,null,"WV","Central Appl.",{"$f":"'Abandoned Data Inputs'!T26","v":0.72881355932203384},{"$f":"'Abandoned Data Inputs'!U26","v":6.7796610169491525E-2},{"$f":"'Abandoned Data Inputs'!V26","v":0.20338983050847459}]
[null,null,null,"Northern Appl.",{"$f":"'Abandoned Data Inputs'!T27","v":0.23076923076923078},{"$f":"'Abandoned Data Inputs'!U27","v":0.19230769230769232},{"$f":"'Abandoned Data Inputs'!V27","v":0.57692307692307687}]

{"sheet":"Notes","index":18,"n_rows":4,"n_cols":26,"rows_kept":4,"cut":false,"hidden":false,"merged":[]}
[null,null,null,null,null,null,null,null,null,null,null,null,null,null,null,null,null,null,null,null,null,null,null,null,null,"Control"]
[null,null,null,null,null,null,null,null,null,null,null,null,null,null,null,null,null,null,null,null,null,null,null,null,null,"$A$13"]
["Notes and Comments"]
["Use this sheet to keep a record of data sources, edits, or any other useful notes about the use of this tool."]