{"text_format":"1","workbook":"xlsx","n_sheets":36,"sheets":["Control","Dataframe","Dataframe_Sum","Cement","Lime","Limestone","Soda Ash","Iron & Steel","Ammonia & Urea","Aluminum","Nitric","Adipic","HCFC-22","ODS","Semiconductor","Electric Power","Magnesium","Additional Emission Sources","Summary, MTCE","Summary, MTCO2E","Tracker","Uncertainty","Data","EF","ODS subs method","Soda Ash Method","Industrial Limestone Ratios","Lime Proportion Data","Data Sources","semiconductors method","Notes","Electric Power method","Iron & Steel Data","Ammonia Defaults","state population","List Data"],"not_rendered":{"charts":8,"images":542,"macros":1,"external_links":0,"defined_names":151,"comments":25,"pivot_tables":0},"unopened":[],"bounds":{"document_bytes":16777216,"sheet_cells":100000,"rows_first":2000,"rows_last":500,"rows_between":2000,"halvings":0,"cell_chars":16384,"cell_head_chars":4096},"cells_cut":0,"cells_raw":0,"read":"whole","date_system":"1900"}

{"sheet":"Control","index":0,"n_rows":102,"n_cols":6,"rows_kept":102,"cut":false,"hidden":false,"merged":[[83,0,83,2],[0,0,0,3],[50,0,50,2]]}
["State Inventory Tool - Industrial Processes Module\nVersion 2024.2"]
["This module provides default activity data, emission factors, and other relevant metrics for 1990-2021. Emission Factors are proxied for 2022-2025."]
["1. Choose a State"]
["This is very important - it selects the correct default variables for your state."]
[]
[]
["2.- 16. Enter emission factors and proceed to the sector worksheet to complete activity data for the following industrial processes:"]
["Either type in the value/percentage or click the default box"]
["CO2 Emission Factors in Units of CO2 Emitted per Unit of Production or Consumption"]
["Process","Default Factor",null,"Factor Used",null,"Use the Default? (Check for Yes)"]
["2. Cement Production"]
["Clinker",0.50700000000000001,"Metric Tons CO2 Emitted / Metric Ton of Clinker Produced"]
["Cement Kiln Dust (CKD)",0.02,"Metric Tons CKD CO2 Emitted / Metric Ton of Clinker CO2 Emitted"]
["3. Lime Manufacture"]
["High-Calcium Lime",0.75,"Metric Tons CO2 Emitted / Metric Ton High-Calcium Lime Produced "]
["Dolomitic Lime",0.87,"Metric Tons CO2 Emitted / Metric Ton Dolomitic Lime Produced "]
["4. Limestone and Dolomite Use"]
["Limestone  ",0.44,"Metric Tons CO2 Emitted / Metric Ton Limestone (Calcite)"]
["Dolomite",0.48399999999999999,"Metric Tons CO2 Emitted / Metric Ton Limestone (Dolomite)"]
["Magnesium Produced from Dolomite",1.7969999999999999,"Metric Tons CO2 emitted / Metric Ton Magnesium Produced"]
["5. Soda Ash Manufacture and Consumption"]
["    Manufacture",9.7000000000000003E-2,"Metric Tons CO2 Emitted / Metric Ton Trona"]
["    Consumption",0.41499999999999998,"Metric Tons CO2 Emitted / Metric Ton Soda Ash"]
["6. Iron and Steel Production"]
["Basic Oxygen Furnace (BOF) at Integrated Mill with Coke Ovens",1.72,"Metric Tons CO2 Emitted / Metric Ton Crude Steel Produced"]
["Basic Oxygen Furnace (BOF) at Integrated Mill without Coke Ovens",1.46,"Metric Tons CO2 Emitted / Metric Ton Crude Steel Produced"]
["Electric Arc Furnace (EAF)",0.08,"Metric Tons CO2 Emitted / Metric Ton Crude Steel Produced"]
["OHF",1.72,"Metric Tons CO2 Emitted / Metric Ton Crude Steel Produced"]
["7. Ammonia Manufacture"]
["Ammonia Production",{"$f":"IF(StateID=\"KS\",EF!C129,EF!C130)","v":1.2},"Metric Tons CO2 Emitted / Metric NH3 Produced"]
["Urea Production",{"$f":"EF!C131","v":0.73},"Metric Tons CO2 Emitted / Metric NH3 Produced"]
["8. Aluminum Production"]
["Aluminum Production - Prebake",{"$f":"EF!D2","v":0.43636363636363634},"Metric Tons CO2 Emitted / Metric Ton Aluminum Produced"]
["Aluminum Production - Søderberg ",{"$f":"EF!D3","v":0.46363636363636357},"Metric Tons CO2 Emitted / Metric Ton Aluminum Produced"]
[]
["N2O Emission Factors in Units of N2O Emitted per Unit of Production or Consumption"]
["9. Nitric Acid Production",8.0000000000000002E-3,"Metric Tons N2O Emitted / Metric Ton Nitric Acid Produced"]
["10. Adipic Acid Production",0.3,"Metric Tons N2O Emitted / Metric Ton Adipic Acid Produced"]
[]
["HFC, PFC, NF3 and SF6 Emission Factors"]
["11. Aluminum Production","Variable by year","Metric Tons C Equivalent Emitted / Metric Ton Aluminum Produced"]
["12. HCFC-22 Production",0.02,"Metric Tons HFC-23 Emitted / Metric Ton HCFC-22 Produced"]
["13. Consumption of Substitutes for Ozone-Depleting Substances (ODS)*"]
["14. Semiconductor Manufacture*"]
["15. Electric Power Transmission and Distribution",1,"Metric Tons SF6 Emitted / Metric Ton SF6 Consumed (Sold)"]
["16. Magnesium Production and Processing"]
["Primary Production","Variable by year","Metric Tons SF6 Emitted / Metric Ton Magnesium Produced"]
["Secondary Production","Variable by year","Metric Tons SF6 Emitted / Metric Ton Magnesium Produced"]
["Casting","Variable by year","Metric Tons SF6 Emitted / Metric Ton Magnesium Processed"]
[]
["17. Enter emission estimates for facilities reporting to EPA's Greenhouse Gas Reporting Program and/or any additional emission sources (OPTIONAL) \n       If you have additional emission sources by gas that have not been included elsewhere, you can include here. Otherwise, you may skip this sheet."]
["These rows are hidden b/c petrochems and si carbide are not in the latest eiip inventory. Use them and the boxes to the right if ever adding them."]
["CH4 Emission Factors"]
["Petrochemical Production"]
["Carbon Black",1.0999999999999999E-2,"Metric Tons CH4 Emitted / Metric Ton Carbon Black Produced"]
["Ethylene",1E-3,"Metric Tons CH4 Emitted / Metric Ton Ethylene Produced"]
["Ethelyene Dichloride",4.0000000000000002E-4,"Metric Tons CH4 Emitted / Metric Ton Ethylene Dichloride Produced"]
["Styrene",4.0000000000000001E-3,"Metric Tons CH4 Emitted / Metric Ton Styrene Produced"]
["Methanol",2E-3,"Metric Tons CH4 Emitted / Metric Ton Methanol Produced"]
["Silicon Carbide Production",1.1599999999999999E-2,"Metric Tons CH4 Emitted / Metric Ton Silicon Carbide Produced"]
[]
[]
[]
[]
[]
[]
[]
[]
[]
[]
[]
[]
[{"$f":"\"18. Go to the Summary Worksheet to see the emission totals for \"&'List Data'!B3","v":"18. Go to the Summary Worksheet to see the emission totals for Select a State . . ."}]
[]
[]
[]
[]
["19. Export the results for use in the Synthesis Tool."]
[]
[]
[]
[]
[]
["*According to the most recent inventory guidance, emissions of HFCs, PFCs, NF3, and SF6 from ODS substitutes and semiconductor production can be estimated by apportioning regional and national emissions respectively to each state based on population.  Because this tool apportions emissions based on state population, no emission factors are required for these sources."]
[]
[]
["Other Factors Used"]
["Conversion Factors"]
["Short tons to Metric tons","Multiply by",0.90718469999999996]
["CO2 Equivalent to C Equiv.","Multiply by",{"$f":"12/44","v":0.27272727272727271}]
[]
["Global Warming Potentials"]
["The default GWPs used in this module are from the IPCC Fifth Assessment Report (AR5) but can be adjusted in the cells below to reflect other sources.",null,null,null,null,"IPCC AR5 GWPs"]
["Methane (CH4)",null,28,null,null,28]
["Nitrous Oxide (N2O)",null,{"$f":"F95","v":265},null,null,265]
["HFC-134a",null,1300,null,null,1300]
["HFC-143a",null,4800,null,null,4800]
["HFC-125",null,3170,null,null,3170]
["HFC-23",null,12400,null,null,12400]
["HFC-32",null,677,null,null,677]
["Sulfur Hexafluoride (SF6)",null,23500,null,null,23500]
["Nitrogen Trifluoride (NF3)",null,16100,null,null,16100]

{"sheet":"Dataframe","index":1,"n_rows":20,"n_cols":38,"rows_kept":20,"cut":false,"hidden":true,"merged":[]}
["MMTCO2E","Category",1990,1991,1992,1993,1994,1995,1996,1997,1998,1999,2000,2001,2002,2003,2004,2005,2006,2007,2008,2009,2010,2011,2012,2013,2014,2015,2016,2017,2018,2019,2020,2021,2022,2023,2024,2025]
["Carbon Dioxide Emissions","Industrial Processes - Carbon Dioxide Emissions",{"$f":"('Summary, MTCO2E'!C6)/1000000","v":0},{"$f":"('Summary, MTCO2E'!D6)/1000000","v":0},{"$f":"('Summary, MTCO2E'!E6)/1000000","v":0},{"$f":"('Summary, MTCO2E'!F6)/1000000","v":0},{"$f":"('Summary, MTCO2E'!G6)/1000000","v":0},{"$f":"('Summary, MTCO2E'!H6)/1000000","v":0},{"$f":"('Summary, MTCO2E'!I6)/1000000","v":0},{"$f":"('Summary, MTCO2E'!J6)/1000000","v":0},{"$f":"('Summary, MTCO2E'!K6)/1000000","v":0},{"$f":"('Summary, MTCO2E'!L6)/1000000","v":0},{"$f":"('Summary, MTCO2E'!M6)/1000000","v":0},{"$f":"('Summary, MTCO2E'!N6)/1000000","v":0},{"$f":"('Summary, MTCO2E'!O6)/1000000","v":0},{"$f":"('Summary, MTCO2E'!P6)/1000000","v":0},{"$f":"('Summary, MTCO2E'!Q6)/1000000","v":0},{"$f":"('Summary, MTCO2E'!R6)/1000000","v":0},{"$f":"('Summary, MTCO2E'!S6)/1000000","v":0},{"$f":"('Summary, MTCO2E'!T6)/1000000","v":0},{"$f":"('Summary, MTCO2E'!U6)/1000000","v":0},{"$f":"('Summary, MTCO2E'!V6)/1000000","v":0},{"$f":"('Summary, MTCO2E'!W6)/1000000","v":0},{"$f":"('Summary, MTCO2E'!X6)/1000000","v":0},{"$f":"('Summary, MTCO2E'!Y6)/1000000","v":0},{"$f":"('Summary, MTCO2E'!Z6)/1000000","v":0},{"$f":"('Summary, MTCO2E'!AA6)/1000000","v":0},{"$f":"('Summary, MTCO2E'!AB6)/1000000","v":0},{"$f":"('Summary, MTCO2E'!AC6)/1000000","v":0},{"$f":"('Summary, MTCO2E'!AD6)/1000000","v":0},{"$f":"('Summary, MTCO2E'!AE6)/1000000","v":0},{"$f":"('Summary, MTCO2E'!AF6)/1000000","v":0},{"$f":"('Summary, MTCO2E'!AG6)/1000000","v":0},{"$f":"('Summary, MTCO2E'!AH6)/1000000","v":0},{"$f":"('Summary, MTCO2E'!AI6)/1000000","v":0},{"$f":"('Summary, MTCO2E'!AJ6)/1000000","v":0},{"$f":"('Summary, MTCO2E'!AK6)/1000000","v":0},{"$f":"('Summary, MTCO2E'!AL6)/1000000","v":0}]
["Cement Manufacture","Industrial Processes - Carbon Dioxide Emissions - Cement Manufacture",{"$f":"('Summary, MTCO2E'!C7)/1000000","v":0},{"$f":"('Summary, MTCO2E'!D7)/1000000","v":0},{"$f":"('Summary, MTCO2E'!E7)/1000000","v":0},{"$f":"('Summary, MTCO2E'!F7)/1000000","v":0},{"$f":"('Summary, MTCO2E'!G7)/1000000","v":0},{"$f":"('Summary, MTCO2E'!H7)/1000000","v":0},{"$f":"('Summary, MTCO2E'!I7)/1000000","v":0},{"$f":"('Summary, MTCO2E'!J7)/1000000","v":0},{"$f":"('Summary, MTCO2E'!K7)/1000000","v":0},{"$f":"('Summary, MTCO2E'!L7)/1000000","v":0},{"$f":"('Summary, MTCO2E'!M7)/1000000","v":0},{"$f":"('Summary, MTCO2E'!N7)/1000000","v":0},{"$f":"('Summary, MTCO2E'!O7)/1000000","v":0},{"$f":"('Summary, MTCO2E'!P7)/1000000","v":0},{"$f":"('Summary, MTCO2E'!Q7)/1000000","v":0},{"$f":"('Summary, MTCO2E'!R7)/1000000","v":0},{"$f":"('Summary, MTCO2E'!S7)/1000000","v":0},{"$f":"('Summary, MTCO2E'!T7)/1000000","v":0},{"$f":"('Summary, MTCO2E'!U7)/1000000","v":0},{"$f":"('Summary, MTCO2E'!V7)/1000000","v":0},{"$f":"('Summary, MTCO2E'!W7)/1000000","v":0},{"$f":"('Summary, MTCO2E'!X7)/1000000","v":0},{"$f":"('Summary, MTCO2E'!Y7)/1000000","v":0},{"$f":"('Summary, MTCO2E'!Z7)/1000000","v":0},{"$f":"('Summary, MTCO2E'!AA7)/1000000","v":0},{"$f":"('Summary, MTCO2E'!AB7)/1000000","v":0},{"$f":"('Summary, MTCO2E'!AC7)/1000000","v":0},{"$f":"('Summary, MTCO2E'!AD7)/1000000","v":0},{"$f":"('Summary, MTCO2E'!AE7)/1000000","v":0},{"$f":"('Summary, MTCO2E'!AF7)/1000000","v":0},{"$f":"('Summary, MTCO2E'!AG7)/1000000","v":0},{"$f":"('Summary, MTCO2E'!AH7)/1000000","v":0},{"$f":"('Summary, MTCO2E'!AI7)/1000000","v":0},{"$f":"('Summary, MTCO2E'!AJ7)/1000000","v":0},{"$f":"('Summary, MTCO2E'!AK7)/1000000","v":0},{"$f":"('Summary, MTCO2E'!AL7)/1000000","v":0}]
["Lime Manufacture","Industrial Processes - Carbon Dioxide Emissions - Lime Manufacture",{"$f":"('Summary, MTCO2E'!C8)/1000000","v":0},{"$f":"('Summary, MTCO2E'!D8)/1000000","v":0},{"$f":"('Summary, MTCO2E'!E8)/1000000","v":0},{"$f":"('Summary, MTCO2E'!F8)/1000000","v":0},{"$f":"('Summary, MTCO2E'!G8)/1000000","v":0},{"$f":"('Summary, MTCO2E'!H8)/1000000","v":0},{"$f":"('Summary, MTCO2E'!I8)/1000000","v":0},{"$f":"('Summary, MTCO2E'!J8)/1000000","v":0},{"$f":"('Summary, MTCO2E'!K8)/1000000","v":0},{"$f":"('Summary, MTCO2E'!L8)/1000000","v":0},{"$f":"('Summary, MTCO2E'!M8)/1000000","v":0},{"$f":"('Summary, MTCO2E'!N8)/1000000","v":0},{"$f":"('Summary, MTCO2E'!O8)/1000000","v":0},{"$f":"('Summary, MTCO2E'!P8)/1000000","v":0},{"$f":"('Summary, MTCO2E'!Q8)/1000000","v":0},{"$f":"('Summary, MTCO2E'!R8)/1000000","v":0},{"$f":"('Summary, MTCO2E'!S8)/1000000","v":0},{"$f":"('Summary, MTCO2E'!T8)/1000000","v":0},{"$f":"('Summary, MTCO2E'!U8)/1000000","v":0},{"$f":"('Summary, MTCO2E'!V8)/1000000","v":0},{"$f":"('Summary, MTCO2E'!W8)/1000000","v":0},{"$f":"('Summary, MTCO2E'!X8)/1000000","v":0},{"$f":"('Summary, MTCO2E'!Y8)/1000000","v":0},{"$f":"('Summary, MTCO2E'!Z8)/1000000","v":0},{"$f":"('Summary, MTCO2E'!AA8)/1000000","v":0},{"$f":"('Summary, MTCO2E'!AB8)/1000000","v":0},{"$f":"('Summary, MTCO2E'!AC8)/1000000","v":0},{"$f":"('Summary, MTCO2E'!AD8)/1000000","v":0},{"$f":"('Summary, MTCO2E'!AE8)/1000000","v":0},{"$f":"('Summary, MTCO2E'!AF8)/1000000","v":0},{"$f":"('Summary, MTCO2E'!AG8)/1000000","v":0},{"$f":"('Summary, MTCO2E'!AH8)/1000000","v":0},{"$f":"('Summary, MTCO2E'!AI8)/1000000","v":0},{"$f":"('Summary, MTCO2E'!AJ8)/1000000","v":0},{"$f":"('Summary, MTCO2E'!AK8)/1000000","v":0},{"$f":"('Summary, MTCO2E'!AL8)/1000000","v":0}]
["Limestone and Dolomite Use","Industrial Processes - Carbon Dioxide Emissions - Limestone and Dolomite Use",{"$f":"('Summary, MTCO2E'!C9)/1000000","v":0},{"$f":"('Summary, MTCO2E'!D9)/1000000","v":0},{"$f":"('Summary, MTCO2E'!E9)/1000000","v":0},{"$f":"('Summary, MTCO2E'!F9)/1000000","v":0},{"$f":"('Summary, MTCO2E'!G9)/1000000","v":0},{"$f":"('Summary, MTCO2E'!H9)/1000000","v":0},{"$f":"('Summary, MTCO2E'!I9)/1000000","v":0},{"$f":"('Summary, MTCO2E'!J9)/1000000","v":0},{"$f":"('Summary, MTCO2E'!K9)/1000000","v":0},{"$f":"('Summary, MTCO2E'!L9)/1000000","v":0},{"$f":"('Summary, MTCO2E'!M9)/1000000","v":0},{"$f":"('Summary, MTCO2E'!N9)/1000000","v":0},{"$f":"('Summary, MTCO2E'!O9)/1000000","v":0},{"$f":"('Summary, MTCO2E'!P9)/1000000","v":0},{"$f":"('Summary, MTCO2E'!Q9)/1000000","v":0},{"$f":"('Summary, MTCO2E'!R9)/1000000","v":0},{"$f":"('Summary, MTCO2E'!S9)/1000000","v":0},{"$f":"('Summary, MTCO2E'!T9)/1000000","v":0},{"$f":"('Summary, MTCO2E'!U9)/1000000","v":0},{"$f":"('Summary, MTCO2E'!V9)/1000000","v":0},{"$f":"('Summary, MTCO2E'!W9)/1000000","v":0},{"$f":"('Summary, MTCO2E'!X9)/1000000","v":0},{"$f":"('Summary, MTCO2E'!Y9)/1000000","v":0},{"$f":"('Summary, MTCO2E'!Z9)/1000000","v":0},{"$f":"('Summary, MTCO2E'!AA9)/1000000","v":0},{"$f":"('Summary, MTCO2E'!AB9)/1000000","v":0},{"$f":"('Summary, MTCO2E'!AC9)/1000000","v":0},{"$f":"('Summary, MTCO2E'!AD9)/1000000","v":0},{"$f":"('Summary, MTCO2E'!AE9)/1000000","v":0},{"$f":"('Summary, MTCO2E'!AF9)/1000000","v":0},{"$f":"('Summary, MTCO2E'!AG9)/1000000","v":0},{"$f":"('Summary, MTCO2E'!AH9)/1000000","v":0},{"$f":"('Summary, MTCO2E'!AI9)/1000000","v":0},{"$f":"('Summary, MTCO2E'!AJ9)/1000000","v":0},{"$f":"('Summary, MTCO2E'!AK9)/1000000","v":0},{"$f":"('Summary, MTCO2E'!AL9)/1000000","v":0}]
["Soda Ash","Industrial Processes - Carbon Dioxide Emissions - Soda Ash",{"$f":"('Summary, MTCO2E'!C10)/1000000","v":0},{"$f":"('Summary, MTCO2E'!D10)/1000000","v":0},{"$f":"('Summary, MTCO2E'!E10)/1000000","v":0},{"$f":"('Summary, MTCO2E'!F10)/1000000","v":0},{"$f":"('Summary, MTCO2E'!G10)/1000000","v":0},{"$f":"('Summary, MTCO2E'!H10)/1000000","v":0},{"$f":"('Summary, MTCO2E'!I10)/1000000","v":0},{"$f":"('Summary, MTCO2E'!J10)/1000000","v":0},{"$f":"('Summary, MTCO2E'!K10)/1000000","v":0},{"$f":"('Summary, MTCO2E'!L10)/1000000","v":0},{"$f":"('Summary, MTCO2E'!M10)/1000000","v":0},{"$f":"('Summary, MTCO2E'!N10)/1000000","v":0},{"$f":"('Summary, MTCO2E'!O10)/1000000","v":0},{"$f":"('Summary, MTCO2E'!P10)/1000000","v":0},{"$f":"('Summary, MTCO2E'!Q10)/1000000","v":0},{"$f":"('Summary, MTCO2E'!R10)/1000000","v":0},{"$f":"('Summary, MTCO2E'!S10)/1000000","v":0},{"$f":"('Summary, MTCO2E'!T10)/1000000","v":0},{"$f":"('Summary, MTCO2E'!U10)/1000000","v":0},{"$f":"('Summary, MTCO2E'!V10)/1000000","v":0},{"$f":"('Summary, MTCO2E'!W10)/1000000","v":0},{"$f":"('Summary, MTCO2E'!X10)/1000000","v":0},{"$f":"('Summary, MTCO2E'!Y10)/1000000","v":0},{"$f":"('Summary, MTCO2E'!Z10)/1000000","v":0},{"$f":"('Summary, MTCO2E'!AA10)/1000000","v":0},{"$f":"('Summary, MTCO2E'!AB10)/1000000","v":0},{"$f":"('Summary, MTCO2E'!AC10)/1000000","v":0},{"$f":"('Summary, MTCO2E'!AD10)/1000000","v":0},{"$f":"('Summary, MTCO2E'!AE10)/1000000","v":0},{"$f":"('Summary, MTCO2E'!AF10)/1000000","v":0},{"$f":"('Summary, MTCO2E'!AG10)/1000000","v":0},{"$f":"('Summary, MTCO2E'!AH10)/1000000","v":0},{"$f":"('Summary, MTCO2E'!AI10)/1000000","v":0},{"$f":"('Summary, MTCO2E'!AJ10)/1000000","v":0},{"$f":"('Summary, MTCO2E'!AK10)/1000000","v":0},{"$f":"('Summary, MTCO2E'!AL10)/1000000","v":0}]
["Aluminum Production, CO2","Industrial Processes - Carbon Dioxide Emissions - Aluminum Production, CO2",{"$f":"('Summary, MTCO2E'!C11)/1000000","v":0},{"$f":"('Summary, MTCO2E'!D11)/1000000","v":0},{"$f":"('Summary, MTCO2E'!E11)/1000000","v":0},{"$f":"('Summary, MTCO2E'!F11)/1000000","v":0},{"$f":"('Summary, MTCO2E'!G11)/1000000","v":0},{"$f":"('Summary, MTCO2E'!H11)/1000000","v":0},{"$f":"('Summary, MTCO2E'!I11)/1000000","v":0},{"$f":"('Summary, MTCO2E'!J11)/1000000","v":0},{"$f":"('Summary, MTCO2E'!K11)/1000000","v":0},{"$f":"('Summary, MTCO2E'!L11)/1000000","v":0},{"$f":"('Summary, MTCO2E'!M11)/1000000","v":0},{"$f":"('Summary, MTCO2E'!N11)/1000000","v":0},{"$f":"('Summary, MTCO2E'!O11)/1000000","v":0},{"$f":"('Summary, MTCO2E'!P11)/1000000","v":0},{"$f":"('Summary, MTCO2E'!Q11)/1000000","v":0},{"$f":"('Summary, MTCO2E'!R11)/1000000","v":0},{"$f":"('Summary, MTCO2E'!S11)/1000000","v":0},{"$f":"('Summary, MTCO2E'!T11)/1000000","v":0},{"$f":"('Summary, MTCO2E'!U11)/1000000","v":0},{"$f":"('Summary, MTCO2E'!V11)/1000000","v":0},{"$f":"('Summary, MTCO2E'!W11)/1000000","v":0},{"$f":"('Summary, MTCO2E'!X11)/1000000","v":0},{"$f":"('Summary, MTCO2E'!Y11)/1000000","v":0},{"$f":"('Summary, MTCO2E'!Z11)/1000000","v":0},{"$f":"('Summary, MTCO2E'!AA11)/1000000","v":0},{"$f":"('Summary, MTCO2E'!AB11)/1000000","v":0},{"$f":"('Summary, MTCO2E'!AC11)/1000000","v":0},{"$f":"('Summary, MTCO2E'!AD11)/1000000","v":0},{"$f":"('Summary, MTCO2E'!AE11)/1000000","v":0},{"$f":"('Summary, MTCO2E'!AF11)/1000000","v":0},{"$f":"('Summary, MTCO2E'!AG11)/1000000","v":0},{"$f":"('Summary, MTCO2E'!AH11)/1000000","v":0},{"$f":"('Summary, MTCO2E'!AI11)/1000000","v":0},{"$f":"('Summary, MTCO2E'!AJ11)/1000000","v":0},{"$f":"('Summary, MTCO2E'!AK11)/1000000","v":0},{"$f":"('Summary, MTCO2E'!AL11)/1000000","v":0}]
["Iron & Steel Production","Industrial Processes - Carbon Dioxide Emissions - Iron & Steel Production",{"$f":"('Summary, MTCO2E'!C12)/1000000","v":0},{"$f":"('Summary, MTCO2E'!D12)/1000000","v":0},{"$f":"('Summary, MTCO2E'!E12)/1000000","v":0},{"$f":"('Summary, MTCO2E'!F12)/1000000","v":0},{"$f":"('Summary, MTCO2E'!G12)/1000000","v":0},{"$f":"('Summary, MTCO2E'!H12)/1000000","v":0},{"$f":"('Summary, MTCO2E'!I12)/1000000","v":0},{"$f":"('Summary, MTCO2E'!J12)/1000000","v":0},{"$f":"('Summary, MTCO2E'!K12)/1000000","v":0},{"$f":"('Summary, MTCO2E'!L12)/1000000","v":0},{"$f":"('Summary, MTCO2E'!M12)/1000000","v":0},{"$f":"('Summary, MTCO2E'!N12)/1000000","v":0},{"$f":"('Summary, MTCO2E'!O12)/1000000","v":0},{"$f":"('Summary, MTCO2E'!P12)/1000000","v":0},{"$f":"('Summary, MTCO2E'!Q12)/1000000","v":0},{"$f":"('Summary, MTCO2E'!R12)/1000000","v":0},{"$f":"('Summary, MTCO2E'!S12)/1000000","v":0},{"$f":"('Summary, MTCO2E'!T12)/1000000","v":0},{"$f":"('Summary, MTCO2E'!U12)/1000000","v":0},{"$f":"('Summary, MTCO2E'!V12)/1000000","v":0},{"$f":"('Summary, MTCO2E'!W12)/1000000","v":0},{"$f":"('Summary, MTCO2E'!X12)/1000000","v":0},{"$f":"('Summary, MTCO2E'!Y12)/1000000","v":0},{"$f":"('Summary, MTCO2E'!Z12)/1000000","v":0},{"$f":"('Summary, MTCO2E'!AA12)/1000000","v":0},{"$f":"('Summary, MTCO2E'!AB12)/1000000","v":0},{"$f":"('Summary, MTCO2E'!AC12)/1000000","v":0},{"$f":"('Summary, MTCO2E'!AD12)/1000000","v":0},{"$f":"('Summary, MTCO2E'!AE12)/1000000","v":0},{"$f":"('Summary, MTCO2E'!AF12)/1000000","v":0},{"$f":"('Summary, MTCO2E'!AG12)/1000000","v":0},{"$f":"('Summary, MTCO2E'!AH12)/1000000","v":0},{"$f":"('Summary, MTCO2E'!AI12)/1000000","v":0},{"$f":"('Summary, MTCO2E'!AJ12)/1000000","v":0},{"$f":"('Summary, MTCO2E'!AK12)/1000000","v":0},{"$f":"('Summary, MTCO2E'!AL12)/1000000","v":0}]
["Ammonia Production","Industrial Processes - Carbon Dioxide Emissions - Ammonia Production",{"$f":"('Summary, MTCO2E'!C13)/1000000","v":0},{"$f":"('Summary, MTCO2E'!D13)/1000000","v":0},{"$f":"('Summary, MTCO2E'!E13)/1000000","v":0},{"$f":"('Summary, MTCO2E'!F13)/1000000","v":0},{"$f":"('Summary, MTCO2E'!G13)/1000000","v":0},{"$f":"('Summary, MTCO2E'!H13)/1000000","v":0},{"$f":"('Summary, MTCO2E'!I13)/1000000","v":0},{"$f":"('Summary, MTCO2E'!J13)/1000000","v":0},{"$f":"('Summary, MTCO2E'!K13)/1000000","v":0},{"$f":"('Summary, MTCO2E'!L13)/1000000","v":0},{"$f":"('Summary, MTCO2E'!M13)/1000000","v":0},{"$f":"('Summary, MTCO2E'!N13)/1000000","v":0},{"$f":"('Summary, MTCO2E'!O13)/1000000","v":0},{"$f":"('Summary, MTCO2E'!P13)/1000000","v":0},{"$f":"('Summary, MTCO2E'!Q13)/1000000","v":0},{"$f":"('Summary, MTCO2E'!R13)/1000000","v":0},{"$f":"('Summary, MTCO2E'!S13)/1000000","v":0},{"$f":"('Summary, MTCO2E'!T13)/1000000","v":0},{"$f":"('Summary, MTCO2E'!U13)/1000000","v":0},{"$f":"('Summary, MTCO2E'!V13)/1000000","v":0},{"$f":"('Summary, MTCO2E'!W13)/1000000","v":0},{"$f":"('Summary, MTCO2E'!X13)/1000000","v":0},{"$f":"('Summary, MTCO2E'!Y13)/1000000","v":0},{"$f":"('Summary, MTCO2E'!Z13)/1000000","v":0},{"$f":"('Summary, MTCO2E'!AA13)/1000000","v":0},{"$f":"('Summary, MTCO2E'!AB13)/1000000","v":0},{"$f":"('Summary, MTCO2E'!AC13)/1000000","v":0},{"$f":"('Summary, MTCO2E'!AD13)/1000000","v":0},{"$f":"('Summary, MTCO2E'!AE13)/1000000","v":0},{"$f":"('Summary, MTCO2E'!AF13)/1000000","v":0},{"$f":"('Summary, MTCO2E'!AG13)/1000000","v":0},{"$f":"('Summary, MTCO2E'!AH13)/1000000","v":0},{"$f":"('Summary, MTCO2E'!AI13)/1000000","v":0},{"$f":"('Summary, MTCO2E'!AJ13)/1000000","v":0},{"$f":"('Summary, MTCO2E'!AK13)/1000000","v":0},{"$f":"('Summary, MTCO2E'!AL13)/1000000","v":0}]
["Urea Consumption","Industrial Processes - Carbon Dioxide Emissions - Urea Consumption",{"$f":"('Summary, MTCO2E'!C14)/1000000","v":0},{"$f":"('Summary, MTCO2E'!D14)/1000000","v":0},{"$f":"('Summary, MTCO2E'!E14)/1000000","v":0},{"$f":"('Summary, MTCO2E'!F14)/1000000","v":0},{"$f":"('Summary, MTCO2E'!G14)/1000000","v":0},{"$f":"('Summary, MTCO2E'!H14)/1000000","v":0},{"$f":"('Summary, MTCO2E'!I14)/1000000","v":0},{"$f":"('Summary, MTCO2E'!J14)/1000000","v":0},{"$f":"('Summary, MTCO2E'!K14)/1000000","v":0},{"$f":"('Summary, MTCO2E'!L14)/1000000","v":0},{"$f":"('Summary, MTCO2E'!M14)/1000000","v":0},{"$f":"('Summary, MTCO2E'!N14)/1000000","v":0},{"$f":"('Summary, MTCO2E'!O14)/1000000","v":0},{"$f":"('Summary, MTCO2E'!P14)/1000000","v":0},{"$f":"('Summary, MTCO2E'!Q14)/1000000","v":0},{"$f":"('Summary, MTCO2E'!R14)/1000000","v":0},{"$f":"('Summary, MTCO2E'!S14)/1000000","v":0},{"$f":"('Summary, MTCO2E'!T14)/1000000","v":0},{"$f":"('Summary, MTCO2E'!U14)/1000000","v":0},{"$f":"('Summary, MTCO2E'!V14)/1000000","v":0},{"$f":"('Summary, MTCO2E'!W14)/1000000","v":0},{"$f":"('Summary, MTCO2E'!X14)/1000000","v":0},{"$f":"('Summary, MTCO2E'!Y14)/1000000","v":0},{"$f":"('Summary, MTCO2E'!Z14)/1000000","v":0},{"$f":"('Summary, MTCO2E'!AA14)/1000000","v":0},{"$f":"('Summary, MTCO2E'!AB14)/1000000","v":0},{"$f":"('Summary, MTCO2E'!AC14)/1000000","v":0},{"$f":"('Summary, MTCO2E'!AD14)/1000000","v":0},{"$f":"('Summary, MTCO2E'!AE14)/1000000","v":0},{"$f":"('Summary, MTCO2E'!AF14)/1000000","v":0},{"$f":"('Summary, MTCO2E'!AG14)/1000000","v":0},{"$f":"('Summary, MTCO2E'!AH14)/1000000","v":0},{"$f":"('Summary, MTCO2E'!AI14)/1000000","v":0},{"$f":"('Summary, MTCO2E'!AJ14)/1000000","v":0},{"$f":"('Summary, MTCO2E'!AK14)/1000000","v":0},{"$f":"('Summary, MTCO2E'!AL14)/1000000","v":0}]
["Nitrous Oxide Emissions","Industrial Processes - Nitrous Oxide Emissions",{"$f":"('Summary, MTCO2E'!C16)/1000000","v":0},{"$f":"('Summary, MTCO2E'!D16)/1000000","v":0},{"$f":"('Summary, MTCO2E'!E16)/1000000","v":0},{"$f":"('Summary, MTCO2E'!F16)/1000000","v":0},{"$f":"('Summary, MTCO2E'!G16)/1000000","v":0},{"$f":"('Summary, MTCO2E'!H16)/1000000","v":0},{"$f":"('Summary, MTCO2E'!I16)/1000000","v":0},{"$f":"('Summary, MTCO2E'!J16)/1000000","v":0},{"$f":"('Summary, MTCO2E'!K16)/1000000","v":0},{"$f":"('Summary, MTCO2E'!L16)/1000000","v":0},{"$f":"('Summary, MTCO2E'!M16)/1000000","v":0},{"$f":"('Summary, MTCO2E'!N16)/1000000","v":0},{"$f":"('Summary, MTCO2E'!O16)/1000000","v":0},{"$f":"('Summary, MTCO2E'!P16)/1000000","v":0},{"$f":"('Summary, MTCO2E'!Q16)/1000000","v":0},{"$f":"('Summary, MTCO2E'!R16)/1000000","v":0},{"$f":"('Summary, MTCO2E'!S16)/1000000","v":0},{"$f":"('Summary, MTCO2E'!T16)/1000000","v":0},{"$f":"('Summary, MTCO2E'!U16)/1000000","v":0},{"$f":"('Summary, MTCO2E'!V16)/1000000","v":0},{"$f":"('Summary, MTCO2E'!W16)/1000000","v":0},{"$f":"('Summary, MTCO2E'!X16)/1000000","v":0},{"$f":"('Summary, MTCO2E'!Y16)/1000000","v":0},{"$f":"('Summary, MTCO2E'!Z16)/1000000","v":0},{"$f":"('Summary, MTCO2E'!AA16)/1000000","v":0},{"$f":"('Summary, MTCO2E'!AB16)/1000000","v":0},{"$f":"('Summary, MTCO2E'!AC16)/1000000","v":0},{"$f":"('Summary, MTCO2E'!AD16)/1000000","v":0},{"$f":"('Summary, MTCO2E'!AE16)/1000000","v":0},{"$f":"('Summary, MTCO2E'!AF16)/1000000","v":0},{"$f":"('Summary, MTCO2E'!AG16)/1000000","v":0},{"$f":"('Summary, MTCO2E'!AH16)/1000000","v":0},{"$f":"('Summary, MTCO2E'!AI16)/1000000","v":0},{"$f":"('Summary, MTCO2E'!AJ16)/1000000","v":0},{"$f":"('Summary, MTCO2E'!AK16)/1000000","v":0},{"$f":"('Summary, MTCO2E'!AL16)/1000000","v":0}]
["Nitric Acid Production","Industrial Processes - Nitrous Oxide Emissions - Nitric Acid Production",{"$f":"('Summary, MTCO2E'!C17)/1000000","v":0},{"$f":"('Summary, MTCO2E'!D17)/1000000","v":0},{"$f":"('Summary, MTCO2E'!E17)/1000000","v":0},{"$f":"('Summary, MTCO2E'!F17)/1000000","v":0},{"$f":"('Summary, MTCO2E'!G17)/1000000","v":0},{"$f":"('Summary, MTCO2E'!H17)/1000000","v":0},{"$f":"('Summary, MTCO2E'!I17)/1000000","v":0},{"$f":"('Summary, MTCO2E'!J17)/1000000","v":0},{"$f":"('Summary, MTCO2E'!K17)/1000000","v":0},{"$f":"('Summary, MTCO2E'!L17)/1000000","v":0},{"$f":"('Summary, MTCO2E'!M17)/1000000","v":0},{"$f":"('Summary, MTCO2E'!N17)/1000000","v":0},{"$f":"('Summary, MTCO2E'!O17)/1000000","v":0},{"$f":"('Summary, MTCO2E'!P17)/1000000","v":0},{"$f":"('Summary, MTCO2E'!Q17)/1000000","v":0},{"$f":"('Summary, MTCO2E'!R17)/1000000","v":0},{"$f":"('Summary, MTCO2E'!S17)/1000000","v":0},{"$f":"('Summary, MTCO2E'!T17)/1000000","v":0},{"$f":"('Summary, MTCO2E'!U17)/1000000","v":0},{"$f":"('Summary, MTCO2E'!V17)/1000000","v":0},{"$f":"('Summary, MTCO2E'!W17)/1000000","v":0},{"$f":"('Summary, MTCO2E'!X17)/1000000","v":0},{"$f":"('Summary, MTCO2E'!Y17)/1000000","v":0},{"$f":"('Summary, MTCO2E'!Z17)/1000000","v":0},{"$f":"('Summary, MTCO2E'!AA17)/1000000","v":0},{"$f":"('Summary, MTCO2E'!AB17)/1000000","v":0},{"$f":"('Summary, MTCO2E'!AC17)/1000000","v":0},{"$f":"('Summary, MTCO2E'!AD17)/1000000","v":0},{"$f":"('Summary, MTCO2E'!AE17)/1000000","v":0},{"$f":"('Summary, MTCO2E'!AF17)/1000000","v":0},{"$f":"('Summary, MTCO2E'!AG17)/1000000","v":0},{"$f":"('Summary, MTCO2E'!AH17)/1000000","v":0},{"$f":"('Summary, MTCO2E'!AI17)/1000000","v":0},{"$f":"('Summary, MTCO2E'!AJ17)/1000000","v":0},{"$f":"('Summary, MTCO2E'!AK17)/1000000","v":0},{"$f":"('Summary, MTCO2E'!AL17)/1000000","v":0}]
["Adipic Acid Production","Industrial Processes - Nitrous Oxide Emissions - Adipic Acid Production",{"$f":"('Summary, MTCO2E'!C18)/1000000","v":0},{"$f":"('Summary, MTCO2E'!D18)/1000000","v":0},{"$f":"('Summary, MTCO2E'!E18)/1000000","v":0},{"$f":"('Summary, MTCO2E'!F18)/1000000","v":0},{"$f":"('Summary, MTCO2E'!G18)/1000000","v":0},{"$f":"('Summary, MTCO2E'!H18)/1000000","v":0},{"$f":"('Summary, MTCO2E'!I18)/1000000","v":0},{"$f":"('Summary, MTCO2E'!J18)/1000000","v":0},{"$f":"('Summary, MTCO2E'!K18)/1000000","v":0},{"$f":"('Summary, MTCO2E'!L18)/1000000","v":0},{"$f":"('Summary, MTCO2E'!M18)/1000000","v":0},{"$f":"('Summary, MTCO2E'!N18)/1000000","v":0},{"$f":"('Summary, MTCO2E'!O18)/1000000","v":0},{"$f":"('Summary, MTCO2E'!P18)/1000000","v":0},{"$f":"('Summary, MTCO2E'!Q18)/1000000","v":0},{"$f":"('Summary, MTCO2E'!R18)/1000000","v":0},{"$f":"('Summary, MTCO2E'!S18)/1000000","v":0},{"$f":"('Summary, MTCO2E'!T18)/1000000","v":0},{"$f":"('Summary, MTCO2E'!U18)/1000000","v":0},{"$f":"('Summary, MTCO2E'!V18)/1000000","v":0},{"$f":"('Summary, MTCO2E'!W18)/1000000","v":0},{"$f":"('Summary, MTCO2E'!X18)/1000000","v":0},{"$f":"('Summary, MTCO2E'!Y18)/1000000","v":0},{"$f":"('Summary, MTCO2E'!Z18)/1000000","v":0},{"$f":"('Summary, MTCO2E'!AA18)/1000000","v":0},{"$f":"('Summary, MTCO2E'!AB18)/1000000","v":0},{"$f":"('Summary, MTCO2E'!AC18)/1000000","v":0},{"$f":"('Summary, MTCO2E'!AD18)/1000000","v":0},{"$f":"('Summary, MTCO2E'!AE18)/1000000","v":0},{"$f":"('Summary, MTCO2E'!AF18)/1000000","v":0},{"$f":"('Summary, MTCO2E'!AG18)/1000000","v":0},{"$f":"('Summary, MTCO2E'!AH18)/1000000","v":0},{"$f":"('Summary, MTCO2E'!AI18)/1000000","v":0},{"$f":"('Summary, MTCO2E'!AJ18)/1000000","v":0},{"$f":"('Summary, MTCO2E'!AK18)/1000000","v":0},{"$f":"('Summary, MTCO2E'!AL18)/1000000","v":0}]
["HFC, PFC, NF3, and SF6 Emissions","Industrial Processes - HFC, PFC, NF3, and SF6 Emissions",{"$f":"('Summary, MTCO2E'!C20)/1000000","v":0},{"$f":"('Summary, MTCO2E'!D20)/1000000","v":0},{"$f":"('Summary, MTCO2E'!E20)/1000000","v":0},{"$f":"('Summary, MTCO2E'!F20)/1000000","v":0},{"$f":"('Summary, MTCO2E'!G20)/1000000","v":0},{"$f":"('Summary, MTCO2E'!H20)/1000000","v":0},{"$f":"('Summary, MTCO2E'!I20)/1000000","v":0},{"$f":"('Summary, MTCO2E'!J20)/1000000","v":0},{"$f":"('Summary, MTCO2E'!K20)/1000000","v":0},{"$f":"('Summary, MTCO2E'!L20)/1000000","v":0},{"$f":"('Summary, MTCO2E'!M20)/1000000","v":0},{"$f":"('Summary, MTCO2E'!N20)/1000000","v":0},{"$f":"('Summary, MTCO2E'!O20)/1000000","v":0},{"$f":"('Summary, MTCO2E'!P20)/1000000","v":0},{"$f":"('Summary, MTCO2E'!Q20)/1000000","v":0},{"$f":"('Summary, MTCO2E'!R20)/1000000","v":0},{"$f":"('Summary, MTCO2E'!S20)/1000000","v":0},{"$f":"('Summary, MTCO2E'!T20)/1000000","v":0},{"$f":"('Summary, MTCO2E'!U20)/1000000","v":0},{"$f":"('Summary, MTCO2E'!V20)/1000000","v":0},{"$f":"('Summary, MTCO2E'!W20)/1000000","v":0},{"$f":"('Summary, MTCO2E'!X20)/1000000","v":0},{"$f":"('Summary, MTCO2E'!Y20)/1000000","v":0},{"$f":"('Summary, MTCO2E'!Z20)/1000000","v":0},{"$f":"('Summary, MTCO2E'!AA20)/1000000","v":0},{"$f":"('Summary, MTCO2E'!AB20)/1000000","v":0},{"$f":"('Summary, MTCO2E'!AC20)/1000000","v":0},{"$f":"('Summary, MTCO2E'!AD20)/1000000","v":0},{"$f":"('Summary, MTCO2E'!AE20)/1000000","v":0},{"$f":"('Summary, MTCO2E'!AF20)/1000000","v":0},{"$f":"('Summary, MTCO2E'!AG20)/1000000","v":0},{"$f":"('Summary, MTCO2E'!AH20)/1000000","v":0},{"$f":"('Summary, MTCO2E'!AI20)/1000000","v":0},{"$f":"('Summary, MTCO2E'!AJ20)/1000000","v":0},{"$f":"('Summary, MTCO2E'!AK20)/1000000","v":0},{"$f":"('Summary, MTCO2E'!AL20)/1000000","v":0}]
["ODS Substitutes","Industrial Processes - HFC, PFC, NF3, and SF6 Emissions - ODS Substitutes",{"$f":"('Summary, MTCO2E'!C21)/1000000","v":0},{"$f":"('Summary, MTCO2E'!D21)/1000000","v":0},{"$f":"('Summary, MTCO2E'!E21)/1000000","v":0},{"$f":"('Summary, MTCO2E'!F21)/1000000","v":0},{"$f":"('Summary, MTCO2E'!G21)/1000000","v":0},{"$f":"('Summary, MTCO2E'!H21)/1000000","v":0},{"$f":"('Summary, MTCO2E'!I21)/1000000","v":0},{"$f":"('Summary, MTCO2E'!J21)/1000000","v":0},{"$f":"('Summary, MTCO2E'!K21)/1000000","v":0},{"$f":"('Summary, MTCO2E'!L21)/1000000","v":0},{"$f":"('Summary, MTCO2E'!M21)/1000000","v":0},{"$f":"('Summary, MTCO2E'!N21)/1000000","v":0},{"$f":"('Summary, MTCO2E'!O21)/1000000","v":0},{"$f":"('Summary, MTCO2E'!P21)/1000000","v":0},{"$f":"('Summary, MTCO2E'!Q21)/1000000","v":0},{"$f":"('Summary, MTCO2E'!R21)/1000000","v":0},{"$f":"('Summary, MTCO2E'!S21)/1000000","v":0},{"$f":"('Summary, MTCO2E'!T21)/1000000","v":0},{"$f":"('Summary, MTCO2E'!U21)/1000000","v":0},{"$f":"('Summary, MTCO2E'!V21)/1000000","v":0},{"$f":"('Summary, MTCO2E'!W21)/1000000","v":0},{"$f":"('Summary, MTCO2E'!X21)/1000000","v":0},{"$f":"('Summary, MTCO2E'!Y21)/1000000","v":0},{"$f":"('Summary, MTCO2E'!Z21)/1000000","v":0},{"$f":"('Summary, MTCO2E'!AA21)/1000000","v":0},{"$f":"('Summary, MTCO2E'!AB21)/1000000","v":0},{"$f":"('Summary, MTCO2E'!AC21)/1000000","v":0},{"$f":"('Summary, MTCO2E'!AD21)/1000000","v":0},{"$f":"('Summary, MTCO2E'!AE21)/1000000","v":0},{"$f":"('Summary, MTCO2E'!AF21)/1000000","v":0},{"$f":"('Summary, MTCO2E'!AG21)/1000000","v":0},{"$f":"('Summary, MTCO2E'!AH21)/1000000","v":0},{"$f":"('Summary, MTCO2E'!AI21)/1000000","v":0},{"$f":"('Summary, MTCO2E'!AJ21)/1000000","v":0},{"$f":"('Summary, MTCO2E'!AK21)/1000000","v":0},{"$f":"('Summary, MTCO2E'!AL21)/1000000","v":0}]
["Semiconductor Manufacturing","Industrial Processes - HFC, PFC, NF3, and SF6 Emissions - Semiconductor Manufacturing",{"$f":"('Summary, MTCO2E'!C22)/1000000","v":0},{"$f":"('Summary, MTCO2E'!D22)/1000000","v":0},{"$f":"('Summary, MTCO2E'!E22)/1000000","v":0},{"$f":"('Summary, MTCO2E'!F22)/1000000","v":0},{"$f":"('Summary, MTCO2E'!G22)/1000000","v":0},{"$f":"('Summary, MTCO2E'!H22)/1000000","v":0},{"$f":"('Summary, MTCO2E'!I22)/1000000","v":0},{"$f":"('Summary, MTCO2E'!J22)/1000000","v":0},{"$f":"('Summary, MTCO2E'!K22)/1000000","v":0},{"$f":"('Summary, MTCO2E'!L22)/1000000","v":0},{"$f":"('Summary, MTCO2E'!M22)/1000000","v":0},{"$f":"('Summary, MTCO2E'!N22)/1000000","v":0},{"$f":"('Summary, MTCO2E'!O22)/1000000","v":0},{"$f":"('Summary, MTCO2E'!P22)/1000000","v":0},{"$f":"('Summary, MTCO2E'!Q22)/1000000","v":0},{"$f":"('Summary, MTCO2E'!R22)/1000000","v":0},{"$f":"('Summary, MTCO2E'!S22)/1000000","v":0},{"$f":"('Summary, MTCO2E'!T22)/1000000","v":0},{"$f":"('Summary, MTCO2E'!U22)/1000000","v":0},{"$f":"('Summary, MTCO2E'!V22)/1000000","v":0},{"$f":"('Summary, MTCO2E'!W22)/1000000","v":0},{"$f":"('Summary, MTCO2E'!X22)/1000000","v":0},{"$f":"('Summary, MTCO2E'!Y22)/1000000","v":0},{"$f":"('Summary, MTCO2E'!Z22)/1000000","v":0},{"$f":"('Summary, MTCO2E'!AA22)/1000000","v":0},{"$f":"('Summary, MTCO2E'!AB22)/1000000","v":0},{"$f":"('Summary, MTCO2E'!AC22)/1000000","v":0},{"$f":"('Summary, MTCO2E'!AD22)/1000000","v":0},{"$f":"('Summary, MTCO2E'!AE22)/1000000","v":0},{"$f":"('Summary, MTCO2E'!AF22)/1000000","v":0},{"$f":"('Summary, MTCO2E'!AG22)/1000000","v":0},{"$f":"('Summary, MTCO2E'!AH22)/1000000","v":0},{"$f":"('Summary, MTCO2E'!AI22)/1000000","v":0},{"$f":"('Summary, MTCO2E'!AJ22)/1000000","v":0},{"$f":"('Summary, MTCO2E'!AK22)/1000000","v":0},{"$f":"('Summary, MTCO2E'!AL22)/1000000","v":0}]
["Magnesium Production","Industrial Processes - HFC, PFC, NF3, and SF6 Emissions - Magnesium Production",{"$f":"('Summary, MTCO2E'!C23)/1000000","v":0},{"$f":"('Summary, MTCO2E'!D23)/1000000","v":0},{"$f":"('Summary, MTCO2E'!E23)/1000000","v":0},{"$f":"('Summary, MTCO2E'!F23)/1000000","v":0},{"$f":"('Summary, MTCO2E'!G23)/1000000","v":0},{"$f":"('Summary, MTCO2E'!H23)/1000000","v":0},{"$f":"('Summary, MTCO2E'!I23)/1000000","v":0},{"$f":"('Summary, MTCO2E'!J23)/1000000","v":0},{"$f":"('Summary, MTCO2E'!K23)/1000000","v":0},{"$f":"('Summary, MTCO2E'!L23)/1000000","v":0},{"$f":"('Summary, MTCO2E'!M23)/1000000","v":0},{"$f":"('Summary, MTCO2E'!N23)/1000000","v":0},{"$f":"('Summary, MTCO2E'!O23)/1000000","v":0},{"$f":"('Summary, MTCO2E'!P23)/1000000","v":0},{"$f":"('Summary, MTCO2E'!Q23)/1000000","v":0},{"$f":"('Summary, MTCO2E'!R23)/1000000","v":0},{"$f":"('Summary, MTCO2E'!S23)/1000000","v":0},{"$f":"('Summary, MTCO2E'!T23)/1000000","v":0},{"$f":"('Summary, MTCO2E'!U23)/1000000","v":0},{"$f":"('Summary, MTCO2E'!V23)/1000000","v":0},{"$f":"('Summary, MTCO2E'!W23)/1000000","v":0},{"$f":"('Summary, MTCO2E'!X23)/1000000","v":0},{"$f":"('Summary, MTCO2E'!Y23)/1000000","v":0},{"$f":"('Summary, MTCO2E'!Z23)/1000000","v":0},{"$f":"('Summary, MTCO2E'!AA23)/1000000","v":0},{"$f":"('Summary, MTCO2E'!AB23)/1000000","v":0},{"$f":"('Summary, MTCO2E'!AC23)/1000000","v":0},{"$f":"('Summary, MTCO2E'!AD23)/1000000","v":0},{"$f":"('Summary, MTCO2E'!AE23)/1000000","v":0},{"$f":"('Summary, MTCO2E'!AF23)/1000000","v":0},{"$f":"('Summary, MTCO2E'!AG23)/1000000","v":0},{"$f":"('Summary, MTCO2E'!AH23)/1000000","v":0},{"$f":"('Summary, MTCO2E'!AI23)/1000000","v":0},{"$f":"('Summary, MTCO2E'!AJ23)/1000000","v":0},{"$f":"('Summary, MTCO2E'!AK23)/1000000","v":0},{"$f":"('Summary, MTCO2E'!AL23)/1000000","v":0}]
["Electric Power Transmission and Distribution Systems","Industrial Processes - HFC, PFC, NF3, and SF6 Emissions - Electric Power Transmission and Distribution Systems",{"$f":"('Summary, MTCO2E'!C24)/1000000","v":0},{"$f":"('Summary, MTCO2E'!D24)/1000000","v":0},{"$f":"('Summary, MTCO2E'!E24)/1000000","v":0},{"$f":"('Summary, MTCO2E'!F24)/1000000","v":0},{"$f":"('Summary, MTCO2E'!G24)/1000000","v":0},{"$f":"('Summary, MTCO2E'!H24)/1000000","v":0},{"$f":"('Summary, MTCO2E'!I24)/1000000","v":0},{"$f":"('Summary, MTCO2E'!J24)/1000000","v":0},{"$f":"('Summary, MTCO2E'!K24)/1000000","v":0},{"$f":"('Summary, MTCO2E'!L24)/1000000","v":0},{"$f":"('Summary, MTCO2E'!M24)/1000000","v":0},{"$f":"('Summary, MTCO2E'!N24)/1000000","v":0},{"$f":"('Summary, MTCO2E'!O24)/1000000","v":0},{"$f":"('Summary, MTCO2E'!P24)/1000000","v":0},{"$f":"('Summary, MTCO2E'!Q24)/1000000","v":0},{"$f":"('Summary, MTCO2E'!R24)/1000000","v":0},{"$f":"('Summary, MTCO2E'!S24)/1000000","v":0},{"$f":"('Summary, MTCO2E'!T24)/1000000","v":0},{"$f":"('Summary, MTCO2E'!U24)/1000000","v":0},{"$f":"('Summary, MTCO2E'!V24)/1000000","v":0},{"$f":"('Summary, MTCO2E'!W24)/1000000","v":0},{"$f":"('Summary, MTCO2E'!X24)/1000000","v":0},{"$f":"('Summary, MTCO2E'!Y24)/1000000","v":0},{"$f":"('Summary, MTCO2E'!Z24)/1000000","v":0},{"$f":"('Summary, MTCO2E'!AA24)/1000000","v":0},{"$f":"('Summary, MTCO2E'!AB24)/1000000","v":0},{"$f":"('Summary, MTCO2E'!AC24)/1000000","v":0},{"$f":"('Summary, MTCO2E'!AD24)/1000000","v":0},{"$f":"('Summary, MTCO2E'!AE24)/1000000","v":0},{"$f":"('Summary, MTCO2E'!AF24)/1000000","v":0},{"$f":"('Summary, MTCO2E'!AG24)/1000000","v":0},{"$f":"('Summary, MTCO2E'!AH24)/1000000","v":0},{"$f":"('Summary, MTCO2E'!AI24)/1000000","v":0},{"$f":"('Summary, MTCO2E'!AJ24)/1000000","v":0},{"$f":"('Summary, MTCO2E'!AK24)/1000000","v":0},{"$f":"('Summary, MTCO2E'!AL24)/1000000","v":0}]
["HCFC-22 Production","Industrial Processes - HFC, PFC, NF3, and SF6 Emissions - HCFC-22 Production",{"$f":"('Summary, MTCO2E'!C25)/1000000","v":0},{"$f":"('Summary, MTCO2E'!D25)/1000000","v":0},{"$f":"('Summary, MTCO2E'!E25)/1000000","v":0},{"$f":"('Summary, MTCO2E'!F25)/1000000","v":0},{"$f":"('Summary, MTCO2E'!G25)/1000000","v":0},{"$f":"('Summary, MTCO2E'!H25)/1000000","v":0},{"$f":"('Summary, MTCO2E'!I25)/1000000","v":0},{"$f":"('Summary, MTCO2E'!J25)/1000000","v":0},{"$f":"('Summary, MTCO2E'!K25)/1000000","v":0},{"$f":"('Summary, MTCO2E'!L25)/1000000","v":0},{"$f":"('Summary, MTCO2E'!M25)/1000000","v":0},{"$f":"('Summary, MTCO2E'!N25)/1000000","v":0},{"$f":"('Summary, MTCO2E'!O25)/1000000","v":0},{"$f":"('Summary, MTCO2E'!P25)/1000000","v":0},{"$f":"('Summary, MTCO2E'!Q25)/1000000","v":0},{"$f":"('Summary, MTCO2E'!R25)/1000000","v":0},{"$f":"('Summary, MTCO2E'!S25)/1000000","v":0},{"$f":"('Summary, MTCO2E'!T25)/1000000","v":0},{"$f":"('Summary, MTCO2E'!U25)/1000000","v":0},{"$f":"('Summary, MTCO2E'!V25)/1000000","v":0},{"$f":"('Summary, MTCO2E'!W25)/1000000","v":0},{"$f":"('Summary, MTCO2E'!X25)/1000000","v":0},{"$f":"('Summary, MTCO2E'!Y25)/1000000","v":0},{"$f":"('Summary, MTCO2E'!Z25)/1000000","v":0},{"$f":"('Summary, MTCO2E'!AA25)/1000000","v":0},{"$f":"('Summary, MTCO2E'!AB25)/1000000","v":0},{"$f":"('Summary, MTCO2E'!AC25)/1000000","v":0},{"$f":"('Summary, MTCO2E'!AD25)/1000000","v":0},{"$f":"('Summary, MTCO2E'!AE25)/1000000","v":0},{"$f":"('Summary, MTCO2E'!AF25)/1000000","v":0},{"$f":"('Summary, MTCO2E'!AG25)/1000000","v":0},{"$f":"('Summary, MTCO2E'!AH25)/1000000","v":0},{"$f":"('Summary, MTCO2E'!AI25)/1000000","v":0},{"$f":"('Summary, MTCO2E'!AJ25)/1000000","v":0},{"$f":"('Summary, MTCO2E'!AK25)/1000000","v":0},{"$f":"('Summary, MTCO2E'!AL25)/1000000","v":0}]
["Aluminum Production, PFCs","Industrial Processes - HFC, PFC, NF3, and SF6 Emissions - Aluminum Production, PFCs",{"$f":"('Summary, MTCO2E'!C26)/1000000","v":0},{"$f":"('Summary, MTCO2E'!D26)/1000000","v":0},{"$f":"('Summary, MTCO2E'!E26)/1000000","v":0},{"$f":"('Summary, MTCO2E'!F26)/1000000","v":0},{"$f":"('Summary, MTCO2E'!G26)/1000000","v":0},{"$f":"('Summary, MTCO2E'!H26)/1000000","v":0},{"$f":"('Summary, MTCO2E'!I26)/1000000","v":0},{"$f":"('Summary, MTCO2E'!J26)/1000000","v":0},{"$f":"('Summary, MTCO2E'!K26)/1000000","v":0},{"$f":"('Summary, MTCO2E'!L26)/1000000","v":0},{"$f":"('Summary, MTCO2E'!M26)/1000000","v":0},{"$f":"('Summary, MTCO2E'!N26)/1000000","v":0},{"$f":"('Summary, MTCO2E'!O26)/1000000","v":0},{"$f":"('Summary, MTCO2E'!P26)/1000000","v":0},{"$f":"('Summary, MTCO2E'!Q26)/1000000","v":0},{"$f":"('Summary, MTCO2E'!R26)/1000000","v":0},{"$f":"('Summary, MTCO2E'!S26)/1000000","v":0},{"$f":"('Summary, MTCO2E'!T26)/1000000","v":0},{"$f":"('Summary, MTCO2E'!U26)/1000000","v":0},{"$f":"('Summary, MTCO2E'!V26)/1000000","v":0},{"$f":"('Summary, MTCO2E'!W26)/1000000","v":0},{"$f":"('Summary, MTCO2E'!X26)/1000000","v":0},{"$f":"('Summary, MTCO2E'!Y26)/1000000","v":0},{"$f":"('Summary, MTCO2E'!Z26)/1000000","v":0},{"$f":"('Summary, MTCO2E'!AA26)/1000000","v":0},{"$f":"('Summary, MTCO2E'!AB26)/1000000","v":0},{"$f":"('Summary, MTCO2E'!AC26)/1000000","v":0},{"$f":"('Summary, MTCO2E'!AD26)/1000000","v":0},{"$f":"('Summary, MTCO2E'!AE26)/1000000","v":0},{"$f":"('Summary, MTCO2E'!AF26)/1000000","v":0},{"$f":"('Summary, MTCO2E'!AG26)/1000000","v":0},{"$f":"('Summary, MTCO2E'!AH26)/1000000","v":0},{"$f":"('Summary, MTCO2E'!AI26)/1000000","v":0},{"$f":"('Summary, MTCO2E'!AJ26)/1000000","v":0},{"$f":"('Summary, MTCO2E'!AK26)/1000000","v":0},{"$f":"('Summary, MTCO2E'!AL26)/1000000","v":0}]

{"sheet":"Dataframe_Sum","index":2,"n_rows":5,"n_cols":38,"rows_kept":5,"cut":false,"hidden":true,"merged":[]}
["MMTCO2E","Category",1990,1991,1992,1993,1994,1995,1996,1997,1998,1999,2000,2001,2002,2003,2004,2005,2006,2007,2008,2009,2010,2011,2012,2013,2014,2015,2016,2017,2018,2019,2020,2021,2022,2023,2024,2025]
["Carbon Dioxide Emissions","Industrial Processes - Carbon Dioxide Emissions",{"$f":"('Summary, MTCO2E'!C6)/1000000","v":0},{"$f":"('Summary, MTCO2E'!D6)/1000000","v":0},{"$f":"('Summary, MTCO2E'!E6)/1000000","v":0},{"$f":"('Summary, MTCO2E'!F6)/1000000","v":0},{"$f":"('Summary, MTCO2E'!G6)/1000000","v":0},{"$f":"('Summary, MTCO2E'!H6)/1000000","v":0},{"$f":"('Summary, MTCO2E'!I6)/1000000","v":0},{"$f":"('Summary, MTCO2E'!J6)/1000000","v":0},{"$f":"('Summary, MTCO2E'!K6)/1000000","v":0},{"$f":"('Summary, MTCO2E'!L6)/1000000","v":0},{"$f":"('Summary, MTCO2E'!M6)/1000000","v":0},{"$f":"('Summary, MTCO2E'!N6)/1000000","v":0},{"$f":"('Summary, MTCO2E'!O6)/1000000","v":0},{"$f":"('Summary, MTCO2E'!P6)/1000000","v":0},{"$f":"('Summary, MTCO2E'!Q6)/1000000","v":0},{"$f":"('Summary, MTCO2E'!R6)/1000000","v":0},{"$f":"('Summary, MTCO2E'!S6)/1000000","v":0},{"$f":"('Summary, MTCO2E'!T6)/1000000","v":0},{"$f":"('Summary, MTCO2E'!U6)/1000000","v":0},{"$f":"('Summary, MTCO2E'!V6)/1000000","v":0},{"$f":"('Summary, MTCO2E'!W6)/1000000","v":0},{"$f":"('Summary, MTCO2E'!X6)/1000000","v":0},{"$f":"('Summary, MTCO2E'!Y6)/1000000","v":0},{"$f":"('Summary, MTCO2E'!Z6)/1000000","v":0},{"$f":"('Summary, MTCO2E'!AA6)/1000000","v":0},{"$f":"('Summary, MTCO2E'!AB6)/1000000","v":0},{"$f":"('Summary, MTCO2E'!AC6)/1000000","v":0},{"$f":"('Summary, MTCO2E'!AD6)/1000000","v":0},{"$f":"('Summary, MTCO2E'!AE6)/1000000","v":0},{"$f":"('Summary, MTCO2E'!AF6)/1000000","v":0},{"$f":"('Summary, MTCO2E'!AG6)/1000000","v":0},{"$f":"('Summary, MTCO2E'!AH6)/1000000","v":0},{"$f":"('Summary, MTCO2E'!AI6)/1000000","v":0},{"$f":"('Summary, MTCO2E'!AJ6)/1000000","v":0},{"$f":"('Summary, MTCO2E'!AK6)/1000000","v":0},{"$f":"('Summary, MTCO2E'!AL6)/1000000","v":0}]
["Nitrous Oxide Emissions","Industrial Processes - Nitrous Oxide Emissions",{"$f":"('Summary, MTCO2E'!C16)/1000000","v":0},{"$f":"('Summary, MTCO2E'!D16)/1000000","v":0},{"$f":"('Summary, MTCO2E'!E16)/1000000","v":0},{"$f":"('Summary, MTCO2E'!F16)/1000000","v":0},{"$f":"('Summary, MTCO2E'!G16)/1000000","v":0},{"$f":"('Summary, MTCO2E'!H16)/1000000","v":0},{"$f":"('Summary, MTCO2E'!I16)/1000000","v":0},{"$f":"('Summary, MTCO2E'!J16)/1000000","v":0},{"$f":"('Summary, MTCO2E'!K16)/1000000","v":0},{"$f":"('Summary, MTCO2E'!L16)/1000000","v":0},{"$f":"('Summary, MTCO2E'!M16)/1000000","v":0},{"$f":"('Summary, MTCO2E'!N16)/1000000","v":0},{"$f":"('Summary, MTCO2E'!O16)/1000000","v":0},{"$f":"('Summary, MTCO2E'!P16)/1000000","v":0},{"$f":"('Summary, MTCO2E'!Q16)/1000000","v":0},{"$f":"('Summary, MTCO2E'!R16)/1000000","v":0},{"$f":"('Summary, MTCO2E'!S16)/1000000","v":0},{"$f":"('Summary, MTCO2E'!T16)/1000000","v":0},{"$f":"('Summary, MTCO2E'!U16)/1000000","v":0},{"$f":"('Summary, MTCO2E'!V16)/1000000","v":0},{"$f":"('Summary, MTCO2E'!W16)/1000000","v":0},{"$f":"('Summary, MTCO2E'!X16)/1000000","v":0},{"$f":"('Summary, MTCO2E'!Y16)/1000000","v":0},{"$f":"('Summary, MTCO2E'!Z16)/1000000","v":0},{"$f":"('Summary, MTCO2E'!AA16)/1000000","v":0},{"$f":"('Summary, MTCO2E'!AB16)/1000000","v":0},{"$f":"('Summary, MTCO2E'!AC16)/1000000","v":0},{"$f":"('Summary, MTCO2E'!AD16)/1000000","v":0},{"$f":"('Summary, MTCO2E'!AE16)/1000000","v":0},{"$f":"('Summary, MTCO2E'!AF16)/1000000","v":0},{"$f":"('Summary, MTCO2E'!AG16)/1000000","v":0},{"$f":"('Summary, MTCO2E'!AH16)/1000000","v":0},{"$f":"('Summary, MTCO2E'!AI16)/1000000","v":0},{"$f":"('Summary, MTCO2E'!AJ16)/1000000","v":0},{"$f":"('Summary, MTCO2E'!AK16)/1000000","v":0},{"$f":"('Summary, MTCO2E'!AL16)/1000000","v":0}]
["HFC, PFC, NF3, and SF6 Emissions","Industrial Processes - HFC, PFC, NF3, and SF6 Emissions",{"$f":"('Summary, MTCO2E'!C20)/1000000","v":0},{"$f":"('Summary, MTCO2E'!D20)/1000000","v":0},{"$f":"('Summary, MTCO2E'!E20)/1000000","v":0},{"$f":"('Summary, MTCO2E'!F20)/1000000","v":0},{"$f":"('Summary, MTCO2E'!G20)/1000000","v":0},{"$f":"('Summary, MTCO2E'!H20)/1000000","v":0},{"$f":"('Summary, MTCO2E'!I20)/1000000","v":0},{"$f":"('Summary, MTCO2E'!J20)/1000000","v":0},{"$f":"('Summary, MTCO2E'!K20)/1000000","v":0},{"$f":"('Summary, MTCO2E'!L20)/1000000","v":0},{"$f":"('Summary, MTCO2E'!M20)/1000000","v":0},{"$f":"('Summary, MTCO2E'!N20)/1000000","v":0},{"$f":"('Summary, MTCO2E'!O20)/1000000","v":0},{"$f":"('Summary, MTCO2E'!P20)/1000000","v":0},{"$f":"('Summary, MTCO2E'!Q20)/1000000","v":0},{"$f":"('Summary, MTCO2E'!R20)/1000000","v":0},{"$f":"('Summary, MTCO2E'!S20)/1000000","v":0},{"$f":"('Summary, MTCO2E'!T20)/1000000","v":0},{"$f":"('Summary, MTCO2E'!U20)/1000000","v":0},{"$f":"('Summary, MTCO2E'!V20)/1000000","v":0},{"$f":"('Summary, MTCO2E'!W20)/1000000","v":0},{"$f":"('Summary, MTCO2E'!X20)/1000000","v":0},{"$f":"('Summary, MTCO2E'!Y20)/1000000","v":0},{"$f":"('Summary, MTCO2E'!Z20)/1000000","v":0},{"$f":"('Summary, MTCO2E'!AA20)/1000000","v":0},{"$f":"('Summary, MTCO2E'!AB20)/1000000","v":0},{"$f":"('Summary, MTCO2E'!AC20)/1000000","v":0},{"$f":"('Summary, MTCO2E'!AD20)/1000000","v":0},{"$f":"('Summary, MTCO2E'!AE20)/1000000","v":0},{"$f":"('Summary, MTCO2E'!AF20)/1000000","v":0},{"$f":"('Summary, MTCO2E'!AG20)/1000000","v":0},{"$f":"('Summary, MTCO2E'!AH20)/1000000","v":0},{"$f":"('Summary, MTCO2E'!AI20)/1000000","v":0},{"$f":"('Summary, MTCO2E'!AJ20)/1000000","v":0},{"$f":"('Summary, MTCO2E'!AK20)/1000000","v":0},{"$f":"('Summary, MTCO2E'!AL20)/1000000","v":0}]
["Total","Industrial Processes - Total",{"$f":"'Summary, MTCO2E'!C28/1000000","v":0},{"$f":"'Summary, MTCO2E'!D28/1000000","v":0},{"$f":"'Summary, MTCO2E'!E28/1000000","v":0},{"$f":"'Summary, MTCO2E'!F28/1000000","v":0},{"$f":"'Summary, MTCO2E'!G28/1000000","v":0},{"$f":"'Summary, MTCO2E'!H28/1000000","v":0},{"$f":"'Summary, MTCO2E'!I28/1000000","v":0},{"$f":"'Summary, MTCO2E'!J28/1000000","v":0},{"$f":"'Summary, MTCO2E'!K28/1000000","v":0},{"$f":"'Summary, MTCO2E'!L28/1000000","v":0},{"$f":"'Summary, MTCO2E'!M28/1000000","v":0},{"$f":"'Summary, MTCO2E'!N28/1000000","v":0},{"$f":"'Summary, MTCO2E'!O28/1000000","v":0},{"$f":"'Summary, MTCO2E'!P28/1000000","v":0},{"$f":"'Summary, MTCO2E'!Q28/1000000","v":0},{"$f":"'Summary, MTCO2E'!R28/1000000","v":0},{"$f":"'Summary, MTCO2E'!S28/1000000","v":0},{"$f":"'Summary, MTCO2E'!T28/1000000","v":0},{"$f":"'Summary, MTCO2E'!U28/1000000","v":0},{"$f":"'Summary, MTCO2E'!V28/1000000","v":0},{"$f":"'Summary, MTCO2E'!W28/1000000","v":0},{"$f":"'Summary, MTCO2E'!X28/1000000","v":0},{"$f":"'Summary, MTCO2E'!Y28/1000000","v":0},{"$f":"'Summary, MTCO2E'!Z28/1000000","v":0},{"$f":"'Summary, MTCO2E'!AA28/1000000","v":0},{"$f":"'Summary, MTCO2E'!AB28/1000000","v":0},{"$f":"'Summary, MTCO2E'!AC28/1000000","v":0},{"$f":"'Summary, MTCO2E'!AD28/1000000","v":0},{"$f":"'Summary, MTCO2E'!AE28/1000000","v":0},{"$f":"'Summary, MTCO2E'!AF28/1000000","v":0},{"$f":"'Summary, MTCO2E'!AG28/1000000","v":0},{"$f":"'Summary, MTCO2E'!AH28/1000000","v":0},{"$f":"'Summary, MTCO2E'!AI28/1000000","v":0},{"$f":"'Summary, MTCO2E'!AJ28/1000000","v":0},{"$f":"'Summary, MTCO2E'!AK28/1000000","v":0},{"$f":"'Summary, MTCO2E'!AL28/1000000","v":0}]

{"sheet":"Cement","index":3,"n_rows":77,"n_cols":18,"rows_kept":77,"cut":false,"hidden":false,"merged":[[0,12,0,19]]}
[null,{"$f":"\"2. Cement Production in \"&'List Data'!B3","v":"2. Cement Production in Select a State . . ."}]
[null,null,null,{"$f":"'List Data'!$A$3","v":"XX"},"Cement",{"$f":"\" \"","v":" "}]
[]
[null,null,null,null,"Production",null,"Emission Factor",null,"Emissions ",null,"Emissions from Cement Kiln Dust",null,"Emissions ",null,"Emissions "]
[null,null,null,null,"(Metric Tons)",null,"(t CO2/t production)",null,"(Metric Tons CO2)",null,"(Metric Tons CO2)",null,"(MTCE)",null,"(MTCO2E)"]
[]
[null,1990,null,"Clinker",null,"x",{"$f":"INDIRECT($E$2&LEFT(D7,2)&\"Factor\")","v":0},"=",{"$f":"IF(ISERROR(E7*G7),0,E7*G7)","v":0},"+",{"$f":"I7*CKDFactor","v":0},"=",{"$f":"(I7+K7)*CO2_C","v":0},"=",{"$f":"M7/CO2_C","v":0}]
[]
[null,{"$f":"B7+1","v":1991},null,"Clinker",null,"x",{"$f":"INDIRECT($E$2&LEFT(D9,2)&\"Factor\")","v":0},"=",{"$f":"IF(ISERROR(E9*G9),0,E9*G9)","v":0},"+",{"$f":"I9*CKDFactor","v":0},"=",{"$f":"(I9+K9)*CO2_C","v":0},"=",{"$f":"M9/CO2_C","v":0}]
[]
[null,{"$f":"B9+1","v":1992},null,{"$f":"$D$7","v":"Clinker"},null,"x",{"$f":"INDIRECT($E$2&LEFT(D11,2)&\"Factor\")","v":0},"=",{"$f":"IF(ISERROR(E11*G11),0,E11*G11)","v":0},"+",{"$f":"I11*CKDFactor","v":0},"=",{"$f":"(I11+K11)*CO2_C","v":0},"=",{"$f":"M11/CO2_C","v":0}]
[]
[null,{"$f":"B11+1","v":1993},null,{"$f":"$D$7","v":"Clinker"},null,"x",{"$f":"INDIRECT($E$2&LEFT(D13,2)&\"Factor\")","v":0},"=",{"$f":"IF(ISERROR(E13*G13),0,E13*G13)","v":0},"+",{"$f":"I13*CKDFactor","v":0},"=",{"$f":"(I13+K13)*CO2_C","v":0},"=",{"$f":"M13/CO2_C","v":0}]
[]
[null,{"$f":"B13+1","v":1994},null,{"$f":"$D$7","v":"Clinker"},null,"x",{"$f":"INDIRECT($E$2&LEFT(D15,2)&\"Factor\")","v":0},"=",{"$f":"IF(ISERROR(E15*G15),0,E15*G15)","v":0},"+",{"$f":"I15*CKDFactor","v":0},"=",{"$f":"(I15+K15)*CO2_C","v":0},"=",{"$f":"M15/CO2_C","v":0}]
[]
[null,{"$f":"B15+1","v":1995},null,{"$f":"$D$7","v":"Clinker"},null,"x",{"$f":"INDIRECT($E$2&LEFT(D17,2)&\"Factor\")","v":0},"=",{"$f":"IF(ISERROR(E17*G17),0,E17*G17)","v":0},"+",{"$f":"I17*CKDFactor","v":0},"=",{"$f":"(I17+K17)*CO2_C","v":0},"=",{"$f":"M17/CO2_C","v":0}]
[]
[null,{"$f":"B17+1","v":1996},null,{"$f":"$D$7","v":"Clinker"},null,"x",{"$f":"INDIRECT($E$2&LEFT(D19,2)&\"Factor\")","v":0},"=",{"$f":"IF(ISERROR(E19*G19),0,E19*G19)","v":0},"+",{"$f":"I19*CKDFactor","v":0},"=",{"$f":"(I19+K19)*CO2_C","v":0},"=",{"$f":"M19/CO2_C","v":0}]
[]
[null,{"$f":"B19+1","v":1997},null,{"$f":"$D$7","v":"Clinker"},null,"x",{"$f":"INDIRECT($E$2&LEFT(D21,2)&\"Factor\")","v":0},"=",{"$f":"IF(ISERROR(E21*G21),0,E21*G21)","v":0},"+",{"$f":"I21*CKDFactor","v":0},"=",{"$f":"(I21+K21)*CO2_C","v":0},"=",{"$f":"M21/CO2_C","v":0}]
[]
[null,{"$f":"B21+1","v":1998},null,{"$f":"$D$7","v":"Clinker"},null,"x",{"$f":"INDIRECT($E$2&LEFT(D23,2)&\"Factor\")","v":0},"=",{"$f":"IF(ISERROR(E23*G23),0,E23*G23)","v":0},"+",{"$f":"I23*CKDFactor","v":0},"=",{"$f":"(I23+K23)*CO2_C","v":0},"=",{"$f":"M23/CO2_C","v":0},null,null," "]
[]
[null,{"$f":"B23+1","v":1999},null,{"$f":"$D$7","v":"Clinker"},null,"x",{"$f":"INDIRECT($E$2&LEFT(D25,2)&\"Factor\")","v":0},"=",{"$f":"IF(ISERROR(E25*G25),0,E25*G25)","v":0},"+",{"$f":"I25*CKDFactor","v":0},"=",{"$f":"(I25+K25)*CO2_C","v":0},"=",{"$f":"M25/CO2_C","v":0}]
[]
[null,{"$f":"B25+1","v":2000},null,{"$f":"$D$7","v":"Clinker"},null,"x",{"$f":"INDIRECT($E$2&LEFT(D27,2)&\"Factor\")","v":0},"=",{"$f":"IF(ISERROR(E27*G27),0,E27*G27)","v":0},"+",{"$f":"I27*CKDFactor","v":0},"=",{"$f":"(I27+K27)*CO2_C","v":0},"=",{"$f":"M27/CO2_C","v":0}]
[]
[null,{"$f":"B27+1","v":2001},null,{"$f":"$D$7","v":"Clinker"},null,"x",{"$f":"INDIRECT($E$2&LEFT(D29,2)&\"Factor\")","v":0},"=",{"$f":"IF(ISERROR(E29*G29),0,E29*G29)","v":0},"+",{"$f":"I29*CKDFactor","v":0},"=",{"$f":"(I29+K29)*CO2_C","v":0},"=",{"$f":"M29/CO2_C","v":0}]
[]
[null,{"$f":"B29+1","v":2002},null,{"$f":"$D$7","v":"Clinker"},null,"x",{"$f":"INDIRECT($E$2&LEFT(D31,2)&\"Factor\")","v":0},"=",{"$f":"IF(ISERROR(E31*G31),0,E31*G31)","v":0},"+",{"$f":"I31*CKDFactor","v":0},"=",{"$f":"(I31+K31)*CO2_C","v":0},"=",{"$f":"M31/CO2_C","v":0}]
[]
[null,{"$f":"B31+1","v":2003},null,{"$f":"$D$7","v":"Clinker"},null,"x",{"$f":"INDIRECT($E$2&LEFT(D33,2)&\"Factor\")","v":0},"=",{"$f":"IF(ISERROR(E33*G33),0,E33*G33)","v":0},"+",{"$f":"I33*CKDFactor","v":0},"=",{"$f":"(I33+K33)*CO2_C","v":0},"=",{"$f":"M33/CO2_C","v":0}]
[]
[null,{"$f":"B33+1","v":2004},null,{"$f":"$D$7","v":"Clinker"},null,"x",{"$f":"INDIRECT($E$2&LEFT(D35,2)&\"Factor\")","v":0},"=",{"$f":"IF(ISERROR(E35*G35),0,E35*G35)","v":0},"+",{"$f":"I35*CKDFactor","v":0},"=",{"$f":"(I35+K35)*CO2_C","v":0},"=",{"$f":"M35/CO2_C","v":0}]
[]
[null,{"$f":"B35+1","v":2005},null,{"$f":"$D$7","v":"Clinker"},null,"x",{"$f":"INDIRECT($E$2&LEFT(D37,2)&\"Factor\")","v":0},"=",{"$f":"IF(ISERROR(E37*G37),0,E37*G37)","v":0},"+",{"$f":"I37*CKDFactor","v":0},"=",{"$f":"(I37+K37)*CO2_C","v":0},"=",{"$f":"M37/CO2_C","v":0}]
[]
[null,{"$f":"B37+1","v":2006},null,{"$f":"$D$7","v":"Clinker"},null,"x",{"$f":"INDIRECT($E$2&LEFT(D39,2)&\"Factor\")","v":0},"=",{"$f":"IF(ISERROR(E39*G39),0,E39*G39)","v":0},"+",{"$f":"I39*CKDFactor","v":0},"=",{"$f":"(I39+K39)*CO2_C","v":0},"=",{"$f":"M39/CO2_C","v":0}]
[]
[null,{"$f":"B39+1","v":2007},null,{"$f":"$D$7","v":"Clinker"},null,"x",{"$f":"INDIRECT($E$2&LEFT(D41,2)&\"Factor\")","v":0},"=",{"$f":"IF(ISERROR(E41*G41),0,E41*G41)","v":0},"+",{"$f":"I41*CKDFactor","v":0},"=",{"$f":"(I41+K41)*CO2_C","v":0},"=",{"$f":"M41/CO2_C","v":0}]
[]
[null,{"$f":"B41+1","v":2008},null,{"$f":"$D$7","v":"Clinker"},null,"x",{"$f":"INDIRECT($E$2&LEFT(D43,2)&\"Factor\")","v":0},"=",{"$f":"IF(ISERROR(E43*G43),0,E43*G43)","v":0},"+",{"$f":"I43*CKDFactor","v":0},"=",{"$f":"(I43+K43)*CO2_C","v":0},"=",{"$f":"M43/CO2_C","v":0}]
[]
[null,{"$f":"B43+1","v":2009},null,{"$f":"$D$7","v":"Clinker"},null,"x",{"$f":"INDIRECT($E$2&LEFT(D45,2)&\"Factor\")","v":0},"=",{"$f":"IF(ISERROR(E45*G45),0,E45*G45)","v":0},"+",{"$f":"I45*CKDFactor","v":0},"=",{"$f":"(I45+K45)*CO2_C","v":0},"=",{"$f":"M45/CO2_C","v":0}]
[]
[null,{"$f":"B45+1","v":2010},null,{"$f":"$D$7","v":"Clinker"},null,"x",{"$f":"INDIRECT($E$2&LEFT(D47,2)&\"Factor\")","v":0},"=",{"$f":"IF(ISERROR(E47*G47),0,E47*G47)","v":0},"+",{"$f":"I47*CKDFactor","v":0},"=",{"$f":"(I47+K47)*CO2_C","v":0},"=",{"$f":"M47/CO2_C","v":0}]
[]
[null,{"$f":"B47+1","v":2011},null,{"$f":"$D$7","v":"Clinker"},null,"x",{"$f":"INDIRECT($E$2&LEFT(D49,2)&\"Factor\")","v":0},"=",{"$f":"IF(ISERROR(E49*G49),0,E49*G49)","v":0},"+",{"$f":"I49*CKDFactor","v":0},"=",{"$f":"(I49+K49)*CO2_C","v":0},"=",{"$f":"M49/CO2_C","v":0}]
[]
[null,{"$f":"B49+1","v":2012},null,{"$f":"$D$7","v":"Clinker"},null,"x",{"$f":"INDIRECT($E$2&LEFT(D51,2)&\"Factor\")","v":0},"=",{"$f":"IF(ISERROR(E51*G51),0,E51*G51)","v":0},"+",{"$f":"I51*CKDFactor","v":0},"=",{"$f":"(I51+K51)*CO2_C","v":0},"=",{"$f":"M51/CO2_C","v":0}]
[]
[null,{"$f":"B51+1","v":2013},null,{"$f":"$D$7","v":"Clinker"},null,"x",{"$f":"INDIRECT($E$2&LEFT(D53,2)&\"Factor\")","v":0},"=",{"$f":"IF(ISERROR(E53*G53),0,E53*G53)","v":0},"+",{"$f":"I53*CKDFactor","v":0},"=",{"$f":"(I53+K53)*CO2_C","v":0},"=",{"$f":"M53/CO2_C","v":0}]
[]
[null,{"$f":"B53+1","v":2014},null,{"$f":"$D$7","v":"Clinker"},null,"x",{"$f":"INDIRECT($E$2&LEFT(D55,2)&\"Factor\")","v":0},"=",{"$f":"IF(ISERROR(E55*G55),0,E55*G55)","v":0},"+",{"$f":"I55*CKDFactor","v":0},"=",{"$f":"(I55+K55)*CO2_C","v":0},"=",{"$f":"M55/CO2_C","v":0}]
[]
[null,{"$f":"B55+1","v":2015},null,{"$f":"$D$7","v":"Clinker"},null,"x",{"$f":"INDIRECT($E$2&LEFT(D57,2)&\"Factor\")","v":0},"=",{"$f":"IF(ISERROR(E57*G57),0,E57*G57)","v":0},"+",{"$f":"I57*CKDFactor","v":0},"=",{"$f":"(I57+K57)*CO2_C","v":0},"=",{"$f":"M57/CO2_C","v":0}]
[]
[null,{"$f":"B57+1","v":2016},null,{"$f":"$D$7","v":"Clinker"},null,"x",{"$f":"INDIRECT($E$2&LEFT(D59,2)&\"Factor\")","v":0},"=",{"$f":"IF(ISERROR(E59*G59),0,E59*G59)","v":0},"+",{"$f":"I59*CKDFactor","v":0},"=",{"$f":"(I59+K59)*CO2_C","v":0},"=",{"$f":"M59/CO2_C","v":0}]
[]
[null,{"$f":"B59+1","v":2017},null,{"$f":"$D$7","v":"Clinker"},null,"x",{"$f":"INDIRECT($E$2&LEFT(D61,2)&\"Factor\")","v":0},"=",{"$f":"IF(ISERROR(E61*G61),0,E61*G61)","v":0},"+",{"$f":"I61*CKDFactor","v":0},"=",{"$f":"(I61+K61)*CO2_C","v":0},"=",{"$f":"M61/CO2_C","v":0}]
[]
[null,{"$f":"B61+1","v":2018},null,{"$f":"$D$7","v":"Clinker"},null,"x",{"$f":"INDIRECT($E$2&LEFT(D63,2)&\"Factor\")","v":0},"=",{"$f":"IF(ISERROR(E63*G63),0,E63*G63)","v":0},"+",{"$f":"I63*CKDFactor","v":0},"=",{"$f":"(I63+K63)*CO2_C","v":0},"=",{"$f":"M63/CO2_C","v":0}]
[]
[null,{"$f":"B63+1","v":2019},null,{"$f":"$D$7","v":"Clinker"},null,"x",{"$f":"INDIRECT($E$2&LEFT(D65,2)&\"Factor\")","v":0},"=",{"$f":"IF(ISERROR(E65*G65),0,E65*G65)","v":0},"+",{"$f":"I65*CKDFactor","v":0},"=",{"$f":"(I65+K65)*CO2_C","v":0},"=",{"$f":"M65/CO2_C","v":0}]
[]
[null,{"$f":"B65+1","v":2020},null,{"$f":"$D$7","v":"Clinker"},null,"x",{"$f":"INDIRECT($E$2&LEFT(D67,2)&\"Factor\")","v":0},"=",{"$f":"IF(ISERROR(E67*G67),0,E67*G67)","v":0},"+",{"$f":"I67*CKDFactor","v":0},"=",{"$f":"(I67+K67)*CO2_C","v":0},"=",{"$f":"M67/CO2_C","v":0}]
[]
[null,{"$f":"B67+1","v":2021},null,{"$f":"$D$7","v":"Clinker"},null,"x",{"$f":"INDIRECT($E$2&LEFT(D69,2)&\"Factor\")","v":0},"=",{"$f":"IF(ISERROR(E69*G69),0,E69*G69)","v":0},"+",{"$f":"I69*CKDFactor","v":0},"=",{"$f":"(I69+K69)*CO2_C","v":0},"=",{"$f":"M69/CO2_C","v":0}]
[]
[null,{"$f":"B69+1","v":2022},null,{"$f":"$D$7","v":"Clinker"},null,"x",{"$f":"INDIRECT($E$2&LEFT(D71,2)&\"Factor\")","v":0},"=",{"$f":"IF(ISERROR(E71*G71),0,E71*G71)","v":0},"+",{"$f":"I71*CKDFactor","v":0},"=",{"$f":"(I71+K71)*CO2_C","v":0},"=",{"$f":"M71/CO2_C","v":0}]
[]
[null,{"$f":"B71+1","v":2023},null,{"$f":"$D$7","v":"Clinker"},null,"x",{"$f":"INDIRECT($E$2&LEFT(D73,2)&\"Factor\")","v":0},"=",{"$f":"IF(ISERROR(E73*G73),0,E73*G73)","v":0},"+",{"$f":"I73*CKDFactor","v":0},"=",{"$f":"(I73+K73)*CO2_C","v":0},"=",{"$f":"M73/CO2_C","v":0}]
[]
[null,{"$f":"B73+1","v":2024},null,{"$f":"$D$7","v":"Clinker"},null,"x",{"$f":"INDIRECT($E$2&LEFT(D75,2)&\"Factor\")","v":0},"=",{"$f":"IF(ISERROR(E75*G75),0,E75*G75)","v":0},"+",{"$f":"I75*CKDFactor","v":0},"=",{"$f":"(I75+K75)*CO2_C","v":0},"=",{"$f":"M75/CO2_C","v":0}]
[]
[null,{"$f":"B75+1","v":2025},null,{"$f":"$D$7","v":"Clinker"},null,"x",{"$f":"INDIRECT($E$2&LEFT(D77,2)&\"Factor\")","v":0},"=",{"$f":"IF(ISERROR(E77*G77),0,E77*G77)","v":0},"+",{"$f":"I77*CKDFactor","v":0},"=",{"$f":"(I77+K77)*CO2_C","v":0},"=",{"$f":"M77/CO2_C","v":0}]

{"sheet":"Lime","index":4,"n_rows":113,"n_cols":22,"rows_kept":113,"cut":false,"hidden":false,"merged":[[0,18,0,25],[2,1,2,16]]}
[null,{"$f":"\"3. Lime Manufacture in \"&'List Data'!B3","v":"3. Lime Manufacture in Select a State . . ."}]
[null,null,null,{"$f":"'List Data'!$A$3","v":"XX"},"Lime",null,null,null,null,null,null,{"$f":"\" \"","v":" "}]
[]
[null,null,null,null,null,"Production",null,"Use In Sugar Refining and Precipitated Calcium Carbonate Production",null,"CO2 Reabsorption Factor",null,null,"Emission Factor",null,"Emissions ",null,"Emissions "]
[null,null,null,null,null,"(Metric Tons)",null,"(Metric Tons)",null,null,null,null,"(t CO2/t production)",null,"(MTCE)",null,"(MTCO2E)"]
[]
[null,1990,null,"High-Calcium Lime","{",null,"-",null,"x",0.8,"}","x",{"$f":"LimeFactor","v":0},"=",{"$f":"Q7*CO2_C","v":0},"=",{"$f":"(F7-(H7*J7))*M7","v":0}]
[null,null,null,"Dolomitic Lime","{",null,"-",null,"x",0.8,"}","x",{"$f":"DoloLimeFactor","v":0},"=",{"$f":"Q8*CO2_C","v":0},"=",{"$f":"(F8-(H8*J8))*M8","v":0}]
[]
[null,1991,null,"High-Calcium Lime","{",null,"-",null,"x",0.8,"}","x",{"$f":"LimeFactor","v":0},"=",{"$f":"Q10*CO2_C","v":0},"=",{"$f":"(F10-(H10*J10))*M10","v":0}]
[null,null,null,"Dolomitic Lime","{",null,"-",null,"x",0.8,"}","x",{"$f":"DoloLimeFactor","v":0},"=",{"$f":"Q11*CO2_C","v":0},"=",{"$f":"(F11-(H11*J11))*M11","v":0}]
[]
[null,1992,null,"High-Calcium Lime","{",null,"-",null,"x",0.8,"}","x",{"$f":"LimeFactor","v":0},"=",{"$f":"Q13*CO2_C","v":0},"=",{"$f":"(F13-(H13*J13))*M13","v":0}]
[null,null,null,"Dolomitic Lime","{",null,"-",null,"x",0.8,"}","x",{"$f":"DoloLimeFactor","v":0},"=",{"$f":"Q14*CO2_C","v":0},"=",{"$f":"(F14-(H14*J14))*M14","v":0}]
[]
[null,1993,null,"High-Calcium Lime","{",null,"-",null,"x",0.8,"}","x",{"$f":"LimeFactor","v":0},"=",{"$f":"Q16*CO2_C","v":0},"=",{"$f":"(F16-(H16*J16))*M16","v":0}]
[null,null,null,"Dolomitic Lime","{",null,"-",null,"x",0.8,"}","x",{"$f":"DoloLimeFactor","v":0},"=",{"$f":"Q17*CO2_C","v":0},"=",{"$f":"(F17-(H17*J17))*M17","v":0}]
[]
[null,1994,null,"High-Calcium Lime","{",null,"-",null,"x",0.8,"}","x",{"$f":"LimeFactor","v":0},"=",{"$f":"Q19*CO2_C","v":0},"=",{"$f":"(F19-(H19*J19))*M19","v":0}]
[null,null,null,"Dolomitic Lime","{",null,"-",null,"x",0.8,"}","x",{"$f":"DoloLimeFactor","v":0},"=",{"$f":"Q20*CO2_C","v":0},"=",{"$f":"(F20-(H20*J20))*M20","v":0}]
[]
[null,1995,null,"High-Calcium Lime","{",null,"-",null,"x",0.8,"}","x",{"$f":"LimeFactor","v":0},"=",{"$f":"Q22*CO2_C","v":0},"=",{"$f":"(F22-(H22*J22))*M22","v":0}]
[null,null,null,"Dolomitic Lime","{",null,"-",null,"x",0.8,"}","x",{"$f":"DoloLimeFactor","v":0},"=",{"$f":"Q23*CO2_C","v":0},"=",{"$f":"(F23-(H23*J23))*M23","v":0}]
[]
[null,1996,null,"High-Calcium Lime","{",null,"-",null,"x",0.8,"}","x",{"$f":"LimeFactor","v":0},"=",{"$f":"Q25*CO2_C","v":0},"=",{"$f":"(F25-(H25*J25))*M25","v":0}]
[null,null,null,"Dolomitic Lime","{",null,"-",null,"x",0.8,"}","x",{"$f":"DoloLimeFactor","v":0},"=",{"$f":"Q26*CO2_C","v":0},"=",{"$f":"(F26-(H26*J26))*M26","v":0}]
[]
[null,1997,null,"High-Calcium Lime","{",null,"-",null,"x",0.8,"}","x",{"$f":"LimeFactor","v":0},"=",{"$f":"Q28*CO2_C","v":0},"=",{"$f":"(F28-(H28*J28))*M28","v":0}]
[null,null,null,"Dolomitic Lime","{",null,"-",null,"x",0.8,"}","x",{"$f":"DoloLimeFactor","v":0},"=",{"$f":"Q29*CO2_C","v":0},"=",{"$f":"(F29-(H29*J29))*M29","v":0}]
[]
[null,1998,null,"High-Calcium Lime","{",null,"-",null,"x",0.8,"}","x",{"$f":"LimeFactor","v":0},"=",{"$f":"Q31*CO2_C","v":0},"=",{"$f":"(F31-(H31*J31))*M31","v":0},null,null,null,null," "]
[null,null,null,"Dolomitic Lime","{",null,"-",null,"x",0.8,"}","x",{"$f":"DoloLimeFactor","v":0},"=",{"$f":"Q32*CO2_C","v":0},"=",{"$f":"(F32-(H32*J32))*M32","v":0}]
[]
[null,1999,null,"High-Calcium Lime","{",null,"-",null,"x",0.8,"}","x",{"$f":"LimeFactor","v":0},"=",{"$f":"Q34*CO2_C","v":0},"=",{"$f":"(F34-(H34*J34))*M34","v":0}]
[null,null,null,"Dolomitic Lime","{",null,"-",null,"x",0.8,"}","x",{"$f":"DoloLimeFactor","v":0},"=",{"$f":"Q35*CO2_C","v":0},"=",{"$f":"(F35-(H35*J35))*M35","v":0}]
[]
[null,2000,null,"High-Calcium Lime","{",null,"-",null,"x",0.8,"}","x",{"$f":"LimeFactor","v":0},"=",{"$f":"Q37*CO2_C","v":0},"=",{"$f":"(F37-(H37*J37))*M37","v":0}]
[null,null,null,"Dolomitic Lime","{",null,"-",null,"x",0.8,"}","x",{"$f":"DoloLimeFactor","v":0},"=",{"$f":"Q38*CO2_C","v":0},"=",{"$f":"(F38-(H38*J38))*M38","v":0}]
[]
[null,2001,null,"High-Calcium Lime","{",null,"-",null,"x",0.8,"}","x",{"$f":"LimeFactor","v":0},"=",{"$f":"Q40*CO2_C","v":0},"=",{"$f":"(F40-(H40*J40))*M40","v":0}]
[null,null,null,"Dolomitic Lime","{",null,"-",null,"x",0.8,"}","x",{"$f":"DoloLimeFactor","v":0},"=",{"$f":"Q41*CO2_C","v":0},"=",{"$f":"(F41-(H41*J41))*M41","v":0}]
[]
[null,2002,null,"High-Calcium Lime","{",null,"-",null,"x",0.8,"}","x",{"$f":"LimeFactor","v":0},"=",{"$f":"Q43*CO2_C","v":0},"=",{"$f":"(F43-(H43*J43))*M43","v":0}]
[null,null,null,"Dolomitic Lime","{",null,"-",null,"x",0.8,"}","x",{"$f":"DoloLimeFactor","v":0},"=",{"$f":"Q44*CO2_C","v":0},"=",{"$f":"(F44-(H44*J44))*M44","v":0}]
[]
[null,2003,null,"High-Calcium Lime","{",null,"-",null,"x",0.8,"}","x",{"$f":"LimeFactor","v":0},"=",{"$f":"Q46*CO2_C","v":0},"=",{"$f":"(F46-(H46*J46))*M46","v":0}]
[null,null,null,"Dolomitic Lime","{",null,"-",null,"x",0.8,"}","x",{"$f":"DoloLimeFactor","v":0},"=",{"$f":"Q47*CO2_C","v":0},"=",{"$f":"(F47-(H47*J47))*M47","v":0}]
[]
[null,2004,null,"High-Calcium Lime","{",null,"-",null,"x",0.8,"}","x",{"$f":"LimeFactor","v":0},"=",{"$f":"Q49*CO2_C","v":0},"=",{"$f":"(F49-(H49*J49))*M49","v":0}]
[null,null,null,"Dolomitic Lime","{",null,"-",null,"x",0.8,"}","x",{"$f":"DoloLimeFactor","v":0},"=",{"$f":"Q50*CO2_C","v":0},"=",{"$f":"(F50-(H50*J50))*M50","v":0}]
[]
[null,2005,null,"High-Calcium Lime","{",null,"-",null,"x",0.8,"}","x",{"$f":"LimeFactor","v":0},"=",{"$f":"Q52*CO2_C","v":0},"=",{"$f":"(F52-(H52*J52))*M52","v":0}]
[null,null,null,"Dolomitic Lime","{",null,"-",null,"x",0.8,"}","x",{"$f":"DoloLimeFactor","v":0},"=",{"$f":"Q53*CO2_C","v":0},"=",{"$f":"(F53-(H53*J53))*M53","v":0}]
[]
[null,2006,null,"High-Calcium Lime","{",null,"-",null,"x",0.8,"}","x",{"$f":"LimeFactor","v":0},"=",{"$f":"Q55*CO2_C","v":0},"=",{"$f":"(F55-(H55*J55))*M55","v":0}]
[null,null,null,"Dolomitic Lime","{",null,"-",null,"x",0.8,"}","x",{"$f":"DoloLimeFactor","v":0},"=",{"$f":"Q56*CO2_C","v":0},"=",{"$f":"(F56-(H56*J56))*M56","v":0}]
[]
[null,2007,null,"High-Calcium Lime","{",null,"-",null,"x",0.8,"}","x",{"$f":"LimeFactor","v":0},"=",{"$f":"Q58*CO2_C","v":0},"=",{"$f":"(F58-(H58*J58))*M58","v":0}]
[null,null,null,"Dolomitic Lime","{",null,"-",null,"x",0.8,"}","x",{"$f":"DoloLimeFactor","v":0},"=",{"$f":"Q59*CO2_C","v":0},"=",{"$f":"(F59-(H59*J59))*M59","v":0}]
[]
[null,2008,null,"High-Calcium Lime","{",null,"-",null,"x",0.8,"}","x",{"$f":"LimeFactor","v":0},"=",{"$f":"Q61*CO2_C","v":0},"=",{"$f":"(F61-(H61*J61))*M61","v":0}]
[null,null,null,"Dolomitic Lime","{",null,"-",null,"x",0.8,"}","x",{"$f":"DoloLimeFactor","v":0},"=",{"$f":"Q62*CO2_C","v":0},"=",{"$f":"(F62-(H62*J62))*M62","v":0}]
[]
[null,2009,null,"High-Calcium Lime","{",null,"-",null,"x",0.8,"}","x",{"$f":"LimeFactor","v":0},"=",{"$f":"Q64*CO2_C","v":0},"=",{"$f":"(F64-(H64*J64))*M64","v":0}]
[null,null,null,"Dolomitic Lime","{",null,"-",null,"x",0.8,"}","x",{"$f":"DoloLimeFactor","v":0},"=",{"$f":"Q65*CO2_C","v":0},"=",{"$f":"(F65-(H65*J65))*M65","v":0}]
[]
[null,2010,null,"High-Calcium Lime","{",null,"-",null,"x",0.8,"}","x",{"$f":"LimeFactor","v":0},"=",{"$f":"Q67*CO2_C","v":0},"=",{"$f":"(F67-(H67*J67))*M67","v":0}]
[null,null,null,"Dolomitic Lime","{",null,"-",null,"x",0.8,"}","x",{"$f":"DoloLimeFactor","v":0},"=",{"$f":"Q68*CO2_C","v":0},"=",{"$f":"(F68-(H68*J68))*M68","v":0}]
[]
[null,2011,null,"High-Calcium Lime","{",null,"-",null,"x",0.8,"}","x",{"$f":"LimeFactor","v":0},"=",{"$f":"Q70*CO2_C","v":0},"=",{"$f":"(F70-(H70*J70))*M70","v":0}]
[null,null,null,"Dolomitic Lime","{",null,"-",null,"x",0.8,"}","x",{"$f":"DoloLimeFactor","v":0},"=",{"$f":"Q71*CO2_C","v":0},"=",{"$f":"(F71-(H71*J71))*M71","v":0}]
[]
[null,2012,null,"High-Calcium Lime","{",null,"-",null,"x",0.8,"}","x",{"$f":"LimeFactor","v":0},"=",{"$f":"Q73*CO2_C","v":0},"=",{"$f":"(F73-(H73*J73))*M73","v":0}]
[null,null,null,"Dolomitic Lime","{",null,"-",null,"x",0.8,"}","x",{"$f":"DoloLimeFactor","v":0},"=",{"$f":"Q74*CO2_C","v":0},"=",{"$f":"(F74-(H74*J74))*M74","v":0}]
[]
[null,2013,null,"High-Calcium Lime","{",null,"-",null,"x",0.8,"}","x",{"$f":"LimeFactor","v":0},"=",{"$f":"Q76*CO2_C","v":0},"=",{"$f":"(F76-(H76*J76))*M76","v":0}]
[null,null,null,"Dolomitic Lime","{",null,"-",null,"x",0.8,"}","x",{"$f":"DoloLimeFactor","v":0},"=",{"$f":"Q77*CO2_C","v":0},"=",{"$f":"(F77-(H77*J77))*M77","v":0}]
[]
[null,2014,null,"High-Calcium Lime","{",null,"-",null,"x",0.8,"}","x",{"$f":"LimeFactor","v":0},"=",{"$f":"Q79*CO2_C","v":0},"=",{"$f":"(F79-(H79*J79))*M79","v":0}]
[null,null,null,"Dolomitic Lime","{",null,"-",null,"x",0.8,"}","x",{"$f":"DoloLimeFactor","v":0},"=",{"$f":"Q80*CO2_C","v":0},"=",{"$f":"(F80-(H80*J80))*M80","v":0}]
[]
[null,2015,null,"High-Calcium Lime","{",null,"-",null,"x",0.8,"}","x",{"$f":"LimeFactor","v":0},"=",{"$f":"Q82*CO2_C","v":0},"=",{"$f":"(F82-(H82*J82))*M82","v":0}]
[null,null,null,"Dolomitic Lime","{",null,"-",null,"x",0.8,"}","x",{"$f":"DoloLimeFactor","v":0},"=",{"$f":"Q83*CO2_C","v":0},"=",{"$f":"(F83-(H83*J83))*M83","v":0}]
[]
[null,2016,null,"High-Calcium Lime","{",null,"-",null,"x",0.8,"}","x",{"$f":"LimeFactor","v":0},"=",{"$f":"Q85*CO2_C","v":0},"=",{"$f":"(F85-(H85*J85))*M85","v":0}]
[null,null,null,"Dolomitic Lime","{",null,"-",null,"x",0.8,"}","x",{"$f":"DoloLimeFactor","v":0},"=",{"$f":"Q86*CO2_C","v":0},"=",{"$f":"(F86-(H86*J86))*M86","v":0}]
[]
[null,2017,null,"High-Calcium Lime","{",null,"-",null,"x",0.8,"}","x",{"$f":"LimeFactor","v":0},"=",{"$f":"Q88*CO2_C","v":0},"=",{"$f":"(F88-(H88*J88))*M88","v":0}]
[null,null,null,"Dolomitic Lime","{",null,"-",null,"x",0.8,"}","x",{"$f":"DoloLimeFactor","v":0},"=",{"$f":"Q89*CO2_C","v":0},"=",{"$f":"(F89-(H89*J89))*M89","v":0}]
[]
[null,2018,null,"High-Calcium Lime","{",null,"-",null,"x",0.8,"}","x",{"$f":"LimeFactor","v":0},"=",{"$f":"Q91*CO2_C","v":0},"=",{"$f":"(F91-(H91*J91))*M91","v":0}]
[null,null,null,"Dolomitic Lime","{",null,"-",null,"x",0.8,"}","x",{"$f":"DoloLimeFactor","v":0},"=",{"$f":"Q92*CO2_C","v":0},"=",{"$f":"(F92-(H92*J92))*M92","v":0}]
[]
[null,2019,null,"High-Calcium Lime","{",null,"-",null,"x",0.8,"}","x",{"$f":"LimeFactor","v":0},"=",{"$f":"Q94*CO2_C","v":0},"=",{"$f":"(F94-(H94*J94))*M94","v":0}]
[null,null,null,"Dolomitic Lime","{",null,"-",null,"x",0.8,"}","x",{"$f":"DoloLimeFactor","v":0},"=",{"$f":"Q95*CO2_C","v":0},"=",{"$f":"(F95-(H95*J95))*M95","v":0}]
[]
[null,2020,null,"High-Calcium Lime","{",null,"-",null,"x",0.8,"}","x",{"$f":"LimeFactor","v":0},"=",{"$f":"Q97*CO2_C","v":0},"=",{"$f":"(F97-(H97*J97))*M97","v":0}]
[null,null,null,"Dolomitic Lime","{",null,"-",null,"x",0.8,"}","x",{"$f":"DoloLimeFactor","v":0},"=",{"$f":"Q98*CO2_C","v":0},"=",{"$f":"(F98-(H98*J98))*M98","v":0}]
[]
[null,2021,null,"High-Calcium Lime","{",null,"-",null,"x",0.8,"}","x",{"$f":"LimeFactor","v":0},"=",{"$f":"Q100*CO2_C","v":0},"=",{"$f":"(F100-(H100*J100))*M100","v":0}]
[null,null,null,"Dolomitic Lime","{",null,"-",null,"x",0.8,"}","x",{"$f":"DoloLimeFactor","v":0},"=",{"$f":"Q101*CO2_C","v":0},"=",{"$f":"(F101-(H101*J101))*M101","v":0}]
[]
[null,2022,null,"High-Calcium Lime","{",null,"-",null,"x",0.8,"}","x",{"$f":"LimeFactor","v":0},"=",{"$f":"Q103*CO2_C","v":0},"=",{"$f":"(F103-(H103*J103))*M103","v":0}]
[null,null,null,"Dolomitic Lime","{",null,"-",null,"x",0.8,"}","x",{"$f":"DoloLimeFactor","v":0},"=",{"$f":"Q104*CO2_C","v":0},"=",{"$f":"(F104-(H104*J104))*M104","v":0}]
[]
[null,2023,null,"High-Calcium Lime","{",null,"-",null,"x",0.8,"}","x",{"$f":"LimeFactor","v":0},"=",{"$f":"Q106*CO2_C","v":0},"=",{"$f":"(F106-(H106*J106))*M106","v":0}]
[null,null,null,"Dolomitic Lime","{",null,"-",null,"x",0.8,"}","x",{"$f":"DoloLimeFactor","v":0},"=",{"$f":"Q107*CO2_C","v":0},"=",{"$f":"(F107-(H107*J107))*M107","v":0}]
[]
[null,2024,null,"High-Calcium Lime","{",null,"-",null,"x",0.8,"}","x",{"$f":"LimeFactor","v":0},"=",{"$f":"Q109*CO2_C","v":0},"=",{"$f":"(F109-(H109*J109))*M109","v":0}]
[null,null,null,"Dolomitic Lime","{",null,"-",null,"x",0.8,"}","x",{"$f":"DoloLimeFactor","v":0},"=",{"$f":"Q110*CO2_C","v":0},"=",{"$f":"(F110-(H110*J110))*M110","v":0}]
[]
[null,2025,null,"High-Calcium Lime","{",null,"-",null,"x",0.8,"}","x",{"$f":"LimeFactor","v":0},"=",{"$f":"Q112*CO2_C","v":0},"=",{"$f":"(F112-(H112*J112))*M112","v":0}]
[null,null,null,"Dolomitic Lime","{",null,"-",null,"x",0.8,"}","x",{"$f":"DoloLimeFactor","v":0},"=",{"$f":"Q113*CO2_C","v":0},"=",{"$f":"(F113-(H113*J113))*M113","v":0}]

{"sheet":"Limestone","index":5,"n_rows":149,"n_cols":16,"rows_kept":149,"cut":false,"hidden":false,"merged":[[0,12,0,19],[2,1,2,7]]}
[null,{"$f":"\"4. Limestone and Dolomite Use in \"&'List Data'!B3","v":"4. Limestone and Dolomite Use in Select a State . . ."}]
[null,null,null,{"$f":"'List Data'!$A$3","v":"XX"},"Limestone",{"$f":"\" \"","v":" "},{"$f":"AdipicCheck","v":0}]
[]
[null,null,null,null,"Consumption",null,"Emission Factor",null,"Emissions ",null,"Emissions "]
[null,null,null,null,"(Metric Tons)",null,"(t CO2/t production)",null,"(MTCE)",null,"(MTCO2E)"]
[]
[null,1990,null,"Limestone",null,"x",{"$f":"INDIRECT($E$2&LEFT(D7,2)&\"Factor\")","v":0},"=",{"$f":"K7*CO2_C","v":0},"=",{"$f":"IF(ISERROR(E7*G7),0,E7*G7)","v":0}]
[null,{"$f":"B7","v":1990},null,"Dolomite",null,"x",{"$f":"INDIRECT($E$2&LEFT(D8,2)&\"Factor\")","v":0},"=",{"$f":"K8*CO2_C","v":0},"=",{"$f":"IF(ISERROR(E8*G8),0,E8*G8)","v":0}]
[null,null,null,"Magnesium Production from Dolomite",null,"x",{"$f":"INDIRECT($E$2&LEFT(D9,2)&\"Factor\")","v":0},"=",{"$f":"K9*CO2_C","v":0},"=",{"$f":"IF(ISERROR(E9*G9),0,E9*G9)","v":0}]
[]
[null,{"$f":"B7+1","v":1991},null,"Limestone",null,"x",{"$f":"INDIRECT($E$2&LEFT(D11,2)&\"Factor\")","v":0},"=",{"$f":"K11*CO2_C","v":0},"=",{"$f":"IF(ISERROR(E11*G11),0,E11*G11)","v":0}]
[null,{"$f":"B11","v":1991},null,"Dolomite",null,"x",{"$f":"INDIRECT($E$2&LEFT(D12,2)&\"Factor\")","v":0},"=",{"$f":"K12*CO2_C","v":0},"=",{"$f":"IF(ISERROR(E12*G12),0,E12*G12)","v":0}]
[null,null,null,"Magnesium Production from Dolomite",null,"x",{"$f":"INDIRECT($E$2&LEFT(D13,2)&\"Factor\")","v":0},"=",{"$f":"K13*CO2_C","v":0},"=",{"$f":"IF(ISERROR(E13*G13),0,E13*G13)","v":0}]
[]
[null,{"$f":"B11+1","v":1992},null,"Limestone",null,"x",{"$f":"INDIRECT($E$2&LEFT(D15,2)&\"Factor\")","v":0},"=",{"$f":"K15*CO2_C","v":0},"=",{"$f":"IF(ISERROR(E15*G15),0,E15*G15)","v":0}]
[null,{"$f":"B15","v":1992},null,"Dolomite",null,"x",{"$f":"INDIRECT($E$2&LEFT(D16,2)&\"Factor\")","v":0},"=",{"$f":"K16*CO2_C","v":0},"=",{"$f":"IF(ISERROR(E16*G16),0,E16*G16)","v":0}]
[null,null,null,"Magnesium Production from Dolomite",null,"x",{"$f":"INDIRECT($E$2&LEFT(D17,2)&\"Factor\")","v":0},"=",{"$f":"K17*CO2_C","v":0},"=",{"$f":"IF(ISERROR(E17*G17),0,E17*G17)","v":0}]
[]
[null,{"$f":"B15+1","v":1993},null,"Limestone",null,"x",{"$f":"INDIRECT($E$2&LEFT(D19,2)&\"Factor\")","v":0},"=",{"$f":"K19*CO2_C","v":0},"=",{"$f":"IF(ISERROR(E19*G19),0,E19*G19)","v":0}]
[null,{"$f":"B19","v":1993},null,"Dolomite",null,"x",{"$f":"INDIRECT($E$2&LEFT(D20,2)&\"Factor\")","v":0},"=",{"$f":"K20*CO2_C","v":0},"=",{"$f":"IF(ISERROR(E20*G20),0,E20*G20)","v":0}]
[null,null,null,"Magnesium Production from Dolomite",null,"x",{"$f":"INDIRECT($E$2&LEFT(D21,2)&\"Factor\")","v":0},"=",{"$f":"K21*CO2_C","v":0},"=",{"$f":"IF(ISERROR(E21*G21),0,E21*G21)","v":0}]
[]
[null,{"$f":"B19+1","v":1994},null,"Limestone",null,"x",{"$f":"INDIRECT($E$2&LEFT(D23,2)&\"Factor\")","v":0},"=",{"$f":"K23*CO2_C","v":0},"=",{"$f":"IF(ISERROR(E23*G23),0,E23*G23)","v":0}]
[null,{"$f":"B23","v":1994},null,"Dolomite",null,"x",{"$f":"INDIRECT($E$2&LEFT(D24,2)&\"Factor\")","v":0},"=",{"$f":"K24*CO2_C","v":0},"=",{"$f":"IF(ISERROR(E24*G24),0,E24*G24)","v":0}]
[null,null,null,"Magnesium Production from Dolomite",null,"x",{"$f":"INDIRECT($E$2&LEFT(D25,2)&\"Factor\")","v":0},"=",{"$f":"K25*CO2_C","v":0},"=",{"$f":"IF(ISERROR(E25*G25),0,E25*G25)","v":0}]
[]
[null,{"$f":"B23+1","v":1995},null,"Limestone",null,"x",{"$f":"INDIRECT($E$2&LEFT(D27,2)&\"Factor\")","v":0},"=",{"$f":"K27*CO2_C","v":0},"=",{"$f":"IF(ISERROR(E27*G27),0,E27*G27)","v":0}]
[null,{"$f":"B27","v":1995},null,"Dolomite",null,"x",{"$f":"INDIRECT($E$2&LEFT(D28,2)&\"Factor\")","v":0},"=",{"$f":"K28*CO2_C","v":0},"=",{"$f":"IF(ISERROR(E28*G28),0,E28*G28)","v":0}]
[null,null,null,"Magnesium Production from Dolomite",null,"x",{"$f":"INDIRECT($E$2&LEFT(D29,2)&\"Factor\")","v":0},"=",{"$f":"K29*CO2_C","v":0},"=",{"$f":"IF(ISERROR(E29*G29),0,E29*G29)","v":0}]
[]
[null,{"$f":"B27+1","v":1996},null,"Limestone",null,"x",{"$f":"INDIRECT($E$2&LEFT(D31,2)&\"Factor\")","v":0},"=",{"$f":"K31*CO2_C","v":0},"=",{"$f":"IF(ISERROR(E31*G31),0,E31*G31)","v":0}]
[null,{"$f":"B31","v":1996},null,"Dolomite",null,"x",{"$f":"INDIRECT($E$2&LEFT(D32,2)&\"Factor\")","v":0},"=",{"$f":"K32*CO2_C","v":0},"=",{"$f":"IF(ISERROR(E32*G32),0,E32*G32)","v":0}]
[null,null,null,"Magnesium Production from Dolomite",null,"x",{"$f":"INDIRECT($E$2&LEFT(D33,2)&\"Factor\")","v":0},"=",{"$f":"K33*CO2_C","v":0},"=",{"$f":"IF(ISERROR(E33*G33),0,E33*G33)","v":0}]
[]
[null,{"$f":"B31+1","v":1997},null,"Limestone",null,"x",{"$f":"INDIRECT($E$2&LEFT(D35,2)&\"Factor\")","v":0},"=",{"$f":"K35*CO2_C","v":0},"=",{"$f":"IF(ISERROR(E35*G35),0,E35*G35)","v":0}]
[null,{"$f":"B35","v":1997},null,"Dolomite",null,"x",{"$f":"INDIRECT($E$2&LEFT(D36,2)&\"Factor\")","v":0},"=",{"$f":"K36*CO2_C","v":0},"=",{"$f":"IF(ISERROR(E36*G36),0,E36*G36)","v":0}]
[null,null,null,"Magnesium Production from Dolomite",null,"x",{"$f":"INDIRECT($E$2&LEFT(D37,2)&\"Factor\")","v":0},"=",{"$f":"K37*CO2_C","v":0},"=",{"$f":"IF(ISERROR(E37*G37),0,E37*G37)","v":0}]
[]
[null,{"$f":"B35+1","v":1998},null,"Limestone",null,"x",{"$f":"INDIRECT($E$2&LEFT(D39,2)&\"Factor\")","v":0},"=",{"$f":"K39*CO2_C","v":0},"=",{"$f":"IF(ISERROR(E39*G39),0,E39*G39)","v":0},null,null,null,null," "]
[null,{"$f":"B39","v":1998},null,"Dolomite",null,"x",{"$f":"INDIRECT($E$2&LEFT(D40,2)&\"Factor\")","v":0},"=",{"$f":"K40*CO2_C","v":0},"=",{"$f":"IF(ISERROR(E40*G40),0,E40*G40)","v":0},null,null,null,null," "]
[null,null,null,"Magnesium Production from Dolomite",null,"x",{"$f":"INDIRECT($E$2&LEFT(D41,2)&\"Factor\")","v":0},"=",{"$f":"K41*CO2_C","v":0},"=",{"$f":"IF(ISERROR(E41*G41),0,E41*G41)","v":0}]
[]
[null,{"$f":"B39+1","v":1999},null,"Limestone",null,"x",{"$f":"INDIRECT($E$2&LEFT(D43,2)&\"Factor\")","v":0},"=",{"$f":"K43*CO2_C","v":0},"=",{"$f":"IF(ISERROR(E43*G43),0,E43*G43)","v":0}]
[null,{"$f":"B43","v":1999},null,"Dolomite",null,"x",{"$f":"INDIRECT($E$2&LEFT(D44,2)&\"Factor\")","v":0},"=",{"$f":"K44*CO2_C","v":0},"=",{"$f":"IF(ISERROR(E44*G44),0,E44*G44)","v":0}]
[null,null,null,"Magnesium Production from Dolomite",null,"x",{"$f":"INDIRECT($E$2&LEFT(D45,2)&\"Factor\")","v":0},"=",{"$f":"K45*CO2_C","v":0},"=",{"$f":"IF(ISERROR(E45*G45),0,E45*G45)","v":0}]
[]
[null,{"$f":"B43+1","v":2000},null,"Limestone",null,"x",{"$f":"INDIRECT($E$2&LEFT(D47,2)&\"Factor\")","v":0},"=",{"$f":"K47*CO2_C","v":0},"=",{"$f":"IF(ISERROR(E47*G47),0,E47*G47)","v":0}]
[null,{"$f":"B47","v":2000},null,"Dolomite",null,"x",{"$f":"INDIRECT($E$2&LEFT(D48,2)&\"Factor\")","v":0},"=",{"$f":"K48*CO2_C","v":0},"=",{"$f":"IF(ISERROR(E48*G48),0,E48*G48)","v":0}]
[null,null,null,"Magnesium Production from Dolomite",null,"x",{"$f":"INDIRECT($E$2&LEFT(D49,2)&\"Factor\")","v":0},"=",{"$f":"K49*CO2_C","v":0},"=",{"$f":"IF(ISERROR(E49*G49),0,E49*G49)","v":0}]
[]
[null,{"$f":"B47+1","v":2001},null,"Limestone",null,"x",{"$f":"INDIRECT($E$2&LEFT(D51,2)&\"Factor\")","v":0},"=",{"$f":"K51*CO2_C","v":0},"=",{"$f":"IF(ISERROR(E51*G51),0,E51*G51)","v":0}]
[null,{"$f":"B51","v":2001},null,"Dolomite",null,"x",{"$f":"INDIRECT($E$2&LEFT(D52,2)&\"Factor\")","v":0},"=",{"$f":"K52*CO2_C","v":0},"=",{"$f":"IF(ISERROR(E52*G52),0,E52*G52)","v":0}]
[null,null,null,"Magnesium Production from Dolomite",null,"x",{"$f":"INDIRECT($E$2&LEFT(D53,2)&\"Factor\")","v":0},"=",{"$f":"K53*CO2_C","v":0},"=",{"$f":"IF(ISERROR(E53*G53),0,E53*G53)","v":0}]
[]
[null,{"$f":"B51+1","v":2002},null,"Limestone",null,"x",{"$f":"INDIRECT($E$2&LEFT(D55,2)&\"Factor\")","v":0},"=",{"$f":"K55*CO2_C","v":0},"=",{"$f":"IF(ISERROR(E55*G55),0,E55*G55)","v":0}]
[null,{"$f":"B55","v":2002},null,"Dolomite",null,"x",{"$f":"INDIRECT($E$2&LEFT(D56,2)&\"Factor\")","v":0},"=",{"$f":"K56*CO2_C","v":0},"=",{"$f":"IF(ISERROR(E56*G56),0,E56*G56)","v":0}]
[null,null,null,"Magnesium Production from Dolomite",null,"x",{"$f":"INDIRECT($E$2&LEFT(D57,2)&\"Factor\")","v":0},"=",{"$f":"K57*CO2_C","v":0},"=",{"$f":"IF(ISERROR(E57*G57),0,E57*G57)","v":0}]
[]
[null,{"$f":"B55+1","v":2003},null,"Limestone",null,"x",{"$f":"INDIRECT($E$2&LEFT(D59,2)&\"Factor\")","v":0},"=",{"$f":"K59*CO2_C","v":0},"=",{"$f":"IF(ISERROR(E59*G59),0,E59*G59)","v":0}]
[null,{"$f":"B59","v":2003},null,"Dolomite",null,"x",{"$f":"INDIRECT($E$2&LEFT(D60,2)&\"Factor\")","v":0},"=",{"$f":"K60*CO2_C","v":0},"=",{"$f":"IF(ISERROR(E60*G60),0,E60*G60)","v":0}]
[null,null,null,"Magnesium Production from Dolomite",null,"x",{"$f":"INDIRECT($E$2&LEFT(D61,2)&\"Factor\")","v":0},"=",{"$f":"K61*CO2_C","v":0},"=",{"$f":"IF(ISERROR(E61*G61),0,E61*G61)","v":0}]
[]
[null,{"$f":"B59+1","v":2004},null,"Limestone",null,"x",{"$f":"INDIRECT($E$2&LEFT(D63,2)&\"Factor\")","v":0},"=",{"$f":"K63*CO2_C","v":0},"=",{"$f":"IF(ISERROR(E63*G63),0,E63*G63)","v":0}]
[null,{"$f":"B63","v":2004},null,"Dolomite",null,"x",{"$f":"INDIRECT($E$2&LEFT(D64,2)&\"Factor\")","v":0},"=",{"$f":"K64*CO2_C","v":0},"=",{"$f":"IF(ISERROR(E64*G64),0,E64*G64)","v":0}]
[null,null,null,"Magnesium Production from Dolomite",null,"x",{"$f":"INDIRECT($E$2&LEFT(D65,2)&\"Factor\")","v":0},"=",{"$f":"K65*CO2_C","v":0},"=",{"$f":"IF(ISERROR(E65*G65),0,E65*G65)","v":0}]
[]
[null,{"$f":"B63+1","v":2005},null,"Limestone",null,"x",{"$f":"INDIRECT($E$2&LEFT(D67,2)&\"Factor\")","v":0},"=",{"$f":"K67*CO2_C","v":0},"=",{"$f":"IF(ISERROR(E67*G67),0,E67*G67)","v":0}]
[null,{"$f":"B67","v":2005},null,"Dolomite",null,"x",{"$f":"INDIRECT($E$2&LEFT(D68,2)&\"Factor\")","v":0},"=",{"$f":"K68*CO2_C","v":0},"=",{"$f":"IF(ISERROR(E68*G68),0,E68*G68)","v":0}]
[null,null,null,"Magnesium Production from Dolomite",null,"x",{"$f":"INDIRECT($E$2&LEFT(D69,2)&\"Factor\")","v":0},"=",{"$f":"K69*CO2_C","v":0},"=",{"$f":"IF(ISERROR(E69*G69),0,E69*G69)","v":0}]
[]
[null,{"$f":"B67+1","v":2006},null,"Limestone",null,"x",{"$f":"INDIRECT($E$2&LEFT(D71,2)&\"Factor\")","v":0},"=",{"$f":"K71*CO2_C","v":0},"=",{"$f":"IF(ISERROR(E71*G71),0,E71*G71)","v":0}]
[null,{"$f":"B71","v":2006},null,"Dolomite",null,"x",{"$f":"INDIRECT($E$2&LEFT(D72,2)&\"Factor\")","v":0},"=",{"$f":"K72*CO2_C","v":0},"=",{"$f":"IF(ISERROR(E72*G72),0,E72*G72)","v":0}]
[null,null,null,"Magnesium Production from Dolomite",null,"x",{"$f":"INDIRECT($E$2&LEFT(D73,2)&\"Factor\")","v":0},"=",{"$f":"K73*CO2_C","v":0},"=",{"$f":"IF(ISERROR(E73*G73),0,E73*G73)","v":0}]
[]
[null,{"$f":"B71+1","v":2007},null,"Limestone",null,"x",{"$f":"INDIRECT($E$2&LEFT(D75,2)&\"Factor\")","v":0},"=",{"$f":"K75*CO2_C","v":0},"=",{"$f":"IF(ISERROR(E75*G75),0,E75*G75)","v":0}]
[null,{"$f":"B75","v":2007},null,"Dolomite",null,"x",{"$f":"INDIRECT($E$2&LEFT(D76,2)&\"Factor\")","v":0},"=",{"$f":"K76*CO2_C","v":0},"=",{"$f":"IF(ISERROR(E76*G76),0,E76*G76)","v":0}]
[null,null,null,"Magnesium Production from Dolomite",null,"x",{"$f":"INDIRECT($E$2&LEFT(D77,2)&\"Factor\")","v":0},"=",{"$f":"K77*CO2_C","v":0},"=",{"$f":"IF(ISERROR(E77*G77),0,E77*G77)","v":0}]
[]
[null,{"$f":"B75+1","v":2008},null,"Limestone",null,"x",{"$f":"INDIRECT($E$2&LEFT(D79,2)&\"Factor\")","v":0},"=",{"$f":"K79*CO2_C","v":0},"=",{"$f":"IF(ISERROR(E79*G79),0,E79*G79)","v":0}]
[null,{"$f":"B79","v":2008},null,"Dolomite",null,"x",{"$f":"INDIRECT($E$2&LEFT(D80,2)&\"Factor\")","v":0},"=",{"$f":"K80*CO2_C","v":0},"=",{"$f":"IF(ISERROR(E80*G80),0,E80*G80)","v":0}]
[null,null,null,"Magnesium Production from Dolomite",null,"x",{"$f":"INDIRECT($E$2&LEFT(D81,2)&\"Factor\")","v":0},"=",{"$f":"K81*CO2_C","v":0},"=",{"$f":"IF(ISERROR(E81*G81),0,E81*G81)","v":0}]
[]
[null,{"$f":"B79+1","v":2009},null,"Limestone",null,"x",{"$f":"INDIRECT($E$2&LEFT(D83,2)&\"Factor\")","v":0},"=",{"$f":"K83*CO2_C","v":0},"=",{"$f":"IF(ISERROR(E83*G83),0,E83*G83)","v":0}]
[null,{"$f":"B83","v":2009},null,"Dolomite",null,"x",{"$f":"INDIRECT($E$2&LEFT(D84,2)&\"Factor\")","v":0},"=",{"$f":"K84*CO2_C","v":0},"=",{"$f":"IF(ISERROR(E84*G84),0,E84*G84)","v":0}]
[null,null,null,"Magnesium Production from Dolomite",null,"x",{"$f":"INDIRECT($E$2&LEFT(D85,2)&\"Factor\")","v":0},"=",{"$f":"K85*CO2_C","v":0},"=",{"$f":"IF(ISERROR(E85*G85),0,E85*G85)","v":0}]
[]
[null,{"$f":"B83+1","v":2010},null,"Limestone",null,"x",{"$f":"INDIRECT($E$2&LEFT(D87,2)&\"Factor\")","v":0},"=",{"$f":"K87*CO2_C","v":0},"=",{"$f":"IF(ISERROR(E87*G87),0,E87*G87)","v":0}]
[null,{"$f":"B87","v":2010},null,"Dolomite",null,"x",{"$f":"INDIRECT($E$2&LEFT(D88,2)&\"Factor\")","v":0},"=",{"$f":"K88*CO2_C","v":0},"=",{"$f":"IF(ISERROR(E88*G88),0,E88*G88)","v":0}]
[null,null,null,"Magnesium Production from Dolomite",null,"x",{"$f":"INDIRECT($E$2&LEFT(D89,2)&\"Factor\")","v":0},"=",{"$f":"K89*CO2_C","v":0},"=",{"$f":"IF(ISERROR(E89*G89),0,E89*G89)","v":0}]
[]
[null,{"$f":"B87+1","v":2011},null,"Limestone",null,"x",{"$f":"INDIRECT($E$2&LEFT(D91,2)&\"Factor\")","v":0},"=",{"$f":"K91*CO2_C","v":0},"=",{"$f":"IF(ISERROR(E91*G91),0,E91*G91)","v":0}]
[null,{"$f":"B91","v":2011},null,"Dolomite",null,"x",{"$f":"INDIRECT($E$2&LEFT(D92,2)&\"Factor\")","v":0},"=",{"$f":"K92*CO2_C","v":0},"=",{"$f":"IF(ISERROR(E92*G92),0,E92*G92)","v":0}]
[null,null,null,"Magnesium Production from Dolomite",null,"x",{"$f":"INDIRECT($E$2&LEFT(D93,2)&\"Factor\")","v":0},"=",{"$f":"K93*CO2_C","v":0},"=",{"$f":"IF(ISERROR(E93*G93),0,E93*G93)","v":0}]
[]
[null,{"$f":"B91+1","v":2012},null,"Limestone",null,"x",{"$f":"INDIRECT($E$2&LEFT(D95,2)&\"Factor\")","v":0},"=",{"$f":"K95*CO2_C","v":0},"=",{"$f":"IF(ISERROR(E95*G95),0,E95*G95)","v":0}]
[null,{"$f":"B95","v":2012},null,"Dolomite",null,"x",{"$f":"INDIRECT($E$2&LEFT(D96,2)&\"Factor\")","v":0},"=",{"$f":"K96*CO2_C","v":0},"=",{"$f":"IF(ISERROR(E96*G96),0,E96*G96)","v":0}]
[null,null,null,"Magnesium Production from Dolomite",null,"x",{"$f":"INDIRECT($E$2&LEFT(D97,2)&\"Factor\")","v":0},"=",{"$f":"K97*CO2_C","v":0},"=",{"$f":"IF(ISERROR(E97*G97),0,E97*G97)","v":0}]
[]
[null,{"$f":"B95+1","v":2013},null,"Limestone",null,"x",{"$f":"INDIRECT($E$2&LEFT(D99,2)&\"Factor\")","v":0},"=",{"$f":"K99*CO2_C","v":0},"=",{"$f":"IF(ISERROR(E99*G99),0,E99*G99)","v":0}]
[null,{"$f":"B99","v":2013},null,"Dolomite",null,"x",{"$f":"INDIRECT($E$2&LEFT(D100,2)&\"Factor\")","v":0},"=",{"$f":"K100*CO2_C","v":0},"=",{"$f":"IF(ISERROR(E100*G100),0,E100*G100)","v":0}]
[null,null,null,"Magnesium Production from Dolomite",null,"x",{"$f":"INDIRECT($E$2&LEFT(D101,2)&\"Factor\")","v":0},"=",{"$f":"K101*CO2_C","v":0},"=",{"$f":"IF(ISERROR(E101*G101),0,E101*G101)","v":0}]
[]
[null,{"$f":"B99+1","v":2014},null,"Limestone",null,"x",{"$f":"INDIRECT($E$2&LEFT(D103,2)&\"Factor\")","v":0},"=",{"$f":"K103*CO2_C","v":0},"=",{"$f":"IF(ISERROR(E103*G103),0,E103*G103)","v":0}]
[null,{"$f":"B103","v":2014},null,"Dolomite",null,"x",{"$f":"INDIRECT($E$2&LEFT(D104,2)&\"Factor\")","v":0},"=",{"$f":"K104*CO2_C","v":0},"=",{"$f":"IF(ISERROR(E104*G104),0,E104*G104)","v":0}]
[null,null,null,"Magnesium Production from Dolomite",null,"x",{"$f":"INDIRECT($E$2&LEFT(D105,2)&\"Factor\")","v":0},"=",{"$f":"K105*CO2_C","v":0},"=",{"$f":"IF(ISERROR(E105*G105),0,E105*G105)","v":0}]
[]
[null,{"$f":"B103+1","v":2015},null,"Limestone",null,"x",{"$f":"INDIRECT($E$2&LEFT(D107,2)&\"Factor\")","v":0},"=",{"$f":"K107*CO2_C","v":0},"=",{"$f":"IF(ISERROR(E107*G107),0,E107*G107)","v":0}]
[null,{"$f":"B107","v":2015},null,"Dolomite",null,"x",{"$f":"INDIRECT($E$2&LEFT(D108,2)&\"Factor\")","v":0},"=",{"$f":"K108*CO2_C","v":0},"=",{"$f":"IF(ISERROR(E108*G108),0,E108*G108)","v":0}]
[null,null,null,"Magnesium Production from Dolomite",null,"x",{"$f":"INDIRECT($E$2&LEFT(D109,2)&\"Factor\")","v":0},"=",{"$f":"K109*CO2_C","v":0},"=",{"$f":"IF(ISERROR(E109*G109),0,E109*G109)","v":0}]
[]
[null,{"$f":"B107+1","v":2016},null,"Limestone",null,"x",{"$f":"INDIRECT($E$2&LEFT(D111,2)&\"Factor\")","v":0},"=",{"$f":"K111*CO2_C","v":0},"=",{"$f":"IF(ISERROR(E111*G111),0,E111*G111)","v":0}]
[null,{"$f":"B111","v":2016},null,"Dolomite",null,"x",{"$f":"INDIRECT($E$2&LEFT(D112,2)&\"Factor\")","v":0},"=",{"$f":"K112*CO2_C","v":0},"=",{"$f":"IF(ISERROR(E112*G112),0,E112*G112)","v":0}]
[null,null,null,"Magnesium Production from Dolomite",null,"x",{"$f":"INDIRECT($E$2&LEFT(D113,2)&\"Factor\")","v":0},"=",{"$f":"K113*CO2_C","v":0},"=",{"$f":"IF(ISERROR(E113*G113),0,E113*G113)","v":0}]
[]
[null,{"$f":"B111+1","v":2017},null,"Limestone",null,"x",{"$f":"INDIRECT($E$2&LEFT(D115,2)&\"Factor\")","v":0},"=",{"$f":"K115*CO2_C","v":0},"=",{"$f":"IF(ISERROR(E115*G115),0,E115*G115)","v":0}]
[null,{"$f":"B115","v":2017},null,"Dolomite",null,"x",{"$f":"INDIRECT($E$2&LEFT(D116,2)&\"Factor\")","v":0},"=",{"$f":"K116*CO2_C","v":0},"=",{"$f":"IF(ISERROR(E116*G116),0,E116*G116)","v":0}]
[null,null,null,"Magnesium Production from Dolomite",null,"x",{"$f":"INDIRECT($E$2&LEFT(D117,2)&\"Factor\")","v":0},"=",{"$f":"K117*CO2_C","v":0},"=",{"$f":"IF(ISERROR(E117*G117),0,E117*G117)","v":0}]
[]
[null,{"$f":"B115+1","v":2018},null,"Limestone",null,"x",{"$f":"INDIRECT($E$2&LEFT(D119,2)&\"Factor\")","v":0},"=",{"$f":"K119*CO2_C","v":0},"=",{"$f":"IF(ISERROR(E119*G119),0,E119*G119)","v":0}]
[null,{"$f":"B119","v":2018},null,"Dolomite",null,"x",{"$f":"INDIRECT($E$2&LEFT(D120,2)&\"Factor\")","v":0},"=",{"$f":"K120*CO2_C","v":0},"=",{"$f":"IF(ISERROR(E120*G120),0,E120*G120)","v":0}]
[null,null,null,"Magnesium Production from Dolomite",null,"x",{"$f":"INDIRECT($E$2&LEFT(D121,2)&\"Factor\")","v":0},"=",{"$f":"K121*CO2_C","v":0},"=",{"$f":"IF(ISERROR(E121*G121),0,E121*G121)","v":0}]
[]
[null,{"$f":"B119+1","v":2019},null,"Limestone",null,"x",{"$f":"INDIRECT($E$2&LEFT(D123,2)&\"Factor\")","v":0},"=",{"$f":"K123*CO2_C","v":0},"=",{"$f":"IF(ISERROR(E123*G123),0,E123*G123)","v":0}]
[null,{"$f":"B123","v":2019},null,"Dolomite",null,"x",{"$f":"INDIRECT($E$2&LEFT(D124,2)&\"Factor\")","v":0},"=",{"$f":"K124*CO2_C","v":0},"=",{"$f":"IF(ISERROR(E124*G124),0,E124*G124)","v":0}]
[null,null,null,"Magnesium Production from Dolomite",null,"x",{"$f":"INDIRECT($E$2&LEFT(D125,2)&\"Factor\")","v":0},"=",{"$f":"K125*CO2_C","v":0},"=",{"$f":"IF(ISERROR(E125*G125),0,E125*G125)","v":0}]
[]
[null,{"$f":"B123+1","v":2020},null,"Limestone",null,"x",{"$f":"INDIRECT($E$2&LEFT(D127,2)&\"Factor\")","v":0},"=",{"$f":"K127*CO2_C","v":0},"=",{"$f":"IF(ISERROR(E127*G127),0,E127*G127)","v":0}]
[null,{"$f":"B127","v":2020},null,"Dolomite",null,"x",{"$f":"INDIRECT($E$2&LEFT(D128,2)&\"Factor\")","v":0},"=",{"$f":"K128*CO2_C","v":0},"=",{"$f":"IF(ISERROR(E128*G128),0,E128*G128)","v":0}]
[null,null,null,"Magnesium Production from Dolomite",null,"x",{"$f":"INDIRECT($E$2&LEFT(D129,2)&\"Factor\")","v":0},"=",{"$f":"K129*CO2_C","v":0},"=",{"$f":"IF(ISERROR(E129*G129),0,E129*G129)","v":0}]
[]
[null,{"$f":"B127+1","v":2021},null,"Limestone",null,"x",{"$f":"INDIRECT($E$2&LEFT(D131,2)&\"Factor\")","v":0},"=",{"$f":"K131*CO2_C","v":0},"=",{"$f":"IF(ISERROR(E131*G131),0,E131*G131)","v":0}]
[null,{"$f":"B131","v":2021},null,"Dolomite",null,"x",{"$f":"INDIRECT($E$2&LEFT(D132,2)&\"Factor\")","v":0},"=",{"$f":"K132*CO2_C","v":0},"=",{"$f":"IF(ISERROR(E132*G132),0,E132*G132)","v":0}]
[null,null,null,"Magnesium Production from Dolomite",null,"x",{"$f":"INDIRECT($E$2&LEFT(D133,2)&\"Factor\")","v":0},"=",{"$f":"K133*CO2_C","v":0},"=",{"$f":"IF(ISERROR(E133*G133),0,E133*G133)","v":0}]
[]
[null,{"$f":"B131+1","v":2022},null,"Limestone",null,"x",{"$f":"INDIRECT($E$2&LEFT(D135,2)&\"Factor\")","v":0},"=",{"$f":"K135*CO2_C","v":0},"=",{"$f":"IF(ISERROR(E135*G135),0,E135*G135)","v":0}]
[null,{"$f":"B135","v":2022},null,"Dolomite",null,"x",{"$f":"INDIRECT($E$2&LEFT(D136,2)&\"Factor\")","v":0},"=",{"$f":"K136*CO2_C","v":0},"=",{"$f":"IF(ISERROR(E136*G136),0,E136*G136)","v":0}]
[null,null,null,"Magnesium Production from Dolomite",null,"x",{"$f":"INDIRECT($E$2&LEFT(D137,2)&\"Factor\")","v":0},"=",{"$f":"K137*CO2_C","v":0},"=",{"$f":"IF(ISERROR(E137*G137),0,E137*G137)","v":0}]
[]
[null,{"$f":"B135+1","v":2023},null,"Limestone",null,"x",{"$f":"INDIRECT($E$2&LEFT(D139,2)&\"Factor\")","v":0},"=",{"$f":"K139*CO2_C","v":0},"=",{"$f":"IF(ISERROR(E139*G139),0,E139*G139)","v":0}]
[null,{"$f":"B139","v":2023},null,"Dolomite",null,"x",{"$f":"INDIRECT($E$2&LEFT(D140,2)&\"Factor\")","v":0},"=",{"$f":"K140*CO2_C","v":0},"=",{"$f":"IF(ISERROR(E140*G140),0,E140*G140)","v":0}]
[null,null,null,"Magnesium Production from Dolomite",null,"x",{"$f":"INDIRECT($E$2&LEFT(D141,2)&\"Factor\")","v":0},"=",{"$f":"K141*CO2_C","v":0},"=",{"$f":"IF(ISERROR(E141*G141),0,E141*G141)","v":0}]
[]
[null,{"$f":"B139+1","v":2024},null,"Limestone",null,"x",{"$f":"INDIRECT($E$2&LEFT(D143,2)&\"Factor\")","v":0},"=",{"$f":"K143*CO2_C","v":0},"=",{"$f":"IF(ISERROR(E143*G143),0,E143*G143)","v":0}]
[null,{"$f":"B143","v":2024},null,"Dolomite",null,"x",{"$f":"INDIRECT($E$2&LEFT(D144,2)&\"Factor\")","v":0},"=",{"$f":"K144*CO2_C","v":0},"=",{"$f":"IF(ISERROR(E144*G144),0,E144*G144)","v":0}]
[null,null,null,"Magnesium Production from Dolomite",null,"x",{"$f":"INDIRECT($E$2&LEFT(D145,2)&\"Factor\")","v":0},"=",{"$f":"K145*CO2_C","v":0},"=",{"$f":"IF(ISERROR(E145*G145),0,E145*G145)","v":0}]
[]
[null,{"$f":"B143+1","v":2025},null,"Limestone",null,"x",{"$f":"INDIRECT($E$2&LEFT(D147,2)&\"Factor\")","v":0},"=",{"$f":"K147*CO2_C","v":0},"=",{"$f":"IF(ISERROR(E147*G147),0,E147*G147)","v":0}]
[null,{"$f":"B147","v":2025},null,"Dolomite",null,"x",{"$f":"INDIRECT($E$2&LEFT(D148,2)&\"Factor\")","v":0},"=",{"$f":"K148*CO2_C","v":0},"=",{"$f":"IF(ISERROR(E148*G148),0,E148*G148)","v":0}]
[null,null,null,"Magnesium Production from Dolomite",null,"x",{"$f":"INDIRECT($E$2&LEFT(D149,2)&\"Factor\")","v":0},"=",{"$f":"K149*CO2_C","v":0},"=",{"$f":"IF(ISERROR(E149*G149),0,E149*G149)","v":0}]

{"sheet":"Soda Ash","index":6,"n_rows":113,"n_cols":16,"rows_kept":113,"cut":false,"hidden":false,"merged":[[2,1,2,10]]}
[null,{"$f":"\"5. Soda Ash Manufacture and Consumption in \"&'List Data'!B3","v":"5. Soda Ash Manufacture and Consumption in Select a State . . ."}]
[null,null,null,{"$f":"'List Data'!$A$3","v":"XX"},"Soda",{"$f":"\" \"","v":" "}]
[]
[null,null,null,null,"Manufacture and Consumption",null,"Emission Factor",null,"Emissions ",null,"Emissions "]
[null,null,null,null,"(Metric Tons)",null,"(t CO2/t production)",null,"(MTCE)",null,"(MTCO2E)"]
[]
[null,1990,null,"Manufacture",null,"x",{"$f":"INDIRECT($E$2&LEFT(D7,2)&\"Factor\")","v":0},"=",{"$f":"K7*CO2_C","v":0},"=",{"$f":"IF(ISERROR(E7*G7),0,E7*G7)","v":0}]
[null,{"$f":"B7","v":1990},null,"Consumption",null,"x",{"$f":"INDIRECT($E$2&LEFT(D8,2)&\"Factor\")","v":0},"=",{"$f":"K8*CO2_C","v":0},"=",{"$f":"IF(ISERROR(E8*G8),0,E8*G8)","v":0}]
[]
[null,{"$f":"B7+1","v":1991},null,{"$f":"$D$7","v":"Manufacture"},null,"x",{"$f":"INDIRECT($E$2&LEFT(D10,2)&\"Factor\")","v":0},"=",{"$f":"K10*CO2_C","v":0},"=",{"$f":"IF(ISERROR(E10*G10),0,E10*G10)","v":0}]
[null,{"$f":"B10","v":1991},null,{"$f":"$D$8","v":"Consumption"},null,"x",{"$f":"INDIRECT($E$2&LEFT(D11,2)&\"Factor\")","v":0},"=",{"$f":"K11*CO2_C","v":0},"=",{"$f":"IF(ISERROR(E11*G11),0,E11*G11)","v":0}]
[]
[null,{"$f":"B10+1","v":1992},null,{"$f":"$D$7","v":"Manufacture"},null,"x",{"$f":"INDIRECT($E$2&LEFT(D13,2)&\"Factor\")","v":0},"=",{"$f":"K13*CO2_C","v":0},"=",{"$f":"IF(ISERROR(E13*G13),0,E13*G13)","v":0}]
[null,{"$f":"B13","v":1992},null,{"$f":"$D$8","v":"Consumption"},null,"x",{"$f":"INDIRECT($E$2&LEFT(D14,2)&\"Factor\")","v":0},"=",{"$f":"K14*CO2_C","v":0},"=",{"$f":"IF(ISERROR(E14*G14),0,E14*G14)","v":0}]
[]
[null,{"$f":"B13+1","v":1993},null,{"$f":"$D$7","v":"Manufacture"},null,"x",{"$f":"INDIRECT($E$2&LEFT(D16,2)&\"Factor\")","v":0},"=",{"$f":"K16*CO2_C","v":0},"=",{"$f":"IF(ISERROR(E16*G16),0,E16*G16)","v":0}]
[null,{"$f":"B16","v":1993},null,{"$f":"$D$8","v":"Consumption"},null,"x",{"$f":"INDIRECT($E$2&LEFT(D17,2)&\"Factor\")","v":0},"=",{"$f":"K17*CO2_C","v":0},"=",{"$f":"IF(ISERROR(E17*G17),0,E17*G17)","v":0}]
[]
[null,{"$f":"B16+1","v":1994},null,{"$f":"$D$7","v":"Manufacture"},null,"x",{"$f":"INDIRECT($E$2&LEFT(D19,2)&\"Factor\")","v":0},"=",{"$f":"K19*CO2_C","v":0},"=",{"$f":"IF(ISERROR(E19*G19),0,E19*G19)","v":0}]
[null,{"$f":"B19","v":1994},null,{"$f":"$D$8","v":"Consumption"},null,"x",{"$f":"INDIRECT($E$2&LEFT(D20,2)&\"Factor\")","v":0},"=",{"$f":"K20*CO2_C","v":0},"=",{"$f":"IF(ISERROR(E20*G20),0,E20*G20)","v":0}]
[]
[null,{"$f":"B19+1","v":1995},null,{"$f":"$D$7","v":"Manufacture"},null,"x",{"$f":"INDIRECT($E$2&LEFT(D22,2)&\"Factor\")","v":0},"=",{"$f":"K22*CO2_C","v":0},"=",{"$f":"IF(ISERROR(E22*G22),0,E22*G22)","v":0}]
[null,{"$f":"B22","v":1995},null,{"$f":"$D$8","v":"Consumption"},null,"x",{"$f":"INDIRECT($E$2&LEFT(D23,2)&\"Factor\")","v":0},"=",{"$f":"K23*CO2_C","v":0},"=",{"$f":"IF(ISERROR(E23*G23),0,E23*G23)","v":0}]
[]
[null,{"$f":"B22+1","v":1996},null,{"$f":"$D$7","v":"Manufacture"},null,"x",{"$f":"INDIRECT($E$2&LEFT(D25,2)&\"Factor\")","v":0},"=",{"$f":"K25*CO2_C","v":0},"=",{"$f":"IF(ISERROR(E25*G25),0,E25*G25)","v":0}]
[null,{"$f":"B25","v":1996},null,{"$f":"$D$8","v":"Consumption"},null,"x",{"$f":"INDIRECT($E$2&LEFT(D26,2)&\"Factor\")","v":0},"=",{"$f":"K26*CO2_C","v":0},"=",{"$f":"IF(ISERROR(E26*G26),0,E26*G26)","v":0}]
[]
[null,{"$f":"B25+1","v":1997},null,{"$f":"$D$7","v":"Manufacture"},null,"x",{"$f":"INDIRECT($E$2&LEFT(D28,2)&\"Factor\")","v":0},"=",{"$f":"K28*CO2_C","v":0},"=",{"$f":"IF(ISERROR(E28*G28),0,E28*G28)","v":0}]
[null,{"$f":"B28","v":1997},null,{"$f":"$D$8","v":"Consumption"},null,"x",{"$f":"INDIRECT($E$2&LEFT(D29,2)&\"Factor\")","v":0},"=",{"$f":"K29*CO2_C","v":0},"=",{"$f":"IF(ISERROR(E29*G29),0,E29*G29)","v":0}]
[]
[null,{"$f":"B28+1","v":1998},null,{"$f":"$D$7","v":"Manufacture"},null,"x",{"$f":"INDIRECT($E$2&LEFT(D31,2)&\"Factor\")","v":0},"=",{"$f":"K31*CO2_C","v":0},"=",{"$f":"IF(ISERROR(E31*G31),0,E31*G31)","v":0},null,null,null,null," "]
[null,{"$f":"B31","v":1998},null,{"$f":"$D$8","v":"Consumption"},null,"x",{"$f":"INDIRECT($E$2&LEFT(D32,2)&\"Factor\")","v":0},"=",{"$f":"K32*CO2_C","v":0},"=",{"$f":"IF(ISERROR(E32*G32),0,E32*G32)","v":0},null,null,null,null," "]
[]
[null,{"$f":"B31+1","v":1999},null,{"$f":"$D$7","v":"Manufacture"},null,"x",{"$f":"INDIRECT($E$2&LEFT(D34,2)&\"Factor\")","v":0},"=",{"$f":"K34*CO2_C","v":0},"=",{"$f":"IF(ISERROR(E34*G34),0,E34*G34)","v":0}]
[null,{"$f":"B34","v":1999},null,{"$f":"$D$8","v":"Consumption"},null,"x",{"$f":"INDIRECT($E$2&LEFT(D35,2)&\"Factor\")","v":0},"=",{"$f":"K35*CO2_C","v":0},"=",{"$f":"IF(ISERROR(E35*G35),0,E35*G35)","v":0}]
[]
[null,{"$f":"B34+1","v":2000},null,{"$f":"$D$7","v":"Manufacture"},null,"x",{"$f":"INDIRECT($E$2&LEFT(D37,2)&\"Factor\")","v":0},"=",{"$f":"K37*CO2_C","v":0},"=",{"$f":"IF(ISERROR(E37*G37),0,E37*G37)","v":0}]
[null,{"$f":"B37","v":2000},null,{"$f":"$D$8","v":"Consumption"},null,"x",{"$f":"INDIRECT($E$2&LEFT(D38,2)&\"Factor\")","v":0},"=",{"$f":"K38*CO2_C","v":0},"=",{"$f":"IF(ISERROR(E38*G38),0,E38*G38)","v":0}]
[]
[null,{"$f":"B37+1","v":2001},null,{"$f":"$D$7","v":"Manufacture"},null,"x",{"$f":"INDIRECT($E$2&LEFT(D40,2)&\"Factor\")","v":0},"=",{"$f":"K40*CO2_C","v":0},"=",{"$f":"IF(ISERROR(E40*G40),0,E40*G40)","v":0}]
[null,{"$f":"B40","v":2001},null,{"$f":"$D$8","v":"Consumption"},null,"x",{"$f":"INDIRECT($E$2&LEFT(D41,2)&\"Factor\")","v":0},"=",{"$f":"K41*CO2_C","v":0},"=",{"$f":"IF(ISERROR(E41*G41),0,E41*G41)","v":0}]
[]
[null,{"$f":"B40+1","v":2002},null,{"$f":"$D$7","v":"Manufacture"},null,"x",{"$f":"INDIRECT($E$2&LEFT(D43,2)&\"Factor\")","v":0},"=",{"$f":"K43*CO2_C","v":0},"=",{"$f":"IF(ISERROR(E43*G43),0,E43*G43)","v":0}]
[null,{"$f":"B43","v":2002},null,{"$f":"$D$8","v":"Consumption"},null,"x",{"$f":"INDIRECT($E$2&LEFT(D44,2)&\"Factor\")","v":0},"=",{"$f":"K44*CO2_C","v":0},"=",{"$f":"IF(ISERROR(E44*G44),0,E44*G44)","v":0}]
[]
[null,{"$f":"B43+1","v":2003},null,{"$f":"$D$7","v":"Manufacture"},null,"x",{"$f":"INDIRECT($E$2&LEFT(D46,2)&\"Factor\")","v":0},"=",{"$f":"K46*CO2_C","v":0},"=",{"$f":"IF(ISERROR(E46*G46),0,E46*G46)","v":0}]
[null,{"$f":"B46","v":2003},null,{"$f":"$D$8","v":"Consumption"},null,"x",{"$f":"INDIRECT($E$2&LEFT(D47,2)&\"Factor\")","v":0},"=",{"$f":"K47*CO2_C","v":0},"=",{"$f":"IF(ISERROR(E47*G47),0,E47*G47)","v":0}]
[]
[null,{"$f":"B46+1","v":2004},null,{"$f":"$D$7","v":"Manufacture"},null,"x",{"$f":"INDIRECT($E$2&LEFT(D49,2)&\"Factor\")","v":0},"=",{"$f":"K49*CO2_C","v":0},"=",{"$f":"IF(ISERROR(E49*G49),0,E49*G49)","v":0}]
[null,{"$f":"B49","v":2004},null,{"$f":"$D$8","v":"Consumption"},null,"x",{"$f":"INDIRECT($E$2&LEFT(D50,2)&\"Factor\")","v":0},"=",{"$f":"K50*CO2_C","v":0},"=",{"$f":"IF(ISERROR(E50*G50),0,E50*G50)","v":0}]
[]
[null,{"$f":"B49+1","v":2005},null,{"$f":"$D$7","v":"Manufacture"},null,"x",{"$f":"INDIRECT($E$2&LEFT(D52,2)&\"Factor\")","v":0},"=",{"$f":"K52*CO2_C","v":0},"=",{"$f":"IF(ISERROR(E52*G52),0,E52*G52)","v":0}]
[null,{"$f":"B52","v":2005},null,{"$f":"$D$8","v":"Consumption"},null,"x",{"$f":"INDIRECT($E$2&LEFT(D53,2)&\"Factor\")","v":0},"=",{"$f":"K53*CO2_C","v":0},"=",{"$f":"IF(ISERROR(E53*G53),0,E53*G53)","v":0}]
[]
[null,{"$f":"B52+1","v":2006},null,{"$f":"$D$7","v":"Manufacture"},null,"x",{"$f":"INDIRECT($E$2&LEFT(D55,2)&\"Factor\")","v":0},"=",{"$f":"K55*CO2_C","v":0},"=",{"$f":"IF(ISERROR(E55*G55),0,E55*G55)","v":0}]
[null,{"$f":"B55","v":2006},null,{"$f":"$D$8","v":"Consumption"},null,"x",{"$f":"INDIRECT($E$2&LEFT(D56,2)&\"Factor\")","v":0},"=",{"$f":"K56*CO2_C","v":0},"=",{"$f":"IF(ISERROR(E56*G56),0,E56*G56)","v":0}]
[]
[null,{"$f":"B55+1","v":2007},null,{"$f":"$D$7","v":"Manufacture"},null,"x",{"$f":"INDIRECT($E$2&LEFT(D58,2)&\"Factor\")","v":0},"=",{"$f":"K58*CO2_C","v":0},"=",{"$f":"IF(ISERROR(E58*G58),0,E58*G58)","v":0}]
[null,{"$f":"B58","v":2007},null,{"$f":"$D$8","v":"Consumption"},null,"x",{"$f":"INDIRECT($E$2&LEFT(D59,2)&\"Factor\")","v":0},"=",{"$f":"K59*CO2_C","v":0},"=",{"$f":"IF(ISERROR(E59*G59),0,E59*G59)","v":0}]
[]
[null,{"$f":"B58+1","v":2008},null,{"$f":"$D$7","v":"Manufacture"},null,"x",{"$f":"INDIRECT($E$2&LEFT(D61,2)&\"Factor\")","v":0},"=",{"$f":"K61*CO2_C","v":0},"=",{"$f":"IF(ISERROR(E61*G61),0,E61*G61)","v":0}]
[null,{"$f":"B61","v":2008},null,{"$f":"$D$8","v":"Consumption"},null,"x",{"$f":"INDIRECT($E$2&LEFT(D62,2)&\"Factor\")","v":0},"=",{"$f":"K62*CO2_C","v":0},"=",{"$f":"IF(ISERROR(E62*G62),0,E62*G62)","v":0}]
[]
[null,{"$f":"B61+1","v":2009},null,{"$f":"$D$7","v":"Manufacture"},null,"x",{"$f":"INDIRECT($E$2&LEFT(D64,2)&\"Factor\")","v":0},"=",{"$f":"K64*CO2_C","v":0},"=",{"$f":"IF(ISERROR(E64*G64),0,E64*G64)","v":0}]
[null,{"$f":"B64","v":2009},null,{"$f":"$D$8","v":"Consumption"},null,"x",{"$f":"INDIRECT($E$2&LEFT(D65,2)&\"Factor\")","v":0},"=",{"$f":"K65*CO2_C","v":0},"=",{"$f":"IF(ISERROR(E65*G65),0,E65*G65)","v":0}]
[]
[null,{"$f":"B64+1","v":2010},null,{"$f":"$D$7","v":"Manufacture"},null,"x",{"$f":"INDIRECT($E$2&LEFT(D67,2)&\"Factor\")","v":0},"=",{"$f":"K67*CO2_C","v":0},"=",{"$f":"IF(ISERROR(E67*G67),0,E67*G67)","v":0}]
[null,{"$f":"B67","v":2010},null,{"$f":"$D$8","v":"Consumption"},null,"x",{"$f":"INDIRECT($E$2&LEFT(D68,2)&\"Factor\")","v":0},"=",{"$f":"K68*CO2_C","v":0},"=",{"$f":"IF(ISERROR(E68*G68),0,E68*G68)","v":0}]
[]
[null,{"$f":"B67+1","v":2011},null,{"$f":"$D$7","v":"Manufacture"},null,"x",{"$f":"INDIRECT($E$2&LEFT(D70,2)&\"Factor\")","v":0},"=",{"$f":"K70*CO2_C","v":0},"=",{"$f":"IF(ISERROR(E70*G70),0,E70*G70)","v":0}]
[null,{"$f":"B70","v":2011},null,{"$f":"$D$8","v":"Consumption"},null,"x",{"$f":"INDIRECT($E$2&LEFT(D71,2)&\"Factor\")","v":0},"=",{"$f":"K71*CO2_C","v":0},"=",{"$f":"IF(ISERROR(E71*G71),0,E71*G71)","v":0}]
[]
[null,{"$f":"B70+1","v":2012},null,{"$f":"$D$7","v":"Manufacture"},null,"x",{"$f":"INDIRECT($E$2&LEFT(D73,2)&\"Factor\")","v":0},"=",{"$f":"K73*CO2_C","v":0},"=",{"$f":"IF(ISERROR(E73*G73),0,E73*G73)","v":0}]
[null,{"$f":"B73","v":2012},null,{"$f":"$D$8","v":"Consumption"},null,"x",{"$f":"INDIRECT($E$2&LEFT(D74,2)&\"Factor\")","v":0},"=",{"$f":"K74*CO2_C","v":0},"=",{"$f":"IF(ISERROR(E74*G74),0,E74*G74)","v":0}]
[]
[null,{"$f":"B73+1","v":2013},null,{"$f":"$D$7","v":"Manufacture"},null,"x",{"$f":"INDIRECT($E$2&LEFT(D76,2)&\"Factor\")","v":0},"=",{"$f":"K76*CO2_C","v":0},"=",{"$f":"IF(ISERROR(E76*G76),0,E76*G76)","v":0}]
[null,{"$f":"B76","v":2013},null,{"$f":"$D$8","v":"Consumption"},null,"x",{"$f":"INDIRECT($E$2&LEFT(D77,2)&\"Factor\")","v":0},"=",{"$f":"K77*CO2_C","v":0},"=",{"$f":"IF(ISERROR(E77*G77),0,E77*G77)","v":0}]
[]
[null,{"$f":"B76+1","v":2014},null,{"$f":"$D$7","v":"Manufacture"},null,"x",{"$f":"INDIRECT($E$2&LEFT(D79,2)&\"Factor\")","v":0},"=",{"$f":"K79*CO2_C","v":0},"=",{"$f":"IF(ISERROR(E79*G79),0,E79*G79)","v":0}]
[null,{"$f":"B79","v":2014},null,{"$f":"$D$8","v":"Consumption"},null,"x",{"$f":"INDIRECT($E$2&LEFT(D80,2)&\"Factor\")","v":0},"=",{"$f":"K80*CO2_C","v":0},"=",{"$f":"IF(ISERROR(E80*G80),0,E80*G80)","v":0}]
[]
[null,{"$f":"B79+1","v":2015},null,{"$f":"$D$7","v":"Manufacture"},null,"x",{"$f":"INDIRECT($E$2&LEFT(D82,2)&\"Factor\")","v":0},"=",{"$f":"K82*CO2_C","v":0},"=",{"$f":"IF(ISERROR(E82*G82),0,E82*G82)","v":0}]
[null,{"$f":"B82","v":2015},null,{"$f":"$D$8","v":"Consumption"},null,"x",{"$f":"INDIRECT($E$2&LEFT(D83,2)&\"Factor\")","v":0},"=",{"$f":"K83*CO2_C","v":0},"=",{"$f":"IF(ISERROR(E83*G83),0,E83*G83)","v":0}]
[]
[null,{"$f":"B82+1","v":2016},null,{"$f":"$D$7","v":"Manufacture"},null,"x",{"$f":"INDIRECT($E$2&LEFT(D85,2)&\"Factor\")","v":0},"=",{"$f":"K85*CO2_C","v":0},"=",{"$f":"IF(ISERROR(E85*G85),0,E85*G85)","v":0}]
[null,{"$f":"B85","v":2016},null,{"$f":"$D$8","v":"Consumption"},null,"x",{"$f":"INDIRECT($E$2&LEFT(D86,2)&\"Factor\")","v":0},"=",{"$f":"K86*CO2_C","v":0},"=",{"$f":"IF(ISERROR(E86*G86),0,E86*G86)","v":0}]
[]
[null,{"$f":"B85+1","v":2017},null,{"$f":"$D$7","v":"Manufacture"},null,"x",{"$f":"INDIRECT($E$2&LEFT(D88,2)&\"Factor\")","v":0},"=",{"$f":"K88*CO2_C","v":0},"=",{"$f":"IF(ISERROR(E88*G88),0,E88*G88)","v":0}]
[null,{"$f":"B88","v":2017},null,{"$f":"$D$8","v":"Consumption"},null,"x",{"$f":"INDIRECT($E$2&LEFT(D89,2)&\"Factor\")","v":0},"=",{"$f":"K89*CO2_C","v":0},"=",{"$f":"IF(ISERROR(E89*G89),0,E89*G89)","v":0}]
[]
[null,{"$f":"B88+1","v":2018},null,{"$f":"$D$7","v":"Manufacture"},null,"x",{"$f":"INDIRECT($E$2&LEFT(D91,2)&\"Factor\")","v":0},"=",{"$f":"K91*CO2_C","v":0},"=",{"$f":"IF(ISERROR(E91*G91),0,E91*G91)","v":0}]
[null,{"$f":"B91","v":2018},null,{"$f":"$D$8","v":"Consumption"},null,"x",{"$f":"INDIRECT($E$2&LEFT(D92,2)&\"Factor\")","v":0},"=",{"$f":"K92*CO2_C","v":0},"=",{"$f":"IF(ISERROR(E92*G92),0,E92*G92)","v":0}]
[]
[null,{"$f":"B91+1","v":2019},null,{"$f":"$D$7","v":"Manufacture"},null,"x",{"$f":"INDIRECT($E$2&LEFT(D94,2)&\"Factor\")","v":0},"=",{"$f":"K94*CO2_C","v":0},"=",{"$f":"IF(ISERROR(E94*G94),0,E94*G94)","v":0}]
[null,{"$f":"B94","v":2019},null,{"$f":"$D$8","v":"Consumption"},null,"x",{"$f":"INDIRECT($E$2&LEFT(D95,2)&\"Factor\")","v":0},"=",{"$f":"K95*CO2_C","v":0},"=",{"$f":"IF(ISERROR(E95*G95),0,E95*G95)","v":0}]
[]
[null,{"$f":"B94+1","v":2020},null,{"$f":"$D$7","v":"Manufacture"},null,"x",{"$f":"INDIRECT($E$2&LEFT(D97,2)&\"Factor\")","v":0},"=",{"$f":"K97*CO2_C","v":0},"=",{"$f":"IF(ISERROR(E97*G97),0,E97*G97)","v":0}]
[null,{"$f":"B97","v":2020},null,{"$f":"$D$8","v":"Consumption"},null,"x",{"$f":"INDIRECT($E$2&LEFT(D98,2)&\"Factor\")","v":0},"=",{"$f":"K98*CO2_C","v":0},"=",{"$f":"IF(ISERROR(E98*G98),0,E98*G98)","v":0}]
[]
[null,{"$f":"B97+1","v":2021},null,{"$f":"$D$7","v":"Manufacture"},null,"x",{"$f":"INDIRECT($E$2&LEFT(D100,2)&\"Factor\")","v":0},"=",{"$f":"K100*CO2_C","v":0},"=",{"$f":"IF(ISERROR(E100*G100),0,E100*G100)","v":0}]
[null,{"$f":"B100","v":2021},null,{"$f":"$D$8","v":"Consumption"},null,"x",{"$f":"INDIRECT($E$2&LEFT(D101,2)&\"Factor\")","v":0},"=",{"$f":"K101*CO2_C","v":0},"=",{"$f":"IF(ISERROR(E101*G101),0,E101*G101)","v":0}]
[]
[null,{"$f":"B100+1","v":2022},null,{"$f":"$D$7","v":"Manufacture"},null,"x",{"$f":"INDIRECT($E$2&LEFT(D103,2)&\"Factor\")","v":0},"=",{"$f":"K103*CO2_C","v":0},"=",{"$f":"IF(ISERROR(E103*G103),0,E103*G103)","v":0}]
[null,{"$f":"B103","v":2022},null,{"$f":"$D$8","v":"Consumption"},null,"x",{"$f":"INDIRECT($E$2&LEFT(D104,2)&\"Factor\")","v":0},"=",{"$f":"K104*CO2_C","v":0},"=",{"$f":"IF(ISERROR(E104*G104),0,E104*G104)","v":0}]
[]
[null,{"$f":"B103+1","v":2023},null,{"$f":"$D$7","v":"Manufacture"},null,"x",{"$f":"INDIRECT($E$2&LEFT(D106,2)&\"Factor\")","v":0},"=",{"$f":"K106*CO2_C","v":0},"=",{"$f":"IF(ISERROR(E106*G106),0,E106*G106)","v":0}]
[null,{"$f":"B106","v":2023},null,{"$f":"$D$8","v":"Consumption"},null,"x",{"$f":"INDIRECT($E$2&LEFT(D107,2)&\"Factor\")","v":0},"=",{"$f":"K107*CO2_C","v":0},"=",{"$f":"IF(ISERROR(E107*G107),0,E107*G107)","v":0}]
[]
[null,{"$f":"B106+1","v":2024},null,{"$f":"$D$7","v":"Manufacture"},null,"x",{"$f":"INDIRECT($E$2&LEFT(D109,2)&\"Factor\")","v":0},"=",{"$f":"K109*CO2_C","v":0},"=",{"$f":"IF(ISERROR(E109*G109),0,E109*G109)","v":0}]
[null,{"$f":"B109","v":2024},null,{"$f":"$D$8","v":"Consumption"},null,"x",{"$f":"INDIRECT($E$2&LEFT(D110,2)&\"Factor\")","v":0},"=",{"$f":"K110*CO2_C","v":0},"=",{"$f":"IF(ISERROR(E110*G110),0,E110*G110)","v":0}]
[]
[null,{"$f":"B109+1","v":2025},null,{"$f":"$D$7","v":"Manufacture"},null,"x",{"$f":"INDIRECT($E$2&LEFT(D112,2)&\"Factor\")","v":0},"=",{"$f":"K112*CO2_C","v":0},"=",{"$f":"IF(ISERROR(E112*G112),0,E112*G112)","v":0}]
[null,{"$f":"B112","v":2025},null,{"$f":"$D$8","v":"Consumption"},null,"x",{"$f":"INDIRECT($E$2&LEFT(D113,2)&\"Factor\")","v":0},"=",{"$f":"K113*CO2_C","v":0},"=",{"$f":"IF(ISERROR(E113*G113),0,E113*G113)","v":0}]

{"sheet":"Iron & Steel","index":7,"n_rows":221,"n_cols":12,"rows_kept":221,"cut":false,"hidden":false,"merged":[[0,12,0,19],[2,1,2,7]]}
[null,{"$f":"\"6. Iron and Steel Production in \"&'List Data'!B3","v":"6. Iron and Steel Production in Select a State . . ."}]
[]
[]
[null,null,null,"Production Method",null,"State Production",null,"Emission Factor",null,"Emissions ",null,"Emissions "]
[null,null,null,null,null,"(Metric Tons)",null,"(t CO2/t production)",null,"(MTCE)",null,"(MTCO2E)"]
[]
[null,1990,null,"BOF with coke ovens",null,null,"x",{"$f":"Control!$D$25","v":0},"=",{"$f":"L7*CO2_C","v":0},"=",{"$f":"IF(ISERROR(F7*H7),0,F7*H7)","v":0}]
[null,{"$f":"B7","v":1990},null,"BOF without coke ovens",null,null,"x",{"$f":"Control!$D$26","v":0},"=",{"$f":"L8*CO2_C","v":0},"=",{"$f":"IF(ISERROR(F8*H8),0,F8*H8)","v":0}]
[null,{"$f":"B8","v":1990},null,"EAF",null,null,"x",{"$f":"Control!$D$27","v":0},"=",{"$f":"L9*CO2_C","v":0},"=",{"$f":"IF(ISERROR(F9*H9),0,F9*H9)","v":0}]
[null,{"$f":"B9","v":1990},null,"OHF",null,null,"x",{"$f":"Control!$D$28","v":0},"=",{"$f":"L10*CO2_C","v":0},"=",{"$f":"IF(ISERROR(F10*H10),0,F10*H10)","v":0}]
[null,null,null,"Total",null,null,null,null,"=",{"$f":"L11*CO2_C","v":0},null,{"$f":"SUM(L7:L10)","v":0}]
[]
[null,{"$f":"B7+1","v":1991},null,"BOF with coke ovens",null,null,"x",{"$f":"Control!$D$25","v":0},"=",{"$f":"L13*CO2_C","v":0},"=",{"$f":"IF(ISERROR(F13*H13),0,F13*H13)","v":0}]
[null,{"$f":"B13","v":1991},null,"BOF without coke ovens",null,null,"x",{"$f":"Control!$D$26","v":0},"=",{"$f":"L14*CO2_C","v":0},"=",{"$f":"IF(ISERROR(F14*H14),0,F14*H14)","v":0}]
[null,{"$f":"B14","v":1991},null,"EAF",null,null,"x",{"$f":"Control!$D$27","v":0},"=",{"$f":"L15*CO2_C","v":0},"=",{"$f":"IF(ISERROR(F15*H15),0,F15*H15)","v":0}]
[null,{"$f":"B15","v":1991},null,"OHF",null,null,"x",{"$f":"Control!$D$28","v":0},"=",{"$f":"L16*CO2_C","v":0},"=",{"$f":"IF(ISERROR(F16*H16),0,F16*H16)","v":0}]
[null,null,null,"Total",null,null,null,null,"=",{"$f":"L17*CO2_C","v":0},null,{"$f":"SUM(L13:L16)","v":0}]
[]
[null,{"$f":"B13+1","v":1992},null,"BOF with coke ovens",null,null,"x",{"$f":"Control!$D$25","v":0},"=",{"$f":"L19*CO2_C","v":0},"=",{"$f":"IF(ISERROR(F19*H19),0,F19*H19)","v":0}]
[null,{"$f":"B19","v":1992},null,"BOF without coke ovens",null,null,"x",{"$f":"Control!$D$26","v":0},"=",{"$f":"L20*CO2_C","v":0},"=",{"$f":"IF(ISERROR(F20*H20),0,F20*H20)","v":0}]
[null,{"$f":"B20","v":1992},null,"EAF",null,null,"x",{"$f":"Control!$D$27","v":0},"=",{"$f":"L21*CO2_C","v":0},"=",{"$f":"IF(ISERROR(F21*H21),0,F21*H21)","v":0}]
[null,{"$f":"B21","v":1992},null,"OHF",null,null,"x",{"$f":"Control!$D$28","v":0},"=",{"$f":"L22*CO2_C","v":0},"=",{"$f":"IF(ISERROR(F22*H22),0,F22*H22)","v":0}]
[null,null,null,"Total",null,null,null,null,"=",{"$f":"L23*CO2_C","v":0},null,{"$f":"SUM(L19:L22)","v":0}]
[]
[null,{"$f":"B19+1","v":1993},null,"BOF with coke ovens",null,null,"x",{"$f":"Control!$D$25","v":0},"=",{"$f":"L25*CO2_C","v":0},"=",{"$f":"IF(ISERROR(F25*H25),0,F25*H25)","v":0}]
[null,{"$f":"B25","v":1993},null,"BOF without coke ovens",null,null,"x",{"$f":"Control!$D$26","v":0},"=",{"$f":"L26*CO2_C","v":0},"=",{"$f":"IF(ISERROR(F26*H26),0,F26*H26)","v":0}]
[null,{"$f":"B26","v":1993},null,"EAF",null,null,"x",{"$f":"Control!$D$27","v":0},"=",{"$f":"L27*CO2_C","v":0},"=",{"$f":"IF(ISERROR(F27*H27),0,F27*H27)","v":0}]
[null,{"$f":"B27","v":1993},null,"OHF",null,null,"x",{"$f":"Control!$D$28","v":0},"=",{"$f":"L28*CO2_C","v":0},"=",{"$f":"IF(ISERROR(F28*H28),0,F28*H28)","v":0}]
[null,null,null,"Total",null,null,null,null,"=",{"$f":"L29*CO2_C","v":0},null,{"$f":"SUM(L25:L28)","v":0}]
[]
[null,{"$f":"B25+1","v":1994},null,"BOF with coke ovens",null,null,"x",{"$f":"Control!$D$25","v":0},"=",{"$f":"L31*CO2_C","v":0},"=",{"$f":"IF(ISERROR(F31*H31),0,F31*H31)","v":0}]
[null,{"$f":"B31","v":1994},null,"BOF without coke ovens",null,null,"x",{"$f":"Control!$D$26","v":0},"=",{"$f":"L32*CO2_C","v":0},"=",{"$f":"IF(ISERROR(F32*H32),0,F32*H32)","v":0}]
[null,{"$f":"B32","v":1994},null,"EAF",null,null,"x",{"$f":"Control!$D$27","v":0},"=",{"$f":"L33*CO2_C","v":0},"=",{"$f":"IF(ISERROR(F33*H33),0,F33*H33)","v":0}]
[null,{"$f":"B33","v":1994},null,"OHF",null,null,"x",{"$f":"Control!$D$28","v":0},"=",{"$f":"L34*CO2_C","v":0},"=",{"$f":"IF(ISERROR(F34*H34),0,F34*H34)","v":0}]
[null,null,null,"Total",null,null,null,null,"=",{"$f":"L35*CO2_C","v":0},null,{"$f":"SUM(L31:L34)","v":0}]
[]
[null,{"$f":"B31+1","v":1995},null,"BOF with coke ovens",null,null,"x",{"$f":"Control!$D$25","v":0},"=",{"$f":"L37*CO2_C","v":0},"=",{"$f":"IF(ISERROR(F37*H37),0,F37*H37)","v":0}]
[null,{"$f":"B37","v":1995},null,"BOF without coke ovens",null,null,"x",{"$f":"Control!$D$26","v":0},"=",{"$f":"L38*CO2_C","v":0},"=",{"$f":"IF(ISERROR(F38*H38),0,F38*H38)","v":0}]
[null,{"$f":"B38","v":1995},null,"EAF",null,null,"x",{"$f":"Control!$D$27","v":0},"=",{"$f":"L39*CO2_C","v":0},"=",{"$f":"IF(ISERROR(F39*H39),0,F39*H39)","v":0}]
[null,{"$f":"B39","v":1995},null,"OHF",null,null,"x",{"$f":"Control!$D$28","v":0},"=",{"$f":"L40*CO2_C","v":0},"=",{"$f":"IF(ISERROR(F40*H40),0,F40*H40)","v":0}]
[null,null,null,"Total",null,null,null,null,"=",{"$f":"L41*CO2_C","v":0},null,{"$f":"SUM(L37:L40)","v":0}]
[]
[null,{"$f":"B37+1","v":1996},null,"BOF with coke ovens",null,null,"x",{"$f":"Control!$D$25","v":0},"=",{"$f":"L43*CO2_C","v":0},"=",{"$f":"IF(ISERROR(F43*H43),0,F43*H43)","v":0}]
[null,{"$f":"B43","v":1996},null,"BOF without coke ovens",null,null,"x",{"$f":"Control!$D$26","v":0},"=",{"$f":"L44*CO2_C","v":0},"=",{"$f":"IF(ISERROR(F44*H44),0,F44*H44)","v":0}]
[null,{"$f":"B44","v":1996},null,"EAF",null,null,"x",{"$f":"Control!$D$27","v":0},"=",{"$f":"L45*CO2_C","v":0},"=",{"$f":"IF(ISERROR(F45*H45),0,F45*H45)","v":0}]
[null,{"$f":"B45","v":1996},null,"OHF",null,null,"x",{"$f":"Control!$D$28","v":0},"=",{"$f":"L46*CO2_C","v":0},"=",{"$f":"IF(ISERROR(F46*H46),0,F46*H46)","v":0}]
[null,null,null,"Total",null,null,null,null,"=",{"$f":"L47*CO2_C","v":0},null,{"$f":"SUM(L43:L46)","v":0}]
[]
[null,{"$f":"B43+1","v":1997},null,"BOF with coke ovens",null,null,"x",{"$f":"Control!$D$25","v":0},"=",{"$f":"L49*CO2_C","v":0},"=",{"$f":"IF(ISERROR(F49*H49),0,F49*H49)","v":0}]
[null,{"$f":"B49","v":1997},null,"BOF without coke ovens",null,null,"x",{"$f":"Control!$D$26","v":0},"=",{"$f":"L50*CO2_C","v":0},"=",{"$f":"IF(ISERROR(F50*H50),0,F50*H50)","v":0}]
[null,{"$f":"B50","v":1997},null,"EAF",null,null,"x",{"$f":"Control!$D$27","v":0},"=",{"$f":"L51*CO2_C","v":0},"=",{"$f":"IF(ISERROR(F51*H51),0,F51*H51)","v":0}]
[null,{"$f":"B51","v":1997},null,"OHF",null,null,"x",{"$f":"Control!$D$28","v":0},"=",{"$f":"L52*CO2_C","v":0},"=",{"$f":"IF(ISERROR(F52*H52),0,F52*H52)","v":0}]
[null,null,null,"Total",null,null,null,null,"=",{"$f":"L53*CO2_C","v":0},null,{"$f":"SUM(L49:L52)","v":0}]
[]
[null,{"$f":"B49+1","v":1998},null,"BOF with coke ovens",null,null,"x",{"$f":"Control!$D$25","v":0},"=",{"$f":"L55*CO2_C","v":0},"=",{"$f":"IF(ISERROR(F55*H55),0,F55*H55)","v":0}]
[null,{"$f":"B55","v":1998},null,"BOF without coke ovens",null,null,"x",{"$f":"Control!$D$26","v":0},"=",{"$f":"L56*CO2_C","v":0},"=",{"$f":"IF(ISERROR(F56*H56),0,F56*H56)","v":0}]
[null,{"$f":"B56","v":1998},null,"EAF",null,null,"x",{"$f":"Control!$D$27","v":0},"=",{"$f":"L57*CO2_C","v":0},"=",{"$f":"IF(ISERROR(F57*H57),0,F57*H57)","v":0}]
[null,{"$f":"B57","v":1998},null,"OHF",null,null,"x",{"$f":"Control!$D$28","v":0},"=",{"$f":"L58*CO2_C","v":0},"=",{"$f":"IF(ISERROR(F58*H58),0,F58*H58)","v":0}]
[null,null,null,"Total",null,null,null,null,"=",{"$f":"L59*CO2_C","v":0},null,{"$f":"SUM(L55:L58)","v":0}]
[]
[null,{"$f":"B55+1","v":1999},null,"BOF with coke ovens",null,null,"x",{"$f":"Control!$D$25","v":0},"=",{"$f":"L61*CO2_C","v":0},"=",{"$f":"IF(ISERROR(F61*H61),0,F61*H61)","v":0}]
[null,{"$f":"B61","v":1999},null,"BOF without coke ovens",null,null,"x",{"$f":"Control!$D$26","v":0},"=",{"$f":"L62*CO2_C","v":0},"=",{"$f":"IF(ISERROR(F62*H62),0,F62*H62)","v":0}]
[null,{"$f":"B62","v":1999},null,"EAF",null,null,"x",{"$f":"Control!$D$27","v":0},"=",{"$f":"L63*CO2_C","v":0},"=",{"$f":"IF(ISERROR(F63*H63),0,F63*H63)","v":0}]
[null,{"$f":"B63","v":1999},null,"OHF",null,null,"x",{"$f":"Control!$D$28","v":0},"=",{"$f":"L64*CO2_C","v":0},"=",{"$f":"IF(ISERROR(F64*H64),0,F64*H64)","v":0}]
[null,null,null,"Total",null,null,null,null,"=",{"$f":"L65*CO2_C","v":0},null,{"$f":"SUM(L61:L64)","v":0}]
[]
[null,{"$f":"B61+1","v":2000},null,"BOF with coke ovens",null,null,"x",{"$f":"Control!$D$25","v":0},"=",{"$f":"L67*CO2_C","v":0},"=",{"$f":"IF(ISERROR(F67*H67),0,F67*H67)","v":0}]
[null,{"$f":"B67","v":2000},null,"BOF without coke ovens",null,null,"x",{"$f":"Control!$D$26","v":0},"=",{"$f":"L68*CO2_C","v":0},"=",{"$f":"IF(ISERROR(F68*H68),0,F68*H68)","v":0}]
[null,{"$f":"B68","v":2000},null,"EAF",null,null,"x",{"$f":"Control!$D$27","v":0},"=",{"$f":"L69*CO2_C","v":0},"=",{"$f":"IF(ISERROR(F69*H69),0,F69*H69)","v":0}]
[null,{"$f":"B69","v":2000},null,"OHF",null,null,"x",{"$f":"Control!$D$28","v":0},"=",{"$f":"L70*CO2_C","v":0},"=",{"$f":"IF(ISERROR(F70*H70),0,F70*H70)","v":0}]
[null,null,null,"Total",null,null,null,null,"=",{"$f":"L71*CO2_C","v":0},null,{"$f":"SUM(L67:L70)","v":0}]
[]
[null,{"$f":"B67+1","v":2001},null,"BOF with coke ovens",null,null,"x",{"$f":"Control!$D$25","v":0},"=",{"$f":"L73*CO2_C","v":0},"=",{"$f":"IF(ISERROR(F73*H73),0,F73*H73)","v":0}]
[null,{"$f":"B73","v":2001},null,"BOF without coke ovens",null,null,"x",{"$f":"Control!$D$26","v":0},"=",{"$f":"L74*CO2_C","v":0},"=",{"$f":"IF(ISERROR(F74*H74),0,F74*H74)","v":0}]
[null,{"$f":"B74","v":2001},null,"EAF",null,null,"x",{"$f":"Control!$D$27","v":0},"=",{"$f":"L75*CO2_C","v":0},"=",{"$f":"IF(ISERROR(F75*H75),0,F75*H75)","v":0}]
[null,{"$f":"B75","v":2001},null,"OHF",null,null,"x",{"$f":"Control!$D$28","v":0},"=",{"$f":"L76*CO2_C","v":0},"=",{"$f":"IF(ISERROR(F76*H76),0,F76*H76)","v":0}]
[null,null,null,"Total",null,null,null,null,"=",{"$f":"L77*CO2_C","v":0},null,{"$f":"SUM(L73:L76)","v":0}]
[]
[null,{"$f":"B73+1","v":2002},null,"BOF with coke ovens",null,null,"x",{"$f":"Control!$D$25","v":0},"=",{"$f":"L79*CO2_C","v":0},"=",{"$f":"IF(ISERROR(F79*H79),0,F79*H79)","v":0}]
[null,{"$f":"B79","v":2002},null,"BOF without coke ovens",null,null,"x",{"$f":"Control!$D$26","v":0},"=",{"$f":"L80*CO2_C","v":0},"=",{"$f":"IF(ISERROR(F80*H80),0,F80*H80)","v":0}]
[null,{"$f":"B80","v":2002},null,"EAF",null,null,"x",{"$f":"Control!$D$27","v":0},"=",{"$f":"L81*CO2_C","v":0},"=",{"$f":"IF(ISERROR(F81*H81),0,F81*H81)","v":0}]
[null,{"$f":"B81","v":2002},null,"OHF",null,null,"x",{"$f":"Control!$D$28","v":0},"=",{"$f":"L82*CO2_C","v":0},"=",{"$f":"IF(ISERROR(F82*H82),0,F82*H82)","v":0}]
[null,null,null,"Total",null,null,null,null,"=",{"$f":"L83*CO2_C","v":0},null,{"$f":"SUM(L79:L82)","v":0}]
[]
[null,{"$f":"B79+1","v":2003},null,"BOF with coke ovens",null,null,"x",{"$f":"Control!$D$25","v":0},"=",{"$f":"L85*CO2_C","v":0},"=",{"$f":"IF(ISERROR(F85*H85),0,F85*H85)","v":0}]
[null,{"$f":"B85","v":2003},null,"BOF without coke ovens",null,null,"x",{"$f":"Control!$D$26","v":0},"=",{"$f":"L86*CO2_C","v":0},"=",{"$f":"IF(ISERROR(F86*H86),0,F86*H86)","v":0}]
[null,{"$f":"B86","v":2003},null,"EAF",null,null,"x",{"$f":"Control!$D$27","v":0},"=",{"$f":"L87*CO2_C","v":0},"=",{"$f":"IF(ISERROR(F87*H87),0,F87*H87)","v":0}]
[null,{"$f":"B87","v":2003},null,"OHF",null,null,"x",{"$f":"Control!$D$28","v":0},"=",{"$f":"L88*CO2_C","v":0},"=",{"$f":"IF(ISERROR(F88*H88),0,F88*H88)","v":0}]
[null,null,null,"Total",null,null,null,null,"=",{"$f":"L89*CO2_C","v":0},null,{"$f":"SUM(L85:L88)","v":0}]
[]
[null,{"$f":"B85+1","v":2004},null,"BOF with coke ovens",null,null,"x",{"$f":"Control!$D$25","v":0},"=",{"$f":"L91*CO2_C","v":0},"=",{"$f":"IF(ISERROR(F91*H91),0,F91*H91)","v":0}]
[null,{"$f":"B91","v":2004},null,"BOF without coke ovens",null,null,"x",{"$f":"Control!$D$26","v":0},"=",{"$f":"L92*CO2_C","v":0},"=",{"$f":"IF(ISERROR(F92*H92),0,F92*H92)","v":0}]
[null,{"$f":"B92","v":2004},null,"EAF",null,null,"x",{"$f":"Control!$D$27","v":0},"=",{"$f":"L93*CO2_C","v":0},"=",{"$f":"IF(ISERROR(F93*H93),0,F93*H93)","v":0}]
[null,{"$f":"B93","v":2004},null,"OHF",null,null,"x",{"$f":"Control!$D$28","v":0},"=",{"$f":"L94*CO2_C","v":0},"=",{"$f":"IF(ISERROR(F94*H94),0,F94*H94)","v":0}]
[null,null,null,"Total",null,null,null,null,"=",{"$f":"L95*CO2_C","v":0},null,{"$f":"SUM(L91:L94)","v":0}]
[]
[null,{"$f":"B91+1","v":2005},null,"BOF with coke ovens",null,null,"x",{"$f":"Control!$D$25","v":0},"=",{"$f":"L97*CO2_C","v":0},"=",{"$f":"IF(ISERROR(F97*H97),0,F97*H97)","v":0}]
[null,{"$f":"B97","v":2005},null,"BOF without coke ovens",null,null,"x",{"$f":"Control!$D$26","v":0},"=",{"$f":"L98*CO2_C","v":0},"=",{"$f":"IF(ISERROR(F98*H98),0,F98*H98)","v":0}]
[null,{"$f":"B98","v":2005},null,"EAF",null,null,"x",{"$f":"Control!$D$27","v":0},"=",{"$f":"L99*CO2_C","v":0},"=",{"$f":"IF(ISERROR(F99*H99),0,F99*H99)","v":0}]
[null,{"$f":"B99","v":2005},null,"OHF",null,null,"x",{"$f":"Control!$D$28","v":0},"=",{"$f":"L100*CO2_C","v":0},"=",{"$f":"IF(ISERROR(F100*H100),0,F100*H100)","v":0}]
[null,null,null,"Total",null,null,null,null,"=",{"$f":"L101*CO2_C","v":0},null,{"$f":"SUM(L97:L100)","v":0}]
[]
[null,{"$f":"B97+1","v":2006},null,"BOF with coke ovens",null,null,"x",{"$f":"Control!$D$25","v":0},"=",{"$f":"L103*CO2_C","v":0},"=",{"$f":"IF(ISERROR(F103*H103),0,F103*H103)","v":0}]
[null,{"$f":"B103","v":2006},null,"BOF without coke ovens",null,null,"x",{"$f":"Control!$D$26","v":0},"=",{"$f":"L104*CO2_C","v":0},"=",{"$f":"IF(ISERROR(F104*H104),0,F104*H104)","v":0}]
[null,{"$f":"B104","v":2006},null,"EAF",null,null,"x",{"$f":"Control!$D$27","v":0},"=",{"$f":"L105*CO2_C","v":0},"=",{"$f":"IF(ISERROR(F105*H105),0,F105*H105)","v":0}]
[null,{"$f":"B105","v":2006},null,"OHF",null,null,"x",{"$f":"Control!$D$28","v":0},"=",{"$f":"L106*CO2_C","v":0},"=",{"$f":"IF(ISERROR(F106*H106),0,F106*H106)","v":0}]
[null,null,null,"Total",null,null,null,null,"=",{"$f":"L107*CO2_C","v":0},null,{"$f":"SUM(L103:L106)","v":0}]
[]
[null,{"$f":"B103+1","v":2007},null,"BOF with coke ovens",null,null,"x",{"$f":"Control!$D$25","v":0},"=",{"$f":"L109*CO2_C","v":0},"=",{"$f":"IF(ISERROR(F109*H109),0,F109*H109)","v":0}]
[null,{"$f":"B109","v":2007},null,"BOF without coke ovens",null,null,"x",{"$f":"Control!$D$26","v":0},"=",{"$f":"L110*CO2_C","v":0},"=",{"$f":"IF(ISERROR(F110*H110),0,F110*H110)","v":0}]
[null,{"$f":"B110","v":2007},null,"EAF",null,null,"x",{"$f":"Control!$D$27","v":0},"=",{"$f":"L111*CO2_C","v":0},"=",{"$f":"IF(ISERROR(F111*H111),0,F111*H111)","v":0}]
[null,{"$f":"B111","v":2007},null,"OHF",null,null,"x",{"$f":"Control!$D$28","v":0},"=",{"$f":"L112*CO2_C","v":0},"=",{"$f":"IF(ISERROR(F112*H112),0,F112*H112)","v":0}]
[null,null,null,"Total",null,null,null,null,"=",{"$f":"L113*CO2_C","v":0},null,{"$f":"SUM(L109:L112)","v":0}]
[]
[null,{"$f":"B109+1","v":2008},null,"BOF with coke ovens",null,null,"x",{"$f":"Control!$D$25","v":0},"=",{"$f":"L115*CO2_C","v":0},"=",{"$f":"IF(ISERROR(F115*H115),0,F115*H115)","v":0}]
[null,{"$f":"B115","v":2008},null,"BOF without coke ovens",null,null,"x",{"$f":"Control!$D$26","v":0},"=",{"$f":"L116*CO2_C","v":0},"=",{"$f":"IF(ISERROR(F116*H116),0,F116*H116)","v":0}]
[null,{"$f":"B116","v":2008},null,"EAF",null,null,"x",{"$f":"Control!$D$27","v":0},"=",{"$f":"L117*CO2_C","v":0},"=",{"$f":"IF(ISERROR(F117*H117),0,F117*H117)","v":0}]
[null,{"$f":"B117","v":2008},null,"OHF",null,null,"x",{"$f":"Control!$D$28","v":0},"=",{"$f":"L118*CO2_C","v":0},"=",{"$f":"IF(ISERROR(F118*H118),0,F118*H118)","v":0}]
[null,null,null,"Total",null,null,null,null,"=",{"$f":"L119*CO2_C","v":0},null,{"$f":"SUM(L115:L118)","v":0}]
[]
[null,{"$f":"B115+1","v":2009},null,"BOF with coke ovens",null,null,"x",{"$f":"Control!$D$25","v":0},"=",{"$f":"L121*CO2_C","v":0},"=",{"$f":"IF(ISERROR(F121*H121),0,F121*H121)","v":0}]
[null,{"$f":"B121","v":2009},null,"BOF without coke ovens",null,null,"x",{"$f":"Control!$D$26","v":0},"=",{"$f":"L122*CO2_C","v":0},"=",{"$f":"IF(ISERROR(F122*H122),0,F122*H122)","v":0}]
[null,{"$f":"B122","v":2009},null,"EAF",null,null,"x",{"$f":"Control!$D$27","v":0},"=",{"$f":"L123*CO2_C","v":0},"=",{"$f":"IF(ISERROR(F123*H123),0,F123*H123)","v":0}]
[null,{"$f":"B123","v":2009},null,"OHF",null,null,"x",{"$f":"Control!$D$28","v":0},"=",{"$f":"L124*CO2_C","v":0},"=",{"$f":"IF(ISERROR(F124*H124),0,F124*H124)","v":0}]
[null,null,null,"Total",null,null,null,null,"=",{"$f":"L125*CO2_C","v":0},null,{"$f":"SUM(L121:L124)","v":0}]
[]
[null,{"$f":"B121+1","v":2010},null,"BOF with coke ovens",null,null,"x",{"$f":"Control!$D$25","v":0},"=",{"$f":"L127*CO2_C","v":0},"=",{"$f":"IF(ISERROR(F127*H127),0,F127*H127)","v":0}]
[null,{"$f":"B127","v":2010},null,"BOF without coke ovens",null,null,"x",{"$f":"Control!$D$26","v":0},"=",{"$f":"L128*CO2_C","v":0},"=",{"$f":"IF(ISERROR(F128*H128),0,F128*H128)","v":0}]
[null,{"$f":"B128","v":2010},null,"EAF",null,null,"x",{"$f":"Control!$D$27","v":0},"=",{"$f":"L129*CO2_C","v":0},"=",{"$f":"IF(ISERROR(F129*H129),0,F129*H129)","v":0}]
[null,{"$f":"B129","v":2010},null,"OHF",null,null,"x",{"$f":"Control!$D$28","v":0},"=",{"$f":"L130*CO2_C","v":0},"=",{"$f":"IF(ISERROR(F130*H130),0,F130*H130)","v":0}]
[null,null,null,"Total",null,null,null,null,"=",{"$f":"L131*CO2_C","v":0},null,{"$f":"SUM(L127:L130)","v":0}]
[]
[null,{"$f":"B127+1","v":2011},null,"BOF with coke ovens",null,null,"x",{"$f":"Control!$D$25","v":0},"=",{"$f":"L133*CO2_C","v":0},"=",{"$f":"IF(ISERROR(F133*H133),0,F133*H133)","v":0}]
[null,{"$f":"B133","v":2011},null,"BOF without coke ovens",null,null,"x",{"$f":"Control!$D$26","v":0},"=",{"$f":"L134*CO2_C","v":0},"=",{"$f":"IF(ISERROR(F134*H134),0,F134*H134)","v":0}]
[null,{"$f":"B134","v":2011},null,"EAF",null,null,"x",{"$f":"Control!$D$27","v":0},"=",{"$f":"L135*CO2_C","v":0},"=",{"$f":"IF(ISERROR(F135*H135),0,F135*H135)","v":0}]
[null,{"$f":"B135","v":2011},null,"OHF",null,null,"x",{"$f":"Control!$D$28","v":0},"=",{"$f":"L136*CO2_C","v":0},"=",{"$f":"IF(ISERROR(F136*H136),0,F136*H136)","v":0}]
[null,null,null,"Total",null,null,null,null,"=",{"$f":"L137*CO2_C","v":0},null,{"$f":"SUM(L133:L136)","v":0}]
[]
[null,{"$f":"B133+1","v":2012},null,"BOF with coke ovens",null,null,"x",{"$f":"Control!$D$25","v":0},"=",{"$f":"L139*CO2_C","v":0},"=",{"$f":"IF(ISERROR(F139*H139),0,F139*H139)","v":0}]
[null,{"$f":"B139","v":2012},null,"BOF without coke ovens",null,null,"x",{"$f":"Control!$D$26","v":0},"=",{"$f":"L140*CO2_C","v":0},"=",{"$f":"IF(ISERROR(F140*H140),0,F140*H140)","v":0}]
[null,{"$f":"B140","v":2012},null,"EAF",null,null,"x",{"$f":"Control!$D$27","v":0},"=",{"$f":"L141*CO2_C","v":0},"=",{"$f":"IF(ISERROR(F141*H141),0,F141*H141)","v":0}]
[null,{"$f":"B141","v":2012},null,"OHF",null,null,"x",{"$f":"Control!$D$28","v":0},"=",{"$f":"L142*CO2_C","v":0},"=",{"$f":"IF(ISERROR(F142*H142),0,F142*H142)","v":0}]
[null,null,null,"Total",null,null,null,null,"=",{"$f":"L143*CO2_C","v":0},null,{"$f":"SUM(L139:L142)","v":0}]
[]
[null,{"$f":"B139+1","v":2013},null,"BOF with coke ovens",null,null,"x",{"$f":"Control!$D$25","v":0},"=",{"$f":"L145*CO2_C","v":0},"=",{"$f":"IF(ISERROR(F145*H145),0,F145*H145)","v":0}]
[null,{"$f":"B145","v":2013},null,"BOF without coke ovens",null,null,"x",{"$f":"Control!$D$26","v":0},"=",{"$f":"L146*CO2_C","v":0},"=",{"$f":"IF(ISERROR(F146*H146),0,F146*H146)","v":0}]
[null,{"$f":"B146","v":2013},null,"EAF",null,null,"x",{"$f":"Control!$D$27","v":0},"=",{"$f":"L147*CO2_C","v":0},"=",{"$f":"IF(ISERROR(F147*H147),0,F147*H147)","v":0}]
[null,{"$f":"B147","v":2013},null,"OHF",null,null,"x",{"$f":"Control!$D$28","v":0},"=",{"$f":"L148*CO2_C","v":0},"=",{"$f":"IF(ISERROR(F148*H148),0,F148*H148)","v":0}]
[null,null,null,"Total",null,null,null,null,"=",{"$f":"L149*CO2_C","v":0},null,{"$f":"SUM(L145:L148)","v":0}]
[]
[null,{"$f":"B145+1","v":2014},null,"BOF with coke ovens",null,null,"x",{"$f":"Control!$D$25","v":0},"=",{"$f":"L151*CO2_C","v":0},"=",{"$f":"IF(ISERROR(F151*H151),0,F151*H151)","v":0}]
[null,{"$f":"B151","v":2014},null,"BOF without coke ovens",null,null,"x",{"$f":"Control!$D$26","v":0},"=",{"$f":"L152*CO2_C","v":0},"=",{"$f":"IF(ISERROR(F152*H152),0,F152*H152)","v":0}]
[null,{"$f":"B152","v":2014},null,"EAF",null,null,"x",{"$f":"Control!$D$27","v":0},"=",{"$f":"L153*CO2_C","v":0},"=",{"$f":"IF(ISERROR(F153*H153),0,F153*H153)","v":0}]
[null,{"$f":"B153","v":2014},null,"OHF",null,null,"x",{"$f":"Control!$D$28","v":0},"=",{"$f":"L154*CO2_C","v":0},"=",{"$f":"IF(ISERROR(F154*H154),0,F154*H154)","v":0}]
[null,null,null,"Total",null,null,null,null,"=",{"$f":"L155*CO2_C","v":0},null,{"$f":"SUM(L151:L154)","v":0}]
[]
[null,{"$f":"B151+1","v":2015},null,"BOF with coke ovens",null,null,"x",{"$f":"Control!$D$25","v":0},"=",{"$f":"L157*CO2_C","v":0},"=",{"$f":"IF(ISERROR(F157*H157),0,F157*H157)","v":0}]
[null,{"$f":"B157","v":2015},null,"BOF without coke ovens",null,null,"x",{"$f":"Control!$D$26","v":0},"=",{"$f":"L158*CO2_C","v":0},"=",{"$f":"IF(ISERROR(F158*H158),0,F158*H158)","v":0}]
[null,{"$f":"B158","v":2015},null,"EAF",null,null,"x",{"$f":"Control!$D$27","v":0},"=",{"$f":"L159*CO2_C","v":0},"=",{"$f":"IF(ISERROR(F159*H159),0,F159*H159)","v":0}]
[null,{"$f":"B159","v":2015},null,"OHF",null,null,"x",{"$f":"Control!$D$28","v":0},"=",{"$f":"L160*CO2_C","v":0},"=",{"$f":"IF(ISERROR(F160*H160),0,F160*H160)","v":0}]
[null,null,null,"Total",null,null,null,null,"=",{"$f":"L161*CO2_C","v":0},null,{"$f":"SUM(L157:L160)","v":0}]
[]
[null,{"$f":"B157+1","v":2016},null,"BOF with coke ovens",null,null,"x",{"$f":"Control!$D$25","v":0},"=",{"$f":"L163*CO2_C","v":0},"=",{"$f":"IF(ISERROR(F163*H163),0,F163*H163)","v":0}]
[null,{"$f":"B163","v":2016},null,"BOF without coke ovens",null,null,"x",{"$f":"Control!$D$26","v":0},"=",{"$f":"L164*CO2_C","v":0},"=",{"$f":"IF(ISERROR(F164*H164),0,F164*H164)","v":0}]
[null,{"$f":"B164","v":2016},null,"EAF",null,null,"x",{"$f":"Control!$D$27","v":0},"=",{"$f":"L165*CO2_C","v":0},"=",{"$f":"IF(ISERROR(F165*H165),0,F165*H165)","v":0}]
[null,{"$f":"B165","v":2016},null,"OHF",null,null,"x",{"$f":"Control!$D$28","v":0},"=",{"$f":"L166*CO2_C","v":0},"=",{"$f":"IF(ISERROR(F166*H166),0,F166*H166)","v":0}]
[null,null,null,"Total",null,null,null,null,"=",{"$f":"L167*CO2_C","v":0},null,{"$f":"SUM(L163:L166)","v":0}]
[]
[null,{"$f":"B163+1","v":2017},null,"BOF with coke ovens",null,null,"x",{"$f":"Control!$D$25","v":0},"=",{"$f":"L169*CO2_C","v":0},"=",{"$f":"IF(ISERROR(F169*H169),0,F169*H169)","v":0}]
[null,{"$f":"B169","v":2017},null,"BOF without coke ovens",null,null,"x",{"$f":"Control!$D$26","v":0},"=",{"$f":"L170*CO2_C","v":0},"=",{"$f":"IF(ISERROR(F170*H170),0,F170*H170)","v":0}]
[null,{"$f":"B170","v":2017},null,"EAF",null,null,"x",{"$f":"Control!$D$27","v":0},"=",{"$f":"L171*CO2_C","v":0},"=",{"$f":"IF(ISERROR(F171*H171),0,F171*H171)","v":0}]
[null,{"$f":"B171","v":2017},null,"OHF",null,null,"x",{"$f":"Control!$D$28","v":0},"=",{"$f":"L172*CO2_C","v":0},"=",{"$f":"IF(ISERROR(F172*H172),0,F172*H172)","v":0}]
[null,null,null,"Total",null,null,null,null,"=",{"$f":"L173*CO2_C","v":0},null,{"$f":"SUM(L169:L172)","v":0}]
[]
[null,{"$f":"B169+1","v":2018},null,"BOF with coke ovens",null,null,"x",{"$f":"Control!$D$25","v":0},"=",{"$f":"L175*CO2_C","v":0},"=",{"$f":"IF(ISERROR(F175*H175),0,F175*H175)","v":0}]
[null,{"$f":"B175","v":2018},null,"BOF without coke ovens",null,null,"x",{"$f":"Control!$D$26","v":0},"=",{"$f":"L176*CO2_C","v":0},"=",{"$f":"IF(ISERROR(F176*H176),0,F176*H176)","v":0}]
[null,{"$f":"B176","v":2018},null,"EAF",null,null,"x",{"$f":"Control!$D$27","v":0},"=",{"$f":"L177*CO2_C","v":0},"=",{"$f":"IF(ISERROR(F177*H177),0,F177*H177)","v":0}]
[null,{"$f":"B177","v":2018},null,"OHF",null,null,"x",{"$f":"Control!$D$28","v":0},"=",{"$f":"L178*CO2_C","v":0},"=",{"$f":"IF(ISERROR(F178*H178),0,F178*H178)","v":0}]
[null,null,null,"Total",null,null,null,null,"=",{"$f":"L179*CO2_C","v":0},null,{"$f":"SUM(L175:L178)","v":0}]
[]
[null,{"$f":"B175+1","v":2019},null,"BOF with coke ovens",null,null,"x",{"$f":"Control!$D$25","v":0},"=",{"$f":"L181*CO2_C","v":0},"=",{"$f":"IF(ISERROR(F181*H181),0,F181*H181)","v":0}]
[null,{"$f":"B181","v":2019},null,"BOF without coke ovens",null,null,"x",{"$f":"Control!$D$26","v":0},"=",{"$f":"L182*CO2_C","v":0},"=",{"$f":"IF(ISERROR(F182*H182),0,F182*H182)","v":0}]
[null,{"$f":"B182","v":2019},null,"EAF",null,null,"x",{"$f":"Control!$D$27","v":0},"=",{"$f":"L183*CO2_C","v":0},"=",{"$f":"IF(ISERROR(F183*H183),0,F183*H183)","v":0}]
[null,{"$f":"B183","v":2019},null,"OHF",null,null,"x",{"$f":"Control!$D$28","v":0},"=",{"$f":"L184*CO2_C","v":0},"=",{"$f":"IF(ISERROR(F184*H184),0,F184*H184)","v":0}]
[null,null,null,"Total",null,null,null,null,"=",{"$f":"L185*CO2_C","v":0},null,{"$f":"SUM(L181:L184)","v":0}]
[]
[null,{"$f":"B181+1","v":2020},null,"BOF with coke ovens",null,null,"x",{"$f":"Control!$D$25","v":0},"=",{"$f":"L187*CO2_C","v":0},"=",{"$f":"IF(ISERROR(F187*H187),0,F187*H187)","v":0}]
[null,{"$f":"B187","v":2020},null,"BOF without coke ovens",null,null,"x",{"$f":"Control!$D$26","v":0},"=",{"$f":"L188*CO2_C","v":0},"=",{"$f":"IF(ISERROR(F188*H188),0,F188*H188)","v":0}]
[null,{"$f":"B188","v":2020},null,"EAF",null,null,"x",{"$f":"Control!$D$27","v":0},"=",{"$f":"L189*CO2_C","v":0},"=",{"$f":"IF(ISERROR(F189*H189),0,F189*H189)","v":0}]
[null,{"$f":"B189","v":2020},null,"OHF",null,null,"x",{"$f":"Control!$D$28","v":0},"=",{"$f":"L190*CO2_C","v":0},"=",{"$f":"IF(ISERROR(F190*H190),0,F190*H190)","v":0}]
[null,null,null,"Total",null,null,null,null,"=",{"$f":"L191*CO2_C","v":0},null,{"$f":"SUM(L187:L190)","v":0}]
[]
[null,{"$f":"B187+1","v":2021},null,"BOF with coke ovens",null,null,"x",{"$f":"Control!$D$25","v":0},"=",{"$f":"L193*CO2_C","v":0},"=",{"$f":"IF(ISERROR(F193*H193),0,F193*H193)","v":0}]
[null,{"$f":"B193","v":2021},null,"BOF without coke ovens",null,null,"x",{"$f":"Control!$D$26","v":0},"=",{"$f":"L194*CO2_C","v":0},"=",{"$f":"IF(ISERROR(F194*H194),0,F194*H194)","v":0}]
[null,{"$f":"B194","v":2021},null,"EAF",null,null,"x",{"$f":"Control!$D$27","v":0},"=",{"$f":"L195*CO2_C","v":0},"=",{"$f":"IF(ISERROR(F195*H195),0,F195*H195)","v":0}]
[null,{"$f":"B195","v":2021},null,"OHF",null,null,"x",{"$f":"Control!$D$28","v":0},"=",{"$f":"L196*CO2_C","v":0},"=",{"$f":"IF(ISERROR(F196*H196),0,F196*H196)","v":0}]
[null,null,null,"Total",null,null,null,null,"=",{"$f":"L197*CO2_C","v":0},null,{"$f":"SUM(L193:L196)","v":0}]
[]
[null,{"$f":"B193+1","v":2022},null,"BOF with coke ovens",null,null,"x",{"$f":"Control!$D$25","v":0},"=",{"$f":"L199*CO2_C","v":0},"=",{"$f":"IF(ISERROR(F199*H199),0,F199*H199)","v":0}]
[null,{"$f":"B199","v":2022},null,"BOF without coke ovens",null,null,"x",{"$f":"Control!$D$26","v":0},"=",{"$f":"L200*CO2_C","v":0},"=",{"$f":"IF(ISERROR(F200*H200),0,F200*H200)","v":0}]
[null,{"$f":"B200","v":2022},null,"EAF",null,null,"x",{"$f":"Control!$D$27","v":0},"=",{"$f":"L201*CO2_C","v":0},"=",{"$f":"IF(ISERROR(F201*H201),0,F201*H201)","v":0}]
[null,{"$f":"B201","v":2022},null,"OHF",null,null,"x",{"$f":"Control!$D$28","v":0},"=",{"$f":"L202*CO2_C","v":0},"=",{"$f":"IF(ISERROR(F202*H202),0,F202*H202)","v":0}]
[null,null,null,"Total",null,null,null,null,"=",{"$f":"L203*CO2_C","v":0},null,{"$f":"SUM(L199:L202)","v":0}]
[]
[null,{"$f":"B199+1","v":2023},null,"BOF with coke ovens",null,null,"x",{"$f":"Control!$D$25","v":0},"=",{"$f":"L205*CO2_C","v":0},"=",{"$f":"IF(ISERROR(F205*H205),0,F205*H205)","v":0}]
[null,{"$f":"B205","v":2023},null,"BOF without coke ovens",null,null,"x",{"$f":"Control!$D$26","v":0},"=",{"$f":"L206*CO2_C","v":0},"=",{"$f":"IF(ISERROR(F206*H206),0,F206*H206)","v":0}]
[null,{"$f":"B206","v":2023},null,"EAF",null,null,"x",{"$f":"Control!$D$27","v":0},"=",{"$f":"L207*CO2_C","v":0},"=",{"$f":"IF(ISERROR(F207*H207),0,F207*H207)","v":0}]
[null,{"$f":"B207","v":2023},null,"OHF",null,null,"x",{"$f":"Control!$D$28","v":0},"=",{"$f":"L208*CO2_C","v":0},"=",{"$f":"IF(ISERROR(F208*H208),0,F208*H208)","v":0}]
[null,null,null,"Total",null,null,null,null,"=",{"$f":"L209*CO2_C","v":0},null,{"$f":"SUM(L205:L208)","v":0}]
[]
[null,{"$f":"B205+1","v":2024},null,"BOF with coke ovens",null,null,"x",{"$f":"Control!$D$25","v":0},"=",{"$f":"L211*CO2_C","v":0},"=",{"$f":"IF(ISERROR(F211*H211),0,F211*H211)","v":0}]
[null,{"$f":"B211","v":2024},null,"BOF without coke ovens",null,null,"x",{"$f":"Control!$D$26","v":0},"=",{"$f":"L212*CO2_C","v":0},"=",{"$f":"IF(ISERROR(F212*H212),0,F212*H212)","v":0}]
[null,{"$f":"B212","v":2024},null,"EAF",null,null,"x",{"$f":"Control!$D$27","v":0},"=",{"$f":"L213*CO2_C","v":0},"=",{"$f":"IF(ISERROR(F213*H213),0,F213*H213)","v":0}]
[null,{"$f":"B213","v":2024},null,"OHF",null,null,"x",{"$f":"Control!$D$28","v":0},"=",{"$f":"L214*CO2_C","v":0},"=",{"$f":"IF(ISERROR(F214*H214),0,F214*H214)","v":0}]
[null,null,null,"Total",null,null,null,null,"=",{"$f":"L215*CO2_C","v":0},null,{"$f":"SUM(L211:L214)","v":0}]
[]
[null,{"$f":"B211+1","v":2025},null,"BOF with coke ovens",null,null,"x",{"$f":"Control!$D$25","v":0},"=",{"$f":"L217*CO2_C","v":0},"=",{"$f":"IF(ISERROR(F217*H217),0,F217*H217)","v":0}]
[null,{"$f":"B217","v":2025},null,"BOF without coke ovens",null,null,"x",{"$f":"Control!$D$26","v":0},"=",{"$f":"L218*CO2_C","v":0},"=",{"$f":"IF(ISERROR(F218*H218),0,F218*H218)","v":0}]
[null,{"$f":"B218","v":2025},null,"EAF",null,null,"x",{"$f":"Control!$D$27","v":0},"=",{"$f":"L219*CO2_C","v":0},"=",{"$f":"IF(ISERROR(F219*H219),0,F219*H219)","v":0}]
[null,{"$f":"B219","v":2025},null,"OHF",null,null,"x",{"$f":"Control!$D$28","v":0},"=",{"$f":"L220*CO2_C","v":0},"=",{"$f":"IF(ISERROR(F220*H220),0,F220*H220)","v":0}]
[null,null,null,"Total",null,null,null,null,"=",{"$f":"L221*CO2_C","v":0},null,{"$f":"SUM(L217:L220)","v":0}]

{"sheet":"Ammonia & Urea","index":8,"n_rows":113,"n_cols":20,"rows_kept":113,"cut":false,"hidden":false,"merged":[[0,16,0,22],[0,23,0,29]]}
[null,{"$f":"\"7. Ammonia Production and Urea Consumption in \"&'List Data'!B3","v":"7. Ammonia Production and Urea Consumption in Select a State . . ."}]
[null,null,{"$f":"VLOOKUP(E2,'List Data'!A5:B56,2,FALSE)","v":{"$error":"#N/A"}},null,{"$f":"StateID","v":"XX"},"Ammonia"," "]
[]
[null,null,null,null,"Production & Consumption",null,"Emission Factor",null,"Subtract emissions",null,"Emissions",null,"Emissions "]
[null,null,null,null,"(Metric Tons)",null,"(mt CO2/mt activity)",null," from Urea",null,"(MTCE)",null,"(MTCO2E)"]
[]
[null,1990,"Ammonia Production ",null,null,"x",{"$f":"Control!$B$30","v":1.2},"- (",{"$f":"E8*G8","v":0},") =",{"$f":"M7*CO2_C","v":0},"=",{"$f":"IF(E7>0,E7*G7-(I7),0)","v":0}]
[null,2,"Urea Consumption",null,null,"x",{"$f":"Control!$B$31","v":0.73},null,null,"   =",{"$f":"M8*CO2_C","v":0},"=",{"$f":"E8*G8","v":0}]
[]
[null,1991,"Ammonia Production ",null,null,"x",{"$f":"Control!$B$30","v":1.2},"- (",{"$f":"E11*G11","v":0},") =",{"$f":"M10*CO2_C","v":0},"=",{"$f":"IF(E10>0,E10*G10-(I10),0)","v":0}]
[null,3,"Urea Consumption",null,null,null,{"$f":"Control!$B$31","v":0.73},null,null,"   =",{"$f":"M11*CO2_C","v":0},"=",{"$f":"E11*G11","v":0}]
[]
[null,1992,"Ammonia Production ",null,null,"x",{"$f":"Control!$B$30","v":1.2},"- (",{"$f":"E14*G14","v":0},") =",{"$f":"M13*CO2_C","v":0},"=",{"$f":"IF(E13>0,E13*G13-(I13),0)","v":0}]
[null,4,"Urea Consumption",null,null,null,{"$f":"Control!$B$31","v":0.73},null,null,"   =",{"$f":"M14*CO2_C","v":0},"=",{"$f":"E14*G14","v":0}]
[]
[null,1993,"Ammonia Production ",null,null,"x",{"$f":"Control!$B$30","v":1.2},"- (",{"$f":"E17*G17","v":0},") =",{"$f":"M16*CO2_C","v":0},"=",{"$f":"IF(E16>0,E16*G16-(I16),0)","v":0}]
[null,5,"Urea Consumption",null,null,null,{"$f":"Control!$B$31","v":0.73},null,null,"   =",{"$f":"M17*CO2_C","v":0},"=",{"$f":"E17*G17","v":0}]
[]
[null,1994,"Ammonia Production ",null,null,"x",{"$f":"Control!$B$30","v":1.2},"- (",{"$f":"E20*G20","v":0},") =",{"$f":"M19*CO2_C","v":0},"=",{"$f":"IF(E19>0,E19*G19-(I19),0)","v":0}]
[null,6,"Urea Consumption",null,null,null,{"$f":"Control!$B$31","v":0.73},null,null,"   =",{"$f":"M20*CO2_C","v":0},"=",{"$f":"E20*G20","v":0}]
[]
[null,1995,"Ammonia Production ",null,null,"x",{"$f":"Control!$B$30","v":1.2},"- (",{"$f":"E23*G23","v":0},") =",{"$f":"M22*CO2_C","v":0},"=",{"$f":"IF(E22>0,E22*G22-(I22),0)","v":0}]
[null,7,"Urea Consumption",null,null,null,{"$f":"Control!$B$31","v":0.73},null,null,"   =",{"$f":"M23*CO2_C","v":0},"=",{"$f":"E23*G23","v":0}]
[]
[null,1996,"Ammonia Production ",null,null,"x",{"$f":"Control!$B$30","v":1.2},"- (",{"$f":"E26*G26","v":0},") =",{"$f":"M25*CO2_C","v":0},"=",{"$f":"IF(E25>0,E25*G25-(I25),0)","v":0}]
[null,8,"Urea Consumption",null,null,null,{"$f":"Control!$B$31","v":0.73},null,null,"   =",{"$f":"M26*CO2_C","v":0},"=",{"$f":"E26*G26","v":0}]
[]
[null,1997,"Ammonia Production ",null,null,"x",{"$f":"Control!$B$30","v":1.2},"- (",{"$f":"E29*G29","v":0},") =",{"$f":"M28*CO2_C","v":0},"=",{"$f":"IF(E28>0,E28*G28-(I28),0)","v":0}]
[null,9,"Urea Consumption",null,null,null,{"$f":"Control!$B$31","v":0.73},null,null,"   =",{"$f":"M29*CO2_C","v":0},"=",{"$f":"E29*G29","v":0}]
[]
[null,1998,"Ammonia Production ",null,null,"x",{"$f":"Control!$B$30","v":1.2},"- (",{"$f":"E32*G32","v":0},") =",{"$f":"M31*CO2_C","v":0},"=",{"$f":"IF(E31>0,E31*G31-(I31),0)","v":0},null,null,null,null,null,null," "]
[null,10,"Urea Consumption",null,null,null,{"$f":"Control!$B$31","v":0.73},null,null,"   =",{"$f":"M32*CO2_C","v":0},"=",{"$f":"E32*G32","v":0}]
[]
[null,1999,"Ammonia Production ",null,null,"x",{"$f":"Control!$B$30","v":1.2},"- (",{"$f":"E35*G35","v":0},") =",{"$f":"M34*CO2_C","v":0},"=",{"$f":"IF(E34>0,E34*G34-(I34),0)","v":0}]
[null,11,"Urea Consumption",null,null,null,{"$f":"Control!$B$31","v":0.73},null,null,"   =",{"$f":"M35*CO2_C","v":0},"=",{"$f":"E35*G35","v":0}]
[]
[null,2000,"Ammonia Production ",null,null,"x",{"$f":"Control!$B$30","v":1.2},"- (",{"$f":"E38*G38","v":0},") =",{"$f":"M37*CO2_C","v":0},"=",{"$f":"IF(E37>0,E37*G37-(I37),0)","v":0}]
[null,12,"Urea Consumption",null,null,null,{"$f":"Control!$B$31","v":0.73},null,null,"   =",{"$f":"M38*CO2_C","v":0},"=",{"$f":"E38*G38","v":0}]
[]
[null,2001,"Ammonia Production ",null,null,"x",{"$f":"Control!$B$30","v":1.2},"- (",{"$f":"E41*G41","v":0},") =",{"$f":"M40*CO2_C","v":0},"=",{"$f":"IF(E40>0,E40*G40-(I40),0)","v":0}]
[null,13,"Urea Consumption",null,null,null,{"$f":"Control!$B$31","v":0.73},null,null,"   =",{"$f":"M41*CO2_C","v":0},"=",{"$f":"E41*G41","v":0}]
[]
[null,2002,"Ammonia Production ",null,null,"x",{"$f":"Control!$B$30","v":1.2},"- (",{"$f":"E44*G44","v":0},") =",{"$f":"M43*CO2_C","v":0},"=",{"$f":"IF(E43>0,E43*G43-(I43),0)","v":0}]
[null,14,"Urea Consumption",null,null,null,{"$f":"Control!$B$31","v":0.73},null,null,"   =",{"$f":"M44*CO2_C","v":0},"=",{"$f":"E44*G44","v":0}]
[]
[null,2003,"Ammonia Production ",null,null,"x",{"$f":"Control!$B$30","v":1.2},"- (",{"$f":"E47*G47","v":0},") =",{"$f":"M46*CO2_C","v":0},"=",{"$f":"IF(E46>0,E46*G46-(I46),0)","v":0}]
[null,15,"Urea Consumption",null,null,null,{"$f":"Control!$B$31","v":0.73},null,null,"   =",{"$f":"M47*CO2_C","v":0},"=",{"$f":"E47*G47","v":0}]
[]
[null,2004,"Ammonia Production ",null,null,"x",{"$f":"Control!$B$30","v":1.2},"- (",{"$f":"E50*G50","v":0},") =",{"$f":"M49*CO2_C","v":0},"=",{"$f":"IF(E49>0,E49*G49-(I49),0)","v":0}]
[null,16,"Urea Consumption",null,null,null,{"$f":"Control!$B$31","v":0.73},null,null,"   =",{"$f":"M50*CO2_C","v":0},"=",{"$f":"E50*G50","v":0}]
[]
[null,2005,"Ammonia Production ",null,null,"x",{"$f":"Control!$B$30","v":1.2},"- (",{"$f":"E53*G53","v":0},") =",{"$f":"M52*CO2_C","v":0},"=",{"$f":"IF(E52>0,E52*G52-(I52),0)","v":0}]
[null,17,"Urea Consumption",null,null,null,{"$f":"Control!$B$31","v":0.73},null,null,"   =",{"$f":"M53*CO2_C","v":0},"=",{"$f":"E53*G53","v":0}]
[]
[null,2006,"Ammonia Production ",null,null,"x",{"$f":"Control!$B$30","v":1.2},"- (",{"$f":"E56*G56","v":0},") =",{"$f":"M55*CO2_C","v":0},"=",{"$f":"IF(E55>0,E55*G55-(I55),0)","v":0}]
[null,18,"Urea Consumption",null,null,null,{"$f":"Control!$B$31","v":0.73},null,null,"   =",{"$f":"M56*CO2_C","v":0},"=",{"$f":"E56*G56","v":0}]
[]
[null,2007,"Ammonia Production ",null,null,"x",{"$f":"Control!$B$30","v":1.2},"- (",{"$f":"E59*G59","v":0},") =",{"$f":"M58*CO2_C","v":0},"=",{"$f":"IF(E58>0,E58*G58-(I58),0)","v":0}]
[null,19,"Urea Consumption",null,null,null,{"$f":"Control!$B$31","v":0.73},null,null,"   =",{"$f":"M59*CO2_C","v":0},"=",{"$f":"E59*G59","v":0}]
[]
[null,2008,"Ammonia Production ",null,null,"x",{"$f":"Control!$B$30","v":1.2},"- (",{"$f":"E62*G62","v":0},") =",{"$f":"M61*CO2_C","v":0},"=",{"$f":"IF(E61>0,E61*G61-(I61),0)","v":0}]
[null,20,"Urea Consumption",null,null,null,{"$f":"Control!$B$31","v":0.73},null,null,"   =",{"$f":"M62*CO2_C","v":0},"=",{"$f":"E62*G62","v":0}]
[]
[null,2009,"Ammonia Production ",null,null,"x",{"$f":"Control!$B$30","v":1.2},"- (",{"$f":"E65*G65","v":0},") =",{"$f":"M64*CO2_C","v":0},"=",{"$f":"IF(E64>0,E64*G64-(I64),0)","v":0}]
[null,21,"Urea Consumption",null,null,null,{"$f":"Control!$B$31","v":0.73},null,null,"   =",{"$f":"M65*CO2_C","v":0},"=",{"$f":"E65*G65","v":0}]
[]
[null,2010,"Ammonia Production ",null,null,"x",{"$f":"Control!$B$30","v":1.2},"- (",{"$f":"E68*G68","v":0},") =",{"$f":"M67*CO2_C","v":0},"=",{"$f":"IF(E67>0,E67*G67-(I67),0)","v":0}]
[null,22,"Urea Consumption",null,null,null,{"$f":"Control!$B$31","v":0.73},null,null,"   =",{"$f":"M68*CO2_C","v":0},"=",{"$f":"E68*G68","v":0}]
[]
[null,2011,"Ammonia Production ",null,null,"x",{"$f":"Control!$B$30","v":1.2},"- (",{"$f":"E71*G71","v":0},") =",{"$f":"M70*CO2_C","v":0},"=",{"$f":"IF(E70>0,E70*G70-(I70),0)","v":0}]
[null,23,"Urea Consumption",null,null,null,{"$f":"Control!$B$31","v":0.73},null,null,"   =",{"$f":"M71*CO2_C","v":0},"=",{"$f":"E71*G71","v":0}]
[]
[null,2012,"Ammonia Production ",null,null,"x",{"$f":"Control!$B$30","v":1.2},"- (",{"$f":"E74*G74","v":0},") =",{"$f":"M73*CO2_C","v":0},"=",{"$f":"IF(E73>0,E73*G73-(I73),0)","v":0}]
[null,24,"Urea Consumption",null,null,null,{"$f":"Control!$B$31","v":0.73},null,null,"   =",{"$f":"M74*CO2_C","v":0},"=",{"$f":"E74*G74","v":0}]
[]
[null,2013,"Ammonia Production ",null,null,"x",{"$f":"Control!$B$30","v":1.2},"- (",{"$f":"E77*G77","v":0},") =",{"$f":"M76*CO2_C","v":0},"=",{"$f":"IF(E76>0,E76*G76-(I76),0)","v":0}]
[null,25,"Urea Consumption",null,null,null,{"$f":"Control!$B$31","v":0.73},null,null,"   =",{"$f":"M77*CO2_C","v":0},"=",{"$f":"E77*G77","v":0}]
[]
[null,2014,"Ammonia Production ",null,null,"x",{"$f":"Control!$B$30","v":1.2},"- (",{"$f":"E80*G80","v":0},") =",{"$f":"M79*CO2_C","v":0},"=",{"$f":"IF(E79>0,E79*G79-(I79),0)","v":0}]
[null,26,"Urea Consumption",null,null,null,{"$f":"Control!$B$31","v":0.73},null,null,"   =",{"$f":"M80*CO2_C","v":0},"=",{"$f":"E80*G80","v":0}]
[]
[null,2015,"Ammonia Production ",null,null,"x",{"$f":"Control!$B$30","v":1.2},"- (",{"$f":"E83*G83","v":0},") =",{"$f":"M82*CO2_C","v":0},"=",{"$f":"IF(E82>0,E82*G82-(I82),0)","v":0}]
[null,27,"Urea Consumption",null,null,null,{"$f":"Control!$B$31","v":0.73},null,null,"   =",{"$f":"M83*CO2_C","v":0},"=",{"$f":"E83*G83","v":0}]
[]
[null,2016,"Ammonia Production ",null,null,"x",{"$f":"Control!$B$30","v":1.2},"- (",{"$f":"E86*G86","v":0},") =",{"$f":"M85*CO2_C","v":0},"=",{"$f":"IF(E85>0,E85*G85-(I85),0)","v":0}]
[null,28,"Urea Consumption",null,null,null,{"$f":"Control!$B$31","v":0.73},null,null,"   =",{"$f":"M86*CO2_C","v":0},"=",{"$f":"E86*G86","v":0}]
[]
[null,2017,"Ammonia Production ",null,null,"x",{"$f":"Control!$B$30","v":1.2},"- (",{"$f":"E89*G89","v":0},") =",{"$f":"M88*CO2_C","v":0},"=",{"$f":"IF(E88>0,E88*G88-(I88),0)","v":0}]
[null,29,"Urea Consumption",null,null,null,{"$f":"Control!$B$31","v":0.73},null,null,"   =",{"$f":"M89*CO2_C","v":0},"=",{"$f":"E89*G89","v":0}]
[]
[null,2018,"Ammonia Production ",null,null,"x",{"$f":"Control!$B$30","v":1.2},"- (",{"$f":"E92*G92","v":0},") =",{"$f":"M91*CO2_C","v":0},"=",{"$f":"IF(E91>0,E91*G91-(I91),0)","v":0}]
[null,30,"Urea Consumption",null,null,null,{"$f":"Control!$B$31","v":0.73},null,null,"   =",{"$f":"M92*CO2_C","v":0},"=",{"$f":"E92*G92","v":0}]
[]
[null,2019,"Ammonia Production ",null,null,"x",{"$f":"Control!$B$30","v":1.2},"- (",{"$f":"E95*G95","v":0},") =",{"$f":"M94*CO2_C","v":0},"=",{"$f":"IF(E94>0,E94*G94-(I94),0)","v":0}]
[null,31,"Urea Consumption",null,null,null,{"$f":"Control!$B$31","v":0.73},null,null,"   =",{"$f":"M95*CO2_C","v":0},"=",{"$f":"E95*G95","v":0}]
[]
[null,2020,"Ammonia Production ",null,null,"x",{"$f":"Control!$B$30","v":1.2},"- (",{"$f":"E98*G98","v":0},") =",{"$f":"M97*CO2_C","v":0},"=",{"$f":"IF(E97>0,E97*G97-(I97),0)","v":0}]
[null,32,"Urea Consumption",null,null,null,{"$f":"Control!$B$31","v":0.73},null,null,"   =",{"$f":"M98*CO2_C","v":0},"=",{"$f":"E98*G98","v":0}]
[]
[null,2021,"Ammonia Production ",null,null,"x",{"$f":"Control!$B$30","v":1.2},"- (",{"$f":"E101*G101","v":0},") =",{"$f":"M100*CO2_C","v":0},"=",{"$f":"IF(E100>0,E100*G100-(I100),0)","v":0}]
[null,33,"Urea Consumption",null,null,null,{"$f":"Control!$B$31","v":0.73},null,null,"   =",{"$f":"M101*CO2_C","v":0},"=",{"$f":"E101*G101","v":0}]
[]
[null,2022,"Ammonia Production ",null,null,"x",{"$f":"Control!$B$30","v":1.2},"- (",{"$f":"E104*G104","v":0},") =",{"$f":"M103*CO2_C","v":0},"=",{"$f":"IF(E103>0,E103*G103-(I103),0)","v":0}]
[null,34,"Urea Consumption",null,null,null,{"$f":"Control!$B$31","v":0.73},null,null,"   =",{"$f":"M104*CO2_C","v":0},"=",{"$f":"E104*G104","v":0}]
[]
[null,2023,"Ammonia Production ",null,null,"x",{"$f":"Control!$B$30","v":1.2},"- (",{"$f":"E107*G107","v":0},") =",{"$f":"M106*CO2_C","v":0},"=",{"$f":"IF(E106>0,E106*G106-(I106),0)","v":0}]
[null,35,"Urea Consumption",null,null,null,{"$f":"Control!$B$31","v":0.73},null,null,"   =",{"$f":"M107*CO2_C","v":0},"=",{"$f":"E107*G107","v":0}]
[]
[null,2024,"Ammonia Production ",null,null,"x",{"$f":"Control!$B$30","v":1.2},"- (",{"$f":"E110*G110","v":0},") =",{"$f":"M109*CO2_C","v":0},"=",{"$f":"IF(E109>0,E109*G109-(I109),0)","v":0}]
[null,36,"Urea Consumption",null,null,null,{"$f":"Control!$B$31","v":0.73},null,null,"   =",{"$f":"M110*CO2_C","v":0},"=",{"$f":"E110*G110","v":0}]
[]
[null,2025,"Ammonia Production ",null,null,"x",{"$f":"Control!$B$30","v":1.2},"- (",{"$f":"E113*G113","v":0},") =",{"$f":"M112*CO2_C","v":0},"=",{"$f":"IF(E112>0,E112*G112-(I112),0)","v":0}]
[null,37,"Urea Consumption",null,null,null,{"$f":"Control!$B$31","v":0.73},null,null,"   =",{"$f":"M113*CO2_C","v":0},"=",{"$f":"E113*G113","v":0}]

{"sheet":"Aluminum","index":9,"n_rows":77,"n_cols":28,"rows_kept":77,"cut":false,"hidden":false,"merged":[[0,21,0,28]]}
[null,{"$f":"\"11. \"&'List Data'!B3&\" Aluminum Production\"","v":"11. Select a State . . . Aluminum Production"}]
[null,null,null,{"$f":"'List Data'!$A$3","v":"XX"},"Aluminum",{"$f":"\" \"","v":" "},null,{"$f":"\" \"","v":" "},null,null,null,null,null,null,null,null,null,{"$f":"\" \"","v":" "}]
[null,null,null,null,null,null,null,null,null,null,null,null,null,null,null,null,null,null,null,null,null,null,null,null,{"$f":"50%","v":0.5}]
[null,null,null,null,"Production",null,"PFC Emission Factor",null,"Søderberg Facilities",null,"Søderberg CO2 Emission Factor",null,"Prebake Facilities",null,"Prebake CO2 Emission Factor",null,"PFC Emissions ",null,"Carbon Emissions ",null,"Total Emissions ",null,null,null,{"$f":"50%","v":0.5}]
[null,null,null,null,"(Metric Tons)",null,"(t CE/t production)",null,"%",null,"(t CE/t production)",null,"%",null,"(t CE/t production)",null,"(MTCE)",null,"(MTCE)",null,"(MTCO2E)"]
[null,null,null,null,null,null,null,null,null,null,null,null,null,null,null,null,null,null,null,null,null,null,null,null,{"$f":"50%","v":0.5}]
[null,1990,null,"Perfluorocarbons",null,"x (",{"$f":"IF(ISNUMBER(INDIRECT($F$2&LEFT(D7,2)&\"Factor\")),INDIRECT($F$2&LEFT(D7,2)&\"Factor\"),VLOOKUP(B7,AlFactorBlock,4,FALSE))","v":0.42545454545454547},"+",null,"x",{"$f":"IF(Control!$D$34>0,Control!$D$34,Control!$B$34)","v":0.46363636363636357},"+",{"$f":"1-I7","v":1},"x",{"$f":"IF(Control!$D$33>0,Control!$D$33,Control!$B$33)","v":0.43636363636363634},") =",{"$f":"IF(ISERROR(E7*G7),0,E7*G7)","v":0},"+",{"$f":"IF(ISERROR(E7*((I7*K7)+(M7*O7))),0,E7*((I7*K7)+(M7*O7)))","v":0},"=",{"$f":"(Q7+S7)/CO2_C","v":0},null,null,null,null,{"$f":"50%","v":0.5}]
[null,null,null," "]
[null,{"$f":"B7+1","v":1991},null,"Perfluorocarbons",null,"x (",{"$f":"IF(ISNUMBER(INDIRECT($F$2&LEFT(D9,2)&\"Factor\")),INDIRECT($F$2&LEFT(D9,2)&\"Factor\"),VLOOKUP(B9,AlFactorBlock,4,FALSE))","v":0.42545454545454542},"+",null,"x",{"$f":"IF(Control!$D$34>0,Control!$D$34,Control!$B$34)","v":0.46363636363636357},"+",{"$f":"1-I9","v":1},"x",{"$f":"IF(Control!$D$33>0,Control!$D$33,Control!$B$33)","v":0.43636363636363634},") =",{"$f":"IF(ISERROR(E9*G9),0,E9*G9)","v":0},"+",{"$f":"IF(ISERROR(E9*((I9*K9)+(M9*O9))),0,E9*((I9*K9)+(M9*O9)))","v":0},"=",{"$f":"(Q9+S9)/CO2_C","v":0}]
[null,null,null," ",null,null,null,null,null,null,null,null,null,null,null,null,null,null,null,null,null,null,null,null,null,{"$f":"50%","v":0.5}]
[null,{"$f":"B9+1","v":1992},null,"Perfluorocarbons",null,"x (",{"$f":"IF(ISNUMBER(INDIRECT($F$2&LEFT(D11,2)&\"Factor\")),INDIRECT($F$2&LEFT(D11,2)&\"Factor\"),VLOOKUP(B11,AlFactorBlock,4,FALSE))","v":0.42545454545454542},"+",null,"x",{"$f":"IF(Control!$D$34>0,Control!$D$34,Control!$B$34)","v":0.46363636363636357},"+",{"$f":"1-I11","v":1},"x",{"$f":"IF(Control!$D$33>0,Control!$D$33,Control!$B$33)","v":0.43636363636363634},") =",{"$f":"IF(ISERROR(E11*G11),0,E11*G11)","v":0},"+",{"$f":"IF(ISERROR(E11*((I11*K11)+(M11*O11))),0,E11*((I11*K11)+(M11*O11)))","v":0},"=",{"$f":"(Q11+S11)/CO2_C","v":0}]
[null,null,null," "]
[null,{"$f":"B11+1","v":1993},null,"Perfluorocarbons",null,"x (",{"$f":"IF(ISNUMBER(INDIRECT($F$2&LEFT(D13,2)&\"Factor\")),INDIRECT($F$2&LEFT(D13,2)&\"Factor\"),VLOOKUP(B13,AlFactorBlock,4,FALSE))","v":0.42545454545454542},"+",null,"x",{"$f":"IF(Control!$D$34>0,Control!$D$34,Control!$B$34)","v":0.46363636363636357},"+",{"$f":"1-I13","v":1},"x",{"$f":"IF(Control!$D$33>0,Control!$D$33,Control!$B$33)","v":0.43636363636363634},") =",{"$f":"IF(ISERROR(E13*G13),0,E13*G13)","v":0},"+",{"$f":"IF(ISERROR(E13*((I13*K13)+(M13*O13))),0,E13*((I13*K13)+(M13*O13)))","v":0},"=",{"$f":"(Q13+S13)/CO2_C","v":0}]
[null,null,null," "]
[null,{"$f":"B13+1","v":1994},null,"Perfluorocarbons",null,"x (",{"$f":"IF(ISNUMBER(INDIRECT($F$2&LEFT(D15,2)&\"Factor\")),INDIRECT($F$2&LEFT(D15,2)&\"Factor\"),VLOOKUP(B15,AlFactorBlock,4,FALSE))","v":0.42545454545454542},"+",null,"x",{"$f":"IF(Control!$D$34>0,Control!$D$34,Control!$B$34)","v":0.46363636363636357},"+",{"$f":"1-I15","v":1},"x",{"$f":"IF(Control!$D$33>0,Control!$D$33,Control!$B$33)","v":0.43636363636363634},") =",{"$f":"IF(ISERROR(E15*G15),0,E15*G15)","v":0},"+",{"$f":"IF(ISERROR(E15*((I15*K15)+(M15*O15))),0,E15*((I15*K15)+(M15*O15)))","v":0},"=",{"$f":"(Q15+S15)/CO2_C","v":0}]
[null,null,null," "]
[null,{"$f":"B15+1","v":1995},null,"Perfluorocarbons",null,"x (",{"$f":"IF(ISNUMBER(INDIRECT($F$2&LEFT(D17,2)&\"Factor\")),INDIRECT($F$2&LEFT(D17,2)&\"Factor\"),VLOOKUP(B17,AlFactorBlock,4,FALSE))","v":0.42545454545454542},"+",null,"x",{"$f":"IF(Control!$D$34>0,Control!$D$34,Control!$B$34)","v":0.46363636363636357},"+",{"$f":"1-I17","v":1},"x",{"$f":"IF(Control!$D$33>0,Control!$D$33,Control!$B$33)","v":0.43636363636363634},") =",{"$f":"IF(ISERROR(E17*G17),0,E17*G17)","v":0},"+",{"$f":"IF(ISERROR(E17*((I17*K17)+(M17*O17))),0,E17*((I17*K17)+(M17*O17)))","v":0},"=",{"$f":"(Q17+S17)/CO2_C","v":0}]
[null,null,null," "]
[null,{"$f":"B17+1","v":1996},null,"Perfluorocarbons",null,"x (",{"$f":"IF(ISNUMBER(INDIRECT($F$2&LEFT(D19,2)&\"Factor\")),INDIRECT($F$2&LEFT(D19,2)&\"Factor\"),VLOOKUP(B19,AlFactorBlock,4,FALSE))","v":0.42545454545454542},"+",null,"x",{"$f":"IF(Control!$D$34>0,Control!$D$34,Control!$B$34)","v":0.46363636363636357},"+",{"$f":"1-I19","v":1},"x",{"$f":"IF(Control!$D$33>0,Control!$D$33,Control!$B$33)","v":0.43636363636363634},") =",{"$f":"IF(ISERROR(E19*G19),0,E19*G19)","v":0},"+",{"$f":"IF(ISERROR(E19*((I19*K19)+(M19*O19))),0,E19*((I19*K19)+(M19*O19)))","v":0},"=",{"$f":"(Q19+S19)/CO2_C","v":0}]
[null,null,null," "]
[null,{"$f":"B19+1","v":1997},null,"Perfluorocarbons",null,"x (",{"$f":"IF(ISNUMBER(INDIRECT($F$2&LEFT(D21,2)&\"Factor\")),INDIRECT($F$2&LEFT(D21,2)&\"Factor\"),VLOOKUP(B21,AlFactorBlock,4,FALSE))","v":0.42545454545454547},"+",null,"x",{"$f":"IF(Control!$D$34>0,Control!$D$34,Control!$B$34)","v":0.46363636363636357},"+",{"$f":"1-I21","v":1},"x",{"$f":"IF(Control!$D$33>0,Control!$D$33,Control!$B$33)","v":0.43636363636363634},") =",{"$f":"IF(ISERROR(E21*G21),0,E21*G21)","v":0},"+",{"$f":"IF(ISERROR(E21*((I21*K21)+(M21*O21))),0,E21*((I21*K21)+(M21*O21)))","v":0},"=",{"$f":"(Q21+S21)/CO2_C","v":0}]
[null,null,null," ",null,null,null,null,null,null,null,null,null,null,null,null,null,null,null,null,null,null,null,null,null,null,null,{"$f":"50%","v":0.5}]
[null,{"$f":"B21+1","v":1998},null,"Perfluorocarbons",null,"x (",{"$f":"IF(ISNUMBER(INDIRECT($F$2&LEFT(D23,2)&\"Factor\")),INDIRECT($F$2&LEFT(D23,2)&\"Factor\"),VLOOKUP(B23,AlFactorBlock,4,FALSE))","v":0.42545454545454547},"+",null,"x",{"$f":"IF(Control!$D$34>0,Control!$D$34,Control!$B$34)","v":0.46363636363636357},"+",{"$f":"1-I23","v":1},"x",{"$f":"IF(Control!$D$33>0,Control!$D$33,Control!$B$33)","v":0.43636363636363634},") =",{"$f":"IF(ISERROR(E23*G23),0,E23*G23)","v":0},"+",{"$f":"IF(ISERROR(E23*((I23*K23)+(M23*O23))),0,E23*((I23*K23)+(M23*O23)))","v":0},"=",{"$f":"(Q23+S23)/CO2_C","v":0},null,null,null,null," "]
[null,null,null," "]
[null,{"$f":"B23+1","v":1999},null,"Perfluorocarbons",null,"x (",{"$f":"IF(ISNUMBER(INDIRECT($F$2&LEFT(D25,2)&\"Factor\")),INDIRECT($F$2&LEFT(D25,2)&\"Factor\"),VLOOKUP(B25,AlFactorBlock,4,FALSE))","v":0.42545454545454547},"+",null,"x",{"$f":"IF(Control!$D$34>0,Control!$D$34,Control!$B$34)","v":0.46363636363636357},"+",{"$f":"1-I25","v":1},"x",{"$f":"IF(Control!$D$33>0,Control!$D$33,Control!$B$33)","v":0.43636363636363634},") =",{"$f":"IF(ISERROR(E25*G25),0,E25*G25)","v":0},"+",{"$f":"IF(ISERROR(E25*((I25*K25)+(M25*O25))),0,E25*((I25*K25)+(M25*O25)))","v":0},"=",{"$f":"(Q25+S25)/CO2_C","v":0}]
[null,null,null," "]
[null,{"$f":"B25+1","v":2000},null,"Perfluorocarbons",null,"x (",{"$f":"IF(ISNUMBER(INDIRECT($F$2&LEFT(D27,2)&\"Factor\")),INDIRECT($F$2&LEFT(D27,2)&\"Factor\"),VLOOKUP(B27,AlFactorBlock,4,FALSE))","v":0.42545454545454553},"+",null,"x",{"$f":"IF(Control!$D$34>0,Control!$D$34,Control!$B$34)","v":0.46363636363636357},"+",{"$f":"1-I27","v":1},"x",{"$f":"IF(Control!$D$33>0,Control!$D$33,Control!$B$33)","v":0.43636363636363634},") =",{"$f":"IF(ISERROR(E27*G27),0,E27*G27)","v":0},"+",{"$f":"IF(ISERROR(E27*((I27*K27)+(M27*O27))),0,E27*((I27*K27)+(M27*O27)))","v":0},"=",{"$f":"(Q27+S27)/CO2_C","v":0}]
[null,null,null," "]
[null,{"$f":"B27+1","v":2001},null,"Perfluorocarbons",null,"x (",{"$f":"IF(ISNUMBER(INDIRECT($F$2&LEFT(D29,2)&\"Factor\")),INDIRECT($F$2&LEFT(D29,2)&\"Factor\"),VLOOKUP(B29,AlFactorBlock,4,FALSE))","v":0.42545454545454542},"+",null,"x",{"$f":"IF(Control!$D$34>0,Control!$D$34,Control!$B$34)","v":0.46363636363636357},"+",{"$f":"1-I29","v":1},"x",{"$f":"IF(Control!$D$33>0,Control!$D$33,Control!$B$33)","v":0.43636363636363634},") =",{"$f":"IF(ISERROR(E29*G29),0,E29*G29)","v":0},"+",{"$f":"IF(ISERROR(E29*((I29*K29)+(M29*O29))),0,E29*((I29*K29)+(M29*O29)))","v":0},"=",{"$f":"(Q29+S29)/CO2_C","v":0}]
[null,null,null," "]
[null,{"$f":"B29+1","v":2002},null,"Perfluorocarbons",null,"x (",{"$f":"IF(ISNUMBER(INDIRECT($F$2&LEFT(D31,2)&\"Factor\")),INDIRECT($F$2&LEFT(D31,2)&\"Factor\"),VLOOKUP(B31,AlFactorBlock,4,FALSE))","v":0.42545454545454536},"+",null,"x",{"$f":"IF(Control!$D$34>0,Control!$D$34,Control!$B$34)","v":0.46363636363636357},"+",{"$f":"1-I31","v":1},"x",{"$f":"IF(Control!$D$33>0,Control!$D$33,Control!$B$33)","v":0.43636363636363634},") =",{"$f":"IF(ISERROR(E31*G31),0,E31*G31)","v":0},"+",{"$f":"IF(ISERROR(E31*((I31*K31)+(M31*O31))),0,E31*((I31*K31)+(M31*O31)))","v":0},"=",{"$f":"(Q31+S31)/CO2_C","v":0}]
[null,null,null," "]
[null,{"$f":"B31+1","v":2003},null,"Perfluorocarbons",null,"x (",{"$f":"IF(ISNUMBER(INDIRECT($F$2&LEFT(D33,2)&\"Factor\")),INDIRECT($F$2&LEFT(D33,2)&\"Factor\"),VLOOKUP(B33,AlFactorBlock,4,FALSE))","v":0.42545454545454536},"+",null,"x",{"$f":"IF(Control!$D$34>0,Control!$D$34,Control!$B$34)","v":0.46363636363636357},"+",{"$f":"1-I33","v":1},"x",{"$f":"IF(Control!$D$33>0,Control!$D$33,Control!$B$33)","v":0.43636363636363634},") =",{"$f":"IF(ISERROR(E33*G33),0,E33*G33)","v":0},"+",{"$f":"IF(ISERROR(E33*((I33*K33)+(M33*O33))),0,E33*((I33*K33)+(M33*O33)))","v":0},"=",{"$f":"(Q33+S33)/CO2_C","v":0}]
[null,null,null," "]
[null,{"$f":"B33+1","v":2004},null,"Perfluorocarbons",null,"x (",{"$f":"IF(ISNUMBER(INDIRECT($F$2&LEFT(D35,2)&\"Factor\")),INDIRECT($F$2&LEFT(D35,2)&\"Factor\"),VLOOKUP(B35,AlFactorBlock,4,FALSE))","v":0.42545454545454542},"+",null,"x",{"$f":"IF(Control!$D$34>0,Control!$D$34,Control!$B$34)","v":0.46363636363636357},"+",{"$f":"1-I35","v":1},"x",{"$f":"IF(Control!$D$33>0,Control!$D$33,Control!$B$33)","v":0.43636363636363634},") =",{"$f":"IF(ISERROR(E35*G35),0,E35*G35)","v":0},"+",{"$f":"IF(ISERROR(E35*((I35*K35)+(M35*O35))),0,E35*((I35*K35)+(M35*O35)))","v":0},"=",{"$f":"(Q35+S35)/CO2_C","v":0}]
[null,null,null," "]
[null,{"$f":"B35+1","v":2005},null,"Perfluorocarbons",null,"x (",{"$f":"IF(ISNUMBER(INDIRECT($F$2&LEFT(D37,2)&\"Factor\")),INDIRECT($F$2&LEFT(D37,2)&\"Factor\"),VLOOKUP(B37,AlFactorBlock,4,FALSE))","v":0.4316046872595361},"+",null,"x",{"$f":"IF(Control!$D$34>0,Control!$D$34,Control!$B$34)","v":0.46363636363636357},"+",{"$f":"1-I37","v":1},"x",{"$f":"IF(Control!$D$33>0,Control!$D$33,Control!$B$33)","v":0.43636363636363634},") =",{"$f":"IF(ISERROR(E37*G37),0,E37*G37)","v":0},"+",{"$f":"IF(ISERROR(E37*((I37*K37)+(M37*O37))),0,E37*((I37*K37)+(M37*O37)))","v":0},"=",{"$f":"(Q37+S37)/CO2_C","v":0}]
[null,null,null," "]
[null,{"$f":"B37+1","v":2006},null,"Perfluorocarbons",null,"x (",{"$f":"IF(ISNUMBER(INDIRECT($F$2&LEFT(D39,2)&\"Factor\")),INDIRECT($F$2&LEFT(D39,2)&\"Factor\"),VLOOKUP(B39,AlFactorBlock,4,FALSE))","v":0.46883153637955738},"+",null,"x",{"$f":"IF(Control!$D$34>0,Control!$D$34,Control!$B$34)","v":0.46363636363636357},"+",{"$f":"1-I39","v":1},"x",{"$f":"IF(Control!$D$33>0,Control!$D$33,Control!$B$33)","v":0.43636363636363634},") =",{"$f":"IF(ISERROR(E39*G39),0,E39*G39)","v":0},"+",{"$f":"IF(ISERROR(E39*((I39*K39)+(M39*O39))),0,E39*((I39*K39)+(M39*O39)))","v":0},"=",{"$f":"(Q39+S39)/CO2_C","v":0}]
[null,null,null," "]
[null,{"$f":"B39+1","v":2007},null,"Perfluorocarbons",null,"x (",{"$f":"IF(ISNUMBER(INDIRECT($F$2&LEFT(D41,2)&\"Factor\")),INDIRECT($F$2&LEFT(D41,2)&\"Factor\"),VLOOKUP(B41,AlFactorBlock,4,FALSE))","v":0.41926829643340213},"+",null,"x",{"$f":"IF(Control!$D$34>0,Control!$D$34,Control!$B$34)","v":0.46363636363636357},"+",{"$f":"1-I41","v":1},"x",{"$f":"IF(Control!$D$33>0,Control!$D$33,Control!$B$33)","v":0.43636363636363634},") =",{"$f":"IF(ISERROR(E41*G41),0,E41*G41)","v":0},"+",{"$f":"IF(ISERROR(E41*((I41*K41)+(M41*O41))),0,E41*((I41*K41)+(M41*O41)))","v":0},"=",{"$f":"(Q41+S41)/CO2_C","v":0}]
[null,null,null," "]
[null,{"$f":"B41+1","v":2008},null,"Perfluorocarbons",null,"x (",{"$f":"IF(ISNUMBER(INDIRECT($F$2&LEFT(D43,2)&\"Factor\")),INDIRECT($F$2&LEFT(D43,2)&\"Factor\"),VLOOKUP(B43,AlFactorBlock,4,FALSE))","v":0.40286351734044734},"+",null,"x",{"$f":"IF(Control!$D$34>0,Control!$D$34,Control!$B$34)","v":0.46363636363636357},"+",{"$f":"1-I43","v":1},"x",{"$f":"IF(Control!$D$33>0,Control!$D$33,Control!$B$33)","v":0.43636363636363634},") =",{"$f":"IF(ISERROR(E43*G43),0,E43*G43)","v":0},"+",{"$f":"IF(ISERROR(E43*((I43*K43)+(M43*O43))),0,E43*((I43*K43)+(M43*O43)))","v":0},"=",{"$f":"(Q43+S43)/CO2_C","v":0}]
[null,null,null," "]
[null,{"$f":"B43+1","v":2009},null,"Perfluorocarbons",null,"x (",{"$f":"IF(ISNUMBER(INDIRECT($F$2&LEFT(D45,2)&\"Factor\")),INDIRECT($F$2&LEFT(D45,2)&\"Factor\"),VLOOKUP(B45,AlFactorBlock,4,FALSE))","v":0.62004124440701158},"+",null,"x",{"$f":"IF(Control!$D$34>0,Control!$D$34,Control!$B$34)","v":0.46363636363636357},"+",{"$f":"1-I45","v":1},"x",{"$f":"IF(Control!$D$33>0,Control!$D$33,Control!$B$33)","v":0.43636363636363634},") =",{"$f":"IF(ISERROR(E45*G45),0,E45*G45)","v":0},"+",{"$f":"IF(ISERROR(E45*((I45*K45)+(M45*O45))),0,E45*((I45*K45)+(M45*O45)))","v":0},"=",{"$f":"(Q45+S45)/CO2_C","v":0}]
[null,null,null," "]
[null,{"$f":"B45+1","v":2010},null,"Perfluorocarbons",null,"x (",{"$f":"IF(ISNUMBER(INDIRECT($F$2&LEFT(D47,2)&\"Factor\")),INDIRECT($F$2&LEFT(D47,2)&\"Factor\"),VLOOKUP(B47,AlFactorBlock,4,FALSE))","v":0.62040048035394502},"+",null,"x",{"$f":"IF(Control!$D$34>0,Control!$D$34,Control!$B$34)","v":0.46363636363636357},"+",{"$f":"1-I47","v":1},"x",{"$f":"IF(Control!$D$33>0,Control!$D$33,Control!$B$33)","v":0.43636363636363634},") =",{"$f":"IF(ISERROR(E47*G47),0,E47*G47)","v":0},"+",{"$f":"IF(ISERROR(E47*((I47*K47)+(M47*O47))),0,E47*((I47*K47)+(M47*O47)))","v":0},"=",{"$f":"(Q47+S47)/CO2_C","v":0}]
[null,null,null," "]
[null,{"$f":"B47+1","v":2011},null,"Perfluorocarbons",null,"x (",{"$f":"IF(ISNUMBER(INDIRECT($F$2&LEFT(D49,2)&\"Factor\")),INDIRECT($F$2&LEFT(D49,2)&\"Factor\"),VLOOKUP(B49,AlFactorBlock,4,FALSE))","v":0.53917987366108211},"+",null,"x",{"$f":"IF(Control!$D$34>0,Control!$D$34,Control!$B$34)","v":0.46363636363636357},"+",{"$f":"1-I49","v":1},"x",{"$f":"IF(Control!$D$33>0,Control!$D$33,Control!$B$33)","v":0.43636363636363634},") =",{"$f":"IF(ISERROR(E49*G49),0,E49*G49)","v":0},"+",{"$f":"IF(ISERROR(E49*((I49*K49)+(M49*O49))),0,E49*((I49*K49)+(M49*O49)))","v":0},"=",{"$f":"(Q49+S49)/CO2_C","v":0}]
[null,null,null," "]
[null,{"$f":"B49+1","v":2012},null,"Perfluorocarbons",null,"x (",{"$f":"IF(ISNUMBER(INDIRECT($F$2&LEFT(D51,2)&\"Factor\")),INDIRECT($F$2&LEFT(D51,2)&\"Factor\"),VLOOKUP(B51,AlFactorBlock,4,FALSE))","v":0.51730011067193671},"+",null,"x",{"$f":"IF(Control!$D$34>0,Control!$D$34,Control!$B$34)","v":0.46363636363636357},"+",{"$f":"1-I51","v":1},"x",{"$f":"IF(Control!$D$33>0,Control!$D$33,Control!$B$33)","v":0.43636363636363634},") =",{"$f":"IF(ISERROR(E51*G51),0,E51*G51)","v":0},"+",{"$f":"IF(ISERROR(E51*((I51*K51)+(M51*O51))),0,E51*((I51*K51)+(M51*O51)))","v":0},"=",{"$f":"(Q51+S51)/CO2_C","v":0}]
[null,null,null," "]
[null,{"$f":"B51+1","v":2013},null,"Perfluorocarbons",null,"x (",{"$f":"IF(ISNUMBER(INDIRECT($F$2&LEFT(D53,2)&\"Factor\")),INDIRECT($F$2&LEFT(D53,2)&\"Factor\"),VLOOKUP(B53,AlFactorBlock,4,FALSE))","v":0.55026270765206009},"+",null,"x",{"$f":"IF(Control!$D$34>0,Control!$D$34,Control!$B$34)","v":0.46363636363636357},"+",{"$f":"1-I53","v":1},"x",{"$f":"IF(Control!$D$33>0,Control!$D$33,Control!$B$33)","v":0.43636363636363634},") =",{"$f":"IF(ISERROR(E53*G53),0,E53*G53)","v":0},"+",{"$f":"IF(ISERROR(E53*((I53*K53)+(M53*O53))),0,E53*((I53*K53)+(M53*O53)))","v":0},"=",{"$f":"(Q53+S53)/CO2_C","v":0}]
[null,null,null," "]
[null,{"$f":"B53+1","v":2014},null,"Perfluorocarbons",null,"x (",{"$f":"IF(ISNUMBER(INDIRECT($F$2&LEFT(D55,2)&\"Factor\")),INDIRECT($F$2&LEFT(D55,2)&\"Factor\"),VLOOKUP(B55,AlFactorBlock,4,FALSE))","v":0.62620539712918655},"+",null,"x",{"$f":"IF(Control!$D$34>0,Control!$D$34,Control!$B$34)","v":0.46363636363636357},"+",{"$f":"1-I55","v":1},"x",{"$f":"IF(Control!$D$33>0,Control!$D$33,Control!$B$33)","v":0.43636363636363634},") =",{"$f":"IF(ISERROR(E55*G55),0,E55*G55)","v":0},"+",{"$f":"IF(ISERROR(E55*((I55*K55)+(M55*O55))),0,E55*((I55*K55)+(M55*O55)))","v":0},"=",{"$f":"(Q55+S55)/CO2_C","v":0}]
[null,null,null," "]
[null,{"$f":"B55+1","v":2015},null,"Perfluorocarbons",null,"x (",{"$f":"IF(ISNUMBER(INDIRECT($F$2&LEFT(D57,2)&\"Factor\")),INDIRECT($F$2&LEFT(D57,2)&\"Factor\"),VLOOKUP(B57,AlFactorBlock,4,FALSE))","v":0.6747392747894827},"+",null,"x",{"$f":"IF(Control!$D$34>0,Control!$D$34,Control!$B$34)","v":0.46363636363636357},"+",{"$f":"1-I57","v":1},"x",{"$f":"IF(Control!$D$33>0,Control!$D$33,Control!$B$33)","v":0.43636363636363634},") =",{"$f":"IF(ISERROR(E57*G57),0,E57*G57)","v":0},"+",{"$f":"IF(ISERROR(E57*((I57*K57)+(M57*O57))),0,E57*((I57*K57)+(M57*O57)))","v":0},"=",{"$f":"(Q57+S57)/CO2_C","v":0}]
[null,null,null," "]
[null,{"$f":"B57+1","v":2016},null,"Perfluorocarbons",null,"x (",{"$f":"IF(ISNUMBER(INDIRECT($F$2&LEFT(D59,2)&\"Factor\")),INDIRECT($F$2&LEFT(D59,2)&\"Factor\"),VLOOKUP(B59,AlFactorBlock,4,FALSE))","v":1.309060182262725},"+",null,"x",{"$f":"IF(Control!$D$34>0,Control!$D$34,Control!$B$34)","v":0.46363636363636357},"+",{"$f":"1-I59","v":1},"x",{"$f":"IF(Control!$D$33>0,Control!$D$33,Control!$B$33)","v":0.43636363636363634},") =",{"$f":"IF(ISERROR(E59*G59),0,E59*G59)","v":0},"+",{"$f":"IF(ISERROR(E59*((I59*K59)+(M59*O59))),0,E59*((I59*K59)+(M59*O59)))","v":0},"=",{"$f":"(Q59+S59)/CO2_C","v":0}]
[null,null,null," "]
[null,{"$f":"B59+1","v":2017},null,"Perfluorocarbons",null,"x (",{"$f":"IF(ISNUMBER(INDIRECT($F$2&LEFT(D61,2)&\"Factor\")),INDIRECT($F$2&LEFT(D61,2)&\"Factor\"),VLOOKUP(B61,AlFactorBlock,4,FALSE))","v":1.4450893779904306},"+",null,"x",{"$f":"IF(Control!$D$34>0,Control!$D$34,Control!$B$34)","v":0.46363636363636357},"+",{"$f":"1-I61","v":1},"x",{"$f":"IF(Control!$D$33>0,Control!$D$33,Control!$B$33)","v":0.43636363636363634},") =",{"$f":"IF(ISERROR(E61*G61),0,E61*G61)","v":0},"+",{"$f":"IF(ISERROR(E61*((I61*K61)+(M61*O61))),0,E61*((I61*K61)+(M61*O61)))","v":0},"=",{"$f":"(Q61+S61)/CO2_C","v":0}]
[null,null,null," "]
[null,{"$f":"B61+1","v":2018},null,"Perfluorocarbons",null,"x (",{"$f":"IF(ISNUMBER(INDIRECT($F$2&LEFT(D63,2)&\"Factor\")),INDIRECT($F$2&LEFT(D63,2)&\"Factor\"),VLOOKUP(B63,AlFactorBlock,4,FALSE))","v":1.2018083379247015},"+",null,"x",{"$f":"IF(Control!$D$34>0,Control!$D$34,Control!$B$34)","v":0.46363636363636357},"+",{"$f":"1-I63","v":1},"x",{"$f":"IF(Control!$D$33>0,Control!$D$33,Control!$B$33)","v":0.43636363636363634},") =",{"$f":"IF(ISERROR(E63*G63),0,E63*G63)","v":0},"+",{"$f":"IF(ISERROR(E63*((I63*K63)+(M63*O63))),0,E63*((I63*K63)+(M63*O63)))","v":0},"=",{"$f":"(Q63+S63)/CO2_C","v":0}]
[null,null,null," "]
[null,{"$f":"B63+1","v":2019},null,"Perfluorocarbons",null,"x (",{"$f":"IF(ISNUMBER(INDIRECT($F$2&LEFT(D65,2)&\"Factor\")),INDIRECT($F$2&LEFT(D65,2)&\"Factor\"),VLOOKUP(B65,AlFactorBlock,4,FALSE))","v":0.97969920319387838},"+",null,"x",{"$f":"IF(Control!$D$34>0,Control!$D$34,Control!$B$34)","v":0.46363636363636357},"+",{"$f":"1-I65","v":1},"x",{"$f":"IF(Control!$D$33>0,Control!$D$33,Control!$B$33)","v":0.43636363636363634},") =",{"$f":"IF(ISERROR(E65*G65),0,E65*G65)","v":0},"+",{"$f":"IF(ISERROR(E65*((I65*K65)+(M65*O65))),0,E65*((I65*K65)+(M65*O65)))","v":0},"=",{"$f":"(Q65+S65)/CO2_C","v":0}]
[null,null,null," "]
[null,{"$f":"B65+1","v":2020},null,"Perfluorocarbons",null,"x (",{"$f":"IF(ISNUMBER(INDIRECT($F$2&LEFT(D67,2)&\"Factor\")),INDIRECT($F$2&LEFT(D67,2)&\"Factor\"),VLOOKUP(B67,AlFactorBlock,4,FALSE))","v":1.0581138627380524},"+",null,"x",{"$f":"IF(Control!$D$34>0,Control!$D$34,Control!$B$34)","v":0.46363636363636357},"+",{"$f":"1-I67","v":1},"x",{"$f":"IF(Control!$D$33>0,Control!$D$33,Control!$B$33)","v":0.43636363636363634},") =",{"$f":"IF(ISERROR(E67*G67),0,E67*G67)","v":0},"+",{"$f":"IF(ISERROR(E67*((I67*K67)+(M67*O67))),0,E67*((I67*K67)+(M67*O67)))","v":0},"=",{"$f":"(Q67+S67)/CO2_C","v":0}]
[]
[null,{"$f":"B67+1","v":2021},null,"Perfluorocarbons",null,"x (",{"$f":"IF(ISNUMBER(INDIRECT($F$2&LEFT(D69,2)&\"Factor\")),INDIRECT($F$2&LEFT(D69,2)&\"Factor\"),VLOOKUP(B69,AlFactorBlock,4,FALSE))","v":1.2045120687186828},"+",null,"x",{"$f":"IF(Control!$D$34>0,Control!$D$34,Control!$B$34)","v":0.46363636363636357},"+",{"$f":"1-I69","v":1},"x",{"$f":"IF(Control!$D$33>0,Control!$D$33,Control!$B$33)","v":0.43636363636363634},") =",{"$f":"IF(ISERROR(E69*G69),0,E69*G69)","v":0},"+",{"$f":"IF(ISERROR(E69*((I69*K69)+(M69*O69))),0,E69*((I69*K69)+(M69*O69)))","v":0},"=",{"$f":"(Q69+S69)/CO2_C","v":0}]
[]
[null,{"$f":"B69+1","v":2022},null,"Perfluorocarbons",null,"x (",{"$f":"IF(ISNUMBER(INDIRECT($F$2&LEFT(D71,2)&\"Factor\")),INDIRECT($F$2&LEFT(D71,2)&\"Factor\"),VLOOKUP(B71,AlFactorBlock,4,FALSE))","v":1.2045120687186828},"+",null,"x",{"$f":"IF(Control!$D$34>0,Control!$D$34,Control!$B$34)","v":0.46363636363636357},"+",{"$f":"1-I71","v":1},"x",{"$f":"IF(Control!$D$33>0,Control!$D$33,Control!$B$33)","v":0.43636363636363634},") =",{"$f":"IF(ISERROR(E71*G71),0,E71*G71)","v":0},"+",{"$f":"IF(ISERROR(E71*((I71*K71)+(M71*O71))),0,E71*((I71*K71)+(M71*O71)))","v":0},"=",{"$f":"(Q71+S71)/CO2_C","v":0}]
[]
[null,{"$f":"B71+1","v":2023},null,"Perfluorocarbons",null,"x (",{"$f":"IF(ISNUMBER(INDIRECT($F$2&LEFT(D73,2)&\"Factor\")),INDIRECT($F$2&LEFT(D73,2)&\"Factor\"),VLOOKUP(B73,AlFactorBlock,4,FALSE))","v":1.2045120687186828},"+",null,"x",{"$f":"IF(Control!$D$34>0,Control!$D$34,Control!$B$34)","v":0.46363636363636357},"+",{"$f":"1-I73","v":1},"x",{"$f":"IF(Control!$D$33>0,Control!$D$33,Control!$B$33)","v":0.43636363636363634},") =",{"$f":"IF(ISERROR(E73*G73),0,E73*G73)","v":0},"+",{"$f":"IF(ISERROR(E73*((I73*K73)+(M73*O73))),0,E73*((I73*K73)+(M73*O73)))","v":0},"=",{"$f":"(Q73+S73)/CO2_C","v":0}]
[]
[null,{"$f":"B73+1","v":2024},null,"Perfluorocarbons",null,"x (",{"$f":"IF(ISNUMBER(INDIRECT($F$2&LEFT(D75,2)&\"Factor\")),INDIRECT($F$2&LEFT(D75,2)&\"Factor\"),VLOOKUP(B75,AlFactorBlock,4,FALSE))","v":1.2045120687186828},"+",null,"x",{"$f":"IF(Control!$D$34>0,Control!$D$34,Control!$B$34)","v":0.46363636363636357},"+",{"$f":"1-I75","v":1},"x",{"$f":"IF(Control!$D$33>0,Control!$D$33,Control!$B$33)","v":0.43636363636363634},") =",{"$f":"IF(ISERROR(E75*G75),0,E75*G75)","v":0},"+",{"$f":"IF(ISERROR(E75*((I75*K75)+(M75*O75))),0,E75*((I75*K75)+(M75*O75)))","v":0},"=",{"$f":"(Q75+S75)/CO2_C","v":0}]
[]
[null,{"$f":"B75+1","v":2025},null,"Perfluorocarbons",null,"x (",{"$f":"IF(ISNUMBER(INDIRECT($F$2&LEFT(D77,2)&\"Factor\")),INDIRECT($F$2&LEFT(D77,2)&\"Factor\"),VLOOKUP(B77,AlFactorBlock,4,FALSE))","v":1.2045120687186828},"+",null,"x",{"$f":"IF(Control!$D$34>0,Control!$D$34,Control!$B$34)","v":0.46363636363636357},"+",{"$f":"1-I77","v":1},"x",{"$f":"IF(Control!$D$33>0,Control!$D$33,Control!$B$33)","v":0.43636363636363634},") =",{"$f":"IF(ISERROR(E77*G77),0,E77*G77)","v":0},"+",{"$f":"IF(ISERROR(E77*((I77*K77)+(M77*O77))),0,E77*((I77*K77)+(M77*O77)))","v":0},"=",{"$f":"(Q77+S77)/CO2_C","v":0}]

{"sheet":"Nitric","index":10,"n_rows":77,"n_cols":17,"rows_kept":77,"cut":false,"hidden":false,"merged":[[0,13,0,19],[0,20,0,26],[3,7,4,7],[2,1,2,7]]}
[null,{"$f":"\"9. Nitric Acid Production in \"&'List Data'!B3","v":"9. Nitric Acid Production in Select a State . . ."}]
[null,null,null,{"$f":"'List Data'!$A$3","v":"XX"},"Nitric",{"$f":"\" \"","v":" "}]
[]
[null,null,null,"Production",null,"Emission Factor",null,"Percent N2O Released after Pollution Control",null,"Emissions ",null,"Emissions",null,"Emissions"]
[null,null,null,"(Metric Tons)",null,"(t N2O/t production)",null,null,null,"(Metric Tons N2O)",null,"(MTCE)",null,"(MTCO2E)"]
[]
[null,1990,null,null,"x",{"$f":"INDIRECT($E$2&\"Factor\")","v":0},"x",null,"=",{"$f":"D7*F7*H7","v":0},"=",{"$f":"J7*310*CO2_C","v":0},"=",{"$f":"L7/CO2_C","v":0}]
[]
[null,1991,null,null,"x",{"$f":"INDIRECT($E$2&\"Factor\")","v":0},"x",null,"=",{"$f":"D9*F9*H9","v":0},"=",{"$f":"J9*310*CO2_C","v":0},"=",{"$f":"L9/CO2_C","v":0}]
[]
[null,1992,null,null,"x",{"$f":"INDIRECT($E$2&\"Factor\")","v":0},"x",null,"=",{"$f":"D11*F11*H11","v":0},"=",{"$f":"J11*310*CO2_C","v":0},"=",{"$f":"L11/CO2_C","v":0}]
[]
[null,1993,null,null,"x",{"$f":"INDIRECT($E$2&\"Factor\")","v":0},"x",null,"=",{"$f":"D13*F13*H13","v":0},"=",{"$f":"J13*310*CO2_C","v":0},"=",{"$f":"L13/CO2_C","v":0}]
[]
[null,1994,null,null,"x",{"$f":"INDIRECT($E$2&\"Factor\")","v":0},"x",null,"=",{"$f":"D15*F15*H15","v":0},"=",{"$f":"J15*310*CO2_C","v":0},"=",{"$f":"L15/CO2_C","v":0}]
[]
[null,1995,null,null,"x",{"$f":"INDIRECT($E$2&\"Factor\")","v":0},"x",null,"=",{"$f":"D17*F17*H17","v":0},"=",{"$f":"J17*310*CO2_C","v":0},"=",{"$f":"L17/CO2_C","v":0}]
[]
[null,1996,null,null,"x",{"$f":"INDIRECT($E$2&\"Factor\")","v":0},"x",null,"=",{"$f":"D19*F19*H19","v":0},"=",{"$f":"J19*310*CO2_C","v":0},"=",{"$f":"L19/CO2_C","v":0}]
[]
[null,1997,null,null,"x",{"$f":"INDIRECT($E$2&\"Factor\")","v":0},"x",null,"=",{"$f":"D21*F21*H21","v":0},"=",{"$f":"J21*310*CO2_C","v":0},"=",{"$f":"L21/CO2_C","v":0}]
[]
[null,1998,null,null,"x",{"$f":"INDIRECT($E$2&\"Factor\")","v":0},"x",null,"=",{"$f":"D23*F23*H23","v":0},"=",{"$f":"J23*310*CO2_C","v":0},"=",{"$f":"L23/CO2_C","v":0},null,null," "]
[]
[null,1999,null,null,"x",{"$f":"INDIRECT($E$2&\"Factor\")","v":0},"x",null,"=",{"$f":"D25*F25*H25","v":0},"=",{"$f":"J25*310*CO2_C","v":0},"=",{"$f":"L25/CO2_C","v":0}]
[]
[null,2000,null,null,"x",{"$f":"INDIRECT($E$2&\"Factor\")","v":0},"x",null,"=",{"$f":"D27*F27*H27","v":0},"=",{"$f":"J27*310*CO2_C","v":0},"=",{"$f":"L27/CO2_C","v":0}]
[]
[null,2001,null,null,"x",{"$f":"INDIRECT($E$2&\"Factor\")","v":0},"x",null,"=",{"$f":"D29*F29*H29","v":0},"=",{"$f":"J29*310*CO2_C","v":0},"=",{"$f":"L29/CO2_C","v":0}]
[]
[null,2002,null,null,"x",{"$f":"INDIRECT($E$2&\"Factor\")","v":0},"x",null,"=",{"$f":"D31*F31*H31","v":0},"=",{"$f":"J31*310*CO2_C","v":0},"=",{"$f":"L31/CO2_C","v":0}]
[]
[null,2003,null,null,"x",{"$f":"INDIRECT($E$2&\"Factor\")","v":0},"x",null,"=",{"$f":"D33*F33*H33","v":0},"=",{"$f":"J33*310*CO2_C","v":0},"=",{"$f":"L33/CO2_C","v":0}]
[]
[null,2004,null,null,"x",{"$f":"INDIRECT($E$2&\"Factor\")","v":0},"x",null,"=",{"$f":"D35*F35*H35","v":0},"=",{"$f":"J35*310*CO2_C","v":0},"=",{"$f":"L35/CO2_C","v":0}]
[]
[null,2005,null,null,"x",{"$f":"INDIRECT($E$2&\"Factor\")","v":0},"x",null,"=",{"$f":"D37*F37*H37","v":0},"=",{"$f":"J37*310*CO2_C","v":0},"=",{"$f":"L37/CO2_C","v":0}]
[]
[null,2006,null,null,"x",{"$f":"INDIRECT($E$2&\"Factor\")","v":0},"x",null,"=",{"$f":"D39*F39*H39","v":0},"=",{"$f":"J39*310*CO2_C","v":0},"=",{"$f":"L39/CO2_C","v":0}]
[]
[null,2007,null,null,"x",{"$f":"INDIRECT($E$2&\"Factor\")","v":0},"x",null,"=",{"$f":"D41*F41*H41","v":0},"=",{"$f":"J41*310*CO2_C","v":0},"=",{"$f":"L41/CO2_C","v":0}]
[]
[null,2008,null,null,"x",{"$f":"INDIRECT($E$2&\"Factor\")","v":0},"x",null,"=",{"$f":"D43*F43*H43","v":0},"=",{"$f":"J43*310*CO2_C","v":0},"=",{"$f":"L43/CO2_C","v":0}]
[]
[null,2009,null,null,"x",{"$f":"INDIRECT($E$2&\"Factor\")","v":0},"x",null,"=",{"$f":"D45*F45*H45","v":0},"=",{"$f":"J45*310*CO2_C","v":0},"=",{"$f":"L45/CO2_C","v":0}]
[]
[null,2010,null,null,"x",{"$f":"INDIRECT($E$2&\"Factor\")","v":0},"x",null,"=",{"$f":"D47*F47*H47","v":0},"=",{"$f":"J47*310*CO2_C","v":0},"=",{"$f":"L47/CO2_C","v":0}]
[]
[null,2011,null,null,"x",{"$f":"INDIRECT($E$2&\"Factor\")","v":0},"x",null,"=",{"$f":"D49*F49*H49","v":0},"=",{"$f":"J49*310*CO2_C","v":0},"=",{"$f":"L49/CO2_C","v":0}]
[]
[null,2012,null,null,"x",{"$f":"INDIRECT($E$2&\"Factor\")","v":0},"x",null,"=",{"$f":"D51*F51*H51","v":0},"=",{"$f":"J51*310*CO2_C","v":0},"=",{"$f":"L51/CO2_C","v":0}]
[]
[null,2013,null,null,"x",{"$f":"INDIRECT($E$2&\"Factor\")","v":0},"x",null,"=",{"$f":"D53*F53*H53","v":0},"=",{"$f":"J53*310*CO2_C","v":0},"=",{"$f":"L53/CO2_C","v":0}]
[]
[null,2014,null,null,"x",{"$f":"INDIRECT($E$2&\"Factor\")","v":0},"x",null,"=",{"$f":"D55*F55*H55","v":0},"=",{"$f":"J55*310*CO2_C","v":0},"=",{"$f":"L55/CO2_C","v":0}]
[]
[null,2015,null,null,"x",{"$f":"INDIRECT($E$2&\"Factor\")","v":0},"x",null,"=",{"$f":"D57*F57*H57","v":0},"=",{"$f":"J57*310*CO2_C","v":0},"=",{"$f":"L57/CO2_C","v":0}]
[]
[null,2016,null,null,"x",{"$f":"INDIRECT($E$2&\"Factor\")","v":0},"x",null,"=",{"$f":"D59*F59*H59","v":0},"=",{"$f":"J59*310*CO2_C","v":0},"=",{"$f":"L59/CO2_C","v":0}]
[]
[null,2017,null,null,"x",{"$f":"INDIRECT($E$2&\"Factor\")","v":0},"x",null,"=",{"$f":"D61*F61*H61","v":0},"=",{"$f":"J61*310*CO2_C","v":0},"=",{"$f":"L61/CO2_C","v":0}]
[]
[null,2018,null,null,"x",{"$f":"INDIRECT($E$2&\"Factor\")","v":0},"x",null,"=",{"$f":"D63*F63*H63","v":0},"=",{"$f":"J63*310*CO2_C","v":0},"=",{"$f":"L63/CO2_C","v":0}]
[]
[null,2019,null,null,"x",{"$f":"INDIRECT($E$2&\"Factor\")","v":0},"x",null,"=",{"$f":"D65*F65*H65","v":0},"=",{"$f":"J65*310*CO2_C","v":0},"=",{"$f":"L65/CO2_C","v":0}]
[]
[null,2020,null,null,"x",{"$f":"INDIRECT($E$2&\"Factor\")","v":0},"x",null,"=",{"$f":"D67*F67*H67","v":0},"=",{"$f":"J67*310*CO2_C","v":0},"=",{"$f":"L67/CO2_C","v":0}]
[]
[null,2021,null,null,"x",{"$f":"INDIRECT($E$2&\"Factor\")","v":0},"x",null,"=",{"$f":"D69*F69*H69","v":0},"=",{"$f":"J69*310*CO2_C","v":0},"=",{"$f":"L69/CO2_C","v":0}]
[]
[null,2022,null,null,"x",{"$f":"INDIRECT($E$2&\"Factor\")","v":0},"x",null,"=",{"$f":"D71*F71*H71","v":0},"=",{"$f":"J71*310*CO2_C","v":0},"=",{"$f":"L71/CO2_C","v":0}]
[]
[null,2023,null,null,"x",{"$f":"INDIRECT($E$2&\"Factor\")","v":0},"x",null,"=",{"$f":"D73*F73*H73","v":0},"=",{"$f":"J73*310*CO2_C","v":0},"=",{"$f":"L73/CO2_C","v":0}]
[]
[null,2024,null,null,"x",{"$f":"INDIRECT($E$2&\"Factor\")","v":0},"x",null,"=",{"$f":"D75*F75*H75","v":0},"=",{"$f":"J75*310*CO2_C","v":0},"=",{"$f":"L75/CO2_C","v":0}]
[]
[null,2025,null,null,"x",{"$f":"INDIRECT($E$2&\"Factor\")","v":0},"x",null,"=",{"$f":"D77*F77*H77","v":0},"=",{"$f":"J77*310*CO2_C","v":0},"=",{"$f":"L77/CO2_C","v":0}]

{"sheet":"Adipic","index":11,"n_rows":77,"n_cols":15,"rows_kept":77,"cut":false,"hidden":false,"merged":[[2,1,2,10],[3,7,4,7]]}
[null,{"$f":"\"10. Adipic Acid Production in \"&'List Data'!B3","v":"10. Adipic Acid Production in Select a State . . ."}]
[null,null,null,{"$f":"'List Data'!$A$3","v":"XX"},"Adipic",{"$f":"\" \"","v":" "},{"$f":"AdipicCheck","v":0}]
[]
[null,null,null,"Production",null,"Emission Factor",null,"Percent N2O Released after Pollution Control",null,"Emissions ",null,"Emissions ",null,"Emissions"]
[null,null,null,"(Metric Tons)",null,"(t N2O/t production)",null,null,null,"(Metric Tons N2O)",null,"(MTCE)",null,"(MTCO2E)"]
[]
[null,1990,null,null,"x",{"$f":"INDIRECT($E$2&\"Factor\")","v":0},"x",null,"=",{"$f":"D7*F7*H7","v":0},"=",{"$f":"J7*310*CO2_C","v":0},"=",{"$f":"L7/CO2_C","v":0}]
[]
[null,1991,null,null,"x",{"$f":"INDIRECT($E$2&\"Factor\")","v":0},"x",null,"=",{"$f":"D9*F9*H9","v":0},"=",{"$f":"J9*310*CO2_C","v":0},"=",{"$f":"L9/CO2_C","v":0}]
[]
[null,1992,null,null,"x",{"$f":"INDIRECT($E$2&\"Factor\")","v":0},"x",null,"=",{"$f":"D11*F11*H11","v":0},"=",{"$f":"J11*310*CO2_C","v":0},"=",{"$f":"L11/CO2_C","v":0}]
[]
[null,1993,null,null,"x",{"$f":"INDIRECT($E$2&\"Factor\")","v":0},"x",null,"=",{"$f":"D13*F13*H13","v":0},"=",{"$f":"J13*310*CO2_C","v":0},"=",{"$f":"L13/CO2_C","v":0}]
[]
[null,1994,null,null,"x",{"$f":"INDIRECT($E$2&\"Factor\")","v":0},"x",null,"=",{"$f":"D15*F15*H15","v":0},"=",{"$f":"J15*310*CO2_C","v":0},"=",{"$f":"L15/CO2_C","v":0}]
[]
[null,1995,null,null,"x",{"$f":"INDIRECT($E$2&\"Factor\")","v":0},"x",null,"=",{"$f":"D17*F17*H17","v":0},"=",{"$f":"J17*310*CO2_C","v":0},"=",{"$f":"L17/CO2_C","v":0}]
[]
[null,1996,null,null,"x",{"$f":"INDIRECT($E$2&\"Factor\")","v":0},"x",null,"=",{"$f":"D19*F19*H19","v":0},"=",{"$f":"J19*310*CO2_C","v":0},"=",{"$f":"L19/CO2_C","v":0}]
[]
[null,1997,null,null,"x",{"$f":"INDIRECT($E$2&\"Factor\")","v":0},"x",null,"=",{"$f":"D21*F21*H21","v":0},"=",{"$f":"J21*310*CO2_C","v":0},"=",{"$f":"L21/CO2_C","v":0}]
[]
[null,1998,null,null,"x",{"$f":"INDIRECT($E$2&\"Factor\")","v":0},"x",null,"=",{"$f":"D23*F23*H23","v":0},"=",{"$f":"J23*310*CO2_C","v":0},"=",{"$f":"L23/CO2_C","v":0}," "]
[]
[null,1999,null,null,"x",{"$f":"INDIRECT($E$2&\"Factor\")","v":0},"x",null,"=",{"$f":"D25*F25*H25","v":0},"=",{"$f":"J25*310*CO2_C","v":0},"=",{"$f":"L25/CO2_C","v":0}]
[]
[null,2000,null,null,"x",{"$f":"INDIRECT($E$2&\"Factor\")","v":0},"x",null,"=",{"$f":"D27*F27*H27","v":0},"=",{"$f":"J27*310*CO2_C","v":0},"=",{"$f":"L27/CO2_C","v":0}]
[]
[null,2001,null,null,"x",{"$f":"INDIRECT($E$2&\"Factor\")","v":0},"x",null,"=",{"$f":"D29*F29*H29","v":0},"=",{"$f":"J29*310*CO2_C","v":0},"=",{"$f":"L29/CO2_C","v":0}]
[]
[null,2002,null,null,"x",{"$f":"INDIRECT($E$2&\"Factor\")","v":0},"x",null,"=",{"$f":"D31*F31*H31","v":0},"=",{"$f":"J31*310*CO2_C","v":0},"=",{"$f":"L31/CO2_C","v":0}]
[]
[null,2003,null,null,"x",{"$f":"INDIRECT($E$2&\"Factor\")","v":0},"x",null,"=",{"$f":"D33*F33*H33","v":0},"=",{"$f":"J33*310*CO2_C","v":0},"=",{"$f":"L33/CO2_C","v":0}]
[]
[null,2004,null,null,"x",{"$f":"INDIRECT($E$2&\"Factor\")","v":0},"x",null,"=",{"$f":"D35*F35*H35","v":0},"=",{"$f":"J35*310*CO2_C","v":0},"=",{"$f":"L35/CO2_C","v":0}]
[]
[null,2005,null,null,"x",{"$f":"INDIRECT($E$2&\"Factor\")","v":0},"x",null,"=",{"$f":"D37*F37*H37","v":0},"=",{"$f":"J37*310*CO2_C","v":0},"=",{"$f":"L37/CO2_C","v":0}]
[]
[null,2006,null,null,"x",{"$f":"INDIRECT($E$2&\"Factor\")","v":0},"x",null,"=",{"$f":"D39*F39*H39","v":0},"=",{"$f":"J39*310*CO2_C","v":0},"=",{"$f":"L39/CO2_C","v":0}]
[]
[null,2007,null,null,"x",{"$f":"INDIRECT($E$2&\"Factor\")","v":0},"x",null,"=",{"$f":"D41*F41*H41","v":0},"=",{"$f":"J41*310*CO2_C","v":0},"=",{"$f":"L41/CO2_C","v":0}]
[]
[null,2008,null,null,"x",{"$f":"INDIRECT($E$2&\"Factor\")","v":0},"x",null,"=",{"$f":"D43*F43*H43","v":0},"=",{"$f":"J43*310*CO2_C","v":0},"=",{"$f":"L43/CO2_C","v":0}]
[]
[null,2009,null,null,"x",{"$f":"INDIRECT($E$2&\"Factor\")","v":0},"x",null,"=",{"$f":"D45*F45*H45","v":0},"=",{"$f":"J45*310*CO2_C","v":0},"=",{"$f":"L45/CO2_C","v":0}]
[]
[null,2010,null,null,"x",{"$f":"INDIRECT($E$2&\"Factor\")","v":0},"x",null,"=",{"$f":"D47*F47*H47","v":0},"=",{"$f":"J47*310*CO2_C","v":0},"=",{"$f":"L47/CO2_C","v":0}]
[]
[null,2011,null,null,"x",{"$f":"INDIRECT($E$2&\"Factor\")","v":0},"x",null,"=",{"$f":"D49*F49*H49","v":0},"=",{"$f":"J49*310*CO2_C","v":0},"=",{"$f":"L49/CO2_C","v":0}]
[]
[null,2012,null,null,"x",{"$f":"INDIRECT($E$2&\"Factor\")","v":0},"x",null,"=",{"$f":"D51*F51*H51","v":0},"=",{"$f":"J51*310*CO2_C","v":0},"=",{"$f":"L51/CO2_C","v":0}]
[]
[null,2013,null,null,"x",{"$f":"INDIRECT($E$2&\"Factor\")","v":0},"x",null,"=",{"$f":"D53*F53*H53","v":0},"=",{"$f":"J53*310*CO2_C","v":0},"=",{"$f":"L53/CO2_C","v":0}]
[]
[null,2014,null,null,"x",{"$f":"INDIRECT($E$2&\"Factor\")","v":0},"x",null,"=",{"$f":"D55*F55*H55","v":0},"=",{"$f":"J55*310*CO2_C","v":0},"=",{"$f":"L55/CO2_C","v":0}]
[]
[null,2015,null,null,"x",{"$f":"INDIRECT($E$2&\"Factor\")","v":0},"x",null,"=",{"$f":"D57*F57*H57","v":0},"=",{"$f":"J57*310*CO2_C","v":0},"=",{"$f":"L57/CO2_C","v":0}]
[]
[null,2016,null,null,"x",{"$f":"INDIRECT($E$2&\"Factor\")","v":0},"x",null,"=",{"$f":"D59*F59*H59","v":0},"=",{"$f":"J59*310*CO2_C","v":0},"=",{"$f":"L59/CO2_C","v":0}]
[]
[null,2017,null,null,"x",{"$f":"INDIRECT($E$2&\"Factor\")","v":0},"x",null,"=",{"$f":"D61*F61*H61","v":0},"=",{"$f":"J61*310*CO2_C","v":0},"=",{"$f":"L61/CO2_C","v":0}]
[]
[null,2018,null,null,"x",{"$f":"INDIRECT($E$2&\"Factor\")","v":0},"x",null,"=",{"$f":"D63*F63*H63","v":0},"=",{"$f":"J63*310*CO2_C","v":0},"=",{"$f":"L63/CO2_C","v":0}]
[]
[null,2019,null,null,"x",{"$f":"INDIRECT($E$2&\"Factor\")","v":0},"x",null,"=",{"$f":"D65*F65*H65","v":0},"=",{"$f":"J65*310*CO2_C","v":0},"=",{"$f":"L65/CO2_C","v":0}]
[]
[null,2020,null,null,"x",{"$f":"INDIRECT($E$2&\"Factor\")","v":0},"x",null,"=",{"$f":"D67*F67*H67","v":0},"=",{"$f":"J67*310*CO2_C","v":0},"=",{"$f":"L67/CO2_C","v":0}]
[]
[null,2021,null,null,"x",{"$f":"INDIRECT($E$2&\"Factor\")","v":0},"x",null,"=",{"$f":"D69*F69*H69","v":0},"=",{"$f":"J69*310*CO2_C","v":0},"=",{"$f":"L69/CO2_C","v":0}]
[]
[null,2022,null,null,"x",{"$f":"INDIRECT($E$2&\"Factor\")","v":0},"x",null,"=",{"$f":"D71*F71*H71","v":0},"=",{"$f":"J71*310*CO2_C","v":0},"=",{"$f":"L71/CO2_C","v":0}]
[]
[null,2023,null,null,"x",{"$f":"INDIRECT($E$2&\"Factor\")","v":0},"x",null,"=",{"$f":"D73*F73*H73","v":0},"=",{"$f":"J73*310*CO2_C","v":0},"=",{"$f":"L73/CO2_C","v":0}]
[]
[null,2024,null,null,"x",{"$f":"INDIRECT($E$2&\"Factor\")","v":0},"x",null,"=",{"$f":"D75*F75*H75","v":0},"=",{"$f":"J75*310*CO2_C","v":0},"=",{"$f":"L75/CO2_C","v":0}]
[]
[null,2025,null,null,"x",{"$f":"INDIRECT($E$2&\"Factor\")","v":0},"x",null,"=",{"$f":"D77*F77*H77","v":0},"=",{"$f":"J77*310*CO2_C","v":0},"=",{"$f":"L77/CO2_C","v":0}]

{"sheet":"HCFC-22","index":12,"n_rows":77,"n_cols":15,"rows_kept":77,"cut":false,"hidden":false,"merged":[[2,1,2,10]]}
[null,{"$f":"\"12. HCFC-22 Production in \"&'List Data'!B3","v":"12. HCFC-22 Production in Select a State . . ."}]
[null,null,null,{"$f":"'List Data'!$A$3","v":"XX"},"HCFC22",{"$f":"\" \"","v":" "}]
[]
[null,null,null,"Production",null,"Emission Factor",null,"Emissions ",null,"Emissions ",null,"Emissions "]
[null,null,null,"(Metric Tons)",null,"(t HFC-23/t production)",null,"(Metric Tons HFC-23)",null,"(MTCE)",null,"(MTCO2E)"]
[]
[null,1990,null,null,"x",{"$f":"INDIRECT($E$2&\"Factor\")","v":0},"=",{"$f":"D7*F7","v":0},"=",{"$f":"H7*11700*CO2_C","v":0},"=",{"$f":"J7/CO2_C","v":0}]
[]
[null,1991,null,null,"x",{"$f":"INDIRECT($E$2&\"Factor\")","v":0},"=",{"$f":"D9*F9","v":0},"=",{"$f":"H9*11700*CO2_C","v":0},"=",{"$f":"J9/CO2_C","v":0}]
[]
[null,1992,null,null,"x",{"$f":"INDIRECT($E$2&\"Factor\")","v":0},"=",{"$f":"D11*F11","v":0},"=",{"$f":"H11*11700*CO2_C","v":0},"=",{"$f":"J11/CO2_C","v":0}]
[]
[null,1993,null,null,"x",{"$f":"INDIRECT($E$2&\"Factor\")","v":0},"=",{"$f":"D13*F13","v":0},"=",{"$f":"H13*11700*CO2_C","v":0},"=",{"$f":"J13/CO2_C","v":0}]
[]
[null,1994,null,null,"x",{"$f":"INDIRECT($E$2&\"Factor\")","v":0},"=",{"$f":"D15*F15","v":0},"=",{"$f":"H15*11700*CO2_C","v":0},"=",{"$f":"J15/CO2_C","v":0}]
[]
[null,1995,null,null,"x",{"$f":"INDIRECT($E$2&\"Factor\")","v":0},"=",{"$f":"D17*F17","v":0},"=",{"$f":"H17*11700*CO2_C","v":0},"=",{"$f":"J17/CO2_C","v":0}]
[]
[null,1996,null,null,"x",{"$f":"INDIRECT($E$2&\"Factor\")","v":0},"=",{"$f":"D19*F19","v":0},"=",{"$f":"H19*11700*CO2_C","v":0},"=",{"$f":"J19/CO2_C","v":0}]
[]
[null,1997,null,null,"x",{"$f":"INDIRECT($E$2&\"Factor\")","v":0},"=",{"$f":"D21*F21","v":0},"=",{"$f":"H21*11700*CO2_C","v":0},"=",{"$f":"J21/CO2_C","v":0}]
[]
[null,1998,null,null,"x",{"$f":"INDIRECT($E$2&\"Factor\")","v":0},"=",{"$f":"D23*F23","v":0},"=",{"$f":"H23*11700*CO2_C","v":0},"=",{"$f":"J23/CO2_C","v":0},null,null," "]
[]
[null,1999,null,null,"x",{"$f":"INDIRECT($E$2&\"Factor\")","v":0},"=",{"$f":"D25*F25","v":0},"=",{"$f":"H25*11700*CO2_C","v":0},"=",{"$f":"J25/CO2_C","v":0}]
[]
[null,2000,null,null,"x",{"$f":"INDIRECT($E$2&\"Factor\")","v":0},"=",{"$f":"D27*F27","v":0},"=",{"$f":"H27*11700*CO2_C","v":0},"=",{"$f":"J27/CO2_C","v":0}]
[]
[null,2001,null,null,"x",{"$f":"INDIRECT($E$2&\"Factor\")","v":0},"=",{"$f":"D29*F29","v":0},"=",{"$f":"H29*11700*CO2_C","v":0},"=",{"$f":"J29/CO2_C","v":0}]
[]
[null,2002,null,null,"x",{"$f":"INDIRECT($E$2&\"Factor\")","v":0},"=",{"$f":"D31*F31","v":0},"=",{"$f":"H31*11700*CO2_C","v":0},"=",{"$f":"J31/CO2_C","v":0}]
[]
[null,2003,null,null,"x",{"$f":"INDIRECT($E$2&\"Factor\")","v":0},"=",{"$f":"D33*F33","v":0},"=",{"$f":"H33*11700*CO2_C","v":0},"=",{"$f":"J33/CO2_C","v":0}]
[]
[null,2004,null,null,"x",{"$f":"INDIRECT($E$2&\"Factor\")","v":0},"=",{"$f":"D35*F35","v":0},"=",{"$f":"H35*11700*CO2_C","v":0},"=",{"$f":"J35/CO2_C","v":0}]
[]
[null,2005,null,null,"x",{"$f":"INDIRECT($E$2&\"Factor\")","v":0},"=",{"$f":"D37*F37","v":0},"=",{"$f":"H37*11700*CO2_C","v":0},"=",{"$f":"J37/CO2_C","v":0}]
[]
[null,2006,null,null,"x",{"$f":"INDIRECT($E$2&\"Factor\")","v":0},"=",{"$f":"D39*F39","v":0},"=",{"$f":"H39*11700*CO2_C","v":0},"=",{"$f":"J39/CO2_C","v":0}]
[]
[null,2007,null,null,"x",{"$f":"INDIRECT($E$2&\"Factor\")","v":0},"=",{"$f":"D41*F41","v":0},"=",{"$f":"H41*11700*CO2_C","v":0},"=",{"$f":"J41/CO2_C","v":0}]
[]
[null,2008,null,null,"x",{"$f":"INDIRECT($E$2&\"Factor\")","v":0},"=",{"$f":"D43*F43","v":0},"=",{"$f":"H43*11700*CO2_C","v":0},"=",{"$f":"J43/CO2_C","v":0}]
[]
[null,2009,null,null,"x",{"$f":"INDIRECT($E$2&\"Factor\")","v":0},"=",{"$f":"D45*F45","v":0},"=",{"$f":"H45*11700*CO2_C","v":0},"=",{"$f":"J45/CO2_C","v":0}]
[]
[null,2010,null,null,"x",{"$f":"INDIRECT($E$2&\"Factor\")","v":0},"=",{"$f":"D47*F47","v":0},"=",{"$f":"H47*11700*CO2_C","v":0},"=",{"$f":"J47/CO2_C","v":0}]
[]
[null,2011,null,null,"x",0,"=",{"$f":"D49*F49","v":0},"=",{"$f":"H49*11700*CO2_C","v":0},"=",{"$f":"J49/CO2_C","v":0}]
[]
[null,2012,null,null,"x",0,"=",{"$f":"D51*F51","v":0},"=",{"$f":"H51*11700*CO2_C","v":0},"=",{"$f":"J51/CO2_C","v":0}]
[]
[null,2013,null,null,"x",0,"=",{"$f":"D53*F53","v":0},"=",{"$f":"H53*11700*CO2_C","v":0},"=",{"$f":"J53/CO2_C","v":0}]
[]
[null,2014,null,null,"x",0,"=",{"$f":"D55*F55","v":0},"=",{"$f":"H55*11700*CO2_C","v":0},"=",{"$f":"J55/CO2_C","v":0}]
[]
[null,2015,null,null,"x",0,"=",{"$f":"D57*F57","v":0},"=",{"$f":"H57*11700*CO2_C","v":0},"=",{"$f":"J57/CO2_C","v":0}]
[]
[null,2016,null,null,"x",0,"=",{"$f":"D59*F59","v":0},"=",{"$f":"H59*11700*CO2_C","v":0},"=",{"$f":"J59/CO2_C","v":0}]
[]
[null,2017,null,null,"x",0,"=",{"$f":"D61*F61","v":0},"=",{"$f":"H61*11700*CO2_C","v":0},"=",{"$f":"J61/CO2_C","v":0}]
[]
[null,2018,null,null,"x",0,"=",{"$f":"D63*F63","v":0},"=",{"$f":"H63*11700*CO2_C","v":0},"=",{"$f":"J63/CO2_C","v":0}]
[]
[null,2019,null,null,"x",0,"=",{"$f":"D65*F65","v":0},"=",{"$f":"H65*11700*CO2_C","v":0},"=",{"$f":"J65/CO2_C","v":0}]
[]
[null,2020,null,null,"x",0,"=",{"$f":"D67*F67","v":0},"=",{"$f":"H67*11700*CO2_C","v":0},"=",{"$f":"J67/CO2_C","v":0}]
[]
[null,2021,null,null,"x",0,"=",{"$f":"D69*F69","v":0},"=",{"$f":"H69*11700*CO2_C","v":0},"=",{"$f":"J69/CO2_C","v":0}]
[]
[null,2022,null,null,"x",0,"=",{"$f":"D71*F71","v":0},"=",{"$f":"H71*11700*CO2_C","v":0},"=",{"$f":"J71/CO2_C","v":0}]
[]
[null,2023,null,null,"x",0,"=",{"$f":"D73*F73","v":0},"=",{"$f":"H73*11700*CO2_C","v":0},"=",{"$f":"J73/CO2_C","v":0}]
[]
[null,2024,null,null,"x",0,"=",{"$f":"D75*F75","v":0},"=",{"$f":"H75*11700*CO2_C","v":0},"=",{"$f":"J75/CO2_C","v":0}]
[]
[null,2025,null,null,"x",0,"=",{"$f":"D77*F77","v":0},"=",{"$f":"H77*11700*CO2_C","v":0},"=",{"$f":"J77/CO2_C","v":0}]

{"sheet":"ODS","index":13,"n_rows":77,"n_cols":17,"rows_kept":77,"cut":false,"hidden":false,"merged":[[2,1,2,7]]}
[null,{"$f":"\"13. Consumption of ODS Substitutes in \"&'List Data'!B3","v":"13. Consumption of ODS Substitutes in Select a State . . ."}]
[null,null,null,{"$f":"'List Data'!$A$3","v":"XX"},{"$f":"VLOOKUP(D2,'state population'!$B$3:$C$53,2,FALSE)","v":{"$error":"#N/A"}},"ODS",null,null,null,{"$f":"\" \"","v":" "}]
[]
[null,null,null,"Default US Inventory State-Level Emissions",null,"Emissions for Calculation",null,null,null,null,null,null,null,null,null,null,"Apportioned National Emissions "]
[null,null,null,"(Metric Tons CO2 Eq.)",null,"(MTCO2E)",null,null,null,null,null,null,null,null,null,null,"(MTCE)"]
[]
[null,1990,null,{"$f":"VLOOKUP($D$2&$J$2&$F$2&$J$2,DataBlock,HLOOKUP(B7,DataBlock,2,FALSE),FALSE)","v":{"$error":"#N/A"}},null,null,null,null,null,null,null,null,null,null,null,null,{"$f":"IF(ISERROR(F7*CO2_C),,F7*CO2_C)","v":0}]
[]
[null,1991,null,{"$f":"VLOOKUP($D$2&$J$2&$F$2&$J$2,DataBlock,HLOOKUP(B9,DataBlock,2,FALSE),FALSE)","v":{"$error":"#N/A"}},null,null,null,null,null,null,null,null,null,null,null,null,{"$f":"IF(ISERROR(F9*CO2_C),,F9*CO2_C)","v":0}]
[]
[null,1992,null,{"$f":"VLOOKUP($D$2&$J$2&$F$2&$J$2,DataBlock,HLOOKUP(B11,DataBlock,2,FALSE),FALSE)","v":{"$error":"#N/A"}},null,null,null,null,null,null,null,null,null,null,null,null,{"$f":"IF(ISERROR(F11*CO2_C),,F11*CO2_C)","v":0}]
[]
[null,1993,null,{"$f":"VLOOKUP($D$2&$J$2&$F$2&$J$2,DataBlock,HLOOKUP(B13,DataBlock,2,FALSE),FALSE)","v":{"$error":"#N/A"}},null,null,null,null,null,null,null,null,null,null,null,null,{"$f":"IF(ISERROR(F13*CO2_C),,F13*CO2_C)","v":0}]
[]
[null,1994,null,{"$f":"VLOOKUP($D$2&$J$2&$F$2&$J$2,DataBlock,HLOOKUP(B15,DataBlock,2,FALSE),FALSE)","v":{"$error":"#N/A"}},null,null,null,null,null,null,null,null,null,null,null,null,{"$f":"IF(ISERROR(F15*CO2_C),,F15*CO2_C)","v":0}]
[]
[null,1995,null,{"$f":"VLOOKUP($D$2&$J$2&$F$2&$J$2,DataBlock,HLOOKUP(B17,DataBlock,2,FALSE),FALSE)","v":{"$error":"#N/A"}},null,null,null,null,null,null,null,null,null,null,null,null,{"$f":"IF(ISERROR(F17*CO2_C),,F17*CO2_C)","v":0}]
[]
[null,1996,null,{"$f":"VLOOKUP($D$2&$J$2&$F$2&$J$2,DataBlock,HLOOKUP(B19,DataBlock,2,FALSE),FALSE)","v":{"$error":"#N/A"}},null,null,null,null,null,null,null,null,null,null,null,null,{"$f":"IF(ISERROR(F19*CO2_C),,F19*CO2_C)","v":0}]
[]
[null,1997,null,{"$f":"VLOOKUP($D$2&$J$2&$F$2&$J$2,DataBlock,HLOOKUP(B21,DataBlock,2,FALSE),FALSE)","v":{"$error":"#N/A"}},null,null,null,null,null,null,null,null,null,null,null,null,{"$f":"IF(ISERROR(F21*CO2_C),,F21*CO2_C)","v":0}]
[]
[null,1998,null,{"$f":"VLOOKUP($D$2&$J$2&$F$2&$J$2,DataBlock,HLOOKUP(B23,DataBlock,2,FALSE),FALSE)","v":{"$error":"#N/A"}},null,null,null,null,null,null,null,null,null,null,null,null,{"$f":"IF(ISERROR(F23*CO2_C),,F23*CO2_C)","v":0}]
[]
[null,1999,null,{"$f":"VLOOKUP($D$2&$J$2&$F$2&$J$2,DataBlock,HLOOKUP(B25,DataBlock,2,FALSE),FALSE)","v":{"$error":"#N/A"}},null,null,null,null,null,null,null,null,null,null,null,null,{"$f":"IF(ISERROR(F25*CO2_C),,F25*CO2_C)","v":0}]
[]
[null,2000,null,{"$f":"VLOOKUP($D$2&$J$2&$F$2&$J$2,DataBlock,HLOOKUP(B27,DataBlock,2,FALSE),FALSE)","v":{"$error":"#N/A"}},null,null,null,null,null,null,null,null,null,null,null,null,{"$f":"IF(ISERROR(F27*CO2_C),,F27*CO2_C)","v":0}]
[]
[null,2001,null,{"$f":"VLOOKUP($D$2&$J$2&$F$2&$J$2,DataBlock,HLOOKUP(B29,DataBlock,2,FALSE),FALSE)","v":{"$error":"#N/A"}},null,null,null,null,null,null,null,null,null,null,null,null,{"$f":"IF(ISERROR(F29*CO2_C),,F29*CO2_C)","v":0}]
[]
[null,2002,null,{"$f":"VLOOKUP($D$2&$J$2&$F$2&$J$2,DataBlock,HLOOKUP(B31,DataBlock,2,FALSE),FALSE)","v":{"$error":"#N/A"}},null,null,null,null,null,null,null,null,null,null,null,null,{"$f":"IF(ISERROR(F31*CO2_C),,F31*CO2_C)","v":0}]
[]
[null,2003,null,{"$f":"VLOOKUP($D$2&$J$2&$F$2&$J$2,DataBlock,HLOOKUP(B33,DataBlock,2,FALSE),FALSE)","v":{"$error":"#N/A"}},null,null,null,null,null,null,null,null,null,null,null,null,{"$f":"IF(ISERROR(F33*CO2_C),,F33*CO2_C)","v":0}]
[]
[null,2004,null,{"$f":"VLOOKUP($D$2&$J$2&$F$2&$J$2,DataBlock,HLOOKUP(B35,DataBlock,2,FALSE),FALSE)","v":{"$error":"#N/A"}},null,null,null,null,null,null,null,null,null,null,null,null,{"$f":"IF(ISERROR(F35*CO2_C),,F35*CO2_C)","v":0}]
[]
[null,2005,null,{"$f":"VLOOKUP($D$2&$J$2&$F$2&$J$2,DataBlock,HLOOKUP(B37,DataBlock,2,FALSE),FALSE)","v":{"$error":"#N/A"}},null,null,null,null,null,null,null,null,null,null,null,null,{"$f":"IF(ISERROR(F37*CO2_C),,F37*CO2_C)","v":0}]
[]
[null,2006,null,{"$f":"VLOOKUP($D$2&$J$2&$F$2&$J$2,DataBlock,HLOOKUP(B39,DataBlock,2,FALSE),FALSE)","v":{"$error":"#N/A"}},null,null,null,null,null,null,null,null,null,null,null,null,{"$f":"IF(ISERROR(F39*CO2_C),,F39*CO2_C)","v":0}]
[]
[null,2007,null,{"$f":"VLOOKUP($D$2&$J$2&$F$2&$J$2,DataBlock,HLOOKUP(B41,DataBlock,2,FALSE),FALSE)","v":{"$error":"#N/A"}},null,null,null,null,null,null,null,null,null,null,null,null,{"$f":"IF(ISERROR(F41*CO2_C),,F41*CO2_C)","v":0}]
[]
[null,2008,null,{"$f":"VLOOKUP($D$2&$J$2&$F$2&$J$2,DataBlock,HLOOKUP(B43,DataBlock,2,FALSE),FALSE)","v":{"$error":"#N/A"}},null,null,null,null,null,null,null,null,null,null,null,null,{"$f":"IF(ISERROR(F43*CO2_C),,F43*CO2_C)","v":0}]
[]
[null,2009,null,{"$f":"VLOOKUP($D$2&$J$2&$F$2&$J$2,DataBlock,HLOOKUP(B45,DataBlock,2,FALSE),FALSE)","v":{"$error":"#N/A"}},null,null,null,null,null,null,null,null,null,null,null,null,{"$f":"IF(ISERROR(F45*CO2_C),,F45*CO2_C)","v":0}]
[]
[null,2010,null,{"$f":"VLOOKUP($D$2&$J$2&$F$2&$J$2,DataBlock,HLOOKUP(B47,DataBlock,2,FALSE),FALSE)","v":{"$error":"#N/A"}},null,null,null,null,null,null,null,null,null,null,null,null,{"$f":"IF(ISERROR(F47*CO2_C),,F47*CO2_C)","v":0}]
[]
[null,2011,null,{"$f":"VLOOKUP($D$2&$J$2&$F$2&$J$2,DataBlock,HLOOKUP(B49,DataBlock,2,FALSE),FALSE)","v":{"$error":"#N/A"}},null,null,null,null,null,null,null,null,null,null,null,null,{"$f":"IF(ISERROR(F49*CO2_C),,F49*CO2_C)","v":0}]
[]
[null,2012,null,{"$f":"VLOOKUP($D$2&$J$2&$F$2&$J$2,DataBlock,HLOOKUP(B51,DataBlock,2,FALSE),FALSE)","v":{"$error":"#N/A"}},null,null,null,null,null,null,null,null,null,null,null,null,{"$f":"IF(ISERROR(F51*CO2_C),,F51*CO2_C)","v":0}]
[]
[null,2013,null,{"$f":"VLOOKUP($D$2&$J$2&$F$2&$J$2,DataBlock,HLOOKUP(B53,DataBlock,2,FALSE),FALSE)","v":{"$error":"#N/A"}},null,null,null,null,null,null,null,null,null,null,null,null,{"$f":"IF(ISERROR(F53*CO2_C),,F53*CO2_C)","v":0}]
[]
[null,2014,null,{"$f":"VLOOKUP($D$2&$J$2&$F$2&$J$2,DataBlock,HLOOKUP(B55,DataBlock,2,FALSE),FALSE)","v":{"$error":"#N/A"}},null,null,null,null,null,null,null,null,null,null,null,null,{"$f":"IF(ISERROR(F55*CO2_C),,F55*CO2_C)","v":0}]
[]
[null,2015,null,{"$f":"VLOOKUP($D$2&$J$2&$F$2&$J$2,DataBlock,HLOOKUP(B57,DataBlock,2,FALSE),FALSE)","v":{"$error":"#N/A"}},null,null,null,null,null,null,null,null,null,null,null,null,{"$f":"IF(ISERROR(F57*CO2_C),,F57*CO2_C)","v":0}]
[]
[null,2016,null,{"$f":"VLOOKUP($D$2&$J$2&$F$2&$J$2,DataBlock,HLOOKUP(B59,DataBlock,2,FALSE),FALSE)","v":{"$error":"#N/A"}},null,null,null,null,null,null,null,null,null,null,null,null,{"$f":"IF(ISERROR(F59*CO2_C),,F59*CO2_C)","v":0}]
[]
[null,2017,null,{"$f":"VLOOKUP($D$2&$J$2&$F$2&$J$2,DataBlock,HLOOKUP(B61,DataBlock,2,FALSE),FALSE)","v":{"$error":"#N/A"}},null,null,null,null,null,null,null,null,null,null,null,null,{"$f":"IF(ISERROR(F61*CO2_C),,F61*CO2_C)","v":0}]
[]
[null,2018,null,{"$f":"VLOOKUP($D$2&$J$2&$F$2&$J$2,DataBlock,HLOOKUP(B63,DataBlock,2,FALSE),FALSE)","v":{"$error":"#N/A"}},null,null,null,null,null,null,null,null,null,null,null,null,{"$f":"IF(ISERROR(F63*CO2_C),,F63*CO2_C)","v":0}]
[]
[null,2019,null,{"$f":"VLOOKUP($D$2&$J$2&$F$2&$J$2,DataBlock,HLOOKUP(B65,DataBlock,2,FALSE),FALSE)","v":{"$error":"#N/A"}},null,null,null,null,null,null,null,null,null,null,null,null,{"$f":"IF(ISERROR(F65*CO2_C),,F65*CO2_C)","v":0}]
[]
[null,2020,null,{"$f":"VLOOKUP($D$2&$J$2&$F$2&$J$2,DataBlock,HLOOKUP(B67,DataBlock,2,FALSE),FALSE)","v":{"$error":"#N/A"}},null,null,null,null,null,null,null,null,null,null,null,null,{"$f":"IF(ISERROR(F67*CO2_C),,F67*CO2_C)","v":0}]
[]
[null,2021,null,{"$f":"VLOOKUP($D$2&$J$2&$F$2&$J$2,DataBlock,HLOOKUP(B69,DataBlock,2,FALSE),FALSE)","v":{"$error":"#N/A"}},null,null,null,null,null,null,null,null,null,null,null,null,{"$f":"IF(ISERROR(F69*CO2_C),,F69*CO2_C)","v":0}]
[]
[null,2022,null,{"$f":"VLOOKUP($D$2&$J$2&$F$2&$J$2,DataBlock,HLOOKUP(B71,DataBlock,2,FALSE),FALSE)","v":{"$error":"#N/A"}},null,null,null,null,null,null,null,null,null,null,null,null,{"$f":"IF(ISERROR(F71*CO2_C),,F71*CO2_C)","v":0}]
[]
[null,2023,null,{"$f":"VLOOKUP($D$2&$J$2&$F$2&$J$2,DataBlock,HLOOKUP(B73,DataBlock,2,FALSE),FALSE)","v":{"$error":"#N/A"}},null,null,null,null,null,null,null,null,null,null,null,null,{"$f":"IF(ISERROR(F73*CO2_C),,F73*CO2_C)","v":0}]
[]
[null,2024,null,{"$f":"VLOOKUP($D$2&$J$2&$F$2&$J$2,DataBlock,HLOOKUP(B75,DataBlock,2,FALSE),FALSE)","v":{"$error":"#N/A"}},null,null,null,null,null,null,null,null,null,null,null,null,{"$f":"IF(ISERROR(F75*CO2_C),,F75*CO2_C)","v":0}]
[]
[null,2025,null,{"$f":"VLOOKUP($D$2&$J$2&$F$2&$J$2,DataBlock,HLOOKUP(B77,DataBlock,2,FALSE),FALSE)","v":{"$error":"#N/A"}},null,null,null,null,null,null,null,null,null,null,null,null,{"$f":"IF(ISERROR(F77*CO2_C),,F77*CO2_C)","v":0}]

{"sheet":"Semiconductor","index":14,"n_rows":77,"n_cols":15,"rows_kept":77,"cut":false,"hidden":false,"merged":[[2,1,2,13]]}
[null,{"$f":"\"14. Semiconductor Manufacture in \"&'List Data'!B3","v":"14. Semiconductor Manufacture in Select a State . . ."}]
[null,null,null,{"$f":"'List Data'!$A$3","v":"XX"},"Semi",{"$f":"\" \"","v":" "}]
[]
[null,null,null," National Emissions",null,"Value of State Semiconductor Shipments- 1997, 2002, 2007, 2012, or 2017 intervening years interpolated",null,"Value of National Semiconductor Shipments- 1997, 2002, 2007, 2012, or 2017 intervening years interpolated",null,"Apportioned National Emissions",null,"Apportioned National Emissions"]
[null,null,null,"(Metric Tons CO2 Eq.)",null," ($1000's)",null," ($1000's) ",null,"(MTCE)",null,"(MTCO2E)"]
[]
[null,1990,null,null,"x",null,"/",null,"=",{"$f":"L7*CO2_C","v":0},"="]
[]
[null,1991,null,null,"x",null,"/",null,"=",{"$f":"L9*CO2_C","v":0},"="]
[]
[null,1992,null,null,"x",null,"/",null,"=",{"$f":"L11*CO2_C","v":0},"="]
[]
[null,1993,null,null,"x",null,"/",null,"=",{"$f":"L13*CO2_C","v":0},"="]
[]
[null,1994,null,null,"x",null,"/",null,"=",{"$f":"L15*CO2_C","v":0},"="]
[]
[null,1995,null,null,"x",null,"/",null,"=",{"$f":"L17*CO2_C","v":0},"="]
[]
[null,1996,null,null,"x",null,"/",null,"=",{"$f":"L19*CO2_C","v":0},"="]
[]
[null,1997,null,null,"x",null,"/",null,"=",{"$f":"L21*CO2_C","v":0},"="]
[]
[null,1998,null,null,"x",null,"/",null,"=",{"$f":"L23*CO2_C","v":0},"=",null,null,null," "]
[]
[null,1999,null,null,"x",null,"/",null,"=",{"$f":"L25*CO2_C","v":0},"="]
[]
[null,2000,null,null,"x",null,"/",null,"=",{"$f":"L27*CO2_C","v":0},"="]
[]
[null,2001,null,null,"x",null,"/",null,"=",{"$f":"L29*CO2_C","v":0},"="]
[]
[null,2002,null,null,"x",null,"/",null,"=",{"$f":"L31*CO2_C","v":0},"="]
[]
[null,2003,null,null,"x",null,"/",null,"=",{"$f":"L33*CO2_C","v":0},"=",null,null,null," "]
[]
[null,2004,null,null,"x",null,"/",null,"=",{"$f":"L35*CO2_C","v":0},"="]
[]
[null,2005,null,null,"x",null,"/",null,"=",{"$f":"L37*CO2_C","v":0},"="]
[]
[null,2006,null,null,"x",null,"/",null,"=",{"$f":"L39*CO2_C","v":0},"="]
[]
[null,2007,null,null,"x",null,"/",null,"=",{"$f":"L41*CO2_C","v":0},"="]
[]
[null,2008,null,null,"x",null,"/",null,"=",{"$f":"L43*CO2_C","v":0},"="]
[]
[null,2009,null,null,"x",null,"/",null,"=",{"$f":"L45*CO2_C","v":0},"="]
[]
[null,2010,null,null,"x",null,"/",null,"=",{"$f":"L47*CO2_C","v":0},"="]
[]
[null,2011,null,null,"x",null,"/",null,"=",{"$f":"L49*CO2_C","v":0},"="]
[]
[null,2012,null,null,"x",null,"/",null,"=",{"$f":"L51*CO2_C","v":0},"="]
[]
[null,2013,null,null,"x",null,"/",null,"=",{"$f":"L53*CO2_C","v":0},"="]
[]
[null,2014,null,null,"x",null,"/",null,"=",{"$f":"L55*CO2_C","v":0},"="]
[]
[null,2015,null,null,"x",null,"/",null,"=",{"$f":"L57*CO2_C","v":0},"="]
[]
[null,2016,null,null,"x",null,"/",null,"=",{"$f":"L59*CO2_C","v":0},"="]
[]
[null,2017,null,null,"x",null,"/",null,"=",{"$f":"L61*CO2_C","v":0},"="]
[]
[null,2018,null,null,"x",null,"/",null,"=",{"$f":"L63*CO2_C","v":0},"="]
[]
[null,2019,null,null,"x",null,"/",null,"=",{"$f":"L65*CO2_C","v":0},"="]
[]
[null,2020,null,null,"x",null,"/",null,"=",{"$f":"L67*CO2_C","v":0},"="]
[]
[null,2021,null,null,"x",null,"/",null,"=",{"$f":"L69*CO2_C","v":0},"="]
[]
[null,2022,null,null,"x",null,"/",null,"=",{"$f":"L71*CO2_C","v":0},"="]
[]
[null,2023,null,null,"x",null,"/",null,"=",{"$f":"L73*CO2_C","v":0},"="]
[]
[null,2024,null,null,"x",null,"/",null,"=",{"$f":"L75*CO2_C","v":0},"="]
[]
[null,2025,null,null,"x",null,"/",null,"=",{"$f":"L77*CO2_C","v":0},"="]

{"sheet":"Electric Power","index":15,"n_rows":77,"n_cols":15,"rows_kept":77,"cut":false,"hidden":false,"merged":[[2,1,2,12]]}
[null,{"$f":"\"15. Electric Power Transmission and Distribution in \"&'List Data'!B3","v":"15. Electric Power Transmission and Distribution in Select a State . . ."}]
[null,null,null,{"$f":"'List Data'!$A$3","v":"XX"},"EU",{"$f":"\" \"","v":" "}]
[]
[null,null,null,"SF6 Consumption",null,"Emission Factor",null,"Emissions ",null,"Emissions ",null,"Emissions "]
[null,null,null,"(Metric Tons)",null,"(t SF6/t Consumption)",null,"(Metric Tons SF6)",null,"(MTCE)",null,"(MTCO2E)"]
[]
[null,1990,null,null,"x",{"$f":"INDIRECT($E$2&\"Factor\")","v":0},"=",{"$f":"IF(ISERROR(D7*F7),,D7*F7)","v":0},"=",{"$f":"H7*Control!$C$101*CO2_C","v":0},"=",{"$f":"J7/CO2_C","v":0}]
[]
[null,1991,null,null,"x",{"$f":"INDIRECT($E$2&\"Factor\")","v":0},"=",{"$f":"IF(ISERROR(D9*F9),,D9*F9)","v":0},"=",{"$f":"H9*Control!$C$101*CO2_C","v":0},"=",{"$f":"J9/CO2_C","v":0}]
[]
[null,1992,null,null,"x",{"$f":"INDIRECT($E$2&\"Factor\")","v":0},"=",{"$f":"IF(ISERROR(D11*F11),,D11*F11)","v":0},"=",{"$f":"H11*Control!$C$101*CO2_C","v":0},"=",{"$f":"J11/CO2_C","v":0}]
[]
[null,1993,null,null,"x",{"$f":"INDIRECT($E$2&\"Factor\")","v":0},"=",{"$f":"IF(ISERROR(D13*F13),,D13*F13)","v":0},"=",{"$f":"H13*Control!$C$101*CO2_C","v":0},"=",{"$f":"J13/CO2_C","v":0}]
[]
[null,1994,null,null,"x",{"$f":"INDIRECT($E$2&\"Factor\")","v":0},"=",{"$f":"IF(ISERROR(D15*F15),,D15*F15)","v":0},"=",{"$f":"H15*Control!$C$101*CO2_C","v":0},"=",{"$f":"J15/CO2_C","v":0}]
[]
[null,1995,null,null,"x",{"$f":"INDIRECT($E$2&\"Factor\")","v":0},"=",{"$f":"IF(ISERROR(D17*F17),,D17*F17)","v":0},"=",{"$f":"H17*Control!$C$101*CO2_C","v":0},"=",{"$f":"J17/CO2_C","v":0}]
[]
[null,1996,null,null,"x",{"$f":"INDIRECT($E$2&\"Factor\")","v":0},"=",{"$f":"IF(ISERROR(D19*F19),,D19*F19)","v":0},"=",{"$f":"H19*Control!$C$101*CO2_C","v":0},"=",{"$f":"J19/CO2_C","v":0}]
[]
[null,1997,null,null,"x",{"$f":"INDIRECT($E$2&\"Factor\")","v":0},"=",{"$f":"IF(ISERROR(D21*F21),,D21*F21)","v":0},"=",{"$f":"H21*Control!$C$101*CO2_C","v":0},"=",{"$f":"J21/CO2_C","v":0}]
[]
[null,1998,null,null,"x",{"$f":"INDIRECT($E$2&\"Factor\")","v":0},"=",{"$f":"IF(ISERROR(D23*F23),,D23*F23)","v":0},"=",{"$f":"H23*Control!$C$101*CO2_C","v":0},"=",{"$f":"J23/CO2_C","v":0},null,null," "]
[]
[null,1999,null,null,"x",{"$f":"INDIRECT($E$2&\"Factor\")","v":0},"=",{"$f":"IF(ISERROR(D25*F25),,D25*F25)","v":0},"=",{"$f":"H25*Control!$C$101*CO2_C","v":0},"=",{"$f":"J25/CO2_C","v":0}]
[]
[null,2000,null,null,"x",{"$f":"INDIRECT($E$2&\"Factor\")","v":0},"=",{"$f":"IF(ISERROR(D27*F27),,D27*F27)","v":0},"=",{"$f":"H27*Control!$C$101*CO2_C","v":0},"=",{"$f":"J27/CO2_C","v":0}]
[]
[null,2001,null,null,"x",{"$f":"INDIRECT($E$2&\"Factor\")","v":0},"=",{"$f":"IF(ISERROR(D29*F29),,D29*F29)","v":0},"=",{"$f":"H29*Control!$C$101*CO2_C","v":0},"=",{"$f":"J29/CO2_C","v":0}]
[]
[null,2002,null,null,"x",{"$f":"INDIRECT($E$2&\"Factor\")","v":0},"=",{"$f":"IF(ISERROR(D31*F31),,D31*F31)","v":0},"=",{"$f":"H31*Control!$C$101*CO2_C","v":0},"=",{"$f":"J31/CO2_C","v":0}]
[]
[null,2003,null,null,"x",{"$f":"INDIRECT($E$2&\"Factor\")","v":0},"=",{"$f":"IF(ISERROR(D33*F33),,D33*F33)","v":0},"=",{"$f":"H33*Control!$C$101*CO2_C","v":0},"=",{"$f":"J33/CO2_C","v":0}]
[]
[null,2004,null,null,"x",{"$f":"INDIRECT($E$2&\"Factor\")","v":0},"=",{"$f":"IF(ISERROR(D35*F35),,D35*F35)","v":0},"=",{"$f":"H35*Control!$C$101*CO2_C","v":0},"=",{"$f":"J35/CO2_C","v":0}]
[]
[null,2005,null,null,"x",{"$f":"INDIRECT($E$2&\"Factor\")","v":0},"=",{"$f":"IF(ISERROR(D37*F37),,D37*F37)","v":0},"=",{"$f":"H37*Control!$C$101*CO2_C","v":0},"=",{"$f":"J37/CO2_C","v":0}]
[]
[null,2006,null,null,"x",{"$f":"INDIRECT($E$2&\"Factor\")","v":0},"=",{"$f":"IF(ISERROR(D39*F39),,D39*F39)","v":0},"=",{"$f":"H39*Control!$C$101*CO2_C","v":0},"=",{"$f":"J39/CO2_C","v":0}]
[]
[null,2007,null,null,"x",{"$f":"INDIRECT($E$2&\"Factor\")","v":0},"=",{"$f":"IF(ISERROR(D41*F41),,D41*F41)","v":0},"=",{"$f":"H41*Control!$C$101*CO2_C","v":0},"=",{"$f":"J41/CO2_C","v":0}]
[]
[null,2008,null,null,"x",{"$f":"INDIRECT($E$2&\"Factor\")","v":0},"=",{"$f":"IF(ISERROR(D43*F43),,D43*F43)","v":0},"=",{"$f":"H43*Control!$C$101*CO2_C","v":0},"=",{"$f":"J43/CO2_C","v":0}]
[]
[null,2009,null,null,"x",{"$f":"INDIRECT($E$2&\"Factor\")","v":0},"=",{"$f":"IF(ISERROR(D45*F45),,D45*F45)","v":0},"=",{"$f":"H45*Control!$C$101*CO2_C","v":0},"=",{"$f":"J45/CO2_C","v":0}]
[]
[null,2010,null,null,"x",{"$f":"INDIRECT($E$2&\"Factor\")","v":0},"=",{"$f":"IF(ISERROR(D47*F47),,D47*F47)","v":0},"=",{"$f":"H47*Control!$C$101*CO2_C","v":0},"=",{"$f":"J47/CO2_C","v":0}]
[]
[null,2011,null,null,"x",{"$f":"INDIRECT($E$2&\"Factor\")","v":0},"=",{"$f":"IF(ISERROR(D49*F49),,D49*F49)","v":0},"=",{"$f":"H49*Control!$C$101*CO2_C","v":0},"=",{"$f":"J49/CO2_C","v":0}]
[]
[null,2012,null,null,"x",{"$f":"INDIRECT($E$2&\"Factor\")","v":0},"=",{"$f":"IF(ISERROR(D51*F51),,D51*F51)","v":0},"=",{"$f":"H51*Control!$C$101*CO2_C","v":0},"=",{"$f":"J51/CO2_C","v":0}]
[]
[null,2013,null,null,"x",{"$f":"INDIRECT($E$2&\"Factor\")","v":0},"=",{"$f":"IF(ISERROR(D53*F53),,D53*F53)","v":0},"=",{"$f":"H53*Control!$C$101*CO2_C","v":0},"=",{"$f":"J53/CO2_C","v":0}]
[]
[null,2014,null,null,"x",{"$f":"INDIRECT($E$2&\"Factor\")","v":0},"=",{"$f":"IF(ISERROR(D55*F55),,D55*F55)","v":0},"=",{"$f":"H55*Control!$C$101*CO2_C","v":0},"=",{"$f":"J55/CO2_C","v":0}]
[]
[null,2015,null,null,"x",{"$f":"INDIRECT($E$2&\"Factor\")","v":0},"=",{"$f":"IF(ISERROR(D57*F57),,D57*F57)","v":0},"=",{"$f":"H57*Control!$C$101*CO2_C","v":0},"=",{"$f":"J57/CO2_C","v":0}]
[]
[null,2016,null,null,"x",{"$f":"INDIRECT($E$2&\"Factor\")","v":0},"=",{"$f":"IF(ISERROR(D59*F59),,D59*F59)","v":0},"=",{"$f":"H59*Control!$C$101*CO2_C","v":0},"=",{"$f":"J59/CO2_C","v":0}]
[]
[null,2017,null,null,"x",{"$f":"INDIRECT($E$2&\"Factor\")","v":0},"=",{"$f":"IF(ISERROR(D61*F61),,D61*F61)","v":0},"=",{"$f":"H61*Control!$C$101*CO2_C","v":0},"=",{"$f":"J61/CO2_C","v":0}]
[]
[null,2018,null,null,"x",{"$f":"INDIRECT($E$2&\"Factor\")","v":0},"=",{"$f":"IF(ISERROR(D63*F63),,D63*F63)","v":0},"=",{"$f":"H63*Control!$C$101*CO2_C","v":0},"=",{"$f":"J63/CO2_C","v":0}]
[]
[null,2019,null,null,"x",{"$f":"INDIRECT($E$2&\"Factor\")","v":0},"=",{"$f":"IF(ISERROR(D65*F65),,D65*F65)","v":0},"=",{"$f":"H65*Control!$C$101*CO2_C","v":0},"=",{"$f":"J65/CO2_C","v":0}]
[]
[null,2020,null,null,"x",{"$f":"INDIRECT($E$2&\"Factor\")","v":0},"=",{"$f":"IF(ISERROR(D67*F67),,D67*F67)","v":0},"=",{"$f":"H67*Control!$C$101*CO2_C","v":0},"=",{"$f":"J67/CO2_C","v":0}]
[]
[null,2021,null,null,"x",{"$f":"INDIRECT($E$2&\"Factor\")","v":0},"=",{"$f":"IF(ISERROR(D69*F69),,D69*F69)","v":0},"=",{"$f":"H69*Control!$C$101*CO2_C","v":0},"=",{"$f":"J69/CO2_C","v":0}]
[]
[null,2022,null,null,"x",{"$f":"INDIRECT($E$2&\"Factor\")","v":0},"=",{"$f":"IF(ISERROR(D71*F71),,D71*F71)","v":0},"=",{"$f":"H71*Control!$C$101*CO2_C","v":0},"=",{"$f":"J71/CO2_C","v":0}]
[]
[null,2023,null,null,"x",{"$f":"INDIRECT($E$2&\"Factor\")","v":0},"=",{"$f":"IF(ISERROR(D73*F73),,D73*F73)","v":0},"=",{"$f":"H73*Control!$C$101*CO2_C","v":0},"=",{"$f":"J73/CO2_C","v":0}]
[]
[null,2024,null,null,"x",{"$f":"INDIRECT($E$2&\"Factor\")","v":0},"=",{"$f":"IF(ISERROR(D75*F75),,D75*F75)","v":0},"=",{"$f":"H75*Control!$C$101*CO2_C","v":0},"=",{"$f":"J75/CO2_C","v":0}]
[]
[null,2025,null,null,"x",{"$f":"INDIRECT($E$2&\"Factor\")","v":0},"=",{"$f":"IF(ISERROR(D77*F77),,D77*F77)","v":0},"=",{"$f":"H77*Control!$C$101*CO2_C","v":0},"=",{"$f":"J77/CO2_C","v":0}]

{"sheet":"Magnesium","index":16,"n_rows":149,"n_cols":16,"rows_kept":149,"cut":false,"hidden":false,"merged":[[2,1,2,10]]}
[null,{"$f":"\"16. Magnesium Production and Processing in \"&'List Data'!B3","v":"16. Magnesium Production and Processing in Select a State . . ."}]
[null,null,null,null,{"$f":"'List Data'!$A$3","v":"XX"},"Mg",{"$f":"\" \"","v":" "}]
[]
[null,null,null,null,"Magnesium Production and Processing",null,"Emission Factor",null,"Emissions ",null,"Emissions ",null,"Emissions "]
[null,null,null,null,"(Metric Tons)",null,"(t SF6/t Magnesium)",null,"(Metric Tons SF6)",null,"(MTCE)",null,"(MTCO2E)"]
[]
[null,1990,null,"Primary Production",null,"x",{"$f":"IF(ISNUMBER(INDIRECT($F$2&LEFT(D7,2)&\"Factor\")),INDIRECT($F$2&LEFT(D7,2)&\"Factor\"),VLOOKUP(B7,MgEFs,2,FALSE))","v":1.1999999999999999E-3},"=",{"$f":"E7*G7","v":0},"=",{"$f":"I7*Control!$C$101*CO2_C","v":0},"=",{"$f":"K7/CO2_C","v":0}]
[null,null,null,"Secondary Production",null,"x",{"$f":"IF(ISNUMBER(INDIRECT($F$2&LEFT(D8,2)&\"Factor\")),INDIRECT($F$2&LEFT(D8,2)&\"Factor\"),VLOOKUP(B7,MgEFs,3,FALSE))","v":1E-3},"=",{"$f":"E8*G8","v":0},"=",{"$f":"I8*Control!$C$101*CO2_C","v":0},"=",{"$f":"K8/CO2_C","v":0}]
[null,null,null,"Casting",null,"x",{"$f":"IF(ISNUMBER(INDIRECT($F$2&LEFT(D9,2)&\"Factor\")),INDIRECT($F$2&LEFT(D9,2)&\"Factor\"),VLOOKUP(B7,MgEFs,4,FALSE))","v":4.0999999999999995E-3},"=",0,"=",{"$f":"I9*Control!$C$101*CO2_C","v":0},"=",{"$f":"K9/CO2_C","v":0}]
[]
[null,1991,null,"Primary Production",null,"x",{"$f":"IF(ISNUMBER(INDIRECT($F$2&LEFT(D11,2)&\"Factor\")),INDIRECT($F$2&LEFT(D11,2)&\"Factor\"),VLOOKUP(B11,MgEFs,2,FALSE))","v":1.1999999999999999E-3},"=",{"$f":"E11*G11","v":0},"=",{"$f":"I11*Control!$C$101*CO2_C","v":0},"=",{"$f":"K11/CO2_C","v":0}]
[null,null,null,"Secondary Production",null,"x",{"$f":"IF(ISNUMBER(INDIRECT($F$2&LEFT(D12,2)&\"Factor\")),INDIRECT($F$2&LEFT(D12,2)&\"Factor\"),VLOOKUP(B11,MgEFs,3,FALSE))","v":1E-3},"=",0,"=",{"$f":"I12*Control!$C$101*CO2_C","v":0},"=",{"$f":"K12/CO2_C","v":0}]
[null,null,null,"Casting",null,"x",{"$f":"IF(ISNUMBER(INDIRECT($F$2&LEFT(D13,2)&\"Factor\")),INDIRECT($F$2&LEFT(D13,2)&\"Factor\"),VLOOKUP(B11,MgEFs,4,FALSE))","v":4.0999999999999995E-3},"=",0,"=",{"$f":"I13*Control!$C$101*CO2_C","v":0},"=",{"$f":"K13/CO2_C","v":0}]
[]
[null,1992,null,"Primary Production",null,"x",{"$f":"IF(ISNUMBER(INDIRECT($F$2&LEFT(D15,2)&\"Factor\")),INDIRECT($F$2&LEFT(D15,2)&\"Factor\"),VLOOKUP(B15,MgEFs,2,FALSE))","v":1.1999999999999999E-3},"=",{"$f":"E15*G15","v":0},"=",{"$f":"I15*Control!$C$101*CO2_C","v":0},"=",{"$f":"K15/CO2_C","v":0}]
[null,null,null,"Secondary Production",null,"x",{"$f":"IF(ISNUMBER(INDIRECT($F$2&LEFT(D16,2)&\"Factor\")),INDIRECT($F$2&LEFT(D16,2)&\"Factor\"),VLOOKUP(B15,MgEFs,3,FALSE))","v":1E-3},"=",{"$f":"E16*G16","v":0},"=",{"$f":"I16*Control!$C$101*CO2_C","v":0},"=",{"$f":"K16/CO2_C","v":0}]
[null,null,null,"Casting",null,"x",{"$f":"IF(ISNUMBER(INDIRECT($F$2&LEFT(D17,2)&\"Factor\")),INDIRECT($F$2&LEFT(D17,2)&\"Factor\"),VLOOKUP(B15,MgEFs,4,FALSE))","v":4.0999999999999995E-3},"=",{"$f":"E17*G17","v":0},"=",{"$f":"I17*Control!$C$101*CO2_C","v":0},"=",{"$f":"K17/CO2_C","v":0}]
[]
[null,1993,null,"Primary Production",null,"x",{"$f":"IF(ISNUMBER(INDIRECT($F$2&LEFT(D19,2)&\"Factor\")),INDIRECT($F$2&LEFT(D19,2)&\"Factor\"),VLOOKUP(B19,MgEFs,2,FALSE))","v":1.1999999999999999E-3},"=",{"$f":"E19*G19","v":0},"=",{"$f":"I19*Control!$C$101*CO2_C","v":0},"=",{"$f":"K19/CO2_C","v":0}]
[null,null,null,"Secondary Production",null,"x",{"$f":"IF(ISNUMBER(INDIRECT($F$2&LEFT(D20,2)&\"Factor\")),INDIRECT($F$2&LEFT(D20,2)&\"Factor\"),VLOOKUP(B19,MgEFs,3,FALSE))","v":1E-3},"=",{"$f":"E20*G20","v":0},"=",{"$f":"I20*Control!$C$101*CO2_C","v":0},"=",{"$f":"K20/CO2_C","v":0}]
[null,null,null,"Casting",null,"x",{"$f":"IF(ISNUMBER(INDIRECT($F$2&LEFT(D21,2)&\"Factor\")),INDIRECT($F$2&LEFT(D21,2)&\"Factor\"),VLOOKUP(B19,MgEFs,4,FALSE))","v":4.0999999999999995E-3},"=",{"$f":"E21*G21","v":0},"=",{"$f":"I21*Control!$C$101*CO2_C","v":0},"=",{"$f":"K21/CO2_C","v":0}]
[]
[null,1994,null,"Primary Production",null,"x",{"$f":"IF(ISNUMBER(INDIRECT($F$2&LEFT(D23,2)&\"Factor\")),INDIRECT($F$2&LEFT(D23,2)&\"Factor\"),VLOOKUP(B23,MgEFs,2,FALSE))","v":1.1000000000000001E-3},"=",{"$f":"E23*G23","v":0},"=",{"$f":"I23*Control!$C$101*CO2_C","v":0},"=",{"$f":"K23/CO2_C","v":0}]
[null,null,null,"Secondary Production",null,"x",{"$f":"IF(ISNUMBER(INDIRECT($F$2&LEFT(D24,2)&\"Factor\")),INDIRECT($F$2&LEFT(D24,2)&\"Factor\"),VLOOKUP(B23,MgEFs,3,FALSE))","v":1E-3},"=",{"$f":"E24*G24","v":0},"=",{"$f":"I24*Control!$C$101*CO2_C","v":0},"=",{"$f":"K24/CO2_C","v":0}]
[null,null,null,"Casting",null,"x",{"$f":"IF(ISNUMBER(INDIRECT($F$2&LEFT(D25,2)&\"Factor\")),INDIRECT($F$2&LEFT(D25,2)&\"Factor\"),VLOOKUP(B23,MgEFs,4,FALSE))","v":4.0999999999999995E-3},"=",{"$f":"E25*G25","v":0},"=",{"$f":"I25*Control!$C$101*CO2_C","v":0},"=",{"$f":"K25/CO2_C","v":0}]
[]
[null,1995,null,"Primary Production",null,"x",{"$f":"IF(ISNUMBER(INDIRECT($F$2&LEFT(D27,2)&\"Factor\")),INDIRECT($F$2&LEFT(D27,2)&\"Factor\"),VLOOKUP(B27,MgEFs,2,FALSE))","v":1.1000000000000001E-3},"=",{"$f":"E27*G27","v":0},"=",{"$f":"I27*Control!$C$101*CO2_C","v":0},"=",{"$f":"K27/CO2_C","v":0}]
[null,null,null,"Secondary Production",null,"x",{"$f":"IF(ISNUMBER(INDIRECT($F$2&LEFT(D28,2)&\"Factor\")),INDIRECT($F$2&LEFT(D28,2)&\"Factor\"),VLOOKUP(B27,MgEFs,3,FALSE))","v":1E-3},"=",{"$f":"E28*G28","v":0},"=",{"$f":"I28*Control!$C$101*CO2_C","v":0},"=",{"$f":"K28/CO2_C","v":0}]
[null,null,null,"Casting",null,"x",{"$f":"IF(ISNUMBER(INDIRECT($F$2&LEFT(D29,2)&\"Factor\")),INDIRECT($F$2&LEFT(D29,2)&\"Factor\"),VLOOKUP(B27,MgEFs,4,FALSE))","v":4.0999999999999995E-3},"=",{"$f":"E29*G29","v":0},"=",{"$f":"I29*Control!$C$101*CO2_C","v":0},"=",{"$f":"K29/CO2_C","v":0}]
[]
[null,1996,null,"Primary Production",null,"x",{"$f":"IF(ISNUMBER(INDIRECT($F$2&LEFT(D31,2)&\"Factor\")),INDIRECT($F$2&LEFT(D31,2)&\"Factor\"),VLOOKUP(B31,MgEFs,2,FALSE))","v":1.1000000000000001E-3},"=",{"$f":"E31*G31","v":0},"=",{"$f":"I31*Control!$C$101*CO2_C","v":0},"=",{"$f":"K31/CO2_C","v":0}]
[null,null,null,"Secondary Production",null,"x",{"$f":"IF(ISNUMBER(INDIRECT($F$2&LEFT(D32,2)&\"Factor\")),INDIRECT($F$2&LEFT(D32,2)&\"Factor\"),VLOOKUP(B31,MgEFs,3,FALSE))","v":1E-3},"=",{"$f":"E32*G32","v":0},"=",{"$f":"I32*Control!$C$101*CO2_C","v":0},"=",{"$f":"K32/CO2_C","v":0}]
[null,null,null,"Casting",null,"x",{"$f":"IF(ISNUMBER(INDIRECT($F$2&LEFT(D33,2)&\"Factor\")),INDIRECT($F$2&LEFT(D33,2)&\"Factor\"),VLOOKUP(B31,MgEFs,4,FALSE))","v":4.0999999999999995E-3},"=",{"$f":"E33*G33","v":0},"=",{"$f":"I33*Control!$C$101*CO2_C","v":0},"=",{"$f":"K33/CO2_C","v":0}]
[]
[null,1997,null,"Primary Production",null,"x",{"$f":"IF(ISNUMBER(INDIRECT($F$2&LEFT(D35,2)&\"Factor\")),INDIRECT($F$2&LEFT(D35,2)&\"Factor\"),VLOOKUP(B35,MgEFs,2,FALSE))","v":1.1000000000000001E-3},"=",{"$f":"E35*G35","v":0},"=",{"$f":"I35*Control!$C$101*CO2_C","v":0},"=",{"$f":"K35/CO2_C","v":0}]
[null,null,null,"Secondary Production",null,"x",{"$f":"IF(ISNUMBER(INDIRECT($F$2&LEFT(D36,2)&\"Factor\")),INDIRECT($F$2&LEFT(D36,2)&\"Factor\"),VLOOKUP(B35,MgEFs,3,FALSE))","v":1E-3},"=",{"$f":"E36*G36","v":0},"=",{"$f":"I36*Control!$C$101*CO2_C","v":0},"=",{"$f":"K36/CO2_C","v":0}]
[null,null,null,"Casting",null,"x",{"$f":"IF(ISNUMBER(INDIRECT($F$2&LEFT(D37,2)&\"Factor\")),INDIRECT($F$2&LEFT(D37,2)&\"Factor\"),VLOOKUP(B35,MgEFs,4,FALSE))","v":3.446383566889664E-3},"=",{"$f":"E37*G37","v":0},"=",{"$f":"I37*Control!$C$101*CO2_C","v":0},"=",{"$f":"K37/CO2_C","v":0}]
[]
[null,1998,null,"Primary Production",null,"x",{"$f":"IF(ISNUMBER(INDIRECT($F$2&LEFT(D39,2)&\"Factor\")),INDIRECT($F$2&LEFT(D39,2)&\"Factor\"),VLOOKUP(B39,MgEFs,2,FALSE))","v":1E-3},"=",{"$f":"E39*G39","v":0},"=",{"$f":"I39*Control!$C$101*CO2_C","v":0},"=",{"$f":"K39/CO2_C","v":0},null,null," "]
[null,null,null,"Secondary Production",null,"x",{"$f":"IF(ISNUMBER(INDIRECT($F$2&LEFT(D40,2)&\"Factor\")),INDIRECT($F$2&LEFT(D40,2)&\"Factor\"),VLOOKUP(B39,MgEFs,3,FALSE))","v":1E-3},"=",{"$f":"E40*G40","v":0},"=",{"$f":"I40*Control!$C$101*CO2_C","v":0},"=",{"$f":"K40/CO2_C","v":0}]
[null,null,null,"Casting",null,"x",{"$f":"IF(ISNUMBER(INDIRECT($F$2&LEFT(D41,2)&\"Factor\")),INDIRECT($F$2&LEFT(D41,2)&\"Factor\"),VLOOKUP(B39,MgEFs,4,FALSE))","v":2.7927671337793286E-3},"=",{"$f":"E41*G41","v":0},"=",{"$f":"I41*Control!$C$101*CO2_C","v":0},"=",{"$f":"K41/CO2_C","v":0}]
[]
[null,1999,null,"Primary Production",null,"x",{"$f":"IF(ISNUMBER(INDIRECT($F$2&LEFT(D43,2)&\"Factor\")),INDIRECT($F$2&LEFT(D43,2)&\"Factor\"),VLOOKUP(B43,MgEFs,2,FALSE))","v":1E-3},"=",{"$f":"E43*G43","v":0},"=",{"$f":"I43*Control!$C$101*CO2_C","v":0},"=",{"$f":"K43/CO2_C","v":0}]
[null,null,null,"Secondary Production",null,"x",{"$f":"IF(ISNUMBER(INDIRECT($F$2&LEFT(D44,2)&\"Factor\")),INDIRECT($F$2&LEFT(D44,2)&\"Factor\"),VLOOKUP(B43,MgEFs,3,FALSE))","v":1E-3},"=",{"$f":"E44*G44","v":0},"=",{"$f":"I44*Control!$C$101*CO2_C","v":0},"=",{"$f":"K44/CO2_C","v":0}]
[null,null,null,"Casting",null,"x",{"$f":"IF(ISNUMBER(INDIRECT($F$2&LEFT(D45,2)&\"Factor\")),INDIRECT($F$2&LEFT(D45,2)&\"Factor\"),VLOOKUP(B43,MgEFs,4,FALSE))","v":2.1391507006689931E-3},"=",{"$f":"E45*G45","v":0},"=",{"$f":"I45*Control!$C$101*CO2_C","v":0},"=",{"$f":"K45/CO2_C","v":0}]
[]
[null,2000,null,"Primary Production",null,"x",{"$f":"IF(ISNUMBER(INDIRECT($F$2&LEFT(D47,2)&\"Factor\")),INDIRECT($F$2&LEFT(D47,2)&\"Factor\"),VLOOKUP(B47,MgEFs,2,FALSE))","v":1E-3},"=",{"$f":"E47*G47","v":0},"=",{"$f":"I47*Control!$C$101*CO2_C","v":0},"=",{"$f":"K47/CO2_C","v":0}]
[null,null,null,"Secondary Production",null,"x",{"$f":"IF(ISNUMBER(INDIRECT($F$2&LEFT(D48,2)&\"Factor\")),INDIRECT($F$2&LEFT(D48,2)&\"Factor\"),VLOOKUP(B47,MgEFs,3,FALSE))","v":1E-3},"=",{"$f":"E48*G48","v":0},"=",{"$f":"I48*Control!$C$101*CO2_C","v":0},"=",{"$f":"K48/CO2_C","v":0}]
[null,null,null,"Casting",null,"x",{"$f":"IF(ISNUMBER(INDIRECT($F$2&LEFT(D49,2)&\"Factor\")),INDIRECT($F$2&LEFT(D49,2)&\"Factor\"),VLOOKUP(B47,MgEFs,4,FALSE))","v":7.1000000000000002E-4},"=",{"$f":"E49*G49","v":0},"=",{"$f":"I49*Control!$C$101*CO2_C","v":0},"=",{"$f":"K49/CO2_C","v":0}]
[]
[null,2001,null,"Primary Production",null,"x",{"$f":"IF(ISNUMBER(INDIRECT($F$2&LEFT(D51,2)&\"Factor\")),INDIRECT($F$2&LEFT(D51,2)&\"Factor\"),VLOOKUP(B51,MgEFs,2,FALSE))","v":1E-3},"=",{"$f":"E51*G51","v":0},"=",{"$f":"I51*Control!$C$101*CO2_C","v":0},"=",{"$f":"K51/CO2_C","v":0}]
[null,null,null,"Secondary Production",null,"x",{"$f":"IF(ISNUMBER(INDIRECT($F$2&LEFT(D52,2)&\"Factor\")),INDIRECT($F$2&LEFT(D52,2)&\"Factor\"),VLOOKUP(B51,MgEFs,3,FALSE))","v":1E-3},"=",{"$f":"E52*G52","v":0},"=",{"$f":"I52*Control!$C$101*CO2_C","v":0},"=",{"$f":"K52/CO2_C","v":0}]
[null,null,null,"Casting",null,"x",{"$f":"IF(ISNUMBER(INDIRECT($F$2&LEFT(D53,2)&\"Factor\")),INDIRECT($F$2&LEFT(D53,2)&\"Factor\"),VLOOKUP(B51,MgEFs,4,FALSE))","v":7.2999999999999996E-4},"=",{"$f":"E53*G53","v":0},"=",{"$f":"I53*Control!$C$101*CO2_C","v":0},"=",{"$f":"K53/CO2_C","v":0}]
[]
[null,2002,null,"Primary Production",null,"x",{"$f":"IF(ISNUMBER(INDIRECT($F$2&LEFT(D55,2)&\"Factor\")),INDIRECT($F$2&LEFT(D55,2)&\"Factor\"),VLOOKUP(B55,MgEFs,2,FALSE))","v":1E-3},"=",{"$f":"E55*G55","v":0},"=",{"$f":"I55*Control!$C$101*CO2_C","v":0},"=",{"$f":"K55/CO2_C","v":0}]
[null,null,null,"Secondary Production",null,"x",{"$f":"IF(ISNUMBER(INDIRECT($F$2&LEFT(D56,2)&\"Factor\")),INDIRECT($F$2&LEFT(D56,2)&\"Factor\"),VLOOKUP(B55,MgEFs,3,FALSE))","v":1E-3},"=",{"$f":"E56*G56","v":0},"=",{"$f":"I56*Control!$C$101*CO2_C","v":0},"=",{"$f":"K56/CO2_C","v":0}]
[null,null,null,"Casting",null,"x",{"$f":"IF(ISNUMBER(INDIRECT($F$2&LEFT(D57,2)&\"Factor\")),INDIRECT($F$2&LEFT(D57,2)&\"Factor\"),VLOOKUP(B55,MgEFs,4,FALSE))","v":7.1000000000000002E-4},"=",{"$f":"E57*G57","v":0},"=",{"$f":"I57*Control!$C$101*CO2_C","v":0},"=",{"$f":"K57/CO2_C","v":0}]
[]
[null,2003,null,"Primary Production",null,"x",{"$f":"IF(ISNUMBER(INDIRECT($F$2&LEFT(D59,2)&\"Factor\")),INDIRECT($F$2&LEFT(D59,2)&\"Factor\"),VLOOKUP(B59,MgEFs,2,FALSE))","v":1E-3},"=",{"$f":"E59*G59","v":0},"=",{"$f":"I59*Control!$C$101*CO2_C","v":0},"=",{"$f":"K59/CO2_C","v":0}]
[null,null,null,"Secondary Production",null,"x",{"$f":"IF(ISNUMBER(INDIRECT($F$2&LEFT(D60,2)&\"Factor\")),INDIRECT($F$2&LEFT(D60,2)&\"Factor\"),VLOOKUP(B59,MgEFs,3,FALSE))","v":1E-3},"=",{"$f":"E60*G60","v":0},"=",{"$f":"I60*Control!$C$101*CO2_C","v":0},"=",{"$f":"K60/CO2_C","v":0}]
[null,null,null,"Casting",null,"x",{"$f":"IF(ISNUMBER(INDIRECT($F$2&LEFT(D61,2)&\"Factor\")),INDIRECT($F$2&LEFT(D61,2)&\"Factor\"),VLOOKUP(B59,MgEFs,4,FALSE))","v":7.1000000000000002E-4},"=",{"$f":"E61*G61","v":0},"=",{"$f":"I61*Control!$C$101*CO2_C","v":0},"=",{"$f":"K61/CO2_C","v":0}]
[]
[null,2004,null,"Primary Production",null,"x",{"$f":"IF(ISNUMBER(INDIRECT($F$2&LEFT(D63,2)&\"Factor\")),INDIRECT($F$2&LEFT(D63,2)&\"Factor\"),VLOOKUP(B63,MgEFs,2,FALSE))","v":1E-3},"=",{"$f":"E63*G63","v":0},"=",{"$f":"I63*Control!$C$101*CO2_C","v":0},"=",{"$f":"K63/CO2_C","v":0}]
[null,null,null,"Secondary Production",null,"x",{"$f":"IF(ISNUMBER(INDIRECT($F$2&LEFT(D64,2)&\"Factor\")),INDIRECT($F$2&LEFT(D64,2)&\"Factor\"),VLOOKUP(B63,MgEFs,3,FALSE))","v":1E-3},"=",{"$f":"E64*G64","v":0},"=",{"$f":"I64*Control!$C$101*CO2_C","v":0},"=",{"$f":"K64/CO2_C","v":0}]
[null,null,null,"Casting",null,"x",{"$f":"IF(ISNUMBER(INDIRECT($F$2&LEFT(D65,2)&\"Factor\")),INDIRECT($F$2&LEFT(D65,2)&\"Factor\"),VLOOKUP(B63,MgEFs,4,FALSE))","v":7.1000000000000002E-4},"=",{"$f":"E65*G65","v":0},"=",{"$f":"I65*Control!$C$101*CO2_C","v":0},"=",{"$f":"K65/CO2_C","v":0}]
[]
[null,2005,null,"Primary Production",null,"x",{"$f":"IF(ISNUMBER(INDIRECT($F$2&LEFT(D67,2)&\"Factor\")),INDIRECT($F$2&LEFT(D67,2)&\"Factor\"),VLOOKUP(B67,MgEFs,2,FALSE))","v":1E-3},"=",{"$f":"E67*G67","v":0},"=",{"$f":"I67*Control!$C$101*CO2_C","v":0},"=",{"$f":"K67/CO2_C","v":0}]
[null,null,null,"Secondary Production",null,"x",{"$f":"IF(ISNUMBER(INDIRECT($F$2&LEFT(D68,2)&\"Factor\")),INDIRECT($F$2&LEFT(D68,2)&\"Factor\"),VLOOKUP(B67,MgEFs,3,FALSE))","v":1E-3},"=",{"$f":"E68*G68","v":0},"=",{"$f":"I68*Control!$C$101*CO2_C","v":0},"=",{"$f":"K68/CO2_C","v":0}]
[null,null,null,"Casting",null,"x",{"$f":"IF(ISNUMBER(INDIRECT($F$2&LEFT(D69,2)&\"Factor\")),INDIRECT($F$2&LEFT(D69,2)&\"Factor\"),VLOOKUP(B67,MgEFs,4,FALSE))","v":7.1000000000000002E-4},"=",{"$f":"E69*G69","v":0},"=",{"$f":"I69*Control!$C$101*CO2_C","v":0},"=",{"$f":"K69/CO2_C","v":0}]
[]
[null,2006,null,"Primary Production",null,"x",{"$f":"IF(ISNUMBER(INDIRECT($F$2&LEFT(D71,2)&\"Factor\")),INDIRECT($F$2&LEFT(D71,2)&\"Factor\"),VLOOKUP(B71,MgEFs,2,FALSE))","v":1E-3},"=",{"$f":"E71*G71","v":0},"=",{"$f":"I71*Control!$C$101*CO2_C","v":0},"=",{"$f":"K71/CO2_C","v":0}]
[null,null,null,"Secondary Production",null,"x",{"$f":"IF(ISNUMBER(INDIRECT($F$2&LEFT(D72,2)&\"Factor\")),INDIRECT($F$2&LEFT(D72,2)&\"Factor\"),VLOOKUP(B71,MgEFs,3,FALSE))","v":1E-3},"=",{"$f":"E72*G72","v":0},"=",{"$f":"I72*Control!$C$101*CO2_C","v":0},"=",{"$f":"K72/CO2_C","v":0}]
[null,null,null,"Casting",null,"x",{"$f":"IF(ISNUMBER(INDIRECT($F$2&LEFT(D73,2)&\"Factor\")),INDIRECT($F$2&LEFT(D73,2)&\"Factor\"),VLOOKUP(B71,MgEFs,4,FALSE))","v":7.1000000000000002E-4},"=",{"$f":"E73*G73","v":0},"=",{"$f":"I73*Control!$C$101*CO2_C","v":0},"=",{"$f":"K73/CO2_C","v":0}]
[]
[null,2007,null,"Primary Production",null,"x",{"$f":"IF(ISNUMBER(INDIRECT($F$2&LEFT(D75,2)&\"Factor\")),INDIRECT($F$2&LEFT(D75,2)&\"Factor\"),VLOOKUP(B75,MgEFs,2,FALSE))","v":1E-3},"=",{"$f":"E75*G75","v":0},"=",{"$f":"I75*Control!$C$101*CO2_C","v":0},"=",{"$f":"K75/CO2_C","v":0}]
[null,null,null,"Secondary Production",null,"x",{"$f":"IF(ISNUMBER(INDIRECT($F$2&LEFT(D76,2)&\"Factor\")),INDIRECT($F$2&LEFT(D76,2)&\"Factor\"),VLOOKUP(B75,MgEFs,3,FALSE))","v":1E-3},"=",{"$f":"E76*G76","v":0},"=",{"$f":"I76*Control!$C$101*CO2_C","v":0},"=",{"$f":"K76/CO2_C","v":0}]
[null,null,null,"Casting",null,"x",{"$f":"IF(ISNUMBER(INDIRECT($F$2&LEFT(D77,2)&\"Factor\")),INDIRECT($F$2&LEFT(D77,2)&\"Factor\"),VLOOKUP(B75,MgEFs,4,FALSE))","v":7.1000000000000002E-4},"=",{"$f":"E77*G77","v":0},"=",{"$f":"I77*Control!$C$101*CO2_C","v":0},"=",{"$f":"K77/CO2_C","v":0}]
[]
[null,2008,null,"Primary Production",null,"x",{"$f":"IF(ISNUMBER(INDIRECT($F$2&LEFT(D79,2)&\"Factor\")),INDIRECT($F$2&LEFT(D79,2)&\"Factor\"),VLOOKUP(B79,MgEFs,2,FALSE))","v":1E-3},"=",{"$f":"E79*G79","v":0},"=",{"$f":"I79*Control!$C$101*CO2_C","v":0},"=",{"$f":"K79/CO2_C","v":0}]
[null,null,null,"Secondary Production",null,"x",{"$f":"IF(ISNUMBER(INDIRECT($F$2&LEFT(D80,2)&\"Factor\")),INDIRECT($F$2&LEFT(D80,2)&\"Factor\"),VLOOKUP(B79,MgEFs,3,FALSE))","v":1E-3},"=",{"$f":"E80*G80","v":0},"=",{"$f":"I80*Control!$C$101*CO2_C","v":0},"=",{"$f":"K80/CO2_C","v":0}]
[null,null,null,"Casting",null,"x",{"$f":"IF(ISNUMBER(INDIRECT($F$2&LEFT(D81,2)&\"Factor\")),INDIRECT($F$2&LEFT(D81,2)&\"Factor\"),VLOOKUP(B79,MgEFs,4,FALSE))","v":7.1000000000000002E-4},"=",{"$f":"E81*G81","v":0},"=",{"$f":"I81*Control!$C$101*CO2_C","v":0},"=",{"$f":"K81/CO2_C","v":0}]
[]
[null,2009,null,"Primary Production",null,"x",{"$f":"IF(ISNUMBER(INDIRECT($F$2&LEFT(D83,2)&\"Factor\")),INDIRECT($F$2&LEFT(D83,2)&\"Factor\"),VLOOKUP(B83,MgEFs,2,FALSE))","v":1E-3},"=",{"$f":"E83*G83","v":0},"=",{"$f":"I83*Control!$C$101*CO2_C","v":0},"=",{"$f":"K83/CO2_C","v":0}]
[null,null,null,"Secondary Production",null,"x",{"$f":"IF(ISNUMBER(INDIRECT($F$2&LEFT(D84,2)&\"Factor\")),INDIRECT($F$2&LEFT(D84,2)&\"Factor\"),VLOOKUP(B83,MgEFs,3,FALSE))","v":1E-3},"=",{"$f":"E84*G84","v":0},"=",{"$f":"I84*Control!$C$101*CO2_C","v":0},"=",{"$f":"K84/CO2_C","v":0}]
[null,null,null,"Casting",null,"x",{"$f":"IF(ISNUMBER(INDIRECT($F$2&LEFT(D85,2)&\"Factor\")),INDIRECT($F$2&LEFT(D85,2)&\"Factor\"),VLOOKUP(B83,MgEFs,4,FALSE))","v":7.1000000000000002E-4},"=",{"$f":"E85*G85","v":0},"=",{"$f":"I85*Control!$C$101*CO2_C","v":0},"=",{"$f":"K85/CO2_C","v":0}]
[]
[null,2010,null,"Primary Production",null,"x",{"$f":"IF(ISNUMBER(INDIRECT($F$2&LEFT(D87,2)&\"Factor\")),INDIRECT($F$2&LEFT(D87,2)&\"Factor\"),VLOOKUP(B87,MgEFs,2,FALSE))","v":1E-3},"=",{"$f":"E87*G87","v":0},"=",{"$f":"I87*Control!$C$101*CO2_C","v":0},"=",{"$f":"K87/CO2_C","v":0}]
[null,null,null,"Secondary Production",null,"x",{"$f":"IF(ISNUMBER(INDIRECT($F$2&LEFT(D88,2)&\"Factor\")),INDIRECT($F$2&LEFT(D88,2)&\"Factor\"),VLOOKUP(B87,MgEFs,3,FALSE))","v":1E-3},"=",{"$f":"E88*G88","v":0},"=",{"$f":"I88*Control!$C$101*CO2_C","v":0},"=",{"$f":"K88/CO2_C","v":0}]
[null,null,null,"Casting",null,"x",{"$f":"IF(ISNUMBER(INDIRECT($F$2&LEFT(D89,2)&\"Factor\")),INDIRECT($F$2&LEFT(D89,2)&\"Factor\"),VLOOKUP(B87,MgEFs,4,FALSE))","v":7.1000000000000002E-4},"=",{"$f":"E89*G89","v":0},"=",{"$f":"I89*Control!$C$101*CO2_C","v":0},"=",{"$f":"K89/CO2_C","v":0}]
[]
[null,2011,null,"Primary Production",null,"x",{"$f":"IF(ISNUMBER(INDIRECT($F$2&LEFT(D91,2)&\"Factor\")),INDIRECT($F$2&LEFT(D91,2)&\"Factor\"),VLOOKUP(B91,MgEFs,2,FALSE))","v":1E-3},"=",{"$f":"E91*G91","v":0},"=",{"$f":"I91*Control!$C$101*CO2_C","v":0},"=",{"$f":"K91/CO2_C","v":0}]
[null,null,null,"Secondary Production",null,"x",{"$f":"IF(ISNUMBER(INDIRECT($F$2&LEFT(D92,2)&\"Factor\")),INDIRECT($F$2&LEFT(D92,2)&\"Factor\"),VLOOKUP(B91,MgEFs,3,FALSE))","v":1E-3},"=",{"$f":"E92*G92","v":0},"=",{"$f":"I92*Control!$C$101*CO2_C","v":0},"=",{"$f":"K92/CO2_C","v":0}]
[null,null,null,"Casting",null,"x",{"$f":"IF(ISNUMBER(INDIRECT($F$2&LEFT(D93,2)&\"Factor\")),INDIRECT($F$2&LEFT(D93,2)&\"Factor\"),VLOOKUP(B91,MgEFs,4,FALSE))","v":7.1000000000000002E-4},"=",{"$f":"E93*G93","v":0},"=",{"$f":"I93*Control!$C$101*CO2_C","v":0},"=",{"$f":"K93/CO2_C","v":0}]
[]
[null,2012,null,"Primary Production",null,"x",{"$f":"IF(ISNUMBER(INDIRECT($F$2&LEFT(D95,2)&\"Factor\")),INDIRECT($F$2&LEFT(D95,2)&\"Factor\"),VLOOKUP(B95,MgEFs,2,FALSE))","v":1E-3},"=",{"$f":"E95*G95","v":0},"=",{"$f":"I95*Control!$C$101*CO2_C","v":0},"=",{"$f":"K95/CO2_C","v":0}]
[null,null,null,"Secondary Production",null,"x",{"$f":"IF(ISNUMBER(INDIRECT($F$2&LEFT(D96,2)&\"Factor\")),INDIRECT($F$2&LEFT(D96,2)&\"Factor\"),VLOOKUP(B95,MgEFs,3,FALSE))","v":1E-3},"=",{"$f":"E96*G96","v":0},"=",{"$f":"I96*Control!$C$101*CO2_C","v":0},"=",{"$f":"K96/CO2_C","v":0}]
[null,null,null,"Casting",null,"x",{"$f":"IF(ISNUMBER(INDIRECT($F$2&LEFT(D97,2)&\"Factor\")),INDIRECT($F$2&LEFT(D97,2)&\"Factor\"),VLOOKUP(B95,MgEFs,4,FALSE))","v":7.1000000000000002E-4},"=",{"$f":"E97*G97","v":0},"=",{"$f":"I97*Control!$C$101*CO2_C","v":0},"=",{"$f":"K97/CO2_C","v":0}]
[]
[null,2013,null,"Primary Production",null,"x",{"$f":"IF(ISNUMBER(INDIRECT($F$2&LEFT(D99,2)&\"Factor\")),INDIRECT($F$2&LEFT(D99,2)&\"Factor\"),VLOOKUP(B99,MgEFs,2,FALSE))","v":1E-3},"=",{"$f":"E99*G99","v":0},"=",{"$f":"I99*Control!$C$101*CO2_C","v":0},"=",{"$f":"K99/CO2_C","v":0}]
[null,null,null,"Secondary Production",null,"x",{"$f":"IF(ISNUMBER(INDIRECT($F$2&LEFT(D100,2)&\"Factor\")),INDIRECT($F$2&LEFT(D100,2)&\"Factor\"),VLOOKUP(B99,MgEFs,3,FALSE))","v":1E-3},"=",{"$f":"E100*G100","v":0},"=",{"$f":"I100*Control!$C$101*CO2_C","v":0},"=",{"$f":"K100/CO2_C","v":0}]
[null,null,null,"Casting",null,"x",{"$f":"IF(ISNUMBER(INDIRECT($F$2&LEFT(D101,2)&\"Factor\")),INDIRECT($F$2&LEFT(D101,2)&\"Factor\"),VLOOKUP(B99,MgEFs,4,FALSE))","v":7.1000000000000002E-4},"=",{"$f":"E101*G101","v":0},"=",{"$f":"I101*Control!$C$101*CO2_C","v":0},"=",{"$f":"K101/CO2_C","v":0}]
[]
[null,2014,null,"Primary Production",null,"x",{"$f":"IF(ISNUMBER(INDIRECT($F$2&LEFT(D103,2)&\"Factor\")),INDIRECT($F$2&LEFT(D103,2)&\"Factor\"),VLOOKUP(B103,MgEFs,2,FALSE))","v":1E-3},"=",{"$f":"E103*G103","v":0},"=",{"$f":"I103*Control!$C$101*CO2_C","v":0},"=",{"$f":"K103/CO2_C","v":0}]
[null,null,null,"Secondary Production",null,"x",{"$f":"IF(ISNUMBER(INDIRECT($F$2&LEFT(D104,2)&\"Factor\")),INDIRECT($F$2&LEFT(D104,2)&\"Factor\"),VLOOKUP(B103,MgEFs,3,FALSE))","v":1E-3},"=",{"$f":"E104*G104","v":0},"=",{"$f":"I104*Control!$C$101*CO2_C","v":0},"=",{"$f":"K104/CO2_C","v":0}]
[null,null,null,"Casting",null,"x",{"$f":"IF(ISNUMBER(INDIRECT($F$2&LEFT(D105,2)&\"Factor\")),INDIRECT($F$2&LEFT(D105,2)&\"Factor\"),VLOOKUP(B103,MgEFs,4,FALSE))","v":7.1000000000000002E-4},"=",{"$f":"E105*G105","v":0},"=",{"$f":"I105*Control!$C$101*CO2_C","v":0},"=",{"$f":"K105/CO2_C","v":0}]
[]
[null,2015,null,"Primary Production",null,"x",{"$f":"IF(ISNUMBER(INDIRECT($F$2&LEFT(D107,2)&\"Factor\")),INDIRECT($F$2&LEFT(D107,2)&\"Factor\"),VLOOKUP(B107,MgEFs,2,FALSE))","v":1E-3},"=",{"$f":"E107*G107","v":0},"=",{"$f":"I107*Control!$C$101*CO2_C","v":0},"=",{"$f":"K107/CO2_C","v":0}]
[null,null,null,"Secondary Production",null,"x",{"$f":"IF(ISNUMBER(INDIRECT($F$2&LEFT(D108,2)&\"Factor\")),INDIRECT($F$2&LEFT(D108,2)&\"Factor\"),VLOOKUP(B107,MgEFs,3,FALSE))","v":1E-3},"=",{"$f":"E108*G108","v":0},"=",{"$f":"I108*Control!$C$101*CO2_C","v":0},"=",{"$f":"K108/CO2_C","v":0}]
[null,null,null,"Casting",null,"x",{"$f":"IF(ISNUMBER(INDIRECT($F$2&LEFT(D109,2)&\"Factor\")),INDIRECT($F$2&LEFT(D109,2)&\"Factor\"),VLOOKUP(B107,MgEFs,4,FALSE))","v":7.1000000000000002E-4},"=",{"$f":"E109*G109","v":0},"=",{"$f":"I109*Control!$C$101*CO2_C","v":0},"=",{"$f":"K109/CO2_C","v":0}]
[]
[null,2016,null,"Primary Production",null,"x",{"$f":"IF(ISNUMBER(INDIRECT($F$2&LEFT(D111,2)&\"Factor\")),INDIRECT($F$2&LEFT(D111,2)&\"Factor\"),VLOOKUP(B111,MgEFs,2,FALSE))","v":1E-3},"=",{"$f":"E111*G111","v":0},"=",{"$f":"I111*Control!$C$101*CO2_C","v":0},"=",{"$f":"K111/CO2_C","v":0}]
[null,null,null,"Secondary Production",null,"x",{"$f":"IF(ISNUMBER(INDIRECT($F$2&LEFT(D112,2)&\"Factor\")),INDIRECT($F$2&LEFT(D112,2)&\"Factor\"),VLOOKUP(B111,MgEFs,3,FALSE))","v":1E-3},"=",{"$f":"E112*G112","v":0},"=",{"$f":"I112*Control!$C$101*CO2_C","v":0},"=",{"$f":"K112/CO2_C","v":0}]
[null,null,null,"Casting",null,"x",{"$f":"IF(ISNUMBER(INDIRECT($F$2&LEFT(D113,2)&\"Factor\")),INDIRECT($F$2&LEFT(D113,2)&\"Factor\"),VLOOKUP(B111,MgEFs,4,FALSE))","v":7.1000000000000002E-4},"=",{"$f":"E113*G113","v":0},"=",{"$f":"I113*Control!$C$101*CO2_C","v":0},"=",{"$f":"K113/CO2_C","v":0}]
[]
[null,2017,null,"Primary Production",null,"x",{"$f":"IF(ISNUMBER(INDIRECT($F$2&LEFT(D115,2)&\"Factor\")),INDIRECT($F$2&LEFT(D115,2)&\"Factor\"),VLOOKUP(B115,MgEFs,2,FALSE))","v":1E-3},"=",{"$f":"E115*G115","v":0},"=",{"$f":"I115*Control!$C$101*CO2_C","v":0},"=",{"$f":"K115/CO2_C","v":0}]
[null,null,null,"Secondary Production",null,"x",{"$f":"IF(ISNUMBER(INDIRECT($F$2&LEFT(D116,2)&\"Factor\")),INDIRECT($F$2&LEFT(D116,2)&\"Factor\"),VLOOKUP(B115,MgEFs,3,FALSE))","v":1E-3},"=",{"$f":"E116*G116","v":0},"=",{"$f":"I116*Control!$C$101*CO2_C","v":0},"=",{"$f":"K116/CO2_C","v":0}]
[null,null,null,"Casting",null,"x",{"$f":"IF(ISNUMBER(INDIRECT($F$2&LEFT(D117,2)&\"Factor\")),INDIRECT($F$2&LEFT(D117,2)&\"Factor\"),VLOOKUP(B115,MgEFs,4,FALSE))","v":7.1000000000000002E-4},"=",{"$f":"E117*G117","v":0},"=",{"$f":"I117*Control!$C$101*CO2_C","v":0},"=",{"$f":"K117/CO2_C","v":0}]
[]
[null,2018,null,"Primary Production",null,"x",{"$f":"IF(ISNUMBER(INDIRECT($F$2&LEFT(D119,2)&\"Factor\")),INDIRECT($F$2&LEFT(D119,2)&\"Factor\"),VLOOKUP(B119,MgEFs,2,FALSE))","v":1E-3},"=",{"$f":"E119*G119","v":0},"=",{"$f":"I119*Control!$C$101*CO2_C","v":0},"=",{"$f":"K119/CO2_C","v":0}]
[null,null,null,"Secondary Production",null,"x",{"$f":"IF(ISNUMBER(INDIRECT($F$2&LEFT(D120,2)&\"Factor\")),INDIRECT($F$2&LEFT(D120,2)&\"Factor\"),VLOOKUP(B119,MgEFs,3,FALSE))","v":1E-3},"=",{"$f":"E120*G120","v":0},"=",{"$f":"I120*Control!$C$101*CO2_C","v":0},"=",{"$f":"K120/CO2_C","v":0}]
[null,null,null,"Casting",null,"x",{"$f":"IF(ISNUMBER(INDIRECT($F$2&LEFT(D121,2)&\"Factor\")),INDIRECT($F$2&LEFT(D121,2)&\"Factor\"),VLOOKUP(B119,MgEFs,4,FALSE))","v":7.1000000000000002E-4},"=",{"$f":"E121*G121","v":0},"=",{"$f":"I121*Control!$C$101*CO2_C","v":0},"=",{"$f":"K121/CO2_C","v":0}]
[]
[null,2019,null,"Primary Production",null,"x",{"$f":"IF(ISNUMBER(INDIRECT($F$2&LEFT(D123,2)&\"Factor\")),INDIRECT($F$2&LEFT(D123,2)&\"Factor\"),VLOOKUP(B123,MgEFs,2,FALSE))","v":1E-3},"=",{"$f":"E123*G123","v":0},"=",{"$f":"I123*Control!$C$101*CO2_C","v":0},"=",{"$f":"K123/CO2_C","v":0}]
[null,null,null,"Secondary Production",null,"x",{"$f":"IF(ISNUMBER(INDIRECT($F$2&LEFT(D124,2)&\"Factor\")),INDIRECT($F$2&LEFT(D124,2)&\"Factor\"),VLOOKUP(B123,MgEFs,3,FALSE))","v":1E-3},"=",{"$f":"E124*G124","v":0},"=",{"$f":"I124*Control!$C$101*CO2_C","v":0},"=",{"$f":"K124/CO2_C","v":0}]
[null,null,null,"Casting",null,"x",{"$f":"IF(ISNUMBER(INDIRECT($F$2&LEFT(D125,2)&\"Factor\")),INDIRECT($F$2&LEFT(D125,2)&\"Factor\"),VLOOKUP(B123,MgEFs,4,FALSE))","v":7.1000000000000002E-4},"=",{"$f":"E125*G125","v":0},"=",{"$f":"I125*Control!$C$101*CO2_C","v":0},"=",{"$f":"K125/CO2_C","v":0}]
[]
[null,2020,null,"Primary Production",null,"x",{"$f":"IF(ISNUMBER(INDIRECT($F$2&LEFT(D127,2)&\"Factor\")),INDIRECT($F$2&LEFT(D127,2)&\"Factor\"),VLOOKUP(B127,MgEFs,2,FALSE))","v":1E-3},"=",{"$f":"E127*G127","v":0},"=",{"$f":"I127*Control!$C$101*CO2_C","v":0},"=",{"$f":"K127/CO2_C","v":0}]
[null,null,null,"Secondary Production",null,"x",{"$f":"IF(ISNUMBER(INDIRECT($F$2&LEFT(D128,2)&\"Factor\")),INDIRECT($F$2&LEFT(D128,2)&\"Factor\"),VLOOKUP(B127,MgEFs,3,FALSE))","v":1E-3},"=",{"$f":"E128*G128","v":0},"=",{"$f":"I128*Control!$C$101*CO2_C","v":0},"=",{"$f":"K128/CO2_C","v":0}]
[null,null,null,"Casting",null,"x",{"$f":"IF(ISNUMBER(INDIRECT($F$2&LEFT(D129,2)&\"Factor\")),INDIRECT($F$2&LEFT(D129,2)&\"Factor\"),VLOOKUP(B127,MgEFs,4,FALSE))","v":7.1000000000000002E-4},"=",{"$f":"E129*G129","v":0},"=",{"$f":"I129*Control!$C$101*CO2_C","v":0},"=",{"$f":"K129/CO2_C","v":0}]
[]
[null,2021,null,"Primary Production",null,"x",{"$f":"IF(ISNUMBER(INDIRECT($F$2&LEFT(D131,2)&\"Factor\")),INDIRECT($F$2&LEFT(D131,2)&\"Factor\"),VLOOKUP(B131,MgEFs,2,FALSE))","v":1E-3},"=",{"$f":"E131*G131","v":0},"=",{"$f":"I131*Control!$C$101*CO2_C","v":0},"=",{"$f":"K131/CO2_C","v":0}]
[null,null,null,"Secondary Production",null,"x",{"$f":"IF(ISNUMBER(INDIRECT($F$2&LEFT(D132,2)&\"Factor\")),INDIRECT($F$2&LEFT(D132,2)&\"Factor\"),VLOOKUP(B131,MgEFs,3,FALSE))","v":1E-3},"=",{"$f":"E132*G132","v":0},"=",{"$f":"I132*Control!$C$101*CO2_C","v":0},"=",{"$f":"K132/CO2_C","v":0}]
[null,null,null,"Casting",null,"x",{"$f":"IF(ISNUMBER(INDIRECT($F$2&LEFT(D133,2)&\"Factor\")),INDIRECT($F$2&LEFT(D133,2)&\"Factor\"),VLOOKUP(B131,MgEFs,4,FALSE))","v":7.1000000000000002E-4},"=",{"$f":"E133*G133","v":0},"=",{"$f":"I133*Control!$C$101*CO2_C","v":0},"=",{"$f":"K133/CO2_C","v":0}]
[]
[null,2022,null,"Primary Production",null,"x",{"$f":"IF(ISNUMBER(INDIRECT($F$2&LEFT(D135,2)&\"Factor\")),INDIRECT($F$2&LEFT(D135,2)&\"Factor\"),VLOOKUP(B135,MgEFs,2,FALSE))","v":1E-3},"=",{"$f":"E135*G135","v":0},"=",{"$f":"I135*Control!$C$101*CO2_C","v":0},"=",{"$f":"K135/CO2_C","v":0}]
[null,null,null,"Secondary Production",null,"x",{"$f":"IF(ISNUMBER(INDIRECT($F$2&LEFT(D136,2)&\"Factor\")),INDIRECT($F$2&LEFT(D136,2)&\"Factor\"),VLOOKUP(B135,MgEFs,3,FALSE))","v":1E-3},"=",{"$f":"E136*G136","v":0},"=",{"$f":"I136*Control!$C$101*CO2_C","v":0},"=",{"$f":"K136/CO2_C","v":0}]
[null,null,null,"Casting",null,"x",{"$f":"IF(ISNUMBER(INDIRECT($F$2&LEFT(D137,2)&\"Factor\")),INDIRECT($F$2&LEFT(D137,2)&\"Factor\"),VLOOKUP(B135,MgEFs,4,FALSE))","v":7.1000000000000002E-4},"=",{"$f":"E137*G137","v":0},"=",{"$f":"I137*Control!$C$101*CO2_C","v":0},"=",{"$f":"K137/CO2_C","v":0}]
[]
[null,2023,null,"Primary Production",null,"x",{"$f":"IF(ISNUMBER(INDIRECT($F$2&LEFT(D139,2)&\"Factor\")),INDIRECT($F$2&LEFT(D139,2)&\"Factor\"),VLOOKUP(B139,MgEFs,2,FALSE))","v":1E-3},"=",{"$f":"E139*G139","v":0},"=",{"$f":"I139*Control!$C$101*CO2_C","v":0},"=",{"$f":"K139/CO2_C","v":0}]
[null,null,null,"Secondary Production",null,"x",{"$f":"IF(ISNUMBER(INDIRECT($F$2&LEFT(D140,2)&\"Factor\")),INDIRECT($F$2&LEFT(D140,2)&\"Factor\"),VLOOKUP(B139,MgEFs,3,FALSE))","v":1E-3},"=",{"$f":"E140*G140","v":0},"=",{"$f":"I140*Control!$C$101*CO2_C","v":0},"=",{"$f":"K140/CO2_C","v":0}]
[null,null,null,"Casting",null,"x",{"$f":"IF(ISNUMBER(INDIRECT($F$2&LEFT(D141,2)&\"Factor\")),INDIRECT($F$2&LEFT(D141,2)&\"Factor\"),VLOOKUP(B139,MgEFs,4,FALSE))","v":7.1000000000000002E-4},"=",{"$f":"E141*G141","v":0},"=",{"$f":"I141*Control!$C$101*CO2_C","v":0},"=",{"$f":"K141/CO2_C","v":0}]
[]
[null,2024,null,"Primary Production",null,"x",{"$f":"IF(ISNUMBER(INDIRECT($F$2&LEFT(D143,2)&\"Factor\")),INDIRECT($F$2&LEFT(D143,2)&\"Factor\"),VLOOKUP(B143,MgEFs,2,FALSE))","v":1E-3},"=",{"$f":"E143*G143","v":0},"=",{"$f":"I143*Control!$C$101*CO2_C","v":0},"=",{"$f":"K143/CO2_C","v":0}]
[null,null,null,"Secondary Production",null,"x",{"$f":"IF(ISNUMBER(INDIRECT($F$2&LEFT(D144,2)&\"Factor\")),INDIRECT($F$2&LEFT(D144,2)&\"Factor\"),VLOOKUP(B143,MgEFs,3,FALSE))","v":1E-3},"=",{"$f":"E144*G144","v":0},"=",{"$f":"I144*Control!$C$101*CO2_C","v":0},"=",{"$f":"K144/CO2_C","v":0}]
[null,null,null,"Casting",null,"x",{"$f":"IF(ISNUMBER(INDIRECT($F$2&LEFT(D145,2)&\"Factor\")),INDIRECT($F$2&LEFT(D145,2)&\"Factor\"),VLOOKUP(B143,MgEFs,4,FALSE))","v":7.1000000000000002E-4},"=",{"$f":"E145*G145","v":0},"=",{"$f":"I145*Control!$C$101*CO2_C","v":0},"=",{"$f":"K145/CO2_C","v":0}]
[]
[null,2025,null,"Primary Production",null,"x",{"$f":"IF(ISNUMBER(INDIRECT($F$2&LEFT(D147,2)&\"Factor\")),INDIRECT($F$2&LEFT(D147,2)&\"Factor\"),VLOOKUP(B147,MgEFs,2,FALSE))","v":1E-3},"=",{"$f":"E147*G147","v":0},"=",{"$f":"I147*Control!$C$101*CO2_C","v":0},"=",{"$f":"K147/CO2_C","v":0}]
[null,null,null,"Secondary Production",null,"x",{"$f":"IF(ISNUMBER(INDIRECT($F$2&LEFT(D148,2)&\"Factor\")),INDIRECT($F$2&LEFT(D148,2)&\"Factor\"),VLOOKUP(B147,MgEFs,3,FALSE))","v":1E-3},"=",{"$f":"E148*G148","v":0},"=",{"$f":"I148*Control!$C$101*CO2_C","v":0},"=",{"$f":"K148/CO2_C","v":0}]
[null,null,null,"Casting",null,"x",{"$f":"IF(ISNUMBER(INDIRECT($F$2&LEFT(D149,2)&\"Factor\")),INDIRECT($F$2&LEFT(D149,2)&\"Factor\"),VLOOKUP(B147,MgEFs,4,FALSE))","v":7.1000000000000002E-4},"=",{"$f":"E149*G149","v":0},"=",{"$f":"I149*Control!$C$101*CO2_C","v":0},"=",{"$f":"K149/CO2_C","v":0}]

{"sheet":"Additional Emission Sources","index":17,"n_rows":58,"n_cols":44,"rows_kept":58,"cut":false,"hidden":false,"merged":[[0,12,0,39],[77,4,77,10]]}
[null,{"$f":"\"17. (OPTIONAL) Additional Emission Sources for \"&'List Data'!B3","v":"17. (OPTIONAL) Additional Emission Sources for Select a State . . ."}]
[]
[]
[]
[]
[]
[]
[]
[]
[]
[]
[]
[]
[]
[null,"GHGRP Emissions (MTCO2E)",null,2010,2011,2012,2013,2014,2015,2016,2017,2018,2019,2020,2021,2022,2023,2024,2025]
[null,"Cement Production, CO2"]
[null,"Lime Manufacturing, CO2"]
[null,"Soda Ash Manufacturing, CO2"]
[null,"Ammonia Manufacturing, CO2"]
[null,"Nitric Acid Production, N2O"]
[null,"Adipic Acid Production, N2O"]
[null,"Aluminum Production, PFC"]
[null,"Aluminum Production, CO2"]
[null,"HCFC-22 Production, HFC-23 Destruction Processes"]
[]
[]
[null,"Additional Emission Sources (MTCO2E)"]
[null,"Option A"]
[null,"Source","Gas",1990,1991,1992,1993,1994,1995,1996,1997,1998,1999,2000,2001,2002,2003,2004,2005,2006,2007,2008,2009,2010,2011,2012,2013,2014,2015,2016,2017,2018,2019,2020,2021,2022,2023,2024,2025]
[]
[null,null,null,null,null,null,null,null,null,null,null,null,null,null,null,null,null,null,null,null,null,null,null,null,null,null,null,null,null,null,null,null,null,null,null,null,null,null,null,null,null,null,null,"CO2"]
[null,null,null,null,null,null,null,null,null,null,null,null,null,null,null,null,null,null,null,null,null,null,null,null,null,null,null,null,null,null,null,null,null,null,null,null,null,null,null,null,null,null,null,"N2O"]
[null,null,null,null,null,null,null,null,null,null,null,null,null,null,null,null,null,null,null,null,null,null,null,null,null,null,null,null,null,null,null,null,null,null,null,null,null,null,null,null,null,null,null,"HFCs"]
[null,null,null,null,null,null,null,null,null,null,null,null,null,null,null,null,null,null,null,null,null,null,null,null,null,null,null,null,null,null,null,null,null,null,null,null,null,null,null,null,null,null,null,"PFCs"]
[null,null,null,null,null,null,null,null,null,null,null,null,null,null,null,null,null,null,null,null,null,null,null,null,null,null,null,null,null,null,null,null,null,null,null,null,null,null,null,null,null,null,null,"SF6"]
[null,null,null,null,null,null,null,null,null,null,null,null,null,null,null,null,null,null,null,null,null,null,null,null,null,null,null,null,null,null,null,null,null,null,null,null,null,null,null,null,null,null,null,"NF3"]
[]
[]
[]
[]
[]
[null,null,null,1990,1991,1992,1993,1994,1995,1996,1997,1998,1999,2000,2001,2002,2003,2004,2005,2006,2007,2008,2009,2010,2011,2012,2013,2014,2015,2016,2017,2018,2019,2020,2021,2022,2023,2024,2025]
[null,"Additional Carbon Dioxide Emissions","CO2",{"$f":"SUMIF($C$30:$C$39,$C43,D$30:D$39)","v":0},{"$f":"SUMIF($C$30:$C$39,$C43,E$30:E$39)","v":0},0,0,0,0,0,0,0,0,0,0,0,0,0,0,0,0,0,0,0,0,0,0,0,0,0,0,0,0,0,0,0,0,0,0]
[null,"Additional Nitrous Oxide Emissions","N2O",{"$f":"SUMIF($C$30:$C$39,$C44,D$30:D$39)","v":0},0,0,0,0,0,0,0,0,0,0,0,0,0,0,0,0,0,0,0,0,0,0,0,0,0,0,0,0,0,0,0,0,0,0,0]
[null,"Additional HFC Emissions","HFCs",0,0,0,0,0,0,0,0,0,0,0,0,0,0,0,0,0,0,0,0,0,0,0,0,0,0,0,0,0,0,0,0,0,0,0,0]
[null,"Additional  PFC Emissions","PFCs",0,0,0,0,0,0,0,0,0,0,0,0,0,0,0,0,0,0,0,0,0,0,0,0,0,0,0,0,0,0,0,0,0,0,0,0]
[null,"Additional SF6 Emissions","SF6",0,0,0,0,0,0,0,0,0,0,0,0,0,0,0,0,0,0,0,0,0,0,0,0,0,0,0,0,0,0,0,0,0,0,0,0]
[null,"Additional NF3 Emissions","NF3",0,0,0,0,0,0,0,0,0,0,0,0,0,0,0,0,0,0,0,0,0,0,0,0,0,0,0,0,0,0,0,0,0,0,0,0]
[]
[]
[null,"Option B"]
[null,null,null,1990,1991,1992,1993,1994,1995,1996,1997,1998,1999,2000,2001,2002,2003,2004,2005,2006,2007,2008,2009,2010,2011,2012,2013,2014,2015,2016,2017,2018,2019,2020,2021,2022,2023,2024,2025]
[null,"Additional Carbon Dioxide Emissions","CO2"]
[null,"Additional Nitrous Oxide Emissions","N2O"]
[null,"Additional HFC Emissions","HFCs"]
[null,"Additional  PFC Emissions","PFCs"]
[null,"Additional SF6 Emissions","SF6"]
[null,"Additional NF3 Emissions","NF3"]

{"sheet":"Summary, MTCE","index":18,"n_rows":36,"n_cols":38,"rows_kept":36,"cut":false,"hidden":true,"merged":[[2,1,2,9]]}
[{"$f":"\"16. \"&'List Data'!B3&\" Emissions Summary (MTCE)\"","v":"16. Select a State . . . Emissions Summary (MTCE)"}]
[]
[null,{"$f":"Tracker!B24","v":"Emissions were not calculated for the following sources: Cement Manufacture, Lime Manufacture, Limestone and Dolomite Use, Soda Ash, Aluminum Production, Carbon Dioxide, Iron & Steel, Ammonia Production, Urea Consumption, Nitric Acid Production, Adipic Acid Production, ODS Substitutes, Semiconductor Manufacturing, Magnesium Production, Electric Power Transmission and Distribution Systems, HCFC-22 Production, and Aluminum Production, PFCs."}]
[]
[null,"MTCE",1990,1991,1992,1993,1994,1995,1996,1997,1998,1999,2000,2001,2002,2003,2004,2005,2006,2007,2008,2009,2010,2011,2012,2013,2014,2015,2016,2017,2018,2019,2020,2021,2022,2023,2024,2025]
[null,"Carbon Dioxide Emissions",{"$f":"SUM(C7:C15)","v":0},{"$f":"SUM(D7:D15)","v":0},0,0,0,0,0,0,0,0,0,0,0,0,0,0,0,0,0,0,0,0,0,0,0,0,0,0,0,0,0,0,0,0,0,{"$f":"SUM(AL7:AL15)","v":0}]
[null,"Cement Manufacture",{"$f":"Cement!$M$7","v":0},{"$f":"Cement!$M$9","v":0},{"$f":"Cement!$M$11","v":0},{"$f":"Cement!$M$13","v":0},{"$f":"Cement!$M$15","v":0},{"$f":"Cement!$M$17","v":0},{"$f":"Cement!$M$19","v":0},{"$f":"Cement!$M$21","v":0},{"$f":"Cement!$M$23","v":0},{"$f":"Cement!$M$25","v":0},{"$f":"Cement!$M$27","v":0},{"$f":"Cement!$M$29","v":0},{"$f":"Cement!$M$31","v":0},{"$f":"Cement!$M$33","v":0},{"$f":"Cement!$M$35","v":0},{"$f":"Cement!$M$37","v":0},{"$f":"Cement!$M$39","v":0},{"$f":"Cement!$M$41","v":0},{"$f":"Cement!$M$43","v":0},{"$f":"Cement!$M$45","v":0},{"$f":"IF('Additional Emission Sources'!D16<>0,'Additional Emission Sources'!D16*CO2_C,Cement!$M$47)","v":0},{"$f":"IF('Additional Emission Sources'!E16<>0,'Additional Emission Sources'!E16*CO2_C,Cement!$M$49)","v":0},{"$f":"IF('Additional Emission Sources'!F16<>0,'Additional Emission Sources'!F16*CO2_C,Cement!$M$51)","v":0},{"$f":"IF('Additional Emission Sources'!G16<>0,'Additional Emission Sources'!G16*CO2_C,Cement!$M$53)","v":0},{"$f":"IF('Additional Emission Sources'!H16<>0,'Additional Emission Sources'!H16*CO2_C,Cement!$M$55)","v":0},{"$f":"IF('Additional Emission Sources'!I16<>0,'Additional Emission Sources'!I16*CO2_C,Cement!$M$57)","v":0},{"$f":"IF('Additional Emission Sources'!J16<>0,'Additional Emission Sources'!J16*CO2_C,Cement!$M$59)","v":0},{"$f":"IF('Additional Emission Sources'!K16<>0,'Additional Emission Sources'!K16*CO2_C,Cement!$M$61)","v":0},{"$f":"IF('Additional Emission Sources'!L16<>0,'Additional Emission Sources'!L16*CO2_C,Cement!$M$63)","v":0},{"$f":"IF('Additional Emission Sources'!M16<>0,'Additional Emission Sources'!M16*CO2_C,Cement!$M$65)","v":0},{"$f":"IF('Additional Emission Sources'!N16<>0,'Additional Emission Sources'!N16*CO2_C,Cement!$M$67)","v":0},{"$f":"IF('Additional Emission Sources'!O16<>0,'Additional Emission Sources'!O16*CO2_C,Cement!$M$69)","v":0},{"$f":"IF('Additional Emission Sources'!P16<>0,'Additional Emission Sources'!P16*CO2_C,Cement!$M$71)","v":0},{"$f":"IF('Additional Emission Sources'!Q16<>0,'Additional Emission Sources'!Q16*CO2_C,Cement!$M$73)","v":0},{"$f":"IF('Additional Emission Sources'!R16<>0,'Additional Emission Sources'!R16*CO2_C,Cement!$M$75)","v":0},{"$f":"IF('Additional Emission Sources'!S16<>0,'Additional Emission Sources'!S16*CO2_C,Cement!$M$77)","v":0}]
[null,"Lime Manufacture",{"$f":"Lime!$O$7+Lime!$O$8","v":0},{"$f":"Lime!$O$10+Lime!$O$11","v":0},{"$f":"Lime!$O$13+Lime!$O$14","v":0},{"$f":"Lime!$O$16+Lime!$O$17","v":0},{"$f":"Lime!$O$19+Lime!$O$20","v":0},{"$f":"Lime!$O$22+Lime!$O$23","v":0},{"$f":"Lime!$O$25+Lime!$O$26","v":0},{"$f":"Lime!$O$28+Lime!$O$29","v":0},{"$f":"Lime!$O$31+Lime!$O$32","v":0},{"$f":"Lime!$O$34+Lime!$O$35","v":0},{"$f":"Lime!$O$37+Lime!$O$38","v":0},{"$f":"Lime!$O$40+Lime!$O$41","v":0},{"$f":"Lime!$O$43+Lime!$O$44","v":0},{"$f":"Lime!$O$46+Lime!$O$47","v":0},{"$f":"Lime!$O$49+Lime!$O$50","v":0},{"$f":"Lime!$O$52+Lime!$O$53","v":0},{"$f":"Lime!$O$55+Lime!$O$56","v":0},{"$f":"Lime!$O$58+Lime!$O$59","v":0},{"$f":"Lime!$O$61+Lime!$O$62","v":0},{"$f":"Lime!$O$64+Lime!$O$65","v":0},{"$f":"IF('Additional Emission Sources'!D17<>0,'Additional Emission Sources'!D17*CO2_C,Lime!$O$67+Lime!$O$68)","v":0},{"$f":"IF('Additional Emission Sources'!E17<>0,'Additional Emission Sources'!E17*CO2_C,Lime!$O$70+Lime!$O$71)","v":0},{"$f":"IF('Additional Emission Sources'!F17<>0,'Additional Emission Sources'!F17*CO2_C,Lime!$O$73+Lime!$O$74)","v":0},{"$f":"IF('Additional Emission Sources'!G17<>0,'Additional Emission Sources'!G17*CO2_C,Lime!$O$76+Lime!$O$77)","v":0},{"$f":"IF('Additional Emission Sources'!H17<>0,'Additional Emission Sources'!H17*CO2_C,Lime!$O$79+Lime!$O$80)","v":0},{"$f":"IF('Additional Emission Sources'!I17<>0,'Additional Emission Sources'!I17*CO2_C,Lime!$O$82+Lime!$O$83)","v":0},{"$f":"IF('Additional Emission Sources'!J17<>0,'Additional Emission Sources'!J17*CO2_C,Lime!$O$85+Lime!$O$86)","v":0},{"$f":"IF('Additional Emission Sources'!K17<>0,'Additional Emission Sources'!K17*CO2_C,Lime!$O$88+Lime!$O$89)","v":0},{"$f":"IF('Additional Emission Sources'!L17<>0,'Additional Emission Sources'!L17*CO2_C,Lime!$O$91+Lime!$O$92)","v":0},{"$f":"IF('Additional Emission Sources'!M17<>0,'Additional Emission Sources'!M17*CO2_C,Lime!$O$94+Lime!$O$95)","v":0},{"$f":"IF('Additional Emission Sources'!N17<>0,'Additional Emission Sources'!N17*CO2_C,Lime!$O$97+Lime!$O$98)","v":0},{"$f":"IF('Additional Emission Sources'!O17<>0,'Additional Emission Sources'!O17*CO2_C,Lime!$O$100+Lime!$O$101)","v":0},{"$f":"IF('Additional Emission Sources'!P17<>0,'Additional Emission Sources'!P17*CO2_C,Lime!$O$103+Lime!$O$104)","v":0},{"$f":"IF('Additional Emission Sources'!Q17<>0,'Additional Emission Sources'!Q17*CO2_C,Lime!$O$106+Lime!$O$107)","v":0},{"$f":"IF('Additional Emission Sources'!R17<>0,'Additional Emission Sources'!R17*CO2_C,Lime!$O$109+Lime!$O$110)","v":0},{"$f":"IF('Additional Emission Sources'!S17<>0,'Additional Emission Sources'!S17*CO2_C,Lime!$O$112+Lime!$O$113)","v":0}]
[null,"Limestone and Dolomite Use",{"$f":"SUM(Limestone!I7:I9)","v":0},{"$f":"SUM(Limestone!I11:I13)","v":0},{"$f":"SUM(Limestone!I15:I17)","v":0},{"$f":"SUM(Limestone!I19:I21)","v":0},{"$f":"SUM(Limestone!I23:I25)","v":0},{"$f":"SUM(Limestone!I27:I29)","v":0},{"$f":"SUM(Limestone!I31:I33)","v":0},{"$f":"SUM(Limestone!I35:I37)","v":0},{"$f":"SUM(Limestone!I39:I41)","v":0},{"$f":"SUM(Limestone!I43:I45)","v":0},{"$f":"SUM(Limestone!$I$47:$I$49)","v":0},{"$f":"SUM(Limestone!$I$51:$I$53)","v":0},{"$f":"SUM(Limestone!$I$55:$I$57)","v":0},{"$f":"SUM(Limestone!$I$59:$I$61)","v":0},{"$f":"SUM(Limestone!$I$63:$I$65)","v":0},{"$f":"SUM(Limestone!$I$67:$I$69)","v":0},{"$f":"SUM(Limestone!$I$71:$I$73)","v":0},{"$f":"SUM(Limestone!$I$75:$I$77)","v":0},{"$f":"SUM(Limestone!$I$79:$I$81)","v":0},{"$f":"SUM(Limestone!$I$83:$I$85)","v":0},{"$f":"SUM(Limestone!$I$87:$I$89)","v":0},{"$f":"SUM(Limestone!$I$91:$I$93)","v":0},{"$f":"SUM(Limestone!$I$95:$I$97)","v":0},{"$f":"SUM(Limestone!$I$99:$I$101)","v":0},{"$f":"SUM(Limestone!$I$103:$I$105)","v":0},{"$f":"SUM(Limestone!$I$107:$I$109)","v":0},{"$f":"SUM(Limestone!$I$111:$I$113)","v":0},{"$f":"SUM(Limestone!$I$115:$I$117)","v":0},{"$f":"SUM(Limestone!$I$119:$I$121)","v":0},{"$f":"SUM(Limestone!$I$123:$I$125)","v":0},{"$f":"SUM(Limestone!$I$127:$I$129)","v":0},{"$f":"SUM(Limestone!$I$131:$I$133)","v":0},{"$f":"SUM(Limestone!$I$135:$I$137)","v":0},{"$f":"SUM(Limestone!$I$139:$I$141)","v":0},{"$f":"SUM(Limestone!$I$143:$I$145)","v":0},{"$f":"SUM(Limestone!$I$147:$I$149)","v":0}]
[null,"Soda Ash",{"$f":"'Soda Ash'!$I$7+'Soda Ash'!$I$8","v":0},{"$f":"'Soda Ash'!$I$10+'Soda Ash'!$I$11","v":0},{"$f":"'Soda Ash'!$I$13+'Soda Ash'!$I$14","v":0},{"$f":"'Soda Ash'!$I$16+'Soda Ash'!$I$17","v":0},{"$f":"'Soda Ash'!$I$19+'Soda Ash'!$I$20","v":0},{"$f":"'Soda Ash'!$I$22+'Soda Ash'!$I$23","v":0},{"$f":"'Soda Ash'!$I$25+'Soda Ash'!$I$26","v":0},{"$f":"'Soda Ash'!$I$28+'Soda Ash'!$I$29","v":0},{"$f":"'Soda Ash'!$I$31+'Soda Ash'!$I$32","v":0},{"$f":"'Soda Ash'!$I$34+'Soda Ash'!$I$35","v":0},{"$f":"'Soda Ash'!$I$37+'Soda Ash'!$I$38","v":0},{"$f":"'Soda Ash'!$I$40+'Soda Ash'!$I$41","v":0},{"$f":"'Soda Ash'!$I$43+'Soda Ash'!$I$44","v":0},{"$f":"'Soda Ash'!$I$46+'Soda Ash'!$I$47","v":0},{"$f":"'Soda Ash'!$I$49+'Soda Ash'!$I$50","v":0},{"$f":"'Soda Ash'!$I$52+'Soda Ash'!$I$53","v":0},{"$f":"'Soda Ash'!$I$55+'Soda Ash'!$I$56","v":0},{"$f":"'Soda Ash'!$I$58+'Soda Ash'!$I$59","v":0},{"$f":"'Soda Ash'!$I$61+'Soda Ash'!$I$62","v":0},{"$f":"'Soda Ash'!$I$64+'Soda Ash'!$I$65","v":0},{"$f":"IF('Additional Emission Sources'!D18<>0,'Additional Emission Sources'!D18*CO2_C,'Soda Ash'!$I$67+'Soda Ash'!$I$68)","v":0},{"$f":"IF('Additional Emission Sources'!E18<>0,'Additional Emission Sources'!E18*CO2_C,'Soda Ash'!$I$70+'Soda Ash'!$I$71)","v":0},{"$f":"IF('Additional Emission Sources'!F18<>0,'Additional Emission Sources'!F18*CO2_C,'Soda Ash'!$I$73+'Soda Ash'!$I$74)","v":0},{"$f":"IF('Additional Emission Sources'!G18<>0,'Additional Emission Sources'!G18*CO2_C,'Soda Ash'!$I$76+'Soda Ash'!$I$77)","v":0},{"$f":"IF('Additional Emission Sources'!H18<>0,'Additional Emission Sources'!H18*CO2_C,'Soda Ash'!$I$79+'Soda Ash'!$I$80)","v":0},{"$f":"IF('Additional Emission Sources'!I18<>0,'Additional Emission Sources'!I18*CO2_C,'Soda Ash'!$I$82+'Soda Ash'!$I$83)","v":0},{"$f":"IF('Additional Emission Sources'!J18<>0,'Additional Emission Sources'!J18*CO2_C,'Soda Ash'!$I$85+'Soda Ash'!$I$86)","v":0},{"$f":"IF('Additional Emission Sources'!K18<>0,'Additional Emission Sources'!K18*CO2_C,'Soda Ash'!$I$88+'Soda Ash'!$I$89)","v":0},{"$f":"IF('Additional Emission Sources'!L18<>0,'Additional Emission Sources'!L18*CO2_C,'Soda Ash'!$I$91+'Soda Ash'!$I$92)","v":0},{"$f":"IF('Additional Emission Sources'!M18<>0,'Additional Emission Sources'!M18*CO2_C,'Soda Ash'!$I$94+'Soda Ash'!$I$95)","v":0},{"$f":"IF('Additional Emission Sources'!N18<>0,'Additional Emission Sources'!N18*CO2_C,'Soda Ash'!$I$97+'Soda Ash'!$I$98)","v":0},{"$f":"IF('Additional Emission Sources'!O18<>0,'Additional Emission Sources'!O18*CO2_C,'Soda Ash'!$I$100+'Soda Ash'!$I$101)","v":0},{"$f":"IF('Additional Emission Sources'!P18<>0,'Additional Emission Sources'!P18*CO2_C,'Soda Ash'!$I$103+'Soda Ash'!$I$104)","v":0},{"$f":"IF('Additional Emission Sources'!Q18<>0,'Additional Emission Sources'!Q18*CO2_C,'Soda Ash'!$I$106+'Soda Ash'!$I$107)","v":0},{"$f":"IF('Additional Emission Sources'!R18<>0,'Additional Emission Sources'!R18*CO2_C,'Soda Ash'!$I$109+'Soda Ash'!$I$110)","v":0},{"$f":"IF('Additional Emission Sources'!S18<>0,'Additional Emission Sources'!S18*CO2_C,'Soda Ash'!$I$112+'Soda Ash'!$I$113)","v":0}]
[null,"Aluminum Production, CO2",{"$f":"Aluminum!$S$7","v":0},{"$f":"Aluminum!$S$9","v":0},{"$f":"Aluminum!$S$11","v":0},{"$f":"Aluminum!$S$13","v":0},{"$f":"Aluminum!$S$15","v":0},{"$f":"Aluminum!$S$17","v":0},{"$f":"Aluminum!$S$19","v":0},{"$f":"Aluminum!$S$21","v":0},{"$f":"Aluminum!$S$23","v":0},{"$f":"Aluminum!$S$25","v":0},{"$f":"Aluminum!$S$27","v":0},{"$f":"Aluminum!$S$29","v":0},{"$f":"Aluminum!$S$31","v":0},{"$f":"Aluminum!$S$33","v":0},{"$f":"Aluminum!$S$35","v":0},{"$f":"Aluminum!$S$37","v":0},{"$f":"Aluminum!$S$39","v":0},{"$f":"Aluminum!$S$41","v":0},{"$f":"Aluminum!$S$43","v":0},{"$f":"Aluminum!$S$45","v":0},{"$f":"IF('Additional Emission Sources'!D$23<>0,'Additional Emission Sources'!D$23*CO2_C,Aluminum!$S$47)","v":0},{"$f":"IF('Additional Emission Sources'!E$23<>0,'Additional Emission Sources'!E$23*CO2_C,Aluminum!$S$49)","v":0},{"$f":"IF('Additional Emission Sources'!F$23<>0,'Additional Emission Sources'!F$23*CO2_C,Aluminum!$S$51)","v":0},{"$f":"IF('Additional Emission Sources'!G$23<>0,'Additional Emission Sources'!G$23*CO2_C,Aluminum!$S$53)","v":0},{"$f":"IF('Additional Emission Sources'!H$23<>0,'Additional Emission Sources'!H$23*CO2_C,Aluminum!$S$55)","v":0},{"$f":"IF('Additional Emission Sources'!I$23<>0,'Additional Emission Sources'!I$23*CO2_C,Aluminum!$S$57)","v":0},{"$f":"IF('Additional Emission Sources'!J$23<>0,'Additional Emission Sources'!J$23*CO2_C,Aluminum!$S$59)","v":0},{"$f":"IF('Additional Emission Sources'!K$23<>0,'Additional Emission Sources'!K$23*CO2_C,Aluminum!$S$61)","v":0},{"$f":"IF('Additional Emission Sources'!L$23<>0,'Additional Emission Sources'!L$23*CO2_C,Aluminum!$S$63)","v":0},{"$f":"IF('Additional Emission Sources'!M$23<>0,'Additional Emission Sources'!M$23*CO2_C,Aluminum!$S$65)","v":0},{"$f":"IF('Additional Emission Sources'!N$23<>0,'Additional Emission Sources'!N$23*CO2_C,Aluminum!$S$67)","v":0},{"$f":"IF('Additional Emission Sources'!O$23<>0,'Additional Emission Sources'!O$23*CO2_C,Aluminum!$S$69)","v":0},{"$f":"IF('Additional Emission Sources'!P$23<>0,'Additional Emission Sources'!P$23*CO2_C,Aluminum!$S$71)","v":0},{"$f":"IF('Additional Emission Sources'!Q$23<>0,'Additional Emission Sources'!Q$23*CO2_C,Aluminum!$S$73)","v":0},{"$f":"IF('Additional Emission Sources'!R$23<>0,'Additional Emission Sources'!R$23*CO2_C,Aluminum!$S$75)","v":0},{"$f":"IF('Additional Emission Sources'!S$23<>0,'Additional Emission Sources'!S$23*CO2_C,Aluminum!$S$77)","v":0}]
[null,"Iron & Steel Production",{"$f":"'Iron & Steel'!J11","v":0},{"$f":"'Iron & Steel'!J17","v":0},{"$f":"'Iron & Steel'!J23","v":0},{"$f":"'Iron & Steel'!J29","v":0},{"$f":"'Iron & Steel'!J35","v":0},{"$f":"'Iron & Steel'!J41","v":0},{"$f":"'Iron & Steel'!J47","v":0},{"$f":"'Iron & Steel'!J53","v":0},{"$f":"'Iron & Steel'!J59","v":0},{"$f":"'Iron & Steel'!J65","v":0},{"$f":"'Iron & Steel'!J71","v":0},{"$f":"'Iron & Steel'!J77","v":0},{"$f":"'Iron & Steel'!J83","v":0},{"$f":"'Iron & Steel'!J89","v":0},{"$f":"'Iron & Steel'!J95","v":0},{"$f":"'Iron & Steel'!J101","v":0},{"$f":"'Iron & Steel'!J107","v":0},{"$f":"'Iron & Steel'!J113","v":0},{"$f":"'Iron & Steel'!J119","v":0},{"$f":"'Iron & Steel'!J125","v":0},{"$f":"'Iron & Steel'!J131","v":0},{"$f":"'Iron & Steel'!J137","v":0},{"$f":"'Iron & Steel'!J143","v":0},{"$f":"'Iron & Steel'!J149","v":0},{"$f":"'Iron & Steel'!J155","v":0},{"$f":"'Iron & Steel'!J161","v":0},{"$f":"'Iron & Steel'!J167","v":0},{"$f":"'Iron & Steel'!J173","v":0},{"$f":"'Iron & Steel'!J179","v":0},{"$f":"'Iron & Steel'!J185","v":0},{"$f":"'Iron & Steel'!J191","v":0},{"$f":"'Iron & Steel'!J197","v":0},{"$f":"'Iron & Steel'!J203","v":0},{"$f":"'Iron & Steel'!J209","v":0},{"$f":"'Iron & Steel'!J215","v":0},{"$f":"'Iron & Steel'!J221","v":0}]
[null,"Ammonia Production",{"$f":"'Ammonia & Urea'!K7","v":0},{"$f":"'Ammonia & Urea'!K10","v":0},{"$f":"'Ammonia & Urea'!K13","v":0},{"$f":"'Ammonia & Urea'!K16","v":0},{"$f":"'Ammonia & Urea'!K19","v":0},{"$f":"'Ammonia & Urea'!K22","v":0},{"$f":"'Ammonia & Urea'!K25","v":0},{"$f":"'Ammonia & Urea'!K28","v":0},{"$f":"'Ammonia & Urea'!K31","v":0},{"$f":"'Ammonia & Urea'!K34","v":0},{"$f":"'Ammonia & Urea'!K37","v":0},{"$f":"'Ammonia & Urea'!K40","v":0},{"$f":"'Ammonia & Urea'!K43","v":0},{"$f":"'Ammonia & Urea'!K46","v":0},{"$f":"'Ammonia & Urea'!K49","v":0},{"$f":"'Ammonia & Urea'!K52","v":0},{"$f":"'Ammonia & Urea'!K55","v":0},{"$f":"'Ammonia & Urea'!K58","v":0},{"$f":"'Ammonia & Urea'!K61","v":0},{"$f":"'Ammonia & Urea'!K64","v":0},{"$f":"IF('Additional Emission Sources'!D19<>0,'Additional Emission Sources'!D19*CO2_C,'Ammonia & Urea'!$K$67)","v":0},{"$f":"IF('Additional Emission Sources'!E19<>0,'Additional Emission Sources'!E19*CO2_C,'Ammonia & Urea'!$K$70)","v":0},{"$f":"IF('Additional Emission Sources'!F19<>0,'Additional Emission Sources'!F19*CO2_C,'Ammonia & Urea'!$K$73)","v":0},{"$f":"IF('Additional Emission Sources'!G19<>0,'Additional Emission Sources'!G19*CO2_C,'Ammonia & Urea'!$K$76)","v":0},{"$f":"IF('Additional Emission Sources'!H19<>0,'Additional Emission Sources'!H19*CO2_C,'Ammonia & Urea'!$K$79)","v":0},{"$f":"IF('Additional Emission Sources'!I19<>0,'Additional Emission Sources'!I19*CO2_C,'Ammonia & Urea'!$K$82)","v":0},{"$f":"IF('Additional Emission Sources'!J19<>0,'Additional Emission Sources'!J19*CO2_C,'Ammonia & Urea'!$K$85)","v":0},{"$f":"IF('Additional Emission Sources'!K19<>0,'Additional Emission Sources'!K19*CO2_C,'Ammonia & Urea'!$K$88)","v":0},{"$f":"IF('Additional Emission Sources'!L19<>0,'Additional Emission Sources'!L19*CO2_C,'Ammonia & Urea'!$K$91)","v":0},{"$f":"IF('Additional Emission Sources'!M19<>0,'Additional Emission Sources'!M19*CO2_C,'Ammonia & Urea'!$K$94)","v":0},{"$f":"IF('Additional Emission Sources'!N19<>0,'Additional Emission Sources'!N19*CO2_C,'Ammonia & Urea'!$K$97)","v":0},{"$f":"IF('Additional Emission Sources'!O19<>0,'Additional Emission Sources'!O19*CO2_C,'Ammonia & Urea'!$K$100)","v":0},{"$f":"IF('Additional Emission Sources'!P19<>0,'Additional Emission Sources'!P19*CO2_C,'Ammonia & Urea'!$K$103)","v":0},{"$f":"IF('Additional Emission Sources'!Q19<>0,'Additional Emission Sources'!Q19*CO2_C,'Ammonia & Urea'!$K$106)","v":0},{"$f":"IF('Additional Emission Sources'!R19<>0,'Additional Emission Sources'!R19*CO2_C,'Ammonia & Urea'!$K$109)","v":0},{"$f":"IF('Additional Emission Sources'!S19<>0,'Additional Emission Sources'!S19*CO2_C,'Ammonia & Urea'!$K$112)","v":0}]
[null,"Urea Consumption",{"$f":"'Ammonia & Urea'!K8","v":0},{"$f":"'Ammonia & Urea'!K11","v":0},{"$f":"'Ammonia & Urea'!K14","v":0},{"$f":"'Ammonia & Urea'!K17","v":0},{"$f":"'Ammonia & Urea'!K20","v":0},{"$f":"'Ammonia & Urea'!K23","v":0},{"$f":"'Ammonia & Urea'!K26","v":0},{"$f":"'Ammonia & Urea'!K29","v":0},{"$f":"'Ammonia & Urea'!K32","v":0},{"$f":"'Ammonia & Urea'!K35","v":0},{"$f":"'Ammonia & Urea'!K38","v":0},{"$f":"'Ammonia & Urea'!K41","v":0},{"$f":"'Ammonia & Urea'!K44","v":0},{"$f":"'Ammonia & Urea'!K47","v":0},{"$f":"'Ammonia & Urea'!K50","v":0},{"$f":"'Ammonia & Urea'!K53","v":0},{"$f":"'Ammonia & Urea'!K56","v":0},{"$f":"'Ammonia & Urea'!K59","v":0},{"$f":"'Ammonia & Urea'!K62","v":0},{"$f":"'Ammonia & Urea'!K65","v":0},{"$f":"'Ammonia & Urea'!K68","v":0},{"$f":"'Ammonia & Urea'!K71","v":0},{"$f":"'Ammonia & Urea'!K74","v":0},{"$f":"'Ammonia & Urea'!K77","v":0},{"$f":"'Ammonia & Urea'!K80","v":0},{"$f":"'Ammonia & Urea'!K83","v":0},{"$f":"'Ammonia & Urea'!K86","v":0},{"$f":"'Ammonia & Urea'!K89","v":0},{"$f":"'Ammonia & Urea'!K92","v":0},{"$f":"'Ammonia & Urea'!K95","v":0},{"$f":"'Ammonia & Urea'!K98","v":0},{"$f":"'Ammonia & Urea'!K101","v":0},{"$f":"'Ammonia & Urea'!K104","v":0},{"$f":"'Ammonia & Urea'!K107","v":0},{"$f":"'Ammonia & Urea'!K110","v":0},{"$f":"'Ammonia & Urea'!K113","v":0}]
[null,"Additional CO2 Emissions",{"$f":"IFERROR(IF('Additional Emission Sources'!D43<>0, 'Additional Emission Sources'!D43*CO2_C, 'Additional Emission Sources'!D53*CO2_C), 0)","v":0},{"$f":"IFERROR(IF('Additional Emission Sources'!E43<>0, 'Additional Emission Sources'!E43*CO2_C, 'Additional Emission Sources'!E53*CO2_C), 0)","v":0},{"$f":"IFERROR(IF('Additional Emission Sources'!F43<>0, 'Additional Emission Sources'!F43*CO2_C, 'Additional Emission Sources'!F53*CO2_C), 0)","v":0},{"$f":"IFERROR(IF('Additional Emission Sources'!G43<>0, 'Additional Emission Sources'!G43*CO2_C, 'Additional Emission Sources'!G53*CO2_C), 0)","v":0},{"$f":"IFERROR(IF('Additional Emission Sources'!H43<>0, 'Additional Emission Sources'!H43*CO2_C, 'Additional Emission Sources'!H53*CO2_C), 0)","v":0},{"$f":"IFERROR(IF('Additional Emission Sources'!I43<>0, 'Additional Emission Sources'!I43*CO2_C, 'Additional Emission Sources'!I53*CO2_C), 0)","v":0},{"$f":"IFERROR(IF('Additional Emission Sources'!J43<>0, 'Additional Emission Sources'!J43*CO2_C, 'Additional Emission Sources'!J53*CO2_C), 0)","v":0},{"$f":"IFERROR(IF('Additional Emission Sources'!K43<>0, 'Additional Emission Sources'!K43*CO2_C, 'Additional Emission Sources'!K53*CO2_C), 0)","v":0},{"$f":"IFERROR(IF('Additional Emission Sources'!L43<>0, 'Additional Emission Sources'!L43*CO2_C, 'Additional Emission Sources'!L53*CO2_C), 0)","v":0},{"$f":"IFERROR(IF('Additional Emission Sources'!M43<>0, 'Additional Emission Sources'!M43*CO2_C, 'Additional Emission Sources'!M53*CO2_C), 0)","v":0},{"$f":"IFERROR(IF('Additional Emission Sources'!N43<>0, 'Additional Emission Sources'!N43*CO2_C, 'Additional Emission Sources'!N53*CO2_C), 0)","v":0},{"$f":"IFERROR(IF('Additional Emission Sources'!O43<>0, 'Additional Emission Sources'!O43*CO2_C, 'Additional Emission Sources'!O53*CO2_C), 0)","v":0},{"$f":"IFERROR(IF('Additional Emission Sources'!P43<>0, 'Additional Emission Sources'!P43*CO2_C, 'Additional Emission Sources'!P53*CO2_C), 0)","v":0},{"$f":"IFERROR(IF('Additional Emission Sources'!Q43<>0, 'Additional Emission Sources'!Q43*CO2_C, 'Additional Emission Sources'!Q53*CO2_C), 0)","v":0},{"$f":"IFERROR(IF('Additional Emission Sources'!R43<>0, 'Additional Emission Sources'!R43*CO2_C, 'Additional Emission Sources'!R53*CO2_C), 0)","v":0},{"$f":"IFERROR(IF('Additional Emission Sources'!S43<>0, 'Additional Emission Sources'!S43*CO2_C, 'Additional Emission Sources'!S53*CO2_C), 0)","v":0},{"$f":"IFERROR(IF('Additional Emission Sources'!T43<>0, 'Additional Emission Sources'!T43*CO2_C, 'Additional Emission Sources'!T53*CO2_C), 0)","v":0},{"$f":"IFERROR(IF('Additional Emission Sources'!U43<>0, 'Additional Emission Sources'!U43*CO2_C, 'Additional Emission Sources'!U53*CO2_C), 0)","v":0},{"$f":"IFERROR(IF('Additional Emission Sources'!V43<>0, 'Additional Emission Sources'!V43*CO2_C, 'Additional Emission Sources'!V53*CO2_C), 0)","v":0},{"$f":"IFERROR(IF('Additional Emission Sources'!W43<>0, 'Additional Emission Sources'!W43*CO2_C, 'Additional Emission Sources'!W53*CO2_C), 0)","v":0},{"$f":"IFERROR(IF('Additional Emission Sources'!X43<>0, 'Additional Emission Sources'!X43*CO2_C, 'Additional Emission Sources'!X53*CO2_C), 0)","v":0},{"$f":"IFERROR(IF('Additional Emission Sources'!Y43<>0, 'Additional Emission Sources'!Y43*CO2_C, 'Additional Emission Sources'!Y53*CO2_C), 0)","v":0},{"$f":"IFERROR(IF('Additional Emission Sources'!Z43<>0, 'Additional Emission Sources'!Z43*CO2_C, 'Additional Emission Sources'!Z53*CO2_C), 0)","v":0},{"$f":"IFERROR(IF('Additional Emission Sources'!AA43<>0, 'Additional Emission Sources'!AA43*CO2_C, 'Additional Emission Sources'!AA53*CO2_C), 0)","v":0},{"$f":"IFERROR(IF('Additional Emission Sources'!AB43<>0, 'Additional Emission Sources'!AB43*CO2_C, 'Additional Emission Sources'!AB53*CO2_C), 0)","v":0},{"$f":"IFERROR(IF('Additional Emission Sources'!AC43<>0, 'Additional Emission Sources'!AC43*CO2_C, 'Additional Emission Sources'!AC53*CO2_C), 0)","v":0},{"$f":"IFERROR(IF('Additional Emission Sources'!AD43<>0, 'Additional Emission Sources'!AD43*CO2_C, 'Additional Emission Sources'!AD53*CO2_C), 0)","v":0},{"$f":"IFERROR(IF('Additional Emission Sources'!AE43<>0, 'Additional Emission Sources'!AE43*CO2_C, 'Additional Emission Sources'!AE53*CO2_C), 0)","v":0},{"$f":"IFERROR(IF('Additional Emission Sources'!AF43<>0, 'Additional Emission Sources'!AF43*CO2_C, 'Additional Emission Sources'!AF53*CO2_C), 0)","v":0},{"$f":"IFERROR(IF('Additional Emission Sources'!AG43<>0, 'Additional Emission Sources'!AG43*CO2_C, 'Additional Emission Sources'!AG53*CO2_C), 0)","v":0},{"$f":"IFERROR(IF('Additional Emission Sources'!AH43<>0, 'Additional Emission Sources'!AH43*CO2_C, 'Additional Emission Sources'!AH53*CO2_C), 0)","v":0},{"$f":"IFERROR(IF('Additional Emission Sources'!AI43<>0, 'Additional Emission Sources'!AI43*CO2_C, 'Additional Emission Sources'!AI53*CO2_C), 0)","v":0},{"$f":"IFERROR(IF('Additional Emission Sources'!AJ43<>0, 'Additional Emission Sources'!AJ43*CO2_C, 'Additional Emission Sources'!AJ53*CO2_C), 0)","v":0},{"$f":"IFERROR(IF('Additional Emission Sources'!AK43<>0, 'Additional Emission Sources'!AK43*CO2_C, 'Additional Emission Sources'!AK53*CO2_C), 0)","v":0},{"$f":"IFERROR(IF('Additional Emission Sources'!AL43<>0, 'Additional Emission Sources'!AL43*CO2_C, 'Additional Emission Sources'!AL53*CO2_C), 0)","v":0},{"$f":"IFERROR(IF('Additional Emission Sources'!AM43<>0, 'Additional Emission Sources'!AM43*CO2_C, 'Additional Emission Sources'!AM53*CO2_C), 0)","v":0}]
[null,"Nitrous Oxide Emissions",{"$f":"SUM(C17:C19)","v":0},{"$f":"SUM(D17:D19)","v":0},0,0,0,0,0,0,0,0,0,0,0,0,0,0,0,0,0,0,0,0,0,0,0,0,0,0,0,0,0,0,0,0,0,{"$f":"SUM(AL17:AL19)","v":0}]
[null,"Nitric Acid Production",{"$f":"Nitric!$L$7","v":0},{"$f":"Nitric!$L$9","v":0},{"$f":"Nitric!$L$11","v":0},{"$f":"Nitric!$L$13","v":0},{"$f":"Nitric!$L$15","v":0},{"$f":"Nitric!$L$17","v":0},{"$f":"Nitric!$L$19","v":0},{"$f":"Nitric!$L$21","v":0},{"$f":"Nitric!$L$23","v":0},{"$f":"Nitric!$L$25","v":0},{"$f":"Nitric!$L$27","v":0},{"$f":"Nitric!$L$29","v":0},{"$f":"Nitric!$L$31","v":0},{"$f":"Nitric!$L$33","v":0},{"$f":"Nitric!$L$35","v":0},{"$f":"Nitric!$L$37","v":0},{"$f":"Nitric!$L$39","v":0},{"$f":"Nitric!$L$41","v":0},{"$f":"Nitric!$L$43","v":0},{"$f":"Nitric!$L$45","v":0},{"$f":"IF('Additional Emission Sources'!D20<>0,'Additional Emission Sources'!D20*CO2_C,Nitric!$L$47)","v":0},{"$f":"IF('Additional Emission Sources'!E20<>0,'Additional Emission Sources'!E20*CO2_C,Nitric!$L$49)","v":0},{"$f":"IF('Additional Emission Sources'!F20<>0,'Additional Emission Sources'!F20*CO2_C,Nitric!$L$51)","v":0},{"$f":"IF('Additional Emission Sources'!G20<>0,'Additional Emission Sources'!G20*CO2_C,Nitric!$L$53)","v":0},{"$f":"IF('Additional Emission Sources'!H20<>0,'Additional Emission Sources'!H20*CO2_C,Nitric!$L$55)","v":0},{"$f":"IF('Additional Emission Sources'!I20<>0,'Additional Emission Sources'!I20*CO2_C,Nitric!$L$57)","v":0},{"$f":"IF('Additional Emission Sources'!J20<>0,'Additional Emission Sources'!J20*CO2_C,Nitric!$L$59)","v":0},{"$f":"IF('Additional Emission Sources'!K20<>0,'Additional Emission Sources'!K20*CO2_C,Nitric!$L$61)","v":0},{"$f":"IF('Additional Emission Sources'!L20<>0,'Additional Emission Sources'!L20*CO2_C,Nitric!$L$63)","v":0},{"$f":"IF('Additional Emission Sources'!M20<>0,'Additional Emission Sources'!M20*CO2_C,Nitric!$L$65)","v":0},{"$f":"IF('Additional Emission Sources'!N20<>0,'Additional Emission Sources'!N20*CO2_C,Nitric!$L$67)","v":0},{"$f":"IF('Additional Emission Sources'!O20<>0,'Additional Emission Sources'!O20*CO2_C,Nitric!$L$69)","v":0},{"$f":"IF('Additional Emission Sources'!P20<>0,'Additional Emission Sources'!P20*CO2_C,Nitric!$L$71)","v":0},{"$f":"IF('Additional Emission Sources'!Q20<>0,'Additional Emission Sources'!Q20*CO2_C,Nitric!$L$73)","v":0},{"$f":"IF('Additional Emission Sources'!R20<>0,'Additional Emission Sources'!R20*CO2_C,Nitric!$L$75)","v":0},{"$f":"IF('Additional Emission Sources'!S20<>0,'Additional Emission Sources'!S20*CO2_C,Nitric!$L$77)","v":0}]
[null,"Adipic Acid Production",{"$f":"Adipic!$L$7","v":0},{"$f":"Adipic!$L$9","v":0},{"$f":"Adipic!$L$11","v":0},{"$f":"Adipic!$L$13","v":0},{"$f":"Adipic!$L$15","v":0},{"$f":"Adipic!$L$17","v":0},{"$f":"Adipic!$L$19","v":0},{"$f":"Adipic!$L$21","v":0},{"$f":"Adipic!$L$23","v":0},{"$f":"Adipic!$L$25","v":0},{"$f":"Adipic!$L$27","v":0},{"$f":"Adipic!$L$29","v":0},{"$f":"Adipic!$L$31","v":0},{"$f":"Adipic!$L$33","v":0},{"$f":"Adipic!$L$35","v":0},{"$f":"Adipic!$L$37","v":0},{"$f":"Adipic!$L$39","v":0},{"$f":"Adipic!$L$41","v":0},{"$f":"Adipic!$L$43","v":0},{"$f":"Adipic!$L$45","v":0},{"$f":"IF('Additional Emission Sources'!D21<>0,'Additional Emission Sources'!D21*CO2_C,Adipic!$L$47)","v":0},{"$f":"IF('Additional Emission Sources'!E21<>0,'Additional Emission Sources'!E21*CO2_C,Adipic!$L$49)","v":0},{"$f":"IF('Additional Emission Sources'!F21<>0,'Additional Emission Sources'!F21*CO2_C,Adipic!$L$51)","v":0},{"$f":"IF('Additional Emission Sources'!G21<>0,'Additional Emission Sources'!G21*CO2_C,Adipic!$L$53)","v":0},{"$f":"IF('Additional Emission Sources'!H21<>0,'Additional Emission Sources'!H21*CO2_C,Adipic!$L$55)","v":0},{"$f":"IF('Additional Emission Sources'!I21<>0,'Additional Emission Sources'!I21*CO2_C,Adipic!$L$57)","v":0},{"$f":"IF('Additional Emission Sources'!J21<>0,'Additional Emission Sources'!J21*CO2_C,Adipic!$L$59)","v":0},{"$f":"IF('Additional Emission Sources'!K21<>0,'Additional Emission Sources'!K21*CO2_C,Adipic!$L$61)","v":0},{"$f":"IF('Additional Emission Sources'!L21<>0,'Additional Emission Sources'!L21*CO2_C,Adipic!$L$63)","v":0},{"$f":"IF('Additional Emission Sources'!M21<>0,'Additional Emission Sources'!M21*CO2_C,Adipic!$L$65)","v":0},{"$f":"IF('Additional Emission Sources'!N21<>0,'Additional Emission Sources'!N21*CO2_C,Adipic!$L$67)","v":0},{"$f":"IF('Additional Emission Sources'!O21<>0,'Additional Emission Sources'!O21*CO2_C,Adipic!$L$69)","v":0},{"$f":"IF('Additional Emission Sources'!P21<>0,'Additional Emission Sources'!P21*CO2_C,Adipic!$L$71)","v":0},{"$f":"IF('Additional Emission Sources'!Q21<>0,'Additional Emission Sources'!Q21*CO2_C,Adipic!$L$73)","v":0},{"$f":"IF('Additional Emission Sources'!R21<>0,'Additional Emission Sources'!R21*CO2_C,Adipic!$L$75)","v":0},{"$f":"IF('Additional Emission Sources'!S21<>0,'Additional Emission Sources'!S21*CO2_C,Adipic!$L$77)","v":0}]
[null,"Additional N2O Emissions",{"$f":"IFERROR(IF('Additional Emission Sources'!D44<>0, 'Additional Emission Sources'!D44*CO2_C, 'Additional Emission Sources'!D54*CO2_C), 0)","v":0},{"$f":"IFERROR(IF('Additional Emission Sources'!E44<>0, 'Additional Emission Sources'!E44*CO2_C, 'Additional Emission Sources'!E54*CO2_C), 0)","v":0},{"$f":"IFERROR(IF('Additional Emission Sources'!F44<>0, 'Additional Emission Sources'!F44*CO2_C, 'Additional Emission Sources'!F54*CO2_C), 0)","v":0},{"$f":"IFERROR(IF('Additional Emission Sources'!G44<>0, 'Additional Emission Sources'!G44*CO2_C, 'Additional Emission Sources'!G54*CO2_C), 0)","v":0},{"$f":"IFERROR(IF('Additional Emission Sources'!H44<>0, 'Additional Emission Sources'!H44*CO2_C, 'Additional Emission Sources'!H54*CO2_C), 0)","v":0},{"$f":"IFERROR(IF('Additional Emission Sources'!I44<>0, 'Additional Emission Sources'!I44*CO2_C, 'Additional Emission Sources'!I54*CO2_C), 0)","v":0},{"$f":"IFERROR(IF('Additional Emission Sources'!J44<>0, 'Additional Emission Sources'!J44*CO2_C, 'Additional Emission Sources'!J54*CO2_C), 0)","v":0},{"$f":"IFERROR(IF('Additional Emission Sources'!K44<>0, 'Additional Emission Sources'!K44*CO2_C, 'Additional Emission Sources'!K54*CO2_C), 0)","v":0},{"$f":"IFERROR(IF('Additional Emission Sources'!L44<>0, 'Additional Emission Sources'!L44*CO2_C, 'Additional Emission Sources'!L54*CO2_C), 0)","v":0},{"$f":"IFERROR(IF('Additional Emission Sources'!M44<>0, 'Additional Emission Sources'!M44*CO2_C, 'Additional Emission Sources'!M54*CO2_C), 0)","v":0},{"$f":"IFERROR(IF('Additional Emission Sources'!N44<>0, 'Additional Emission Sources'!N44*CO2_C, 'Additional Emission Sources'!N54*CO2_C), 0)","v":0},{"$f":"IFERROR(IF('Additional Emission Sources'!O44<>0, 'Additional Emission Sources'!O44*CO2_C, 'Additional Emission Sources'!O54*CO2_C), 0)","v":0},{"$f":"IFERROR(IF('Additional Emission Sources'!P44<>0, 'Additional Emission Sources'!P44*CO2_C, 'Additional Emission Sources'!P54*CO2_C), 0)","v":0},{"$f":"IFERROR(IF('Additional Emission Sources'!Q44<>0, 'Additional Emission Sources'!Q44*CO2_C, 'Additional Emission Sources'!Q54*CO2_C), 0)","v":0},{"$f":"IFERROR(IF('Additional Emission Sources'!R44<>0, 'Additional Emission Sources'!R44*CO2_C, 'Additional Emission Sources'!R54*CO2_C), 0)","v":0},{"$f":"IFERROR(IF('Additional Emission Sources'!S44<>0, 'Additional Emission Sources'!S44*CO2_C, 'Additional Emission Sources'!S54*CO2_C), 0)","v":0},{"$f":"IFERROR(IF('Additional Emission Sources'!T44<>0, 'Additional Emission Sources'!T44*CO2_C, 'Additional Emission Sources'!T54*CO2_C), 0)","v":0},{"$f":"IFERROR(IF('Additional Emission Sources'!U44<>0, 'Additional Emission Sources'!U44*CO2_C, 'Additional Emission Sources'!U54*CO2_C), 0)","v":0},{"$f":"IFERROR(IF('Additional Emission Sources'!V44<>0, 'Additional Emission Sources'!V44*CO2_C, 'Additional Emission Sources'!V54*CO2_C), 0)","v":0},{"$f":"IFERROR(IF('Additional Emission Sources'!W44<>0, 'Additional Emission Sources'!W44*CO2_C, 'Additional Emission Sources'!W54*CO2_C), 0)","v":0},{"$f":"IFERROR(IF('Additional Emission Sources'!X44<>0, 'Additional Emission Sources'!X44*CO2_C, 'Additional Emission Sources'!X54*CO2_C), 0)","v":0},{"$f":"IFERROR(IF('Additional Emission Sources'!Y44<>0, 'Additional Emission Sources'!Y44*CO2_C, 'Additional Emission Sources'!Y54*CO2_C), 0)","v":0},{"$f":"IFERROR(IF('Additional Emission Sources'!Z44<>0, 'Additional Emission Sources'!Z44*CO2_C, 'Additional Emission Sources'!Z54*CO2_C), 0)","v":0},{"$f":"IFERROR(IF('Additional Emission Sources'!AA44<>0, 'Additional Emission Sources'!AA44*CO2_C, 'Additional Emission Sources'!AA54*CO2_C), 0)","v":0},{"$f":"IFERROR(IF('Additional Emission Sources'!AB44<>0, 'Additional Emission Sources'!AB44*CO2_C, 'Additional Emission Sources'!AB54*CO2_C), 0)","v":0},{"$f":"IFERROR(IF('Additional Emission Sources'!AC44<>0, 'Additional Emission Sources'!AC44*CO2_C, 'Additional Emission Sources'!AC54*CO2_C), 0)","v":0},{"$f":"IFERROR(IF('Additional Emission Sources'!AD44<>0, 'Additional Emission Sources'!AD44*CO2_C, 'Additional Emission Sources'!AD54*CO2_C), 0)","v":0},{"$f":"IFERROR(IF('Additional Emission Sources'!AE44<>0, 'Additional Emission Sources'!AE44*CO2_C, 'Additional Emission Sources'!AE54*CO2_C), 0)","v":0},{"$f":"IFERROR(IF('Additional Emission Sources'!AF44<>0, 'Additional Emission Sources'!AF44*CO2_C, 'Additional Emission Sources'!AF54*CO2_C), 0)","v":0},{"$f":"IFERROR(IF('Additional Emission Sources'!AG44<>0, 'Additional Emission Sources'!AG44*CO2_C, 'Additional Emission Sources'!AG54*CO2_C), 0)","v":0},{"$f":"IFERROR(IF('Additional Emission Sources'!AH44<>0, 'Additional Emission Sources'!AH44*CO2_C, 'Additional Emission Sources'!AH54*CO2_C), 0)","v":0},{"$f":"IFERROR(IF('Additional Emission Sources'!AI44<>0, 'Additional Emission Sources'!AI44*CO2_C, 'Additional Emission Sources'!AI54*CO2_C), 0)","v":0},{"$f":"IFERROR(IF('Additional Emission Sources'!AJ44<>0, 'Additional Emission Sources'!AJ44*CO2_C, 'Additional Emission Sources'!AJ54*CO2_C), 0)","v":0},{"$f":"IFERROR(IF('Additional Emission Sources'!AK44<>0, 'Additional Emission Sources'!AK44*CO2_C, 'Additional Emission Sources'!AK54*CO2_C), 0)","v":0},{"$f":"IFERROR(IF('Additional Emission Sources'!AL44<>0, 'Additional Emission Sources'!AL44*CO2_C, 'Additional Emission Sources'!AL54*CO2_C), 0)","v":0},{"$f":"IFERROR(IF('Additional Emission Sources'!AM44<>0, 'Additional Emission Sources'!AM44*CO2_C, 'Additional Emission Sources'!AM54*CO2_C), 0)","v":0}]
[null,"HFC, PFC, NF3, and SF6 Emissions",{"$f":"SUM(C21:C27)","v":0},{"$f":"SUM(D21:D27)","v":0},0,0,0,0,0,0,0,0,0,0,0,0,0,0,0,0,0,0,0,0,0,0,0,0,0,0,0,0,0,0,0,0,0,{"$f":"SUM(AL21:AL27)","v":0}]
[null,"ODS Substitutes",{"$f":"ODS!$Q$7","v":0},{"$f":"ODS!$Q$9","v":0},{"$f":"ODS!$Q$11","v":0},{"$f":"ODS!$Q$13","v":0},{"$f":"ODS!$Q$15","v":0},{"$f":"ODS!$Q$17","v":0},{"$f":"ODS!$Q$19","v":0},{"$f":"ODS!$Q$21","v":0},{"$f":"ODS!$Q$23","v":0},{"$f":"ODS!$Q$25","v":0},{"$f":"ODS!$Q$27","v":0},{"$f":"ODS!$Q$29","v":0},{"$f":"ODS!$Q$31","v":0},{"$f":"ODS!$Q$33","v":0},{"$f":"ODS!$Q$35","v":0},{"$f":"ODS!$Q$37","v":0},{"$f":"ODS!$Q$39","v":0},{"$f":"ODS!$Q$41","v":0},{"$f":"ODS!$Q$43","v":0},{"$f":"ODS!$Q$45","v":0},{"$f":"ODS!$Q$47","v":0},{"$f":"ODS!$Q$49","v":0},{"$f":"ODS!$Q$51","v":0},{"$f":"ODS!$Q$53","v":0},{"$f":"ODS!$Q$55","v":0},{"$f":"ODS!$Q$57","v":0},{"$f":"ODS!$Q$59","v":0},{"$f":"ODS!$Q$61","v":0},{"$f":"ODS!$Q$63","v":0},{"$f":"ODS!$Q$65","v":0},{"$f":"ODS!$Q$67","v":0},{"$f":"ODS!$Q$69","v":0},{"$f":"ODS!$Q$71","v":0},{"$f":"ODS!$Q$73","v":0},{"$f":"ODS!$Q$75","v":0},{"$f":"ODS!$Q$77","v":0}]
[null,"Semiconductor Manufacturing",{"$f":"Semiconductor!$J$7","v":0},{"$f":"Semiconductor!$J$9","v":0},{"$f":"Semiconductor!$J$11","v":0},{"$f":"Semiconductor!$J$13","v":0},{"$f":"Semiconductor!$J$15","v":0},{"$f":"Semiconductor!$J$17","v":0},{"$f":"Semiconductor!$J$19","v":0},{"$f":"Semiconductor!$J$21","v":0},{"$f":"Semiconductor!$J$23","v":0},{"$f":"Semiconductor!$J$25","v":0},{"$f":"Semiconductor!$J$27","v":0},{"$f":"Semiconductor!$J$29","v":0},{"$f":"Semiconductor!$J$31","v":0},{"$f":"Semiconductor!$J$33","v":0},{"$f":"Semiconductor!$J$35","v":0},{"$f":"Semiconductor!$J$37","v":0},{"$f":"Semiconductor!$J$39","v":0},{"$f":"Semiconductor!$J$41","v":0},{"$f":"Semiconductor!$J$43","v":0},{"$f":"Semiconductor!$J$45","v":0},{"$f":"Semiconductor!$J$47","v":0},{"$f":"Semiconductor!$J$49","v":0},{"$f":"Semiconductor!$J$51","v":0},{"$f":"Semiconductor!$J$53","v":0},{"$f":"Semiconductor!$J$55","v":0},{"$f":"Semiconductor!$J$57","v":0},{"$f":"Semiconductor!$J$59","v":0},{"$f":"Semiconductor!$J$61","v":0},{"$f":"Semiconductor!$J$63","v":0},{"$f":"Semiconductor!$J$65","v":0},{"$f":"Semiconductor!$J$67","v":0},{"$f":"Semiconductor!$J$69","v":0},{"$f":"Semiconductor!$J$71","v":0},{"$f":"Semiconductor!$J$73","v":0},{"$f":"Semiconductor!$J$75","v":0},{"$f":"Semiconductor!$J$77","v":0}]
[null,"Magnesium Production",{"$f":"SUM(Magnesium!K7:K9)","v":0},{"$f":"SUM(Magnesium!K11:K13)","v":0},{"$f":"SUM(Magnesium!K15:K17)","v":0},{"$f":"SUM(Magnesium!K19:K21)","v":0},{"$f":"SUM(Magnesium!K23:K25)","v":0},{"$f":"SUM(Magnesium!K27:K29)","v":0},{"$f":"SUM(Magnesium!K31:K33)","v":0},{"$f":"SUM(Magnesium!K35:K37)","v":0},{"$f":"SUM(Magnesium!K39:K41)","v":0},{"$f":"SUM(Magnesium!K43:K45)","v":0},{"$f":"SUM(Magnesium!K47:K49)","v":0},{"$f":"SUM(Magnesium!K51:K53)","v":0},{"$f":"SUM(Magnesium!K55:K57)","v":0},{"$f":"SUM(Magnesium!K59:K61)","v":0},{"$f":"SUM(Magnesium!K63:K65)","v":0},{"$f":"SUM(Magnesium!K67:K69)","v":0},{"$f":"SUM(Magnesium!K71:K73)","v":0},{"$f":"SUM(Magnesium!K75:K77)","v":0},{"$f":"SUM(Magnesium!K79:K81)","v":0},{"$f":"SUM(Magnesium!K83:K85)","v":0},{"$f":"SUM(Magnesium!K87:K89)","v":0},{"$f":"SUM(Magnesium!K91:K93)","v":0},{"$f":"SUM(Magnesium!K95:K97)","v":0},{"$f":"SUM(Magnesium!K99:K101)","v":0},{"$f":"SUM(Magnesium!K103:K105)","v":0},{"$f":"SUM(Magnesium!K107:K109)","v":0},{"$f":"SUM(Magnesium!K111:K113)","v":0},{"$f":"SUM(Magnesium!K115:K117)","v":0},{"$f":"SUM(Magnesium!K119:K121)","v":0},{"$f":"SUM(Magnesium!K123:K125)","v":0},{"$f":"SUM(Magnesium!K127:K129)","v":0},{"$f":"SUM(Magnesium!K131:K133)","v":0},{"$f":"SUM(Magnesium!K135:K137)","v":0},{"$f":"SUM(Magnesium!K139:K141)","v":0},{"$f":"SUM(Magnesium!K143:K145)","v":0},{"$f":"SUM(Magnesium!K147:K149)","v":0}]
[null,"Electric Power Transmission and Distribution Systems",{"$f":"'Electric Power'!$J$7","v":0},{"$f":"'Electric Power'!$J$9","v":0},{"$f":"'Electric Power'!$J$11","v":0},{"$f":"'Electric Power'!$J$13","v":0},{"$f":"'Electric Power'!$J$15","v":0},{"$f":"'Electric Power'!$J$17","v":0},{"$f":"'Electric Power'!$J$19","v":0},{"$f":"'Electric Power'!$J$21","v":0},{"$f":"'Electric Power'!$J$23","v":0},{"$f":"'Electric Power'!$J$25","v":0},{"$f":"'Electric Power'!$J$27","v":0},{"$f":"'Electric Power'!$J$29","v":0},{"$f":"'Electric Power'!$J$31","v":0},{"$f":"'Electric Power'!$J$33","v":0},{"$f":"'Electric Power'!$J$35","v":0},{"$f":"'Electric Power'!$J$37","v":0},{"$f":"'Electric Power'!$J$39","v":0},{"$f":"'Electric Power'!$J$41","v":0},{"$f":"'Electric Power'!$J$43","v":0},{"$f":"'Electric Power'!$J$45","v":0},{"$f":"'Electric Power'!$J$47","v":0},{"$f":"'Electric Power'!$J$49","v":0},{"$f":"'Electric Power'!$J$51","v":0},{"$f":"'Electric Power'!$J$53","v":0},{"$f":"'Electric Power'!$J$55","v":0},{"$f":"'Electric Power'!$J$57","v":0},{"$f":"'Electric Power'!$J$59","v":0},{"$f":"'Electric Power'!$J$61","v":0},{"$f":"'Electric Power'!$J$63","v":0},{"$f":"'Electric Power'!$J$65","v":0},{"$f":"'Electric Power'!$J$67","v":0},{"$f":"'Electric Power'!$J$69","v":0},{"$f":"'Electric Power'!$J$71","v":0},{"$f":"'Electric Power'!$J$73","v":0},{"$f":"'Electric Power'!$J$75","v":0},{"$f":"'Electric Power'!$J$77","v":0}]
[null,"HCFC-22 Production",{"$f":"'HCFC-22'!$J$7","v":0},{"$f":"'HCFC-22'!$J$9","v":0},{"$f":"'HCFC-22'!$J$11","v":0},{"$f":"'HCFC-22'!$J$13","v":0},{"$f":"'HCFC-22'!$J$15","v":0},{"$f":"'HCFC-22'!$J$17","v":0},{"$f":"'HCFC-22'!$J$19","v":0},{"$f":"'HCFC-22'!$J$21","v":0},{"$f":"'HCFC-22'!$J$23","v":0},{"$f":"'HCFC-22'!$J$25","v":0},{"$f":"'HCFC-22'!$J$27","v":0},{"$f":"'HCFC-22'!$J$29","v":0},{"$f":"'HCFC-22'!$J$31","v":0},{"$f":"'HCFC-22'!$J$33","v":0},{"$f":"'HCFC-22'!$J$35","v":0},{"$f":"'HCFC-22'!$J$37","v":0},{"$f":"'HCFC-22'!$J$39","v":0},{"$f":"'HCFC-22'!$J$41","v":0},{"$f":"'HCFC-22'!$J$43","v":0},{"$f":"'HCFC-22'!$J$45","v":0},{"$f":"IF('Additional Emission Sources'!D24<>0,'Additional Emission Sources'!D24*CO2_C,'HCFC-22'!$J$47)","v":0},{"$f":"IF('Additional Emission Sources'!E24<>0,'Additional Emission Sources'!E24*CO2_C,'HCFC-22'!$J$49)","v":0},{"$f":"IF('Additional Emission Sources'!F24<>0,'Additional Emission Sources'!F24*CO2_C,'HCFC-22'!$J$51)","v":0},{"$f":"IF('Additional Emission Sources'!G24<>0,'Additional Emission Sources'!G24*CO2_C,'HCFC-22'!$J$53)","v":0},{"$f":"IF('Additional Emission Sources'!H24<>0,'Additional Emission Sources'!H24*CO2_C,'HCFC-22'!$J$55)","v":0},{"$f":"IF('Additional Emission Sources'!I24<>0,'Additional Emission Sources'!I24*CO2_C,'HCFC-22'!$J$57)","v":0},{"$f":"IF('Additional Emission Sources'!J24<>0,'Additional Emission Sources'!J24*CO2_C,'HCFC-22'!$J$59)","v":0},{"$f":"IF('Additional Emission Sources'!K24<>0,'Additional Emission Sources'!K24*CO2_C,'HCFC-22'!$J$61)","v":0},{"$f":"IF('Additional Emission Sources'!L24<>0,'Additional Emission Sources'!L24*CO2_C,'HCFC-22'!$J$63)","v":0},{"$f":"IF('Additional Emission Sources'!M24<>0,'Additional Emission Sources'!M24*CO2_C,'HCFC-22'!$J$65)","v":0},{"$f":"IF('Additional Emission Sources'!N24<>0,'Additional Emission Sources'!N24*CO2_C,'HCFC-22'!$J$67)","v":0},{"$f":"IF('Additional Emission Sources'!O24<>0,'Additional Emission Sources'!O24*CO2_C,'HCFC-22'!$J$69)","v":0},{"$f":"IF('Additional Emission Sources'!P24<>0,'Additional Emission Sources'!P24*CO2_C,'HCFC-22'!$J$71)","v":0},{"$f":"IF('Additional Emission Sources'!Q24<>0,'Additional Emission Sources'!Q24*CO2_C,'HCFC-22'!$J$73)","v":0},{"$f":"IF('Additional Emission Sources'!R24<>0,'Additional Emission Sources'!R24*CO2_C,'HCFC-22'!$J$75)","v":0},{"$f":"IF('Additional Emission Sources'!S24<>0,'Additional Emission Sources'!S24*CO2_C,'HCFC-22'!$J$77)","v":0}]
[null,"Aluminum Production, PFCs",{"$f":"Aluminum!$Q$7","v":0},{"$f":"Aluminum!$Q$9","v":0},{"$f":"Aluminum!$Q$11","v":0},{"$f":"Aluminum!$Q$13","v":0},{"$f":"Aluminum!$Q$15","v":0},{"$f":"Aluminum!$Q$17","v":0},{"$f":"Aluminum!$Q$19","v":0},{"$f":"Aluminum!$Q$21","v":0},{"$f":"Aluminum!$Q$23","v":0},{"$f":"Aluminum!$Q$25","v":0},{"$f":"Aluminum!$Q$27","v":0},{"$f":"Aluminum!$Q$29","v":0},{"$f":"Aluminum!$Q$31","v":0},{"$f":"Aluminum!$Q$33","v":0},{"$f":"Aluminum!$Q$35","v":0},{"$f":"Aluminum!$Q$37","v":0},{"$f":"Aluminum!$Q$39","v":0},{"$f":"Aluminum!$Q$41","v":0},{"$f":"Aluminum!$Q$43","v":0},{"$f":"Aluminum!$Q$45","v":0},{"$f":"IF('Additional Emission Sources'!D22<>0,'Additional Emission Sources'!D22*CO2_C,Aluminum!$Q$47)","v":0},{"$f":"IF('Additional Emission Sources'!E22<>0,'Additional Emission Sources'!E22*CO2_C,Aluminum!$Q$49)","v":0},{"$f":"IF('Additional Emission Sources'!F22<>0,'Additional Emission Sources'!F22*CO2_C,Aluminum!$Q$51)","v":0},{"$f":"IF('Additional Emission Sources'!G22<>0,'Additional Emission Sources'!G22*CO2_C,Aluminum!$Q$53)","v":0},{"$f":"IF('Additional Emission Sources'!H22<>0,'Additional Emission Sources'!H22*CO2_C,Aluminum!$Q$55)","v":0},{"$f":"IF('Additional Emission Sources'!I22<>0,'Additional Emission Sources'!I22*CO2_C,Aluminum!$Q$57)","v":0},{"$f":"IF('Additional Emission Sources'!J22<>0,'Additional Emission Sources'!J22*CO2_C,Aluminum!$Q$59)","v":0},{"$f":"IF('Additional Emission Sources'!K22<>0,'Additional Emission Sources'!K22*CO2_C,Aluminum!$Q$61)","v":0},{"$f":"IF('Additional Emission Sources'!L22<>0,'Additional Emission Sources'!L22*CO2_C,Aluminum!$Q$63)","v":0},{"$f":"IF('Additional Emission Sources'!M22<>0,'Additional Emission Sources'!M22*CO2_C,Aluminum!$Q$65)","v":0},{"$f":"IF('Additional Emission Sources'!N22<>0,'Additional Emission Sources'!N22*CO2_C,Aluminum!$Q$67)","v":0},{"$f":"IF('Additional Emission Sources'!O22<>0,'Additional Emission Sources'!O22*CO2_C,Aluminum!$Q$69)","v":0},{"$f":"IF('Additional Emission Sources'!P22<>0,'Additional Emission Sources'!P22*CO2_C,Aluminum!$Q$71)","v":0},{"$f":"IF('Additional Emission Sources'!Q22<>0,'Additional Emission Sources'!Q22*CO2_C,Aluminum!$Q$73)","v":0},{"$f":"IF('Additional Emission Sources'!R22<>0,'Additional Emission Sources'!R22*CO2_C,Aluminum!$Q$75)","v":0},{"$f":"IF('Additional Emission Sources'!S22<>0,'Additional Emission Sources'!S22*CO2_C,Aluminum!$Q$77)","v":0}]
[null,"Additional HFC, PFC, NF3, and SF6 Emissions",{"$f":"IFERROR(IF(SUM('Additional Emission Sources'!D45:D48)<>0, SUM('Additional Emission Sources'!D45:D48)*CO2_C, SUM('Additional Emission Sources'!D55:D58)*CO2_C),0)","v":0},{"$f":"IFERROR(IF(SUM('Additional Emission Sources'!E45:E48)<>0, SUM('Additional Emission Sources'!E45:E48)*CO2_C, SUM('Additional Emission Sources'!E55:E58)*CO2_C),0)","v":0},{"$f":"IFERROR(IF(SUM('Additional Emission Sources'!F45:F48)<>0, SUM('Additional Emission Sources'!F45:F48)*CO2_C, SUM('Additional Emission Sources'!F55:F58)*CO2_C),0)","v":0},{"$f":"IFERROR(IF(SUM('Additional Emission Sources'!G45:G48)<>0, SUM('Additional Emission Sources'!G45:G48)*CO2_C, SUM('Additional Emission Sources'!G55:G58)*CO2_C),0)","v":0},{"$f":"IFERROR(IF(SUM('Additional Emission Sources'!H45:H48)<>0, SUM('Additional Emission Sources'!H45:H48)*CO2_C, SUM('Additional Emission Sources'!H55:H58)*CO2_C),0)","v":0},{"$f":"IFERROR(IF(SUM('Additional Emission Sources'!I45:I48)<>0, SUM('Additional Emission Sources'!I45:I48)*CO2_C, SUM('Additional Emission Sources'!I55:I58)*CO2_C),0)","v":0},{"$f":"IFERROR(IF(SUM('Additional Emission Sources'!J45:J48)<>0, SUM('Additional Emission Sources'!J45:J48)*CO2_C, SUM('Additional Emission Sources'!J55:J58)*CO2_C),0)","v":0},{"$f":"IFERROR(IF(SUM('Additional Emission Sources'!K45:K48)<>0, SUM('Additional Emission Sources'!K45:K48)*CO2_C, SUM('Additional Emission Sources'!K55:K58)*CO2_C),0)","v":0},{"$f":"IFERROR(IF(SUM('Additional Emission Sources'!L45:L48)<>0, SUM('Additional Emission Sources'!L45:L48)*CO2_C, SUM('Additional Emission Sources'!L55:L58)*CO2_C),0)","v":0},{"$f":"IFERROR(IF(SUM('Additional Emission Sources'!M45:M48)<>0, SUM('Additional Emission Sources'!M45:M48)*CO2_C, SUM('Additional Emission Sources'!M55:M58)*CO2_C),0)","v":0},{"$f":"IFERROR(IF(SUM('Additional Emission Sources'!N45:N48)<>0, SUM('Additional Emission Sources'!N45:N48)*CO2_C, SUM('Additional Emission Sources'!N55:N58)*CO2_C),0)","v":0},{"$f":"IFERROR(IF(SUM('Additional Emission Sources'!O45:O48)<>0, SUM('Additional Emission Sources'!O45:O48)*CO2_C, SUM('Additional Emission Sources'!O55:O58)*CO2_C),0)","v":0},{"$f":"IFERROR(IF(SUM('Additional Emission Sources'!P45:P48)<>0, SUM('Additional Emission Sources'!P45:P48)*CO2_C, SUM('Additional Emission Sources'!P55:P58)*CO2_C),0)","v":0},{"$f":"IFERROR(IF(SUM('Additional Emission Sources'!Q45:Q48)<>0, SUM('Additional Emission Sources'!Q45:Q48)*CO2_C, SUM('Additional Emission Sources'!Q55:Q58)*CO2_C),0)","v":0},{"$f":"IFERROR(IF(SUM('Additional Emission Sources'!R45:R48)<>0, SUM('Additional Emission Sources'!R45:R48)*CO2_C, SUM('Additional Emission Sources'!R55:R58)*CO2_C),0)","v":0},{"$f":"IFERROR(IF(SUM('Additional Emission Sources'!S45:S48)<>0, SUM('Additional Emission Sources'!S45:S48)*CO2_C, SUM('Additional Emission Sources'!S55:S58)*CO2_C),0)","v":0},{"$f":"IFERROR(IF(SUM('Additional Emission Sources'!T45:T48)<>0, SUM('Additional Emission Sources'!T45:T48)*CO2_C, SUM('Additional Emission Sources'!T55:T58)*CO2_C),0)","v":0},{"$f":"IFERROR(IF(SUM('Additional Emission Sources'!U45:U48)<>0, SUM('Additional Emission Sources'!U45:U48)*CO2_C, SUM('Additional Emission Sources'!U55:U58)*CO2_C),0)","v":0},{"$f":"IFERROR(IF(SUM('Additional Emission Sources'!V45:V48)<>0, SUM('Additional Emission Sources'!V45:V48)*CO2_C, SUM('Additional Emission Sources'!V55:V58)*CO2_C),0)","v":0},{"$f":"IFERROR(IF(SUM('Additional Emission Sources'!W45:W48)<>0, SUM('Additional Emission Sources'!W45:W48)*CO2_C, SUM('Additional Emission Sources'!W55:W58)*CO2_C),0)","v":0},{"$f":"IFERROR(IF(SUM('Additional Emission Sources'!X45:X48)<>0, SUM('Additional Emission Sources'!X45:X48)*CO2_C, SUM('Additional Emission Sources'!X55:X58)*CO2_C),0)","v":0},{"$f":"IFERROR(IF(SUM('Additional Emission Sources'!Y45:Y48)<>0, SUM('Additional Emission Sources'!Y45:Y48)*CO2_C, SUM('Additional Emission Sources'!Y55:Y58)*CO2_C),0)","v":0},{"$f":"IFERROR(IF(SUM('Additional Emission Sources'!Z45:Z48)<>0, SUM('Additional Emission Sources'!Z45:Z48)*CO2_C, SUM('Additional Emission Sources'!Z55:Z58)*CO2_C),0)","v":0},{"$f":"IFERROR(IF(SUM('Additional Emission Sources'!AA45:AA48)<>0, SUM('Additional Emission Sources'!AA45:AA48)*CO2_C, SUM('Additional Emission Sources'!AA55:AA58)*CO2_C),0)","v":0},{"$f":"IFERROR(IF(SUM('Additional Emission Sources'!AB45:AB48)<>0, SUM('Additional Emission Sources'!AB45:AB48)*CO2_C, SUM('Additional Emission Sources'!AB55:AB58)*CO2_C),0)","v":0},{"$f":"IFERROR(IF(SUM('Additional Emission Sources'!AC45:AC48)<>0, SUM('Additional Emission Sources'!AC45:AC48)*CO2_C, SUM('Additional Emission Sources'!AC55:AC58)*CO2_C),0)","v":0},{"$f":"IFERROR(IF(SUM('Additional Emission Sources'!AD45:AD48)<>0, SUM('Additional Emission Sources'!AD45:AD48)*CO2_C, SUM('Additional Emission Sources'!AD55:AD58)*CO2_C),0)","v":0},{"$f":"IFERROR(IF(SUM('Additional Emission Sources'!AE45:AE48)<>0, SUM('Additional Emission Sources'!AE45:AE48)*CO2_C, SUM('Additional Emission Sources'!AE55:AE58)*CO2_C),0)","v":0},{"$f":"IFERROR(IF(SUM('Additional Emission Sources'!AF45:AF48)<>0, SUM('Additional Emission Sources'!AF45:AF48)*CO2_C, SUM('Additional Emission Sources'!AF55:AF58)*CO2_C),0)","v":0},{"$f":"IFERROR(IF(SUM('Additional Emission Sources'!AG45:AG48)<>0, SUM('Additional Emission Sources'!AG45:AG48)*CO2_C, SUM('Additional Emission Sources'!AG55:AG58)*CO2_C),0)","v":0},{"$f":"IFERROR(IF(SUM('Additional Emission Sources'!AH45:AH48)<>0, SUM('Additional Emission Sources'!AH45:AH48)*CO2_C, SUM('Additional Emission Sources'!AH55:AH58)*CO2_C),0)","v":0},{"$f":"IFERROR(IF(SUM('Additional Emission Sources'!AI45:AI48)<>0, SUM('Additional Emission Sources'!AI45:AI48)*CO2_C, SUM('Additional Emission Sources'!AI55:AI58)*CO2_C),0)","v":0},{"$f":"IFERROR(IF(SUM('Additional Emission Sources'!AJ45:AJ48)<>0, SUM('Additional Emission Sources'!AJ45:AJ48)*CO2_C, SUM('Additional Emission Sources'!AJ55:AJ58)*CO2_C),0)","v":0},{"$f":"IFERROR(IF(SUM('Additional Emission Sources'!AK45:AK48)<>0, SUM('Additional Emission Sources'!AK45:AK48)*CO2_C, SUM('Additional Emission Sources'!AK55:AK58)*CO2_C),0)","v":0},{"$f":"IFERROR(IF(SUM('Additional Emission Sources'!AL45:AL48)<>0, SUM('Additional Emission Sources'!AL45:AL48)*CO2_C, SUM('Additional Emission Sources'!AL55:AL58)*CO2_C),0)","v":0},{"$f":"IFERROR(IF(SUM('Additional Emission Sources'!AM45:AM48)<>0, SUM('Additional Emission Sources'!AM45:AM48)*CO2_C, SUM('Additional Emission Sources'!AM55:AM58)*CO2_C),0)","v":0}]
[null,"Total Emissions",{"$f":"SUM(C6,C16,C20)","v":0},{"$f":"SUM(D6,D16,D20)","v":0},0,0,0,0,0,0,0,0,0,0,0,0,0,0,0,0,0,0,0,0,0,0,0,0,0,0,0,0,0,0,0,0,0,0]
[]
[null,null,1,{"$f":"IF(ISERROR(IF(D28=0,0,COLUMN()-2)),0,IF(D28=0,0,COLUMN()-2))","v":0},{"$f":"IF(ISERROR(IF(E28=0,0,COLUMN()-2)),0,IF(E28=0,0,COLUMN()-2))","v":0},0,0,0,0,0,0,0,0,0,0,0,0,0,0,0,0,0,0,0,0,0,0,0,0,0,0,0,0,{"$f":"IF(ISERROR(IF(AH28=0,0,COLUMN()-2)),0,IF(AH28=0,0,COLUMN()-2))","v":0},0,0,0,0]
[null,null,{"$f":"IF(C30=0,0,C5)","v":1990},0,0,0,0,0,0,0,0,0,0,0,0,0,0,0,0,0,0,0,0,0,0,0,0,0,0,0,0,0,0,0,0,0,0,0]
[]
[null,null,{"$f":"\"Emissions by Gas Type, 1990-\"&MAX($C$31:$AG$31)","v":"Emissions by Gas Type, 1990-1990"},null,null,null,null,null,null,null,null,null,null,null,null,null,null,{"$f":"\"Emissions by Gas Type, 1990-\"&EF!B9","v":"Emissions by Gas Type, 1990-2022"}]
[null,null,{"$f":"\"Carbon Dioxide Emissions, 1990-\"&MAX($C$31:$AG$31)","v":"Carbon Dioxide Emissions, 1990-1990"},null,null,null,null,null,null,null,null,null,null,null,null,null,null,{"$f":"\"Carbon Dioxide Emissions, 1990-\"&EF!B9","v":"Carbon Dioxide Emissions, 1990-2022"}]
[null,null,{"$f":"\"Nitrous Oxide Emissions, 1990-\"&MAX($C$31:$AG$31)","v":"Nitrous Oxide Emissions, 1990-1990"},null,null,null,null,null,null,null,null,null,null,null,null,null,null,{"$f":"\"Nitrous Oxide Emissions, 1990-\"&EF!B9","v":"Nitrous Oxide Emissions, 1990-2022"}]
[null,null,{"$f":"\"High GWP Emissions, 1990-\"&MAX($C$31:$AG$31)","v":"High GWP Emissions, 1990-1990"},null,null,null,null,null,null,null,null,null,null,null,null,null,null,{"$f":"\"High GWP Emissions, 1990-\"&EF!B9","v":"High GWP Emissions, 1990-2022"}]

{"sheet":"Summary, MTCO2E","index":19,"n_rows":36,"n_cols":38,"rows_kept":36,"cut":false,"hidden":false,"merged":[[2,1,2,9]]}
[{"$f":"\"16. \"&'List Data'!B3&\" Emissions Summary (MTCO2E)\"","v":"16. Select a State . . . Emissions Summary (MTCO2E)"}]
[]
[null,{"$f":"Tracker!B24","v":"Emissions were not calculated for the following sources: Cement Manufacture, Lime Manufacture, Limestone and Dolomite Use, Soda Ash, Aluminum Production, Carbon Dioxide, Iron & Steel, Ammonia Production, Urea Consumption, Nitric Acid Production, Adipic Acid Production, ODS Substitutes, Semiconductor Manufacturing, Magnesium Production, Electric Power Transmission and Distribution Systems, HCFC-22 Production, and Aluminum Production, PFCs."}]
[]
[null,null,1990,1991,1992,1993,1994,1995,1996,1997,1998,1999,2000,2001,2002,2003,2004,2005,2006,2007,2008,2009,2010,2011,2012,2013,2014,2015,2016,2017,2018,2019,2020,2021,2022,2023,2024,2025]
[null,"Carbon Dioxide Emissions",{"$f":"'Summary, MTCE'!C6/CO2_C","v":0},{"$f":"'Summary, MTCE'!D6/CO2_C","v":0},{"$f":"'Summary, MTCE'!E6/CO2_C","v":0},{"$f":"'Summary, MTCE'!F6/CO2_C","v":0},{"$f":"'Summary, MTCE'!G6/CO2_C","v":0},{"$f":"'Summary, MTCE'!H6/CO2_C","v":0},{"$f":"'Summary, MTCE'!I6/CO2_C","v":0},{"$f":"'Summary, MTCE'!J6/CO2_C","v":0},{"$f":"'Summary, MTCE'!K6/CO2_C","v":0},{"$f":"'Summary, MTCE'!L6/CO2_C","v":0},{"$f":"'Summary, MTCE'!M6/CO2_C","v":0},{"$f":"'Summary, MTCE'!N6/CO2_C","v":0},{"$f":"'Summary, MTCE'!O6/CO2_C","v":0},{"$f":"'Summary, MTCE'!P6/CO2_C","v":0},{"$f":"'Summary, MTCE'!Q6/CO2_C","v":0},{"$f":"'Summary, MTCE'!R6/CO2_C","v":0},{"$f":"'Summary, MTCE'!S6/CO2_C","v":0},{"$f":"'Summary, MTCE'!T6/CO2_C","v":0},{"$f":"'Summary, MTCE'!U6/CO2_C","v":0},{"$f":"'Summary, MTCE'!V6/CO2_C","v":0},{"$f":"'Summary, MTCE'!W6/CO2_C","v":0},{"$f":"'Summary, MTCE'!X6/CO2_C","v":0},{"$f":"'Summary, MTCE'!Y6/CO2_C","v":0},{"$f":"'Summary, MTCE'!Z6/CO2_C","v":0},{"$f":"'Summary, MTCE'!AA6/CO2_C","v":0},{"$f":"'Summary, MTCE'!AB6/CO2_C","v":0},{"$f":"'Summary, MTCE'!AC6/CO2_C","v":0},{"$f":"'Summary, MTCE'!AD6/CO2_C","v":0},{"$f":"'Summary, MTCE'!AE6/CO2_C","v":0},{"$f":"'Summary, MTCE'!AF6/CO2_C","v":0},{"$f":"'Summary, MTCE'!AG6/CO2_C","v":0},{"$f":"'Summary, MTCE'!AH6/CO2_C","v":0},{"$f":"'Summary, MTCE'!AI6/CO2_C","v":0},{"$f":"'Summary, MTCE'!AJ6/CO2_C","v":0},{"$f":"'Summary, MTCE'!AK6/CO2_C","v":0},{"$f":"'Summary, MTCE'!AL6/CO2_C","v":0}]
[null,"Cement Manufacture",{"$f":"'Summary, MTCE'!C7/CO2_C","v":0},{"$f":"'Summary, MTCE'!D7/CO2_C","v":0},{"$f":"'Summary, MTCE'!E7/CO2_C","v":0},{"$f":"'Summary, MTCE'!F7/CO2_C","v":0},{"$f":"'Summary, MTCE'!G7/CO2_C","v":0},{"$f":"'Summary, MTCE'!H7/CO2_C","v":0},{"$f":"'Summary, MTCE'!I7/CO2_C","v":0},{"$f":"'Summary, MTCE'!J7/CO2_C","v":0},{"$f":"'Summary, MTCE'!K7/CO2_C","v":0},{"$f":"'Summary, MTCE'!L7/CO2_C","v":0},{"$f":"'Summary, MTCE'!M7/CO2_C","v":0},{"$f":"'Summary, MTCE'!N7/CO2_C","v":0},{"$f":"'Summary, MTCE'!O7/CO2_C","v":0},{"$f":"'Summary, MTCE'!P7/CO2_C","v":0},{"$f":"'Summary, MTCE'!Q7/CO2_C","v":0},{"$f":"'Summary, MTCE'!R7/CO2_C","v":0},{"$f":"'Summary, MTCE'!S7/CO2_C","v":0},{"$f":"'Summary, MTCE'!T7/CO2_C","v":0},{"$f":"'Summary, MTCE'!U7/CO2_C","v":0},{"$f":"'Summary, MTCE'!V7/CO2_C","v":0},{"$f":"'Summary, MTCE'!W7/CO2_C","v":0},{"$f":"'Summary, MTCE'!X7/CO2_C","v":0},{"$f":"'Summary, MTCE'!Y7/CO2_C","v":0},{"$f":"'Summary, MTCE'!Z7/CO2_C","v":0},{"$f":"'Summary, MTCE'!AA7/CO2_C","v":0},{"$f":"'Summary, MTCE'!AB7/CO2_C","v":0},{"$f":"'Summary, MTCE'!AC7/CO2_C","v":0},{"$f":"'Summary, MTCE'!AD7/CO2_C","v":0},{"$f":"'Summary, MTCE'!AE7/CO2_C","v":0},{"$f":"'Summary, MTCE'!AF7/CO2_C","v":0},{"$f":"'Summary, MTCE'!AG7/CO2_C","v":0},{"$f":"'Summary, MTCE'!AH7/CO2_C","v":0},{"$f":"'Summary, MTCE'!AI7/CO2_C","v":0},{"$f":"'Summary, MTCE'!AJ7/CO2_C","v":0},{"$f":"'Summary, MTCE'!AK7/CO2_C","v":0},{"$f":"'Summary, MTCE'!AL7/CO2_C","v":0}]
[null,"Lime Manufacture",{"$f":"'Summary, MTCE'!C8/CO2_C","v":0},{"$f":"'Summary, MTCE'!D8/CO2_C","v":0},{"$f":"'Summary, MTCE'!E8/CO2_C","v":0},{"$f":"'Summary, MTCE'!F8/CO2_C","v":0},{"$f":"'Summary, MTCE'!G8/CO2_C","v":0},{"$f":"'Summary, MTCE'!H8/CO2_C","v":0},{"$f":"'Summary, MTCE'!I8/CO2_C","v":0},{"$f":"'Summary, MTCE'!J8/CO2_C","v":0},{"$f":"'Summary, MTCE'!K8/CO2_C","v":0},{"$f":"'Summary, MTCE'!L8/CO2_C","v":0},{"$f":"'Summary, MTCE'!M8/CO2_C","v":0},{"$f":"'Summary, MTCE'!N8/CO2_C","v":0},{"$f":"'Summary, MTCE'!O8/CO2_C","v":0},{"$f":"'Summary, MTCE'!P8/CO2_C","v":0},{"$f":"'Summary, MTCE'!Q8/CO2_C","v":0},{"$f":"'Summary, MTCE'!R8/CO2_C","v":0},{"$f":"'Summary, MTCE'!S8/CO2_C","v":0},{"$f":"'Summary, MTCE'!T8/CO2_C","v":0},{"$f":"'Summary, MTCE'!U8/CO2_C","v":0},{"$f":"'Summary, MTCE'!V8/CO2_C","v":0},{"$f":"'Summary, MTCE'!W8/CO2_C","v":0},{"$f":"'Summary, MTCE'!X8/CO2_C","v":0},{"$f":"'Summary, MTCE'!Y8/CO2_C","v":0},{"$f":"'Summary, MTCE'!Z8/CO2_C","v":0},{"$f":"'Summary, MTCE'!AA8/CO2_C","v":0},{"$f":"'Summary, MTCE'!AB8/CO2_C","v":0},{"$f":"'Summary, MTCE'!AC8/CO2_C","v":0},{"$f":"'Summary, MTCE'!AD8/CO2_C","v":0},{"$f":"'Summary, MTCE'!AE8/CO2_C","v":0},{"$f":"'Summary, MTCE'!AF8/CO2_C","v":0},{"$f":"'Summary, MTCE'!AG8/CO2_C","v":0},{"$f":"'Summary, MTCE'!AH8/CO2_C","v":0},{"$f":"'Summary, MTCE'!AI8/CO2_C","v":0},{"$f":"'Summary, MTCE'!AJ8/CO2_C","v":0},{"$f":"'Summary, MTCE'!AK8/CO2_C","v":0},{"$f":"'Summary, MTCE'!AL8/CO2_C","v":0}]
[null,"Limestone and Dolomite Use",{"$f":"'Summary, MTCE'!C9/CO2_C","v":0},{"$f":"'Summary, MTCE'!D9/CO2_C","v":0},{"$f":"'Summary, MTCE'!E9/CO2_C","v":0},{"$f":"'Summary, MTCE'!F9/CO2_C","v":0},{"$f":"'Summary, MTCE'!G9/CO2_C","v":0},{"$f":"'Summary, MTCE'!H9/CO2_C","v":0},{"$f":"'Summary, MTCE'!I9/CO2_C","v":0},{"$f":"'Summary, MTCE'!J9/CO2_C","v":0},{"$f":"'Summary, MTCE'!K9/CO2_C","v":0},{"$f":"'Summary, MTCE'!L9/CO2_C","v":0},{"$f":"'Summary, MTCE'!M9/CO2_C","v":0},{"$f":"'Summary, MTCE'!N9/CO2_C","v":0},{"$f":"'Summary, MTCE'!O9/CO2_C","v":0},{"$f":"'Summary, MTCE'!P9/CO2_C","v":0},{"$f":"'Summary, MTCE'!Q9/CO2_C","v":0},{"$f":"'Summary, MTCE'!R9/CO2_C","v":0},{"$f":"'Summary, MTCE'!S9/CO2_C","v":0},{"$f":"'Summary, MTCE'!T9/CO2_C","v":0},{"$f":"'Summary, MTCE'!U9/CO2_C","v":0},{"$f":"'Summary, MTCE'!V9/CO2_C","v":0},{"$f":"'Summary, MTCE'!W9/CO2_C","v":0},{"$f":"'Summary, MTCE'!X9/CO2_C","v":0},{"$f":"'Summary, MTCE'!Y9/CO2_C","v":0},{"$f":"'Summary, MTCE'!Z9/CO2_C","v":0},{"$f":"'Summary, MTCE'!AA9/CO2_C","v":0},{"$f":"'Summary, MTCE'!AB9/CO2_C","v":0},{"$f":"'Summary, MTCE'!AC9/CO2_C","v":0},{"$f":"'Summary, MTCE'!AD9/CO2_C","v":0},{"$f":"'Summary, MTCE'!AE9/CO2_C","v":0},{"$f":"'Summary, MTCE'!AF9/CO2_C","v":0},{"$f":"'Summary, MTCE'!AG9/CO2_C","v":0},{"$f":"'Summary, MTCE'!AH9/CO2_C","v":0},{"$f":"'Summary, MTCE'!AI9/CO2_C","v":0},{"$f":"'Summary, MTCE'!AJ9/CO2_C","v":0},{"$f":"'Summary, MTCE'!AK9/CO2_C","v":0},{"$f":"'Summary, MTCE'!AL9/CO2_C","v":0}]
[null,"Soda Ash",{"$f":"'Summary, MTCE'!C10/CO2_C","v":0},{"$f":"'Summary, MTCE'!D10/CO2_C","v":0},{"$f":"'Summary, MTCE'!E10/CO2_C","v":0},{"$f":"'Summary, MTCE'!F10/CO2_C","v":0},{"$f":"'Summary, MTCE'!G10/CO2_C","v":0},{"$f":"'Summary, MTCE'!H10/CO2_C","v":0},{"$f":"'Summary, MTCE'!I10/CO2_C","v":0},{"$f":"'Summary, MTCE'!J10/CO2_C","v":0},{"$f":"'Summary, MTCE'!K10/CO2_C","v":0},{"$f":"'Summary, MTCE'!L10/CO2_C","v":0},{"$f":"'Summary, MTCE'!M10/CO2_C","v":0},{"$f":"'Summary, MTCE'!N10/CO2_C","v":0},{"$f":"'Summary, MTCE'!O10/CO2_C","v":0},{"$f":"'Summary, MTCE'!P10/CO2_C","v":0},{"$f":"'Summary, MTCE'!Q10/CO2_C","v":0},{"$f":"'Summary, MTCE'!R10/CO2_C","v":0},{"$f":"'Summary, MTCE'!S10/CO2_C","v":0},{"$f":"'Summary, MTCE'!T10/CO2_C","v":0},{"$f":"'Summary, MTCE'!U10/CO2_C","v":0},{"$f":"'Summary, MTCE'!V10/CO2_C","v":0},{"$f":"'Summary, MTCE'!W10/CO2_C","v":0},{"$f":"'Summary, MTCE'!X10/CO2_C","v":0},{"$f":"'Summary, MTCE'!Y10/CO2_C","v":0},{"$f":"'Summary, MTCE'!Z10/CO2_C","v":0},{"$f":"'Summary, MTCE'!AA10/CO2_C","v":0},{"$f":"'Summary, MTCE'!AB10/CO2_C","v":0},{"$f":"'Summary, MTCE'!AC10/CO2_C","v":0},{"$f":"'Summary, MTCE'!AD10/CO2_C","v":0},{"$f":"'Summary, MTCE'!AE10/CO2_C","v":0},{"$f":"'Summary, MTCE'!AF10/CO2_C","v":0},{"$f":"'Summary, MTCE'!AG10/CO2_C","v":0},{"$f":"'Summary, MTCE'!AH10/CO2_C","v":0},{"$f":"'Summary, MTCE'!AI10/CO2_C","v":0},{"$f":"'Summary, MTCE'!AJ10/CO2_C","v":0},{"$f":"'Summary, MTCE'!AK10/CO2_C","v":0},{"$f":"'Summary, MTCE'!AL10/CO2_C","v":0}]
[null,"Aluminum Production, CO2",{"$f":"'Summary, MTCE'!C11/CO2_C","v":0},{"$f":"'Summary, MTCE'!D11/CO2_C","v":0},{"$f":"'Summary, MTCE'!E11/CO2_C","v":0},{"$f":"'Summary, MTCE'!F11/CO2_C","v":0},{"$f":"'Summary, MTCE'!G11/CO2_C","v":0},{"$f":"'Summary, MTCE'!H11/CO2_C","v":0},{"$f":"'Summary, MTCE'!I11/CO2_C","v":0},{"$f":"'Summary, MTCE'!J11/CO2_C","v":0},{"$f":"'Summary, MTCE'!K11/CO2_C","v":0},{"$f":"'Summary, MTCE'!L11/CO2_C","v":0},{"$f":"'Summary, MTCE'!M11/CO2_C","v":0},{"$f":"'Summary, MTCE'!N11/CO2_C","v":0},{"$f":"'Summary, MTCE'!O11/CO2_C","v":0},{"$f":"'Summary, MTCE'!P11/CO2_C","v":0},{"$f":"'Summary, MTCE'!Q11/CO2_C","v":0},{"$f":"'Summary, MTCE'!R11/CO2_C","v":0},{"$f":"'Summary, MTCE'!S11/CO2_C","v":0},{"$f":"'Summary, MTCE'!T11/CO2_C","v":0},{"$f":"'Summary, MTCE'!U11/CO2_C","v":0},{"$f":"'Summary, MTCE'!V11/CO2_C","v":0},{"$f":"'Summary, MTCE'!W11/CO2_C","v":0},{"$f":"'Summary, MTCE'!X11/CO2_C","v":0},{"$f":"'Summary, MTCE'!Y11/CO2_C","v":0},{"$f":"'Summary, MTCE'!Z11/CO2_C","v":0},{"$f":"'Summary, MTCE'!AA11/CO2_C","v":0},{"$f":"'Summary, MTCE'!AB11/CO2_C","v":0},{"$f":"'Summary, MTCE'!AC11/CO2_C","v":0},{"$f":"'Summary, MTCE'!AD11/CO2_C","v":0},{"$f":"'Summary, MTCE'!AE11/CO2_C","v":0},{"$f":"'Summary, MTCE'!AF11/CO2_C","v":0},{"$f":"'Summary, MTCE'!AG11/CO2_C","v":0},{"$f":"'Summary, MTCE'!AH11/CO2_C","v":0},{"$f":"'Summary, MTCE'!AI11/CO2_C","v":0},{"$f":"'Summary, MTCE'!AJ11/CO2_C","v":0},{"$f":"'Summary, MTCE'!AK11/CO2_C","v":0},{"$f":"'Summary, MTCE'!AL11/CO2_C","v":0}]
[null,"Iron & Steel Production",{"$f":"'Summary, MTCE'!C12/CO2_C","v":0},{"$f":"'Summary, MTCE'!D12/CO2_C","v":0},{"$f":"'Summary, MTCE'!E12/CO2_C","v":0},{"$f":"'Summary, MTCE'!F12/CO2_C","v":0},{"$f":"'Summary, MTCE'!G12/CO2_C","v":0},{"$f":"'Summary, MTCE'!H12/CO2_C","v":0},{"$f":"'Summary, MTCE'!I12/CO2_C","v":0},{"$f":"'Summary, MTCE'!J12/CO2_C","v":0},{"$f":"'Summary, MTCE'!K12/CO2_C","v":0},{"$f":"'Summary, MTCE'!L12/CO2_C","v":0},{"$f":"'Summary, MTCE'!M12/CO2_C","v":0},{"$f":"'Summary, MTCE'!N12/CO2_C","v":0},{"$f":"'Summary, MTCE'!O12/CO2_C","v":0},{"$f":"'Summary, MTCE'!P12/CO2_C","v":0},{"$f":"'Summary, MTCE'!Q12/CO2_C","v":0},{"$f":"'Summary, MTCE'!R12/CO2_C","v":0},{"$f":"'Summary, MTCE'!S12/CO2_C","v":0},{"$f":"'Summary, MTCE'!T12/CO2_C","v":0},{"$f":"'Summary, MTCE'!U12/CO2_C","v":0},{"$f":"'Summary, MTCE'!V12/CO2_C","v":0},{"$f":"'Summary, MTCE'!W12/CO2_C","v":0},{"$f":"'Summary, MTCE'!X12/CO2_C","v":0},{"$f":"'Summary, MTCE'!Y12/CO2_C","v":0},{"$f":"'Summary, MTCE'!Z12/CO2_C","v":0},{"$f":"'Summary, MTCE'!AA12/CO2_C","v":0},{"$f":"'Summary, MTCE'!AB12/CO2_C","v":0},{"$f":"'Summary, MTCE'!AC12/CO2_C","v":0},{"$f":"'Summary, MTCE'!AD12/CO2_C","v":0},{"$f":"'Summary, MTCE'!AE12/CO2_C","v":0},{"$f":"'Summary, MTCE'!AF12/CO2_C","v":0},{"$f":"'Summary, MTCE'!AG12/CO2_C","v":0},{"$f":"'Summary, MTCE'!AH12/CO2_C","v":0},{"$f":"'Summary, MTCE'!AI12/CO2_C","v":0},{"$f":"'Summary, MTCE'!AJ12/CO2_C","v":0},{"$f":"'Summary, MTCE'!AK12/CO2_C","v":0},{"$f":"'Summary, MTCE'!AL12/CO2_C","v":0}]
[null,"Ammonia Production",{"$f":"'Summary, MTCE'!C13/CO2_C","v":0},{"$f":"'Summary, MTCE'!D13/CO2_C","v":0},{"$f":"'Summary, MTCE'!E13/CO2_C","v":0},{"$f":"'Summary, MTCE'!F13/CO2_C","v":0},{"$f":"'Summary, MTCE'!G13/CO2_C","v":0},{"$f":"'Summary, MTCE'!H13/CO2_C","v":0},{"$f":"'Summary, MTCE'!I13/CO2_C","v":0},{"$f":"'Summary, MTCE'!J13/CO2_C","v":0},{"$f":"'Summary, MTCE'!K13/CO2_C","v":0},{"$f":"'Summary, MTCE'!L13/CO2_C","v":0},{"$f":"'Summary, MTCE'!M13/CO2_C","v":0},{"$f":"'Summary, MTCE'!N13/CO2_C","v":0},{"$f":"'Summary, MTCE'!O13/CO2_C","v":0},{"$f":"'Summary, MTCE'!P13/CO2_C","v":0},{"$f":"'Summary, MTCE'!Q13/CO2_C","v":0},{"$f":"'Summary, MTCE'!R13/CO2_C","v":0},{"$f":"'Summary, MTCE'!S13/CO2_C","v":0},{"$f":"'Summary, MTCE'!T13/CO2_C","v":0},{"$f":"'Summary, MTCE'!U13/CO2_C","v":0},{"$f":"'Summary, MTCE'!V13/CO2_C","v":0},{"$f":"'Summary, MTCE'!W13/CO2_C","v":0},{"$f":"'Summary, MTCE'!X13/CO2_C","v":0},{"$f":"'Summary, MTCE'!Y13/CO2_C","v":0},{"$f":"'Summary, MTCE'!Z13/CO2_C","v":0},{"$f":"'Summary, MTCE'!AA13/CO2_C","v":0},{"$f":"'Summary, MTCE'!AB13/CO2_C","v":0},{"$f":"'Summary, MTCE'!AC13/CO2_C","v":0},{"$f":"'Summary, MTCE'!AD13/CO2_C","v":0},{"$f":"'Summary, MTCE'!AE13/CO2_C","v":0},{"$f":"'Summary, MTCE'!AF13/CO2_C","v":0},{"$f":"'Summary, MTCE'!AG13/CO2_C","v":0},{"$f":"'Summary, MTCE'!AH13/CO2_C","v":0},{"$f":"'Summary, MTCE'!AI13/CO2_C","v":0},{"$f":"'Summary, MTCE'!AJ13/CO2_C","v":0},{"$f":"'Summary, MTCE'!AK13/CO2_C","v":0},{"$f":"'Summary, MTCE'!AL13/CO2_C","v":0}]
[null,"Urea Consumption",{"$f":"'Summary, MTCE'!C14/CO2_C","v":0},{"$f":"'Summary, MTCE'!D14/CO2_C","v":0},{"$f":"'Summary, MTCE'!E14/CO2_C","v":0},{"$f":"'Summary, MTCE'!F14/CO2_C","v":0},{"$f":"'Summary, MTCE'!G14/CO2_C","v":0},{"$f":"'Summary, MTCE'!H14/CO2_C","v":0},{"$f":"'Summary, MTCE'!I14/CO2_C","v":0},{"$f":"'Summary, MTCE'!J14/CO2_C","v":0},{"$f":"'Summary, MTCE'!K14/CO2_C","v":0},{"$f":"'Summary, MTCE'!L14/CO2_C","v":0},{"$f":"'Summary, MTCE'!M14/CO2_C","v":0},{"$f":"'Summary, MTCE'!N14/CO2_C","v":0},{"$f":"'Summary, MTCE'!O14/CO2_C","v":0},{"$f":"'Summary, MTCE'!P14/CO2_C","v":0},{"$f":"'Summary, MTCE'!Q14/CO2_C","v":0},{"$f":"'Summary, MTCE'!R14/CO2_C","v":0},{"$f":"'Summary, MTCE'!S14/CO2_C","v":0},{"$f":"'Summary, MTCE'!T14/CO2_C","v":0},{"$f":"'Summary, MTCE'!U14/CO2_C","v":0},{"$f":"'Summary, MTCE'!V14/CO2_C","v":0},{"$f":"'Summary, MTCE'!W14/CO2_C","v":0},{"$f":"'Summary, MTCE'!X14/CO2_C","v":0},{"$f":"'Summary, MTCE'!Y14/CO2_C","v":0},{"$f":"'Summary, MTCE'!Z14/CO2_C","v":0},{"$f":"'Summary, MTCE'!AA14/CO2_C","v":0},{"$f":"'Summary, MTCE'!AB14/CO2_C","v":0},{"$f":"'Summary, MTCE'!AC14/CO2_C","v":0},{"$f":"'Summary, MTCE'!AD14/CO2_C","v":0},{"$f":"'Summary, MTCE'!AE14/CO2_C","v":0},{"$f":"'Summary, MTCE'!AF14/CO2_C","v":0},{"$f":"'Summary, MTCE'!AG14/CO2_C","v":0},{"$f":"'Summary, MTCE'!AH14/CO2_C","v":0},{"$f":"'Summary, MTCE'!AI14/CO2_C","v":0},{"$f":"'Summary, MTCE'!AJ14/CO2_C","v":0},{"$f":"'Summary, MTCE'!AK14/CO2_C","v":0},{"$f":"'Summary, MTCE'!AL14/CO2_C","v":0}]
[null,"Additional CO2 Emissions",{"$f":"'Summary, MTCE'!C15/CO2_C","v":0},{"$f":"'Summary, MTCE'!D15/CO2_C","v":0},{"$f":"'Summary, MTCE'!E15/CO2_C","v":0},{"$f":"'Summary, MTCE'!F15/CO2_C","v":0},{"$f":"'Summary, MTCE'!G15/CO2_C","v":0},{"$f":"'Summary, MTCE'!H15/CO2_C","v":0},{"$f":"'Summary, MTCE'!I15/CO2_C","v":0},{"$f":"'Summary, MTCE'!J15/CO2_C","v":0},{"$f":"'Summary, MTCE'!K15/CO2_C","v":0},{"$f":"'Summary, MTCE'!L15/CO2_C","v":0},{"$f":"'Summary, MTCE'!M15/CO2_C","v":0},{"$f":"'Summary, MTCE'!N15/CO2_C","v":0},{"$f":"'Summary, MTCE'!O15/CO2_C","v":0},{"$f":"'Summary, MTCE'!P15/CO2_C","v":0},{"$f":"'Summary, MTCE'!Q15/CO2_C","v":0},{"$f":"'Summary, MTCE'!R15/CO2_C","v":0},{"$f":"'Summary, MTCE'!S15/CO2_C","v":0},{"$f":"'Summary, MTCE'!T15/CO2_C","v":0},{"$f":"'Summary, MTCE'!U15/CO2_C","v":0},{"$f":"'Summary, MTCE'!V15/CO2_C","v":0},{"$f":"'Summary, MTCE'!W15/CO2_C","v":0},{"$f":"'Summary, MTCE'!X15/CO2_C","v":0},{"$f":"'Summary, MTCE'!Y15/CO2_C","v":0},{"$f":"'Summary, MTCE'!Z15/CO2_C","v":0},{"$f":"'Summary, MTCE'!AA15/CO2_C","v":0},{"$f":"'Summary, MTCE'!AB15/CO2_C","v":0},{"$f":"'Summary, MTCE'!AC15/CO2_C","v":0},{"$f":"'Summary, MTCE'!AD15/CO2_C","v":0},{"$f":"'Summary, MTCE'!AE15/CO2_C","v":0},{"$f":"'Summary, MTCE'!AF15/CO2_C","v":0},{"$f":"'Summary, MTCE'!AG15/CO2_C","v":0},{"$f":"'Summary, MTCE'!AH15/CO2_C","v":0},{"$f":"'Summary, MTCE'!AI15/CO2_C","v":0},{"$f":"'Summary, MTCE'!AJ15/CO2_C","v":0},{"$f":"'Summary, MTCE'!AK15/CO2_C","v":0},{"$f":"'Summary, MTCE'!AL15/CO2_C","v":0}]
[null,"Nitrous Oxide Emissions",{"$f":"'Summary, MTCE'!C16/CO2_C","v":0},{"$f":"'Summary, MTCE'!D16/CO2_C","v":0},{"$f":"'Summary, MTCE'!E16/CO2_C","v":0},{"$f":"'Summary, MTCE'!F16/CO2_C","v":0},{"$f":"'Summary, MTCE'!G16/CO2_C","v":0},{"$f":"'Summary, MTCE'!H16/CO2_C","v":0},{"$f":"'Summary, MTCE'!I16/CO2_C","v":0},{"$f":"'Summary, MTCE'!J16/CO2_C","v":0},{"$f":"'Summary, MTCE'!K16/CO2_C","v":0},{"$f":"'Summary, MTCE'!L16/CO2_C","v":0},{"$f":"'Summary, MTCE'!M16/CO2_C","v":0},{"$f":"'Summary, MTCE'!N16/CO2_C","v":0},{"$f":"'Summary, MTCE'!O16/CO2_C","v":0},{"$f":"'Summary, MTCE'!P16/CO2_C","v":0},{"$f":"'Summary, MTCE'!Q16/CO2_C","v":0},{"$f":"'Summary, MTCE'!R16/CO2_C","v":0},{"$f":"'Summary, MTCE'!S16/CO2_C","v":0},{"$f":"'Summary, MTCE'!T16/CO2_C","v":0},{"$f":"'Summary, MTCE'!U16/CO2_C","v":0},{"$f":"'Summary, MTCE'!V16/CO2_C","v":0},{"$f":"'Summary, MTCE'!W16/CO2_C","v":0},{"$f":"'Summary, MTCE'!X16/CO2_C","v":0},{"$f":"'Summary, MTCE'!Y16/CO2_C","v":0},{"$f":"'Summary, MTCE'!Z16/CO2_C","v":0},{"$f":"'Summary, MTCE'!AA16/CO2_C","v":0},{"$f":"'Summary, MTCE'!AB16/CO2_C","v":0},{"$f":"'Summary, MTCE'!AC16/CO2_C","v":0},{"$f":"'Summary, MTCE'!AD16/CO2_C","v":0},{"$f":"'Summary, MTCE'!AE16/CO2_C","v":0},{"$f":"'Summary, MTCE'!AF16/CO2_C","v":0},{"$f":"'Summary, MTCE'!AG16/CO2_C","v":0},{"$f":"'Summary, MTCE'!AH16/CO2_C","v":0},{"$f":"'Summary, MTCE'!AI16/CO2_C","v":0},{"$f":"'Summary, MTCE'!AJ16/CO2_C","v":0},{"$f":"'Summary, MTCE'!AK16/CO2_C","v":0},{"$f":"'Summary, MTCE'!AL16/CO2_C","v":0}]
[null,"Nitric Acid Production",{"$f":"'Summary, MTCE'!C17/CO2_C","v":0},{"$f":"'Summary, MTCE'!D17/CO2_C","v":0},{"$f":"'Summary, MTCE'!E17/CO2_C","v":0},{"$f":"'Summary, MTCE'!F17/CO2_C","v":0},{"$f":"'Summary, MTCE'!G17/CO2_C","v":0},{"$f":"'Summary, MTCE'!H17/CO2_C","v":0},{"$f":"'Summary, MTCE'!I17/CO2_C","v":0},{"$f":"'Summary, MTCE'!J17/CO2_C","v":0},{"$f":"'Summary, MTCE'!K17/CO2_C","v":0},{"$f":"'Summary, MTCE'!L17/CO2_C","v":0},{"$f":"'Summary, MTCE'!M17/CO2_C","v":0},{"$f":"'Summary, MTCE'!N17/CO2_C","v":0},{"$f":"'Summary, MTCE'!O17/CO2_C","v":0},{"$f":"'Summary, MTCE'!P17/CO2_C","v":0},{"$f":"'Summary, MTCE'!Q17/CO2_C","v":0},{"$f":"'Summary, MTCE'!R17/CO2_C","v":0},{"$f":"'Summary, MTCE'!S17/CO2_C","v":0},{"$f":"'Summary, MTCE'!T17/CO2_C","v":0},{"$f":"'Summary, MTCE'!U17/CO2_C","v":0},{"$f":"'Summary, MTCE'!V17/CO2_C","v":0},{"$f":"'Summary, MTCE'!W17/CO2_C","v":0},{"$f":"'Summary, MTCE'!X17/CO2_C","v":0},{"$f":"'Summary, MTCE'!Y17/CO2_C","v":0},{"$f":"'Summary, MTCE'!Z17/CO2_C","v":0},{"$f":"'Summary, MTCE'!AA17/CO2_C","v":0},{"$f":"'Summary, MTCE'!AB17/CO2_C","v":0},{"$f":"'Summary, MTCE'!AC17/CO2_C","v":0},{"$f":"'Summary, MTCE'!AD17/CO2_C","v":0},{"$f":"'Summary, MTCE'!AE17/CO2_C","v":0},{"$f":"'Summary, MTCE'!AF17/CO2_C","v":0},{"$f":"'Summary, MTCE'!AG17/CO2_C","v":0},{"$f":"'Summary, MTCE'!AH17/CO2_C","v":0},{"$f":"'Summary, MTCE'!AI17/CO2_C","v":0},{"$f":"'Summary, MTCE'!AJ17/CO2_C","v":0},{"$f":"'Summary, MTCE'!AK17/CO2_C","v":0},{"$f":"'Summary, MTCE'!AL17/CO2_C","v":0}]
[null,"Adipic Acid Production",{"$f":"'Summary, MTCE'!C18/CO2_C","v":0},{"$f":"'Summary, MTCE'!D18/CO2_C","v":0},{"$f":"'Summary, MTCE'!E18/CO2_C","v":0},{"$f":"'Summary, MTCE'!F18/CO2_C","v":0},{"$f":"'Summary, MTCE'!G18/CO2_C","v":0},{"$f":"'Summary, MTCE'!H18/CO2_C","v":0},{"$f":"'Summary, MTCE'!I18/CO2_C","v":0},{"$f":"'Summary, MTCE'!J18/CO2_C","v":0},{"$f":"'Summary, MTCE'!K18/CO2_C","v":0},{"$f":"'Summary, MTCE'!L18/CO2_C","v":0},{"$f":"'Summary, MTCE'!M18/CO2_C","v":0},{"$f":"'Summary, MTCE'!N18/CO2_C","v":0},{"$f":"'Summary, MTCE'!O18/CO2_C","v":0},{"$f":"'Summary, MTCE'!P18/CO2_C","v":0},{"$f":"'Summary, MTCE'!Q18/CO2_C","v":0},{"$f":"'Summary, MTCE'!R18/CO2_C","v":0},{"$f":"'Summary, MTCE'!S18/CO2_C","v":0},{"$f":"'Summary, MTCE'!T18/CO2_C","v":0},{"$f":"'Summary, MTCE'!U18/CO2_C","v":0},{"$f":"'Summary, MTCE'!V18/CO2_C","v":0},{"$f":"'Summary, MTCE'!W18/CO2_C","v":0},{"$f":"'Summary, MTCE'!X18/CO2_C","v":0},{"$f":"'Summary, MTCE'!Y18/CO2_C","v":0},{"$f":"'Summary, MTCE'!Z18/CO2_C","v":0},{"$f":"'Summary, MTCE'!AA18/CO2_C","v":0},{"$f":"'Summary, MTCE'!AB18/CO2_C","v":0},{"$f":"'Summary, MTCE'!AC18/CO2_C","v":0},{"$f":"'Summary, MTCE'!AD18/CO2_C","v":0},{"$f":"'Summary, MTCE'!AE18/CO2_C","v":0},{"$f":"'Summary, MTCE'!AF18/CO2_C","v":0},{"$f":"'Summary, MTCE'!AG18/CO2_C","v":0},{"$f":"'Summary, MTCE'!AH18/CO2_C","v":0},{"$f":"'Summary, MTCE'!AI18/CO2_C","v":0},{"$f":"'Summary, MTCE'!AJ18/CO2_C","v":0},{"$f":"'Summary, MTCE'!AK18/CO2_C","v":0},{"$f":"'Summary, MTCE'!AL18/CO2_C","v":0}]
[null,"Additional N2O Emissions",{"$f":"'Summary, MTCE'!C19/CO2_C","v":0},{"$f":"'Summary, MTCE'!D19/CO2_C","v":0},{"$f":"'Summary, MTCE'!E19/CO2_C","v":0},{"$f":"'Summary, MTCE'!F19/CO2_C","v":0},{"$f":"'Summary, MTCE'!G19/CO2_C","v":0},{"$f":"'Summary, MTCE'!H19/CO2_C","v":0},{"$f":"'Summary, MTCE'!I19/CO2_C","v":0},{"$f":"'Summary, MTCE'!J19/CO2_C","v":0},{"$f":"'Summary, MTCE'!K19/CO2_C","v":0},{"$f":"'Summary, MTCE'!L19/CO2_C","v":0},{"$f":"'Summary, MTCE'!M19/CO2_C","v":0},{"$f":"'Summary, MTCE'!N19/CO2_C","v":0},{"$f":"'Summary, MTCE'!O19/CO2_C","v":0},{"$f":"'Summary, MTCE'!P19/CO2_C","v":0},{"$f":"'Summary, MTCE'!Q19/CO2_C","v":0},{"$f":"'Summary, MTCE'!R19/CO2_C","v":0},{"$f":"'Summary, MTCE'!S19/CO2_C","v":0},{"$f":"'Summary, MTCE'!T19/CO2_C","v":0},{"$f":"'Summary, MTCE'!U19/CO2_C","v":0},{"$f":"'Summary, MTCE'!V19/CO2_C","v":0},{"$f":"'Summary, MTCE'!W19/CO2_C","v":0},{"$f":"'Summary, MTCE'!X19/CO2_C","v":0},{"$f":"'Summary, MTCE'!Y19/CO2_C","v":0},{"$f":"'Summary, MTCE'!Z19/CO2_C","v":0},{"$f":"'Summary, MTCE'!AA19/CO2_C","v":0},{"$f":"'Summary, MTCE'!AB19/CO2_C","v":0},{"$f":"'Summary, MTCE'!AC19/CO2_C","v":0},{"$f":"'Summary, MTCE'!AD19/CO2_C","v":0},{"$f":"'Summary, MTCE'!AE19/CO2_C","v":0},{"$f":"'Summary, MTCE'!AF19/CO2_C","v":0},{"$f":"'Summary, MTCE'!AG19/CO2_C","v":0},{"$f":"'Summary, MTCE'!AH19/CO2_C","v":0},{"$f":"'Summary, MTCE'!AI19/CO2_C","v":0},{"$f":"'Summary, MTCE'!AJ19/CO2_C","v":0},{"$f":"'Summary, MTCE'!AK19/CO2_C","v":0},{"$f":"'Summary, MTCE'!AL19/CO2_C","v":0}]
[null,"HFC, PFC, NF3, and SF6 Emissions",{"$f":"'Summary, MTCE'!C20/CO2_C","v":0},{"$f":"'Summary, MTCE'!D20/CO2_C","v":0},{"$f":"'Summary, MTCE'!E20/CO2_C","v":0},{"$f":"'Summary, MTCE'!F20/CO2_C","v":0},{"$f":"'Summary, MTCE'!G20/CO2_C","v":0},{"$f":"'Summary, MTCE'!H20/CO2_C","v":0},{"$f":"'Summary, MTCE'!I20/CO2_C","v":0},{"$f":"'Summary, MTCE'!J20/CO2_C","v":0},{"$f":"'Summary, MTCE'!K20/CO2_C","v":0},{"$f":"'Summary, MTCE'!L20/CO2_C","v":0},{"$f":"'Summary, MTCE'!M20/CO2_C","v":0},{"$f":"'Summary, MTCE'!N20/CO2_C","v":0},{"$f":"'Summary, MTCE'!O20/CO2_C","v":0},{"$f":"'Summary, MTCE'!P20/CO2_C","v":0},{"$f":"'Summary, MTCE'!Q20/CO2_C","v":0},{"$f":"'Summary, MTCE'!R20/CO2_C","v":0},{"$f":"'Summary, MTCE'!S20/CO2_C","v":0},{"$f":"'Summary, MTCE'!T20/CO2_C","v":0},{"$f":"'Summary, MTCE'!U20/CO2_C","v":0},{"$f":"'Summary, MTCE'!V20/CO2_C","v":0},{"$f":"'Summary, MTCE'!W20/CO2_C","v":0},{"$f":"'Summary, MTCE'!X20/CO2_C","v":0},{"$f":"'Summary, MTCE'!Y20/CO2_C","v":0},{"$f":"'Summary, MTCE'!Z20/CO2_C","v":0},{"$f":"'Summary, MTCE'!AA20/CO2_C","v":0},{"$f":"'Summary, MTCE'!AB20/CO2_C","v":0},{"$f":"'Summary, MTCE'!AC20/CO2_C","v":0},{"$f":"'Summary, MTCE'!AD20/CO2_C","v":0},{"$f":"'Summary, MTCE'!AE20/CO2_C","v":0},{"$f":"'Summary, MTCE'!AF20/CO2_C","v":0},{"$f":"'Summary, MTCE'!AG20/CO2_C","v":0},{"$f":"'Summary, MTCE'!AH20/CO2_C","v":0},{"$f":"'Summary, MTCE'!AI20/CO2_C","v":0},{"$f":"'Summary, MTCE'!AJ20/CO2_C","v":0},{"$f":"'Summary, MTCE'!AK20/CO2_C","v":0},{"$f":"'Summary, MTCE'!AL20/CO2_C","v":0}]
[null,"ODS Substitutes",{"$f":"'Summary, MTCE'!C21/CO2_C","v":0},{"$f":"'Summary, MTCE'!D21/CO2_C","v":0},{"$f":"'Summary, MTCE'!E21/CO2_C","v":0},{"$f":"'Summary, MTCE'!F21/CO2_C","v":0},{"$f":"'Summary, MTCE'!G21/CO2_C","v":0},{"$f":"'Summary, MTCE'!H21/CO2_C","v":0},{"$f":"'Summary, MTCE'!I21/CO2_C","v":0},{"$f":"'Summary, MTCE'!J21/CO2_C","v":0},{"$f":"'Summary, MTCE'!K21/CO2_C","v":0},{"$f":"'Summary, MTCE'!L21/CO2_C","v":0},{"$f":"'Summary, MTCE'!M21/CO2_C","v":0},{"$f":"'Summary, MTCE'!N21/CO2_C","v":0},{"$f":"'Summary, MTCE'!O21/CO2_C","v":0},{"$f":"'Summary, MTCE'!P21/CO2_C","v":0},{"$f":"'Summary, MTCE'!Q21/CO2_C","v":0},{"$f":"'Summary, MTCE'!R21/CO2_C","v":0},{"$f":"'Summary, MTCE'!S21/CO2_C","v":0},{"$f":"'Summary, MTCE'!T21/CO2_C","v":0},{"$f":"'Summary, MTCE'!U21/CO2_C","v":0},{"$f":"'Summary, MTCE'!V21/CO2_C","v":0},{"$f":"'Summary, MTCE'!W21/CO2_C","v":0},{"$f":"'Summary, MTCE'!X21/CO2_C","v":0},{"$f":"'Summary, MTCE'!Y21/CO2_C","v":0},{"$f":"'Summary, MTCE'!Z21/CO2_C","v":0},{"$f":"'Summary, MTCE'!AA21/CO2_C","v":0},{"$f":"'Summary, MTCE'!AB21/CO2_C","v":0},{"$f":"'Summary, MTCE'!AC21/CO2_C","v":0},{"$f":"'Summary, MTCE'!AD21/CO2_C","v":0},{"$f":"'Summary, MTCE'!AE21/CO2_C","v":0},{"$f":"'Summary, MTCE'!AF21/CO2_C","v":0},{"$f":"'Summary, MTCE'!AG21/CO2_C","v":0},{"$f":"'Summary, MTCE'!AH21/CO2_C","v":0},{"$f":"'Summary, MTCE'!AI21/CO2_C","v":0},{"$f":"'Summary, MTCE'!AJ21/CO2_C","v":0},{"$f":"'Summary, MTCE'!AK21/CO2_C","v":0},{"$f":"'Summary, MTCE'!AL21/CO2_C","v":0}]
[null,"Semiconductor Manufacturing",{"$f":"'Summary, MTCE'!C22/CO2_C","v":0},{"$f":"'Summary, MTCE'!D22/CO2_C","v":0},{"$f":"'Summary, MTCE'!E22/CO2_C","v":0},{"$f":"'Summary, MTCE'!F22/CO2_C","v":0},{"$f":"'Summary, MTCE'!G22/CO2_C","v":0},{"$f":"'Summary, MTCE'!H22/CO2_C","v":0},{"$f":"'Summary, MTCE'!I22/CO2_C","v":0},{"$f":"'Summary, MTCE'!J22/CO2_C","v":0},{"$f":"'Summary, MTCE'!K22/CO2_C","v":0},{"$f":"'Summary, MTCE'!L22/CO2_C","v":0},{"$f":"'Summary, MTCE'!M22/CO2_C","v":0},{"$f":"'Summary, MTCE'!N22/CO2_C","v":0},{"$f":"'Summary, MTCE'!O22/CO2_C","v":0},{"$f":"'Summary, MTCE'!P22/CO2_C","v":0},{"$f":"'Summary, MTCE'!Q22/CO2_C","v":0},{"$f":"'Summary, MTCE'!R22/CO2_C","v":0},{"$f":"'Summary, MTCE'!S22/CO2_C","v":0},{"$f":"'Summary, MTCE'!T22/CO2_C","v":0},{"$f":"'Summary, MTCE'!U22/CO2_C","v":0},{"$f":"'Summary, MTCE'!V22/CO2_C","v":0},{"$f":"'Summary, MTCE'!W22/CO2_C","v":0},{"$f":"'Summary, MTCE'!X22/CO2_C","v":0},{"$f":"'Summary, MTCE'!Y22/CO2_C","v":0},{"$f":"'Summary, MTCE'!Z22/CO2_C","v":0},{"$f":"'Summary, MTCE'!AA22/CO2_C","v":0},{"$f":"'Summary, MTCE'!AB22/CO2_C","v":0},{"$f":"'Summary, MTCE'!AC22/CO2_C","v":0},{"$f":"'Summary, MTCE'!AD22/CO2_C","v":0},{"$f":"'Summary, MTCE'!AE22/CO2_C","v":0},{"$f":"'Summary, MTCE'!AF22/CO2_C","v":0},{"$f":"'Summary, MTCE'!AG22/CO2_C","v":0},{"$f":"'Summary, MTCE'!AH22/CO2_C","v":0},{"$f":"'Summary, MTCE'!AI22/CO2_C","v":0},{"$f":"'Summary, MTCE'!AJ22/CO2_C","v":0},{"$f":"'Summary, MTCE'!AK22/CO2_C","v":0},{"$f":"'Summary, MTCE'!AL22/CO2_C","v":0}]
[null,"Magnesium Production",{"$f":"'Summary, MTCE'!C23/CO2_C","v":0},{"$f":"'Summary, MTCE'!D23/CO2_C","v":0},{"$f":"'Summary, MTCE'!E23/CO2_C","v":0},{"$f":"'Summary, MTCE'!F23/CO2_C","v":0},{"$f":"'Summary, MTCE'!G23/CO2_C","v":0},{"$f":"'Summary, MTCE'!H23/CO2_C","v":0},{"$f":"'Summary, MTCE'!I23/CO2_C","v":0},{"$f":"'Summary, MTCE'!J23/CO2_C","v":0},{"$f":"'Summary, MTCE'!K23/CO2_C","v":0},{"$f":"'Summary, MTCE'!L23/CO2_C","v":0},{"$f":"'Summary, MTCE'!M23/CO2_C","v":0},{"$f":"'Summary, MTCE'!N23/CO2_C","v":0},{"$f":"'Summary, MTCE'!O23/CO2_C","v":0},{"$f":"'Summary, MTCE'!P23/CO2_C","v":0},{"$f":"'Summary, MTCE'!Q23/CO2_C","v":0},{"$f":"'Summary, MTCE'!R23/CO2_C","v":0},{"$f":"'Summary, MTCE'!S23/CO2_C","v":0},{"$f":"'Summary, MTCE'!T23/CO2_C","v":0},{"$f":"'Summary, MTCE'!U23/CO2_C","v":0},{"$f":"'Summary, MTCE'!V23/CO2_C","v":0},{"$f":"'Summary, MTCE'!W23/CO2_C","v":0},{"$f":"'Summary, MTCE'!X23/CO2_C","v":0},{"$f":"'Summary, MTCE'!Y23/CO2_C","v":0},{"$f":"'Summary, MTCE'!Z23/CO2_C","v":0},{"$f":"'Summary, MTCE'!AA23/CO2_C","v":0},{"$f":"'Summary, MTCE'!AB23/CO2_C","v":0},{"$f":"'Summary, MTCE'!AC23/CO2_C","v":0},{"$f":"'Summary, MTCE'!AD23/CO2_C","v":0},{"$f":"'Summary, MTCE'!AE23/CO2_C","v":0},{"$f":"'Summary, MTCE'!AF23/CO2_C","v":0},{"$f":"'Summary, MTCE'!AG23/CO2_C","v":0},{"$f":"'Summary, MTCE'!AH23/CO2_C","v":0},{"$f":"'Summary, MTCE'!AI23/CO2_C","v":0},{"$f":"'Summary, MTCE'!AJ23/CO2_C","v":0},{"$f":"'Summary, MTCE'!AK23/CO2_C","v":0},{"$f":"'Summary, MTCE'!AL23/CO2_C","v":0}]
[null,"Electric Power Transmission and Distribution Systems",{"$f":"'Summary, MTCE'!C24/CO2_C","v":0},{"$f":"'Summary, MTCE'!D24/CO2_C","v":0},{"$f":"'Summary, MTCE'!E24/CO2_C","v":0},{"$f":"'Summary, MTCE'!F24/CO2_C","v":0},{"$f":"'Summary, MTCE'!G24/CO2_C","v":0},{"$f":"'Summary, MTCE'!H24/CO2_C","v":0},{"$f":"'Summary, MTCE'!I24/CO2_C","v":0},{"$f":"'Summary, MTCE'!J24/CO2_C","v":0},{"$f":"'Summary, MTCE'!K24/CO2_C","v":0},{"$f":"'Summary, MTCE'!L24/CO2_C","v":0},{"$f":"'Summary, MTCE'!M24/CO2_C","v":0},{"$f":"'Summary, MTCE'!N24/CO2_C","v":0},{"$f":"'Summary, MTCE'!O24/CO2_C","v":0},{"$f":"'Summary, MTCE'!P24/CO2_C","v":0},{"$f":"'Summary, MTCE'!Q24/CO2_C","v":0},{"$f":"'Summary, MTCE'!R24/CO2_C","v":0},{"$f":"'Summary, MTCE'!S24/CO2_C","v":0},{"$f":"'Summary, MTCE'!T24/CO2_C","v":0},{"$f":"'Summary, MTCE'!U24/CO2_C","v":0},{"$f":"'Summary, MTCE'!V24/CO2_C","v":0},{"$f":"'Summary, MTCE'!W24/CO2_C","v":0},{"$f":"'Summary, MTCE'!X24/CO2_C","v":0},{"$f":"'Summary, MTCE'!Y24/CO2_C","v":0},{"$f":"'Summary, MTCE'!Z24/CO2_C","v":0},{"$f":"'Summary, MTCE'!AA24/CO2_C","v":0},{"$f":"'Summary, MTCE'!AB24/CO2_C","v":0},{"$f":"'Summary, MTCE'!AC24/CO2_C","v":0},{"$f":"'Summary, MTCE'!AD24/CO2_C","v":0},{"$f":"'Summary, MTCE'!AE24/CO2_C","v":0},{"$f":"'Summary, MTCE'!AF24/CO2_C","v":0},{"$f":"'Summary, MTCE'!AG24/CO2_C","v":0},{"$f":"'Summary, MTCE'!AH24/CO2_C","v":0},{"$f":"'Summary, MTCE'!AI24/CO2_C","v":0},{"$f":"'Summary, MTCE'!AJ24/CO2_C","v":0},{"$f":"'Summary, MTCE'!AK24/CO2_C","v":0},{"$f":"'Summary, MTCE'!AL24/CO2_C","v":0}]
[null,"HCFC-22 Production",{"$f":"'Summary, MTCE'!C25/CO2_C","v":0},{"$f":"'Summary, MTCE'!D25/CO2_C","v":0},{"$f":"'Summary, MTCE'!E25/CO2_C","v":0},{"$f":"'Summary, MTCE'!F25/CO2_C","v":0},{"$f":"'Summary, MTCE'!G25/CO2_C","v":0},{"$f":"'Summary, MTCE'!H25/CO2_C","v":0},{"$f":"'Summary, MTCE'!I25/CO2_C","v":0},{"$f":"'Summary, MTCE'!J25/CO2_C","v":0},{"$f":"'Summary, MTCE'!K25/CO2_C","v":0},{"$f":"'Summary, MTCE'!L25/CO2_C","v":0},{"$f":"'Summary, MTCE'!M25/CO2_C","v":0},{"$f":"'Summary, MTCE'!N25/CO2_C","v":0},{"$f":"'Summary, MTCE'!O25/CO2_C","v":0},{"$f":"'Summary, MTCE'!P25/CO2_C","v":0},{"$f":"'Summary, MTCE'!Q25/CO2_C","v":0},{"$f":"'Summary, MTCE'!R25/CO2_C","v":0},{"$f":"'Summary, MTCE'!S25/CO2_C","v":0},{"$f":"'Summary, MTCE'!T25/CO2_C","v":0},{"$f":"'Summary, MTCE'!U25/CO2_C","v":0},{"$f":"'Summary, MTCE'!V25/CO2_C","v":0},{"$f":"'Summary, MTCE'!W25/CO2_C","v":0},{"$f":"'Summary, MTCE'!X25/CO2_C","v":0},{"$f":"'Summary, MTCE'!Y25/CO2_C","v":0},{"$f":"'Summary, MTCE'!Z25/CO2_C","v":0},{"$f":"'Summary, MTCE'!AA25/CO2_C","v":0},{"$f":"'Summary, MTCE'!AB25/CO2_C","v":0},{"$f":"'Summary, MTCE'!AC25/CO2_C","v":0},{"$f":"'Summary, MTCE'!AD25/CO2_C","v":0},{"$f":"'Summary, MTCE'!AE25/CO2_C","v":0},{"$f":"'Summary, MTCE'!AF25/CO2_C","v":0},{"$f":"'Summary, MTCE'!AG25/CO2_C","v":0},{"$f":"'Summary, MTCE'!AH25/CO2_C","v":0},{"$f":"'Summary, MTCE'!AI25/CO2_C","v":0},{"$f":"'Summary, MTCE'!AJ25/CO2_C","v":0},{"$f":"'Summary, MTCE'!AK25/CO2_C","v":0},{"$f":"'Summary, MTCE'!AL25/CO2_C","v":0}]
[null,"Aluminum Production, PFCs",{"$f":"'Summary, MTCE'!C26/CO2_C","v":0},{"$f":"'Summary, MTCE'!D26/CO2_C","v":0},{"$f":"'Summary, MTCE'!E26/CO2_C","v":0},{"$f":"'Summary, MTCE'!F26/CO2_C","v":0},{"$f":"'Summary, MTCE'!G26/CO2_C","v":0},{"$f":"'Summary, MTCE'!H26/CO2_C","v":0},{"$f":"'Summary, MTCE'!I26/CO2_C","v":0},{"$f":"'Summary, MTCE'!J26/CO2_C","v":0},{"$f":"'Summary, MTCE'!K26/CO2_C","v":0},{"$f":"'Summary, MTCE'!L26/CO2_C","v":0},{"$f":"'Summary, MTCE'!M26/CO2_C","v":0},{"$f":"'Summary, MTCE'!N26/CO2_C","v":0},{"$f":"'Summary, MTCE'!O26/CO2_C","v":0},{"$f":"'Summary, MTCE'!P26/CO2_C","v":0},{"$f":"'Summary, MTCE'!Q26/CO2_C","v":0},{"$f":"'Summary, MTCE'!R26/CO2_C","v":0},{"$f":"'Summary, MTCE'!S26/CO2_C","v":0},{"$f":"'Summary, MTCE'!T26/CO2_C","v":0},{"$f":"'Summary, MTCE'!U26/CO2_C","v":0},{"$f":"'Summary, MTCE'!V26/CO2_C","v":0},{"$f":"'Summary, MTCE'!W26/CO2_C","v":0},{"$f":"'Summary, MTCE'!X26/CO2_C","v":0},{"$f":"'Summary, MTCE'!Y26/CO2_C","v":0},{"$f":"'Summary, MTCE'!Z26/CO2_C","v":0},{"$f":"'Summary, MTCE'!AA26/CO2_C","v":0},{"$f":"'Summary, MTCE'!AB26/CO2_C","v":0},{"$f":"'Summary, MTCE'!AC26/CO2_C","v":0},{"$f":"'Summary, MTCE'!AD26/CO2_C","v":0},{"$f":"'Summary, MTCE'!AE26/CO2_C","v":0},{"$f":"'Summary, MTCE'!AF26/CO2_C","v":0},{"$f":"'Summary, MTCE'!AG26/CO2_C","v":0},{"$f":"'Summary, MTCE'!AH26/CO2_C","v":0},{"$f":"'Summary, MTCE'!AI26/CO2_C","v":0},{"$f":"'Summary, MTCE'!AJ26/CO2_C","v":0},{"$f":"'Summary, MTCE'!AK26/CO2_C","v":0},{"$f":"'Summary, MTCE'!AL26/CO2_C","v":0}]
[null,"Additional HFC, PFC, NF3, and SF6 Emissions",{"$f":"'Summary, MTCE'!C27/CO2_C","v":0},{"$f":"'Summary, MTCE'!D27/CO2_C","v":0},{"$f":"'Summary, MTCE'!E27/CO2_C","v":0},{"$f":"'Summary, MTCE'!F27/CO2_C","v":0},{"$f":"'Summary, MTCE'!G27/CO2_C","v":0},{"$f":"'Summary, MTCE'!H27/CO2_C","v":0},{"$f":"'Summary, MTCE'!I27/CO2_C","v":0},{"$f":"'Summary, MTCE'!J27/CO2_C","v":0},{"$f":"'Summary, MTCE'!K27/CO2_C","v":0},{"$f":"'Summary, MTCE'!L27/CO2_C","v":0},{"$f":"'Summary, MTCE'!M27/CO2_C","v":0},{"$f":"'Summary, MTCE'!N27/CO2_C","v":0},{"$f":"'Summary, MTCE'!O27/CO2_C","v":0},{"$f":"'Summary, MTCE'!P27/CO2_C","v":0},{"$f":"'Summary, MTCE'!Q27/CO2_C","v":0},{"$f":"'Summary, MTCE'!R27/CO2_C","v":0},{"$f":"'Summary, MTCE'!S27/CO2_C","v":0},{"$f":"'Summary, MTCE'!T27/CO2_C","v":0},{"$f":"'Summary, MTCE'!U27/CO2_C","v":0},{"$f":"'Summary, MTCE'!V27/CO2_C","v":0},{"$f":"'Summary, MTCE'!W27/CO2_C","v":0},{"$f":"'Summary, MTCE'!X27/CO2_C","v":0},{"$f":"'Summary, MTCE'!Y27/CO2_C","v":0},{"$f":"'Summary, MTCE'!Z27/CO2_C","v":0},{"$f":"'Summary, MTCE'!AA27/CO2_C","v":0},{"$f":"'Summary, MTCE'!AB27/CO2_C","v":0},{"$f":"'Summary, MTCE'!AC27/CO2_C","v":0},{"$f":"'Summary, MTCE'!AD27/CO2_C","v":0},{"$f":"'Summary, MTCE'!AE27/CO2_C","v":0},{"$f":"'Summary, MTCE'!AF27/CO2_C","v":0},{"$f":"'Summary, MTCE'!AG27/CO2_C","v":0},{"$f":"'Summary, MTCE'!AH27/CO2_C","v":0},{"$f":"'Summary, MTCE'!AI27/CO2_C","v":0},{"$f":"'Summary, MTCE'!AJ27/CO2_C","v":0},{"$f":"'Summary, MTCE'!AK27/CO2_C","v":0},{"$f":"'Summary, MTCE'!AL27/CO2_C","v":0}]
[null,"Total Emissions",{"$f":"'Summary, MTCE'!C28/CO2_C","v":0},{"$f":"'Summary, MTCE'!D28/CO2_C","v":0},{"$f":"'Summary, MTCE'!E28/CO2_C","v":0},{"$f":"'Summary, MTCE'!F28/CO2_C","v":0},{"$f":"'Summary, MTCE'!G28/CO2_C","v":0},{"$f":"'Summary, MTCE'!H28/CO2_C","v":0},{"$f":"'Summary, MTCE'!I28/CO2_C","v":0},{"$f":"'Summary, MTCE'!J28/CO2_C","v":0},{"$f":"'Summary, MTCE'!K28/CO2_C","v":0},{"$f":"'Summary, MTCE'!L28/CO2_C","v":0},{"$f":"'Summary, MTCE'!M28/CO2_C","v":0},{"$f":"'Summary, MTCE'!N28/CO2_C","v":0},{"$f":"'Summary, MTCE'!O28/CO2_C","v":0},{"$f":"'Summary, MTCE'!P28/CO2_C","v":0},{"$f":"'Summary, MTCE'!Q28/CO2_C","v":0},{"$f":"'Summary, MTCE'!R28/CO2_C","v":0},{"$f":"'Summary, MTCE'!S28/CO2_C","v":0},{"$f":"'Summary, MTCE'!T28/CO2_C","v":0},{"$f":"'Summary, MTCE'!U28/CO2_C","v":0},{"$f":"'Summary, MTCE'!V28/CO2_C","v":0},{"$f":"'Summary, MTCE'!W28/CO2_C","v":0},{"$f":"'Summary, MTCE'!X28/CO2_C","v":0},{"$f":"'Summary, MTCE'!Y28/CO2_C","v":0},{"$f":"'Summary, MTCE'!Z28/CO2_C","v":0},{"$f":"'Summary, MTCE'!AA28/CO2_C","v":0},{"$f":"'Summary, MTCE'!AB28/CO2_C","v":0},{"$f":"'Summary, MTCE'!AC28/CO2_C","v":0},{"$f":"'Summary, MTCE'!AD28/CO2_C","v":0},{"$f":"'Summary, MTCE'!AE28/CO2_C","v":0},{"$f":"'Summary, MTCE'!AF28/CO2_C","v":0},{"$f":"'Summary, MTCE'!AG28/CO2_C","v":0},{"$f":"'Summary, MTCE'!AH28/CO2_C","v":0},{"$f":"'Summary, MTCE'!AI28/CO2_C","v":0},{"$f":"'Summary, MTCE'!AJ28/CO2_C","v":0},{"$f":"'Summary, MTCE'!AK28/CO2_C","v":0},{"$f":"'Summary, MTCE'!AL28/CO2_C","v":0}]
[]
[null,null,1,{"$f":"IF(ISERROR(IF(D28=0,0,COLUMN()-2)),0,IF(D28=0,0,COLUMN()-2))","v":0},{"$f":"IF(ISERROR(IF(E28=0,0,COLUMN()-2)),0,IF(E28=0,0,COLUMN()-2))","v":0},0,0,0,0,0,0,0,0,0,0,0,0,0,0,0,0,0,0,0,0,{"$f":"IF(ISERROR(IF(Z28=0,0,COLUMN()-2)),0,IF(Z28=0,0,COLUMN()-2))","v":0},0,0,0,0,0,0,0,0,0,0,0,0]
[null,{"$f":"MAX(C31:AL31)","v":1990},{"$f":"IF(C30<>0,C5,0)","v":1990},{"$f":"IF(D30<>0,D5,0)","v":0},{"$f":"IF(E30<>0,E5,0)","v":0},0,0,0,0,0,0,0,0,0,0,0,0,0,0,0,0,0,0,0,0,0,0,0,0,0,0,0,0,0,0,0,0,0]
[]
[null,null,{"$f":"\"Emissions by Gas Type, 1990-\"&MAX($C$31:$AG$31)","v":"Emissions by Gas Type, 1990-1990"},null,null,null,null,null,null,null,null,null,null,null,null,null,null,null,{"$f":"\"Emissions by Gas Type, 1990-\"&B31","v":"Emissions by Gas Type, 1990-1990"}]
[null,null,{"$f":"\"Carbon Dioxide Emissions, 1990-\"&MAX($C$31:$AG$31)","v":"Carbon Dioxide Emissions, 1990-1990"},null,null,null,null,null,null,null,null,null,null,null,null,null,null,null,{"$f":"\"Carbon Dioxide Emissions, 1990-\"&B31","v":"Carbon Dioxide Emissions, 1990-1990"}]
[null,null,{"$f":"\"Nitrous Oxide Emissions, 1990-\"&MAX($C$31:$AG$31)","v":"Nitrous Oxide Emissions, 1990-1990"},null,null,null,null,null,null,null,null,null,null,null,null,null,null,null,{"$f":"\"Nitrous Oxide Emissions, 1990-\"&B31","v":"Nitrous Oxide Emissions, 1990-1990"}]
[null,null,{"$f":"\"High GWP Emissions, 1990-\"&MAX($C$31:$AG$31)","v":"High GWP Emissions, 1990-1990"},null,null,null,null,null,null,null,null,null,null,null,null,null,null,null,{"$f":"\"High GWP Emissions, 1990-\"&B31","v":"High GWP Emissions, 1990-1990"}]

{"sheet":"Tracker","index":20,"n_rows":24,"n_cols":7,"rows_kept":24,"cut":false,"hidden":true,"merged":[]}
["Sector","Sum","Not included?","Text of missing sector","\"and\"?","Punctuation","Text used"]
["Cement Manufacture",{"$f":"SUM('Summary, MTCE'!C7:AL7)","v":0},{"$f":"IF(ISERROR(B2),TRUE,IF(B2=0,TRUE,FALSE))","v":true},{"$f":"IF(C2=TRUE,\" \"&A2,\"\")","v":" Cement Manufacture"},{"$f":"IF(AND($C$20=A2,$C$19>1),\" and\",\"\")","v":""},{"$f":"IF(C2=TRUE,IF($C$20=A2,\".\",\",\"),\"\")","v":","},{"$f":"E2&D2&F2","v":" Cement Manufacture,"}]
["Lime Manufacture",{"$f":"SUM('Summary, MTCE'!C8:AL8)","v":0},{"$f":"IF(ISERROR(B3),TRUE,IF(B3=0,TRUE,FALSE))","v":true},{"$f":"IF(C3=TRUE,\" \"&A3,\"\")","v":" Lime Manufacture"},"",",",{"$f":"E3&D3&F3","v":" Lime Manufacture,"}]
["Limestone and Dolomite Use",{"$f":"SUM('Summary, MTCE'!C9:AL9)","v":0},{"$f":"IF(ISERROR(B4),TRUE,IF(B4=0,TRUE,FALSE))","v":true},{"$f":"IF(C4=TRUE,\" \"&A4,\"\")","v":" Limestone and Dolomite Use"},"",",",{"$f":"E4&D4&F4","v":" Limestone and Dolomite Use,"}]
["Soda Ash",{"$f":"SUM('Summary, MTCE'!C10:AL10)","v":0},{"$f":"IF(ISERROR(B5),TRUE,IF(B5=0,TRUE,FALSE))","v":true},{"$f":"IF(C5=TRUE,\" \"&A5,\"\")","v":" Soda Ash"},"",",",{"$f":"E5&D5&F5","v":" Soda Ash,"}]
["Aluminum Production, Carbon Dioxide",{"$f":"SUM('Summary, MTCE'!C11:AL11)","v":0},{"$f":"IF(ISERROR(B6),TRUE,IF(B6=0,TRUE,FALSE))","v":true},{"$f":"IF(C6=TRUE,\" \"&A6,\"\")","v":" Aluminum Production, Carbon Dioxide"},"",",",{"$f":"E6&D6&F6","v":" Aluminum Production, Carbon Dioxide,"}]
["Iron & Steel",{"$f":"SUM('Summary, MTCE'!C12:AL12)","v":0},true," Iron & Steel","",","," Iron & Steel,"]
["Ammonia Production",{"$f":"SUM('Summary, MTCE'!C13:AL13)","v":0},true," Ammonia Production","",","," Ammonia Production,"]
["Urea Consumption",{"$f":"SUM('Summary, MTCE'!C14:AL14)","v":0},true," Urea Consumption","",","," Urea Consumption,"]
["Nitric Acid Production",{"$f":"SUM('Summary, MTCE'!C17:AL17)","v":0},true," Nitric Acid Production","",","," Nitric Acid Production,"]
["Adipic Acid Production",{"$f":"SUM('Summary, MTCE'!C18:AL18)","v":0},true," Adipic Acid Production","",","," Adipic Acid Production,"]
["ODS Substitutes",{"$f":"SUM('Summary, MTCE'!C21:AL21)","v":0},true," ODS Substitutes","",","," ODS Substitutes,"]
["Semiconductor Manufacturing",{"$f":"SUM('Summary, MTCE'!C22:AL22)","v":0},true," Semiconductor Manufacturing","",","," Semiconductor Manufacturing,"]
["Magnesium Production",{"$f":"SUM('Summary, MTCE'!C23:AL23)","v":0},true," Magnesium Production","",","," Magnesium Production,"]
["Electric Power Transmission and Distribution Systems",{"$f":"SUM('Summary, MTCE'!C24:AL24)","v":0},true," Electric Power Transmission and Distribution Systems","",","," Electric Power Transmission and Distribution Systems,"]
["HCFC-22 Production",{"$f":"SUM('Summary, MTCE'!C25:AL25)","v":0},true," HCFC-22 Production","",","," HCFC-22 Production,"]
["Aluminum Production, PFCs",{"$f":"SUM('Summary, MTCE'!C26:AL26)","v":0},{"$f":"IF(ISERROR(B17),TRUE,IF(B17=0,TRUE,FALSE))","v":true},{"$f":"IF(C17=TRUE,\" \"&A17,\"\")","v":" Aluminum Production, PFCs"}," and",".",{"$f":"E17&D17&F17","v":" and Aluminum Production, PFCs."}]
[]
[null,"Count",{"$f":"COUNTIF(C2:C17,TRUE)","v":16}]
[null,"Last",{"$f":"IF(C17=TRUE,A17,IF(C16=TRUE,A16,IF(C5=TRUE,A5,IF(C4=TRUE,A4,IF(C3=TRUE,A3,IF(C2=TRUE,A2,))))))","v":"Aluminum Production, PFCs"}]
[]
["Part A",{"$f":"IF(C19>1,\"Emissions were not calculated for the following sources:\",\"Emissions were not calculated for the following source:\")","v":"Emissions were not calculated for the following sources:"}]
["Part B",{"$f":"G2&G3&G4&G5&G6&G7&G8&G9&G10&G11&G12&G13&G14&G15&G16&G17","v":" Cement Manufacture, Lime Manufacture, Limestone and Dolomite Use, Soda Ash, Aluminum Production, Carbon Dioxide, Iron & Steel, Ammonia Production, Urea Consumption, Nitric Acid Production, Adipic Acid Production, ODS Substitutes, Semiconductor Manufacturing, Magnesium Production, Electric Power Transmission and Distribution Systems, HCFC-22 Production, and Aluminum Production, PFCs."}]
["Final",{"$f":"IF(C19=0,0,B22&B23)","v":"Emissions were not calculated for the following sources: Cement Manufacture, Lime Manufacture, Limestone and Dolomite Use, Soda Ash, Aluminum Production, Carbon Dioxide, Iron & Steel, Ammonia Production, Urea Consumption, Nitric Acid Production, Adipic Acid Production, ODS Substitutes, Semiconductor Manufacturing, Magnesium Production, Electric Power Transmission and Distribution Systems, HCFC-22 Production, and Aluminum Production, PFCs."}]

{"sheet":"Uncertainty","index":21,"n_rows":3,"n_cols":2,"rows_kept":3,"cut":false,"hidden":false,"merged":[[1,0,1,6]]}
[]
["Uncertainty Associated With Industrial Processes Emissions Estimates"]
[null,"Excerpted from EIIP Guidance, Chapter 6."]

{"sheet":"Data","index":22,"n_rows":471,"n_cols":73,"rows_kept":471,"cut":false,"hidden":false,"merged":[[7,41,7,42],[7,43,7,44]]}
[null,null,null,null,null,"Production (Metric Tons)"]
[null,null,null,null,1990,1991,1992,1993,1994,1995,1996,1997,1998,1999,2000,2001,2002,2003,2004,2005,2006,2007,2008,2009,2010,2011,2012,2013,2014,2015,2016,2017,2018,2019,2020,2021,2022,2023,2024,2025]
[null,null,null,"Year",2,3,4,5,6,7,8,9,10,11,12,13,14,15,16,17,18,19,20,21,22,23,24,25,26,27,28,29,30,31,32,33,34,35,36,37]
["AL","Cement","Cl",{"$f":"A4&\" \"&B4&\" \"&C4","v":"AL Cement Cl"},3213281.3208745345,3148870.5434092348,2968338.9276966341,3567000,3816000,3683000,3886000,4007000,4180000,3990000,4150870,4150000,4397000,4590000,5047994.5237440001,4884000,5185749.7801649999,4898054.2011150001,{"$f":"4520.57180106*1000","v":4520571.8010600004},{"$f":"3240.05840112*1000","v":3240058.4011200001},{"$f":"3185.38780428*1000","v":3185387.8042800003},1247212.9065525001,1889525.1365350003,1920149.8877650001,{"$f":"$AR$21/3","v":2046259.7913800001},{"$f":"AW21/3","v":2175583.5490550003},{"$f":"BA21/3","v":2176126.650475},{"$f":"BE21/3","v":2061643.5322150001},{"$f":"BI21/3","v":2045763},{"$f":"BM21/3","v":2200740},{"$f":"BQ21/3","v":2080856.3333333333},{"$f":"BU21/3","v":2233670.3333333335},null,null,null,null,"Source: USGS Cement MIS Archive, January 2022, Table T4P4. Clinker Production, by District. January-December 2021\n(http://minerals.usgs.gov/minerals/pubs/commodity/cement/index.html#myb)"]
["AK","Cement","Cl",{"$f":"A5&\" \"&B5&\" \"&C5","v":"AK Cement Cl"},0,267924.64241434576,335359.40004233574,372500,413000,400000,62000,0,0,0,0,0,0,0,2536422.053936,0,0,0,0,0,0,0,0,0,0,0,0,0,0,0,0,0]
["AZ","Cement","Cl","AZ Cement Cl",557319.54398379149,953460.94529619883,545526.02134929993,788500,940000,987000,1055000,1085000,1092000,1113000,1094173,1100500,1073500,1277000,1282890.6248639999,1302000,1313621.5701075001,1249832.8568325001,{"$f":"(1980.901043265*1000)/2","v":990450.52163249999},{"$f":"(1125.157061505*1000)/2","v":562578.53075250005},{"$f":"(1205.012928315)/2*1000","v":602506.46415749996},602091.42702000006,769891.16850749997,892238.21993999998,{"$f":"$AR$25/2","v":1047604.0838175},{"$f":"AW25/2","v":1095361.4773649999},{"$f":"BA25/2","v":970589.06683499995},{"$f":"BE25/2","v":1142358.1962900001},{"$f":"BI25/2","v":1303948},{"$f":"BM25/2","v":1235481},{"$f":"BQ25/2","v":1413420},{"$f":"BU25/2","v":1430399}]
["AR","Cement","Cl","AR Cement Cl",591036.9227977863,564274.69835797872,593758.5049442075,1177000,1186000,1250000,1253000,1262000,1251000,1231000,1259479,1261000,1265500,1244500,1268211.026968,1314000,1287414.3562350001,1231749.4846350001,{"$f":"(2447.036283075*1000)/2","v":1223518.1415375001},{"$f":"(1774.67884188*1000)/2","v":887339.42093999998},{"$f":"(1802.62195425/2)*1000","v":901310.97712499998},821710.4828925,1028510.1075299999,1021948.4384250001,{"$f":"$AR$22/2","v":1237449.3279899999},{"$f":"AW22/2","v":1124202.2492925001},{"$f":"BA22/2","v":1206933.8925524999},{"$f":"BE22/2","v":1088713.1720924999},{"$f":"BI22/2","v":1171933},{"$f":"BM22/2","v":1205975.5},{"$f":"BQ22/2","v":1209442.5},{"$f":"BU22/2","v":1185339.5}]
["CA","Cement","Cl","CA Cement Cl",8874172.1854304634,8178354.3499954641,7819105.5066678757,8024000,9123000,9227000,9543000,9824000,9964000,10645000,10621222,10148000,11187000,11283000,11592857.162432002,11466000,11169862.276470002,10878756.589004999,{"$f":"SUM(1631.29280952,7942.325749905)*1000","v":9573618.5594250001},{"$f":"6611.752067295*1000","v":6611752.067295},{"$f":"6634.393590525*1000","v":6634393.5905250004},7192931.9728800002,8401785.0153000001,9264400.9234350007,{"$f":"AR29","v":9184741.9157699998},{"$f":"AW26","v":8999748.7505699992},{"$f":"BA26","v":8930923.3461750001},{"$f":"BE26","v":9281657.3965050001},{"$f":"BI26","v":9534597},{"$f":"BM26","v":9453099},{"$f":"BQ26","v":9475541},{"$f":"BU26","v":8935384},null,null,null,null,"2014 States and totals","Portland and Blended Cement",null,"Clinker Cement",null,null,"2015 States and totals",null,"Clinker Cement",null,"2016 States and totals",null,"Clinker Cement",null,"2017 States and totals",null,"Clinker Cement",null,"2018 States and totals",null,"Clinker Cement",null,"2019 States and totals",null,"Clinker Cement",null,"2020 States and totals",null,"Clinker Cement",null,"2021 States and totals",null,"Clinker Cement"]
["CO","Cement","Cl","CO Cement Cl",613867.97302609694,647509.75233602466,694457.0443617889,848500,849000,920000,914000,982000,979000,998000,1070888,896500,958000,1175000,1242896.51104,1204500,1246704.42936,1097126.4057825,{"$f":"(2548.40241342*1000)/2","v":1274201.2067100001},{"$f":"(1992.493053195*1000)/2","v":996246.52659749996},{"$f":"(2162.28814809/2)*1000","v":1081144.0740450001},1138648.716825,1437446.425905,1448727.7249725,{"$f":"$AR$26/2","v":1498197.4302075},{"$f":"AW27/2","v":1486829.948565},{"$f":"BA27/2","v":1362864.0255},{"$f":"BE27/2","v":1411796.2236225},{"$f":"BI27/2","v":1366149.5},{"$f":"BM27/2","v":1404476.5},{"$f":"BQ27/2","v":1492897},{"$f":"BU27/2","v":1340991.5},null,null,null,null,"Maine and New York",1736.411057025,{"$f":"AP9*1000","v":1736411.057025},1484960.24028,1484966.590575,null,"Maine and New York",null,1513393.2325500001,null,"Maine and New York",null,1009205.21073,null,"Maine and New York",null,1418930.780055,null,"Maine and New York",null,1761134,null,"Maine and New York",null,1738468,null,"Maine and New York",null,1551840,null,"Maine and New York",null,1843827]
["CT","Cement","Cl","CT Cement Cl",0,0,0,0,0,0,0,0,0,0,0,0,0,0,0,0,0,0,0,0,0,0,0,0,0,0,0,0,0,0,0,0,null,null,null,null,"Pennsylvania",3827.594044815,{"$f":"AP10*1000","v":3827594.0448150001},3440295.9030599999,3440295.9030599999,null,"Pennsylvania",null,3574981.1240850003,null,"Pennsylvania",null,3545496.7043999997,null,"Pennsylvania",null,3371612.9267099998,null,"Pennsylvania",null,3122253,null,"Pennsylvania                 ",null,3490112,null,"Pennsylvania                 ",null,3314599,null,"Pennsylvania                 ",null,3458010]
["DC","Cement","Cl",{"$f":"A11&\" \"&B11&\" \"&C11","v":"DC Cement Cl"},0,0,0,0,0,0,0,0,0,0,0,0,0,0,0,0,0,0,0,0,0,0,0,0,0,0,0,0,0,0,0,0,null,null,null,null,"Illinois",1223.3453227949999,1223345.3227949999,1091560.372215,1091566.72251,null,"Illinois",null,1450989.7907700001,null,"Illinois",null,1575637.0097699999,null,"Illinois",null,1307989.312035,null,"Illinois",null,1006484,null,"Illinois                               ",null,1088981,null,"Illinois                               ",null,1122808,null,"Illinois                               ",null,1221004]
["DE","Cement","Cl","DE Cement Cl",0,0,0,0,0,0,0,0,0,0,0,0,0,0,0,0,0,0,0,0,0,0,0,0,0,0,0,0,0,0,0,0,null,null,null,null,"Indiana",2396.7972849600001,2396797.2849599998,2294155.6525050001,2294152.93095,null,"Indiana",null,2503473.1691100001,null,"Indiana",null,1687016,null,"Indiana",null,1680679.0537349998,null,"Indiana",null,1599367,null,"Indiana              ",null,1613117,null,"Indiana              ",null,1675436,null,"Indiana              ",null,1528175.5]
["FL","Cement","Cl","FL Cement Cl",2302458.4958722671,2300644.107774653,2488433.27587771,3052000,2826000,2787000,2957000,2874000,2952000,2990000,3471985,3589000,3677000,3868000,4757710.1586880004,5285000,5629612.7210400002,5229118.6662750002,{"$f":"4749.08625945*1000","v":4749086.2594500007},{"$f":"2983.92560259*1000","v":2983925.6025899998},{"$f":"3303.25290822*1000","v":3303252.9082200001},3029011.789905,3785898.9150300003,4679868.0439499998,{"$f":"AR18","v":4849938.0159},{"$f":"AW18","v":5242707.3903900003},{"$f":"BA18","v":5547912.5471249996},{"$f":"BE18","v":5768629.7504399996},{"$f":"BI18","v":6165807},{"$f":"BM18","v":6192418},{"$f":"BQ18","v":5985159},{"$f":"BU18","v":6274550},null,null,null,null,"Michigan ",3950.6555044349998,3950655.504435,2821161.191445,2823530.7586650001,null,"Michigan",null,3291885.8801699998,null,"Michigan",null,3188876.8377899998,null,"Michigan",null,2815502.1714150002,null,"Michigan",null,2698200,null,"Michigan                      ",null,3094478,null,"Michigan                      ",null,3020776,null,"Michigan                      ",null,3308183]
["GA","Cement","Cl","GA Cement Cl",946656.98993014602,839608.09217091533,859112.7642202666,1569500,1596000,1625000,810000,816000,867000,895000,981393,956333.33333333337,882333.33333333337,807333.33333333337,806968.29070399993,748333.33333333337,821270.64936499996,778551.91250500001,{"$f":"(4832.5200639*1000)/4","v":1208130.0159750001},{"$f":"(3610.504674315*1000)/4","v":902626.16857874999},{"$f":"(4090.019078505/4)*1000","v":1022504.76962625},1139125.21574625,1320023.12106,1354258.2417937499,{"$f":"$AR$19/4","v":1319305.5377249999},{"$f":"AW19/4","v":1345602.5629125},{"$f":"BA19/4","v":1323467.92930125},{"$f":"BE19/4","v":1358874.90625875},{"$f":"BI19/4","v":1301327.75},{"$f":"BM19/4","v":1364106},{"$f":"BQ19/4","v":1368692},{"$f":"BU19/4","v":1302538.25},null,null,null,null,"Ohio",863.77619775000005,863776.19775000005,764007.62019000005,764013.06330000004,null,"Ohio",null,904566.86409000005,null,"Ohio",null,1687016,null,"Ohio",null,1680679.0537349998,null,"Ohio",null,1599367,null,"Ohio",null,1613117,null,"Ohio",null,1675436,null,"Ohio",null,1528175.5]
["HI","Cement","Cl","HI Cement Cl",195046.72049351357,201397.07883516283,195046.72049351357,372500,413000,400000,62000,0,0,0,0,0,0,0,0,0,0,0,0,0,0,0,0,0,0,0,0,0,0,0,0,0,null,null,null,null,"Iowa, Nebraska, South Dakota",3169.90759944,3169907.59944,2876242.74309,2875651.2584700002,null,"Iowa, Nebraska, South Dakota",null,2918933.9620050001,null,"Iowa, Nebraska, South Dakota",null,3008572.9118550001,null,"Iowa, Nebraska, South Dakota",null,3161177.7581850002,null,"Iowa, Nebraska, South Dakota",null,2762728,null,"Iowa, Nebraska, South Dakota           ",null,2856121,null,"Iowa, Nebraska, South Dakota           ",null,2939392,null,"Iowa, Nebraska, South Dakota           ",null,3012324]
["ID","Cement","Cl","ID Cement Cl",506516.67725059722,591188.12180592085,520426.98599897174,485250,517000,522000,519000,556000,626000,663000,694030,673750,667500,689750,694260.65772799996,699250,700119.34336125001,680502.82851374999,{"$f":"(2587.46942826*1000)/4","v":646867.35706499999},{"$f":"(1671.18536271*1000)/4","v":417796.3406775},{"$f":"(1770.401464605/4)*1000","v":442600.36615125003},487062.48578500003,609869.63121000002,524729.63857125002,{"$f":"$AR$27/6","v":583434.41150749999},{"$f":"AW28/6","v":611555.33213749994},{"$f":"AD16","v":611555.33213749994},611555.33213749994,611555.33213749994,611555.33213749994,611555.33213749994,611555.33213749994,null,null,null,null,"Kansas",2011.930399005,2011930.399005,1943506.877565,1941863.058345,null,"Kansas",null,1949234.843655,null,"Kansas",null,2049208.445025,null,"Kansas",null,2063121.9413699999,null,"Kansas",null,2211371,null,"Kansas                                 ",null,1953777,null,"Kansas                                 ",null,2193226,null,"Kansas                                 ",null,2209954]
["IL","Cement","Cl","IL Cement Cl",2229882.9719677037,2305180.0780186881,2414043.363875533,2279000,2332000,2345000,2557000,2412000,2474000,2561000,2524895,2497000,2550000,2572000,2654179.0730559998,2721000,2575204.28706,2868979.8199800001,{"$f":"2404.180863675*1000","v":2404180.8636750001},{"$f":"1310.984836905*1000","v":1310984.836905},{"$f":"1473.525173355*1000","v":1473525.1733550001},1336961.1721950001,1148517.075255,1103518.8848850001,{"$f":"AR11","v":1091560.372215},{"$f":"AW11","v":1450989.7907700001},{"$f":"BA11","v":1575637.0097699999},{"$f":"BE11","v":1307989.312035},{"$f":"BI11","v":1006484},{"$f":"BM11","v":1088981},{"$f":"BQ11","v":1122808},{"$f":"BU11","v":1221004},null,null,null,null,"Missouri",8782.3509371700002,8782350.9371700007,8054048.3042099997,8055735.6683100006,null,"Missouri",null,7980388.51095,null,"Missouri",null,7707832.0351799997,null,"Missouri",null,8563041.6849750001,null,"Missouri",null,8514240,null,"Missouri                               ",null,8362242,null,"Missouri                               ",null,9275890,null,"Missouri                               ",null,8971779]
["IN","Cement","Cl","IN Cement Cl",2299736.9137258455,2220811.0314796334,2184523.2695273515,2149000,2317000,2435000,2355000,2495000,2577000,2481000,2537004,2855000,3070000,2975000,3162927.860256,3161000,3100595.943885,3082464.0372899999,{"$f":"2667.206453835*1000","v":2667206.4538349998},{"$f":"2578.376713005*1000","v":2578376.7130050003},{"$f":"2326.00238193*1000","v":2326002.3819300001},2253708.8092800002,2392782.9913349999,2283874.5249000001,{"$f":"AR12","v":2294155.6525050001},{"$f":"AW12","v":2503473.1691100001},{"$f":"BA12","v":1687016},{"$f":"BE12","v":1680679.0537349998},{"$f":"BI12","v":1599367},{"$f":"BM12","v":1613117},{"$f":"BQ12","v":1675436},{"$f":"BU12","v":1528175.5},null,null,null,null,"Florida",4987.1207172300001,4987120.7172300005,4849938.0159,4848451.1396850003,null,"Florida",null,5242707.3903900003,null,"Florida",null,5547912.5471249996,null,"Florida",null,5768629.7504399996,null,"Florida",null,6165807,null,"Florida                          ",null,6192418,null,"Florida                          ",null,5985159,null,"Florida                          ",null,6274550]
["IA","Cement","Cl","IA Cement Cl",1923251.3834709243,2099247.0289394902,2130091.6265989295,1115666.6666666667,1212000,1157000,1211000,1312000,1340000,1297000,1325320,1313000,1375666.6666666667,1353333.3333333333,1282945.0559039998,1364333.3333333333,1407269.5216700002,1396892.5348499999,{"$f":"(3676.056048045*1000)/3","v":1225352.0160149999},{"$f":"(2614.139760075*1000)/3","v":871379.920025},{"$f":"(2350.638804975/3)*1000","v":783546.26832499995},897811.05739499989,1046628.4063499999,1058825.8110700001,{"$f":"$AR$15/3","v":958747.58103},{"$f":"AW15/3","v":972977.98733500007},{"$f":"BA15/3","v":1002857.6372850001},{"$f":"BE15/3","v":1053725.919395},{"$f":"BI15/3","v":920909.33333333337},{"$f":"BM15/3","v":952040.33333333337},{"$f":"BQ15/3","v":979797.33333333337},{"$f":"BU15/3","v":1004108},null,null,null,null,"Georgia, Maryland, Virginia, West Virginia",5586.5069185799994,5586506.9185799994,5277222.1508999998,5276881.0493400004,null,"Georgia, Maryland, Virginia, West Virginia",null,5382410.25165,null,"Georgia, Maryland, Virginia, West Virginia",null,5293871.7172050001,null,"Georgia, Maryland, Virginia, West Virginia",null,5435499.625035,null,"Georgia, Maryland, Virginia, West Virginia",null,5205311,null,"Georgia, Maryland, Virginia, West Virginia",null,5456424,null,"Georgia, Maryland, Virginia, West Virginia",null,5474768,null,"Georgia, Maryland, Virginia, West Virginia",null,5210153]
["KS","Cement","Cl","KS Cement Cl",1529529.166288669,1395264.4470652272,0,1458000,1588000,1643000,1619000,1635000,1672000,1735000,1793058,1789000,2373000,2203000,2607939.9045759998,2792000,2951001.137385,2626479.2904449999,{"$f":"2305.622470905*1000","v":2305622.4709049999},{"$f":"1682.103334185*1000","v":1682103.334185},{"$f":"1937.294474685*1000","v":1937294.474685},1631349.0549900001,1731670.108215,1776063.2061900001,{"$f":"AR16","v":1943506.877565},{"$f":"AW16","v":1949234.843655},{"$f":"BA16","v":2049208.445025},{"$f":"BE16","v":2063121.9413699999},{"$f":"BI16","v":2211371},{"$f":"BM16","v":1953777},{"$f":"BQ16","v":2193226},{"$f":"BU16","v":2209954},null,null,null,null,"South Carolina",2888.2919742600002,2888291.97426,2810087.1841500001,2782557.7481400003,null,"South Carolina",null,2839226.8735349998,null,"South Carolina",null,2770001.4005550002,null,"South Carolina",null,2789445.0966599998,null,"South Carolina",null,2685609,null,"South Carolina                         ",null,2852391,null,"South Carolina                         ",null,2684918,null,"South Carolina                         ",null,2800104]
["KY","Cement","Cl","KY Cement Cl",707006.56203695305,596631.28609876311,623242.31153043639,621666.66666666663,629000,693000,684000,727000,745000,759000,680446,973333.33333333337,989333.33333333337,1013666.6666666666,1036154.1157546665,1044333.3333333334,1093404.0745300001,1105536.4643250001,{"$f":"(2955.20593986*1000)/3","v":985068.6466199999},{"$f":"(1773.1656573*1000)/3","v":591055.21909999999},{"$f":"(2192.92741428/3)*1000","v":730975.80475999997},1247212.9065525001,1889525.1365350003,1920149.8877650001,{"$f":"$AR$21/3","v":2046259.7913800001},{"$f":"AW21/3","v":2175583.5490550003},{"$f":"BA21/3","v":2176126.650475},{"$f":"BE21/3","v":2061643.5322150001},{"$f":"BI21/3","v":2045763},{"$f":"BM21/3","v":2200740},{"$f":"BQ21/3","v":2080856.3333333333},{"$f":"BU21/3","v":2233670.3333333335},null,null,null,null,"Alabama, Kentucky, Tennessee",6595.9489045949986,6595948.9045949988,6138779.37414,6134629.0027649999,null,"Alabama, Kentucky, Tennessee",null,6526750.6471650004,null,"Alabama, Kentucky, Tennessee",null,6528379.9514250001,null,"Alabama, Kentucky, Tennessee",null,6184930.5966450004,null,"Alabama, Kentucky, Tennessee",null,6137289,null,"Alabama, Kentucky, Tennessee           ",null,6602220,null,"Alabama, Kentucky, Tennessee           ",null,6242569,null,"Alabama, Kentucky, Tennessee           ",null,6701011]
["LA","Cement","Cl","LA Cement Cl",0,0,0,0,0,0,0,0,0,0,0,0,0,0,0,0,0,0,0,0,0,0,0,0,null,0,0,0,0,0,0,0,null,null,null,null,"Arkansas and Oklahoma",2459.0465052899999,2459046.5052899998,2474898.6559799998,2474898.6559800003,null,"Arkansas and Oklahoma",null,2248404.4985850002,null,"Arkansas and Oklahoma",null,2413867.7851049998,null,"Arkansas and Oklahoma",null,2177426.3441849998,null,"Arkansas and Oklahoma",null,2343866,null,"Arkansas and Oklahoma",null,2411951,null,"Arkansas and Oklahoma",null,2418885,null,"Arkansas and Oklahoma",null,2370679]
["ME","Cement","Cl","ME Cement Cl",1292751.5195500315,1281411.5939399437,1387099.7006259637,1525500,1402000,1475000,1370000,1484000,1554500,1551000,1543872,1547000,1554500,1452500,1527501.4506639999,1536000,1546997.6329125001,1589489.7247200001,{"$f":"(2753.25567264*1000)/2","v":1376627.83632},{"$f":"(1856.183063835*1000)/2","v":928091.53191749996},{"$f":"(1970.956481295/2)*1000","v":985478.24064750003},948498.65849249996,1002018.0375675,859563.23061000009,{"$f":"$AR$9/2","v":742480.12014000001},{"$f":"AW9/2","v":756696.61627500004},{"$f":"BA9/2","v":504602.60536500002},{"$f":"BE9/2","v":709465.39002749999},{"$f":"BI9/2","v":880567},{"$f":"BM9/2","v":869234},{"$f":"BQ9/2","v":775920},{"$f":"BU9/2","v":921913.5},null,null,null,null,"Texas, northern",4675.0581490799996,4675058.1490799999,4334908.2261450002,4334973.5434649996,null,"Texas, northern",null,4276032.8268299997,null,"Texas, northern",null,4761688.87347,null,"Texas, northern",null,4615966.8397350004,null,"Texas, northern",null,5104232,null,"Texas, northern                        ",null,5410557,null,"Texas, northern                        ",null,4920912,null,"Texas, northern                        ",null,4984838]
["MD","Cement","Cl","MD Cement Cl",1662886.6914633038,1591218.3616075478,1412501.1339925609,1034000,1036000,1032000,1562000,1684000,1682000,1635000,1652435,1622000,1975000,2083000,2494564.5841759997,2458000,2663159.5015500002,2828704.4347200003,{"$f":"(4832.5200639*1000)/4","v":1208130.0159750001},{"$f":"(3610.504674315*1000)/4","v":902626.16857874999},{"$f":"(4090.019078505/4)*1000","v":1022504.76962625},1139125.21574625,1320023.12106,1354258.2417937499,{"$f":"$AR$19/4","v":1319305.5377249999},{"$f":"AW19/4","v":1345602.5629125},{"$f":"BA19/4","v":1323467.92930125},{"$f":"BE19/4","v":1358874.90625875},{"$f":"BI19/4","v":1301327.75},{"$f":"BM19/4","v":1364106},{"$f":"BQ19/4","v":1368692},{"$f":"BU19/4","v":1302538.25},null,null,null,null,"Texas, southern",6308.4601637249998,6308460.1637249999,5973127.3931400003,5972979.521985,null,"Texas, southern",null,5631254.7258900004,null,"Texas, southern",null,5526225.3825150002,null,"Texas, southern",null,5618711.9860800002,null,"Texas, southern",null,5539569,null,"Texas, southern                        ",null,5826409,null,"Texas, southern                        ",null,5943756,null,"Texas, southern                        ",null,5674497]
["MA","Cement","Cl","MA Cement Cl",0,0,0,0,0,0,0,0,0,0,0,0,0,0,0,0,0,0,0,0,0,0,0,0,null,0,0,0,0,0,0,0,null,null,null,null,"Arizona and New Mexico",2029.9951739100002,2029995.1739100001,2095208.1676350001,2097732.8634899999,null,"Arizona and New Mexico",null,2190722.9547299999,null,"Arizona and New Mexico",null,1941178.1336699999,null,"Arizona and New Mexico",null,2284716.3925800002,null,"Arizona and New Mexico",null,2607896,null,"Arizona and New Mexico",null,2470962,null,"Arizona and New Mexico",null,2826840,null,"Arizona and New Mexico",null,2860798]
["MI","Cement","Cl","MI Cement Cl",4385376.0319332303,3965345.1873355708,3847409.9609906557,3895000,3896000,4150000,4116000,4254000,4201000,4252000,4355232,4305000,4082000,4001000,4076874.0097920001,4111000,4118531.9030550001,4112331.2935800003,{"$f":"3545.84506344*1000","v":3545845.0634400002},{"$f":"2586.91785978*1000","v":2586917.8597800001},{"$f":"2703.443051475*1000","v":2703443.0514750001},2621942.4582600002,3890524.5610799999,3854708.8972800002,{"$f":"$AR$13","v":2821161.191445},{"$f":"AW13","v":3291885.8801699998},{"$f":"BA13","v":3188876.8377899998},{"$f":"BE13","v":2815502.1714150002},{"$f":"BI13","v":2698200},{"$f":"BM13","v":3094478},{"$f":"BQ13","v":3020776},{"$f":"BU13","v":3308183},null,null,null,null,"Colorado and Wyoming",3186.9663061800002,3186966.3061800003,2996394.860415,2996370.3664199999,null,"California",null,8999748.7505699992,null,"California",null,8930923.3461750001,null,"California",null,9281657.3965050001,null,"California",null,9534597,null,"California                  ",null,9453099,null,"California                  ",null,9475541,null,"California                  ",null,8935384]
["MN","Cement","Cl","MN Cement Cl",0,0,0,0,629000,0,0,0,0,0,0,0,0,0,0,0,0,0,0,0,0,0,0,0,null,0,0,0,0,0,0,0,null,null,null,null,"Idaho, Montana, Nevada, Utah",2351.42896311,2351428.9631099999,3500606.4690450002,3500601.9331200002,null,"Colorado and Wyoming",null,2973659.8971299999,null,"Colorado and Wyoming",null,2725728.051,null,"Colorado and Wyoming",null,2823592.4472449999,null,"Colorado and Wyoming",null,2732299,null,"Colorado and Wyoming",null,2808953,null,"Colorado and Wyoming",null,2985794,null,"Colorado and Wyoming",null,2681983]
["MS","Cement","Cl","MS Cement Cl",591036.9227977863,564274.69835797872,593758.5049442075,621666.66666666663,0,693000,684000,727000,745000,759000,680446,973333.33333333337,989333.33333333337,1013666.6666666666,1036154.1157546665,1044333.3333333334,1093404.0745300001,1105536.4643250001,{"$f":"(2955.20593986*1000)/3","v":985068.6466199999},{"$f":"(1773.1656573*1000)/3","v":591055.21909999999},{"$f":"(2192.92741428/3)*1000","v":730975.80475999997},1247212.9065525001,0,0,null,0,0,0,0,0,0,0,null,null,null,null,"Alaska and Hawaii","--",null,"--",null,null,"Idaho, Montana, Nevada, Oregon, Utah, Washington",null,3669331.9928249996,null,"Montana, Nevada, Oregon, Utah, Washington",null,3549630.7464450002,null,"Montana, Nevada, Oregon, Utah, Washington",null,3498480.9345899997,null,"Montana, Nevada, Oregon, Utah, Washington",null,3779938,null,"Montana, Nevada, Oregon, Utah, Washington",null,3595008,null,"Montana, Nevada, Oregon, Utah, Washington",null,3404780,null,"Montana, Nevada, Oregon, Utah, Washington",null,3615125]
["MO","Cement","Cl","MO Cement Cl",4037920.7112401342,3954458.8587498865,4036106.3231425202,3975000,4322000,4160000,4195000,4711000,4472000,4526000,4525827,4308000,4512000,4869000,5015077.3523040004,4871000,4757255.4603749998,4927050.5552700004,{"$f":"4464.1122354*1000","v":4464112.2353999997},{"$f":"4122.908163495*1000","v":4122908.163495},{"$f":"5908.518584625*1000","v":5908518.5846250001},6445222.8383999998,7951312.324515,8222626.8640199993,{"$f":"$AR$17","v":8054048.3042099997},{"$f":"AW17","v":7980388.51095},{"$f":"BA17","v":7707832.0351799997},{"$f":"BE17","v":8563041.6849750001},{"$f":"BI17","v":8514240},{"$f":"BM17","v":8362242},{"$f":"BQ17","v":9275890},{"$f":"BU17","v":8971779},null,null,null,null,"California",9811.9587385499999,9811958.7385499999,9184741.9157699998,9180573.4006949998,null,"   Total",null,{"$f":"SUM(AW9:AW28)","v":76068098.186685011},null,"   Total",null,{"$f":"SUM(BA9:BA28)","v":75448269.089439988},null,"   Total",null,{"$f":"SUM(BE9:BE28)","v":76541792.091915011},null,"   Total",null,{"$f":"SUM(BI9:BI28)","v":77111557},null,"   Total",null,{"$f":"SUM(BM9:BM28)","v":78890805},null,"   Total",null,{"$f":"SUM(BQ9:BQ28)","v":79133325},null,"   Total",null,{"$f":"SUM(BU9:BU28)","v":79190554}]
["MT","Cement","Cl","MT Cement Cl",506516.67725059722,591188.12180592085,520426.98599897174,485250,517000,522000,519000,556000,626000,663000,694030,673750,667500,689750,694260.65772799996,699250,700119.34336125001,680502.82851374999,{"$f":"(2587.46942826*1000)/4","v":646867.35706499999},{"$f":"(1671.18536271*1000)/4","v":417796.3406775},{"$f":"(1770.401464605/4)*1000","v":442600.36615125003},487062.48578500003,609869.63121000002,524729.63857125002,{"$f":"$AR$27/6","v":583434.41150749999},{"$f":"AW28/6","v":611555.33213749994},{"$f":"BA28/5","v":709926.14928900008},{"$f":"BE28/5","v":699696.18691799999},{"$f":"BI28/5","v":755987.6},{"$f":"BM28/5","v":719001.59999999998},{"$f":"BQ28/5","v":680956},{"$f":"BU28/5","v":723025},null,null,null,null,"Oregon and Washington",1471.883168505,1471883.168505,"--",null,null,"Puerto Rico",null,535258.20088500006,null,"Puerto Rico",null,389518.930635,null,"Puerto Rico",null,442352.47785000002,null,"Puerto Rico",null,"NA",null,"Puerto Rico",null,"NA",null,"Puerto Rico",null,"NA",null,"Puerto Rico",null,"NA"]
["NE","Cement","Cl","NE Cement Cl",613867.97302609694,647509.75233602466,694457.0443617889,1115666.6666666667,1212000,1157000,1211000,1312000,1340000,1297000,1325320,1313000,1375666.6666666667,1353333.3333333333,1282945.0559039998,1364333.3333333333,1407269.5216700002,1396892.5348499999,{"$f":"(3676.056048045*1000)/3","v":1225352.0160149999},{"$f":"(2614.139760075*1000)/3","v":871379.920025},{"$f":"(2350.638804975/3)*1000","v":783546.26832499995},897811.05739499989,1046628.4063499999,1058825.8110700001,{"$f":"$AR$15/3","v":958747.58103},{"$f":"AW15/3","v":972977.98733500007},{"$f":"BA15/3","v":1002857.6372850001},{"$f":"BE15/3","v":1053725.919395},{"$f":"BI15/3","v":920909.33333333337},{"$f":"BM15/3","v":952040.33333333337},{"$f":"BQ15/3","v":979797.33333333337},{"$f":"BU15/3","v":1004108},null,null,null,null,"Importers8","--",null,null,null,null,"   Grand total",null,{"$f":"SUM(AW29:AW30)","v":76603356.387570009},null,"   Grand total",null,{"$f":"SUM(BA29:BA30)","v":75837788.020074993},null,"   Grand total",null,{"$f":"SUM(BE29:BE30)","v":76984144.569765016},null,"   Grand total",null,77111557,null,"Grand total",null,78890805,null,"Grand total",null,79133325,null,"Grand total",null,79190554]
["NV","Cement","Cl","NV Cement Cl",557319.54398379149,953460.94529619883,545526.02134929993,485250,517000,522000,519000,556000,626000,663000,694030,673750,667500,689750,694260.65772799996,699250,700119.34336125001,680502.82851374999,{"$f":"(2587.46942826*1000)/4","v":646867.35706499999},{"$f":"(1671.18536271*1000)/4","v":417796.3406775},{"$f":"(1770.401464605/4)*1000","v":442600.36615125003},487062.48578500003,609869.63121000002,524729.63857125002,{"$f":"$AR$27/6","v":583434.41150749999},{"$f":"AW28/6","v":611555.33213749994},{"$f":"BA28/5","v":709926.14928900008},{"$f":"BE28/5","v":699696.18691799999},{"$f":"BI28/5","v":755987.6},{"$f":"BM28/5","v":719001.59999999998},{"$f":"BQ28/5","v":680956},{"$f":"BU28/5","v":723025},null,null,null,null,"Total9",80315.434030410004,80315434.030410007,{"$f":"SUM(AR9:AR30)","v":74405851.317780003},105000000]
["NH","Cement","Cl","NH Cement Cl",0,0,0,0,0,0,0,0,0,0,0,0,0,0,0,0,0,0,0,0,0,0,0,0,null,0,0,0,0,0,0,0,null,null,null,null,"Puerto Rico",588.14617920000001,588146.17920000001,639110.01812999998,1664385.1039500001]
["NJ","Cement","Cl","NJ Cement Cl",0,0,0,0,0,0,0,0,0,0,0,0,0,0,0,0,0,0,0,0,0,0,0,0,null,0,0,0,0,0,0,0,null,null,null,null,"Grand total9",80903.580209609994,80903580.20961,{"$f":"SUM(AR32:AR33)","v":75044961.335910007},107000000]
["NM","Cement","Cl","NM Cement Cl",557319.54398379149,953460.94529619883,545526.02134929993,788500,940000,987000,1055000,1085000,1092000,1113000,1094173,1100500,1073500,1277000,1282890.6248639999,1302000,1313621.5701075001,1249832.8568325001,{"$f":"(1980.901043265*1000)/2","v":990450.52163249999},{"$f":"(1125.157061505*1000)/2","v":562578.53075250005},{"$f":"(1205.012928315)/2*1000","v":602506.46415749996},602091.42702000006,769891.16850749997,892238.21993999998,{"$f":"$AR$25/2","v":1047604.0838175},{"$f":"AW25/2","v":1095361.4773649999},{"$f":"BA25/2","v":970589.06683499995},{"$f":"BE25/2","v":1142358.1962900001},{"$f":"BI25/2","v":1303948},{"$f":"BM25/2","v":1235481},{"$f":"BQ25/2","v":1413420},{"$f":"BU25/2","v":1430399}]
["NY","Cement","Cl","NY Cement Cl",1292751.5195500315,1281411.5939399437,1387099.7006259637,1525500,1402000,1475000,1370000,1484000,1554500,1551000,1543872,1547000,1554500,1452500,1527501.4506639999,1536000,1546997.6329125001,{"$f":"(3178.97944944*1000)/2","v":1589489.7247199998},{"$f":"(2753.25567264*1000)/2","v":1376627.83632},{"$f":"(1856.183063835*1000)/2","v":928091.53191749996},{"$f":"(1970.956481295/2)*1000","v":985478.24064750003},948498.65849249996,1002018.0375675,859563.23061000009,{"$f":"$AR$9/2","v":742480.12014000001},{"$f":"AW9/2","v":756696.61627500004},{"$f":"BA9/2","v":504602.60536500002},{"$f":"BE9/2","v":709465.39002749999},{"$f":"BI9/2","v":880567},{"$f":"BM9/2","v":869234},{"$f":"BQ9/2","v":775920},{"$f":"BU9/2","v":921913.5}]
["NC","Cement","Cl","NC Cement Cl",0,0,0,0,0,0,0,0,0,0,0,0,0,0,0,0,0,0,0,0,0,0,0,0,null,0,0,0,0,0,0,0]
["ND","Cement","Cl","ND Cement Cl",0,0,0,0,0,0,0,0,0,0,0,0,0,0,0,0,0,0,0,0,0,0,0,0,null,0,0,0,0,0,0,0]
["OH","Cement","Cl","OH Cement Cl",1215640.0254014335,1233783.9063775742,1182981.0396443799,1240000,901000,902000,928000,980000,1016000,1062000,1026340,1058000,976000,993000,1014776.0224,1010000,1048763.012655,877042.87118999998,{"$f":"746.078923035*1000","v":746078.92303499999},{"$f":"467.291900685*1000","v":467291.900685},{"$f":"680.40870807*1000","v":680408.70806999994},559826.58505500003,797273.18695500004,829138.96726499998,{"$f":"$AR$14","v":764007.62019000005},{"$f":"AW14","v":904566.86409000005},{"$f":"BA14","v":1687016},{"$f":"BE14","v":1680679.0537349998},{"$f":"BI14","v":1599367},{"$f":"BM14","v":1613117},{"$f":"BQ14","v":1675436},{"$f":"BU14","v":1528175.5}]
["OK","Cement","Cl","OK Cement Cl",1208382.473010977,1216547.2194502405,1257370.9516465571,1177000,1186000,1250000,1253000,1262000,1251000,1231000,1259479,1261000,1265500,1244500,1268211.026968,1314000,1287414.3562350001,1231749.4846350001,{"$f":"(2447.036283075*1000)/2","v":1223518.1415375001},{"$f":"(1774.67884188*1000)/2","v":887339.42093999998},{"$f":"(1802.62195425/2)*1000","v":901310.97712499998},821710.4828925,1028510.1075299999,1021948.4384250001,{"$f":"$AR$22/2","v":1237449.3279899999},{"$f":"AW22/2","v":1124202.2492925001},{"$f":"BA22/2","v":1206933.8925524999},{"$f":"BE22/2","v":1088713.1720924999},{"$f":"BI22/2","v":1171933},{"$f":"BM22/2","v":1205975.5},{"$f":"BQ22/2","v":1209442.5},{"$f":"BU22/2","v":1185339.5}]
["OR","Cement","Cl","OR Cement Cl",0,267924.64241434576,335359.40004233574,372500,413000,400000,694000,733000,768000,883000,860339,828000,830000,715000,816081.40757599997,857500,878790.56309249997,871274.53536750004,{"$f":"(1238.742066615*1000)/2","v":619371.03330750007},{"$f":"(1213.45609911*1000)/2","v":606728.04955500003},{"$f":"(1090.720318905/2)*1000","v":545360.15945250005},487062.48578500003,496579.91481749999,632861.78144249995,{"$f":"$AR$27/6","v":583434.41150749999},{"$f":"AW28/6","v":611555.33213749994},{"$f":"BA28/5","v":709926.14928900008},{"$f":"BE28/5","v":699696.18691799999},{"$f":"BI28/5","v":755987.6},{"$f":"BM28/5","v":719001.59999999998},{"$f":"BQ28/5","v":680956},{"$f":"BU28/5","v":723025}]
["PA","Cement","Cl","PA Cement Cl",5141975.8686383013,4848952.1908736276,5327950.6486437451,5309000,5511000,5956000,5538000,6082000,6290000,6490000,6500478,6101000,6128000,5498000,5927972.075584,6054000,5716820.4150899993,5470652.1365999999,{"$f":"(3659.87277483+1386.69577545)*1000","v":5046568.5502800001},{"$f":"3523.09467801*1000","v":3523094.6780099999},{"$f":"3198.37687911*1000","v":3198376.8791100001},3144571.7367600002,3360253.1561400001,3619321.6053300002,{"$f":"AR10","v":3440295.9030599999},{"$f":"AW10","v":3574981.1240850003},{"$f":"BA10","v":3545496.7043999997},{"$f":"BE10","v":3371612.9267099998},{"$f":"BI10","v":3122253},{"$f":"BM10","v":3490112},{"$f":"BQ10","v":3314599},{"$f":"BU10","v":3458010}]
["PR","Cement","Cl","PR Cement Cl",0,0,0,0,0,1274000,1345000,1426000,1319000,1334000,1472682,1546000,1443000,1434000,1532786.2510559999,1532786.2510559999,1490170.203735,1335928.7956650001,{"$f":"1217.32433595*1000","v":1217324.33595},{"$f":"801.673034205*1000","v":801673.03420500003},{"$f":"641.73541152*1000","v":641735.41151999997},661524.74511000002,782673.85875000001,609729.01753499999,{"$f":"AR33","v":639110.01812999998},{"$f":"AW30","v":535258.20088500006},{"$f":"BA30","v":389518.930635},{"$f":"BE30","v":442352.47785000002},{"$f":"AF43","v":442352.47785000002},{"$f":"AG43","v":442352.47785000002},{"$f":"AH43","v":442352.47785000002},{"$f":"AI43","v":442352.47785000002}]
["RI","Cement","Cl","RI Cement Cl",0,0,0,0,0,0,0,0,0,0,0,0,0,0,0,0,0,0,0,0,0,0,0,0,null,0,0,0,0,0,0,0]
["SC","Cement","Cl","SC Cement Cl",2139163.5670869998,2028485.8931325409,2004898.847863558,1569500,1596000,1625000,2175000,2221000,2315000,2358000,2510360,2478000,2445000,2628000,3145474.5472800001,3147000,3524919.0270449999,3511872.7995600002,{"$f":"2898.89878128*1000","v":2898898.7812800002},{"$f":"1770.031333125*1000","v":1770031.3331249999},{"$f":"1905.953047305*1000","v":1905953.047305},2362502.0632199999,2766161.28645,2775977.935335,{"$f":"AR20","v":2810087.1841500001},{"$f":"AW20","v":2839226.8735349998},{"$f":"BA20","v":2770001.4005550002},{"$f":"BE20","v":2789445.0966599998},{"$f":"BI20","v":2685609},{"$f":"BM20","v":2852391},{"$f":"BQ20","v":2684918},{"$f":"BU20","v":2800104}]
["SD","Cement","Cl","SD Cement Cl",0,647509.75233602466,694457.0443617889,1115666.6666666667,1212000,1157000,1211000,1312000,1340000,1297000,1325320,1313000,1375666.6666666667,1353333.3333333333,1282945.0559039998,1364333.3333333333,1407269.5216700002,1396892.5348499999,{"$f":"(3676.056048045*1000)/3","v":1225352.0160149999},{"$f":"(2614.139760075*1000)/3","v":871379.920025},{"$f":"(2350.638804975/3)*1000","v":783546.26832499995},897811.05739499989,1046628.4063499999,1058825.8110700001,{"$f":"$AR$15/3","v":958747.58103},{"$f":"AW15/3","v":972977.98733500007},{"$f":"BA15/3","v":1002857.6372850001},{"$f":"BE15/3","v":1053725.919395},{"$f":"BI15/3","v":920909.33333333337},{"$f":"BM15/3","v":952040.33333333337},{"$f":"BQ15/3","v":979797.33333333337},{"$f":"BU15/3","v":1004108}]
["TN","Cement","Cl","TN Cement Cl",946656.98993014602,839608.09217091533,859112.7642202666,621666.66666666663,629000,693000,684000,727000,745000,759000,680446,973333.33333333337,989333.33333333337,1013666.6666666666,1036154.1157546665,1044333.3333333334,1093404.0745300001,1105536.4643250001,{"$f":"(2955.20593986*1000)/3","v":985068.6466199999},{"$f":"(1773.1656573*1000)/3","v":591055.21909999999},{"$f":"(2192.92741428/3)*1000","v":730975.80475999997},1247212.9065525001,1889525.1365350003,1920149.8877650001,{"$f":"$AR$21/3","v":2046259.7913800001},{"$f":"AW21/3","v":2175583.5490550003},{"$f":"BA21/3","v":2176126.650475},{"$f":"BE21/3","v":2061643.5322150001},{"$f":"BI21/3","v":2045763},{"$f":"BM21/3","v":2200740},{"$f":"BQ21/3","v":2080856.3333333333},{"$f":"BU21/3","v":2233670.3333333335}]
["TX","Cement","Cl","TX Cement Cl",6756781.2755148327,6587135.9883879162,6985394.1758142067,7320000,7587000,7862000,8042000,7885000,8072000,8220000,8879836,9864000,10373000,10308000,10728760.773696,10748000,10799957.59272,10174300.220954999,{"$f":"SUM(6054.974531025,4385.670670005)*1000","v":10440645.201029999},{"$f":"(3479.5262112+4128.04555215)*1000","v":7607571.7633499997},{"$f":"(3374.456951685+4535.67643131)*1000","v":7910133.3829950001},8480306.4129750002,9998941.3604549989,10115462.016224999,{"$f":"SUM(AR23:AR24)","v":10308035.619285},{"$f":"SUM(AW23:AW24)","v":9907287.5527199991},{"$f":"SUM(BA23:BA24)","v":10287914.255984999},{"$f":"SUM(BE23:BE24)","v":10234678.825815},{"$f":"SUM(BI23:BI24)","v":10643801},{"$f":"SUM(BM23:BM24)","v":11236966},{"$f":"SUM(BQ23:BQ24)","v":10864668},{"$f":"SUM(BU23:BU24)","v":10659335}]
["UT","Cement","Cl","UT Cement Cl",506516.67725059722,591188.12180592085,520426.98599897174,485250,517000,522000,519000,556000,626000,663000,694030,673750,667500,689750,694260.65772799996,699250,700119.34336125001,680502.82851374999,{"$f":"(2587.46942826*1000)/4","v":646867.35706499999},{"$f":"(1671.18536271*1000)/4","v":417796.3406775},{"$f":"(1770.401464605/4)*1000","v":442600.36615125003},487062.48578500003,609869.63121000002,524729.63857125002,{"$f":"$AR$27/6","v":583434.41150749999},{"$f":"AW28/6","v":611555.33213749994},{"$f":"BA28/5","v":709926.14928900008},{"$f":"BE28/5","v":699696.18691799999},{"$f":"BI28/5","v":755987.6},{"$f":"BM28/5","v":719001.59999999998},{"$f":"BQ28/5","v":680956},{"$f":"BU28/5","v":723025}]
["VT","Cement","Cl","VT Cement Cl",0,0,0,0,0,0,0,0,0,0,0,0,0,0,0,0,0,0,0,0,0,0,0,0,null,0,0,0,0,0,0,0]
["VA","Cement","Cl","VA Cement Cl",707006.56203695305,596631.28609876311,623242.31153043639,1034000,1036000,1032000,810000,816000,867000,895000,981393,956333.33333333337,882333.33333333337,807333.33333333337,806968.29070399993,748333.33333333337,821270.64936499996,778551.91250500001,{"$f":"(4832.5200639*1000)/4","v":1208130.0159750001},{"$f":"(3610.504674315*1000)/4","v":902626.16857874999},{"$f":"(4090.019078505/4)*1000","v":1022504.76962625},1139125.21574625,1320023.12106,1354258.2417937499,{"$f":"$AR$19/4","v":1319305.5377249999},{"$f":"AW19/4","v":1345602.5629125},{"$f":"BA19/4","v":1323467.92930125},{"$f":"BE19/4","v":1358874.90625875},{"$f":"BI19/4","v":1301327.75},{"$f":"BM19/4","v":1364106},{"$f":"BQ19/4","v":1368692},{"$f":"BU19/4","v":1302538.25}]
["WA","Cement","Cl","WA Cement Cl",0,267924.64241434576,335359.40004233574,372500,413000,400000,694000,733000,768000,883000,860339,828000,830000,715000,816081.40757599997,857500,878790.56309249997,871274.53536750004,{"$f":"(1238.742066615*1000)/2","v":619371.03330750007},{"$f":"(1213.45609911*1000)/2","v":606728.04955500003},{"$f":"(1090.720318905/2)*1000","v":545360.15945250005},487062.48578500003,496579.91481749999,632861.78144249995,{"$f":"$AR$27/6","v":583434.41150749999},{"$f":"AW28/6","v":611555.33213749994},{"$f":"BA28/5","v":709926.14928900008},{"$f":"BE28/5","v":699696.18691799999},{"$f":"BI28/5","v":755987.6},{"$f":"BM28/5","v":719001.59999999998},{"$f":"BQ28/5","v":680956},{"$f":"BU28/5","v":723025}]
["WV","Cement","Cl","WV Cement Cl",707006.56203695305,596631.28609876311,623242.31153043639,1034000,1036000,1032000,810000,816000,867000,895000,981393,956333.33333333337,882333.33333333337,807333.33333333337,806968.29070399993,748333.33333333337,821270.64936499996,778551.91250500001,{"$f":"(4832.5200639*1000)/4","v":1208130.0159750001},{"$f":"(3610.504674315*1000)/4","v":902626.16857874999},{"$f":"(4090.019078505/4)*1000","v":1022504.76962625},1139125.21574625,1320023.12106,1354258.2417937499,{"$f":"$AR$19/4","v":1319305.5377249999},{"$f":"AW19/4","v":1345602.5629125},{"$f":"BA19/4","v":1323467.92930125},{"$f":"BE19/4","v":1358874.90625875},{"$f":"BI19/4","v":1301327.75},{"$f":"BM19/4","v":1364106},{"$f":"BQ19/4","v":1368692},{"$f":"BU19/4","v":1302538.25}]
["WI","Cement","Cl","WI Cement Cl",0,0,0,0,0,0,0,0,0,0,0,0,0,0,0,0,0,0,0,0,0,0,0,0,null,0,0,0,0,0,0,0]
["WY","Cement","Cl","WY Cement Cl",613867.97302609694,647509.75233602466,694457.0443617889,848500,849000,920000,914000,982000,979000,998000,1070888,896500,958000,1175000,1242896.51104,1204500,1246704.42936,1097126.4057825,{"$f":"(2548.40241342*1000)/2","v":1274201.2067100001},{"$f":"(1992.493053195*1000)/2","v":996246.52659749996},{"$f":"(2162.28814809/2)*1000","v":1081144.0740450001},1138648.716825,1437446.425905,1448727.7249725,{"$f":"$AR$26/2","v":1498197.4302075},{"$f":"AW27/2","v":1486829.948565},{"$f":"BA27/2","v":1362864.0255},{"$f":"BE27/2","v":1411796.2236225},{"$f":"BI27/2","v":1366149.5},{"$f":"BM27/2","v":1404476.5},{"$f":"BQ27/2","v":1492897},{"$f":"BU27/2","v":1340991.5}]
["AL","Cement","Ma","AL Cement Ma",191417.94429828538,191417.94429828538,237684.84078744441,277000,312000,306000,309000,346000,371000,429000,437529,380000,380000,565000,429504.016695,475000,525660.18358499999,450170.59818000003,null,null,null,null,null,null,null,null,null,null,null,null,null,null,null,null,null,null,"Source: USGS Mineral Yearbook, 2007. Cement Stats and Info, Table 4. Masonry Cement Production in the US in 2007, by Region. (http://minerals.usgs.gov/minerals/pubs/commodity/cement/index.html#myb)"]
["AK","Cement","Ma","AK Cement Ma",0,0,0,0,0,0,2500,1500,1500,1500,1794,1500,0,2000,0,0,0,0]
["AZ","Cement","Ma","AZ Cement Ma",16631.890894795728,16027.094862257705,13607.910732105596,0,0,0,69841,2385,63700,69995,76289,54500,0,0,0,0,0,0]
["AR","Cement","Ma","AR Cement Ma",0,0,0,51000,52000,55000,52000,58000,63000,69000,69100,65000,72500,74500,80557.120815000002,94000,96294.966195000001,74093.881282500006]
["CA","Cement","Ma","CA Cement Ma",0,0,0,0,0,0,{"$f":"69841+160000","v":229841},{"$f":"2385*2","v":4770},{"$f":"63700*2","v":127400},320677,513954,507333.33333333331,514333.33333333337,543333.33333333337,631921.48418999999,694000,697721.42661000008,521630.46781499998]
["CO","Cement","Ma","CO Cement Ma",7862.3484229943442,0,8164.7464392633574,0,0,0,69841,2385,63700,69995,76289,0,0,0,0,0,0,0]
["CT","Cement","Ma","CT Cement Ma",0,0,0,0,0,0,0,0,0,0,0,0,0,0,0,0,0,0]
["DC","Cement","Ma",{"$f":"A63&\" \"&B63&\" \"&C63","v":"DC Cement Ma"},0,0,0,0,0,0,0,0,0,0,0,0,0,0,0,0,0,0]
["DE","Cement","Ma","DE Cement Ma",0,0,0,0,0,0,0,0,0,0,0,0,0,0,0,0,0,0]
["FL","Cement","Ma","FL Cement Ma",396443.79932867637,301188.42420393717,305724.39444797242,351000,400000,383000,422000,406000,442000,494000,516757,556000,591000,674000,762834.62998500001,902000,899848.59490500006,524487.19337999995]
["GA","Cement","Ma","GA Cement Ma",79833.076295019491,69853.941758142057,73936.314977773742,187000,208000,218000,125000,127000,114000,123000,98144,106000,114333.33333333333,123666.66666666667,139598.23259,135750,127750,116923.89950249999]
["HI","Cement","Ma","HI Cement Ma",10886.328585684478,9071.9404880703987,6350.3583416492784,0,0,0,2500,1500,1500,1500,1794,1500,0,2000,0,0,0,0]
["ID","Cement","Ma","ID Cement Ma",3628.7761952281594,3326.3781789591458,3023.9801626901326,0,0,0,69841,2385,63700,0,76289,0,0,0,0,0,0,0]
["IL","Cement","Ma","IL Cement Ma",0,0,0,0,0,0,0,0,0,0,76289,0,0,0,0,0,0,0]
["IN","Cement","Ma","IN Cement Ma",326589.85757053434,293023.67776467383,330218.6337657625,0,0,0,69841,2385,63700,69995,76289,0,0,0,0,277500,264500,231015.567435]
["IA","Cement","Ma",{"$f":"A71&\" \"&B71&\" \"&C71","v":"IA Cement Ma"},0,0,0,16000,19000,17000,69841,2385,63700,38731,13762,0,0,0,0,0,0,0]
["KS","Cement","Ma","KS Cement Ma",27215.821464211193,33566.179805860469,19958.269073754873,null,24000,31000,24000,2385,63700,69995,76289,25000,0,0,0,0,0,0]
["KY","Cement","Ma","KY Cement Ma",88905.016783089886,66225.165562913899,68039.553660527992,35000,35000,36000,69841,29000,30000,35804,41613,26666.666666666668,27666.666666666668,0,0,0,0,0]
["LA","Cement","Ma","LA Cement Ma",0,0,0,0,0,0,0,0,0,0,0,0,0,0,0,0,0,0]
["ME","Cement","Ma","ME Cement Ma",52163.657806404786,43998.911367141431,43998.911367141431,42000,44500,50000,51000,53000,54000,61000,64396,65000,58000,58500,63565.999357500004,59500,59452.368975000005,50307.036990000001]
["MD","Cement","Ma","MD Cement Ma",0,0,0,66000,190000,176000,69841,2385,63700,110000,73184,77000,0,0,0,135750,127750,116923.89950249999]
["MA","Cement","Ma","MA Cement Ma",0,0,0,0,0,0,0,0,0,0,0,0,0,0,0,0,0,0]
["MI","Cement","Ma","MI Cement Ma",244942.39317790073,202304.27288396988,213190.60146965436,216000,235000,229000,232000,289000,284000,283000,284324,290000,292000,237000,230514.80131500002,228000,175790.68056000001,148979.73507]
["MN","Cement","Ma","MN Cement Ma",0,0,0,0,0,0,0,0,0,0,0,0,0,0,0,0,0,0]
["MS","Cement","Ma","MS Cement Ma",0,0,0,35000,35000,36000,69841,29000,30000,35804,41613,26666.666666666668,27666.666666666668,0,0,0,0,0]
["MO","Cement","Ma","MO Cement Ma",115213.64419849405,96162.569173546217,93440.987027125098,0,0,0,69841,2385,63700,69995,76289,111000,0,0,0,0,0,0]
["MT","Cement","Ma","MT Cement Ma",3628.7761952281594,3326.3781789591458,3023.9801626901326,0,0,0,69841,2385,63700,0,76289,0,0,0,0,0,0,0]
["NE","Cement","Ma","NE Cement Ma",7862.3484229943442,0,8164.7464392633574,16000,19000,17000,69841,2385,63700,38731,13762,0,0,0,0,0,0,0]
["NV","Cement","Ma","NV Cement Ma",16631.890894795728,16027.094862257705,13607.910732105596,0,0,0,69841,2385,63700,0,76289,0,0,0,0,0,0,0]
["NH","Cement","Ma","NH Cement Ma",0,0,0,0,0,0,0,0,0,0,0,0,0,0,0,0,0,0]
["NJ","Cement","Ma","NJ Cement Ma",0,0,0,0,0,0,0,0,0,0,0,0,0,0,0,0,0,0]
["NM","Cement","Ma","NM Cement Ma",16631.890894795728,16027.094862257705,13607.910732105596,0,0,0,69841,2385,63700,69995,76289,54500,0,0,0,0,0,0]
["NY","Cement","Ma","NY Cement Ma",52163.657806404786,43998.911367141431,43998.911367141431,42000,44500,50000,51000,53000,54000,61000,64396,65000,58000,58500,63565.999357500004,59500,59452.368975000005,50307.036990000001]
["NC","Cement","Ma","NC Cement Ma",0,0,0,0,0,0,0,0,0,0,0,0,0,0,0,0,0,0]
["ND","Cement","Ma","ND Cement Ma",0,0,0,0,0,0,0,0,0,0,0,0,0,0,0,0,0,0]
["OH","Cement","Ma","OH Cement Ma",118842.4203937222,99791.345368774375,110677.67395445885,0,0,0,69841,2385,74000,85000,76289,74000,85000,75000,98483.096415000007,277500,264500,231015.567435]
["OK","Cement","Ma","OK Cement Ma",0,0,0,51000,52000,55000,52000,58000,63000,69000,69100,65000,72500,74500,80557.120815000002,94000,96294.966195000001,74093.881282500006]
["OR","Cement","Ma","OR Cement Ma",0,0,0,0,0,0,69841,2385,63700,0,76289,28333.333333333332,26333.333333333332,24333,27059.514179999998,0,0,0]
["PA","Cement","Ma","PA Cement Ma",276694.18488614715,261271.88605642744,297559.64800870907,248000,245000,267000,275000,296000,319000,322305,325610,329000,341000,342000,289188.80556000001,399000,383581.40481000004,303784.50502500002]
["PR","Cement","Ma","PR Cement Ma",0,0,0,0,0,0,0,0,0,0,0,0,0,0,0,0,0,0]
["RI","Cement","Ma","RI Cement Ma",0,0,0,0,0,0,0,0,0,0,0,0,0,0,0,0,0,0]
["SC","Cement","Ma","SC Cement Ma",0,0,0,187000,208000,218000,286000,2385,63700,421000,421748,487000,426000,425000,453257.74873500003,498000,575144.40378000005,491441.165385]
["SD","Cement","Ma","SD Cement Ma",0,0,0,16000,19000,17000,69841,2385,63700,38731,13762,0,0,0,0,0,0,0]
["TN","Cement","Ma","TN Cement Ma",79833.076295019491,69853.941758142057,73936.314977773742,35000,35000,36000,69841,29000,30000,35807,41613,26666.666666666668,27666.666666666668,0,0,0,0,0]
["TX","Cement","Ma","TX Cement Ma",126099.97278417854,138800.68946747709,107048.89775923069,245000,257000,213422,{"$f":"100000+K101","v":169841},204000,217000,261000,264451,291000,294000,307000,319308.25474500004,395000,382185.247095,368000]
["UT","Cement","Ma","UT Cement Ma",3628.7761952281594,3326.3781789591458,3023.9801626901326,0,0,0,69841,2385,63700,0,76289,0,0,0,0,0,0,0]
["VT","Cement","Ma","VT Cement Ma",0,0,0,0,0,0,0,0,0,0,0,0,0,0,0,0,0,0]
["VA","Cement","Ma","VA Cement Ma",88905.016783089886,66225.165562913899,68039.553660527992,66000,190000,176000,125000,127000,114000,123000,98144,106000,114333.33333333333,123666.66666666667,139598.23259,135750,127750,116923.89950249999]
["WA","Cement","Ma","WA Cement Ma",0,0,0,0,0,0,69841,2385,63700,0,76289,28333.333333333332,26333.333333333332,24333,27059.514179999998,0,0,0]
["WV","Cement","Ma","WV Cement Ma",88905.016783089886,66225.165562913899,68039.553660527992,66000,190000,176000,125000,127000,114000,123000,98144,106000,114333.33333333333,123666.66666666667,139598.23259,135750,127750,116923.89950249999]
["WI","Cement","Ma","WI Cement Ma",0,0,0,0,0,0,0,0,0,0,0,0,0,0,0,0,0,0]
["WY","Cement","Ma","WY Cement Ma",7862.3484229943442,0,8164.7464392633574,0,0,0,69841,2385,63700,69995,76289,0,0,0,0,0,0,0]
["AL","Lime",null,{"$f":"A108&B108","v":"ALLime"},1384378.1184795427,1369863.01369863,1454232.0602376848,1950000,1930000,1960000,1830000,1860000,1730000,1660000,1630000,2030000,2040000,2290000,2280000,2240000,2450000,2480000,2320000,{"$f":"1960*1000","v":1960000},{"$f":"2150*1000","v":2150000},2180000,{"$f":"(Z108+(($AC108-$Z108)/3))*(AQ$122/AQ$123)","v":2236533.7795657911},{"$f":"(AA108+(($AC108-$Z108)/3))*(AR$122/AR$123)","v":2369273.1379442872},{"$f":"($Z108/($Z$108+$Z$125+$Z$151))*AS$119","v":2494250.4118616143},2456540.362438221,2203344.3163097198,2273377.2652388797,2305700.1647446458,1923212.5205930807,1675403.6243822076,1745436.5733113673,null,null,null,null,"Source: USGS Mineral Yearbook, 2020 (.xls). Lime Stats and Info, Table 2. Lime Sold or Used by Producers in the US, by State. (http://minerals.usgs.gov/minerals/pubs/commodity/lime/index.html#myb)"]
["AK","Lime",null,{"$f":"A109&B109","v":"AKLime"},0,0,0,0,0,0,0,0,0,0,0,0,0,0,0,0,0,0,0,0,0,null,0,0,0,0,0,0,0,0,0,0]
["AZ","Lime",null,"AZLime",0,451480.23828963679,505911.88121805922,344000,323000,585000,1170000,686000,603000,603000,536000,333750,287500,325000,330000,382500,407500,420000,407142.85714285716,{"$f":"(2410/6)*1000","v":401666.66666666669},{"$f":"(2510/7)*1000","v":358571.42857142858},445000,444992.7821062532,460013.28046388563,{"$f":"($Z110/($Z$110+$Z$112+$Z$113+$Z$120+$Z$134+$Z$136+$Z$145+$Z$153+$Z$156+$Z$159))*AS$121","v":473758.50340136053},454081.63265306124,419268.7074829932,432891.15646258503,420782.31292517006,426836.73469387757,407159.86394557822,387482.99319727893]
["AR","Lime",null,"ARLime",76506.698116060346,0,0,110000,99000,112000,102000,112000,113000,109000,101000,0,0,null,0,0,0,0,0,{"$f":"(1710/11)*1000","v":155454.54545454547},{"$f":"(1980/11)*1000","v":180000},147692.30769230769,150136.86480427138,157680.90136023029,{"$f":"($Z111/($Z$111+$Z$126+$Z$152+$Z$144))*AS$120","v":164736.1647361647},156499.35649935648,163088.80308880305,157323.03732303728,160617.76061776059,172149.2921492921,162265.12226512222,172972.97297297293]
["CA","Lime",null,"CALime",313889.14088723582,278508.5729837612,254014.33366597112,181000,189000,585000,1170000,209000,228000,203000,193000,127000,96000,100186,126097,122754,107577,93250,78376.75,{"$f":"(260/4)*1000","v":65000},{"$f":"(264/4)*1000","v":66000},67500,67498.905150948529,69777.295351263558,{"$f":"($Z112/($Z$110+$Z$112+$Z$113+$Z$120+$Z$134+$Z$136+$Z$145+$Z$153+$Z$156+$Z$159))*AS$121","v":71862.244897959186},68877.551020408166,63596.938775510207,65663.265306122456,63826.530612244904,64744.897959183676,61760.204081632655,58775.510204081635]
["CO","Lime",null,"COLime",0,84671.444555323702,120959.20650760531,343000,323000,130000,116000,113000,115000,111000,123000,333750,287500,325000,330000,382500,407500,420000,407142.85714285716,{"$f":"(2410/6)*1000","v":401666.66666666669},{"$f":"(2510/7)*1000","v":358571.42857142858},445000,444992.7821062532,460013.28046388563,473758.50340136053,454081.63265306124,419268.7074829932,432891.15646258503,420782.31292517006,426836.73469387757,407159.86394557822,387482.99319727893]
["CT","Lime",null,"CTLime",0,0,0,0,0,0,0,0,0,0,0,0,0,0,0,0,0,0,0,0,0,0,0,0,0,0,0,0,0,0,0,0]
["DC","Lime",null,{"$f":"A115&B115","v":"DCLime"},0,0,0,0,0,0,0,0,0,0,0,0,0,0,0,0,0,0,0,0,0,0,0,0,0,0,0,0,0,0,0,0,null,null,null,null,null,"2011 total","2012 total","2013 total","2014 total","2015 total","2016 total","2017 total","2018 total","2019 total","2020 total","2021 total"]
["DE","Lime",null,"DELime",0,0,0,0,0,0,0,0,0,0,0,0,0,0,0,0,0,0,0,0,0,0,0,0,0,0,0,0,0,0,0,0,null,null,null,null,null,1250000,1170000,1180000,1180000,1070000,1010000,905000,954000,1030000,930000,1010000,"Northeast","Massachusetts and Pennsylvania"]
["FL","Lime",null,"FLLime",0,0,0,0,0,0,0,0,0,0,0,0,0,0,0,0,0,0,0,{"$f":"(1710/11)*1000","v":155454.54545454547},{"$f":"(1980/11)*1000","v":180000},147692.30769230769,121805.97230798793,99723.671099187297,{"$f":"($Z117/($Z$117+$Z$118+$Z$147+$Z$155+$Z$157))*AS$118","v":77911.170928667561},74616.419919246298,84209.959623149392,90799.461641991918,93415.881561238231,96904.441453566629,77523.553162853292,91768.506056527593,null,null,null,null,null,7560000,7330000,7500000,7710000,6960000,6590000,6810000,7130000,6400000,6330000,6990000,"Midwest","Indiana, Iowa, Michigan, Minnesota, Missouri, Nebraska, North Dakota, Ohio, South Dakota, and Wisconsin"]
["GA","Lime",null,"GALime",0,0,0,110000,99000,112000,102000,0,0,0,0,0,0,0,0,0,0,0,0,{"$f":"(1710/11)*1000","v":155454.54545454547},{"$f":"(1980/11)*1000","v":180000},147692.30769230769,121805.97230798793,99723.671099187297,77911.170928667561,74616.419919246298,84209.959623149392,90799.461641991918,93415.881561238231,96904.441453566629,77523.553162853292,91768.506056527593,null,null,null,null,null,807000,817000,839000,804000,770000,869000,937000,964000,1000000,800000,947000,"South Atlantic","Florida, Georgia, Puerto Rico, Virginia, and West Virginia"]
["HI","Lime",null,"HILime",0,0,0,0,0,0,0,0,0,0,0,0,0,0,0,0,0,0,0,0,0,0,0,0,0,0,0,0,0,0,0,0,null,null,null,null,null,4740000,4660000,4650000,4630000,4560000,4090000,4220000,4280000,3570000,3110000,3240000,"East South Central","Alabama, Kentucky, and Tennessee"]
["ID","Lime",null,"IDLime",0,139405.48550001511,161480.54068765306,343000,323000,204000,223000,202000,222000,207000,188000,333750,287500,325000,330000,382500,407500,93250,78376.75,{"$f":"(260/4)*1000","v":65000},{"$f":"(264/4)*1000","v":66000},67500,67498.905150948529,69777.295351263558,{"$f":"($Z120/($Z$110+$Z$112+$Z$113+$Z$120+$Z$134+$Z$136+$Z$145+$Z$153+$Z$156+$Z$159))*AS$121","v":71862.244897959186},68877.551020408166,63596.938775510207,65663.265306122456,63826.530612244904,64744.897959183676,61760.204081632655,58775.510204081635,null,null,null,null,null,1810000,1810000,1790000,2000000,1900000,1980000,1910000,1950000,2090000,1970000,2100000,"West South Central","Arkansas, Louisiana, Oklahoma, and Texas"]
["IL","Lime",null,"ILLime",1241041.4587680302,1055369.0767788561,1063533.8232181198,1296000,1367000,1320000,1243000,1233000,1150000,1126000,1063000,1233333.3333333333,1240000,1236666.6666666667,1273333.3333333333,1253333.3333333333,1333333.3333333333,1306666.6666666667,1313333.3333333333,0,0,0,0,0,0,0,0,0,0,0,0,0,null,null,null,null,null,2940000,3030000,3200000,3130000,3000000,2770000,2860000,2780000,2820000,2690000,2560000,"West","Arizona, California, Colorado, Idaho, Montana, Nevada, Oregon, Utah, Washington, Wyoming"]
["IN","Lime",null,"INLime",1241041.4587680302,1055369.0767788561,1063533.8232181198,1296000,1367000,1320000,1243000,1233000,1150000,1126000,1063000,1233333.3333333333,1240000,1236666.6666666667,1273333.3333333333,1253333.3333333333,1333333.3333333333,1306666.6666666667,1313333.3333333333,{"$f":"(2900/2)*1000","v":1450000},{"$f":"(3540/2)*1000","v":1770000},1790000,1768141.8099048946,1805734.0364126491,{"$f":"($Z122/($Z$122+$Z$123+$Z$130+$Z$131+$Z$133+$Z$135+$Z$142+$Z$143+$Z$150+$Z$158))*AS$117","v":1838780.990253251},1659911.2441196663,1571668.8360270979,1624137.2948929495,1700455.053243279,1526355.1670065897,1509660.6573674551,1667066.0339650097,null,null,null,null,null,{"$f":"SUM(AP116:AP121)","v":19107000},18817000,19159000,19454000,18260000,17309000,{"$f":"SUM(AV116:AV121)","v":17642000},{"$f":"SUM(AW116:AW121)","v":18058000},{"$f":"SUM(AX116:AX121)","v":16910000},{"$f":"SUM(AY116:AY121)","v":15830000},{"$f":"SUM(AZ116:AZ121)","v":16847000}]
["IA","Lime",null,"IALime",0,0,0,84000,87000,92000,92000,81000,77000,80000,78000,84000,84000,121108.33333333333,122286.33333333333,121938.33333333333,117391.33333333333,112666.66666666667,114312.66666666666,{"$f":"(298/3)*1000","v":99333.333333333328},{"$f":"(354/3)*1000","v":118000},147692.30769230769,145888.79566039523,148990.51783035175,151717.21105656389,136958.72749075029,129677.87559828225,134007.03077758756,140303.98376566803,125939.05976160946,124561.60129546685,137549.06683338282,null,null,null,null,"Old Totals",{"$f":"SUM(Z108:Z159)","v":19107000.000000004},19222666.66666666,18932666.666666672,{"$f":"SUM(AC108:AC159)","v":19454000}]
["KS","Lime",null,"KSLime",0,0,0,43000,38000,0,0,0,0,0,0,0,0,0,0,0,0,0,0,0,0,0,0,0,0,0,0,0,0,0,0,0]
["KY","Lime",null,"KYLime",600864.85832652939,618706.34128640115,599352.86824518431,837000,1150000,863000,836000,830000,796000,643000,616000,776666.66666666663,756666.66666666674,840000,943333.33333333337,930000,953333.33333333337,880000,900000,{"$f":"(2340/3)*1000","v":780000},{"$f":"(2600/3)*1000","v":866666.66666666663},933333.33333333337,957537.39797923784,1014367.7043186551,{"$f":"($Z125/($Z$108+$Z$125+$Z$151))*AS$119","v":1067874.7940691928},1051729.8187808895,943327.84184513998,973311.36738056014,987149.91762767709,823393.73970345967,717298.18780889618,747281.71334431635,null,null,null,null,"New Totals",{"$f":"SUM(Z108:Z159)","v":19107000.000000004},18817000,19159000,19454000,18260000,17308999.999999993,17642000,18057999.999999996,16910000.000000004,{"$f":"SUM(AI108:AI159)","v":15830000},{"$f":"SUM(AJ108:AJ159)","v":16846999.999999996}]
["LA","Lime",null,"LALime",76506.698116060346,0,0,110000,99000,112000,102000,112000,113000,109000,101000,0,0,0,0,0,0,0,0,{"$f":"(1710/11)*1000","v":155454.54545454547},{"$f":"(1980/11)*1000","v":180000},147692.30769230769,150136.86480427138,157680.90136023029,{"$f":"($Z126/($Z$111+$Z$126+$Z$152+$Z$144))*AS$120","v":164736.1647361647},156499.35649935648,163088.80308880305,157323.03732303728,160617.76061776059,172149.2921492921,162265.12226512222,172972.97297297293,null,null,null,null,null,{"$f":"AP125=AP122","v":true},true,true,true,true,true,{"$f":"AV125=AV122","v":true},{"$f":"AW125=AW122","v":true},{"$f":"AX125=AX122","v":true},{"$f":"AY125=AY122","v":true},{"$f":"AZ125=AZ122","v":true}]
["ME","Lime",null,"MELime",0,0,0,0,0,0,0,0,0,0,0,0,0,0,0,0,0,0,0,0,0,0,0,0,0,0,0,0,0,0,0,0]
["MD","Lime",null,"MDLime",0,0,0,0,0,0,0,0,0,0,0,0,0,0,0,0,0,0,0,0,0,0,0,0,0,0,0,0,0,0,0,0]
["MA","Lime",null,"MALime",0,0,0,110000,99000,112000,102000,112000,113000,109000,101000,0,0,0,0,0,0,0,0,{"$f":"(1710/11)*1000","v":155454.54545454547},{"$f":"(1980/11)*1000","v":180000},147692.30769230769,140204.78733095271,137362.5968392145,{"$f":"($Z129/($Z$129+$Z$146))*AS$116","v":134297.56965026676},121778.304682869,114949.61470065205,102999.40723177238,108576.17071724955,117225.84469472436,105844.69472436277,114949.61470065205]
["MI","Lime",null,"MILime",0,556109.95191871538,576975.4150412773,530000,781000,761000,802000,584000,653000,637000,617000,0,0,0,0,0,0,0,0,{"$f":"(1710/11)*1000","v":155454.54545454547},{"$f":"(1980/11)*1000","v":180000},518000,511674.55727974052,522553.20159874437,{"$f":"($Z130/($Z$122+$Z$123+$Z$130+$Z$131+$Z$133+$Z$135+$Z$142+$Z$143+$Z$150+$Z$158))*AS$117","v":532116.51002859452},480354.2036055795,454818.13243689208,470001.74232097645,492086.99306146288,441705.01480972825,436873.86621024687,482424.69586250006]
["MN","Lime",null,"MNLime",0,0,0,110000,99000,112000,102000,112000,113000,109000,101000,0,0,0,0,0,0,0,0,{"$f":"(1710/11)*1000","v":155454.54545454547},{"$f":"(1980/11)*1000","v":180000},147692.30769230769,145888.79566039523,148990.51783035175,151717.21105656389,136958.72749075029,129677.87559828225,134007.03077758756,140303.98376566803,125939.05976160946,124561.60129546685,137549.06683338282]
["MS","Lime",null,"MSLime",0,0,0,0,0,0,0,0,0,0,0,0,0,0,0,0,0,0,0,0,0,0,0,0,0,0,0,0,0,0,0,0]
["MO","Lime",null,"MOLime",1241041.4587680302,1055369.0767788561,1063533.8232181198,1296000,1367000,1320000,1243000,1233000,1150000,1126000,1063000,1233333.3333333333,1240000,1236666.6666666667,1273333.3333333333,1253333.3333333333,1333333.3333333333,1306666.6666666667,1313333.3333333333,{"$f":"(2900/2)*1000","v":1450000},{"$f":"(3540/2)*1000","v":1770000},1790000,1768141.8099048946,1805734.0364126491,{"$f":"($Z133/($Z$122+$Z$123+$Z$130+$Z$131+$Z$133+$Z$135+$Z$142+$Z$143+$Z$150+$Z$158))*AS$117","v":1838780.990253251},1659911.2441196663,1571668.8360270979,1624137.2948929495,1700455.053243279,1526355.1670065897,1509660.6573674551,1667066.0339650097]
["MT","Lime",null,"MTLime",0,84671.444555323702,120959.20650760531,343000,323000,130000,116000,113000,115000,111000,123000,333750,287500,325000,330000,382500,407500,420000,407142.85714285716,{"$f":"(2410/6)*1000","v":401666.66666666669},{"$f":"(2510/7)*1000","v":358571.42857142858},445000,444992.7821062532,460013.28046388563,{"$f":"($Z134/($Z$110+$Z$112+$Z$113+$Z$120+$Z$134+$Z$136+$Z$145+$Z$153+$Z$156+$Z$159))*AS$121","v":473758.50340136053},454081.63265306124,419268.7074829932,432891.15646258503,420782.31292517006,426836.73469387757,407159.86394557822,387482.99319727893]
["NE","Lime",null,"NELime",0,0,0,85000,87000,92000,92000,81000,77000,80000,78000,84000,84000,121108.33333333333,122286.33333333333,121938.33333333333,117391.33333333333,112666.66666666667,114312.66666666666,{"$f":"(298/3)*1000","v":99333.333333333328},{"$f":"(354/3)*1000","v":118000},147692.30769230769,145888.79566039523,148990.51783035175,{"$f":"($Z135/($Z$122+$Z$123+$Z$130+$Z$131+$Z$133+$Z$135+$Z$142+$Z$143+$Z$150+$Z$158))*AS$117","v":151717.21105656389},136958.72749075029,129677.87559828225,134007.03077758756,140303.98376566803,125939.05976160946,124561.60129546685,137549.06683338282]
["NV","Lime",null,"NVLime",0,451480.23828963679,505911.88121805922,343000,323000,585000,1170000,686000,603000,603000,536000,333750,287500,325000,330000,382500,407500,420000,407142.85714285716,{"$f":"(2410/6)*1000","v":401666.66666666669},{"$f":"(2510/7)*1000","v":358571.42857142858},445000,444992.7821062532,460013.28046388563,{"$f":"($Z136/($Z$110+$Z$112+$Z$113+$Z$120+$Z$134+$Z$136+$Z$145+$Z$153+$Z$156+$Z$159))*AS$121","v":473758.50340136053},454081.63265306124,419268.7074829932,432891.15646258503,420782.31292517006,426836.73469387757,407159.86394557822,387482.99319727893]
["NH","Lime",null,"NHLime",0,0,0,0,0,0,0,0,0,0,0,0,0,0,0,0,0,0,0,0,0,0,0,0,0,0,0,0,0,0,0,0]
["NJ","Lime",null,"NJLime",0,0,0,0,0,0,0,0,0,0,0,0,0,0,0,0,0,0,0,0,0,0,0,0,0,0,0,0,0,0,0,0]
["NM","Lime",null,"NMLime",0,0,0,343000,323000,0,0,0,0,0,0,333750,287500,325000,330000,382500,407500,420000,407142.85714285716,0,{"$f":"(2510/7)*1000","v":358571.42857142858},0,0,0,0,0,0,0,0,0,0,0]
["NY","Lime",null,"NYLime",0,0,0,0,0,0,0,0,0,0,0,0,0,0,0,0,0,0,0,0,0,0,{"$f":"(Z140+(($AC140-$Z140)/3))*(AQ$122/AQ$123)","v":0},{"$f":"(AA140+(($AC140-$Z140)/3))*(AR$122/AR$123)","v":0},0,0,0,0,0,0,0,0]
["NC","Lime",null,"NCLime",0,0,0,0,0,0,0,0,0,0,0,0,0,0,0,0,0,0,0,0,0,0,0,0,0,0,0,0,0,0,0,0]
["ND","Lime",null,"NDLime",74389.912002177269,88905.016783089886,100698.53941758141,110000,99000,112000,102000,112000,113000,108000,112000,0,0,0,0,0,0,0,0,{"$f":"(1710/11)*1000","v":155454.54545454547},{"$f":"(1980/11)*1000","v":180000},147692.30769230769,145888.79566039523,148990.51783035175,{"$f":"($Z142/($Z$122+$Z$123+$Z$130+$Z$131+$Z$133+$Z$135+$Z$142+$Z$143+$Z$150+$Z$158))*AS$117","v":151717.21105656389},136958.72749075029,129677.87559828225,134007.03077758756,140303.98376566803,125939.05976160946,124561.60129546685,137549.06683338282]
["OH","Lime",null,"OHLime",0,0,0,1850000,1820000,1870000,1960000,2020000,1920000,1850000,1700000,1900000,1630000,1880000,1880000,1790000,1850000,1690000,1670000,{"$f":"1130*1000","v":1130000},{"$f":"1610*1000","v":1610000},1730000,1708874.4866678591,1745206.6385440689,1777145.873261522,1604271.7610765491,1518987.1990652957,1569696.9386395547,1643456.5598384764,1475192.423978436,1459057.5068411718,1611186.725563948]
["OK","Lime",null,"OKLime",76506.698116060346,0,0,43000,38000,112000,102000,112000,113000,109000,101000,0,0,0,0,0,0,0,0,{"$f":"(1710/11)*1000","v":155454.54545454547},{"$f":"(1980/11)*1000","v":180000},147692.30769230769,150136.86480427138,157680.90136023029,{"$f":"($Z144/($Z$111+$Z$126+$Z$152+$Z$144))*AS$120","v":164736.1647361647},156499.35649935648,163088.80308880305,157323.03732303728,160617.76061776059,172149.2921492921,162265.12226512222,{"$f":"($Z144/($Z$111+$Z$126+$Z$152+$Z$144))*AZ$120","v":172972.97297297293}]
["OR","Lime",null,"ORLime",0,139405.48550001511,161480.54068765306,181000,190000,204000,223000,202000,222000,207000,188000,127000,96000,100186,126097,122754,107577,93250,78376.75,{"$f":"(260/4)*1000","v":65000},{"$f":"(264/4)*1000","v":66000},67500,67498.905150948529,69777.295351263558,{"$f":"($Z145/($Z$110+$Z$112+$Z$113+$Z$120+$Z$134+$Z$136+$Z$145+$Z$153+$Z$156+$Z$159))*AS$121","v":71862.244897959186},68877.551020408166,63596.938775510207,65663.265306122456,63826.530612244904,64744.897959183676,61760.204081632655,58775.510204081635]
["PA","Lime",null,"PALime",1474190.3293114398,1537693.9127279324,1505942.1210196861,1350000,1340000,1390000,1510000,1530000,1640000,1590000,1540000,1280000,1230000,1190000,1220000,1100000,1160000,1100000,1130000,{"$f":"985*1000","v":985000},{"$f":"1110*1000","v":1110000},1150000,1091698.7346863244,1069568.1368470087,{"$f":"($Z146/($Z$129+$Z$146))*AS$116","v":1045702.4303497332},948221.695317131,895050.38529934792,802000.59276822757,845423.82928275038,912774.15530527558,824155.30527563719,895050.38529934792]
["PR","Lime",null,"PRLime",26308.627415404153,27215.821464211193,27215.821464211193,110000,99000,112000,102000,112000,113000,23000,27000,0,0,0,0,0,0,0,0,{"$f":"(1710/11)*1000","v":155454.54545454547},{"$f":"(1980/11)*1000","v":180000},147692.30769230769,121805.97230798793,99723.671099187297,{"$f":"($Z147/($Z$117+$Z$118+$Z$147+$Z$155+$Z$157))*AS$118","v":77911.170928667561},74616.419919246298,84209.959623149392,90799.461641991918,93415.881561238231,96904.441453566629,77523.553162853292,91768.506056527593]
["RI","Lime",null,"RILime",0,0,0,0,0,0,0,0,0,0,0,0,0,0,0,0,0,0,0,0,0,0,0,0,0,0,0,0,0,0,0,0]
["SC","Lime",null,"SCLime",0,0,0,110000,99000,0,0,0,0,0,0,0,0,0,0,0,0,0,0,0,0,0,0,0,0,0,0,0,0,0,0,0]
["SD","Lime",null,"SDLime",0,0,0,85000,87000,92000,92000,81000,77000,80000,78000,84000,84000,121108.33333333333,122286.33333333299,121938.33333333333,117391.33333333333,112666.66666666667,114312.66666666666,{"$f":"(298/3)*1000","v":99333.333333333328},{"$f":"(354/3)*1000","v":118000},147692.30769230769,145888.79566039523,148990.51783035175,{"$f":"($Z150/($Z$122+$Z$123+$Z$130+$Z$131+$Z$133+$Z$135+$Z$142+$Z$143+$Z$150+$Z$158))*AS$117","v":151717.21105656389},136958.72749075029,129677.87559828225,134007.03077758756,140303.98376566803,125939.05976160946,124561.60129546685,137549.06683338282]
["TN","Lime",null,"TNLime",600864.85832652939,618706.34128640115,599352.86824518431,837000,1150000,863000,836000,830000,796000,643000,616000,776666.66666666663,756666.66666666674,840000,943333.33333333337,930000,953333.33333333337,880000,900000,{"$f":"(2340/3)*1000","v":780000},{"$f":"(2600/3)*1000","v":866666.66666666663},933333.33333333337,957537.39797923784,1014367.7043186551,{"$f":"($Z151/($Z$108+$Z$125+$Z$151))*AS$119","v":1067874.7940691928},1051729.8187808895,943327.84184513998,973311.36738056014,987149.91762767709,823393.73970345967,717298.18780889618,747281.71334431635]
["TX","Lime",null,"TXLime",1213825.6373038194,1245577.4290120658,1337204.0279415767,1600000,1670000,1620000,1470000,1360000,1370000,1210000,1370000,1590000,1530000,1630000,1630000,1610000,1650000,1620000,1500000,{"$f":"1040*1000","v":1040000},{"$f":"1280*1000","v":1280000},1350000,1372344.779851543,1441301.988995855,{"$f":"($Z152/($Z$111+$Z$126+$Z$152+$Z$144))*AS$120","v":1505791.5057915056},1430501.9305019304,1490733.5907335905,1438030.8880308878,1468146.7181467181,1573552.1235521233,1483204.6332046331,1581081.0810810809]
["UT","Lime",null,"UTLime",0,451480.23828963679,505911.88121805922,343000,323000,585000,1170000,686000,603000,603000,536000,333750,287500,325000,330000,382500,407500,420000,407142.85714285716,{"$f":"(2410/6)*1000","v":401666.66666666669},{"$f":"(2510/7)*1000","v":358571.42857142858},445000,444992.7821062532,460013.28046388563,{"$f":"($Z153/($Z$110+$Z$112+$Z$113+$Z$120+$Z$134+$Z$136+$Z$145+$Z$153+$Z$156+$Z$159))*AS$121","v":473758.50340136053},454081.63265306124,419268.7074829932,432891.15646258503,420782.31292517006,426836.73469387757,407159.86394557822,387482.99319727893]
["VT","Lime",null,"VTLime",0,0,0,0,0,0,0,0,0,0,0,0,0,0,0,0,0,0,0,0,0,0,0,0,0,0,0,0,0,0,0,0]
["VA","Lime",null,"VALime",767486.16529075557,748435.09026580781,763857.38909552747,722000,807000,859000,818000,766000,730000,742000,756000,0,0,0,0,0,0,0,0,{"$f":"(1710/11)*1000","v":155454.54545454547},{"$f":"(1980/11)*1000","v":180000},147692.30769230769,121805.97230798793,99723.671099187297,{"$f":"($Z155/($Z$117+$Z$118+$Z$147+$Z$155+$Z$157))*AS$118","v":77911.170928667561},74616.419919246298,84209.959623149392,90799.461641991918,93415.881561238231,96904.441453566629,77523.553162853292,91768.506056527593]
["WA","Lime",null,"WALime",0,139405.48550001511,161480.54068765306,181000,190000,204000,223000,202000,222000,207000,188000,127000,96000,100186,126097,122754,107577,93250,78376.75,{"$f":"(260/4)*1000","v":65000},{"$f":"(264/4)*1000","v":66000},67500,67498.905150948529,69777.295351263558,{"$f":"($Z156/($Z$110+$Z$112+$Z$113+$Z$120+$Z$134+$Z$136+$Z$145+$Z$153+$Z$156+$Z$159))*AS$121","v":71862.244897959186},68877.551020408166,63596.938775510207,65663.265306122456,63826.530612244904,64744.897959183676,61760.204081632655,58775.510204081635]
["WV","Lime",null,"WVLime",600864.85832652939,618706.34128640115,599352.86824518431,836000,1150000,863000,836000,830000,796000,643000,616000,776666.66666666663,756666.66666666674,840000,943333.33333333337,930000,953333.33333333337,880000,900000,{"$f":"(2340/3)*1000","v":780000},{"$f":"(2600/3)*1000","v":866666.66666666663},933333.33333333337,769746.07500186819,630198.19930736418,{"$f":"($Z157/($Z$117+$Z$118+$Z$147+$Z$155+$Z$157))*AS$118","v":492355.31628532981},471534.32032301486,532160.16150740243,573802.15343203233,590336.47375504719,612382.2341857336,489905.78734858683,579925.97577388969]
["WI","Lime",null,"WILime",418216.45650004537,486256.01016057329,480812.84586773108,619000,618000,582000,597000,551000,568000,507000,511000,617450,603000,757278,850432,888497,921891,959000,851715,{"$f":"751*1000","v":751000},{"$f":"866*1000","v":866000},939000,927533.60865960678,947253.77664328367,{"$f":"($Z158/($Z$122+$Z$123+$Z$130+$Z$131+$Z$133+$Z$135+$Z$142+$Z$143+$Z$150+$Z$158))*AS$117","v":964589.58092056017},870757.90962478588,824467.61845220393,851991.57536563103,892026.42178516136,800696.9283906077,791939.30573633546,874511.17647661688]
["WY","Lime",null,"WYLime",0,84671.444555323702,120959.20650760531,344000,323000,130000,116000,113000,115000,111000,123000,333750,287500,325000,330000,382500,407500,420000,407142.85714285716,{"$f":"(2410/6)*1000","v":401666.66666666669},{"$f":"(2510/7)*1000","v":358571.42857142858},445000,444992.7821062532,460013.28046388563,{"$f":"($Z159/($Z$110+$Z$112+$Z$113+$Z$120+$Z$134+$Z$136+$Z$145+$Z$153+$Z$156+$Z$159))*AS$121","v":473758.50340136053},454081.63265306124,419268.7074829932,432891.15646258503,420782.31292517006,426836.73469387757,407159.86394557822,387482.99319727893,null,null,null,null,"Table 6: LIMESTONE, DOLOMITE, CALCAREOUS MARL, AND MARBLE SOLD OR USED BY PRODUCERS IN THE UNITED STATES"]
["AL","Limestone","Do",{"$f":"A160&\" \"&B160&\" \"&C160","v":"AL Limestone Do"},0,0,0,0,2600000,1142857.142857143,1436363.6363636362,2072727.2727272725,1592307.6923076925,2430000,1376470.5882352942,1137500,1120000,993750,1120000,1112500,2120000,1840000,1340000,0,1070000,2200000,2110000,2190000,{"$f":"30700000*$AB160/($AB$160+$AB$212)","v":2368193.0257132794},873018,788000,661000,660000,787000,1080000,773000,null,null,null,null,"Source: USGS Mineral Yearbook, 2021. Crushed Stone Stats and Info, Table 6. Limestone, Dolomite, Calcareous Marl, and Marble Sold or Used by Producers in the United States, by State. (http://minerals.usgs.gov/minerals/pubs/commodity/stone_crushed/)","Alabama"]
["AK","Limestone","Do","AK Limestone Do",0,0,0,0,0,0,0,0,0,0,0,0,0,0,0,0,0,0,0,0,0,0,0,0,0,0,0,0,0,0,0,0,null,null,null,null,null,"Alaska"]
["AZ","Limestone","Do","AZ Limestone Do",0,0,0,0,0,0,0,0,0,0,0,0,0,0,0,0,0,0,0,0,0,0,0,0,0,0,0,0,0,0,0,0,null,null,null,null,null,"Arizona"]
["AR","Limestone","Do","AR Limestone Do",0,0,0,0,2600000,1142857.142857143,1436363.6363636362,2072727.2727272725,1592307.6923076925,2240000,1376470.5882352942,1137500,1120000,993750,1120000,1112500,573000,591000,0,{"$f":"820*1000","v":820000},0,646246,657000,757160,786711,692846,694000,596000,514000,537000,471000,551000,null,null,null,null,null,"Arkansas"]
["CA","Limestone","Do","CA Limestone Do",0,0,0,0,208000,237000,384000,282000,252000,356000,256000,234000,316000,250000,895000,1112500,94000,102000,210000,{"$f":"131*1000","v":131000},226266,125329,132000,162160,63416,68707,61000,53000,60000,60000,57000,67000,null,null,null,null,null,"California"]
["CO","Limestone","Do","CO Limestone Do",0,0,0,0,0,0,0,0,0,0,1376470.5882352942,1137500,1120000,993750,1120000,1112500,22000,0,0,0,0,22965,44000,23880,31184,40864,{"$f":"908*1000*AD165/(AD217+AD165)","v":47456.660454991361},1730000,1039725.6857855362,1060000,1504290.4290429044,1340000,null,null,null,null,null,"Colorado"]
["CT","Limestone","Do","CT Limestone Do",0,0,0,0,408000,1142857.142857143,1436363.6363636362,2072727.2727272725,1592307.6923076925,392000,1376470.5882352942,1137500,1120000,993750,1120000,1112500,661000,0,0,0,0,0,0,0,0,22687,484000,25000,26000,49587.628865979379,440000,514000,null,null,null,null,null,"Connecticut"]
["DC","Limestone","Do",{"$f":"A167&\" \"&B167&\" \"&C167","v":"DC Limestone Do"},0,0,0,0,null,null,null,null,null,null,null,null,null,0,0,0,0,0,0,0,0,0,0,0,0,0,0,0,0,0,0,0,null,null,null,null,null,"District of Columbia"]
["DE","Limestone","Do","DE Limestone Do",0,0,0,0,0,0,0,0,0,0,0,0,0,0,0,0,0,0,0,0,0,0,0,0,0,0,0,0,0,0,0,0,null,null,null,null,null,"Delaware"]
["FL","Limestone","Do","FL Limestone Do",0,0,0,0,2600000,1120000,1436363.6363636362,1060000,1310000,2350000,2280000,1820000,1200000,1880000,1030000,982000,713000,234000,923000,{"$f":"171*1000","v":171000},0,0,0,0,0,{"$f":"60500000*X169/(X169+X221)","v":222622.71093800434},{"$f":"72300*1000*AD169/(AD169+AD221)","v":266043.33885649114},266779.28170256718,280762.19577801204,281498.13862408808,295481.052699533,308360.05250586383,null,null,null,null,null,"Florida"]
["GA","Limestone","Do","GA Limestone Do",0,0,0,0,0,0,0,109000,1592307.6923076925,1210000,1376470.5882352942,0,0,0,0,0,0,0,0,0,0,0,0,0,0,0,0,0,0,0,0,0,null,null,null,null,null,"Georgia"]
["HI","Limestone","Do","HI Limestone Do",0,0,0,0,0,0,0,0,0,0,0,0,0,0,0,0,0,0,0,0,0,0,0,0,0,0,0,0,0,0,0,0,null,null,null,null,null,"Hawaii"]
["ID","Limestone","Do","ID Limestone Do",0,0,0,0,0,0,0,0,0,0,0,0,0,0,0,0,0,0,0,0,0,0,0,0,0,0,0,0,0,0,0,0,null,null,null,null,null,"Idaho"]
["IL","Limestone","Do","IL Limestone Do",0,0,0,0,2600000,13400000,8800000,8850000,17000000,16200000,17400000,18700000,16700000,15200000,20200000,19500000,20300000,21600000,16700000,{"$f":"11100*1000","v":11100000},9550000,9870000,10800000,9950000,8760000,{"$f":"54000000*AC173/(AC173+AC225)","v":9139103.5548686236},{"$f":"51900*1000*AD173/(AD173+AD225)","v":8783693.972179288},8326738.7944358578,8174420.4018547144,8462132.9211746529,9020633.6939721797,8597527.047913447,null,null,null,null,null,"Illinois"]
["IN","Limestone","Do","IN Limestone Do",0,0,0,0,5840000,6760000,7170000,7170000,11500000,12900000,11000000,10700000,9040000,7390000,7900000,9750000,7320000,6720000,4700000,{"$f":"3830*1000","v":3830000},4050000,4360000,4620000,{"$f":"41000000*$AA174/($AA$174+$AA$226)","v":4444392.3040825902},{"$f":"43900000*$AA174/($AA$174+$AA$226)","v":4758751.7597372122},{"$f":"49300000*AA174/(AA174+AA226)","v":5344110.7461285777},{"$f":"46800*1000*AD174/(AD174+AD226)","v":5073111.2153918343},5203190.9901454709,5419990.6147348657,5582590.3331769127,5972829.6574378228,2400000,null,null,null,null,null,"Indiana"]
["IA","Limestone","Do","IA Limestone Do",0,0,0,0,33000,1142857.142857143,42000,41000,72000,53000,1376470.5882352942,1137500,0,993750,1120000,1112500,4070000,0,0,0,0,203249,155000,203463,218800,209050,252000,228000,2530000,2020000,921000,1040000,null,null,null,null,null,"Iowa"]
["KS","Limestone","Do","KS Limestone Do",0,0,0,0,0,0,0,0,0,0,0,0,0,0,0,0,0,0,0,0,0,0,0,0,0,0,0,0,0,0,0,0,null,null,null,null,null,"Kansas"]
["KY","Limestone","Do","KY Limestone Do",0,0,0,0,0,0,0,0,0,915000,1376470.5882352942,1137500,1120000,993750,1120000,1112500,0,0,0,0,0,0,0,0,0,0,0,0,0,0,0,0,null,null,null,null,null,"Kentucky"]
["LA","Limestone","Do","LA Limestone Do",0,0,0,0,0,0,0,0,0,0,0,0,0,0,0,0,0,0,0,0,0,0,0,0,0,0,0,0,0,0,0,0,null,null,null,null,null,"Louisiana"]
["ME","Limestone","Do","ME Limestone Do",0,0,0,0,0,0,0,0,0,392000,0,0,0,0,0,0,0,0,0,0,0,0,0,0,0,0,0,0,0,0,0,0,null,null,null,null,null,"Maine"]
["MD","Limestone","Do","MD Limestone Do",0,0,0,0,0,0,0,0,0,0,0,0,0,0,0,0,0,0,0,0,0,0,0,0,0,0,0,0,0,0,0,0,null,null,null,null,null,"Maryland"]
["MA","Limestone","Do","MA Limestone Do",0,0,0,0,2600000,1142857.142857143,0,0,0,0,1376470.5882352942,1137500,1120000,993750,1120000,1112500,154000,0,0,0,0,0,923000,808503,152667,876028,850000,889000,1150000,776000,802000,219000,null,null,null,null,null,"Massachusetts"]
["MI","Limestone","Do","MI Limestone Do",0,0,0,0,6810000,8110000,8330000,8120000,8970000,9710000,7770000,8110000,8200000,5980000,7860000,7380000,6620000,7120000,2450000,{"$f":"3860*1000","v":3860000},4670000,4570000,4880000,{"$f":"25800000*$AA182/($AA$182+$AA$234)","v":5780716.2534435261},{"$f":"25500000*$AA182/($AA$182+$AA$234)","v":5713498.6225895314},{"$f":"27200000*AA182/(AA182+AA234)","v":6094398.5307621667},{"$f":"27400*1000*AD182/(AD182+AD234)","v":6139210.2846648302},8603856.7493112944,8043709.8255280079,7976492.1946740113,6990633.608815426,7752433.4251606967,null,null,null,null,null,"Michigan"]
["MN","Limestone","Do","MN Limestone Do",0,0,0,0,2600000,1142857.142857143,802000,2072727.2727272725,1592307.6923076925,3300000,1376470.5882352942,1137500,1120000,993750,1120000,1112500,4000000,2770000,2130000,{"$f":"1600*1000","v":1600000},1590000,1760000,1300000,{"$f":"4700000*$AA183/($AA$183+$AA$235)","v":1578811.3695090439},{"$f":"4910000*$AA183/($AA$183+$AA$235)","v":1649354.0051679586},1300000,1400000,1370000,1460000,1464397.5903614457,1534759.0361445781,1679879.5180722889,null,null,null,null,null,"Minnesota"]
["MS","Limestone","Do","MS Limestone Do",0,0,0,0,0,0,0,0,0,0,0,0,0,0,0,0,0,0,0,0,0,0,0,0,0,0,0,0,0,0,0,0,null,null,null,null,null,"Mississippi"]
["MO","Limestone","Do","MO Limestone Do",0,0,0,0,2960000,2560000,2590000,2580000,2770000,4250000,3880000,3950000,3940000,3330000,3060000,3860000,3590000,2760000,2400000,{"$f":"2350*1000","v":2350000},2500000,1840000,1860000,1700000,1790000,1920000,2210000,1940000,2030000,2080000,1900000,1980000,null,null,null,null,null,"Missouri"]
["MT","Limestone","Do","MT Limestone Do",0,0,0,0,0,0,0,0,0,0,0,0,0,0,0,0,0,0,0,0,0,0,0,0,0,0,0,0,0,0,0,0,null,null,null,null,null,"Montana"]
["NE","Limestone","Do","NE Limestone Do",0,0,0,0,0,0,0,0,0,0,0,0,0,0,0,0,0,0,0,0,0,0,0,0,0,0,0,0,0,0,0,0,null,null,null,null,null,"Nebraska"]
["NV","Limestone","Do","NV Limestone Do",0,0,0,0,2600000,1142857.142857143,1436363.6363636362,2072727.2727272725,1592307.6923076925,63000,1376470.5882352942,1137500,1120000,993750,1120000,1112500,154000,0,0,0,0,0,0,0,0,{"$f":"3470000*U188/(U188+U240)","v":99438.034983252699},{"$f":"3850*1000*AD188/(AD188+AD240)","v":110327.50279121698},124942.31484927429,147294.38034983256,159903.23781168592,146721.25046520287,119784.14588760702,null,null,null,null,null,"Nevada"]
["NH","Limestone","Do","NH Limestone Do",0,0,0,0,0,0,0,0,0,0,0,0,0,0,0,0,0,0,0,0,0,0,0,0,0,0,0,0,0,0,0,0,null,null,null,null,null,"New Hampshire"]
["NJ","Limestone","Do","NJ Limestone Do",0,0,0,0,0,0,0,0,0,0,0,0,0,0,0,0,0,0,0,0,0,0,0,0,0,0,0,0,0,0,0,0,null,null,null,null,null,"New Jersey"]
["NM","Limestone","Do","NM Limestone Do",0,0,0,0,0,0,0,0,0,0,0,0,0,0,0,0,0,0,0,0,0,0,0,0,0,0,0,0,0,0,0,0,null,null,null,null,null,"New Mexico"]
["NY","Limestone","Do","NY Limestone Do",0,0,0,0,7540000,6310000,7880000,9950000,8250000,8760000,8380000,11100000,13600000,11300000,10700000,10200000,10900000,9320000,10100000,{"$f":"9870*1000","v":9870000},7240000,8830000,7840000,5540000,6810000,6250000,5910000,5270000,7650000,7140000,6910000,7990000,null,null,null,null,null,"New York"]
["NC","Limestone","Do","NC Limestone Do",0,0,0,0,245000,265000,251000,302000,279000,354000,325000,1137500,1120000,993750,1120000,1112500,436000,411000,0,0,0,289980,255000,292416,299275,351244,394000,326000,328000,323000,295000,496671.25171939476,null,null,null,null,null,"North Carolina"]
["ND","Limestone","Do","ND Limestone Do",0,0,0,0,0,0,0,0,0,0,0,0,0,0,0,0,0,0,0,0,0,0,0,0,0,0,0,0,0,0,0,0,null,null,null,null,null,"North Dakota"]
["OH","Limestone","Do","OH Limestone Do",0,0,0,0,14500000,14900000,15400000,16100000,12500000,9100000,9130000,8970000,10600000,8610000,6570000,8940000,6360000,3540000,2720000,{"$f":"1530*1000","v":1530000},2300000,1430000,1600000,1660000,{"$f":"54600000*$AA195/($AA$195+$AA$247)","v":1611808.1180811808},{"$f":"58500000*AB195/(AB195+AB247)","v":1879790.9407665506},1800000,1240000,1373126.2660364618,1408710.3308575286,1368939.9054692774,1509182.9844699525,null,null,null,null,null,"Ohio"]
["OK","Limestone","Do","OK Limestone Do",0,0,0,0,1820000,3740000,2990000,2950000,1560000,1700000,1376470.5882352942,1137500,1120000,993750,1120000,0,0,0,0,0,0,953,2000,266622,0,0,{"$f":"30800*1000*AB196/(AB196+AB248)","v":244646.53011554157},238778.36248868125,241930.55209249223,251387.12090392516,239566.40988963403,248234.93130011417,null,null,null,null,null,"Oklahoma"]
["OR","Limestone","Do","OR Limestone Do",0,0,0,0,0,0,0,0,0,0,0,0,0,0,0,0,0,0,0,0,0,0,0,0,0,0,0,0,0,0,0,0,null,null,null,null,null,"Oregon"]
["PA","Limestone","Do","PA Limestone Do",0,0,0,0,14700000,16000000,10800000,11500000,17500000,11400000,11800000,14100000,13000000,14300000,16000000,12400000,11800000,11800000,12000000,{"$f":"10200*1000","v":10200000},10700000,9690000,8580000,7680000,7500000,8990000,7360000,7800000,9220000,9420000,8830000,9380000,null,null,null,null,null,"Pennsylvania"]
["PR","Limestone","Do","PR Limestone Do",0,0,0,0,0,0,0,0,0,0,0,0,0,0,0,0,0,0,0,0,0,0,0,0,0,0,0,0,0,0,0,0,null,null,null,null,null,"Puerto Rico"]
["RI","Limestone","Do","RI Limestone Do",0,0,0,0,0,0,0,0,0,0,0,0,0,0,0,0,0,0,0,0,0,0,0,0,0,0,0,0,0,0,0,0,null,null,null,null,null,"Rhode Island"]
["SC","Limestone","Do",{"$f":"A201&\" \"&B201&\" \"&C201","v":"SC Limestone Do"},0,0,0,0,0,0,0,0,0,0,0,0,0,0,0,0,0,0,0,0,0,0,0,0,0,0,0,0,0,0,0,0,null,null,null,null,null,"South Carolina"]
["SD","Limestone","Do","SD Limestone Do",0,0,0,0,0,0,0,0,0,0,0,0,0,0,0,0,0,0,0,0,0,0,0,0,0,0,{"$f":"2520*1000*0/(0+AD254)","v":0},0,0,0,0,0,null,null,null,null,null,"South Dakota"]
["TN","Limestone","Do","TN Limestone Do",0,0,0,0,2600000,1142857.142857143,1436363.6363636362,2072727.2727272725,1592307.6923076925,5920000,1376470.5882352942,1137500,1120000,993750,1120000,1112500,154000,0,0,0,0,326335,0,348768,397562,{"$f":"39400000*AC203/(AC203+AC255)","v":406881.42277685012},{"$f":"42600*1000*AD203/(AD203+AD255)","v":439927.62970288872},451287.26333371451,447156.4874679597,502921.96165564988,515314.28925291437,567981.68154128839,null,null,null,null,null,"Tennessee"]
["TX","Limestone","Do","TX Limestone Do",0,0,0,0,2600000,1142857.142857143,1436363.6363636362,2072727.2727272725,1592307.6923076925,1480000,1376470.5882352942,1137500,1120000,993750,1120000,1112500,154000,0,0,0,0,0,0,0,0,0,0,0,0,0,6500000,6850000,null,null,null,null,null,"Texas"]
["UT","Limestone","Do","UT Limestone Do",0,0,0,0,2600000,1142857.142857143,1436363.6363636362,2072727.2727272725,1592307.6923076925,2800000,1376470.5882352942,1137500,1120000,993750,1120000,1112500,3630000,0,1800000,0,0,2350000,1490000,1410000,2060000,2260000,2510000,3720000,4530000,4790000,6500000,6750000,null,null,null,null,null,"Utah"]
["VT","Limestone","Do","VT Limestone Do",0,0,0,0,234000,1142857.142857143,1436363.6363636362,2072727.2727272725,1592307.6923076925,883000,1376470.5882352942,1137500,1120000,993750,1120000,1112500,205000,15000,0,0,0,80911,207000,{"$f":"2270000*$AA206/($AA$206+$AA$258)","v":245117.37089201878},{"$f":"2220000*$AA206/($AA$206+$AA$258)","v":239718.30985915492},{"$f":"2320000*AA206/(AA206+AA258)","v":250516.43192488264},{"$f":"2220*1000*AD206/(AD206+AD258)","v":239718.30985915495},235399.06103286386,206244.13145539907,262394.36619718309,242957.74647887325,256995.30516431929,null,null,null,null,null,"Vermont"]
["VA","Limestone","Do","VA Limestone Do",0,0,0,0,3650000,3650000,4480000,4880000,3800000,3470000,3850000,2480000,1320000,3970000,3440000,3400000,2870000,2910000,1900000,0,0,1440000,0,0,0,{"$f":"14700000*Z207/(Z207+Z259)","v":1362162.1621621621},{"$f":"20800*1000*AD207/(AD207+AD259)","v":1927413.1274131273},1714285.7142857143,1714285.7142857146,1667953.6679536684,1464092.6640926641,1417760.617760618,null,null,null,null,null,"Virginia"]
["WA","Limestone","Do","WA Limestone Do",0,0,0,0,2600000,1142857.142857143,1436363.6363636362,2072727.2727272725,1592307.6923076925,392000,1376470.5882352942,1137500,1120000,993750,1120000,1112500,152000,159000,0,{"$f":"102*1000","v":102000},197713,223565,102000,102000,136748,224212,284000,6000,7000,6866.1202185792354,6359.289617486339,11762.295081967213,null,null,null,null,null,"Washington"]
["WV","Limestone","Do","WV Limestone Do",0,0,0,0,2600000,1142857.142857143,1436363.6363636362,2072727.2727272725,1592307.6923076925,392000,1376470.5882352942,0,0,0,0,0,0,0,0,0,0,0,0,0,0,0,0,0,0,0,0,0,null,null,null,null,null,"West Virginia"]
["WI","Limestone","Do","WI Limestone Do",0,0,0,0,2600000,1142857.142857143,263000,1560000,2350000,2440000,1780000,3030000,2660000,1050000,1100000,1000000,781000,547000,482000,{"$f":"117*1000","v":117000},165290,124752,154000,154000,{"$f":"17200000*$AB210/($AB$210+$AB$262)","v":157161.50468731459},448695,420000,407000,414000,500000,436000,460000,null,null,null,null,null,"Wisconsin"]
["WY","Limestone","Do","WY Limestone Do",0,0,0,0,0,0,0,0,1592307.6923076925,392000,0,0,0,0,0,0,0,0,0,0,0,0,0,0,0,0,0,0,0,0,0,0,null,null,null,null,null,"Wyoming"]
["AL","Limestone","Li","AL Limestone Li",0,0,0,0,28300000,29500000,34800000,37300000,42900000,41400000,39500000,41200000,35000000,40100000,41300000,41000000,44300000,44400000,42900000,{"$f":"30400*1000","v":30400000},29000000,27000000,26900000,26200000,{"$f":"30700000*$AB212/($AB$160+$AB$212)","v":28331806.97428672},31200000,30400000,32100000,32600000,35900000,35000000,37400000,null,null,null,null,"Source: USGS Mineral Yearbook, 2021. Crushed Stone Stats and Info, Table 6. Limestone and Dolomite Sold or Used by Producers in the US, by State. (http://minerals.usgs.gov/minerals/pubs/commodity/stone_crushed/)","Alabama"]
["AK","Limestone","Li","AK Limestone Li",0,0,0,0,0,1627272.7272727273,737142.85714285716,1744444.4444444443,1712500,1976923.076923077,0,1725000,1527272.7272727273,0,0,0,1198333.3333333333,6000,0,0,0,0,0,0,0,0,0,0,0,0,0,0,null,null,null,null,null,"Alaska"]
["AZ","Limestone","Li","AZ Limestone Li",0,0,0,0,2710000,1627272.7272727273,4110000,4590000,4300000,4420000,4280000,4490000,4590000,5570000,5630000,6340000,6230000,6520000,6730000,{"$f":"3700*1000","v":3700000},3320000,3250000,2920000,3080000,3550000,3610000,3120000,3590000,4080000,3960000,4740000,4350000,null,null,null,null,null,"Arizona"]
["AR","Limestone","Li","AR Limestone Li",0,0,0,0,6870000,6890000,7260000,8370000,13300000,8420000,8660000,10600000,8060000,9060000,10500000,13500000,12800000,12800000,11400000,{"$f":"10600*1000","v":10600000},11300000,9250000,9720000,11100000,12800000,13200000,14000000,14100000,12500000,13700000,15400000,15900000,null,null,null,null,null,"Arkansas"]
["CA","Limestone","Li","CA Limestone Li",0,0,0,0,23300000,23200000,24900000,22900000,24800000,26500000,29200000,27700000,35400000,27500000,26300000,21700000,24000000,25800000,29200000,{"$f":"16400*1000","v":16400000},13400000,13700000,14100000,14800000,15200000,16600000,15700000,17000000,20500000,17500000,16300000,16900000,null,null,null,null,null,"California"]
["CO","Limestone","Li","CO Limestone Li",0,0,0,0,2550000,2600000,2840000,1744444.4444444443,2470000,2570000,3050000,4820000,4620000,1940000,1800000,1540000,1380000,1200000,1240000,{"$f":"507*1000","v":507000},406949,414265,482000,550404,804991,740997,{"$f":"908*1000*AD217/(AD217+AD165)","v":860543.33954500861},2280000,1370274.3142144638,1970000,2795709.5709570958,1880000,null,null,null,null,null,"Colorado"]
["CT","Limestone","Li","CT Limestone Li",0,0,0,0,1272727.2727272727,1627272.7272727273,737142.85714285716,1744444.4444444443,1712500,1976923.076923077,1787500,1725000,1527272.7272727273,1400000,1600000,1900000,959000,1240000,1420000,{"$f":"1160*1000","v":1160000},1180000,1150000,1300000,1270000,1290000,993607,883000,1020000,750000,1430412.3711340206,1080000,1220000,null,null,null,null,null,"Connecticut"]
["DC","Limestone","Li",{"$f":"A219&\" \"&B219&\" \"&C219","v":"DC Limestone Li"},0,0,0,0,null,null,null,null,null,null,null,null,null,0,0,0,0,0,0,0,0,0,0,0,0,0,0,0,0,0,0,0,null,null,null,null,null,"District of Columbia"]
["DE","Limestone","Li","DE Limestone Li",0,0,0,0,0,0,0,0,0,0,0,0,0,0,0,1900000,1198333.3333333333,0,0,0,0,0,0,0,0,0,0,0,0,{"$f":"AG220","v":0},{"$f":"AH220","v":0},{"$f":"AI220","v":0},null,null,null,null,null,"Delaware"]
["FL","Limestone","Li","FL Limestone Li",0,0,0,0,64200000,64700000,71000000,71600000,77700000,87500000,89200000,92100000,95900000,94400000,103000000,110000000,117000000,92100000,65800000,{"$f":"46300*1000","v":46300000},39600000,37000000,43600000,51300000,55500000,{"$f":"60500000*X221/(X169+X221)","v":60277377.289061993},{"$f":"72300*1000*AD221/(AD221+AD169)","v":72033956.661143512},72233220.718297437,76019237.804221988,76218501.861375913,80004518.947300464,83491639.947494134,null,null,null,null,null,"Florida"]
["GA","Limestone","Li","GA Limestone Li",0,0,0,0,5090000,7360000,10100000,15800000,17600000,8700000,8890000,10300000,9480000,8770000,8450000,8690000,11300000,10700000,7020000,{"$f":"5100*1000","v":5100000},4610000,4660000,4460000,4680000,5490000,5960000,4440000,4290000,4180000,4420000,4350000,5680000,null,null,null,null,null,"Georgia"]
["HI","Limestone","Li","HI Limestone Li",0,0,0,0,1272727.2727272727,1190000,1030000,409000,357000,277000,248000,274000,172000,1400000,1600000,1900000,1198333.3333333333,14000,103000,0,0,22863,0,0,0,0,0,0,0,0,0,0,null,null,null,null,null,"Hawaii"]
["ID","Limestone","Li","ID Limestone Li",0,0,0,0,1272727.2727272727,873000,1370000,1150000,1040000,1020000,607000,564000,1527272.7272727273,1400000,1600000,1900000,983000,1020000,1170000,{"$f":"237*1000","v":237000},249531,257165.00000000003,147000,145572,155683,159749,145000,{"$f":"AE224","v":145000},{"$f":"AF224","v":145000},{"$f":"AG224","v":145000},{"$f":"AH224","v":145000},{"$f":"AI224","v":145000},null,null,null,null,null,"Idaho"]
["IL","Limestone","Li","IL Limestone Li",0,0,0,0,47600000,48000000,57700000,56900000,55100000,60500000,58600000,61500000,58400000,60700000,56300000,56600000,54000000,51800000,48900000,{"$f":"44700*1000","v":44700000},43100000,41400000,38600000,35300000,43000000,{"$f":"54000000*AC225/(AC173+AC225)","v":44860896.445131376},{"$f":"51900*1000*AD225/(AD225+AD173)","v":43116306.027820714},40873261.205564141,40125579.598145284,41537867.078825347,44279366.306027822,42202472.952086553,null,null,null,null,null,"Illinois"]
["IN","Limestone","Li","IN Limestone Li",0,0,0,0,40000000,42400000,46500000,51900000,48300000,46100000,44300000,47500000,46500000,43100000,48900000,47700000,51600000,50900000,47700000,{"$f":"40200*1000","v":40200000},40100000,37700000,38000000,{"$f":"41000000*$AA226/($AA$174+$AA$226)","v":36555607.695917413},{"$f":"43900000*$AA226/($AA$174+$AA$226)","v":39141248.240262784},{"$f":"49300000*AA226/(AA174+AA226)","v":43955889.253871419},{"$f":"46800*1000*AD226/(AD226+AD174)","v":41726888.784608163},42796809.009854525,44580009.385265127,45917409.666823089,49127170.342562176,49500000,null,null,null,null,null,"Indiana"]
["IA","Limestone","Li","IA Limestone Li",0,0,0,0,36600000,35200000,34400000,37200000,41700000,42000000,40100000,35500000,35900000,33700000,34800000,32600000,32200000,33700000,37800000,{"$f":"32600*1000","v":32600000},31800000,31900000,32300000,30500000,31500000,35600000,37400000,35900000,36100000,38000000,37900000,35400000,null,null,null,null,null,"Iowa"]
["KS","Limestone","Li","KS Limestone Li",0,0,0,0,20600000,20400000,21400000,22300000,21200000,22800000,22600000,21200000,20800000,20100000,19300000,21500000,21000000,20700000,21700000,{"$f":"16900*1000","v":16900000},15800000,14100000,14500000,14300000,14700000,16600000,16300000,14600000,14100000,13600000,14600000,17600000,null,null,null,null,null,"Kansas"]
["KY","Limestone","Li","KY Limestone Li",0,0,0,0,56100000,55500000,58500000,62700000,59500000,59600000,54000000,59100000,49600000,52900000,54600000,58200000,59000000,55500000,51000000,{"$f":"44300*1000","v":44300000},49100000,47900000,46300000,46100000,51200000,54300000,49100000,50700000,51100000,53700000,52000000,52200000,null,null,null,null,null,"Kentucky"]
["LA","Limestone","Li","LA Limestone Li",0,0,0,0,0,0,0,0,0,1976923.076923077,1787500,1725000,1527272.7272727273,1400000,1600000,1900000,1198333.3333333333,0,0,0,0,0,0,0,0,0,0,0,0,{"$f":"AG230","v":0},{"$f":"AH230","v":0},{"$f":"AI230","v":0},null,null,null,null,null,"Louisiana"]
["ME","Limestone","Li","ME Limestone Li",0,0,0,0,1530000,1590000,1410000,1030000,1360000,1976923.076923077,1300000,1440000,1390000,1350000,1680000,1940000,1860000,1780000,1580000,{"$f":"1540*1000","v":1540000},1620000,1680000,1620000,1620000,1650000,1550000,1460000,1820000,1310000,1700000,1830000,1930000,null,null,null,null,null,"Maine"]
["MD","Limestone","Li","MD Limestone Li",0,0,0,0,16900000,15500000,17400000,18300000,18300000,17900000,18400000,17200000,16900000,18700000,21400000,21400000,21200000,20100000,15500000,{"$f":"13100*1000","v":13100000},12400000,12000000,12900000,12300000,14100000,13500000,12300000,15300000,13900000,16200000,16100000,17100000,null,null,null,null,null,"Maryland"]
["MA","Limestone","Li","MA Limestone Li",0,0,0,0,1710000,2070000,2140000,2050000,2170000,814000,1787500,1060000,977000,1050000,983000,1900000,887000,947000,768000,{"$f":"1560*1000","v":1560000},792293,1010000,848000,759211,835619,960475,985000,876000,944000,922000,749000,809000,null,null,null,null,null,"Massachusetts"]
["MI","Limestone","Li","MI Limestone Li",0,0,0,0,27900000,29200000,30300000,33900000,34700000,32700000,34400000,35100000,32900000,27600000,27900000,27900000,25300000,19800000,18100000,{"$f":"15700*1000","v":15700000},16300000,15300000,16900000,{"$f":"25800000*$AA234/($AA$182+$AA$234)","v":20019283.746556472},{"$f":"25500000*$AA234/($AA$182+$AA$234)","v":19786501.377410468},{"$f":"27200000*AA234/(AA182+AA234)","v":21105601.469237834},{"$f":"27400*1000*AD234/(AD234+AD182)","v":21260789.715335172},29796143.250688709,27856290.174471997,27623507.805325985,24209366.391184572,26847566.574839301,null,null,null,null,null,"Michigan"]
["MN","Limestone","Li","MN Limestone Li",0,0,0,0,7670000,7500000,8210000,7350000,7180000,7050000,6400000,3980000,4550000,3830000,4300000,1900000,4860000,3780000,2870000,{"$f":"2720*1000","v":2720000},2590000,3010000,2570000,{"$f":"4700000*$AA235/($AA$183+$AA$235)","v":3121188.6304909559},{"$f":"4910000*$AA235/($AA$183+$AA$235)","v":3260645.9948320412},1700000,2000000,2070000,1860000,1865602.4096385543,1955240.9638554219,2140120.4819277111,null,null,null,null,null,"Minnesota"]
["MS","Limestone","Li","MS Limestone Li",0,0,0,0,1272727.2727272727,1627272.7272727273,737142.85714285716,5180000,789000,1976923.076923077,2530000,2140000,2620000,2770000,2760000,3500000,3050000,3010000,3920000,{"$f":"3080*1000","v":3080000},2710000,2700000,2120000,1910000,2130000,1880000,2110000,{"$f":"AE236","v":2110000},{"$f":"AF236","v":2110000},{"$f":"AG236","v":2110000},{"$f":"AH236","v":2110000},1790000,null,null,null,null,null,"Mississippi"]
["MO","Limestone","Li","MO Limestone Li",0,0,0,0,64400000,63000000,63300000,64700000,64400000,67000000,70200000,76500000,68600000,67200000,64200000,93300000,77200000,76000000,69500000,{"$f":"61800*1000","v":61800000},65400000,60000000,59800000,63100000,63000000,64200000,63200000,66300000,62400000,65700000,70500000,75700000,null,null,null,null,null,"Missouri"]
["MT","Limestone","Li","MT Limestone Li",0,0,0,0,1410000,1960000,1540000,2020000,3370000,2710000,2300000,1760000,1400000,2430000,2960000,2550000,2490000,453000,436000,{"$f":"1570*1000","v":1570000},1610000,1480000,1610000,1800000,2100000,2030000,2000000,2000000,1830000,1950000,2370000,2420000,null,null,null,null,null,"Montana"]
["NE","Limestone","Li","NE Limestone Li",0,0,0,0,6890000,6590000,6370000,6900000,7490000,7090000,6590000,6360000,7220000,6960000,6900000,6950000,7390000,7670000,7910000,{"$f":"6130*1000","v":6130000},6680000,7330000,7880000,6480000,7360000,7550000,7570000,{"$f":"AE239","v":7570000},{"$f":"AF239","v":7570000},{"$f":"AG239","v":7570000},{"$f":"AH239","v":7570000},7800000,null,null,null,null,null,"Nebraska"]
["NV","Limestone","Li","NV Limestone Li",0,0,0,0,1272727.2727272727,1627272.7272727273,2170000,3890000,5050000,4690000,4800000,5250000,3760000,3800000,4330000,4710000,5220000,3880000,3520000,{"$f":"2890*1000","v":2890000},2250000,2460000,2400000,3640000,3920000,{"$f":"3470000*U240/(U188+U240)","v":3370561.9650167474},{"$f":"3850*1000*AD240/(AD240+AD188)","v":3739672.4972087829},4235057.6851507258,4992705.6196501674,5420096.7621883135,4973278.7495347969,4060215.8541123923,null,null,null,null,null,"Nevada"]
["NH","Limestone","Li","NH Limestone Li",0,0,0,0,1272727.2727272727,1627272.7272727273,737142.85714285716,1744444.4444444443,0,0,0,0,0,0,null,0,0,0,0,0,0,0,84000,64962.999999999993,48475,34273,0,0,0,0,0,0,null,null,null,null,null,"New Hampshire"]
["NJ","Limestone","Li","NJ Limestone Li",0,0,0,0,1272727.2727272727,1627272.7272727273,737142.85714285716,1744444.4444444443,1712500,1976923.076923077,569000,401000,1527272.7272727273,1400000,0,1900000,1198333.3333333333,0,0,0,0,141319,233000,315148,351953,484614,534000,466000,472000,503000,407000,507000,null,null,null,null,null,"New Jersey"]
["NM","Limestone","Li","NM Limestone Li",0,0,0,0,1880000,1640000,1350000,1230000,2200000,2000000,2200000,2240000,2340000,2310000,2120000,2250000,1960000,2880000,3750000,{"$f":"3690*1000","v":3690000},2780000,3510000,2770000,2440000,2120000,2450000,2330000,2050000,1780000,1890000,1910000,1760000,null,null,null,null,null,"New Mexico"]
["NY","Limestone","Li","NY Limestone Li",0,0,0,0,27400000,27000000,27600000,27900000,29500000,27400000,29500000,30000000,29100000,30100000,30500000,31900000,29200000,27500000,24400000,{"$f":"19400*1000","v":19400000},19900000,19600000,19800000,22800000,23600000,25400000,24100000,22700000,24300000,23600000,22000000,25000000,null,null,null,null,null,"New York"]
["NC","Limestone","Li","NC Limestone Li",0,0,0,0,1272727.2727272727,1627272.7272727273,6250000,1744444.4444444443,1712500,6070000,1787500,1725000,1527272.7272727273,1400000,1600000,1900000,8480000,7570000,6310000,{"$f":"4110*1000","v":4110000},4210000,3890000,3010000,3190000,2820000,2780000,2820000,3890000,3730000,3640000,3340000,5623328.7482806053,null,null,null,null,null,"North Carolina"]
["ND","Limestone","Li","ND Limestone Li",0,0,0,0,0,0,0,0,0,1976923.076923077,1787500,1725000,1527272.7272727273,1400000,0,0,0,0,0,0,0,0,0,0,0,0,0,0,0,0,0,0,null,null,null,null,null,"North Dakota"]
["OH","Limestone","Li","OH Limestone Li",0,0,0,0,41700000,46000000,48200000,57900000,61500000,63600000,64000000,66500000,61700000,61500000,69400000,65800000,61800000,63200000,50400000,{"$f":"40400*1000","v":40400000},44200000,47300000,52600000,50000000,{"$f":"54600000*$AA247/($AA$195+$AA$247)","v":52988191.881918818},{"$f":"58500000*AB247/(AB195+AB247)","v":56620209.059233449},57400000,58000000,64226873.733963542,65891289.669142477,64031060.094530731,70590817.01553005,null,null,null,null,null,"Ohio"]
["OK","Limestone","Li","OK Limestone Li",0,0,0,0,22600000,21800000,21000000,24300000,27500000,28000000,31200000,32900000,35500000,33300000,33500000,38500000,38000000,39600000,40600000,{"$f":"31300*1000","v":31300000},33900000,33700000,32900000,33300000,32100000,31300000,{"$f":"30800*1000*AD248/(AD248+AD196)","v":30800000},30061221.63751132,30458069.447907507,31648612.879096076,30160433.590110369,31251765.068699885,null,null,null,null,null,"Oklahoma"]
["OR","Limestone","Li","OR Limestone Li",0,0,0,0,1272727.2727272727,1627272.7272727273,737142.85714285716,1744444.4444444443,1712500,1976923.076923077,1787500,1330000,1527272.7272727273,1400000,1600000,1900000,1240000,0,0,0,0,0,1250000,1260000,1390000,0,1720000,1080000,1140000,1080000,1050000,1070000,null,null,null,null,null,"Oregon"]
["PA","Limestone","Li","PA Limestone Li",0,0,0,0,44000000,46000000,55200000,54700000,54300000,57000000,60300000,57900000,61300000,61600000,65500000,62100000,64600000,60500000,58400000,{"$f":"46200*1000","v":46200000},47000000,51700000,49900000,47000000,48500000,53000000,52800000,53700000,51800000,56600000,51700000,56000000,null,null,null,null,null,"Pennsylvania"]
["PR","Limestone","Li","PR Limestone Li",0,0,0,0,0,0,0,0,0,0,0,0,0,0,0,0,0,0,0,0,0,0,0,0,0,0,0,0,0,0,0,0,null,null,null,null,null,"Puerto Rico"]
["RI","Limestone","Li","RI Limestone Li",0,0,0,0,1272727.2727272727,1627272.7272727273,737142.85714285716,1744444.4444444443,1712500,1976923.076923077,1787500,1725000,1527272.7272727273,1400000,1600000,1900000,1198333.3333333333,0,0,0,0,0,0,0,0,0,0,0,0,0,0,0,null,null,null,null,null,"Rhode Island"]
["SC","Limestone","Li",{"$f":"A253&\" \"&B253&\" \"&C253","v":"SC Limestone Li"},0,0,0,0,1272727.2727272727,1627272.7272727273,3740000,4490000,1712500,1976923.076923077,1787500,1725000,1527272.7272727273,1400000,6410000,1900000,4110000,3360000,2830000,{"$f":"2130*1000","v":2130000},2530000,4680000,4590000,5070000,4980000,5200000,2520000,6370000,4780000,4690000,4620000,5100000,null,null,null,null,null,"South Carolina"]
["SD","Limestone","Li","SD Limestone Li",0,0,0,0,2850000,2680000,2850000,3110000,2920000,3190000,2980000,3160000,1527272.7272727273,3050000,1950000,3200000,3240000,3200000,2830000,{"$f":"2470*1000","v":2470000},2690000,2870000,2840000,3110000,2440000,2370000,{"$f":"2520*1000*AD254/(AD254+AD202)","v":2520000},2280000,2000000,2730000,2550000,2770000,null,null,null,null,null,"South Dakota"]
["TN","Limestone","Li","TN Limestone Li",0,0,0,0,43500000,46400000,49500000,54300000,56800000,56500000,57300000,54700000,51500000,53100000,55600000,62900000,63800000,60600000,44600000,{"$f":"38600*1000","v":38600000},39600000,37100000,36200000,36300000,38100000,{"$f":"39400000*AC255/(AC203+AC255)","v":38993118.577223152},{"$f":"42600*1000*AD255/(AD255+AD203)","v":42160072.370297112},43248712.736666285,42852843.512532033,48197078.038344353,49384685.710747086,54432018.318458706,null,null,null,null,null,"Tennessee"]
["TX","Limestone","Li","TX Limestone Li",0,0,0,0,72000000,76100000,82500000,77400000,92500000,102000000,115000000,124000000,108000000,121000000,116000000,129000000,131000000,137000000,137000000,{"$f":"99700*1000","v":99700000},103000000,105000000,121000000,123000000,138000000,147000000,147000000,150000000,161000000,174000000,162000000,167000000,null,null,null,null,null,"Texas"]
["UT","Limestone","Li","UT Limestone Li",0,0,0,0,1980000,2080000,1480000,2500000,3100000,5000000,4840000,5260000,4510000,4090000,3810000,3550000,4700000,6350000,5290000,{"$f":"3430*1000","v":3430000},4230000,3890000,4090000,3790000,3670000,3500000,3340000,3790000,3890000,3900000,4320000,4410000,null,null,null,null,null,"Utah"]
["VT","Limestone","Li","VT Limestone Li",0,0,0,0,1800000,2220000,2260000,3400000,2580000,2440000,2210000,1725000,1680000,1400000,1600000,1900000,1550000,1510000,1600000,{"$f":"1800*1000","v":1800000},2000000,1880000,1710000,{"$f":"2270000*$AA258/($AA$206+$AA$258)","v":2024882.6291079812},{"$f":"2220000*$AA258/($AA$206+$AA$258)","v":1980281.690140845},{"$f":"2320000*AA258/(AA206+AA258)","v":2069483.5680751174},{"$f":"2220*1000*AD258/(AD258+AD206)","v":1980281.6901408453},1944600.9389671362,1703755.8685446009,2167605.6338028167,2007042.2535211267,2123004.6948356805,null,null,null,null,null,"Vermont"]
["VA","Limestone","Li","VA Limestone Li",0,0,0,0,16300000,15800000,16500000,15700000,18500000,20600000,21300000,20100000,16000000,18500000,19100000,29000000,21800000,18400000,18400000,{"$f":"15300*1000","v":15300000},15700000,14100000,13800000,13500000,13900000,{"$f":"14700000*Z259/(Z207+Z259)","v":13337837.837837838},{"$f":"20800*1000*AD259/(AD259+AD207)","v":18872586.872586872},16785714.285714284,16785714.285714287,16332046.332046334,14335907.335907334,13882239.382239383,null,null,null,null,null,"Virginia"]
["WA","Limestone","Li","WA Limestone Li",0,0,0,0,2140000,1230000,2140000,1460000,1020000,1976923.076923077,2040000,2020000,1920000,1640000,2000000,2120000,2190000,1840000,1350000,{"$f":"988*1000","v":988000},967294,1100000,1160000,974474,1300000,798124,998000,774000,725000,711133.87978142081,658640.7103825137,1218237.7049180327,null,null,null,null,null,"Washington"]
["WV","Limestone","Li","WV Limestone Li",0,0,0,0,10200000,10800000,11900000,12000000,11300000,1976923.076923077,10900000,13900000,12200000,12600000,13400000,13200000,13700000,15100000,14200000,{"$f":"11400*1000","v":11400000},13600000,15200000,14000000,14000000,14200000,14300000,13600000,13700000,14100000,15600000,11900000,12700000,null,null,null,null,null,"West Virginia"]
["WI","Limestone","Li","WI Limestone Li",0,0,0,0,21900000,20100000,20800000,20800000,22500000,26800000,27000000,28500000,28800000,30900000,32500000,31800000,29000000,20300000,21600000,{"$f":"19100*1000","v":19100000},19300000,20000000,18500000,16700000,{"$f":"17200000*$AB262/($AB$210+$AB$262)","v":17042838.495312687},18300000,17800000,20800000,22300000,23200000,23000000,20800000,null,null,null,null,null,"Wisconsin"]
["WY","Limestone","Li","WY Limestone Li",0,0,0,0,1520000,1550000,1620000,1744444.4444444443,1712500,1976923.076923077,2130000,1500000,1810000,1790000,2900000,2500000,3500000,2960000,5460000,{"$f":"3420*1000","v":3420000},2940000,3370000,3680000,3110000,2690000,2940000,3020000,3310000,3200000,2630000,2810000,2770000,null,null,null,null,null,"Wyoming"]
["AL","Aluminum",null,{"$f":"A264&\" \"&B264&\" \"","v":"AL Aluminum "},0,0,0,0,0,0,0,0,0,0,0,0,0,0,0,0,0,0,0,0,0,0,0,0,{"$f":"(AB264/SUM($AB$264:$AB$315))*1710000","v":0},{"$f":"(AB264/SUM($AB$264:$AB$315))*1586512","v":0},{"$f":"(AB264/SUM($AB$264:$AB$315))*818000","v":0},{"$f":"(AB264/SUM($AB$264:$AB$315))*741000","v":0},{"$f":"(AB264/SUM($AB$264:$AB$315))*891000","v":0},{"$f":"(AB264/SUM($AB$264:$AB$315))*EF!$B$71","v":0},{"$f":"($AB264/SUM($AB$264:$AB$315))*EF!$B$72","v":0},{"$f":"($AB264/SUM($AB$264:$AB$315))*EF!$B$73","v":0},null,null,null,null,"Source: USGS Mineral Yearbook, 2021. Aluminum Stats and Info, Tables 1. (http://minerals.usgs.gov/minerals/pubs/commodity/aluminum/)"]
["AK","Aluminum",null,{"$f":"A265&\" \"&B265&\" \"","v":"AK Aluminum "},0,0,0,0,0,0,0,0,0,0,0,0,0,0,0,0,0,0,0,0,0,0,0,0,{"$f":"(AB265/SUM($AB$264:$AB$315))*1710000","v":0},{"$f":"(AB265/SUM($AB$264:$AB$315))*1586512","v":0},{"$f":"(AB265/SUM($AB$264:$AB$315))*818000","v":0},{"$f":"(AB265/SUM($AB$264:$AB$315))*741000","v":0},{"$f":"(AB265/SUM($AB$264:$AB$315))*891000","v":0},{"$f":"(AB265/SUM($AB$264:$AB$315))*EF!$B$71","v":0},{"$f":"($AB265/SUM($AB$264:$AB$315))*EF!$B$72","v":0},{"$f":"($AB265/SUM($AB$264:$AB$315))*EF!$B$73","v":0}]
["AZ","Aluminum",null,"AZ Aluminum ",0,0,0,0,0,0,0,0,0,0,0,0,0,0,0,0,0,0,0,0,0,0,0,0,0,0,0,0,0,{"$f":"(AB266/SUM($AB$264:$AB$315))*EF!$B$71","v":0},{"$f":"($AB266/SUM($AB$264:$AB$315))*EF!$B$72","v":0},{"$f":"($AB266/SUM($AB$264:$AB$315))*EF!$B$73","v":0}]
["AR","Aluminum",null,"AR Aluminum ",0,0,0,0,0,0,0,0,0,0,0,0,0,0,0,0,0,0,0,0,0,0,0,0,0,0,0,0,0,{"$f":"(AB267/SUM($AB$264:$AB$315))*EF!$B$71","v":0},{"$f":"($AB267/SUM($AB$264:$AB$315))*EF!$B$72","v":0},{"$f":"($AB267/SUM($AB$264:$AB$315))*EF!$B$73","v":0}]
["CA","Aluminum",null,"CA Aluminum ",0,0,0,0,0,0,0,0,0,0,0,0,0,0,0,0,0,0,0,0,0,0,0,0,{"$f":"(AB268/SUM($AB$264:$AB$315))*1710000","v":0},{"$f":"(AB268/SUM($AB$264:$AB$315))*1586512","v":0},0,0,0,{"$f":"(AB268/SUM($AB$264:$AB$315))*EF!$B$71","v":0},{"$f":"($AB268/SUM($AB$264:$AB$315))*EF!$B$72","v":0},{"$f":"($AB268/SUM($AB$264:$AB$315))*EF!$B$73","v":0}]
["CO","Aluminum",null,"CO Aluminum ",0,0,0,0,0,0,0,0,0,0,0,0,0,0,0,0,0,0,0,0,0,0,0,0,0,0,{"$f":"(AB269/SUM($AB$264:$AB$315))*818000","v":0},0,0,{"$f":"(AB269/SUM($AB$264:$AB$315))*EF!$B$71","v":0},{"$f":"($AB269/SUM($AB$264:$AB$315))*EF!$B$72","v":0},{"$f":"($AB269/SUM($AB$264:$AB$315))*EF!$B$73","v":0}]
["CT","Aluminum",null,"CT Aluminum ",0,0,0,0,0,0,0,0,0,0,0,0,0,0,0,0,0,0,0,0,0,0,0,0,0,0,0,0,0,{"$f":"(AB270/SUM($AB$264:$AB$315))*EF!$B$71","v":0},{"$f":"($AB270/SUM($AB$264:$AB$315))*EF!$B$72","v":0},{"$f":"($AB270/SUM($AB$264:$AB$315))*EF!$B$73","v":0}]
["DC","Aluminum",null,{"$f":"A271&\" \"&B271&\" \"","v":"DC Aluminum "},0,0,0,0,0,0,0,0,0,0,0,0,0,0,0,0,0,0,0,0,0,0,0,0,0,0,0,0,0,{"$f":"(AB271/SUM($AB$264:$AB$315))*EF!$B$71","v":0},{"$f":"($AB271/SUM($AB$264:$AB$315))*EF!$B$72","v":0},{"$f":"($AB271/SUM($AB$264:$AB$315))*EF!$B$73","v":0}]
["DE","Aluminum",null,"DE Aluminum ",0,0,0,0,0,0,0,0,0,0,0,0,0,0,0,0,0,0,0,0,0,0,0,0,0,0,0,0,0,{"$f":"(AB272/SUM($AB$264:$AB$315))*EF!$B$71","v":0},{"$f":"($AB272/SUM($AB$264:$AB$315))*EF!$B$72","v":0},{"$f":"($AB272/SUM($AB$264:$AB$315))*EF!$B$73","v":0}]
["FL","Aluminum",null,"FL Aluminum ",0,0,0,0,0,0,0,0,0,0,0,0,0,0,0,0,0,0,0,0,0,0,0,0,0,0,0,0,0,{"$f":"(AB273/SUM($AB$264:$AB$315))*EF!$B$71","v":0},{"$f":"($AB273/SUM($AB$264:$AB$315))*EF!$B$72","v":0},{"$f":"($AB273/SUM($AB$264:$AB$315))*EF!$B$73","v":0}]
["GA","Aluminum",null,"GA Aluminum ",0,0,0,0,0,0,0,0,0,0,0,0,0,0,0,0,0,0,0,0,0,0,0,0,0,0,0,0,0,{"$f":"(AB274/SUM($AB$264:$AB$315))*EF!$B$71","v":0},{"$f":"($AB274/SUM($AB$264:$AB$315))*EF!$B$72","v":0},{"$f":"($AB274/SUM($AB$264:$AB$315))*EF!$B$73","v":0}]
["HI","Aluminum",null,"HI Aluminum ",0,0,0,0,0,0,0,0,0,0,0,0,0,0,0,0,0,0,0,0,0,0,0,0,0,0,0,0,0,{"$f":"(AB275/SUM($AB$264:$AB$315))*EF!$B$71","v":0},{"$f":"($AB275/SUM($AB$264:$AB$315))*EF!$B$72","v":0},{"$f":"($AB275/SUM($AB$264:$AB$315))*EF!$B$73","v":0}]
["ID","Aluminum",null,"ID Aluminum ",0,0,0,0,0,0,0,0,0,0,0,0,0,0,0,0,0,0,0,0,0,0,0,0,0,0,0,0,0,{"$f":"(AB276/SUM($AB$264:$AB$315))*EF!$B$71","v":0},{"$f":"($AB276/SUM($AB$264:$AB$315))*EF!$B$72","v":0},{"$f":"($AB276/SUM($AB$264:$AB$315))*EF!$B$73","v":0}]
["IL","Aluminum",null,"IL Aluminum ",0,0,0,0,0,0,0,0,0,0,0,0,0,0,0,0,0,0,0,0,0,0,0,0,0,0,0,0,0,{"$f":"(AB277/SUM($AB$264:$AB$315))*EF!$B$71","v":0},{"$f":"($AB277/SUM($AB$264:$AB$315))*EF!$B$72","v":0},{"$f":"($AB277/SUM($AB$264:$AB$315))*EF!$B$73","v":0}]
["IN","Aluminum",null,"IN Aluminum ",296412.00878691726,299128.96201306558,291280.32668748498,266466.34615384613,236770.33492822965,242224.88038277513,256109.78520286398,257971.3603818616,264584.32304038003,265503.51288056205,257704.91803278684,186460.64073226546,203025,201745.65217391305,210233.63980530016,207309.08599242833,190848.02595997835,218248.34070796461,227135.50884955752,152469.42857142858,146974.99208610319,169110.46654994503,204191.4191419142,193879.25925925924,{"$f":"(AB278/SUM($AB$264:$AB$315))*1710000","v":170682.74582560293},{"$f":"(AB278/SUM($AB$264:$AB$315))*1586512","v":158356.85640074208},81648.237476808892,73962.523191094602,88934.693877551006,{"$f":"(AB278/SUM($AB$264:$AB$315))*EF!$B$71","v":109097.21706864562},{"$f":"($AB278/SUM($AB$264:$AB$315))*EF!$B$72","v":101012.24489795917},{"$f":"($AB278/SUM($AB$264:$AB$315))*EF!$B$73","v":88735.064935064918}]
["IA","Aluminum",null,"IA Aluminum ",0,0,0,0,0,0,0,0,0,0,0,0,0,0,0,0,0,0,0,0,0,0,0,0,0,0,0,0,0,{"$f":"(AB279/SUM($AB$264:$AB$315))*EF!$B$71","v":0},{"$f":"($AB279/SUM($AB$264:$AB$315))*EF!$B$72","v":0},{"$f":"($AB279/SUM($AB$264:$AB$315))*EF!$B$73","v":0}]
["KS","Aluminum",null,"KS Aluminum ",0,0,0,0,0,0,0,0,0,0,0,0,0,0,0,0,0,0,0,0,0,0,0,0,0,0,0,0,0,{"$f":"(AB280/SUM($AB$264:$AB$315))*EF!$B$71","v":0},{"$f":"($AB280/SUM($AB$264:$AB$315))*EF!$B$72","v":0},{"$f":"($AB280/SUM($AB$264:$AB$315))*EF!$B$73","v":0}]
["KY","Aluminum",null,"KY Aluminum ",338897.73004637536,347986.69247519964,338856.11337977421,325088.94230769231,295173.68421052629,301973.68421052635,317576.13365155132,319884.48687350837,328084.56057007128,374359.95316159254,363363.93442622951,261286.27002288328,284497.81553398061,287275.36231884058,299361.81719848566,295197.40400216327,271757.70686857757,310774.33628318587,323429.20353982301,217108.57142857145,240405.19151630261,276611.91554637847,340066.00660066004,329378.51851851848,289970.3153988868,269030.04972170683,138710.94619666046,125653.8033395176,151089.79591836731,{"$f":"(AB281/SUM($AB$264:$AB$315))*EF!$B$71","v":185343.59925788493},{"$f":"($AB281/SUM($AB$264:$AB$315))*EF!$B$72","v":171608.1632653061},{"$f":"($AB281/SUM($AB$264:$AB$315))*EF!$B$73","v":150750.64935064933}]
["LA","Aluminum",null,"LA Aluminum ",0,0,0,0,0,0,0,0,0,0,0,0,0,0,0,0,0,0,0,0,0,0,0,0,0,0,0,0,0,{"$f":"(AB282/SUM($AB$264:$AB$315))*EF!$B$71","v":0},{"$f":"($AB282/SUM($AB$264:$AB$315))*EF!$B$72","v":0},{"$f":"($AB282/SUM($AB$264:$AB$315))*EF!$B$73","v":0}]
["ME","Aluminum",null,"ME Aluminum ",0,0,0,0,0,0,0,0,0,0,0,0,0,0,0,0,0,0,0,0,0,0,0,0,0,0,0,0,0,{"$f":"(AB283/SUM($AB$264:$AB$315))*EF!$B$71","v":0},{"$f":"($AB283/SUM($AB$264:$AB$315))*EF!$B$72","v":0},{"$f":"($AB283/SUM($AB$264:$AB$315))*EF!$B$73","v":0}]
["MD","Aluminum",null,"MD Aluminum ",158086.40468635588,169506.41180740381,165058.85178957481,150997.59615384616,137326.79425837321,140490.43062200959,148543.67541766108,149623.38902147973,153458.90736342044,153992.03747072601,149468.85245901637,115859.03890160183,126151.45631067961,127315.21739130434,132671.71444023796,130826.12222823147,120438.0746349378,137729.5353982301,143337.94247787612,96219,{"$f":"0/3200*1725.728*1000","v":0},{"$f":"0/3200*1725.728*1000","v":0},0,0,0,0,0,0,0,{"$f":"(AB284/SUM($AB$264:$AB$315))*EF!$B$71","v":0},{"$f":"($AB284/SUM($AB$264:$AB$315))*EF!$B$72","v":0},{"$f":"($AB284/SUM($AB$264:$AB$315))*EF!$B$73","v":0}]
["MA","Aluminum",null,"MA Aluminum ",0,0,0,0,0,0,0,0,0,0,0,0,0,0,0,0,0,0,0,0,0,0,0,0,0,0,0,0,0,{"$f":"(AB285/SUM($AB$264:$AB$315))*EF!$B$71","v":0},{"$f":"($AB285/SUM($AB$264:$AB$315))*EF!$B$72","v":0},{"$f":"($AB285/SUM($AB$264:$AB$315))*EF!$B$73","v":0}]
["MI","Aluminum",null,"MI Aluminum ",0,0,0,0,0,0,0,0,0,0,0,0,0,0,0,0,0,0,0,0,0,0,0,0,0,0,0,0,0,{"$f":"(AB286/SUM($AB$264:$AB$315))*EF!$B$71","v":0},{"$f":"($AB286/SUM($AB$264:$AB$315))*EF!$B$72","v":0},{"$f":"($AB286/SUM($AB$264:$AB$315))*EF!$B$73","v":0}]
["MN","Aluminum",null,"MN Aluminum ",0,0,0,0,0,0,0,0,0,0,0,0,0,0,0,0,0,0,0,0,0,0,0,0,0,0,0,0,0,{"$f":"(AB287/SUM($AB$264:$AB$315))*EF!$B$71","v":0},{"$f":"($AB287/SUM($AB$264:$AB$315))*EF!$B$72","v":0},{"$f":"($AB287/SUM($AB$264:$AB$315))*EF!$B$73","v":0}]
["MS","Aluminum",null,"MS Aluminum ",0,0,0,0,0,0,0,0,0,0,0,0,0,0,0,0,0,0,0,0,0,0,0,0,0,0,0,0,0,{"$f":"(AB288/SUM($AB$264:$AB$315))*EF!$B$71","v":0},{"$f":"($AB288/SUM($AB$264:$AB$315))*EF!$B$72","v":0},{"$f":"($AB288/SUM($AB$264:$AB$315))*EF!$B$73","v":0}]
["MO","Aluminum",null,"MO Aluminum ",201560.16597510377,203407.69416888457,208750.90079269756,190967.54807692306,169685.40669856459,173594.4976076555,183545.3460620525,184879.47494033413,194028.50356294538,203552.69320843092,190701.63934426228,138789.47368421053,164259.7087378641,163224.63768115939,170091.94159004866,167725.79772850187,154407.78799350999,176576.32743362832,183766.59292035399,123357.14285714284,143696.73947451724,165390.66494929069,199636.96369636964,189554.8148148148,166875.69573283856,154824.73320964747,79827.087198515757,72312.801484230047,86951.020408163255,{"$f":"(AB289/SUM($AB$264:$AB$315))*EF!$B$71","v":106663.8218923933},{"$f":"($AB289/SUM($AB$264:$AB$315))*EF!$B$72","v":98759.183673469364},{"$f":"($AB289/SUM($AB$264:$AB$315))*EF!$B$73","v":86755.844155844141}]
["MT","Aluminum",null,"MT Aluminum ",165990.72492067367,167512.21872731671,163116.98294499161,149221.15384615384,132591.38755980862,135645.93301435409,143421.47971360383,144463.9618138425,148167.22090261284,148681.96721311475,144314.75409836066,101376.65903890161,110382.52427184465,109686.95652173912,114301.7847485127,112711.73607355327,103762.03353163872,118659.29203539823,123491.15044247788,82896,91791.073124406452,105615.4586631627,127524.75247524753,121084.44444444444,106597.40259740259,98899.449350649345,50992.207792207788,46192.207792207788,55542.857142857138,{"$f":"(AB290/SUM($AB$264:$AB$315))*EF!$B$71","v":68135.064935064933},{"$f":"($AB290/SUM($AB$264:$AB$315))*EF!$B$72","v":63085.714285714275},{"$f":"($AB290/SUM($AB$264:$AB$315))*EF!$B$73","v":55418.181818181809}]
["NE","Aluminum",null,"NE Aluminum ",0,0,0,0,0,0,0,0,0,0,0,0,0,0,0,0,0,0,0,0,0,0,0,0,0,0,0,0,0,{"$f":"(AB291/SUM($AB$264:$AB$315))*EF!$B$71","v":0},{"$f":"($AB291/SUM($AB$264:$AB$315))*EF!$B$72","v":0},{"$f":"($AB291/SUM($AB$264:$AB$315))*EF!$B$73","v":0}]
["NV","Aluminum",null,"NV Aluminum ",0,0,0,0,0,0,0,0,0,0,0,0,0,0,0,0,0,0,0,0,0,0,0,0,0,0,0,0,0,{"$f":"(AB292/SUM($AB$264:$AB$315))*EF!$B$71","v":0},{"$f":"($AB292/SUM($AB$264:$AB$315))*EF!$B$72","v":0},{"$f":"($AB292/SUM($AB$264:$AB$315))*EF!$B$73","v":0}]
["NH","Aluminum",null,"NH Aluminum ",0,0,0,0,0,0,0,0,0,0,0,0,0,0,0,0,0,0,0,0,0,0,0,0,0,0,0,0,0,{"$f":"(AB293/SUM($AB$264:$AB$315))*EF!$B$71","v":0},{"$f":"($AB293/SUM($AB$264:$AB$315))*EF!$B$72","v":0},{"$f":"($AB293/SUM($AB$264:$AB$315))*EF!$B$73","v":0}]
["NJ","Aluminum",null,"NJ Aluminum ",0,0,0,0,0,0,0,0,0,0,0,0,0,0,0,0,0,0,0,0,0,0,0,0,0,0,0,0,0,{"$f":"(AB294/SUM($AB$264:$AB$315))*EF!$B$71","v":0},{"$f":"($AB294/SUM($AB$264:$AB$315))*EF!$B$72","v":0},{"$f":"($AB294/SUM($AB$264:$AB$315))*EF!$B$73","v":0}]
["NM","Aluminum",null,"NM Aluminum ",0,0,0,0,0,0,0,0,0,0,0,0,0,0,0,0,0,0,0,0,0,0,0,0,0,0,0,0,0,{"$f":"(AB295/SUM($AB$264:$AB$315))*EF!$B$71","v":0},{"$f":"($AB295/SUM($AB$264:$AB$315))*EF!$B$72","v":0},{"$f":"($AB295/SUM($AB$264:$AB$315))*EF!$B$73","v":0}]
["NY","Aluminum",null,"NY Aluminum ",245033.9272638516,247279.94193080088,240791.73672832092,220278.84615384616,195730.14354066984,200239.23444976078,211717.42243436753,213256.32458233892,218723.04038004752,219482.90398126465,213036.06557377049,153875.28604118992,167544.90291262136,166489.13043478262,173493.78042184963,171080.31368307193,157495.94375338021,180107.85398230091,187441.92477876105,125824.28571428571,139325.73599240265,160309.17832801482,193564.35643564357,154238.51851851854,135784.7866419295,125979.06048237477,64954.3599257885,58840.07421150279,70751.020408163269,{"$f":"(AB296/SUM($AB$264:$AB$315))*EF!$B$71","v":86791.094619666052},{"$f":"($AB296/SUM($AB$264:$AB$315))*EF!$B$72","v":80359.183673469393},{"$f":"($AB296/SUM($AB$264:$AB$315))*EF!$B$73","v":70592.207792207802}]
["NC","Aluminum",null,"NC Aluminum ",113624.60336831829,114666.10210500847,111657.45856353591,102145.43269230769,90761.961722488035,92852.870813397138,98175.417661097847,98889.021479713614,101423.99049881235,101776.34660421546,98786.885245901634,72411.899313501155,78844.660194174765,78347.826086956513,81644.131963223364,80508.382909680906,74115.73823688479,84756.637168141591,88207.964601769912,59211,{"$f":"0/3200*1725.728*1000","v":0},{"$f":"0/3200*1725.728*1000","v":0},0,0,0,0,0,0,0,{"$f":"(AB297/SUM($AB$264:$AB$315))*EF!$B$71","v":0},{"$f":"($AB297/SUM($AB$264:$AB$315))*EF!$B$72","v":0},{"$f":"($AB297/SUM($AB$264:$AB$315))*EF!$B$73","v":0}]
["ND","Aluminum",null,"ND Aluminum ",0,0,0,0,0,0,0,0,0,0,0,0,0,0,0,0,0,0,0,0,0,0,0,0,0,0,0,0,0,{"$f":"(AB298/SUM($AB$264:$AB$315))*EF!$B$71","v":0},{"$f":"($AB298/SUM($AB$264:$AB$315))*EF!$B$72","v":0},{"$f":"($AB298/SUM($AB$264:$AB$315))*EF!$B$73","v":0}]
["OH","Aluminum",null,"OH Aluminum ",242069.80717598245,244288.65231067021,237878.93346144608,217614.18269230769,200465.55023923444,205083.73205741629,218547.01670644392,220135.56085918855,225778.62232779097,225677.98594847776,220767.21311475409,155082.15102974829,168858.98058252429,173018.11594202899,180297.4580854516,177789.34559221202,163672.25527312062,187170.90707964601,194792.58849557521,130758.57142857143,142057.61316872429,163452.49555013273,205709.57095709574,195320.74074074076,171951.76252319111,159534.23079777366,82255.287569573295,74512.43042671615,89595.918367346952,{"$f":"(AB299/SUM($AB$264:$AB$315))*EF!$B$71","v":109908.34879406309},{"$f":"($AB299/SUM($AB$264:$AB$315))*EF!$B$72","v":101763.26530612246},{"$f":"($AB299/SUM($AB$264:$AB$315))*EF!$B$73","v":89394.805194805202}]
["OK","Aluminum",null,"OK Aluminum ",0,0,0,0,0,0,0,0,0,0,0,0,0,0,0,0,0,0,0,0,{"$f":"0/3200*1725.728*1000","v":0},{"$f":"0/3200*1725.728*1000","v":0},0,0,0,0,0,0,0,{"$f":"(AB300/SUM($AB$264:$AB$315))*EF!$B$71","v":0},{"$f":"($AB300/SUM($AB$264:$AB$315))*EF!$B$72","v":0},{"$f":"($AB300/SUM($AB$264:$AB$315))*EF!$B$73","v":0}]
["OR","Aluminum",null,"OR Aluminum ",200572.12594581401,202410.59762884103,197099.68772519819,180308.89423076922,160214.59330143541,163905.5023923445,173300.95465393795,174560.62052505967,179035.39192399051,179657.37704918033,174380.32786885244,122496.79633867278,53877.184466019418,53537.681159420295,55790.156841535965,55014.061654948629,50645.754461871285,0,0,0,0,0,0,0,0,0,0,0,0,{"$f":"(AB301/SUM($AB$264:$AB$315))*EF!$B$71","v":0},{"$f":"($AB301/SUM($AB$264:$AB$315))*EF!$B$72","v":0},{"$f":"($AB301/SUM($AB$264:$AB$315))*EF!$B$73","v":0}]
["PA","Aluminum",null,"PA Aluminum ",0,0,0,0,0,0,0,0,0,0,0,0,0,0,0,0,0,0,0,0,0,0,0,0,0,0,0,0,0,{"$f":"(AB302/SUM($AB$264:$AB$315))*EF!$B$71","v":0},{"$f":"($AB302/SUM($AB$264:$AB$315))*EF!$B$72","v":0},{"$f":"($AB302/SUM($AB$264:$AB$315))*EF!$B$73","v":0}]
["PR","Aluminum",null,"PR Aluminum ",0,0,0,0,0,0,0,0,0,0,0,0,0,0,0,0,0,0,0,0,0,0,0,0,0,0,0,0,0,{"$f":"(AB303/SUM($AB$264:$AB$315))*EF!$B$71","v":0},{"$f":"($AB303/SUM($AB$264:$AB$315))*EF!$B$72","v":0},{"$f":"($AB303/SUM($AB$264:$AB$315))*EF!$B$73","v":0}]
["RI","Aluminum",null,"RI Aluminum ",0,0,0,0,0,0,0,0,0,0,0,0,0,0,0,0,0,0,0,0,0,0,0,0,0,0,0,0,0,{"$f":"(AB304/SUM($AB$264:$AB$315))*EF!$B$71","v":0},{"$f":"($AB304/SUM($AB$264:$AB$315))*EF!$B$72","v":0},{"$f":"($AB304/SUM($AB$264:$AB$315))*EF!$B$73","v":0}]
["SC","Aluminum",null,"SC Aluminum ",178835.2453014401,183465.76336801355,178651.93370165746,163432.69230769231,145219.13875598085,148564.59330143541,175008.35322195705,176280.42959427208,180799.28741092636,181427.40046838409,184688.52459016393,127927.68878718535,139292.23300970875,146249.27536231885,152402.37966468363,150282.3147647377,138349.37804218495,158212.38938053098,164654.86725663717,110528,125119.97467553023,143963.92877300153,173828.38283828384,165049.62962962964,145302.41187384046,134809.36846011132,69507.235621521337,62964.378478664199,75710.204081632663,{"$f":"(AB305/SUM($AB$264:$AB$315))*EF!$B$71","v":92874.582560296854},{"$f":"($AB305/SUM($AB$264:$AB$315))*EF!$B$72","v":85991.836734693876},{"$f":"($AB305/SUM($AB$264:$AB$315))*EF!$B$73","v":75540.259740259746}]
["SD","Aluminum",null,"SD Aluminum ",0,0,0,0,0,0,0,0,0,0,0,0,0,0,0,0,0,0,null,0,0,0,0,0,0,0,{"$f":"(AB306/SUM($AB$264:$AB$315))*818000","v":0},0,0,{"$f":"(AB306/SUM($AB$264:$AB$315))*EF!$B$71","v":0},{"$f":"($AB306/SUM($AB$264:$AB$315))*EF!$B$72","v":0},{"$f":"($AB306/SUM($AB$264:$AB$315))*EF!$B$73","v":0}]
["TN","Aluminum",null,"TN Aluminum ",207488.40615084209,209390.27340914588,203896.2286812395,186526.44230769231,165739.23444976076,169557.41626794258,179276.84964200479,180579.9522673031,185209.02612826604,185852.45901639346,180393.44262295082,126720.82379862701,137978.15533980582,137108.69565217395,146279.06976744186,144244.18604651163,132790.6976744186,151855.64159292035,158039.26991150444,106087.14285714287,117470.71858182969,135162.64055107132,0,0,0,0,0,0,0,{"$f":"(AB307/SUM($AB$264:$AB$315))*EF!$B$71","v":0},{"$f":"($AB307/SUM($AB$264:$AB$315))*EF!$B$72","v":0},{"$f":"($AB307/SUM($AB$264:$AB$315))*EF!$B$73","v":0}]
["TX","Aluminum",null,"TX Aluminum ",311232.60922626313,314085.41011371883,305844.34302185924,279789.66346153844,248608.85167464113,254336.1244019139,268915.27446300717,270869.92840095464,277813.53919239907,278778.68852459016,270590.16393442627,205167.04805491993,173458.25242718449,172365.21739130432,181658.19361817199,179131.15197404003,164907.51757706868,188583.51769911504,196262.72123893804,131745.42857142858,145882.24121557453,167853.13966109784,144983.49834983496,137661.48148148149,121191.09461966605,112439.25491651207,57973.283858998147,52516.141001855292,63146.938775510207,{"$f":"(AB308/SUM($AB$264:$AB$315))*EF!$B$71","v":77463.079777365492},{"$f":"($AB308/SUM($AB$264:$AB$315))*EF!$B$72","v":71722.448979591849},{"$f":"($AB308/SUM($AB$264:$AB$315))*EF!$B$73","v":63005.194805194813}]
["UT","Aluminum",null,"UT Aluminum ",0,0,0,0,0,0,0,0,0,0,0,0,0,0,0,0,0,0,0,0,0,0,0,0,0,0,0,0,0,{"$f":"(AB309/SUM($AB$264:$AB$315))*EF!$B$71","v":0},{"$f":"($AB309/SUM($AB$264:$AB$315))*EF!$B$72","v":0},{"$f":"($AB309/SUM($AB$264:$AB$315))*EF!$B$73","v":0}]
["VT","Aluminum",null,"VT Aluminum ",0,0,0,0,0,0,0,0,0,0,0,0,0,0,0,0,0,0,0,0,0,0,0,0,0,0,0,0,0,{"$f":"(AB310/SUM($AB$264:$AB$315))*EF!$B$71","v":0},{"$f":"($AB310/SUM($AB$264:$AB$315))*EF!$B$72","v":0},{"$f":"($AB310/SUM($AB$264:$AB$315))*EF!$B$73","v":0}]
["VA","Aluminum",null,"VA Aluminum ",0,0,0,0,0,0,0,0,0,0,0,0,0,0,0,0,0,0,0,0,0,0,0,0,0,0,0,0,0,{"$f":"(AB311/SUM($AB$264:$AB$315))*EF!$B$71","v":0},{"$f":"($AB311/SUM($AB$264:$AB$315))*EF!$B$72","v":0},{"$f":"($AB311/SUM($AB$264:$AB$315))*EF!$B$73","v":0}]
["WA","Aluminum",null,"WA Aluminum ",1225169.636319258,1252353.2542947012,1219493.6343982704,1115605.7692307692,991278.46889952151,1014114.8325358853,1062855.6085918855,1070581.1455847255,1105080.5225653206,1108919.6721311477,1076347.5409836064,763945.53775743709,783847.33009708731,773684.78260869568,502111.41157382372,495126.55489453761,455811.79015684151,521253.31858407083,542478.98230088491,306912.57142857142,340391.89616967394,391657.32587589498,351452.14521452138,333702.96296296298,293777.36549165117,272562.17291280144,140532.09647495361,127303.52504638217,153073.46938775509,{"$f":"(AB312/SUM($AB$264:$AB$315))*EF!$B$71","v":187776.99443413728},{"$f":"($AB312/SUM($AB$264:$AB$315))*EF!$B$72","v":173861.22448979592},{"$f":"($AB312/SUM($AB$264:$AB$315))*EF!$B$73","v":152729.87012987011}]
["WV","Aluminum",null,"WV Aluminum ",164014.64486209422,167512.21872731671,163116.98294499161,149221.15384615384,132591.38755980862,135645.93301435409,143421.47971360383,144463.9618138425,148167.22090261284,153107.02576112412,144314.75409836066,102583.52402745996,111696.60194174758,110992.7536231884,115662.5202812331,114053.54245538129,104997.2958355868,120071.90265486724,124961.2831858407,83882.857142857145,92883.823994935097,106872.78555200987,129042.90429042905,122525.92592592591,107866.4192949907,100076.82374768087,51599.257884972161,46742.115027829306,56204.081632653055,{"$f":"(AB313/SUM($AB$264:$AB$315))*EF!$B$71","v":68946.196660482368},{"$f":"($AB313/SUM($AB$264:$AB$315))*EF!$B$72","v":63836.734693877537},{"$f":"($AB313/SUM($AB$264:$AB$315))*EF!$B$73","v":56077.92207792207}]
["WI","Aluminum",null,"WI Aluminum ",0,0,0,0,0,0,0,0,0,0,0,0,0,0,0,0,0,0,0,0,0,0,0,0,0,0,0,0,0,{"$f":"(AB314/SUM($AB$264:$AB$315))*EF!$B$71","v":0},{"$f":"($AB314/SUM($AB$264:$AB$315))*EF!$B$72","v":0},{"$f":"($AB314/SUM($AB$264:$AB$315))*EF!$B$73","v":0}]
["WY","Aluminum",null,"WY Aluminum ",0,0,0,0,0,0,0,0,0,0,0,0,0,0,0,0,0,0,0,0,0,0,0,0,0,0,0,0,0,{"$f":"(AB315/SUM($AB$264:$AB$315))*EF!$B$71","v":0},{"$f":"($AB315/SUM($AB$264:$AB$315))*EF!$B$72","v":0},{"$f":"($AB315/SUM($AB$264:$AB$315))*EF!$B$73","v":0}]
["AL","ODS",null,{"$f":"A316&\" \"&B316&\" \"&C316","v":"AL ODS "},{"$f":"'ODS subs method'!C4","v":4039.8249687098919},{"$f":"'ODS subs method'!D4","v":8490.0928765400968},{"$f":"'ODS subs method'!E4","v":32121.349987672078},{"$f":"'ODS subs method'!F4","v":114537.05020341935},{"$f":"'ODS subs method'!G4","v":282149.43607801222},{"$f":"'ODS subs method'!H4","v":610958.16543314944},{"$f":"'ODS subs method'!I4","v":842965.77870416956},{"$f":"'ODS subs method'!J4","v":1061749.9926908249},{"$f":"'ODS subs method'!K4","v":1211763.4796431269},{"$f":"'ODS subs method'!L4","v":1365242.678742033},{"$f":"'ODS subs method'!M4","v":1494223.0139203423},{"$f":"'ODS subs method'!N4","v":1614121.3773802135},{"$f":"'ODS subs method'!O4","v":1690160.9301564004},{"$f":"'ODS subs method'!P4","v":1760989.4005954938},{"$f":"'ODS subs method'!Q4","v":1819863.9452404084},{"$f":"'ODS subs method'!R4","v":1890254.3967796855},{"$f":"'ODS subs method'!S4","v":2007909.0912650938},{"$f":"'ODS subs method'!T4","v":2125589.676139317},{"$f":"'ODS subs method'!U4","v":2258091.5959961228},{"$f":"'ODS subs method'!V4","v":2753653.4040637305},{"$f":"'ODS subs method'!W4","v":2868169.5491099567},{"$f":"'ODS subs method'!X4","v":3149077.0850117817},{"$f":"'ODS subs method'!Y4","v":2631422.6387381675},{"$f":"'ODS subs method'!Z4","v":2625530.7965992624},{"$f":"'ODS subs method'!AA4","v":2681646.5272086388},{"$f":"'ODS subs method'!AB4","v":2794084.4274045536},{"$f":"'ODS subs method'!AC4","v":2829873.6368313604},{"$f":"'ODS subs method'!AD4","v":2931474.7381634377},{"$f":"'ODS subs method'!AE4","v":2964108.449543207},{"$f":"'ODS subs method'!AF4","v":2863155.6970611867},{"$f":"'ODS subs method'!AG4","v":3400182.0393639128},{"$f":"'ODS subs method'!AH4","v":3540490.2152349297}]
["AK","ODS",null,{"$f":"A317&\" \"&B317&\" \"&C317","v":"AK ODS "},{"$f":"'ODS subs method'!C5","v":551.80489236529934},{"$f":"'ODS subs method'!D5","v":1180.7567860227114},{"$f":"'ODS subs method'!E5","v":3684.0969881913643},{"$f":"'ODS subs method'!F5","v":12517.219965523298},{"$f":"'ODS subs method'!G5","v":30400.463419642845},{"$f":"'ODS subs method'!H5","v":65842.005411044433},{"$f":"'ODS subs method'!I5","v":91543.416213631324},{"$f":"'ODS subs method'!J5","v":115577.59480935411},{"$f":"'ODS subs method'!K5","v":132977.78012100389},{"$f":"'ODS subs method'!L5","v":150571.2794859127},{"$f":"'ODS subs method'!M5","v":164880.6128486275},{"$f":"'ODS subs method'!N5","v":179320.0443873608},{"$f":"'ODS subs method'!O5","v":190725.079559148},{"$f":"'ODS subs method'!P5","v":200681.0564984291},{"$f":"'ODS subs method'!Q5","v":210664.60101126853},{"$f":"'ODS subs method'!R5","v":221176.33069415938},{"$f":"'ODS subs method'!S5","v":236088.40001013843},{"$f":"'ODS subs method'!T5","v":251801.9484208459},{"$f":"'ODS subs method'!U5","v":270008.28513794864},{"$f":"'ODS subs method'!V5","v":292995.83050736127},{"$f":"'ODS subs method'!W5","v":313823.10253608512},{"$f":"'ODS subs method'!X5","v":322300.23715992813},{"$f":"'ODS subs method'!Y5","v":329337.06991127925},{"$f":"'ODS subs method'!Z5","v":335075.89042361948},{"$f":"'ODS subs method'!AA5","v":341988.57022548828},{"$f":"'ODS subs method'!AB5","v":350356.04599157372},{"$f":"'ODS subs method'!AC5","v":353870.30901407503},{"$f":"'ODS subs method'!AD5","v":351768.41070021194},{"$f":"'ODS subs method'!AE5","v":351774.9550269164},{"$f":"'ODS subs method'!AF5","v":358042.82933517447},{"$f":"'ODS subs method'!AG5","v":363009.79944166914},{"$f":"'ODS subs method'!AH5","v":376666.39217799529}]
["AZ","ODS",null,"AZ ODS ",{"$f":"'ODS subs method'!C6","v":3675.5185913317587},{"$f":"'ODS subs method'!D6","v":7848.4112225639619},{"$f":"'ODS subs method'!E6","v":19422.824548546894},{"$f":"'ODS subs method'!F6","v":61931.166953960288},{"$f":"'ODS subs method'!G6","v":149544.57552837662},{"$f":"'ODS subs method'!H6","v":333682.32196126715},{"$f":"'ODS subs method'!I6","v":477737.32004001777},{"$f":"'ODS subs method'!J6","v":614899.03654506151},{"$f":"'ODS subs method'!K6","v":720108.0163035834},{"$f":"'ODS subs method'!L6","v":829849.92891854758},{"$f":"'ODS subs method'!M6","v":920858.93386306812},{"$f":"'ODS subs method'!N6","v":1010699.9411498976},{"$f":"'ODS subs method'!O6","v":1090111.949761946},{"$f":"'ODS subs method'!P6","v":1167905.6235412646},{"$f":"'ODS subs method'!Q6","v":1238000.3966623531},{"$f":"'ODS subs method'!R6","v":1334340.2377263533},{"$f":"'ODS subs method'!S6","v":1454468.500441608},{"$f":"'ODS subs method'!T6","v":1585039.6732559407},{"$f":"'ODS subs method'!U6","v":1726483.9592951487},{"$f":"'ODS subs method'!V6","v":1868012.1467732128},{"$f":"'ODS subs method'!W6","v":1853467.5538614527},{"$f":"'ODS subs method'!X6","v":1709777.208641401},{"$f":"'ODS subs method'!Y6","v":2287238.5543205603},{"$f":"'ODS subs method'!Z6","v":1744503.0786576471},{"$f":"'ODS subs method'!AA6","v":1808500.2756239281},{"$f":"'ODS subs method'!AB6","v":1660772.7786274846},{"$f":"'ODS subs method'!AC6","v":1532982.086288919},{"$f":"'ODS subs method'!AD6","v":1426472.1448418566},{"$f":"'ODS subs method'!AE6","v":1821313.8960939376},{"$f":"'ODS subs method'!AF6","v":1656627.0729997656},{"$f":"'ODS subs method'!AG6","v":2101672.2435058542},{"$f":"'ODS subs method'!AH6","v":2167312.1005110387}]
["AR","ODS",null,"AR ODS ",{"$f":"'ODS subs method'!C7","v":2350.6335009554605},{"$f":"'ODS subs method'!D7","v":4935.9219064044582},{"$f":"'ODS subs method'!E7","v":18681.850284716409},{"$f":"'ODS subs method'!F7","v":66759.424447572659},{"$f":"'ODS subs method'!G7","v":165175.64065637032},{"$f":"'ODS subs method'!H7","v":360506.12587996689},{"$f":"'ODS subs method'!I7","v":500611.59171430313},{"$f":"'ODS subs method'!J7","v":632268.40337325959},{"$f":"'ODS subs method'!K7","v":722510.13115043868},{"$f":"'ODS subs method'!L7","v":817227.36365475692},{"$f":"'ODS subs method'!M7","v":898978.50654295355},{"$f":"'ODS subs method'!N7","v":972443.64463083528},{"$f":"'ODS subs method'!O7","v":1020839.5626192512},{"$f":"'ODS subs method'!P7","v":1065478.3354897369},{"$f":"'ODS subs method'!Q7","v":1104470.0338802689},{"$f":"'ODS subs method'!R7","v":1150373.1192295498},{"$f":"'ODS subs method'!S7","v":1223992.8323916825},{"$f":"'ODS subs method'!T7","v":1295798.921198728},{"$f":"'ODS subs method'!U7","v":1375736.0805435451},{"$f":"'ODS subs method'!V7","v":1676545.9297679355},{"$f":"'ODS subs method'!W7","v":1751282.2418156532},{"$f":"'ODS subs method'!X7","v":1929634.6210715049},{"$f":"'ODS subs method'!Y7","v":1613215.3662116192},{"$f":"'ODS subs method'!Z7","v":1608742.1969865493},{"$f":"'ODS subs method'!AA7","v":1643599.2008792774},{"$f":"'ODS subs method'!AB7","v":1714924.9473230997},{"$f":"'ODS subs method'!AC7","v":1739626.9918075148},{"$f":"'ODS subs method'!AD7","v":1805195.7578432295},{"$f":"'ODS subs method'!AE7","v":1825235.2532703867},{"$f":"'ODS subs method'!AF7","v":1762349.6527555489},{"$f":"'ODS subs method'!AG7","v":2038316.1578269319},{"$f":"'ODS subs method'!AH7","v":2125674.3920273129}]
["CA","ODS",null,"CA ODS ",{"$f":"'ODS subs method'!C8","v":29871.630032498029},{"$f":"'ODS subs method'!D8","v":63080.100987814301},{"$f":"'ODS subs method'!E8","v":146591.97784957982},{"$f":"'ODS subs method'!F8","v":445439.81002237101},{"$f":"'ODS subs method'!G8","v":1055589.3524911201},{"$f":"'ODS subs method'!H8","v":2319193.6802383321},{"$f":"'ODS subs method'!I8","v":3273525.5687396703},{"$f":"'ODS subs method'!J8","v":4157829.498492294},{"$f":"'ODS subs method'!K8","v":4810155.4882772919},{"$f":"'ODS subs method'!L8","v":5478509.0859310003},{"$f":"'ODS subs method'!M8","v":6030110.8040510518},{"$f":"'ODS subs method'!N8","v":6572062.8069710154},{"$f":"'ODS subs method'!O8","v":7005128.8644103613},{"$f":"'ODS subs method'!P8","v":7419037.1838914286},{"$f":"'ODS subs method'!Q8","v":7763841.4691217933},{"$f":"'ODS subs method'!R8","v":8175657.1276402213},{"$f":"'ODS subs method'!S8","v":8719082.3668168802},{"$f":"'ODS subs method'!T8","v":9350073.8007030096},{"$f":"'ODS subs method'!U8","v":10054003.941978464},{"$f":"'ODS subs method'!V8","v":6884436.4235876901},{"$f":"'ODS subs method'!W8","v":9802512.0488855038},{"$f":"'ODS subs method'!X8","v":9651839.9078999311},{"$f":"'ODS subs method'!Y8","v":7989983.6632124018},{"$f":"'ODS subs method'!Z8","v":8831691.3810187243},{"$f":"'ODS subs method'!AA8","v":9272642.2824885678},{"$f":"'ODS subs method'!AB8","v":9555156.2789260242},{"$f":"'ODS subs method'!AC8","v":9196955.2631546892},{"$f":"'ODS subs method'!AD8","v":10628284.984279072},{"$f":"'ODS subs method'!AE8","v":9258981.4303220268},{"$f":"'ODS subs method'!AF8","v":10163122.947979955},{"$f":"'ODS subs method'!AG8","v":10913165.649543298},{"$f":"'ODS subs method'!AH8","v":11173962.611427536}]
["CO","ODS",null,"CO ODS ",{"$f":"'ODS subs method'!C9","v":3299.9162215391088},{"$f":"'ODS subs method'!D9","v":7016.7532000835199},{"$f":"'ODS subs method'!E9","v":17340.530737337634},{"$f":"'ODS subs method'!F9","v":55050.071746527501},{"$f":"'ODS subs method'!G9","v":131193.74476162059},{"$f":"'ODS subs method'!H9","v":288073.71606401919},{"$f":"'ODS subs method'!I9","v":408271.50952746469},{"$f":"'ODS subs method'!J9","v":521606.44085289707},{"$f":"'ODS subs method'!K9","v":607048.35830215621},{"$f":"'ODS subs method'!L9","v":698066.1414441755},{"$f":"'ODS subs method'!M9","v":772099.11025021598},{"$f":"'ODS subs method'!N9","v":848214.86667105311},{"$f":"'ODS subs method'!O9","v":907118.9630369097},{"$f":"'ODS subs method'!P9","v":959851.57610482327},{"$f":"'ODS subs method'!Q9","v":1002028.1474458341},{"$f":"'ODS subs method'!R9","v":1058474.5731289114},{"$f":"'ODS subs method'!S9","v":1138753.690162508},{"$f":"'ODS subs method'!T9","v":1234551.7488801165},{"$f":"'ODS subs method'!U9","v":1344196.4667457491},{"$f":"'ODS subs method'!V9","v":1464274.8159866582},{"$f":"'ODS subs method'!W9","v":1460114.0009929673},{"$f":"'ODS subs method'!X9","v":1352810.9247019491},{"$f":"'ODS subs method'!Y9","v":1811854.1964900752},{"$f":"'ODS subs method'!Z9","v":1385879.5919490859},{"$f":"'ODS subs method'!AA9","v":1437758.5155423004},{"$f":"'ODS subs method'!AB9","v":1325720.9651820695},{"$f":"'ODS subs method'!AC9","v":1223743.5094914353},{"$f":"'ODS subs method'!AD9","v":1136917.4990933265},{"$f":"'ODS subs method'!AE9","v":1448349.7132839796},{"$f":"'ODS subs method'!AF9","v":1308265.1130983115},{"$f":"'ODS subs method'!AG9","v":1693611.4909514822},{"$f":"'ODS subs method'!AH9","v":1731173.7797953095}]
["CT","ODS",null,"CT ODS ",{"$f":"'ODS subs method'!C10","v":3282.5182554339544},{"$f":"'ODS subs method'!D10","v":6838.2255475286947},{"$f":"'ODS subs method'!E10","v":18266.896076149445},{"$f":"'ODS subs method'!F10","v":58922.835883392036},{"$f":"'ODS subs method'!G10","v":141863.66211605541},{"$f":"'ODS subs method'!H10","v":309978.54151942994},{"$f":"'ODS subs method'!I10","v":433756.0277230725},{"$f":"'ODS subs method'!J10","v":549247.4418991016},{"$f":"'ODS subs method'!K10","v":631879.44061746506},{"$f":"'ODS subs method'!L10","v":717316.80423428712},{"$f":"'ODS subs method'!M10","v":789699.44124319637},{"$f":"'ODS subs method'!N10","v":859412.85660072253},{"$f":"'ODS subs method'!O10","v":912999.2954470726},{"$f":"'ODS subs method'!P10","v":963525.27919036918},{"$f":"'ODS subs method'!Q10","v":1004134.5670491653},{"$f":"'ODS subs method'!R10","v":1053208.8296917726},{"$f":"'ODS subs method'!S10","v":1121332.5817877969},{"$f":"'ODS subs method'!T10","v":1198507.2803784378},{"$f":"'ODS subs method'!U10","v":1285062.7254057631},{"$f":"'ODS subs method'!V10","v":1332094.2643883885},{"$f":"'ODS subs method'!W10","v":1225713.612704603},{"$f":"'ODS subs method'!X10","v":1288599.4359217354},{"$f":"'ODS subs method'!Y10","v":1397249.2115536795},{"$f":"'ODS subs method'!Z10","v":1637505.1136590766},{"$f":"'ODS subs method'!AA10","v":1843018.2815003009},{"$f":"'ODS subs method'!AB10","v":1769761.6829704689},{"$f":"'ODS subs method'!AC10","v":1781136.3758467115},{"$f":"'ODS subs method'!AD10","v":1526414.4101774823},{"$f":"'ODS subs method'!AE10","v":1706627.4568869062},{"$f":"'ODS subs method'!AF10","v":1629184.3849973676},{"$f":"'ODS subs method'!AG10","v":1774219.080979554},{"$f":"'ODS subs method'!AH10","v":1858043.7821920193}]
["DE","ODS",null,"DE ODS ",{"$f":"'ODS subs method'!C11","v":667.64518014188673},{"$f":"'ODS subs method'!D11","v":1414.2305786305346},{"$f":"'ODS subs method'!E11","v":3845.8740888990478},{"$f":"'ODS subs method'!F11","v":12577.695336643936},{"$f":"'ODS subs method'!G11","v":30696.576341172407},{"$f":"'ODS subs method'!H11","v":68048.159471172039},{"$f":"'ODS subs method'!I11","v":96324.118145452478},{"$f":"'ODS subs method'!J11","v":123233.63005887419},{"$f":"'ODS subs method'!K11","v":143323.99487593953},{"$f":"'ODS subs method'!L11","v":164160.52030268425},{"$f":"'ODS subs method'!M11","v":182016.09270146786},{"$f":"'ODS subs method'!N11","v":199203.85063201067},{"$f":"'ODS subs method'!O11","v":212802.87439512694},{"$f":"'ODS subs method'!P11","v":226202.80275884975},{"$f":"'ODS subs method'!Q11","v":238620.01728447454},{"$f":"'ODS subs method'!R11","v":253815.4007104742},{"$f":"'ODS subs method'!S11","v":273926.41419877886},{"$f":"'ODS subs method'!T11","v":296205.71239588206},{"$f":"'ODS subs method'!U11","v":320352.05853692535},{"$f":"'ODS subs method'!V11","v":333501.6238620053},{"$f":"'ODS subs method'!W11","v":308090.60487684101},{"$f":"'ODS subs method'!X11","v":325895.76252126368},{"$f":"'ODS subs method'!Y11","v":355808.54744358594},{"$f":"'ODS subs method'!Z11","v":420813.06436468899},{"$f":"'ODS subs method'!AA11","v":478287.65661696659},{"$f":"'ODS subs method'!AB11","v":464595.84771377},{"$f":"'ODS subs method'!AC11","v":472664.89318046981},{"$f":"'ODS subs method'!AD11","v":408974.53571039659},{"$f":"'ODS subs method'!AE11","v":461674.35704630165},{"$f":"'ODS subs method'!AF11","v":446203.71240744129},{"$f":"'ODS subs method'!AG11","v":488804.43838958442},{"$f":"'ODS subs method'!AH11","v":517065.94007898163}]
["DC","ODS",null,{"$f":"A324&\" \"&B324&\" \"&C324","v":"DC ODS "},{"$f":"'ODS subs method'!C12","v":603.5835817605514},{"$f":"'ODS subs method'!D12","v":1244.0251914588766},{"$f":"'ODS subs method'!E12","v":3307.061553308572},{"$f":"'ODS subs method'!F12","v":10599.869491404703},{"$f":"'ODS subs method'!G12","v":25207.645439235293},{"$f":"'ODS subs method'!H12","v":54133.579347716259},{"$f":"'ODS subs method'!I12","v":74406.776150595295},{"$f":"'ODS subs method'!J12","v":93100.969404800067},{"$f":"'ODS subs method'!K12","v":106127.74420631476},{"$f":"'ODS subs method'!L12","v":120784.09110227806},{"$f":"'ODS subs method'!M12","v":132407.36618055796},{"$f":"'ODS subs method'!N12","v":143827.5139261111},{"$f":"'ODS subs method'!O12","v":151295.41061807412},{"$f":"'ODS subs method'!P12","v":157208.15910701011},{"$f":"'ODS subs method'!Q12","v":163068.10314037086},{"$f":"'ODS subs method'!R12","v":170322.25178647044},{"$f":"'ODS subs method'!S12","v":181927.64071439099},{"$f":"'ODS subs method'!T12","v":195172.86056312569},{"$f":"'ODS subs method'!U12","v":210301.23868020944},{"$f":"'ODS subs method'!V12","v":221489.68824257085},{"$f":"'ODS subs method'!W12","v":207283.18718460028},{"$f":"'ODS subs method'!X12","v":222732.60231416684},{"$f":"'ODS subs method'!Y12","v":247073.96089005665},{"$f":"'ODS subs method'!Z12","v":296716.6049511747},{"$f":"'ODS subs method'!AA12","v":340137.79822338861},{"$f":"'ODS subs method'!AB12","v":333881.30675069161},{"$f":"'ODS subs method'!AC12","v":342101.89443609846},{"$f":"'ODS subs method'!AD12","v":297604.19772644644},{"$f":"'ODS subs method'!AE12","v":336185.78725738457},{"$f":"'ODS subs method'!AF12","v":323574.76432493684},{"$f":"'ODS subs method'!AG12","v":340079.92985240597},{"$f":"'ODS subs method'!AH12","v":345291.56648892321}]
["FL","ODS",null,{"$f":"A325&\" \"&B325&\" \"&C325","v":"FL ODS "},{"$f":"'ODS subs method'!C13","v":13005.894341128122},{"$f":"'ODS subs method'!D13","v":27704.371723163131},{"$f":"'ODS subs method'!E13","v":94888.271963267383},{"$f":"'ODS subs method'!F13","v":333540.45917793078},{"$f":"'ODS subs method'!G13","v":822404.30366353702},{"$f":"'ODS subs method'!H13","v":1798492.1509637267},{"$f":"'ODS subs method'!I13","v":2516023.1710498426},{"$f":"'ODS subs method'!J13","v":3204936.6927483408},{"$f":"'ODS subs method'!K13","v":3698275.1029052925},{"$f":"'ODS subs method'!L13","v":4216722.049397896},{"$f":"'ODS subs method'!M13","v":4659982.2695930274},{"$f":"'ODS subs method'!N13","v":5099084.4603262749},{"$f":"'ODS subs method'!O13","v":5437191.3808918428},{"$f":"'ODS subs method'!P13","v":5756607.5635152915},{"$f":"'ODS subs method'!Q13","v":6047121.7881910084},{"$f":"'ODS subs method'!R13","v":6398018.348003448},{"$f":"'ODS subs method'!S13","v":6831859.3869737489},{"$f":"'ODS subs method'!T13","v":7308036.3235993842},{"$f":"'ODS subs method'!U13","v":7831847.593153473},{"$f":"'ODS subs method'!V13","v":9562604.2964694854},{"$f":"'ODS subs method'!W13","v":9933622.5311097559},{"$f":"'ODS subs method'!X13","v":9127749.6502010897},{"$f":"'ODS subs method'!Y13","v":11197619.985299664},{"$f":"'ODS subs method'!Z13","v":10390289.376279386},{"$f":"'ODS subs method'!AA13","v":11163279.441624627},{"$f":"'ODS subs method'!AB13","v":11902212.100681148},{"$f":"'ODS subs method'!AC13","v":13718243.932036147},{"$f":"'ODS subs method'!AD13","v":13748815.279344423},{"$f":"'ODS subs method'!AE13","v":15112914.568086501},{"$f":"'ODS subs method'!AF13","v":17624850.252183709},{"$f":"'ODS subs method'!AG13","v":15051514.153644189},{"$f":"'ODS subs method'!AH13","v":15820782.941402087}]
["GA","ODS",null,"GA ODS ",{"$f":"'ODS subs method'!C14","v":6498.9041919920764},{"$f":"'ODS subs method'!D14","v":13786.096364063464},{"$f":"'ODS subs method'!E14","v":47388.015144353667},{"$f":"'ODS subs method'!F14","v":167121.0207844445},{"$f":"'ODS subs method'!G14","v":413364.68601091712},{"$f":"'ODS subs method'!H14","v":906603.83718532033},{"$f":"'ODS subs method'!I14","v":1270612.4009411787},{"$f":"'ODS subs method'!J14","v":1621872.9568763787},{"$f":"'ODS subs method'!K14","v":1877855.4622495209},{"$f":"'ODS subs method'!L14","v":2152845.4645753643},{"$f":"'ODS subs method'!M14","v":2389098.0071724197},{"$f":"'ODS subs method'!N14","v":2611439.327401103},{"$f":"'ODS subs method'!O14","v":2771885.1094811428},{"$f":"'ODS subs method'!P14","v":2919182.972940133},{"$f":"'ODS subs method'!Q14","v":3044947.8347359253},{"$f":"'ODS subs method'!R14","v":3200767.3522972893},{"$f":"'ODS subs method'!S14","v":3443125.525440719},{"$f":"'ODS subs method'!T14","v":3720091.4472815236},{"$f":"'ODS subs method'!U14","v":4017879.6523753251},{"$f":"'ODS subs method'!V14","v":4932295.0298773348},{"$f":"'ODS subs method'!W14","v":5119212.8887723573},{"$f":"'ODS subs method'!X14","v":4695997.3672421426},{"$f":"'ODS subs method'!Y14","v":5745333.8207788263},{"$f":"'ODS subs method'!Z14","v":5301298.823543312},{"$f":"'ODS subs method'!AA14","v":5662755.3186383564},{"$f":"'ODS subs method'!AB14","v":5994547.7969880942},{"$f":"'ODS subs method'!AC14","v":6855679.309606351},{"$f":"'ODS subs method'!AD14","v":6827536.2219326301},{"$f":"'ODS subs method'!AE14","v":7479613.3030747231},{"$f":"'ODS subs method'!AF14","v":8715651.0748535916},{"$f":"'ODS subs method'!AG14","v":7484470.9992204327},{"$f":"'ODS subs method'!AH14","v":7844294.8201464163}]
["HI","ODS",null,"HI ODS ",{"$f":"'ODS subs method'!C15","v":1110.5022346413805},{"$f":"'ODS subs method'!D15","v":2353.9924193009406},{"$f":"'ODS subs method'!E15","v":7250.181174209426},{"$f":"'ODS subs method'!F15","v":24490.970168300013},{"$f":"'ODS subs method'!G15","v":59839.49280882896},{"$f":"'ODS subs method'!H15","v":130380.05126342656},{"$f":"'ODS subs method'!I15","v":181073.70731049366},{"$f":"'ODS subs method'!J15","v":228459.62101578843},{"$f":"'ODS subs method'!K15","v":260672.11673181562},{"$f":"'ODS subs method'!L15","v":291681.40984540159},{"$f":"'ODS subs method'!M15","v":318626.66498416872},{"$f":"'ODS subs method'!N15","v":346902.62449085264},{"$f":"'ODS subs method'!O15","v":368070.48021140631},{"$f":"'ODS subs method'!P15","v":387226.22670429014},{"$f":"'ODS subs method'!Q15","v":406949.19237678353},{"$f":"'ODS subs method'!R15","v":428701.95908203966},{"$f":"'ODS subs method'!S15","v":457887.42848929612},{"$f":"'ODS subs method'!T15","v":486975.64087696088},{"$f":"'ODS subs method'!U15","v":523246.6817005942},{"$f":"'ODS subs method'!V15","v":564580.46755718975},{"$f":"'ODS subs method'!W15","v":599533.27556105109},{"$f":"'ODS subs method'!X15","v":615537.86296765797},{"$f":"'ODS subs method'!Y15","v":628741.73944410577},{"$f":"'ODS subs method'!Z15","v":639975.11760483554},{"$f":"'ODS subs method'!AA15","v":656688.11591777136},{"$f":"'ODS subs method'!AB15","v":675157.16193811665},{"$f":"'ODS subs method'!AC15","v":680927.82075288903},{"$f":"'ODS subs method'!AD15","v":676855.45355988771},{"$f":"'ODS subs method'!AE15","v":679602.67660124379},{"$f":"'ODS subs method'!AF15","v":690906.11659073504},{"$f":"'ODS subs method'!AG15","v":719590.95806645579},{"$f":"'ODS subs method'!AH15","v":741100.82894192322}]
["ID","ODS",null,"ID ODS ",{"$f":"'ODS subs method'!C16","v":1010.026666932714},{"$f":"'ODS subs method'!D16","v":2157.1894507686829},{"$f":"'ODS subs method'!E16","v":5315.7640002424769},{"$f":"'ODS subs method'!F16","v":16890.495523537094},{"$f":"'ODS subs method'!G16","v":40340.608929651462},{"$f":"'ODS subs method'!H16","v":88629.808750342214},{"$f":"'ODS subs method'!I16","v":125303.06657721809},{"$f":"'ODS subs method'!J16","v":159471.68230803506},{"$f":"'ODS subs method'!K16","v":184671.25015152874},{"$f":"'ODS subs method'!L16","v":210719.60103356335},{"$f":"'ODS subs method'!M16","v":231871.28834393746},{"$f":"'ODS subs method'!N16","v":252980.24732450731},{"$f":"'ODS subs method'!O16","v":270772.14370453567},{"$f":"'ODS subs method'!P16","v":288964.42576637212},{"$f":"'ODS subs method'!Q16","v":304835.15121627122},{"$f":"'ODS subs method'!R16","v":326380.25418581133},{"$f":"'ODS subs method'!S16","v":354301.35040382628},{"$f":"'ODS subs method'!T16","v":386798.72344498389},{"$f":"'ODS subs method'!U16","v":421787.60848908586},{"$f":"'ODS subs method'!V16","v":457770.83977749979},{"$f":"'ODS subs method'!W16","v":454394.66934792814},{"$f":"'ODS subs method'!X16","v":418442.46652597788},{"$f":"'ODS subs method'!Y16","v":556747.30935803964},{"$f":"'ODS subs method'!Z16","v":423867.7950980824},{"$f":"'ODS subs method'!AA16","v":438434.07678811188},{"$f":"'ODS subs method'!AB16","v":401653.01139912056},{"$f":"'ODS subs method'!AC16","v":371732.70473518351},{"$f":"'ODS subs method'!AD16","v":348061.53650905867},{"$f":"'ODS subs method'!AE16","v":445418.08596612088},{"$f":"'ODS subs method'!AF16","v":406454.888184093},{"$f":"'ODS subs method'!AG16","v":541016.81512436748},{"$f":"'ODS subs method'!AH16","v":566205.95092897897}]
["IL","ODS",null,"IL ODS ",{"$f":"'ODS subs method'!C17","v":11421.177969794337},{"$f":"'ODS subs method'!D17","v":23953.780139995237},{"$f":"'ODS subs method'!E17","v":81025.732541931691},{"$f":"'ODS subs method'!F17","v":280819.99436337169},{"$f":"'ODS subs method'!G17","v":691144.14234346803},{"$f":"'ODS subs method'!H17","v":1508448.963473435},{"$f":"'ODS subs method'!I17","v":2097086.1519210872},{"$f":"'ODS subs method'!J17","v":2654977.2901920034},{"$f":"'ODS subs method'!K17","v":3049012.049311786},{"$f":"'ODS subs method'!L17","v":3459627.5164316278},{"$f":"'ODS subs method'!M17","v":3807908.4435216347},{"$f":"'ODS subs method'!N17","v":4135509.8472914752},{"$f":"'ODS subs method'!O17","v":4356356.4178010318},{"$f":"'ODS subs method'!P17","v":4550816.8787423968},{"$f":"'ODS subs method'!Q17","v":4716933.0701805539},{"$f":"'ODS subs method'!R17","v":4899637.8496493837},{"$f":"'ODS subs method'!S17","v":5175635.4958966989},{"$f":"'ODS subs method'!T17","v":5495195.5818771925},{"$f":"'ODS subs method'!U17","v":5852086.8627235694},{"$f":"'ODS subs method'!V17","v":6214569.3099232726},{"$f":"'ODS subs method'!W17","v":6855214.7186857937},{"$f":"'ODS subs method'!X17","v":6991513.8256279267},{"$f":"'ODS subs method'!Y17","v":7244950.8254808122},{"$f":"'ODS subs method'!Z17","v":7159043.987920735},{"$f":"'ODS subs method'!AA17","v":6456706.9521844769},{"$f":"'ODS subs method'!AB17","v":6952009.7257422972},{"$f":"'ODS subs method'!AC17","v":6476711.4795989953},{"$f":"'ODS subs method'!AD17","v":6941521.5926211411},{"$f":"'ODS subs method'!AE17","v":5936648.1595824612},{"$f":"'ODS subs method'!AF17","v":6006043.0674634986},{"$f":"'ODS subs method'!AG17","v":5590591.9669502266},{"$f":"'ODS subs method'!AH17","v":5674662.9832117194}]
["IN","ODS",null,"IN ODS ",{"$f":"'ODS subs method'!C18","v":5542.2028064332662},{"$f":"'ODS subs method'!D18","v":11628.847953274599},{"$f":"'ODS subs method'!E18","v":39317.350190369922},{"$f":"'ODS subs method'!F18","v":136468.14024710644},{"$f":"'ODS subs method'!G18","v":336128.68730125192},{"$f":"'ODS subs method'!H18","v":735035.48075051757},{"$f":"'ODS subs method'!I18","v":1023419.3642062481},{"$f":"'ODS subs method'!J18","v":1297510.9496676936},{"$f":"'ODS subs method'!K18","v":1490456.7668074325},{"$f":"'ODS subs method'!L18","v":1692152.0548050075},{"$f":"'ODS subs method'!M18","v":1865607.8185092155},{"$f":"'ODS subs method'!N18","v":2029188.7278070888},{"$f":"'ODS subs method'!O18","v":2141029.6156291473},{"$f":"'ODS subs method'!P18","v":2245918.3917128211},{"$f":"'ODS subs method'!Q18","v":2335282.5221683411},{"$f":"'ODS subs method'!R18","v":2439586.1409095861},{"$f":"'ODS subs method'!S18","v":2592194.1718524508},{"$f":"'ODS subs method'!T18","v":2761303.8952166121},{"$f":"'ODS subs method'!U18","v":2949588.9780941713},{"$f":"'ODS subs method'!V18","v":3136877.3380158767},{"$f":"'ODS subs method'!W18","v":3465129.2580213435},{"$f":"'ODS subs method'!X18","v":3541048.4836489395},{"$f":"'ODS subs method'!Y18","v":3677291.5556861646},{"$f":"'ODS subs method'!Z18","v":3647630.6781128133},{"$f":"'ODS subs method'!AA18","v":3305258.6457311199},{"$f":"'ODS subs method'!AB18","v":3574206.2504490698},{"$f":"'ODS subs method'!AC18","v":3353043.6681262385},{"$f":"'ODS subs method'!AD18","v":3618566.2018852863},{"$f":"'ODS subs method'!AE18","v":3125148.0803373982},{"$f":"'ODS subs method'!AF18","v":3191496.1468455824},{"$f":"'ODS subs method'!AG18","v":2967152.1223867051},{"$f":"'ODS subs method'!AH18","v":3047923.7366870586}]
["IA","ODS",null,"IA ODS ",{"$f":"'ODS subs method'!C19","v":2773.2144572979128},{"$f":"'ODS subs method'!D19","v":5792.5157964699756},{"$f":"'ODS subs method'!E19","v":19527.912817338329},{"$f":"'ODS subs method'!F19","v":67460.36086883735},{"$f":"'ODS subs method'!G19","v":165394.53017200486},{"$f":"'ODS subs method'!H19","v":360187.24416355888},{"$f":"'ODS subs method'!I19","v":499058.80141374446},{"$f":"'ODS subs method'!J19","v":629906.02424581675},{"$f":"'ODS subs method'!K19","v":721235.49988928344},{"$f":"'ODS subs method'!L19","v":816725.50649456657},{"$f":"'ODS subs method'!M19","v":897014.19829939341},{"$f":"'ODS subs method'!N19","v":970921.71729379147},{"$f":"'ODS subs method'!O19","v":1020519.0984919143},{"$f":"'ODS subs method'!P19","v":1066302.3501616085},{"$f":"'ODS subs method'!Q19","v":1106620.3186302674},{"$f":"'ODS subs method'!R19","v":1151852.7162298167},{"$f":"'ODS subs method'!S19","v":1220905.8129377489},{"$f":"'ODS subs method'!T19","v":1298159.3009498569},{"$f":"'ODS subs method'!U19","v":1384964.0528043867},{"$f":"'ODS subs method'!V19","v":1472869.2506025343},{"$f":"'ODS subs method'!W19","v":1628748.5704731592},{"$f":"'ODS subs method'!X19","v":1666283.8375537267},{"$f":"'ODS subs method'!Y19","v":1730306.0854458753},{"$f":"'ODS subs method'!Z19","v":1717586.6985898444},{"$f":"'ODS subs method'!AA19","v":1558740.1536491921},{"$f":"'ODS subs method'!AB19","v":1688074.3352937968},{"$f":"'ODS subs method'!AC19","v":1582698.310731773},{"$f":"'ODS subs method'!AD19","v":1707549.3075299799},{"$f":"'ODS subs method'!AE19","v":1469572.5699982985},{"$f":"'ODS subs method'!AF19","v":1498116.695650239},{"$f":"'ODS subs method'!AG19","v":1394306.2723211963},{"$f":"'ODS subs method'!AH19","v":1429956.3218574494}]
["KS","ODS",null,"KS ODS ",{"$f":"'ODS subs method'!C20","v":2474.3863291793587},{"$f":"'ODS subs method'!D20","v":5173.6557758299841},{"$f":"'ODS subs method'!E20","v":17546.250250106594},{"$f":"'ODS subs method'!F20","v":60792.134429999132},{"$f":"'ODS subs method'!G20","v":149716.15683675456},{"$f":"'ODS subs method'!H20","v":326727.47611842817},{"$f":"'ODS subs method'!I20","v":453061.17551094154},{"$f":"'ODS subs method'!J20","v":574167.40938259778},{"$f":"'ODS subs method'!K20","v":661041.10981621908},{"$f":"'ODS subs method'!L20","v":749740.01523619599},{"$f":"'ODS subs method'!M20","v":824928.24598730868},{"$f":"'ODS subs method'!N20","v":894812.56953742646},{"$f":"'ODS subs method'!O20","v":943760.54940616793},{"$f":"'ODS subs method'!P20","v":986929.48729739885},{"$f":"'ODS subs method'!Q20","v":1024470.7692433223},{"$f":"'ODS subs method'!R20","v":1066698.997526357},{"$f":"'ODS subs method'!S20","v":1130969.2067326526},{"$f":"'ODS subs method'!T20","v":1204915.2876137793},{"$f":"'ODS subs method'!U20","v":1289170.4464307199},{"$f":"'ODS subs method'!V20","v":1375661.5409360775},{"$f":"'ODS subs method'!W20","v":1525949.8061117474},{"$f":"'ODS subs method'!X20","v":1559195.2724557503},{"$f":"'ODS subs method'!Y20","v":1622995.8002234909},{"$f":"'ODS subs method'!Z20","v":1606763.3894211671},{"$f":"'ODS subs method'!AA20","v":1454119.6984059562},{"$f":"'ODS subs method'!AB20","v":1573560.3359582317},{"$f":"'ODS subs method'!AC20","v":1471450.6136200598},{"$f":"'ODS subs method'!AD20","v":1581078.9395332292},{"$f":"'ODS subs method'!AE20","v":1358930.3038564411},{"$f":"'ODS subs method'!AF20","v":1381020.5867570515},{"$f":"'ODS subs method'!AG20","v":1283769.4658123355},{"$f":"'ODS subs method'!AH20","v":1314193.6303201637}]
["KY","ODS",null,"KY ODS ",{"$f":"'ODS subs method'!C21","v":3684.7172065596237},{"$f":"'ODS subs method'!D21","v":7709.6139880857763},{"$f":"'ODS subs method'!E21","v":29116.884925455142},{"$f":"'ODS subs method'!F21","v":103611.27207660583},{"$f":"'ODS subs method'!G21","v":254920.10138765868},{"$f":"'ODS subs method'!H21","v":552749.78313519177},{"$f":"'ODS subs method'!I21","v":762862.1707439},{"$f":"'ODS subs method'!J21","v":960826.82053617586},{"$f":"'ODS subs method'!K21","v":1096408.1453281213},{"$f":"'ODS subs method'!L21","v":1238248.9498748372},{"$f":"'ODS subs method'!M21","v":1358918.5240660592},{"$f":"'ODS subs method'!N21","v":1469784.415465663},{"$f":"'ODS subs method'!O21","v":1542948.5740625707},{"$f":"'ODS subs method'!P21","v":1609927.2165637165},{"$f":"'ODS subs method'!Q21","v":1665369.9047604038},{"$f":"'ODS subs method'!R21","v":1730149.6357273574},{"$f":"'ODS subs method'!S21","v":1830175.6577355245},{"$f":"'ODS subs method'!T21","v":1936282.4444901382},{"$f":"'ODS subs method'!U21","v":2053097.6094830646},{"$f":"'ODS subs method'!V21","v":2498503.6618163213},{"$f":"'ODS subs method'!W21","v":2606226.2131509548},{"$f":"'ODS subs method'!X21","v":2867722.1462517288},{"$f":"'ODS subs method'!Y21","v":2397178.6295334268},{"$f":"'ODS subs method'!Z21","v":2394755.5566056506},{"$f":"'ODS subs method'!AA21","v":2445386.9517499274},{"$f":"'ODS subs method'!AB21","v":2549094.5736856102},{"$f":"'ODS subs method'!AC21","v":2581869.5906948987},{"$f":"'ODS subs method'!AD21","v":2677629.9677210506},{"$f":"'ODS subs method'!AE21","v":2705150.3753694259},{"$f":"'ODS subs method'!AF21","v":2609028.3989337962},{"$f":"'ODS subs method'!AG21","v":3047736.8162790472},{"$f":"'ODS subs method'!AH21","v":3167828.3683588118}]
["LA","ODS",null,"LA ODS ",{"$f":"'ODS subs method'!C22","v":4210.86883506713},{"$f":"'ODS subs method'!D22","v":8809.3094626888014},{"$f":"'ODS subs method'!E22","v":33196.097042794325},{"$f":"'ODS subs method'!F22","v":117315.43256242701},{"$f":"'ODS subs method'!G22","v":287928.02276822971},{"$f":"'ODS subs method'!H22","v":622614.68643576629},{"$f":"'ODS subs method'!I22","v":856156.88010323024},{"$f":"'ODS subs method'!J22","v":1074666.1985436184},{"$f":"'ODS subs method'!K22","v":1221569.1136021446},{"$f":"'ODS subs method'!L22","v":1374694.2950578609},{"$f":"'ODS subs method'!M22","v":1500838.6876712043},{"$f":"'ODS subs method'!N22","v":1617821.3709396119},{"$f":"'ODS subs method'!O22","v":1696641.5122292626},{"$f":"'ODS subs method'!P22","v":1767852.3264833996},{"$f":"'ODS subs method'!Q22","v":1828503.4938865921},{"$f":"'ODS subs method'!R22","v":1893076.6628827751},{"$f":"'ODS subs method'!S22","v":1866363.2817175367},{"$f":"'ODS subs method'!T22","v":1990371.9795052579},{"$f":"'ODS subs method'!U22","v":2122832.1675480171},{"$f":"'ODS subs method'!V22","v":2599538.2464117957},{"$f":"'ODS subs method'!W22","v":2723800.1432697359},{"$f":"'ODS subs method'!X22","v":3002504.1692323419},{"$f":"'ODS subs method'!Y22","v":2514201.4770465838},{"$f":"'ODS subs method'!Z22","v":2513835.1022417997},{"$f":"'ODS subs method'!AA22","v":2572138.7233300745},{"$f":"'ODS subs method'!AB22","v":2685997.0290304674},{"$f":"'ODS subs method'!AC22","v":2722025.2119834088},{"$f":"'ODS subs method'!AD22","v":2808689.0589414067},{"$f":"'ODS subs method'!AE22","v":2826448.7114457204},{"$f":"'ODS subs method'!AF22","v":2717500.0710650273},{"$f":"'ODS subs method'!AG22","v":3147374.5143910218},{"$f":"'ODS subs method'!AH22","v":3248371.5690455209}]
["ME","ODS",null,"ME ODS ",{"$f":"'ODS subs method'!C23","v":1228.1836674136939},{"$f":"'ODS subs method'!D23","v":2561.2194449300819},{"$f":"'ODS subs method'!E23","v":6854.1868922461881},{"$f":"'ODS subs method'!F23","v":22120.303962047848},{"$f":"'ODS subs method'!G23","v":53161.082509492771},{"$f":"'ODS subs method'!H23","v":115955.30061531051},{"$f":"'ODS subs method'!I23","v":162372.92522002556},{"$f":"'ODS subs method'!J23","v":205765.84148959833},{"$f":"'ODS subs method'!K23","v":236414.04061933106},{"$f":"'ODS subs method'!L23","v":268338.76618227694},{"$f":"'ODS subs method'!M23","v":295594.65487554757},{"$f":"'ODS subs method'!N23","v":321873.97134691774},{"$f":"'ODS subs method'!O23","v":342092.05898652598},{"$f":"'ODS subs method'!P23","v":361290.73174654989},{"$f":"'ODS subs method'!Q23","v":377312.37521579344},{"$f":"'ODS subs method'!R23","v":396058.03804858803},{"$f":"'ODS subs method'!S23","v":421957.06861581415},{"$f":"'ODS subs method'!T23","v":450905.97015635384},{"$f":"'ODS subs method'!U23","v":482230.83499673719},{"$f":"'ODS subs method'!V23","v":497258.61423377448},{"$f":"'ODS subs method'!W23","v":454663.66214231018},{"$f":"'ODS subs method'!X23","v":477025.66282562696},{"$f":"'ODS subs method'!Y23","v":516152.81950605195},{"$f":"'ODS subs method'!Z23","v":605011.62364674336},{"$f":"'ODS subs method'!AA23","v":682331.48333799711},{"$f":"'ODS subs method'!AB23","v":655467.94754573877},{"$f":"'ODS subs method'!AC23","v":662906.75481422688},{"$f":"'ODS subs method'!AD23","v":570269.25769348477},{"$f":"'ODS subs method'!AE23","v":639824.22104578768},{"$f":"'ODS subs method'!AF23","v":614832.85010521731},{"$f":"'ODS subs method'!AG23","v":671335.72842984286},{"$f":"'ODS subs method'!AH23","v":707149.19220912666}]
["MD","ODS",null,"MD ODS ",{"$f":"'ODS subs method'!C24","v":4785.9934947355869},{"$f":"'ODS subs method'!D24","v":10077.833852543938},{"$f":"'ODS subs method'!E24","v":27247.045970881354},{"$f":"'ODS subs method'!F24","v":88528.953463459053},{"$f":"'ODS subs method'!G24","v":214886.51548863063},{"$f":"'ODS subs method'!H24","v":472783.8008207166},{"$f":"'ODS subs method'!I24","v":664538.22915137582},{"$f":"'ODS subs method'!J24","v":845731.53074407589},{"$f":"'ODS subs method'!K24","v":977191.6284043201},{"$f":"'ODS subs method'!L24","v":1113024.5956401206},{"$f":"'ODS subs method'!M24","v":1229306.7753911284},{"$f":"'ODS subs method'!N24","v":1345557.9850637137},{"$f":"'ODS subs method'!O24","v":1436088.9801364604},{"$f":"'ODS subs method'!P24","v":1519886.1770880795},{"$f":"'ODS subs method'!Q24","v":1593169.1695574725},{"$f":"'ODS subs method'!R24","v":1679502.9483640075},{"$f":"'ODS subs method'!S24","v":1793950.7391064717},{"$f":"'ODS subs method'!T24","v":1920933.369702264},{"$f":"'ODS subs method'!U24","v":2060463.6412660314},{"$f":"'ODS subs method'!V24","v":2143130.4356244034},{"$f":"'ODS subs method'!W24","v":1982410.838986157},{"$f":"'ODS subs method'!X24","v":2097103.0906058333},{"$f":"'ODS subs method'!Y24","v":2288468.5561104468},{"$f":"'ODS subs method'!Z24","v":2698304.1251933975},{"$f":"'ODS subs method'!AA24","v":3054903.3778184894},{"$f":"'ODS subs method'!AB24","v":2953347.4258333012},{"$f":"'ODS subs method'!AC24","v":2988776.3233506773},{"$f":"'ODS subs method'!AD24","v":2573615.6996205538},{"$f":"'ODS subs method'!AE24","v":2884747.0244630291},{"$f":"'ODS subs method'!AF24","v":2766285.9367321203},{"$f":"'ODS subs method'!AG24","v":3041914.9901845395},{"$f":"'ODS subs method'!AH24","v":3177027.1621763883}]
["MA","ODS",null,"MA ODS ",{"$f":"'ODS subs method'!C25","v":6005.3525637980256},{"$f":"'ODS subs method'!D25","v":12460.479461513316},{"$f":"'ODS subs method'!E25","v":33364.256189678723},{"$f":"'ODS subs method'!F25","v":107913.87960654042},{"$f":"'ODS subs method'!G25","v":260754.42052323412},{"$f":"'ODS subs method'!H25","v":572693.65103370836},{"$f":"'ODS subs method'!I25","v":803344.1619025541},{"$f":"'ODS subs method'!J25","v":1020988.6908184626},{"$f":"'ODS subs method'!K25","v":1177602.0716654193},{"$f":"'ODS subs method'!L25","v":1338157.4499433034},{"$f":"'ODS subs method'!M25","v":1472358.9128157732},{"$f":"'ODS subs method'!N25","v":1601652.5441583728},{"$f":"'ODS subs method'!O25","v":1693937.4776078654},{"$f":"'ODS subs method'!P25","v":1776035.3004828738},{"$f":"'ODS subs method'!Q25","v":1841710.4934056657},{"$f":"'ODS subs method'!R25","v":1923035.6945102911},{"$f":"'ODS subs method'!S25","v":2043473.4271879846},{"$f":"'ODS subs method'!T25","v":2185336.0490360721},{"$f":"'ODS subs method'!U25","v":2344618.005572557},{"$f":"'ODS subs method'!V25","v":2437547.8218789496},{"$f":"'ODS subs method'!W25","v":2248724.7459142134},{"$f":"'ODS subs method'!X25","v":2375021.3406845252},{"$f":"'ODS subs method'!Y25","v":2590013.3833123082},{"$f":"'ODS subs method'!Z25","v":3058048.2864494538},{"$f":"'ODS subs method'!AA25","v":3467413.4177221409},{"$f":"'ODS subs method'!AB25","v":3352298.2398250522},{"$f":"'ODS subs method'!AC25","v":3396897.8292518733},{"$f":"'ODS subs method'!AD25","v":2930262.2333298363},{"$f":"'ODS subs method'!AE25","v":3287497.0695521231},{"$f":"'ODS subs method'!AF25","v":3150018.6257919343},{"$f":"'ODS subs method'!AG25","v":3460571.3795215455},{"$f":"'ODS subs method'!AH25","v":3599382.0553111131}]
["MI","ODS",null,"MI ODS ",{"$f":"'ODS subs method'!C26","v":9285.1914181471475},{"$f":"'ODS subs method'!D26","v":19463.818601380175},{"$f":"'ODS subs method'!E26","v":65677.792091999392},{"$f":"'ODS subs method'!F26","v":226854.38318384788},{"$f":"'ODS subs method'!G26","v":556841.33270009584},{"$f":"'ODS subs method'!H26","v":1215484.6174652248},{"$f":"'ODS subs method'!I26","v":1691020.0267785522},{"$f":"'ODS subs method'!J26","v":2137158.7669115155},{"$f":"'ODS subs method'!K26","v":2446778.6975280587},{"$f":"'ODS subs method'!L26","v":2770473.2937494824},{"$f":"'ODS subs method'!M26","v":3047895.100339049},{"$f":"'ODS subs method'!N26","v":3308528.4153047712},{"$f":"'ODS subs method'!O26","v":3483438.3828816833},{"$f":"'ODS subs method'!P26","v":3639329.5769067002},{"$f":"'ODS subs method'!Q26","v":3767363.2284380803},{"$f":"'ODS subs method'!R26","v":3905417.1374047333},{"$f":"'ODS subs method'!S26","v":4108136.8182103182},{"$f":"'ODS subs method'!T26","v":4328890.3372089025},{"$f":"'ODS subs method'!U26","v":4566555.6533109555},{"$f":"'ODS subs method'!V26","v":4808563.807859486},{"$f":"'ODS subs method'!W26","v":5273378.0645328239},{"$f":"'ODS subs method'!X26","v":5369806.2586937891},{"$f":"'ODS subs method'!Y26","v":5566440.7074918225},{"$f":"'ODS subs method'!Z26","v":5504166.0650117034},{"$f":"'ODS subs method'!AA26","v":4976931.986238488},{"$f":"'ODS subs method'!AB26","v":5370672.726703194},{"$f":"'ODS subs method'!AC26","v":5028186.4799124282},{"$f":"'ODS subs method'!AD26","v":5418968.6433388898},{"$f":"'ODS subs method'!AE26","v":4659526.1926816804},{"$f":"'ODS subs method'!AF26","v":4734272.3855027771},{"$f":"'ODS subs method'!AG26","v":4402277.8980265129},{"$f":"'ODS subs method'!AH26","v":4501053.9135562861}]
["MN","ODS",null,"MN ODS ",{"$f":"'ODS subs method'!C27","v":4377.5390514805886},{"$f":"'ODS subs method'!D27","v":9194.8907541521512},{"$f":"'ODS subs method'!E27","v":31148.561925739919},{"$f":"'ODS subs method'!F27","v":108336.03607713539},{"$f":"'ODS subs method'!G27","v":267483.49349649297},{"$f":"'ODS subs method'!H27","v":585392.06148140959},{"$f":"'ODS subs method'!I27","v":816658.95621192129},{"$f":"'ODS subs method'!J27","v":1037829.3168950435},{"$f":"'ODS subs method'!K27","v":1195920.3195983411},{"$f":"'ODS subs method'!L27","v":1364220.5424383751},{"$f":"'ODS subs method'!M27","v":1510922.0014551156},{"$f":"'ODS subs method'!N27","v":1650037.4486210709},{"$f":"'ODS subs method'!O27","v":1745572.7871701838},{"$f":"'ODS subs method'!P27","v":1831623.9061641081},{"$f":"'ODS subs method'!Q27","v":1906182.2402427359},{"$f":"'ODS subs method'!R27","v":1989244.1786260593},{"$f":"'ODS subs method'!S27","v":2113632.8421775368},{"$f":"'ODS subs method'!T27","v":2253851.6805027449},{"$f":"'ODS subs method'!U27","v":2408873.7404151536},{"$f":"'ODS subs method'!V27","v":2564739.5057783071},{"$f":"'ODS subs method'!W27","v":2835361.9668611274},{"$f":"'ODS subs method'!X27","v":2905004.5101303612},{"$f":"'ODS subs method'!Y27","v":3024112.036387024},{"$f":"'ODS subs method'!Z27","v":3005963.1129166572},{"$f":"'ODS subs method'!AA27","v":2732325.0787369595},{"$f":"'ODS subs method'!AB27","v":2964701.8344674571},{"$f":"'ODS subs method'!AC27","v":2791060.2666865312},{"$f":"'ODS subs method'!AD27","v":3025009.5364583931},{"$f":"'ODS subs method'!AE27","v":2616744.273420996},{"$f":"'ODS subs method'!AF27","v":2674220.8698998918},{"$f":"'ODS subs method'!AG27","v":2495566.6319307517},{"$f":"'ODS subs method'!AH27","v":2555940.0227197604}]
["MS","ODS",null,"MS ODS ",{"$f":"'ODS subs method'!C28","v":2572.3829657451647},{"$f":"'ODS subs method'!D28","v":5382.4456867046965},{"$f":"'ODS subs method'!E28","v":20288.299001533174},{"$f":"'ODS subs method'!F28","v":72162.492921577723},{"$f":"'ODS subs method'!G28","v":178088.44933412882},{"$f":"'ODS subs method'!H28","v":387132.45851332461},{"$f":"'ODS subs method'!I28","v":534861.93859443802},{"$f":"'ODS subs method'!J28","v":675029.27051395969},{"$f":"'ODS subs method'!K28","v":771629.08621069859},{"$f":"'ODS subs method'!L28","v":871634.40497613861},{"$f":"'ODS subs method'!M28","v":955954.45288605103},{"$f":"'ODS subs method'!N28","v":1030764.5176255449},{"$f":"'ODS subs method'!O28","v":1078467.6237414991},{"$f":"'ODS subs method'!P28","v":1121589.2359062918},{"$f":"'ODS subs method'!Q28","v":1160432.4903208718},{"$f":"'ODS subs method'!R28","v":1202014.4256792469},{"$f":"'ODS subs method'!S28","v":1260089.7986241656},{"$f":"'ODS subs method'!T28","v":1332052.9973469172},{"$f":"'ODS subs method'!U28","v":1410793.8388503906},{"$f":"'ODS subs method'!V28","v":1712388.4541907145},{"$f":"'ODS subs method'!W28","v":1780420.5535976435},{"$f":"'ODS subs method'!X28","v":1954638.1898028217},{"$f":"'ODS subs method'!Y28","v":1630546.277181918},{"$f":"'ODS subs method'!Z28","v":1624707.5745673454},{"$f":"'ODS subs method'!AA28","v":1656406.3638433113},{"$f":"'ODS subs method'!AB28","v":1720967.4360509266},{"$f":"'ODS subs method'!AC28","v":1738917.6080621947},{"$f":"'ODS subs method'!AD28","v":1797274.5082209497},{"$f":"'ODS subs method'!AE28","v":1807491.6669593414},{"$f":"'ODS subs method'!AF28","v":1737405.951792941},{"$f":"'ODS subs method'!AG28","v":2000853.8178977303},{"$f":"'ODS subs method'!AH28","v":2072336.7292069846}]
["MO","ODS",null,"MO ODS ",{"$f":"'ODS subs method'!C29","v":5114.4883512965844},{"$f":"'ODS subs method'!D29","v":10706.24874862497},{"$f":"'ODS subs method'!E29","v":36147.834707427595},{"$f":"'ODS subs method'!F29","v":125343.2771641009},{"$f":"'ODS subs method'!G29","v":308916.57121232449},{"$f":"'ODS subs method'!H29","v":675592.59481097432},{"$f":"'ODS subs method'!I29","v":941202.8923594543},{"$f":"'ODS subs method'!J29","v":1194221.5075733657},{"$f":"'ODS subs method'!K29","v":1371914.7589167382},{"$f":"'ODS subs method'!L29","v":1556941.2741270633},{"$f":"'ODS subs method'!M29","v":1717206.9668980648},{"$f":"'ODS subs method'!N29","v":1868046.6856337616},{"$f":"'ODS subs method'!O29","v":1973689.6556646065},{"$f":"'ODS subs method'!P29","v":2069324.2373364975},{"$f":"'ODS subs method'!Q29","v":2153470.8847993244},{"$f":"'ODS subs method'!R29","v":2249848.6341112079},{"$f":"'ODS subs method'!S29","v":2391633.4892379502},{"$f":"'ODS subs method'!T29","v":2548355.4607623564},{"$f":"'ODS subs method'!U29","v":2719633.4551978232},{"$f":"'ODS subs method'!V29","v":2894915.777905337},{"$f":"'ODS subs method'!W29","v":3201147.4253896521},{"$f":"'ODS subs method'!X29","v":3266084.1468468755},{"$f":"'ODS subs method'!Y29","v":3388820.2291572639},{"$f":"'ODS subs method'!Z29","v":3354743.2399597098},{"$f":"'ODS subs method'!AA29","v":3036224.094883414},{"$f":"'ODS subs method'!AB29","v":3284422.9700944251},{"$f":"'ODS subs method'!AC29","v":3076979.5726486729},{"$f":"'ODS subs method'!AD29","v":3319455.8134216131},{"$f":"'ODS subs method'!AE29","v":2858052.950821803},{"$f":"'ODS subs method'!AF29","v":2911495.0508618518},{"$f":"'ODS subs method'!AG29","v":2691164.0754125393},{"$f":"'ODS subs method'!AH29","v":2762298.707626381}]
["MT","ODS",null,"MT ODS ",{"$f":"'ODS subs method'!C30","v":798.34072741788248},{"$f":"'ODS subs method'!D30","v":1677.3324855263791},{"$f":"'ODS subs method'!E30","v":4095.9782384564778},{"$f":"'ODS subs method'!F30","v":12868.72627002107},{"$f":"'ODS subs method'!G30","v":30341.799705505331},{"$f":"'ODS subs method'!H30","v":65987.660767010791},{"$f":"'ODS subs method'!I30","v":92304.806872282148},{"$f":"'ODS subs method'!J30","v":115511.56560498779},{"$f":"'ODS subs method'!K30","v":131599.77677128153},{"$f":"'ODS subs method'!L30","v":148252.8584613548},{"$f":"'ODS subs method'!M30","v":161269.9490395523},{"$f":"'ODS subs method'!N30","v":173825.62383893051},{"$f":"'ODS subs method'!O30","v":184168.29651371628},{"$f":"'ODS subs method'!P30","v":194912.90386211383},{"$f":"'ODS subs method'!Q30","v":203692.36008246371},{"$f":"'ODS subs method'!R30","v":214831.2012612645},{"$f":"'ODS subs method'!S30","v":229827.18510360198},{"$f":"'ODS subs method'!T30","v":247920.94192745141},{"$f":"'ODS subs method'!U30","v":268418.4184152399},{"$f":"'ODS subs method'!V30","v":289775.45369483373},{"$f":"'ODS subs method'!W30","v":286590.89988284634},{"$f":"'ODS subs method'!X30","v":263467.31642297568},{"$f":"'ODS subs method'!Y30","v":350312.8823952754},{"$f":"'ODS subs method'!Z30","v":266659.29429186328},{"$f":"'ODS subs method'!AA30","v":274693.35399148904},{"$f":"'ODS subs method'!AB30","v":250713.66206441532},{"$f":"'ODS subs method'!AC30","v":230040.45383507834},{"$f":"'ODS subs method'!AD30","v":213292.56778679951},{"$f":"'ODS subs method'!AE30","v":269938.90737741359},{"$f":"'ODS subs method'!AF30","v":243120.25550189827},{"$f":"'ODS subs method'!AG30","v":318030.9461721371},{"$f":"'ODS subs method'!AH30","v":328916.43251109839}]
["NE","ODS",null,"NE ODS ",{"$f":"'ODS subs method'!C31","v":1577.2218585172106},{"$f":"'ODS subs method'!D31","v":3304.3834216478717},{"$f":"'ODS subs method'!E31","v":11166.928774449616},{"$f":"'ODS subs method'!F31","v":38654.906719126353},{"$f":"'ODS subs method'!G31","v":95093.851268283091},{"$f":"'ODS subs method'!H31","v":208144.31260985706},{"$f":"'ODS subs method'!I31","v":290032.87440216698},{"$f":"'ODS subs method'!J31","v":367430.34707204439},{"$f":"'ODS subs method'!K31","v":421335.38801581512},{"$f":"'ODS subs method'!L31","v":477210.04120246175},{"$f":"'ODS subs method'!M31","v":524850.01993107924},{"$f":"'ODS subs method'!N31","v":569518.35986997432},{"$f":"'ODS subs method'!O31","v":601095.54785705172},{"$f":"'ODS subs method'!P31","v":630156.27027474495},{"$f":"'ODS subs method'!Q31","v":655425.73364760086},{"$f":"'ODS subs method'!R31","v":684438.04629138228},{"$f":"'ODS subs method'!S31","v":725628.39824466361},{"$f":"'ODS subs method'!T31","v":771932.50216590648},{"$f":"'ODS subs method'!U31","v":824706.10774719878},{"$f":"'ODS subs method'!V31","v":880303.16228191566},{"$f":"'ODS subs method'!W31","v":976768.44342471927},{"$f":"'ODS subs method'!X31","v":1000232.5717485294},{"$f":"'ODS subs method'!Y31","v":1042448.9567349697},{"$f":"'ODS subs method'!Z31","v":1035799.2623814052},{"$f":"'ODS subs method'!AA31","v":942043.60498892574},{"$f":"'ODS subs method'!AB31","v":1022864.4679963035},{"$f":"'ODS subs method'!AC31","v":963033.89288903121},{"$f":"'ODS subs method'!AD31","v":1041235.8702855764},{"$f":"'ODS subs method'!AE31","v":898339.50868362933},{"$f":"'ODS subs method'!AF31","v":916325.02403138822},{"$f":"'ODS subs method'!AG31","v":857683.56934375199},{"$f":"'ODS subs method'!AH31","v":879400.0366357672}]
["NV","ODS",null,"NV ODS ",{"$f":"'ODS subs method'!C32","v":1217.8526154022875},{"$f":"'ODS subs method'!D32","v":2685.1468791339944},{"$f":"'ODS subs method'!E32","v":6703.0405853545362},{"$f":"'ODS subs method'!F32","v":21497.843228022812},{"$f":"'ODS subs method'!G32","v":52816.768506041684},{"$f":"'ODS subs method'!H32","v":119062.54674910408},{"$f":"'ODS subs method'!I32","v":173549.95947823228},{"$f":"'ODS subs method'!J32","v":228994.75193430623},{"$f":"'ODS subs method'!K32","v":273275.49347181787},{"$f":"'ODS subs method'!L32","v":319582.43647864071},{"$f":"'ODS subs method'!M32","v":360225.69626892457},{"$f":"'ODS subs method'!N32","v":402173.31863000512},{"$f":"'ODS subs method'!O32","v":439133.35181250138},{"$f":"'ODS subs method'!P32","v":476637.21697890962},{"$f":"'ODS subs method'!Q32","v":513874.0554740848},{"$f":"'ODS subs method'!R32","v":555790.9698406934},{"$f":"'ODS subs method'!S32","v":608565.39901571802},{"$f":"'ODS subs method'!T32","v":668452.58582523547},{"$f":"'ODS subs method'!U32","v":729488.145572562},{"$f":"'ODS subs method'!V32","v":790614.07464124449},{"$f":"'ODS subs method'!W32","v":781753.89348066004},{"$f":"'ODS subs method'!X32","v":716595.45464804163},{"$f":"'ODS subs method'!Y32","v":957502.38896662719},{"$f":"'ODS subs method'!Z32","v":730163.47279176966},{"$f":"'ODS subs method'!AA32","v":757187.12122832797},{"$f":"'ODS subs method'!AB32","v":697220.93830343266},{"$f":"'ODS subs method'!AC32","v":644460.14026608039},{"$f":"'ODS subs method'!AD32","v":601526.76616240432},{"$f":"'ODS subs method'!AE32","v":770481.00056828198},{"$f":"'ODS subs method'!AF32","v":702189.40740256722},{"$f":"'ODS subs method'!AG32","v":911781.7428184615},{"$f":"'ODS subs method'!AH32","v":936464.24072261248}]
["NH","ODS",null,"NH ODS ",{"$f":"'ODS subs method'!C33","v":1109.1911878377409},{"$f":"'ODS subs method'!D33","v":2297.9673419055021},{"$f":"'ODS subs method'!E33","v":6186.0726302636022},{"$f":"'ODS subs method'!F33","v":20111.015093243539},{"$f":"'ODS subs method'!G33","v":48878.718776341477},{"$f":"'ODS subs method'!H33","v":107943.29923726917},{"$f":"'ODS subs method'!I33","v":152708.88535502154},{"$f":"'ODS subs method'!J33","v":195049.49577674185},{"$f":"'ODS subs method'!K33","v":226427.63449951919},{"$f":"'ODS subs method'!L33","v":258850.37749798622},{"$f":"'ODS subs method'!M33","v":286986.55351961654},{"$f":"'ODS subs method'!N33","v":314319.63711648522},{"$f":"'ODS subs method'!O33","v":334998.97299851186},{"$f":"'ODS subs method'!P33","v":353914.83293201402},{"$f":"'ODS subs method'!Q33","v":370543.5528266792},{"$f":"'ODS subs method'!R33","v":389963.04478417448},{"$f":"'ODS subs method'!S33","v":417101.89038475318},{"$f":"'ODS subs method'!T33","v":445979.11296496016},{"$f":"'ODS subs method'!U33","v":476938.11102158373},{"$f":"'ODS subs method'!V33","v":492214.18385389412},{"$f":"'ODS subs method'!W33","v":450950.05611763109},{"$f":"'ODS subs method'!X33","v":474142.62414375157},{"$f":"'ODS subs method'!Y33","v":514824.83053520188},{"$f":"'ODS subs method'!Z33","v":604432.81680823304},{"$f":"'ODS subs method'!AA33","v":683889.67235552589},{"$f":"'ODS subs method'!AB33","v":659601.67759147531},{"$f":"'ODS subs method'!AC33","v":668551.93162998534},{"$f":"'ODS subs method'!AD33","v":576524.64152385108},{"$f":"'ODS subs method'!AE33","v":646957.60632956016},{"$f":"'ODS subs method'!AF33","v":621691.73801223678},{"$f":"'ODS subs method'!AG33","v":679007.68619197409},{"$f":"'ODS subs method'!AH33","v":715778.26060828683}]
["NJ","ODS",null,"NJ ODS ",{"$f":"'ODS subs method'!C34","v":7740.6814113745195},{"$f":"'ODS subs method'!D34","v":16179.296365418622},{"$f":"'ODS subs method'!E34","v":43612.5359205118},{"$f":"'ODS subs method'!F34","v":141537.57779387102},{"$f":"'ODS subs method'!G34","v":342852.02454273403},{"$f":"'ODS subs method'!H34","v":753767.45589499129},{"$f":"'ODS subs method'!I34","v":1059415.6740920525},{"$f":"'ODS subs method'!J34","v":1347772.5424350859},{"$f":"'ODS subs method'!K34","v":1556047.9408998261},{"$f":"'ODS subs method'!L34","v":1770751.8448472323},{"$f":"'ODS subs method'!M34","v":1951375.1024856421},{"$f":"'ODS subs method'!N34","v":2126146.6526297117},{"$f":"'ODS subs method'!O34","v":2257624.6594391023},{"$f":"'ODS subs method'!P34","v":2378550.2498836513},{"$f":"'ODS subs method'!Q34","v":2479985.1409586263},{"$f":"'ODS subs method'!R34","v":2598360.3475674191},{"$f":"'ODS subs method'!S34","v":2761260.3627865398},{"$f":"'ODS subs method'!T34","v":2948600.008161224},{"$f":"'ODS subs method'!U34","v":3157255.0087460717},{"$f":"'ODS subs method'!V34","v":3274542.165105381},{"$f":"'ODS subs method'!W34","v":3013435.470994873},{"$f":"'ODS subs method'!X34","v":3170140.3563267859},{"$f":"'ODS subs method'!Y34","v":3437797.344971756},{"$f":"'ODS subs method'!Z34","v":4033805.9552323255},{"$f":"'ODS subs method'!AA34","v":4545030.8015739759},{"$f":"'ODS subs method'!AB34","v":4374549.6575349122},{"$f":"'ODS subs method'!AC34","v":4415031.7882501017},{"$f":"'ODS subs method'!AD34","v":3794619.917125205},{"$f":"'ODS subs method'!AE34","v":4245240.3406250468},{"$f":"'ODS subs method'!AF34","v":4062088.9878365654},{"$f":"'ODS subs method'!AG34","v":4573085.5819264287},{"$f":"'ODS subs method'!AH34","v":4775556.8010693155}]
["NM","ODS",null,"NM ODS ",{"$f":"'ODS subs method'!C35","v":1518.0310195651819},{"$f":"'ODS subs method'!D35","v":3221.9686807153507},{"$f":"'ODS subs method'!E35","v":7913.6995927673315},{"$f":"'ODS subs method'!F35","v":24929.022185866517},{"$f":"'ODS subs method'!G35","v":59266.954068522413},{"$f":"'ODS subs method'!H35","v":129512.73415024622},{"$f":"'ODS subs method'!I35","v":182507.62536166693},{"$f":"'ODS subs method'!J35","v":230388.24044859724},{"$f":"'ODS subs method'!K35","v":264470.97203354095},{"$f":"'ODS subs method'!L35","v":298664.32777964225},{"$f":"'ODS subs method'!M35","v":324977.04210086906},{"$f":"'ODS subs method'!N35","v":351056.61316145974},{"$f":"'ODS subs method'!O35","v":374795.94856078638},{"$f":"'ODS subs method'!P35","v":397946.3485923736},{"$f":"'ODS subs method'!Q35","v":416975.69019641221},{"$f":"'ODS subs method'!R35","v":441561.38864283718},{"$f":"'ODS subs method'!S35","v":473345.4500485218},{"$f":"'ODS subs method'!T35","v":511430.45539424772},{"$f":"'ODS subs method'!U35","v":552734.96823340771},{"$f":"'ODS subs method'!V35","v":599823.19151828485},{"$f":"'ODS subs method'!W35","v":597235.96153414459},{"$f":"'ODS subs method'!X35","v":549562.3031890156},{"$f":"'ODS subs method'!Y35","v":728317.83055211103},{"$f":"'ODS subs method'!Z35","v":550282.47161756165},{"$f":"'ODS subs method'!AA35","v":561453.09470697818},{"$f":"'ODS subs method'!AB35","v":508009.5922759049},{"$f":"'ODS subs method'!AC35","v":461908.84871649538},{"$f":"'ODS subs method'!AD35","v":423573.55207531614},{"$f":"'ODS subs method'!AE35","v":532281.1132200521},{"$f":"'ODS subs method'!AF35","v":477013.90825210983},{"$f":"'ODS subs method'!AG35","v":620010.9175459129},{"$f":"'ODS subs method'!AH35","v":630231.81308961776}]
["NY","ODS",null,"NY ODS ",{"$f":"'ODS subs method'!C36","v":17969.059974547778},{"$f":"'ODS subs method'!D36","v":37520.360431483357},{"$f":"'ODS subs method'!E36","v":100981.15621373829},{"$f":"'ODS subs method'!F36","v":327182.57538718201},{"$f":"'ODS subs method'!G36","v":789696.15853024111},{"$f":"'ODS subs method'!H36","v":1727384.4757851157},{"$f":"'ODS subs method'!I36","v":2416427.2537231483},{"$f":"'ODS subs method'!J36","v":3059419.3751061154},{"$f":"'ODS subs method'!K36","v":3521614.2001055935},{"$f":"'ODS subs method'!L36","v":3999790.914376318},{"$f":"'ODS subs method'!M36","v":4398205.1138237175},{"$f":"'ODS subs method'!N36","v":4777403.0262534665},{"$f":"'ODS subs method'!O36","v":5051768.1151210982},{"$f":"'ODS subs method'!P36","v":5302732.5661797505},{"$f":"'ODS subs method'!Q36","v":5506383.1605211617},{"$f":"'ODS subs method'!R36","v":5745904.3646538788},{"$f":"'ODS subs method'!S36","v":6090373.5091040628},{"$f":"'ODS subs method'!T36","v":6500847.0539933722},{"$f":"'ODS subs method'!U36","v":6963371.953591723},{"$f":"'ODS subs method'!V36","v":7220725.8508863812},{"$f":"'ODS subs method'!W36","v":6643654.876439427},{"$f":"'ODS subs method'!X36","v":7001996.0812695194},{"$f":"'ODS subs method'!Y36","v":7607414.939252886},{"$f":"'ODS subs method'!Z36","v":8937801.3141940627},{"$f":"'ODS subs method'!AA36","v":10073605.375315202},{"$f":"'ODS subs method'!AB36","v":9694351.9967058487},{"$f":"'ODS subs method'!AC36","v":9770042.2367679402},{"$f":"'ODS subs method'!AD36","v":8365209.2689897902},{"$f":"'ODS subs method'!AE36","v":9331074.2960851584},{"$f":"'ODS subs method'!AF36","v":8891989.1992697176},{"$f":"'ODS subs method'!AG36","v":9932412.29924074},{"$f":"'ODS subs method'!AH36","v":10221884.146717405}]
["NC","ODS",null,"NC ODS ",{"$f":"'ODS subs method'!C37","v":6649.9997263616387},{"$f":"'ODS subs method'!D37","v":14058.119277046759},{"$f":"'ODS subs method'!E37","v":47944.190819291733},{"$f":"'ODS subs method'!F37","v":168667.59144985842},{"$f":"'ODS subs method'!G37","v":415110.80399927811},{"$f":"'ODS subs method'!H37","v":908615.4985090571},{"$f":"'ODS subs method'!I37","v":1270544.8139948417},{"$f":"'ODS subs method'!J37","v":1615905.9763621753},{"$f":"'ODS subs method'!K37","v":1864860.8622402749},{"$f":"'ODS subs method'!L37","v":2126997.2930682995},{"$f":"'ODS subs method'!M37","v":2346791.8833348826},{"$f":"'ODS subs method'!N37","v":2559405.3021558453},{"$f":"'ODS subs method'!O37","v":2712573.8306942112},{"$f":"'ODS subs method'!P37","v":2851375.593589135},{"$f":"'ODS subs method'!Q37","v":2969911.4203317733},{"$f":"'ODS subs method'!R37","v":3121692.3600789122},{"$f":"'ODS subs method'!S37","v":3353419.2926665009},{"$f":"'ODS subs method'!T37","v":3627804.8121234472},{"$f":"'ODS subs method'!U37","v":3935282.8565317513},{"$f":"'ODS subs method'!V37","v":4844485.341132977},{"$f":"'ODS subs method'!W37","v":5046673.1158544226},{"$f":"'ODS subs method'!X37","v":4626677.0592546733},{"$f":"'ODS subs method'!Y37","v":5657287.9511054754},{"$f":"'ODS subs method'!Z37","v":5232811.170290838},{"$f":"'ODS subs method'!AA37","v":5587462.0466558253},{"$f":"'ODS subs method'!AB37","v":5908523.7494751709},{"$f":"'ODS subs method'!AC37","v":6758155.6669491334},{"$f":"'ODS subs method'!AD37","v":6734942.9941039812},{"$f":"'ODS subs method'!AE37","v":7388579.2733600764},{"$f":"'ODS subs method'!AF37","v":8611801.515903268},{"$f":"'ODS subs method'!AG37","v":7297025.6754941298},{"$f":"'ODS subs method'!AH37","v":7663865.8834184324}]
["ND","ODS",null,"ND ODS ",{"$f":"'ODS subs method'!C38","v":635.89565446970119},{"$f":"'ODS subs method'!D38","v":1316.339785078628},{"$f":"'ODS subs method'!E38","v":4422.0687907860247},{"$f":"'ODS subs method'!F38","v":15247.476095947513},{"$f":"'ODS subs method'!G38","v":37410.22687851861},{"$f":"'ODS subs method'!H38","v":81377.910289650725},{"$f":"'ODS subs method'!I38","v":112700.99353509513},{"$f":"'ODS subs method'!J38","v":141557.65378349871},{"$f":"'ODS subs method'!K38","v":160883.1067006425},{"$f":"'ODS subs method'!L38","v":180345.70411802264},{"$f":"'ODS subs method'!M38","v":196616.78842947993},{"$f":"'ODS subs method'!N38","v":211623.40019352167},{"$f":"'ODS subs method'!O38","v":221953.2021121656},{"$f":"'ODS subs method'!P38","v":231533.75253465015},{"$f":"'ODS subs method'!Q38","v":241547.6700819589},{"$f":"'ODS subs method'!R38","v":251040.95714630958},{"$f":"'ODS subs method'!S38","v":265832.29337784153},{"$f":"'ODS subs method'!T38","v":282563.20365638967},{"$f":"'ODS subs method'!U38","v":301885.88958739076},{"$f":"'ODS subs method'!V38","v":322932.04780774174},{"$f":"'ODS subs method'!W38","v":360231.58221576083},{"$f":"'ODS subs method'!X38","v":372470.10668639728},{"$f":"'ODS subs method'!Y38","v":394907.13583932142},{"$f":"'ODS subs method'!Z38","v":401453.52229395497},{"$f":"'ODS subs method'!AA38","v":370179.88439888135},{"$f":"'ODS subs method'!AB38","v":408450.23942515702},{"$f":"'ODS subs method'!AC38","v":381940.67761836702},{"$f":"'ODS subs method'!AD38","v":411038.74444207118},{"$f":"'ODS subs method'!AE38","v":354603.72287947143},{"$f":"'ODS subs method'!AF38","v":362118.34527856833},{"$f":"'ODS subs method'!AG38","v":340615.97566252993},{"$f":"'ODS subs method'!AH38","v":347044.9029638124}]
["OH","ODS",null,"OH ODS ",{"$f":"'ODS subs method'!C39","v":10833.677137230543},{"$f":"'ODS subs method'!D39","v":22663.427460982195},{"$f":"'ODS subs method'!E39","v":76419.844795984929},{"$f":"'ODS subs method'!F39","v":263974.02246320545},{"$f":"'ODS subs method'!G39","v":647042.87565251195},{"$f":"'ODS subs method'!H39","v":1407242.1026983771},{"$f":"'ODS subs method'!I39","v":1948205.4746951687},{"$f":"'ODS subs method'!J39","v":2457067.7000395805},{"$f":"'ODS subs method'!K39","v":2810417.1735700462},{"$f":"'ODS subs method'!L39","v":3173103.4151287852},{"$f":"'ODS subs method'!M39","v":3480036.2757102121},{"$f":"'ODS subs method'!N39","v":3770903.5333931744},{"$f":"'ODS subs method'!O39","v":3967634.6869322038},{"$f":"'ODS subs method'!P39","v":4144441.0137460139},{"$f":"'ODS subs method'!Q39","v":4290744.6758498605},{"$f":"'ODS subs method'!R39","v":4454127.5658220984},{"$f":"'ODS subs method'!S39","v":4699682.4600175042},{"$f":"'ODS subs method'!T39","v":4977787.3319645962},{"$f":"'ODS subs method'!U39","v":5286645.288907527},{"$f":"'ODS subs method'!V39","v":5598840.8378184857},{"$f":"'ODS subs method'!W39","v":6160595.2574695274},{"$f":"'ODS subs method'!X39","v":6273199.1889773272},{"$f":"'ODS subs method'!Y39","v":6495849.4529163111},{"$f":"'ODS subs method'!Z39","v":6428423.6588574853},{"$f":"'ODS subs method'!AA39","v":5816042.3363788668},{"$f":"'ODS subs method'!AB39","v":6283130.2033184273},{"$f":"'ODS subs method'!AC39","v":5879817.5988256382},{"$f":"'ODS subs method'!AD39","v":6336340.2253970364},{"$f":"'ODS subs method'!AE39","v":5449670.9344146037},{"$f":"'ODS subs method'!AF39","v":5545877.5164577682},{"$f":"'ODS subs method'!AG39","v":5155658.8057426969},{"$f":"'ODS subs method'!AH39","v":5275444.1029295623}]
["OK","ODS",null,"OK ODS ",{"$f":"'ODS subs method'!C40","v":3140.8713849806791},{"$f":"'ODS subs method'!D40","v":6576.9101063439593},{"$f":"'ODS subs method'!E40","v":24902.986291872807},{"$f":"'ODS subs method'!F40","v":88393.278329047302},{"$f":"'ODS subs method'!G40","v":217292.39691241796},{"$f":"'ODS subs method'!H40","v":470391.14935562928},{"$f":"'ODS subs method'!I40","v":650091.92659451999},{"$f":"'ODS subs method'!J40","v":819882.75926650921},{"$f":"'ODS subs method'!K40","v":936792.2431738039},{"$f":"'ODS subs method'!L40","v":1059230.3444766526},{"$f":"'ODS subs method'!M40","v":1159342.1193383415},{"$f":"'ODS subs method'!N40","v":1252636.2337458567},{"$f":"'ODS subs method'!O40","v":1316292.3098603832},{"$f":"'ODS subs method'!P40","v":1370509.6029351323},{"$f":"'ODS subs method'!Q40","v":1415985.0291800017},{"$f":"'ODS subs method'!R40","v":1467841.862322178},{"$f":"'ODS subs method'!S40","v":1559005.3158189596},{"$f":"'ODS subs method'!T40","v":1653199.0639284139},{"$f":"'ODS subs method'!U40","v":1755939.4124613192},{"$f":"'ODS subs method'!V40","v":2151542.2842105143},{"$f":"'ODS subs method'!W40","v":2253542.1814724864},{"$f":"'ODS subs method'!X40","v":2485872.6624908024},{"$f":"'ODS subs method'!Y40","v":2086571.0962733836},{"$f":"'ODS subs method'!Z40","v":2094241.8301644071},{"$f":"'ODS subs method'!AA40","v":2147641.0356183448},{"$f":"'ODS subs method'!AB40","v":2250620.1481059482},{"$f":"'ODS subs method'!AC40","v":2284066.2241748725},{"$f":"'ODS subs method'!AD40","v":2363936.2231011954},{"$f":"'ODS subs method'!AE40","v":2389577.8872539452},{"$f":"'ODS subs method'!AF40","v":2310536.4552545724},{"$f":"'ODS subs method'!AG40","v":2681025.8323765211},{"$f":"'ODS subs method'!AH40","v":2800595.405636678}]
["OR","ODS",null,"OR ODS ",{"$f":"'ODS subs method'!C41","v":2851.9842111665212},{"$f":"'ODS subs method'!D41","v":6062.5551448288315},{"$f":"'ODS subs method'!E41","v":14158.905920203018},{"$f":"'ODS subs method'!F41","v":43587.927527082815},{"$f":"'ODS subs method'!G41","v":104647.67891543372},{"$f":"'ODS subs method'!H41","v":232995.73627045524},{"$f":"'ODS subs method'!I41","v":331976.51366804424},{"$f":"'ODS subs method'!J41","v":422913.05057663482},{"$f":"'ODS subs method'!K41","v":488843.21057848772},{"$f":"'ODS subs method'!L41","v":555050.10225358617},{"$f":"'ODS subs method'!M41","v":608495.15302250336},{"$f":"'ODS subs method'!N41","v":661016.76466662087},{"$f":"'ODS subs method'!O41","v":705783.97233871766},{"$f":"'ODS subs method'!P41","v":746546.2726118823},{"$f":"'ODS subs method'!Q41","v":779004.22093283362},{"$f":"'ODS subs method'!R41","v":824504.5127180171},{"$f":"'ODS subs method'!S41","v":888552.55957166129},{"$f":"'ODS subs method'!T41","v":960126.2087652568},{"$f":"'ODS subs method'!U41","v":1035150.7595486145},{"$f":"'ODS subs method'!V41","v":709393.74236922897},{"$f":"'ODS subs method'!W41","v":1008004.0481187928},{"$f":"'ODS subs method'!X41","v":993147.55263358937},{"$f":"'ODS subs method'!Y41","v":821244.43282678491},{"$f":"'ODS subs method'!Z41","v":905963.78545426903},{"$f":"'ODS subs method'!AA41","v":952923.30786586087},{"$f":"'ODS subs method'!AB41","v":986980.89340642327},{"$f":"'ODS subs method'!AC41","v":961594.20190673822},{"$f":"'ODS subs method'!AD41","v":1120516.1283379504},{"$f":"'ODS subs method'!AE41","v":982195.54982648231},{"$f":"'ODS subs method'!AF41","v":1086498.5294734},{"$f":"'ODS subs method'!AG41","v":1171872.8939879674},{"$f":"'ODS subs method'!AH41","v":1209199.6411913768}]
["PA","ODS",null,"PA ODS ",{"$f":"'ODS subs method'!C42","v":11869.133641797969},{"$f":"'ODS subs method'!D42","v":24807.552156359376},{"$f":"'ODS subs method'!E42","v":66684.415642673135},{"$f":"'ODS subs method'!F42","v":215802.58167186915},{"$f":"'ODS subs method'!G42","v":520463.6400442071},{"$f":"'ODS subs method'!H42","v":1137508.8355998532},{"$f":"'ODS subs method'!I42","v":1588612.6264759214},{"$f":"'ODS subs method'!J42","v":2005194.9094325283},{"$f":"'ODS subs method'!K42","v":2299250.828247671},{"$f":"'ODS subs method'!L42","v":2597753.0157687971},{"$f":"'ODS subs method'!M42","v":2843329.0201073396},{"$f":"'ODS subs method'!N42","v":3079056.5060501276},{"$f":"'ODS subs method'!O42","v":3254998.44456363},{"$f":"'ODS subs method'!P42","v":3421970.7296699677},{"$f":"'ODS subs method'!Q42","v":3564559.4661463764},{"$f":"'ODS subs method'!R42","v":3738980.3001732198},{"$f":"'ODS subs method'!S42","v":3988326.1661039516},{"$f":"'ODS subs method'!T42","v":4269015.404183981},{"$f":"'ODS subs method'!U42","v":4571207.5053733736},{"$f":"'ODS subs method'!V42","v":4737328.2408682378},{"$f":"'ODS subs method'!W42","v":4353112.6801680066},{"$f":"'ODS subs method'!X42","v":4577188.192287486},{"$f":"'ODS subs method'!Y42","v":4962614.7238595886},{"$f":"'ODS subs method'!Z42","v":5819735.6313158507},{"$f":"'ODS subs method'!AA42","v":6556896.2902375245},{"$f":"'ODS subs method'!AB42","v":6307532.5245410772},{"$f":"'ODS subs method'!AC42","v":6362873.5292322906},{"$f":"'ODS subs method'!AD42","v":5462437.0824001487},{"$f":"'ODS subs method'!AE42","v":6115540.8186913785},{"$f":"'ODS subs method'!AF42","v":5847339.2281394368},{"$f":"'ODS subs method'!AG42","v":6401326.7180062067},{"$f":"'ODS subs method'!AH42","v":6680664.434430453}]
["PR","ODS",null,"PR ODS ",{"$f":"'ODS subs method'!C43","v":3518.1244477102118},{"$f":"'ODS subs method'!D43","v":7352.5190570938521},{"$f":"'ODS subs method'!E43","v":22369.630460292592},{"$f":"'ODS subs method'!F43","v":75179.747186194916},{"$f":"'ODS subs method'!G43","v":182765.58581236904},{"$f":"'ODS subs method'!H43","v":398180.88179324224},{"$f":"'ODS subs method'!I43","v":554273.37888653495},{"$f":"'ODS subs method'!J43","v":700615.16106971668},{"$f":"'ODS subs method'!K43","v":803992.4807245644},{"$f":"'ODS subs method'!L43","v":911493.68129960878},{"$f":"'ODS subs method'!M43","v":1000528.5147756222},{"$f":"'ODS subs method'!N43","v":1080586.3894206209},{"$f":"'ODS subs method'!O43","v":1135347.4538060143},{"$f":"'ODS subs method'!P43","v":1184158.2489942492},{"$f":"'ODS subs method'!Q43","v":1222819.4243299589},{"$f":"'ODS subs method'!R43","v":1267261.2556550223},{"$f":"'ODS subs method'!S43","v":1330318.7091940776},{"$f":"'ODS subs method'!T43","v":1400213.893673847},{"$f":"'ODS subs method'!U43","v":1477136.6551899631},{"$f":"'ODS subs method'!V43","v":1568081.8068351317},{"$f":"'ODS subs method'!W43","v":1635756.2538910008},{"$f":"'ODS subs method'!X43","v":1641389.6828926413},{"$f":"'ODS subs method'!Y43","v":1637869.8000132802},{"$f":"'ODS subs method'!Z43","v":1632200.4310255155},{"$f":"'ODS subs method'!AA43","v":1640113.292659841},{"$f":"'ODS subs method'!AB43","v":1647912.2331587363},{"$f":"'ODS subs method'!AC43","v":1623432.0753453819},{"$f":"'ODS subs method'!AD43","v":1578619.0341841087},{"$f":"'ODS subs method'!AE43","v":1524982.1374072433},{"$f":"'ODS subs method'!AF43","v":1558647.8677865744},{"$f":"'ODS subs method'!AG43","v":1626384.1746164067},{"$f":"'ODS subs method'!AH43","v":1677804.9837373979}]
["RI","ODS",null,"RI ODS ",{"$f":"'ODS subs method'!C44","v":1003.1075500985525},{"$f":"'ODS subs method'!D44","v":2092.4206828810256},{"$f":"'ODS subs method'!E44","v":5603.8551366140046},{"$f":"'ODS subs method'!F44","v":18074.981764113971},{"$f":"'ODS subs method'!G44","v":43462.770557355318},{"$f":"'ODS subs method'!H44","v":94836.08311864447},{"$f":"'ODS subs method'!I44","v":132712.10570080506},{"$f":"'ODS subs method'!J44","v":168143.92302429292},{"$f":"'ODS subs method'!K44","v":193609.95360660704},{"$f":"'ODS subs method'!L44","v":220380.82251893994},{"$f":"'ODS subs method'!M44","v":243097.96705810769},{"$f":"'ODS subs method'!N44","v":264656.3047896566},{"$f":"'ODS subs method'!O44","v":281388.6419483177},{"$f":"'ODS subs method'!P44","v":296258.77058308054},{"$f":"'ODS subs method'!Q44","v":308636.41507497372},{"$f":"'ODS subs method'!R44","v":320716.47336582473},{"$f":"'ODS subs method'!S44","v":338904.82972607494},{"$f":"'ODS subs method'!T44","v":359257.93181506608},{"$f":"'ODS subs method'!U44","v":382376.20159958536},{"$f":"'ODS subs method'!V44","v":394057.22805749107},{"$f":"'ODS subs method'!W44","v":360947.8484300634},{"$f":"'ODS subs method'!X44","v":378406.9960246596},{"$f":"'ODS subs method'!Y44","v":409975.49588146433},{"$f":"'ODS subs method'!Z44","v":480696.57471121103},{"$f":"'ODS subs method'!AA44","v":541527.5779928522},{"$f":"'ODS subs method'!AB44","v":521221.83406327118},{"$f":"'ODS subs method'!AC44","v":526313.97484033171},{"$f":"'ODS subs method'!AD44","v":451074.99368746998},{"$f":"'ODS subs method'!AE44","v":505767.09053885547},{"$f":"'ODS subs method'!AF44","v":483433.49829587259},{"$f":"'ODS subs method'!AG44","v":540224.98622964299},{"$f":"'ODS subs method'!AH44","v":564592.03516294179}]
["SC","ODS",null,"SC ODS ",{"$f":"'ODS subs method'!C45","v":3493.7911001338666},{"$f":"'ODS subs method'!D45","v":7398.4513167565083},{"$f":"'ODS subs method'!E45","v":25166.714686593197},{"$f":"'ODS subs method'!F45","v":87732.261305708395},{"$f":"'ODS subs method'!G45","v":214006.56090097045},{"$f":"'ODS subs method'!H45","v":463740.0792236767},{"$f":"'ODS subs method'!I45","v":643041.51800935355},{"$f":"'ODS subs method'!J45","v":814555.09735970001},{"$f":"'ODS subs method'!K45","v":935934.78208651952},{"$f":"'ODS subs method'!L45","v":1063499.0478866533},{"$f":"'ODS subs method'!M45","v":1168580.17137784},{"$f":"'ODS subs method'!N45","v":1267212.5647142637},{"$f":"'ODS subs method'!O45","v":1338269.06398927},{"$f":"'ODS subs method'!P45","v":1405052.4389306938},{"$f":"'ODS subs method'!Q45","v":1462158.321051104},{"$f":"'ODS subs method'!R45","v":1531243.1264145342},{"$f":"'ODS subs method'!S45","v":1638807.4157549152},{"$f":"'ODS subs method'!T45","v":1768183.6171103418},{"$f":"'ODS subs method'!U45","v":1914493.5770206035},{"$f":"'ODS subs method'!V45","v":2353078.185990415},{"$f":"'ODS subs method'!W45","v":2443510.2862349618},{"$f":"'ODS subs method'!X45","v":2238229.6739096465},{"$f":"'ODS subs method'!Y45","v":2737634.817335594},{"$f":"'ODS subs method'!Z45","v":2533030.2704998031},{"$f":"'ODS subs method'!AA45","v":2714006.7673946531},{"$f":"'ODS subs method'!AB45","v":2882090.209515518},{"$f":"'ODS subs method'!AC45","v":3300687.8187445709},{"$f":"'ODS subs method'!AD45","v":3294865.9744172744},{"$f":"'ODS subs method'!AE45","v":3620358.7503506332},{"$f":"'ODS subs method'!AF45","v":4229643.0548751773},{"$f":"'ODS subs method'!AG45","v":3580226.4078538907},{"$f":"'ODS subs method'!AH45","v":3770283.0228925948}]
["SD","ODS",null,"SD ODS ",{"$f":"'ODS subs method'!C46","v":695.14493304136545},{"$f":"'ODS subs method'!D46","v":1456.9612730517881},{"$f":"'ODS subs method'!E46","v":4938.798909066375},{"$f":"'ODS subs method'!F46","v":17172.219797967235},{"$f":"'ODS subs method'!G46","v":42398.96108050293},{"$f":"'ODS subs method'!H46","v":92695.011130185754},{"$f":"'ODS subs method'!I46","v":128613.86464364572},{"$f":"'ODS subs method'!J46","v":162148.47990770859},{"$f":"'ODS subs method'!K46","v":185362.4667489297},{"$f":"'ODS subs method'!L46","v":210060.83037817653},{"$f":"'ODS subs method'!M46","v":231473.98120268562},{"$f":"'ODS subs method'!N46","v":251000.07806986492},{"$f":"'ODS subs method'!O46","v":264333.01680637087},{"$f":"'ODS subs method'!P46","v":276807.03752332169},{"$f":"'ODS subs method'!Q46","v":288639.5465219919},{"$f":"'ODS subs method'!R46","v":301321.49747211771},{"$f":"'ODS subs method'!S46","v":320524.1864004166},{"$f":"'ODS subs method'!T46","v":342640.9204470471},{"$f":"'ODS subs method'!U46","v":366872.92075909005},{"$f":"'ODS subs method'!V46","v":391940.36258594511},{"$f":"'ODS subs method'!W46","v":435743.05194119975},{"$f":"'ODS subs method'!X46","v":447566.57760880399},{"$f":"'ODS subs method'!Y46","v":468932.22474191472},{"$f":"'ODS subs method'!Z46","v":467850.13512672036},{"$f":"'ODS subs method'!AA46","v":425768.80289737816},{"$f":"'ODS subs method'!AB46","v":462038.66518492548},{"$f":"'ODS subs method'!AC46","v":436282.74264759041},{"$f":"'ODS subs method'!AD46","v":474575.92517903366},{"$f":"'ODS subs method'!AE46","v":410273.83219801373},{"$f":"'ODS subs method'!AF46","v":420629.65324114519},{"$f":"'ODS subs method'!AG46","v":387900.93919119879},{"$f":"'ODS subs method'!AH46","v":400976.16489896929}]
["TN","ODS",null,"TN ODS ",{"$f":"'ODS subs method'!C47","v":4882.1290058408613},{"$f":"'ODS subs method'!D47","v":10286.699239896372},{"$f":"'ODS subs method'!E47","v":39047.66092012381},{"$f":"'ODS subs method'!F47","v":139633.48613385975},{"$f":"'ODS subs method'!G47","v":346471.34733299172},{"$f":"'ODS subs method'!H47","v":757432.28587316116},{"$f":"'ODS subs method'!I47","v":1054245.474813913},{"$f":"'ODS subs method'!J47","v":1336743.9299245856},{"$f":"'ODS subs method'!K47","v":1532357.6131430489},{"$f":"'ODS subs method'!L47","v":1737687.8262066094},{"$f":"'ODS subs method'!M47","v":1914262.5847501257},{"$f":"'ODS subs method'!N47","v":2077715.2877122385},{"$f":"'ODS subs method'!O47","v":2186571.3288263306},{"$f":"'ODS subs method'!P47","v":2286656.0516441874},{"$f":"'ODS subs method'!Q47","v":2374202.5149379964},{"$f":"'ODS subs method'!R47","v":2478141.1538583622},{"$f":"'ODS subs method'!S47","v":2641118.770197113},{"$f":"'ODS subs method'!T47","v":2809225.5574457571},{"$f":"'ODS subs method'!U47","v":2989955.5627358644},{"$f":"'ODS subs method'!V47","v":3649604.2372642439},{"$f":"'ODS subs method'!W47","v":3809142.1729035201},{"$f":"'ODS subs method'!X47","v":4199278.1480466118},{"$f":"'ODS subs method'!Y47","v":3526906.7603419153},{"$f":"'ODS subs method'!Z47","v":3530501.9780771779},{"$f":"'ODS subs method'!AA47","v":3623307.6754498882},{"$f":"'ODS subs method'!AB47","v":3795823.6213952103},{"$f":"'ODS subs method'!AC47","v":3867465.4011656842},{"$f":"'ODS subs method'!AD47","v":4035292.8502162406},{"$f":"'ODS subs method'!AE47","v":4107274.8398947702},{"$f":"'ODS subs method'!AF47","v":3984601.3442494897},{"$f":"'ODS subs method'!AG47","v":4682703.846113163},{"$f":"'ODS subs method'!AH47","v":4900058.2907341905}]
["TX","ODS",null,"TX ODS ",{"$f":"'ODS subs method'!C48","v":17013.671353640206},{"$f":"'ODS subs method'!D48","v":36034.412526995548},{"$f":"'ODS subs method'!E48","v":137329.04125680833},{"$f":"'ODS subs method'!F48","v":493611.23776672874},{"$f":"'ODS subs method'!G48","v":1229473.7265572476},{"$f":"'ODS subs method'!H48","v":2695727.9207465751},{"$f":"'ODS subs method'!I48","v":3764225.9301293194},{"$f":"'ODS subs method'!J48","v":4798441.6962396577},{"$f":"'ODS subs method'!K48","v":5545475.1424839515},{"$f":"'ODS subs method'!L48","v":6335455.0888940189},{"$f":"'ODS subs method'!M48","v":7029320.832957658},{"$f":"'ODS subs method'!N48","v":7702613.4253310589},{"$f":"'ODS subs method'!O48","v":8182904.3747556405},{"$f":"'ODS subs method'!P48","v":8614702.677600706},{"$f":"'ODS subs method'!Q48","v":8995037.0120535679},{"$f":"'ODS subs method'!R48","v":9421944.0766375121},{"$f":"'ODS subs method'!S48","v":10132664.845704544},{"$f":"'ODS subs method'!T48","v":10840734.334307982},{"$f":"'ODS subs method'!U48","v":11634090.726992842},{"$f":"'ODS subs method'!V48","v":14354002.428031867},{"$f":"'ODS subs method'!W48","v":15128581.869611075},{"$f":"'ODS subs method'!X48","v":16826185.990533877},{"$f":"'ODS subs method'!Y48","v":14250277.762462031},{"$f":"'ODS subs method'!Z48","v":14389297.02504446},{"$f":"'ODS subs method'!AA48","v":14927623.449540514},{"$f":"'ODS subs method'!AB48","v":15808961.704682812},{"$f":"'ODS subs method'!AC48","v":16230969.89133434},{"$f":"'ODS subs method'!AD48","v":17001764.902047869},{"$f":"'ODS subs method'!AE48","v":17345209.410218902},{"$f":"'ODS subs method'!AF48","v":16910003.306999743},{"$f":"'ODS subs method'!AG48","v":19770991.810617685},{"$f":"'ODS subs method'!AH48","v":20743241.588343181}]
["UT","ODS",null,"UT ODS ",{"$f":"'ODS subs method'!C49","v":1727.1918525058215},{"$f":"'ODS subs method'!D49","v":3686.9909236860726},{"$f":"'ODS subs method'!E49","v":9110.8767967092772},{"$f":"'ODS subs method'!F49","v":28919.471218383751},{"$f":"'ODS subs method'!G49","v":69061.936019787521},{"$f":"'ODS subs method'!H49","v":151628.97006879849},{"$f":"'ODS subs method'!I49","v":215383.09028395312},{"$f":"'ODS subs method'!J49","v":275164.84925736312},{"$f":"'ODS subs method'!K49","v":319397.07663172262},{"$f":"'ODS subs method'!L49","v":363977.66821667465},{"$f":"'ODS subs method'!M49","v":400510.66269867879},{"$f":"'ODS subs method'!N49","v":437690.46799732657},{"$f":"'ODS subs method'!O49","v":469642.11522357981},{"$f":"'ODS subs method'!P49","v":500224.17296349374},{"$f":"'ODS subs method'!Q49","v":525998.67111699271},{"$f":"'ODS subs method'!R49","v":561635.57266406599},{"$f":"'ODS subs method'!S49","v":609252.69107900839},{"$f":"'ODS subs method'!T49","v":667597.83313078713},{"$f":"'ODS subs method'!U49","v":732071.9492981137},{"$f":"'ODS subs method'!V49","v":802027.43127113918},{"$f":"'ODS subs method'!W49","v":802850.53366361209},{"$f":"'ODS subs method'!X49","v":743452.26037569507},{"$f":"'ODS subs method'!Y49","v":995694.05919820769},{"$f":"'ODS subs method'!Z49","v":762193.62514746969},{"$f":"'ODS subs method'!AA49","v":789256.70948690549},{"$f":"'ODS subs method'!AB49","v":725195.76022239868},{"$f":"'ODS subs method'!AC49","v":671983.22410906886},{"$f":"'ODS subs method'!AD49","v":628129.69423799694},{"$f":"'ODS subs method'!AE49","v":802113.50102236797},{"$f":"'ODS subs method'!AF49","v":727773.62362124457},{"$f":"'ODS subs method'!AG49","v":960857.84713947133},{"$f":"'ODS subs method'!AH49","v":994244.01148923952}]
["VT","ODS",null,"VT ODS ",{"$f":"'ODS subs method'!C50","v":563.17689260936902},{"$f":"'ODS subs method'!D50","v":1177.226668022477},{"$f":"'ODS subs method'!E50","v":3169.7351948642208},{"$f":"'ODS subs method'!F50","v":10287.322545939089},{"$f":"'ODS subs method'!G50","v":24976.505089889455},{"$f":"'ODS subs method'!H50","v":54924.810992552448},{"$f":"'ODS subs method'!I50","v":77178.812928165484},{"$f":"'ODS subs method'!J50","v":97939.05946840324},{"$f":"'ODS subs method'!K50","v":112734.27748947985},{"$f":"'ODS subs method'!L50","v":128085.62161858605},{"$f":"'ODS subs method'!M50","v":141103.88632428049},{"$f":"'ODS subs method'!N50","v":153270.49430184212},{"$f":"'ODS subs method'!O50","v":162457.03645697827},{"$f":"'ODS subs method'!P50","v":170856.5999232},{"$f":"'ODS subs method'!Q50","v":178051.01945345828},{"$f":"'ODS subs method'!R50","v":186563.25404053391},{"$f":"'ODS subs method'!S50","v":198572.00779396622},{"$f":"'ODS subs method'!T50","v":211848.40334809327},{"$f":"'ODS subs method'!U50","v":226217.82933753062},{"$f":"'ODS subs method'!V50","v":233677.77703630764},{"$f":"'ODS subs method'!W50","v":214339.17561437603},{"$f":"'ODS subs method'!X50","v":225212.75528162386},{"$f":"'ODS subs method'!Y50","v":243430.05553720621},{"$f":"'ODS subs method'!Z50","v":285351.77138558571},{"$f":"'ODS subs method'!AA50","v":320706.56610019354},{"$f":"'ODS subs method'!AB50","v":308629.15770966379},{"$f":"'ODS subs method'!AC50","v":310651.90091202868},{"$f":"'ODS subs method'!AD50","v":266887.83815482742},{"$f":"'ODS subs method'!AE50","v":298303.55344834039},{"$f":"'ODS subs method'!AF50","v":285103.68099806091},{"$f":"'ODS subs method'!AG50","v":316623.49064621952},{"$f":"'ODS subs method'!AH50","v":332676.48172263888}]
["VA","ODS",null,"VA ODS ",{"$f":"'ODS subs method'!C51","v":6199.0400334861415},{"$f":"'ODS subs method'!D51","v":13045.871294704228},{"$f":"'ODS subs method'!E51","v":35498.243824216697},{"$f":"'ODS subs method'!F51","v":115909.81442553063},{"$f":"'ODS subs method'!G51","v":282054.49782447249},{"$f":"'ODS subs method'!H51","v":622046.36353415216},{"$f":"'ODS subs method'!I51","v":877588.57292769523},{"$f":"'ODS subs method'!J51","v":1119892.9740984906},{"$f":"'ODS subs method'!K51","v":1295718.3098787274},{"$f":"'ODS subs method'!L51","v":1482796.1729174855},{"$f":"'ODS subs method'!M51","v":1644732.2654664724},{"$f":"'ODS subs method'!N51","v":1802115.4087703286},{"$f":"'ODS subs method'!O51","v":1923501.7964623321},{"$f":"'ODS subs method'!P51","v":2037194.0509508927},{"$f":"'ODS subs method'!Q51","v":2147105.6745237866},{"$f":"'ODS subs method'!R51","v":2275555.7496306421},{"$f":"'ODS subs method'!S51","v":2446310.0834635114},{"$f":"'ODS subs method'!T51","v":2633660.0062408815},{"$f":"'ODS subs method'!U51","v":2839179.0788514777},{"$f":"'ODS subs method'!V51","v":2964252.4756685891},{"$f":"'ODS subs method'!W51","v":2747878.0520517407},{"$f":"'ODS subs method'!X51","v":2909408.3059481704},{"$f":"'ODS subs method'!Y51","v":3181987.4940943518},{"$f":"'ODS subs method'!Z51","v":3759676.4788281797},{"$f":"'ODS subs method'!AA51","v":4262174.9019831335},{"$f":"'ODS subs method'!AB51","v":4126481.9628825746},{"$f":"'ODS subs method'!AC51","v":4188183.3481708472},{"$f":"'ODS subs method'!AD51","v":3616531.8889062833},{"$f":"'ODS subs method'!AE51","v":4063427.580440762},{"$f":"'ODS subs method'!AF51","v":3909215.2360284501},{"$f":"'ODS subs method'!AG51","v":4253897.544248214},{"$f":"'ODS subs method'!AH51","v":4453554.7011215473}]
["WA","ODS",null,"WA ODS ",{"$f":"'ODS subs method'!C52","v":4888.6601311613094},{"$f":"'ODS subs method'!D52","v":10403.978080699568},{"$f":"'ODS subs method'!E52","v":24424.016284765687},{"$f":"'ODS subs method'!F52","v":75185.029286657751},{"$f":"'ODS subs method'!G52","v":180214.84964000536},{"$f":"'ODS subs method'!H52","v":401038.92525748251},{"$f":"'ODS subs method'!I52","v":569437.62714983593},{"$f":"'ODS subs method'!J52","v":726301.2747050391},{"$f":"'ODS subs method'!K52","v":841298.76747167262},{"$f":"'ODS subs method'!L52","v":955501.5086069915},{"$f":"'ODS subs method'!M52","v":1048636.7655442804},{"$f":"'ODS subs method'!N52","v":1140926.8941834336},{"$f":"'ODS subs method'!O52","v":1215808.5443716063},{"$f":"'ODS subs method'!P52","v":1284612.7111544649},{"$f":"'ODS subs method'!Q52","v":1348435.4746485814},{"$f":"'ODS subs method'!R52","v":1427868.1927976939},{"$f":"'ODS subs method'!S52","v":1542067.3675921676},{"$f":"'ODS subs method'!T52","v":1666642.6756907864},{"$f":"'ODS subs method'!U52","v":1802428.3937221232},{"$f":"'ODS subs method'!V52","v":1241881.6053431439},{"$f":"'ODS subs method'!W52","v":1771147.4808309157},{"$f":"'ODS subs method'!X52","v":1750908.432087},{"$f":"'ODS subs method'!Y52","v":1452637.9112788402},{"$f":"'ODS subs method'!Z52","v":1608306.6051533658},{"$f":"'ODS subs method'!AA52","v":1695971.6737825151},{"$f":"'ODS subs method'!AB52","v":1760333.8042902735},{"$f":"'ODS subs method'!AC52","v":1714912.1501472334},{"$f":"'ODS subs method'!AD52","v":2006884.222821919},{"$f":"'ODS subs method'!AE52","v":1767112.5705240688},{"$f":"'ODS subs method'!AF52","v":1962143.8023467988},{"$f":"'ODS subs method'!AG52","v":2132580.7102368646},{"$f":"'ODS subs method'!AH52","v":2203787.5653834064}]
["WV","ODS",null,"WV ODS ",{"$f":"'ODS subs method'!C53","v":1787.4029520167196},{"$f":"'ODS subs method'!D53","v":3724.0528779249794},{"$f":"'ODS subs method'!E53","v":9997.3135140709783},{"$f":"'ODS subs method'!F53","v":32362.91589555236},{"$f":"'ODS subs method'!G53","v":77877.613528870555},{"$f":"'ODS subs method'!H53","v":170061.1845241916},{"$f":"'ODS subs method'!I53","v":236957.92601993849},{"$f":"'ODS subs method'!J53","v":298309.74917368998},{"$f":"'ODS subs method'!K53","v":340899.25787853252},{"$f":"'ODS subs method'!L53","v":383780.26364712178},{"$f":"'ODS subs method'!M53","v":418258.13176380564},{"$f":"'ODS subs method'!N53","v":451002.14030733379},{"$f":"'ODS subs method'!O53","v":476571.64772300073},{"$f":"'ODS subs method'!P53","v":501154.89604053966},{"$f":"'ODS subs method'!Q53","v":521710.28144599416},{"$f":"'ODS subs method'!R53","v":546730.05557618488},{"$f":"'ODS subs method'!S53","v":582720.85034112539},{"$f":"'ODS subs method'!T53","v":623180.15762689977},{"$f":"'ODS subs method'!U53","v":667003.55123704195},{"$f":"'ODS subs method'!V53","v":691056.66853376816},{"$f":"'ODS subs method'!W53","v":635006.4252445189},{"$f":"'ODS subs method'!X53","v":666666.69759644021},{"$f":"'ODS subs method'!Y53","v":721881.12436336465},{"$f":"'ODS subs method'!Z53","v":844651.77202997776},{"$f":"'ODS subs method'!AA53","v":948531.67499311827},{"$f":"'ODS subs method'!AB53","v":909071.44746691466},{"$f":"'ODS subs method'!AC53","v":911723.91841921746},{"$f":"'ODS subs method'!AD53","v":776451.01220052049},{"$f":"'ODS subs method'!AE53","v":862228.66965965286},{"$f":"'ODS subs method'!AF53","v":820189.68098444934},{"$f":"'ODS subs method'!AG53","v":882017.89945699566},{"$f":"'ODS subs method'!AH53","v":918798.15848895465}]
["WI","ODS",null,"WI ODS ",{"$f":"'ODS subs method'!C54","v":4890.7997881042011},{"$f":"'ODS subs method'!D54","v":10278.775243965174},{"$f":"'ODS subs method'!E54","v":34819.578199279094},{"$f":"'ODS subs method'!F54","v":120913.58212840362},{"$f":"'ODS subs method'!G54","v":297845.63790122222},{"$f":"'ODS subs method'!H54","v":651297.12467823678},{"$f":"'ODS subs method'!I54","v":906274.49464259169},{"$f":"'ODS subs method'!J54","v":1147382.4818907955},{"$f":"'ODS subs method'!K54","v":1316237.5444626773},{"$f":"'ODS subs method'!L54","v":1492758.9751889214},{"$f":"'ODS subs method'!M54","v":1645764.1305735726},{"$f":"'ODS subs method'!N54","v":1790456.6489406971},{"$f":"'ODS subs method'!O54","v":1893813.450250536},{"$f":"'ODS subs method'!P54","v":1985890.2181518539},{"$f":"'ODS subs method'!Q54","v":2065906.3185043447},{"$f":"'ODS subs method'!R54","v":2154989.2060262896},{"$f":"'ODS subs method'!S54","v":2283139.1919589802},{"$f":"'ODS subs method'!T54","v":2428531.1447763392},{"$f":"'ODS subs method'!U54","v":2589746.6206875825},{"$f":"'ODS subs method'!V54","v":2753195.6922479123},{"$f":"'ODS subs method'!W54","v":3038022.1287212367},{"$f":"'ODS subs method'!X54","v":3100181.2236669548},{"$f":"'ODS subs method'!Y54","v":3217185.6328338063},{"$f":"'ODS subs method'!Z54","v":3185436.3739215294},{"$f":"'ODS subs method'!AA54","v":2882922.3711092463},{"$f":"'ODS subs method'!AB54","v":3115491.2505141399},{"$f":"'ODS subs method'!AC54","v":2917248.3820710424},{"$f":"'ODS subs method'!AD54","v":3146603.4175503957},{"$f":"'ODS subs method'!AE54","v":2710313.2965395544},{"$f":"'ODS subs method'!AF54","v":2761714.4854174918},{"$f":"'ODS subs method'!AG54","v":2576530.4951509396},{"$f":"'ODS subs method'!AH54","v":2640364.0240939585}]
["WY","ODS",null,"WY ODS ",{"$f":"'ODS subs method'!C55","v":452.63358421379928},{"$f":"'ODS subs method'!D55","v":951.40267426989067},{"$f":"'ODS subs method'!E55","v":2312.6947572066929},{"$f":"'ODS subs method'!F55","v":7206.7127773983839},{"$f":"'ODS subs method'!G55","v":16919.248894073902},{"$f":"'ODS subs method'!H55","v":36523.260427747053},{"$f":"'ODS subs method'!I55","v":50843.393266965642},{"$f":"'ODS subs method'!J55","v":63534.638733883097},{"$f":"'ODS subs method'!K55","v":72372.496744562814},{"$f":"'ODS subs method'!L55","v":81233.673647252959},{"$f":"'ODS subs method'!M55","v":88203.27207191482},{"$f":"'ODS subs method'!N55","v":94804.585435640416},{"$f":"'ODS subs method'!O55","v":101009.7756284903},{"$f":"'ODS subs method'!P55","v":106705.39911496232},{"$f":"'ODS subs method'!Q55","v":111505.37540189695},{"$f":"'ODS subs method'!R55","v":117494.66116111653},{"$f":"'ODS subs method'!S55","v":126088.05926421587},{"$f":"'ODS subs method'!T55","v":137458.41918096025},{"$f":"'ODS subs method'!U55","v":150108.30276748395},{"$f":"'ODS subs method'!V55","v":164871.99717729224},{"$f":"'ODS subs method'!W55","v":163303.26860170095},{"$f":"'ODS subs method'!X55","v":149887.35127004312},{"$f":"'ODS subs method'!Y55","v":201171.5425213011},{"$f":"'ODS subs method'!Z55","v":153192.14367024205},{"$f":"'ODS subs method'!AA55","v":156640.88899828857},{"$f":"'ODS subs method'!AB55","v":142526.85042999766},{"$f":"'ODS subs method'!AC55","v":129186.05262436964},{"$f":"'ODS subs method'!AD55","v":117385.77684833217},{"$f":"'ODS subs method'!AE55","v":147209.03589176381},{"$f":"'ODS subs method'!AF55","v":131796.01797245664},{"$f":"'ODS subs method'!AG55","v":169020.39527409134},{"$f":"'ODS subs method'!AH55","v":172401.35608625168}]
["AL","Semi",null,{"$f":"A368&\" \"&B368&\" \"&C368","v":"AL Semi "},{"$f":"'semiconductors method'!B69","v":0},{"$f":"'semiconductors method'!C69","v":0},{"$f":"'semiconductors method'!D69","v":0},{"$f":"'semiconductors method'!E69","v":0},{"$f":"'semiconductors method'!F69","v":0},{"$f":"'semiconductors method'!G69","v":0},{"$f":"'semiconductors method'!H69","v":0},{"$f":"'semiconductors method'!I69","v":0},{"$f":"'semiconductors method'!J69","v":0},{"$f":"'semiconductors method'!K69","v":0},{"$f":"'semiconductors method'!L69","v":0},{"$f":"'semiconductors method'!M69","v":0},{"$f":"'semiconductors method'!N69","v":0},{"$f":"'semiconductors method'!O69","v":0},{"$f":"'semiconductors method'!P69","v":0},{"$f":"'semiconductors method'!Q69","v":0},{"$f":"'semiconductors method'!R69","v":0},{"$f":"'semiconductors method'!S69","v":0},{"$f":"'semiconductors method'!T69","v":6348.7791095211578},{"$f":"'semiconductors method'!U69","v":9853.2578602930371},{"$f":"'semiconductors method'!V69","v":20511.17328525737},{"$f":"'semiconductors method'!W69","v":38936.481219768481},{"$f":"'semiconductors method'!X69","v":49578.571879567455},{"$f":"'semiconductors method'!Y69","v":36091.406411692966},{"$f":"'semiconductors method'!Z69","v":27926.286939608817},{"$f":"'semiconductors method'!AA69","v":18602.404953511494},{"$f":"'semiconductors method'!AB69","v":9163.9497716432525},{"$f":"'semiconductors method'!AC69","v":0},{"$f":"'semiconductors method'!AD69","v":0},{"$f":"'semiconductors method'!AE69","v":0},{"$f":"'semiconductors method'!AF69","v":0},{"$f":"'semiconductors method'!AG69","v":0}]
["AK","Semi",null,"AK Semi ",{"$f":"'semiconductors method'!B70","v":0},{"$f":"'semiconductors method'!C70","v":0},{"$f":"'semiconductors method'!D70","v":0},{"$f":"'semiconductors method'!E70","v":0},{"$f":"'semiconductors method'!F70","v":0},{"$f":"'semiconductors method'!G70","v":0},{"$f":"'semiconductors method'!H70","v":0},{"$f":"'semiconductors method'!I70","v":0},{"$f":"'semiconductors method'!J70","v":0},{"$f":"'semiconductors method'!K70","v":0},{"$f":"'semiconductors method'!L70","v":0},{"$f":"'semiconductors method'!M70","v":0},{"$f":"'semiconductors method'!N70","v":0},{"$f":"'semiconductors method'!O70","v":0},{"$f":"'semiconductors method'!P70","v":0},{"$f":"'semiconductors method'!Q70","v":0},{"$f":"'semiconductors method'!R70","v":0},{"$f":"'semiconductors method'!S70","v":0},{"$f":"'semiconductors method'!T70","v":0},{"$f":"'semiconductors method'!U70","v":0},{"$f":"'semiconductors method'!V70","v":0},{"$f":"'semiconductors method'!W70","v":0},{"$f":"'semiconductors method'!X70","v":0},{"$f":"'semiconductors method'!Y70","v":0},{"$f":"'semiconductors method'!Z70","v":0},{"$f":"'semiconductors method'!AA70","v":0},{"$f":"'semiconductors method'!AB70","v":0},{"$f":"'semiconductors method'!AC70","v":0},{"$f":"'semiconductors method'!AD70","v":0},{"$f":"'semiconductors method'!AE70","v":0},{"$f":"'semiconductors method'!AF70","v":0},{"$f":"'semiconductors method'!AG70","v":0}]
["AZ","Semi",null,"AZ Semi ",{"$f":"'semiconductors method'!B71","v":431090.11951938958},{"$f":"'semiconductors method'!C71","v":431090.11951938958},{"$f":"'semiconductors method'!D71","v":431090.11951938958},{"$f":"'semiconductors method'!E71","v":538862.64939923678},{"$f":"'semiconductors method'!F71","v":592748.91433916066},{"$f":"'semiconductors method'!G71","v":744884.33476153004},{"$f":"'semiconductors method'!H71","v":827166.38741690165},{"$f":"'semiconductors method'!I71","v":874149.48394668859},{"$f":"'semiconductors method'!J71","v":1118319.3625647535},{"$f":"'semiconductors method'!K71","v":1186457.3400456831},{"$f":"'semiconductors method'!L71","v":1048015.7835004892},{"$f":"'semiconductors method'!M71","v":780413.45283170324},{"$f":"'semiconductors method'!N71","v":844897.71476906678},{"$f":"'semiconductors method'!O71","v":712210.21808443451},{"$f":"'semiconductors method'!P71","v":587542.46526400594},{"$f":"'semiconductors method'!Q71","v":479654.04964946449},{"$f":"'semiconductors method'!R71","v":446892.46963091579},{"$f":"'semiconductors method'!S71","v":340674.09500608704},{"$f":"'semiconductors method'!T71","v":286660.41613942175},{"$f":"'semiconductors method'!U71","v":183475.99838950706},{"$f":"'semiconductors method'!V71","v":200540.00182779718},{"$f":"'semiconductors method'!W71","v":208514.28973617541},{"$f":"'semiconductors method'!X71","v":133967.32450789859},{"$f":"'semiconductors method'!Y71","v":191360.65814622559},{"$f":"'semiconductors method'!Z71","v":269081.72638367384},{"$f":"'semiconductors method'!AA71","v":340462.35167453112},{"$f":"'semiconductors method'!AB71","v":405980.93983823399},{"$f":"'semiconductors method'!AC71","v":462646.53024052351},{"$f":"'semiconductors method'!AD71","v":479126.34652068146},{"$f":"'semiconductors method'!AE71","v":443865.84216364106},{"$f":"'semiconductors method'!AF71","v":442108.1502559082},{"$f":"'semiconductors method'!AG71","v":486983.16090458824}]
["AR","Semi",null,"AR Semi ",{"$f":"'semiconductors method'!B72","v":0},{"$f":"'semiconductors method'!C72","v":0},{"$f":"'semiconductors method'!D72","v":0},{"$f":"'semiconductors method'!E72","v":0},{"$f":"'semiconductors method'!F72","v":0},{"$f":"'semiconductors method'!G72","v":0},{"$f":"'semiconductors method'!H72","v":0},{"$f":"'semiconductors method'!I72","v":0},{"$f":"'semiconductors method'!J72","v":0},{"$f":"'semiconductors method'!K72","v":0},{"$f":"'semiconductors method'!L72","v":0},{"$f":"'semiconductors method'!M72","v":0},{"$f":"'semiconductors method'!N72","v":0},{"$f":"'semiconductors method'!O72","v":0},{"$f":"'semiconductors method'!P72","v":0},{"$f":"'semiconductors method'!Q72","v":0},{"$f":"'semiconductors method'!R72","v":0},{"$f":"'semiconductors method'!S72","v":0},{"$f":"'semiconductors method'!T72","v":0},{"$f":"'semiconductors method'!U72","v":0},{"$f":"'semiconductors method'!V72","v":0},{"$f":"'semiconductors method'!W72","v":0},{"$f":"'semiconductors method'!X72","v":0},{"$f":"'semiconductors method'!Y72","v":0},{"$f":"'semiconductors method'!Z72","v":0},{"$f":"'semiconductors method'!AA72","v":0},{"$f":"'semiconductors method'!AB72","v":0},{"$f":"'semiconductors method'!AC72","v":0},{"$f":"'semiconductors method'!AD72","v":0},{"$f":"'semiconductors method'!AE72","v":0},{"$f":"'semiconductors method'!AF72","v":0},{"$f":"'semiconductors method'!AG72","v":0}]
["CA","Semi",null,"CA Semi ",{"$f":"'semiconductors method'!B73","v":669403.43774131034},{"$f":"'semiconductors method'!C73","v":669403.43774131034},{"$f":"'semiconductors method'!D73","v":669403.43774131034},{"$f":"'semiconductors method'!E73","v":836754.2971766378},{"$f":"'semiconductors method'!F73","v":920429.72689430171},{"$f":"'semiconductors method'!G73","v":1156667.9722674319},{"$f":"'semiconductors method'!H73","v":1284436.8224867883},{"$f":"'semiconductors method'!I73","v":1357392.9050057628},{"$f":"'semiconductors method'!J73","v":1651007.8025246586},{"$f":"'semiconductors method'!K73","v":1660489.2313907465},{"$f":"'semiconductors method'!L73","v":1385929.622299511},{"$f":"'semiconductors method'!M73","v":971627.97098346625},{"$f":"'semiconductors method'!N73","v":986239.34490888508},{"$f":"'semiconductors method'!O73","v":899936.36278152221},{"$f":"'semiconductors method'!P73","v":810997.92538901803},{"$f":"'semiconductors method'!Q73","v":731373.03567942348},{"$f":"'semiconductors method'!R73","v":763384.7815044116},{"$f":"'semiconductors method'!S73","v":663893.33664875594},{"$f":"'semiconductors method'!T73","v":647065.07280099881},{"$f":"'semiconductors method'!U73","v":494796.62155742937},{"$f":"'semiconductors method'!V73","v":676503.58597470017},{"$f":"'semiconductors method'!W73","v":948688.23181518284},{"$f":"'semiconductors method'!X73","v":951646.63688441634},{"$f":"'semiconductors method'!Y73","v":834499.0710580314},{"$f":"'semiconductors method'!Z73","v":828489.08158480772},{"$f":"'semiconductors method'!AA73","v":795389.50890461355},{"$f":"'semiconductors method'!AB73","v":751704.14919671684},{"$f":"'semiconductors method'!AC73","v":698795.64353681391},{"$f":"'semiconductors method'!AD73","v":723687.26828729978},{"$f":"'semiconductors method'!AE73","v":670428.71078595915},{"$f":"'semiconductors method'!AF73","v":667773.83850762364},{"$f":"'semiconductors method'!AG73","v":735554.44399203733}]
["CO","Semi",null,"CO Semi ",{"$f":"'semiconductors method'!B74","v":59132.381023051748},{"$f":"'semiconductors method'!C74","v":59132.381023051748},{"$f":"'semiconductors method'!D74","v":59132.381023051748},{"$f":"'semiconductors method'!E74","v":73915.476278814662},{"$f":"'semiconductors method'!F74","v":81307.023906696151},{"$f":"'semiconductors method'!G74","v":102175.3510619259},{"$f":"'semiconductors method'!H74","v":113461.93237907761},{"$f":"'semiconductors method'!I74","v":119906.57641021325},{"$f":"'semiconductors method'!J74","v":148810.75254788017},{"$f":"'semiconductors method'!K74","v":152990.00530385415},{"$f":"'semiconductors method'!L74","v":130803.6737863262},{"$f":"'semiconductors method'!M74","v":94163.08953263046},{"$f":"'semiconductors method'!N74","v":98420.703851623475},{"$f":"'semiconductors method'!O74","v":107033.14011969294},{"$f":"'semiconductors method'!P74","v":112369.45599530041},{"$f":"'semiconductors method'!Q74","v":116055.09695292081},{"$f":"'semiconductors method'!R74","v":136894.65503678023},{"$f":"'semiconductors method'!S74","v":133118.43549877967},{"$f":"'semiconductors method'!T74","v":117204.19829317683},{"$f":"'semiconductors method'!U74","v":79750.608795971464},{"$f":"'semiconductors method'!V74","v":95133.710416728485},{"$f":"'semiconductors method'!W74","v":113316.66635988996},{"$f":"'semiconductors method'!X74","v":92889.832683967397},{"$f":"'semiconductors method'!Y74","v":74702.851510747161},{"$f":"'semiconductors method'!Z74","v":66936.040097284771},{"$f":"'semiconductors method'!AA74","v":56755.959387233801},{"$f":"'semiconductors method'!AB74","v":45942.142139463584},{"$f":"'semiconductors method'!AC74","v":34918.467093598752},{"$f":"'semiconductors method'!AD74","v":36162.28907187681},{"$f":"'semiconductors method'!AE74","v":33500.985721228302},{"$f":"'semiconductors method'!AF74","v":33368.323087815821},{"$f":"'semiconductors method'!AG74","v":36755.285877412847}]
["CT","Semi",null,"CT Semi ",{"$f":"'semiconductors method'!B75","v":6311.2833969685789},{"$f":"'semiconductors method'!C75","v":6311.2833969685789},{"$f":"'semiconductors method'!D75","v":6311.2833969685789},{"$f":"'semiconductors method'!E75","v":7889.1042462107216},{"$f":"'semiconductors method'!F75","v":8678.0146708317952},{"$f":"'semiconductors method'!G75","v":10905.321003143472},{"$f":"'semiconductors method'!H75","v":12109.953930873991},{"$f":"'semiconductors method'!I75","v":12797.799983567573},{"$f":"'semiconductors method'!J75","v":15167.075627184457},{"$f":"'semiconductors method'!K75","v":14807.154676968694},{"$f":"'semiconductors method'!L75","v":11940.604150115156},{"$f":"'semiconductors method'!M75","v":8040.2393904357277},{"$f":"'semiconductors method'!N75","v":7779.0786280829434},{"$f":"'semiconductors method'!O75","v":7961.266421230217},{"$f":"'semiconductors method'!P75","v":7971.7195684900853},{"$f":"'semiconductors method'!Q75","v":7926.3794667911479},{"$f":"'semiconductors method'!R75","v":9062.8306580506705},{"$f":"'semiconductors method'!S75","v":8586.2961318535763},{"$f":"'semiconductors method'!T75","v":13141.346742904281},{"$f":"'semiconductors method'!U75","v":13806.513238451029},{"$f":"'semiconductors method'!V75","v":24168.662107825123},{"$f":"'semiconductors method'!W75","v":41540.118446004955},{"$f":"'semiconductors method'!X75","v":49578.571879567455},{"$f":"'semiconductors method'!Y75","v":37664.176923184561},{"$f":"'semiconductors method'!Z75","v":31171.501980039415},{"$f":"'semiconductors method'!AA75","v":23466.274255799915},{"$f":"'semiconductors method'!AB75","v":15553.410932662995},{"$f":"'semiconductors method'!AC75","v":7754.2392212339273},{"$f":"'semiconductors method'!AD75","v":8030.451036098063},{"$f":"'semiconductors method'!AE75","v":7439.4633857557901},{"$f":"'semiconductors method'!AF75","v":7410.0033927829645},{"$f":"'semiconductors method'!AG75","v":8162.1360575289409}]
["DC","Semi",null,{"$f":"A375&\" \"&B375&\" \"&C375","v":"DC Semi "},{"$f":"'semiconductors method'!B76","v":0},{"$f":"'semiconductors method'!C76","v":0},{"$f":"'semiconductors method'!D76","v":0},{"$f":"'semiconductors method'!E76","v":0},{"$f":"'semiconductors method'!F76","v":0},{"$f":"'semiconductors method'!G76","v":0},{"$f":"'semiconductors method'!H76","v":0},{"$f":"'semiconductors method'!I76","v":0},{"$f":"'semiconductors method'!J76","v":0},{"$f":"'semiconductors method'!K76","v":0},{"$f":"'semiconductors method'!L76","v":0},{"$f":"'semiconductors method'!M76","v":0},{"$f":"'semiconductors method'!N76","v":0},{"$f":"'semiconductors method'!O76","v":0},{"$f":"'semiconductors method'!P76","v":0},{"$f":"'semiconductors method'!Q76","v":0},{"$f":"'semiconductors method'!R76","v":0},{"$f":"'semiconductors method'!S76","v":0},{"$f":"'semiconductors method'!T76","v":0},{"$f":"'semiconductors method'!U76","v":0},{"$f":"'semiconductors method'!V76","v":0},{"$f":"'semiconductors method'!W76","v":0},{"$f":"'semiconductors method'!X76","v":0},{"$f":"'semiconductors method'!Y76","v":0},{"$f":"'semiconductors method'!Z76","v":0},{"$f":"'semiconductors method'!AA76","v":0},{"$f":"'semiconductors method'!AB76","v":0},{"$f":"'semiconductors method'!AC76","v":0},{"$f":"'semiconductors method'!AD76","v":0},{"$f":"'semiconductors method'!AE76","v":0},{"$f":"'semiconductors method'!AF76","v":0},{"$f":"'semiconductors method'!AG76","v":0}]
["DE","Semi",null,"DE Semi ",{"$f":"'semiconductors method'!B77","v":0},{"$f":"'semiconductors method'!C77","v":0},{"$f":"'semiconductors method'!D77","v":0},{"$f":"'semiconductors method'!E77","v":0},{"$f":"'semiconductors method'!F77","v":0},{"$f":"'semiconductors method'!G77","v":0},{"$f":"'semiconductors method'!H77","v":0},{"$f":"'semiconductors method'!I77","v":0},{"$f":"'semiconductors method'!J77","v":0},{"$f":"'semiconductors method'!K77","v":0},{"$f":"'semiconductors method'!L77","v":0},{"$f":"'semiconductors method'!M77","v":0},{"$f":"'semiconductors method'!N77","v":0},{"$f":"'semiconductors method'!O77","v":0},{"$f":"'semiconductors method'!P77","v":0},{"$f":"'semiconductors method'!Q77","v":0},{"$f":"'semiconductors method'!R77","v":0},{"$f":"'semiconductors method'!S77","v":0},{"$f":"'semiconductors method'!T77","v":0},{"$f":"'semiconductors method'!U77","v":0},{"$f":"'semiconductors method'!V77","v":0},{"$f":"'semiconductors method'!W77","v":0},{"$f":"'semiconductors method'!X77","v":0},{"$f":"'semiconductors method'!Y77","v":0},{"$f":"'semiconductors method'!Z77","v":0},{"$f":"'semiconductors method'!AA77","v":0},{"$f":"'semiconductors method'!AB77","v":0},{"$f":"'semiconductors method'!AC77","v":0},{"$f":"'semiconductors method'!AD77","v":0},{"$f":"'semiconductors method'!AE77","v":0},{"$f":"'semiconductors method'!AF77","v":0},{"$f":"'semiconductors method'!AG77","v":0}]
["FL","Semi",null,"FL Semi ",{"$f":"'semiconductors method'!B78","v":25285.072080309012},{"$f":"'semiconductors method'!C78","v":25285.072080309012},{"$f":"'semiconductors method'!D78","v":25285.072080309012},{"$f":"'semiconductors method'!E78","v":31606.340100386253},{"$f":"'semiconductors method'!F78","v":34766.974110424882},{"$f":"'semiconductors method'!G78","v":43690.29407803715},{"$f":"'semiconductors method'!H78","v":48516.448838035714},{"$f":"'semiconductors method'!I78","v":51272.185813952063},{"$f":"'semiconductors method'!J78","v":72690.311304667965},{"$f":"'semiconductors method'!K78","v":84678.575816633718},{"$f":"'semiconductors method'!L78","v":81502.061169448774},{"$f":"'semiconductors method'!M78","v":65703.670854938944},{"$f":"'semiconductors method'!N78","v":76581.300416856524},{"$f":"'semiconductors method'!O78","v":72771.373636907781},{"$f":"'semiconductors method'!P78","v":68251.004174363174},{"$f":"'semiconductors method'!Q78","v":64020.717104030547},{"$f":"'semiconductors method'!R78","v":69468.415496960864},{"$f":"'semiconductors method'!S78","v":62775.706134018888},{"$f":"'semiconductors method'!T78","v":56010.265634171898},{"$f":"'semiconductors method'!U78","v":38756.104219308872},{"$f":"'semiconductors method'!V78","v":47251.625744402481},{"$f":"'semiconductors method'!W78","v":57972.06570042274},{"$f":"'semiconductors method'!X78","v":49578.571879567455},{"$f":"'semiconductors method'!Y78","v":46819.766079805631},{"$f":"'semiconductors method'!Z78","v":50062.91392982957},{"$f":"'semiconductors method'!AA78","v":51780.379026889903},{"$f":"'semiconductors method'!AB78","v":52748.463163775632},{"$f":"'semiconductors method'!AC78","v":52894.091483878648},{"$f":"'semiconductors method'!AD78","v":54778.218680308746},{"$f":"'semiconductors method'!AE78","v":50746.907038871876},{"$f":"'semiconductors method'!AF78","v":50545.951210845327},{"$f":"'semiconductors method'!AG78","v":55676.483406466243}]
["GA","Semi",null,"GA Semi ",{"$f":"'semiconductors method'!B79","v":0},{"$f":"'semiconductors method'!C79","v":0},{"$f":"'semiconductors method'!D79","v":0},{"$f":"'semiconductors method'!E79","v":0},{"$f":"'semiconductors method'!F79","v":0},{"$f":"'semiconductors method'!G79","v":0},{"$f":"'semiconductors method'!H79","v":0},{"$f":"'semiconductors method'!I79","v":0},{"$f":"'semiconductors method'!J79","v":0},{"$f":"'semiconductors method'!K79","v":0},{"$f":"'semiconductors method'!L79","v":0},{"$f":"'semiconductors method'!M79","v":0},{"$f":"'semiconductors method'!N79","v":0},{"$f":"'semiconductors method'!O79","v":16171.296497822166},{"$f":"'semiconductors method'!P79","v":29513.788112467657},{"$f":"'semiconductors method'!Q79","v":40433.995151630581},{"$f":"'semiconductors method'!R79","v":56999.628036810602},{"$f":"'semiconductors method'!S79","v":62775.706134018888},{"$f":"'semiconductors method'!T79","v":56010.265634171898},{"$f":"'semiconductors method'!U79","v":38756.104219308872},{"$f":"'semiconductors method'!V79","v":47251.625744402481},{"$f":"'semiconductors method'!W79","v":57972.06570042274},{"$f":"'semiconductors method'!X79","v":49578.571879567455},{"$f":"'semiconductors method'!Y79","v":46030.751128178556},{"$f":"'semiconductors method'!Z79","v":48434.880361399788},{"$f":"'semiconductors method'!AA79","v":49340.311913331214},{"$f":"'semiconductors method'!AB79","v":49543.049308384936},{"$f":"'semiconductors method'!AC79","v":49004.006668997295},{"$f":"'semiconductors method'!AD79","v":50749.566127698665},{"$f":"'semiconductors method'!AE79","v":47014.736451647048},{"$f":"'semiconductors method'!AF79","v":46828.55987765696},{"$f":"'semiconductors method'!AG79","v":51581.768163810069}]
["HI","Semi",null,"HI Semi ",{"$f":"'semiconductors method'!B80","v":0},{"$f":"'semiconductors method'!C80","v":0},{"$f":"'semiconductors method'!D80","v":0},{"$f":"'semiconductors method'!E80","v":0},{"$f":"'semiconductors method'!F80","v":0},{"$f":"'semiconductors method'!G80","v":0},{"$f":"'semiconductors method'!H80","v":0},{"$f":"'semiconductors method'!I80","v":0},{"$f":"'semiconductors method'!J80","v":0},{"$f":"'semiconductors method'!K80","v":0},{"$f":"'semiconductors method'!L80","v":0},{"$f":"'semiconductors method'!M80","v":0},{"$f":"'semiconductors method'!N80","v":0},{"$f":"'semiconductors method'!O80","v":0},{"$f":"'semiconductors method'!P80","v":0},{"$f":"'semiconductors method'!Q80","v":0},{"$f":"'semiconductors method'!R80","v":0},{"$f":"'semiconductors method'!S80","v":0},{"$f":"'semiconductors method'!T80","v":0},{"$f":"'semiconductors method'!U80","v":0},{"$f":"'semiconductors method'!V80","v":0},{"$f":"'semiconductors method'!W80","v":0},{"$f":"'semiconductors method'!X80","v":0},{"$f":"'semiconductors method'!Y80","v":0},{"$f":"'semiconductors method'!Z80","v":0},{"$f":"'semiconductors method'!AA80","v":0},{"$f":"'semiconductors method'!AB80","v":0},{"$f":"'semiconductors method'!AC80","v":0},{"$f":"'semiconductors method'!AD80","v":0},{"$f":"'semiconductors method'!AE80","v":0},{"$f":"'semiconductors method'!AF80","v":0},{"$f":"'semiconductors method'!AG80","v":0}]
["ID","Semi",null,"ID Semi ",{"$f":"'semiconductors method'!B81","v":91768.597959049599},{"$f":"'semiconductors method'!C81","v":91768.597959049599},{"$f":"'semiconductors method'!D81","v":91768.597959049599},{"$f":"'semiconductors method'!E81","v":114710.74744881198},{"$f":"'semiconductors method'!F81","v":126181.8221936932},{"$f":"'semiconductors method'!G81","v":158567.75172424337},{"$f":"'semiconductors method'!H81","v":176083.5988000113},{"$f":"'semiconductors method'!I81","v":186085.15694548699},{"$f":"'semiconductors method'!J81","v":279999.22880845307},{"$f":"'semiconductors method'!K81","v":341729.69053458277},{"$f":"'semiconductors method'!L81","v":341472.18464479689},{"$f":"'semiconductors method'!M81","v":283900.46811170084},{"$f":"'semiconductors method'!N81","v":339556.44337054814},{"$f":"'semiconductors method'!O81","v":267132.31156588503},{"$f":"'semiconductors method'!P81","v":201272.05338682522},{"$f":"'semiconductors method'!Q81","v":145015.96716478898},{"$f":"'semiconductors method'!R81","v":112285.41059816268},{"$f":"'semiconductors method'!S81","v":62775.706134018888},{"$f":"'semiconductors method'!T81","v":56010.265634171898},{"$f":"'semiconductors method'!U81","v":38756.104219308872},{"$f":"'semiconductors method'!V81","v":47251.625744402481},{"$f":"'semiconductors method'!W81","v":57972.06570042274},{"$f":"'semiconductors method'!X81","v":49578.571879567455},{"$f":"'semiconductors method'!Y81","v":46030.751128178556},{"$f":"'semiconductors method'!Z81","v":48434.880361399788},{"$f":"'semiconductors method'!AA81","v":49340.311913331214},{"$f":"'semiconductors method'!AB81","v":49543.049308384936},{"$f":"'semiconductors method'!AC81","v":49004.006668997295},{"$f":"'semiconductors method'!AD81","v":50749.566127698665},{"$f":"'semiconductors method'!AE81","v":47014.736451647048},{"$f":"'semiconductors method'!AF81","v":46828.55987765696},{"$f":"'semiconductors method'!AG81","v":51581.768163810069}]
["IL","Semi",null,"IL Semi ",{"$f":"'semiconductors method'!B82","v":2393.8055653647934},{"$f":"'semiconductors method'!C82","v":2393.8055653647934},{"$f":"'semiconductors method'!D82","v":2393.8055653647934},{"$f":"'semiconductors method'!E82","v":2992.2569567059909},{"$f":"'semiconductors method'!F82","v":3291.4826523765905},{"$f":"'semiconductors method'!G82","v":4136.2772779230945},{"$f":"'semiconductors method'!H82","v":4593.1822884013236},{"$f":"'semiconductors method'!I82","v":4854.0752962866891},{"$f":"'semiconductors method'!J82","v":17219.807707851425},{"$f":"'semiconductors method'!K82","v":29996.69493585571},{"$f":"'semiconductors method'!L82","v":36897.565505928585},{"$f":"'semiconductors method'!M82","v":35252.576034204452},{"$f":"'semiconductors method'!N82","v":46618.587060635698},{"$f":"'semiconductors method'!O82","v":35051.362862687398},{"$f":"'semiconductors method'!P82","v":24669.379442947029},{"$f":"'semiconductors method'!Q82","v":15849.224364432856},{"$f":"'semiconductors method'!R82","v":9692.034938924342},{"$f":"'semiconductors method'!S82","v":2314.6832445117907},{"$f":"'semiconductors method'!T82","v":8179.9112119741485},{"$f":"'semiconductors method'!U82","v":10918.971626110131},{"$f":"'semiconductors method'!V82","v":21497.154663558507},{"$f":"'semiconductors method'!W82","v":39638.366569377969},{"$f":"'semiconductors method'!X82","v":49578.571879567455},{"$f":"'semiconductors method'!Y82","v":37732.120102913592},{"$f":"'semiconductors method'!Z82","v":31311.694224960258},{"$f":"'semiconductors method'!AA82","v":23676.391843692931},{"$f":"'semiconductors method'!AB82","v":15829.433597675379},{"$f":"'semiconductors method'!AC82","v":8089.2198590451699},{"$f":"'semiconductors method'!AD82","v":8377.3639353825947},{"$f":"'semiconductors method'!AE82","v":7760.8458088192483},{"$f":"'semiconductors method'!AF82","v":7730.113153634903},{"$f":"'semiconductors method'!AG82","v":8514.7377073421267}]
["IN","Semi",null,"IN Semi ",{"$f":"'semiconductors method'!B83","v":75038.649581137768},{"$f":"'semiconductors method'!C83","v":75038.649581137768},{"$f":"'semiconductors method'!D83","v":75038.649581137768},{"$f":"'semiconductors method'!E83","v":93798.311976422177},{"$f":"'semiconductors method'!F83","v":103178.14317406442},{"$f":"'semiconductors method'!G83","v":129659.92966149464},{"$f":"'semiconductors method'!H83","v":143982.53608751699},{"$f":"'semiconductors method'!I83","v":152160.75209642481},{"$f":"'semiconductors method'!J83","v":156427.48998865183},{"$f":"'semiconductors method'!K83","v":125230.34782316376},{"$f":"'semiconductors method'!L83","v":74497.056800377701},{"$f":"'semiconductors method'!M83","v":28468.505512632662},{"$f":"'semiconductors method'!N83","v":1464.6188886295467},{"$f":"'semiconductors method'!O83","v":17253.774095154105},{"$f":"'semiconductors method'!P83","v":30254.638137582766},{"$f":"'semiconductors method'!Q83","v":40885.091676556316},{"$f":"'semiconductors method'!R83","v":57238.093844168761},{"$f":"'semiconductors method'!S83","v":62775.706134018888},{"$f":"'semiconductors method'!T83","v":56010.265634171898},{"$f":"'semiconductors method'!U83","v":38756.104219308872},{"$f":"'semiconductors method'!V83","v":47251.625744402481},{"$f":"'semiconductors method'!W83","v":57972.06570042274},{"$f":"'semiconductors method'!X83","v":49578.571879567455},{"$f":"'semiconductors method'!Y83","v":46030.751128178556},{"$f":"'semiconductors method'!Z83","v":48434.880361399788},{"$f":"'semiconductors method'!AA83","v":49340.311913331214},{"$f":"'semiconductors method'!AB83","v":49543.049308384936},{"$f":"'semiconductors method'!AC83","v":49004.006668997295},{"$f":"'semiconductors method'!AD83","v":50749.566127698665},{"$f":"'semiconductors method'!AE83","v":47014.736451647048},{"$f":"'semiconductors method'!AF83","v":46828.55987765696},{"$f":"'semiconductors method'!AG83","v":51581.768163810069}]
["IA","Semi",null,"IA Semi ",{"$f":"'semiconductors method'!B84","v":0},{"$f":"'semiconductors method'!C84","v":0},{"$f":"'semiconductors method'!D84","v":0},{"$f":"'semiconductors method'!E84","v":0},{"$f":"'semiconductors method'!F84","v":0},{"$f":"'semiconductors method'!G84","v":0},{"$f":"'semiconductors method'!H84","v":0},{"$f":"'semiconductors method'!I84","v":0},{"$f":"'semiconductors method'!J84","v":0},{"$f":"'semiconductors method'!K84","v":0},{"$f":"'semiconductors method'!L84","v":0},{"$f":"'semiconductors method'!M84","v":0},{"$f":"'semiconductors method'!N84","v":0},{"$f":"'semiconductors method'!O84","v":0},{"$f":"'semiconductors method'!P84","v":0},{"$f":"'semiconductors method'!Q84","v":0},{"$f":"'semiconductors method'!R84","v":0},{"$f":"'semiconductors method'!S84","v":0},{"$f":"'semiconductors method'!T84","v":6348.7791095211578},{"$f":"'semiconductors method'!U84","v":9853.2578602930371},{"$f":"'semiconductors method'!V84","v":20511.17328525737},{"$f":"'semiconductors method'!W84","v":38936.481219768481},{"$f":"'semiconductors method'!X84","v":49578.571879567455},{"$f":"'semiconductors method'!Y84","v":36222.828742671642},{"$f":"'semiconductors method'!Z84","v":28197.460465577315},{"$f":"'semiconductors method'!AA84","v":19008.834904106225},{"$f":"'semiconductors method'!AB84","v":9697.8597561854767},{"$f":"'semiconductors method'!AC84","v":647.95225112299761},{"$f":"'semiconductors method'!AD84","v":671.03279611545736},{"$f":"'semiconductors method'!AE84","v":621.64925667337252},{"$f":"'semiconductors method'!AF84","v":619.18754918406296},{"$f":"'semiconductors method'!AG84","v":682.03653273499128}]
["KS","Semi",null,"KS Semi ",{"$f":"'semiconductors method'!B85","v":550.58362663629214},{"$f":"'semiconductors method'!C85","v":550.58362663629214},{"$f":"'semiconductors method'!D85","v":550.58362663629214},{"$f":"'semiconductors method'!E85","v":688.22953329536494},{"$f":"'semiconductors method'!F85","v":757.05248662490158},{"$f":"'semiconductors method'!G85","v":951.35819608855275},{"$f":"'semiconductors method'!H85","v":1056.4479416122499},{"$f":"'semiconductors method'!I85","v":1116.4542430946701},{"$f":"'semiconductors method'!J85","v":13386.827341104237},{"$f":"'semiconductors method'!K85","v":26940.668590208174},{"$f":"'semiconductors method'!L85","v":35094.314257050493},{"$f":"'semiconductors method'!M85","v":34579.816833306133},{"$f":"'semiconductors method'!N85","v":46618.587060635698},{"$f":"'semiconductors method'!O85","v":50626.386831680822},{"$f":"'semiconductors method'!P85","v":53094.926975847877},{"$f":"'semiconductors method'!Q85","v":54792.326034334328},{"$f":"'semiconductors method'!R85","v":64589.956884551488},{"$f":"'semiconductors method'!S85","v":62775.706134018888},{"$f":"'semiconductors method'!T85","v":56010.265634171898},{"$f":"'semiconductors method'!U85","v":38756.104219308872},{"$f":"'semiconductors method'!V85","v":47251.625744402481},{"$f":"'semiconductors method'!W85","v":57972.06570042274},{"$f":"'semiconductors method'!X85","v":49578.571879567455},{"$f":"'semiconductors method'!Y85","v":36091.406411692966},{"$f":"'semiconductors method'!Z85","v":27926.286939608817},{"$f":"'semiconductors method'!AA85","v":18602.404953511494},{"$f":"'semiconductors method'!AB85","v":9163.9497716432525},{"$f":"'semiconductors method'!AC85","v":0},{"$f":"'semiconductors method'!AD85","v":0},{"$f":"'semiconductors method'!AE85","v":0},{"$f":"'semiconductors method'!AF85","v":0},{"$f":"'semiconductors method'!AG85","v":0}]
["KY","Semi",null,"KY Semi ",{"$f":"'semiconductors method'!B86","v":0},{"$f":"'semiconductors method'!C86","v":0},{"$f":"'semiconductors method'!D86","v":0},{"$f":"'semiconductors method'!E86","v":0},{"$f":"'semiconductors method'!F86","v":0},{"$f":"'semiconductors method'!G86","v":0},{"$f":"'semiconductors method'!H86","v":0},{"$f":"'semiconductors method'!I86","v":0},{"$f":"'semiconductors method'!J86","v":0},{"$f":"'semiconductors method'!K86","v":0},{"$f":"'semiconductors method'!L86","v":0},{"$f":"'semiconductors method'!M86","v":0},{"$f":"'semiconductors method'!N86","v":0},{"$f":"'semiconductors method'!O86","v":0},{"$f":"'semiconductors method'!P86","v":0},{"$f":"'semiconductors method'!Q86","v":0},{"$f":"'semiconductors method'!R86","v":0},{"$f":"'semiconductors method'!S86","v":0},{"$f":"'semiconductors method'!T86","v":0},{"$f":"'semiconductors method'!U86","v":0},{"$f":"'semiconductors method'!V86","v":0},{"$f":"'semiconductors method'!W86","v":0},{"$f":"'semiconductors method'!X86","v":0},{"$f":"'semiconductors method'!Y86","v":0},{"$f":"'semiconductors method'!Z86","v":0},{"$f":"'semiconductors method'!AA86","v":0},{"$f":"'semiconductors method'!AB86","v":0},{"$f":"'semiconductors method'!AC86","v":0},{"$f":"'semiconductors method'!AD86","v":0},{"$f":"'semiconductors method'!AE86","v":0},{"$f":"'semiconductors method'!AF86","v":0},{"$f":"'semiconductors method'!AG86","v":0}]
["LA","Semi",null,"LA Semi ",{"$f":"'semiconductors method'!B87","v":0},{"$f":"'semiconductors method'!C87","v":0},{"$f":"'semiconductors method'!D87","v":0},{"$f":"'semiconductors method'!E87","v":0},{"$f":"'semiconductors method'!F87","v":0},{"$f":"'semiconductors method'!G87","v":0},{"$f":"'semiconductors method'!H87","v":0},{"$f":"'semiconductors method'!I87","v":0},{"$f":"'semiconductors method'!J87","v":0},{"$f":"'semiconductors method'!K87","v":0},{"$f":"'semiconductors method'!L87","v":0},{"$f":"'semiconductors method'!M87","v":0},{"$f":"'semiconductors method'!N87","v":0},{"$f":"'semiconductors method'!O87","v":16171.296497822166},{"$f":"'semiconductors method'!P87","v":29513.788112467657},{"$f":"'semiconductors method'!Q87","v":40433.995151630581},{"$f":"'semiconductors method'!R87","v":56999.628036810602},{"$f":"'semiconductors method'!S87","v":62775.706134018888},{"$f":"'semiconductors method'!T87","v":56010.265634171898},{"$f":"'semiconductors method'!U87","v":38756.104219308872},{"$f":"'semiconductors method'!V87","v":47251.625744402481},{"$f":"'semiconductors method'!W87","v":57972.06570042274},{"$f":"'semiconductors method'!X87","v":49578.571879567455},{"$f":"'semiconductors method'!Y87","v":46030.751128178556},{"$f":"'semiconductors method'!Z87","v":48434.880361399788},{"$f":"'semiconductors method'!AA87","v":49340.311913331214},{"$f":"'semiconductors method'!AB87","v":49543.049308384936},{"$f":"'semiconductors method'!AC87","v":49004.006668997295},{"$f":"'semiconductors method'!AD87","v":50749.566127698665},{"$f":"'semiconductors method'!AE87","v":47014.736451647048},{"$f":"'semiconductors method'!AF87","v":46828.55987765696},{"$f":"'semiconductors method'!AG87","v":51581.768163810069}]
["ME","Semi",null,"ME Semi ",{"$f":"'semiconductors method'!B88","v":75038.649581137768},{"$f":"'semiconductors method'!C88","v":75038.649581137768},{"$f":"'semiconductors method'!D88","v":75038.649581137768},{"$f":"'semiconductors method'!E88","v":93798.311976422177},{"$f":"'semiconductors method'!F88","v":103178.14317406442},{"$f":"'semiconductors method'!G88","v":129659.92966149464},{"$f":"'semiconductors method'!H88","v":143982.53608751699},{"$f":"'semiconductors method'!I88","v":152160.75209642481},{"$f":"'semiconductors method'!J88","v":168284.77444210631},{"$f":"'semiconductors method'!K88","v":150440.44211738196},{"$f":"'semiconductors method'!L88","v":107967.08944310664},{"$f":"'semiconductors method'!M88","v":61767.281714817174},{"$f":"'semiconductors method'!N88","v":46618.587060635698},{"$f":"'semiconductors method'!O88","v":50626.386831680822},{"$f":"'semiconductors method'!P88","v":53094.926975847877},{"$f":"'semiconductors method'!Q88","v":54792.326034334328},{"$f":"'semiconductors method'!R88","v":64589.956884551488},{"$f":"'semiconductors method'!S88","v":62775.706134018888},{"$f":"'semiconductors method'!T88","v":56010.265634171898},{"$f":"'semiconductors method'!U88","v":38756.104219308872},{"$f":"'semiconductors method'!V88","v":47251.625744402481},{"$f":"'semiconductors method'!W88","v":57972.06570042274},{"$f":"'semiconductors method'!X88","v":49578.571879567455},{"$f":"'semiconductors method'!Y88","v":36091.406411692966},{"$f":"'semiconductors method'!Z88","v":27926.286939608817},{"$f":"'semiconductors method'!AA88","v":18602.404953511494},{"$f":"'semiconductors method'!AB88","v":9163.9497716432525},{"$f":"'semiconductors method'!AC88","v":0},{"$f":"'semiconductors method'!AD88","v":0},{"$f":"'semiconductors method'!AE88","v":0},{"$f":"'semiconductors method'!AF88","v":0},{"$f":"'semiconductors method'!AG88","v":0}]
["MD","Semi",null,"MD Semi ",{"$f":"'semiconductors method'!B89","v":2855.9986726942052},{"$f":"'semiconductors method'!C89","v":2855.9986726942052},{"$f":"'semiconductors method'!D89","v":2855.9986726942052},{"$f":"'semiconductors method'!E89","v":3569.9983408677558},{"$f":"'semiconductors method'!F89","v":3926.9981749545318},{"$f":"'semiconductors method'!G89","v":4934.904733519299},{"$f":"'semiconductors method'!H89","v":5480.02841538955},{"$f":"'semiconductors method'!I89","v":5791.2943323113586},{"$f":"'semiconductors method'!J89","v":18180.9383610931},{"$f":"'semiconductors method'!K89","v":30763.00217379459},{"$f":"'semiconductors method'!L89","v":37349.735849880512},{"$f":"'semiconductors method'!M89","v":35421.272304042766},{"$f":"'semiconductors method'!N89","v":46618.587060635698},{"$f":"'semiconductors method'!O89","v":50626.386831680822},{"$f":"'semiconductors method'!P89","v":53094.926975847877},{"$f":"'semiconductors method'!Q89","v":54792.326034334328},{"$f":"'semiconductors method'!R89","v":64589.956884551488},{"$f":"'semiconductors method'!S89","v":62775.706134018888},{"$f":"'semiconductors method'!T89","v":56010.265634171898},{"$f":"'semiconductors method'!U89","v":38756.104219308872},{"$f":"'semiconductors method'!V89","v":47251.625744402481},{"$f":"'semiconductors method'!W89","v":57972.06570042274},{"$f":"'semiconductors method'!X89","v":49578.571879567455},{"$f":"'semiconductors method'!Y89","v":36091.406411692966},{"$f":"'semiconductors method'!Z89","v":27926.286939608817},{"$f":"'semiconductors method'!AA89","v":18602.404953511494},{"$f":"'semiconductors method'!AB89","v":9163.9497716432525},{"$f":"'semiconductors method'!AC89","v":0},{"$f":"'semiconductors method'!AD89","v":0},{"$f":"'semiconductors method'!AE89","v":0},{"$f":"'semiconductors method'!AF89","v":0},{"$f":"'semiconductors method'!AG89","v":0}]
["MA","Semi",null,"MA Semi ",{"$f":"'semiconductors method'!B90","v":81004.944716333572},{"$f":"'semiconductors method'!C90","v":81004.944716333572},{"$f":"'semiconductors method'!D90","v":81004.944716333572},{"$f":"'semiconductors method'!E90","v":101256.18089541695},{"$f":"'semiconductors method'!F90","v":111381.79898495866},{"$f":"'semiconductors method'!G90","v":139969.14247232408},{"$f":"'semiconductors method'!H90","v":155430.53401135016},{"$f":"'semiconductors method'!I90","v":164258.9969351597},{"$f":"'semiconductors method'!J90","v":262539.39011032908},{"$f":"'semiconductors method'!K90","v":334351.06863421568},{"$f":"'semiconductors method'!L90","v":344838.8020991318},{"$f":"'semiconductors method'!M90","v":293797.58504386473},{"$f":"'semiconductors method'!N90","v":358304.5070221051},{"$f":"'semiconductors method'!O90","v":304173.91495858954},{"$f":"'semiconductors method'!P90","v":253070.06955678103},{"$f":"'semiconductors method'!Q90","v":208761.52734864},{"$f":"'semiconductors method'!R90","v":197059.72486139819},{"$f":"'semiconductors method'!S90","v":152778.81297471971},{"$f":"'semiconductors method'!T90","v":167850.17402067827},{"$f":"'semiconductors method'!U90","v":143266.24702402437},{"$f":"'semiconductors method'!V90","v":216883.56644994835},{"$f":"'semiconductors method'!W90","v":334499.0531215081},{"$f":"'semiconductors method'!X90","v":366934.54455318773},{"$f":"'semiconductors method'!Y90","v":319554.39718401688},{"$f":"'semiconductors method'!Z90","v":314886.42340047366},{"$f":"'semiconductors method'!AA90","v":299848.89018138766},{"$f":"'semiconductors method'!AB90","v":280860.50526205509},{"$f":"'semiconductors method'!AC90","v":258541.89962968222},{"$f":"'semiconductors method'!AD90","v":267751.3559383789},{"$f":"'semiconductors method'!AE90","v":248046.64146958027},{"$f":"'semiconductors method'!AF90","v":247064.38617296598},{"$f":"'semiconductors method'!AG90","v":272141.99886570615}]
["MI","Semi",null,"MI Semi ",{"$f":"'semiconductors method'!B91","v":1498.4237940101621},{"$f":"'semiconductors method'!C91","v":1498.4237940101621},{"$f":"'semiconductors method'!D91","v":1498.4237940101621},{"$f":"'semiconductors method'!E91","v":1873.0297425127021},{"$f":"'semiconductors method'!F91","v":2060.3327167639727},{"$f":"'semiconductors method'!G91","v":2589.1393944182132},{"$f":"'semiconductors method'!H91","v":2875.1431322358699},{"$f":"'semiconductors method'!I91","v":3038.4514210804314},{"$f":"'semiconductors method'!J91","v":4323.5909189312524},{"$f":"'semiconductors method'!K91","v":5051.9078548207181},{"$f":"'semiconductors method'!L91","v":4874.7229319780208},{"$f":"'semiconductors method'!M91","v":3938.2620199030903},{"$f":"'semiconductors method'!N91","v":4598.7562452760876},{"$f":"'semiconductors method'!O91","v":19570.167459919136},{"$f":"'semiconductors method'!P91","v":31839.982801243656},{"$f":"'semiconductors method'!Q91","v":41850.39294448281},{"$f":"'semiconductors method'!R91","v":57748.38672713397},{"$f":"'semiconductors method'!S91","v":62775.706134018888},{"$f":"'semiconductors method'!T91","v":56010.265634171898},{"$f":"'semiconductors method'!U91","v":38756.104219308872},{"$f":"'semiconductors method'!V91","v":47251.625744402481},{"$f":"'semiconductors method'!W91","v":57972.06570042274},{"$f":"'semiconductors method'!X91","v":49578.571879567455},{"$f":"'semiconductors method'!Y91","v":36561.295379615462},{"$f":"'semiconductors method'!Z91","v":28895.843995067793},{"$f":"'semiconductors method'!AA91","v":20055.559440999121},{"$f":"'semiconductors method'!AB91","v":11072.897891280278},{"$f":"'semiconductors method'!AC91","v":2316.6961982483858},{"$f":"'semiconductors method'!AD91","v":2399.2186537917687},{"$f":"'semiconductors method'!AE91","v":2222.6521585241876},{"$f":"'semiconductors method'!AF91","v":2213.8505402385827},{"$f":"'semiconductors method'!AG91","v":2438.561544797732}]
["MN","Semi",null,"MN Semi ",{"$f":"'semiconductors method'!B92","v":15528.686813981487},{"$f":"'semiconductors method'!C92","v":15528.686813981487},{"$f":"'semiconductors method'!D92","v":15528.686813981487},{"$f":"'semiconductors method'!E92","v":19410.858517476852},{"$f":"'semiconductors method'!F92","v":21351.94436922454},{"$f":"'semiconductors method'!G92","v":26832.151848083537},{"$f":"'semiconductors method'!H92","v":29796.108033210927},{"$f":"'semiconductors method'!I92","v":31488.528616581098},{"$f":"'semiconductors method'!J92","v":39663.97451149996},{"$f":"'semiconductors method'!K92","v":41420.215102567941},{"$f":"'semiconductors method'!L92","v":36001.374091221362},{"$f":"'semiconductors method'!M92","v":26370.783687151546},{"$f":"'semiconductors method'!N92","v":28073.721000024467},{"$f":"'semiconductors method'!O92","v":27514.926306424615},{"$f":"'semiconductors method'!P92","v":26549.12495937042},{"$f":"'semiconductors method'!Q92","v":25564.15943799774},{"$f":"'semiconductors method'!R92","v":28419.522772536377},{"$f":"'semiconductors method'!S92","v":26265.334618136774},{"$f":"'semiconductors method'!T92","v":27127.128594262133},{"$f":"'semiconductors method'!U92","v":21946.199187236689},{"$f":"'semiconductors method'!V92","v":31699.369721955271},{"$f":"'semiconductors method'!W92","v":46900.963450662144},{"$f":"'semiconductors method'!X92","v":49578.571879567455},{"$f":"'semiconductors method'!Y92","v":43832.414901854681},{"$f":"'semiconductors method'!Z92","v":43898.888788907883},{"$f":"'semiconductors method'!AA92","v":42541.850212021302},{"$f":"'semiconductors method'!AB92","v":40612.195229974088},{"$f":"'semiconductors method'!AC92","v":38165.537316304988},{"$f":"'semiconductors method'!AD92","v":39525.022370433093},{"$f":"'semiconductors method'!AE92","v":36616.244271242052},{"$f":"'semiconductors method'!AF92","v":36471.24533207294},{"$f":"'semiconductors method'!AG92","v":40173.161982331585}]
["MS","Semi",null,"MS Semi ",{"$f":"'semiconductors method'!B93","v":0},{"$f":"'semiconductors method'!C93","v":0},{"$f":"'semiconductors method'!D93","v":0},{"$f":"'semiconductors method'!E93","v":0},{"$f":"'semiconductors method'!F93","v":0},{"$f":"'semiconductors method'!G93","v":0},{"$f":"'semiconductors method'!H93","v":0},{"$f":"'semiconductors method'!I93","v":0},{"$f":"'semiconductors method'!J93","v":0},{"$f":"'semiconductors method'!K93","v":0},{"$f":"'semiconductors method'!L93","v":0},{"$f":"'semiconductors method'!M93","v":0},{"$f":"'semiconductors method'!N93","v":0},{"$f":"'semiconductors method'!O93","v":0},{"$f":"'semiconductors method'!P93","v":0},{"$f":"'semiconductors method'!Q93","v":0},{"$f":"'semiconductors method'!R93","v":0},{"$f":"'semiconductors method'!S93","v":0},{"$f":"'semiconductors method'!T93","v":0},{"$f":"'semiconductors method'!U93","v":0},{"$f":"'semiconductors method'!V93","v":0},{"$f":"'semiconductors method'!W93","v":0},{"$f":"'semiconductors method'!X93","v":0},{"$f":"'semiconductors method'!Y93","v":0},{"$f":"'semiconductors method'!Z93","v":0},{"$f":"'semiconductors method'!AA93","v":0},{"$f":"'semiconductors method'!AB93","v":0},{"$f":"'semiconductors method'!AC93","v":0},{"$f":"'semiconductors method'!AD93","v":0},{"$f":"'semiconductors method'!AE93","v":0},{"$f":"'semiconductors method'!AF93","v":0},{"$f":"'semiconductors method'!AG93","v":0}]
["MO","Semi",null,"MO Semi ",{"$f":"'semiconductors method'!B94","v":75038.649581137768},{"$f":"'semiconductors method'!C94","v":75038.649581137768},{"$f":"'semiconductors method'!D94","v":75038.649581137768},{"$f":"'semiconductors method'!E94","v":93798.311976422177},{"$f":"'semiconductors method'!F94","v":103178.14317406442},{"$f":"'semiconductors method'!G94","v":129659.92966149464},{"$f":"'semiconductors method'!H94","v":143982.53608751699},{"$f":"'semiconductors method'!I94","v":152160.75209642481},{"$f":"'semiconductors method'!J94","v":168284.77444210631},{"$f":"'semiconductors method'!K94","v":150440.44211738196},{"$f":"'semiconductors method'!L94","v":107967.08944310664},{"$f":"'semiconductors method'!M94","v":61767.281714817174},{"$f":"'semiconductors method'!N94","v":46618.587060635698},{"$f":"'semiconductors method'!O94","v":37906.155560428997},{"$f":"'semiconductors method'!P94","v":29879.583015524688},{"$f":"'semiconductors method'!Q94","v":22987.22187223563},{"$f":"'semiconductors method'!R94","v":19754.439144758351},{"$f":"'semiconductors method'!S94","v":13396.764850714788},{"$f":"'semiconductors method'!T94","v":16946.879841153575},{"$f":"'semiconductors method'!U94","v":16021.322865590404},{"$f":"'semiconductors method'!V94","v":26217.768649267986},{"$f":"'semiconductors method'!W94","v":42998.805083379229},{"$f":"'semiconductors method'!X94","v":49578.571879567455},{"$f":"'semiconductors method'!Y94","v":40752.901523991823},{"$f":"'semiconductors method'!Z94","v":37544.698487126414},{"$f":"'semiconductors method'!AA94","v":33018.305311393429},{"$f":"'semiconductors method'!AB94","v":28101.51361499737},{"$f":"'semiconductors method'!AC94","v":22982.595340687771},{"$f":"'semiconductors method'!AD94","v":23801.252618110437},{"$f":"'semiconductors method'!AE94","v":22049.639128811999},{"$f":"'semiconductors method'!AF94","v":21962.323393777686},{"$f":"'semiconductors method'!AG94","v":24191.550553682002}]
["MT","Semi",null,"MT Semi ",{"$f":"'semiconductors method'!B95","v":0},{"$f":"'semiconductors method'!C95","v":0},{"$f":"'semiconductors method'!D95","v":0},{"$f":"'semiconductors method'!E95","v":0},{"$f":"'semiconductors method'!F95","v":0},{"$f":"'semiconductors method'!G95","v":0},{"$f":"'semiconductors method'!H95","v":0},{"$f":"'semiconductors method'!I95","v":0},{"$f":"'semiconductors method'!J95","v":0},{"$f":"'semiconductors method'!K95","v":0},{"$f":"'semiconductors method'!L95","v":0},{"$f":"'semiconductors method'!M95","v":0},{"$f":"'semiconductors method'!N95","v":0},{"$f":"'semiconductors method'!O95","v":0},{"$f":"'semiconductors method'!P95","v":0},{"$f":"'semiconductors method'!Q95","v":0},{"$f":"'semiconductors method'!R95","v":0},{"$f":"'semiconductors method'!S95","v":0},{"$f":"'semiconductors method'!T95","v":0},{"$f":"'semiconductors method'!U95","v":0},{"$f":"'semiconductors method'!V95","v":0},{"$f":"'semiconductors method'!W95","v":0},{"$f":"'semiconductors method'!X95","v":0},{"$f":"'semiconductors method'!Y95","v":0},{"$f":"'semiconductors method'!Z95","v":0},{"$f":"'semiconductors method'!AA95","v":0},{"$f":"'semiconductors method'!AB95","v":0},{"$f":"'semiconductors method'!AC95","v":0},{"$f":"'semiconductors method'!AD95","v":0},{"$f":"'semiconductors method'!AE95","v":0},{"$f":"'semiconductors method'!AF95","v":0},{"$f":"'semiconductors method'!AG95","v":0}]
["NE","Semi",null,"NE Semi ",{"$f":"'semiconductors method'!B96","v":0},{"$f":"'semiconductors method'!C96","v":0},{"$f":"'semiconductors method'!D96","v":0},{"$f":"'semiconductors method'!E96","v":0},{"$f":"'semiconductors method'!F96","v":0},{"$f":"'semiconductors method'!G96","v":0},{"$f":"'semiconductors method'!H96","v":0},{"$f":"'semiconductors method'!I96","v":0},{"$f":"'semiconductors method'!J96","v":0},{"$f":"'semiconductors method'!K96","v":0},{"$f":"'semiconductors method'!L96","v":0},{"$f":"'semiconductors method'!M96","v":0},{"$f":"'semiconductors method'!N96","v":0},{"$f":"'semiconductors method'!O96","v":0},{"$f":"'semiconductors method'!P96","v":0},{"$f":"'semiconductors method'!Q96","v":0},{"$f":"'semiconductors method'!R96","v":0},{"$f":"'semiconductors method'!S96","v":0},{"$f":"'semiconductors method'!T96","v":71.55240460249567},{"$f":"'semiconductors method'!U96","v":111.04879866037471},{"$f":"'semiconductors method'!V96","v":231.16629897828145},{"$f":"'semiconductors method'!W96","v":438.8243487407259},{"$f":"'semiconductors method'!X96","v":558.76349980749046},{"$f":"'semiconductors method'!Y96","v":616.48566436652152},{"$f":"'semiconductors method'!Z96","v":747.48002909073068},{"$f":"'semiconductors method'!AA96","v":858.24200340415894},{"$f":"'semiconductors method'!AB96","v":955.30300751314383},{"$f":"'semiconductors method'!AC96","v":1034.0135353472324},{"$f":"'semiconductors method'!AD96","v":1070.8458727363402},{"$f":"'semiconductors method'!AE96","v":992.03875675214613},{"$f":"'semiconductors method'!AF96","v":988.11032088422508},{"$f":"'semiconductors method'!AG96","v":1088.4058280945849}]
["NV","Semi",null,"NV Semi ",{"$f":"'semiconductors method'!B97","v":0},{"$f":"'semiconductors method'!C97","v":0},{"$f":"'semiconductors method'!D97","v":0},{"$f":"'semiconductors method'!E97","v":0},{"$f":"'semiconductors method'!F97","v":0},{"$f":"'semiconductors method'!G97","v":0},{"$f":"'semiconductors method'!H97","v":0},{"$f":"'semiconductors method'!I97","v":0},{"$f":"'semiconductors method'!J97","v":316.63071678124209},{"$f":"'semiconductors method'!K97","v":673.19716060075302},{"$f":"'semiconductors method'!L97","v":893.76623019879889},{"$f":"'semiconductors method'!M97","v":889.19308786289207},{"$f":"'semiconductors method'!N97","v":1205.7679280566147},{"$f":"'semiconductors method'!O97","v":17062.461277844861},{"$f":"'semiconductors method'!P97","v":30123.703228760874},{"$f":"'semiconductors method'!Q97","v":40805.366657512357},{"$f":"'semiconductors method'!R97","v":57195.948338755938},{"$f":"'semiconductors method'!S97","v":62775.706134018888},{"$f":"'semiconductors method'!T97","v":56010.265634171898},{"$f":"'semiconductors method'!U97","v":38756.104219308872},{"$f":"'semiconductors method'!V97","v":47251.625744402481},{"$f":"'semiconductors method'!W97","v":57972.06570042274},{"$f":"'semiconductors method'!X97","v":49578.571879567455},{"$f":"'semiconductors method'!Y97","v":36190.131399742466},{"$f":"'semiconductors method'!Z97","v":28129.993592132927},{"$f":"'semiconductors method'!AA97","v":18907.716780783347},{"$f":"'semiconductors method'!AB97","v":9565.0251174457517},{"$f":"'semiconductors method'!AC97","v":486.74435898681969},{"$f":"'semiconductors method'!AD97","v":504.0825579944634},{"$f":"'semiconductors method'!AE97","v":466.98544287744983},{"$f":"'semiconductors method'!AF97","v":465.13619822736899},{"$f":"'semiconductors method'!AG97","v":512.34860957164688}]
["NH","Semi",null,"NH Semi ",{"$f":"'semiconductors method'!B98","v":11413.352772729959},{"$f":"'semiconductors method'!C98","v":11413.352772729959},{"$f":"'semiconductors method'!D98","v":11413.352772729959},{"$f":"'semiconductors method'!E98","v":14266.690965912445},{"$f":"'semiconductors method'!F98","v":15693.360062503692},{"$f":"'semiconductors method'!G98","v":19721.230672119898},{"$f":"'semiconductors method'!H98","v":21899.694179627542},{"$f":"'semiconductors method'!I98","v":23143.59801961236},{"$f":"'semiconductors method'!J98","v":26069.551627676137},{"$f":"'semiconductors method'!K98","v":23888.650798298899},{"$f":"'semiconductors method'!L98","v":17758.311492845842},{"$f":"'semiconductors method'!M98","v":10724.497878897813},{"$f":"'semiconductors method'!N98","v":8893.798436589168},{"$f":"'semiconductors method'!O98","v":8360.0739570893529},{"$f":"'semiconductors method'!P98","v":7759.8053400616791},{"$f":"'semiconductors method'!Q98","v":7206.8948870116938},{"$f":"'semiconductors method'!R98","v":7746.0829236655036},{"$f":"'semiconductors method'!S98","v":6936.2272550214429},{"$f":"'semiconductors method'!T98","v":11835.987100806404},{"$f":"'semiconductors method'!U98","v":13046.797575085066},{"$f":"'semiconductors method'!V98","v":23465.785293328674},{"$f":"'semiconductors method'!W98","v":41039.765245090268},{"$f":"'semiconductors method'!X98","v":49578.571879567455},{"$f":"'semiconductors method'!Y98","v":37282.152694921446},{"$f":"'semiconductors method'!Z98","v":30383.242814248857},{"$f":"'semiconductors method'!AA98","v":22284.845749223216},{"$f":"'semiconductors method'!AB98","v":14001.417840714214},{"$f":"'semiconductors method'!AC98","v":5870.743038787039},{"$f":"'semiconductors method'!AD98","v":6079.8633074658692},{"$f":"'semiconductors method'!AE98","v":5632.4259077071465},{"$f":"'semiconductors method'!AF98","v":5610.1217146414583},{"$f":"'semiconductors method'!AG98","v":6179.5621819551743}]
["NJ","Semi",null,"NJ Semi ",{"$f":"'semiconductors method'!B99","v":12819.171013226445},{"$f":"'semiconductors method'!C99","v":12819.171013226445},{"$f":"'semiconductors method'!D99","v":12819.171013226445},{"$f":"'semiconductors method'!E99","v":16023.963766533052},{"$f":"'semiconductors method'!F99","v":17626.360143186361},{"$f":"'semiconductors method'!G99","v":22150.356132094053},{"$f":"'semiconductors method'!H99","v":24597.147780866857},{"$f":"'semiconductors method'!I99","v":25994.267134513226},{"$f":"'semiconductors method'!J99","v":34835.236752852543},{"$f":"'semiconductors method'!K99","v":38640.912737079649},{"$f":"'semiconductors method'!L99","v":35624.898900107983},{"$f":"'semiconductors method'!M99","v":27644.48241289513},{"$f":"'semiconductors method'!N99","v":31141.926959755208},{"$f":"'semiconductors method'!O99","v":32031.432336190519},{"$f":"'semiconductors method'!P99","v":32205.418291528309},{"$f":"'semiconductors method'!Q99","v":32132.058170137752},{"$f":"'semiconductors method'!R99","v":36845.664387756246},{"$f":"'semiconductors method'!S99","v":34995.161378480778},{"$f":"'semiconductors method'!T99","v":34033.242451361715},{"$f":"'semiconductors method'!U99","v":25965.538150248598},{"$f":"'semiconductors method'!V99","v":35417.998023215405},{"$f":"'semiconductors method'!W99","v":49548.123714271693},{"$f":"'semiconductors method'!X99","v":49578.571879567455},{"$f":"'semiconductors method'!Y99","v":39900.172143494674},{"$f":"'semiconductors method'!Z99","v":35785.198171735879},{"$f":"'semiconductors method'!AA99","v":30381.198227648594},{"$f":"'semiconductors method'!AB99","v":24637.25661263302},{"$f":"'semiconductors method'!AC99","v":18778.378921931024},{"$f":"'semiconductors method'!AD99","v":19447.278858372196},{"$f":"'semiconductors method'!AE99","v":18016.088806107738},{"$f":"'semiconductors method'!AF99","v":17944.745777436885},{"$f":"'semiconductors method'!AG99","v":19766.179418468422}]
["NM","Semi",null,"NM Semi ",{"$f":"'semiconductors method'!B100","v":75038.649581137768},{"$f":"'semiconductors method'!C100","v":75038.649581137768},{"$f":"'semiconductors method'!D100","v":75038.649581137768},{"$f":"'semiconductors method'!E100","v":93798.311976422177},{"$f":"'semiconductors method'!F100","v":103178.14317406442},{"$f":"'semiconductors method'!G100","v":129659.92966149464},{"$f":"'semiconductors method'!H100","v":143982.53608751699},{"$f":"'semiconductors method'!I100","v":152160.75209642481},{"$f":"'semiconductors method'!J100","v":168284.77444210631},{"$f":"'semiconductors method'!K100","v":150440.44211738196},{"$f":"'semiconductors method'!L100","v":107967.08944310664},{"$f":"'semiconductors method'!M100","v":61767.281714817174},{"$f":"'semiconductors method'!N100","v":46618.587060635698},{"$f":"'semiconductors method'!O100","v":50626.386831680822},{"$f":"'semiconductors method'!P100","v":53094.926975847877},{"$f":"'semiconductors method'!Q100","v":54792.326034334328},{"$f":"'semiconductors method'!R100","v":64589.956884551488},{"$f":"'semiconductors method'!S100","v":62775.706134018888},{"$f":"'semiconductors method'!T100","v":56010.265634171898},{"$f":"'semiconductors method'!U100","v":38756.104219308872},{"$f":"'semiconductors method'!V100","v":47251.625744402481},{"$f":"'semiconductors method'!W100","v":57972.06570042274},{"$f":"'semiconductors method'!X100","v":49578.571879567455},{"$f":"'semiconductors method'!Y100","v":56330.128902778386},{"$f":"'semiconductors method'!Z100","v":69686.356922661915},{"$f":"'semiconductors method'!AA100","v":81191.638616448443},{"$f":"'semiconductors method'!AB100","v":91384.801676353978},{"$f":"'semiconductors method'!AC100","v":99783.086331652492},{"$f":"'semiconductors method'!AD100","v":103337.4346799647},{"$f":"'semiconductors method'!AE100","v":95732.488526954534},{"$f":"'semiconductors method'!AF100","v":95353.391501667051},{"$f":"'semiconductors method'!AG100","v":105031.98362114785}]
["NY","Semi",null,"NY Semi ",{"$f":"'semiconductors method'!B101","v":48709.310890847257},{"$f":"'semiconductors method'!C101","v":48709.310890847257},{"$f":"'semiconductors method'!D101","v":48709.310890847257},{"$f":"'semiconductors method'!E101","v":60886.638613559058},{"$f":"'semiconductors method'!F101","v":66975.302474914977},{"$f":"'semiconductors method'!G101","v":84165.238303471211},{"$f":"'semiconductors method'!H101","v":93462.371088597109},{"$f":"'semiconductors method'!I101","v":98771.038932887954},{"$f":"'semiconductors method'!J101","v":129446.59509519678},{"$f":"'semiconductors method'!K101","v":140621.42592462141},{"$f":"'semiconductors method'!L101","v":127128.9068357404},{"$f":"'semiconductors method'!M101","v":96847.667896638042},{"$f":"'semiconductors method'!N101","v":107219.8188535441},{"$f":"'semiconductors method'!O101","v":110388.88478838913},{"$f":"'semiconductors method'!P101","v":111075.82076782746},{"$f":"'semiconductors method'!Q101","v":110895.19854913112},{"$f":"'semiconductors method'!R101","v":127233.01651791042},{"$f":"'semiconductors method'!S101","v":120899.90184362502},{"$f":"'semiconductors method'!T101","v":112504.5238440472},{"$f":"'semiconductors method'!U101","v":81832.732843777834},{"$f":"'semiconductors method'!V101","v":105973.87630316557},{"$f":"'semiconductors method'!W101","v":140069.69520915611},{"$f":"'semiconductors method'!X101","v":131672.68737379974},{"$f":"'semiconductors method'!Y101","v":137482.54946224095},{"$f":"'semiconductors method'!Z101","v":160065.17443142631},{"$f":"'semiconductors method'!AA101","v":178146.54078319229},{"$f":"'semiconductors method'!AB101","v":193460.3543266872},{"$f":"'semiconductors method'!AC101","v":205246.63618804235},{"$f":"'semiconductors method'!AD101","v":212557.67525439154},{"$f":"'semiconductors method'!AE101","v":196914.84766025853},{"$f":"'semiconductors method'!AF101","v":196135.07232869047},{"$f":"'semiconductors method'!AG101","v":216043.2406224325}]
["NC","Semi",null,"NC Semi ",{"$f":"'semiconductors method'!B102","v":14631.593989136967},{"$f":"'semiconductors method'!C102","v":14631.593989136967},{"$f":"'semiconductors method'!D102","v":14631.593989136967},{"$f":"'semiconductors method'!E102","v":18289.492486421204},{"$f":"'semiconductors method'!F102","v":20118.441735063327},{"$f":"'semiconductors method'!G102","v":25282.057420499248},{"$f":"'semiconductors method'!H102","v":28074.785744656623},{"$f":"'semiconductors method'!I102","v":29669.435126884815},{"$f":"'semiconductors method'!J102","v":46257.786407720203},{"$f":"'semiconductors method'!K102","v":57918.435142536749},{"$f":"'semiconductors method'!L102","v":59002.187338466807},{"$f":"'semiconductors method'!M102","v":49799.626285673534},{"$f":"'semiconductors method'!N102","v":60287.818057243741},{"$f":"'semiconductors method'!O102","v":69027.533036790061},{"$f":"'semiconductors method'!P102","v":75154.478400985026},{"$f":"'semiconductors method'!Q102","v":79751.407439989503},{"$f":"'semiconductors method'!R102","v":96065.345821246723},{"$f":"'semiconductors method'!S102","v":94989.54181865821},{"$f":"'semiconductors method'!T102","v":94013.92917810865},{"$f":"'semiconductors method'!U102","v":73017.977519024411},{"$f":"'semiconductors method'!V102","v":101420.75217754029},{"$f":"'semiconductors method'!W102","v":144521.21062661731},{"$f":"'semiconductors method'!X102","v":147345.15693203648},{"$f":"'semiconductors method'!Y102","v":144666.30394950128},{"$f":"'semiconductors method'!Z102","v":160174.81239693196},{"$f":"'semiconductors method'!AA102","v":170960.26858535086},{"$f":"'semiconductors method'!AB102","v":179191.96525309398},{"$f":"'semiconductors method'!AC102","v":184414.93025282511},{"$f":"'semiconductors method'!AD102","v":190983.92833502128},{"$f":"'semiconductors method'!AE102","v":176928.78466345315},{"$f":"'semiconductors method'!AF102","v":176228.15338366813},{"$f":"'semiconductors method'!AG102","v":194115.72287342252}]
["ND","Semi",null,"ND Semi ",{"$f":"'semiconductors method'!B103","v":75038.649581137768},{"$f":"'semiconductors method'!C103","v":75038.649581137768},{"$f":"'semiconductors method'!D103","v":75038.649581137768},{"$f":"'semiconductors method'!E103","v":93798.311976422177},{"$f":"'semiconductors method'!F103","v":103178.14317406442},{"$f":"'semiconductors method'!G103","v":129659.92966149464},{"$f":"'semiconductors method'!H103","v":143982.53608751699},{"$f":"'semiconductors method'!I103","v":152160.75209642481},{"$f":"'semiconductors method'!J103","v":156042.88585569439},{"$f":"'semiconductors method'!K103","v":124412.63053756906},{"$f":"'semiconductors method'!L103","v":73411.419280661808},{"$f":"'semiconductors method'!M103","v":27388.422884940104},{"$f":"'semiconductors method'!N103","v":0},{"$f":"'semiconductors method'!O103","v":0},{"$f":"'semiconductors method'!P103","v":0},{"$f":"'semiconductors method'!Q103","v":0},{"$f":"'semiconductors method'!R103","v":0},{"$f":"'semiconductors method'!S103","v":0},{"$f":"'semiconductors method'!T103","v":0},{"$f":"'semiconductors method'!U103","v":0},{"$f":"'semiconductors method'!V103","v":0},{"$f":"'semiconductors method'!W103","v":0},{"$f":"'semiconductors method'!X103","v":0},{"$f":"'semiconductors method'!Y103","v":0},{"$f":"'semiconductors method'!Z103","v":0},{"$f":"'semiconductors method'!AA103","v":0},{"$f":"'semiconductors method'!AB103","v":0},{"$f":"'semiconductors method'!AC103","v":0},{"$f":"'semiconductors method'!AD103","v":0},{"$f":"'semiconductors method'!AE103","v":0},{"$f":"'semiconductors method'!AF103","v":0},{"$f":"'semiconductors method'!AG103","v":0}]
["OH","Semi",null,"OH Semi ",{"$f":"'semiconductors method'!B104","v":16683.272322548124},{"$f":"'semiconductors method'!C104","v":16683.272322548124},{"$f":"'semiconductors method'!D104","v":16683.272322548124},{"$f":"'semiconductors method'!E104","v":20854.090403185153},{"$f":"'semiconductors method'!F104","v":22939.499443503672},{"$f":"'semiconductors method'!G104","v":28827.170104203142},{"$f":"'semiconductors method'!H104","v":32011.50170808734},{"$f":"'semiconductors method'!I104","v":33829.756774654103},{"$f":"'semiconductors method'!J104","v":37646.793417027162},{"$f":"'semiconductors method'!K104","v":33940.964203581636},{"$f":"'semiconductors method'!L104","v":24659.655782213104},{"$f":"'semiconductors method'!M104","v":14384.742353239819},{"$f":"'semiconductors method'!N104","v":11248.904287572708},{"$f":"'semiconductors method'!O104","v":15438.526069974832},{"$f":"'semiconductors method'!P104","v":18693.016499329413},{"$f":"'semiconductors method'!Q104","v":21278.729727772145},{"$f":"'semiconductors method'!R104","v":26943.999615110184},{"$f":"'semiconductors method'!S104","v":27657.261704009248},{"$f":"'semiconductors method'!T104","v":28228.273805926943},{"$f":"'semiconductors method'!U104","v":22587.062622847225},{"$f":"'semiconductors method'!V104","v":32292.286350991788},{"$f":"'semiconductors method'!W104","v":47323.039875855517},{"$f":"'semiconductors method'!X104","v":49578.571879567455},{"$f":"'semiconductors method'!Y104","v":46030.751128178556},{"$f":"'semiconductors method'!Z104","v":48434.880361399788},{"$f":"'semiconductors method'!AA104","v":49340.311913331214},{"$f":"'semiconductors method'!AB104","v":49543.049308384936},{"$f":"'semiconductors method'!AC104","v":49004.006668997295},{"$f":"'semiconductors method'!AD104","v":50749.566127698665},{"$f":"'semiconductors method'!AE104","v":47014.736451647048},{"$f":"'semiconductors method'!AF104","v":46828.55987765696},{"$f":"'semiconductors method'!AG104","v":51581.768163810069}]
["OK","Semi",null,"OK Semi ",{"$f":"'semiconductors method'!B105","v":75038.649581137768},{"$f":"'semiconductors method'!C105","v":75038.649581137768},{"$f":"'semiconductors method'!D105","v":75038.649581137768},{"$f":"'semiconductors method'!E105","v":93798.311976422177},{"$f":"'semiconductors method'!F105","v":103178.14317406442},{"$f":"'semiconductors method'!G105","v":129659.92966149464},{"$f":"'semiconductors method'!H105","v":143982.53608751699},{"$f":"'semiconductors method'!I105","v":152160.75209642481},{"$f":"'semiconductors method'!J105","v":156042.88585569439},{"$f":"'semiconductors method'!K105","v":124412.63053756906},{"$f":"'semiconductors method'!L105","v":73411.419280661808},{"$f":"'semiconductors method'!M105","v":27388.422884940104},{"$f":"'semiconductors method'!N105","v":0},{"$f":"'semiconductors method'!O105","v":0},{"$f":"'semiconductors method'!P105","v":0},{"$f":"'semiconductors method'!Q105","v":0},{"$f":"'semiconductors method'!R105","v":0},{"$f":"'semiconductors method'!S105","v":0},{"$f":"'semiconductors method'!T105","v":0},{"$f":"'semiconductors method'!U105","v":0},{"$f":"'semiconductors method'!V105","v":0},{"$f":"'semiconductors method'!W105","v":0},{"$f":"'semiconductors method'!X105","v":0},{"$f":"'semiconductors method'!Y105","v":0},{"$f":"'semiconductors method'!Z105","v":0},{"$f":"'semiconductors method'!AA105","v":0},{"$f":"'semiconductors method'!AB105","v":0},{"$f":"'semiconductors method'!AC105","v":0},{"$f":"'semiconductors method'!AD105","v":0},{"$f":"'semiconductors method'!AE105","v":0},{"$f":"'semiconductors method'!AF105","v":0},{"$f":"'semiconductors method'!AG105","v":0}]
["OR","Semi",null,"OR Semi ",{"$f":"'semiconductors method'!B106","v":328007.78548713098},{"$f":"'semiconductors method'!C106","v":328007.78548713098},{"$f":"'semiconductors method'!D106","v":328007.78548713098},{"$f":"'semiconductors method'!E106","v":410009.73185891367},{"$f":"'semiconductors method'!F106","v":451010.70504480507},{"$f":"'semiconductors method'!G106","v":566767.4809192532},{"$f":"'semiconductors method'!H106","v":629374.2368034136},{"$f":"'semiconductors method'!I106","v":665122.7282447035},{"$f":"'semiconductors method'!J106","v":881367.52682267805},{"$f":"'semiconductors method'!K106","v":967515.13978790492},{"$f":"'semiconductors method'!L106","v":883397.1782725571},{"$f":"'semiconductors method'!M106","v":679344.00655665225},{"$f":"'semiconductors method'!N106","v":758864.26456179027},{"$f":"'semiconductors method'!O106","v":827840.05430199986},{"$f":"'semiconductors method'!P106","v":871105.97813466447},{"$f":"'semiconductors method'!Q106","v":901259.50626748952},{"$f":"'semiconductors method'!R106","v":1064574.1316587699},{"$f":"'semiconductors method'!S106","v":1036375.999740513},{"$f":"'semiconductors method'!T106","v":893612.92963316734},{"$f":"'semiconductors method'!U106","v":591609.68272709486},{"$f":"'semiconductors method'!V106","v":679703.66465940443},{"$f":"'semiconductors method'!W106","v":766515.37094023533},{"$f":"'semiconductors method'!X106","v":575862.85273378599},{"$f":"'semiconductors method'!Y106","v":608470.38463404111},{"$f":"'semiconductors method'!Z106","v":714888.82062735385},{"$f":"'semiconductors method'!AA106","v":801375.06992437365},{"$f":"'semiconductors method'!AB106","v":875331.64897486463},{"$f":"'semiconductors method'!AC106","v":933124.74190415791},{"$f":"'semiconductors method'!AD106","v":966363.34482863173},{"$f":"'semiconductors method'!AE106","v":895245.44622368983},{"$f":"'semiconductors method'!AF106","v":891700.30819596571},{"$f":"'semiconductors method'!AG106","v":982209.97376662551}]
["PA","Semi",null,"PA Semi ",{"$f":"'semiconductors method'!B107","v":172888.72578836099},{"$f":"'semiconductors method'!C107","v":172888.72578836099},{"$f":"'semiconductors method'!D107","v":172888.72578836099},{"$f":"'semiconductors method'!E107","v":216110.90723545119},{"$f":"'semiconductors method'!F107","v":237721.99795899633},{"$f":"'semiconductors method'!G107","v":298735.92009069346},{"$f":"'semiconductors method'!H107","v":331735.14367461088},{"$f":"'semiconductors method'!I107","v":350577.71817314584},{"$f":"'semiconductors method'!J107","v":373488.88476020482},{"$f":"'semiconductors method'!K107","v":316341.24558244034},{"$f":"'semiconductors method'!L107","v":208564.0917051085},{"$f":"'semiconductors method'!M107","v":102325.58231012913},{"$f":"'semiconductors method'!N107","v":53187.056181891021},{"$f":"'semiconductors method'!O107","v":45496.728209314017},{"$f":"'semiconductors method'!P107","v":38195.366480712801},{"$f":"'semiconductors method'!Q107","v":31851.048471669033},{"$f":"'semiconductors method'!R107","v":30467.299297425539},{"$f":"'semiconductors method'!S107","v":24017.379485796831},{"$f":"'semiconductors method'!T107","v":22068.519623748791},{"$f":"'semiconductors method'!U107","v":15820.261057573305},{"$f":"'semiconductors method'!V107","v":20144.170816496935},{"$f":"'semiconductors method'!W107","v":26101.746667799725},{"$f":"'semiconductors method'!X107","v":23962.488028107895},{"$f":"'semiconductors method'!Y107","v":19910.533113737787},{"$f":"'semiconductors method'!Z107","v":18587.175187829038},{"$f":"'semiconductors method'!AA107","v":16619.396307601884},{"$f":"'semiconductors method'!AB107","v":14450.283882015214},{"$f":"'semiconductors method'!AC107","v":12161.62850048222},{"$f":"'semiconductors method'!AD107","v":12594.834825949061},{"$f":"'semiconductors method'!AE107","v":11667.938963340905},{"$f":"'semiconductors method'!AF107","v":11621.73436738503},{"$f":"'semiconductors method'!AG107","v":12801.367570687562}]
["PR","Semi",null,"PR Semi ",{"$f":"'semiconductors method'!B108","v":0},{"$f":"'semiconductors method'!C108","v":0},{"$f":"'semiconductors method'!D108","v":0},{"$f":"'semiconductors method'!E108","v":0},{"$f":"'semiconductors method'!F108","v":0},{"$f":"'semiconductors method'!G108","v":0},{"$f":"'semiconductors method'!H108","v":0},{"$f":"'semiconductors method'!I108","v":0},{"$f":"'semiconductors method'!J108","v":0},{"$f":"'semiconductors method'!K108","v":0},{"$f":"'semiconductors method'!L108","v":0},{"$f":"'semiconductors method'!M108","v":0},{"$f":"'semiconductors method'!N108","v":0},{"$f":"'semiconductors method'!O108","v":0},{"$f":"'semiconductors method'!P108","v":0},{"$f":"'semiconductors method'!Q108","v":0},{"$f":"'semiconductors method'!R108","v":0},{"$f":"'semiconductors method'!S108","v":0},{"$f":"'semiconductors method'!T108","v":0},{"$f":"'semiconductors method'!U108","v":0},{"$f":"'semiconductors method'!V108","v":0},{"$f":"'semiconductors method'!W108","v":0},{"$f":"'semiconductors method'!X108","v":0},{"$f":"'semiconductors method'!Y108","v":0},{"$f":"'semiconductors method'!Z108","v":0},{"$f":"'semiconductors method'!AA108","v":0},{"$f":"'semiconductors method'!AB108","v":0},{"$f":"'semiconductors method'!AC108","v":0},{"$f":"'semiconductors method'!AD108","v":0},{"$f":"'semiconductors method'!AE108","v":0},{"$f":"'semiconductors method'!AF108","v":0},{"$f":"'semiconductors method'!AG108","v":0}]
["RI","Semi",null,"RI Semi ",{"$f":"'semiconductors method'!B109","v":5326.4260479964069},{"$f":"'semiconductors method'!C109","v":5326.4260479964069},{"$f":"'semiconductors method'!D109","v":5326.4260479964069},{"$f":"'semiconductors method'!E109","v":6658.0325599955067},{"$f":"'semiconductors method'!F109","v":7323.8358159950594},{"$f":"'semiconductors method'!G109","v":9203.5774975349104},{"$f":"'semiconductors method'!H109","v":10220.230973691585},{"$f":"'semiconductors method'!I109","v":10800.740657956178},{"$f":"'semiconductors method'!J109","v":11076.303964233713},{"$f":"'semiconductors method'!K109","v":8831.1114298308948},{"$f":"'semiconductors method'!L109","v":5210.9212793615143},{"$f":"'semiconductors method'!M109","v":1944.0969404726052},{"$f":"'semiconductors method'!N109","v":0},{"$f":"'semiconductors method'!O109","v":0},{"$f":"'semiconductors method'!P109","v":0},{"$f":"'semiconductors method'!Q109","v":0},{"$f":"'semiconductors method'!R109","v":0},{"$f":"'semiconductors method'!S109","v":0},{"$f":"'semiconductors method'!T109","v":0},{"$f":"'semiconductors method'!U109","v":0},{"$f":"'semiconductors method'!V109","v":0},{"$f":"'semiconductors method'!W109","v":0},{"$f":"'semiconductors method'!X109","v":0},{"$f":"'semiconductors method'!Y109","v":0},{"$f":"'semiconductors method'!Z109","v":0},{"$f":"'semiconductors method'!AA109","v":0},{"$f":"'semiconductors method'!AB109","v":0},{"$f":"'semiconductors method'!AC109","v":0},{"$f":"'semiconductors method'!AD109","v":0},{"$f":"'semiconductors method'!AE109","v":0},{"$f":"'semiconductors method'!AF109","v":0},{"$f":"'semiconductors method'!AG109","v":0}]
["SC","Semi",null,"SC Semi ",{"$f":"'semiconductors method'!B110","v":75038.649581137768},{"$f":"'semiconductors method'!C110","v":75038.649581137768},{"$f":"'semiconductors method'!D110","v":75038.649581137768},{"$f":"'semiconductors method'!E110","v":93798.311976422177},{"$f":"'semiconductors method'!F110","v":103178.14317406442},{"$f":"'semiconductors method'!G110","v":129659.92966149464},{"$f":"'semiconductors method'!H110","v":143982.53608751699},{"$f":"'semiconductors method'!I110","v":152160.75209642481},{"$f":"'semiconductors method'!J110","v":168284.77444210631},{"$f":"'semiconductors method'!K110","v":150440.44211738196},{"$f":"'semiconductors method'!L110","v":107967.08944310664},{"$f":"'semiconductors method'!M110","v":61767.281714817174},{"$f":"'semiconductors method'!N110","v":46618.587060635698},{"$f":"'semiconductors method'!O110","v":50626.386831680822},{"$f":"'semiconductors method'!P110","v":53094.926975847877},{"$f":"'semiconductors method'!Q110","v":54792.326034334328},{"$f":"'semiconductors method'!R110","v":64589.956884551488},{"$f":"'semiconductors method'!S110","v":62775.706134018888},{"$f":"'semiconductors method'!T110","v":56010.265634171898},{"$f":"'semiconductors method'!U110","v":38756.104219308872},{"$f":"'semiconductors method'!V110","v":47251.625744402481},{"$f":"'semiconductors method'!W110","v":57972.06570042274},{"$f":"'semiconductors method'!X110","v":49578.571879567455},{"$f":"'semiconductors method'!Y110","v":36091.406411692966},{"$f":"'semiconductors method'!Z110","v":27926.286939608817},{"$f":"'semiconductors method'!AA110","v":18602.404953511494},{"$f":"'semiconductors method'!AB110","v":9163.9497716432525},{"$f":"'semiconductors method'!AC110","v":0},{"$f":"'semiconductors method'!AD110","v":0},{"$f":"'semiconductors method'!AE110","v":0},{"$f":"'semiconductors method'!AF110","v":0},{"$f":"'semiconductors method'!AG110","v":0}]
["SD","Semi",null,"SD Semi ",{"$f":"'semiconductors method'!B111","v":0},{"$f":"'semiconductors method'!C111","v":0},{"$f":"'semiconductors method'!D111","v":0},{"$f":"'semiconductors method'!E111","v":0},{"$f":"'semiconductors method'!F111","v":0},{"$f":"'semiconductors method'!G111","v":0},{"$f":"'semiconductors method'!H111","v":0},{"$f":"'semiconductors method'!I111","v":0},{"$f":"'semiconductors method'!J111","v":0},{"$f":"'semiconductors method'!K111","v":0},{"$f":"'semiconductors method'!L111","v":0},{"$f":"'semiconductors method'!M111","v":0},{"$f":"'semiconductors method'!N111","v":0},{"$f":"'semiconductors method'!O111","v":0},{"$f":"'semiconductors method'!P111","v":0},{"$f":"'semiconductors method'!Q111","v":0},{"$f":"'semiconductors method'!R111","v":0},{"$f":"'semiconductors method'!S111","v":0},{"$f":"'semiconductors method'!T111","v":0},{"$f":"'semiconductors method'!U111","v":0},{"$f":"'semiconductors method'!V111","v":0},{"$f":"'semiconductors method'!W111","v":0},{"$f":"'semiconductors method'!X111","v":0},{"$f":"'semiconductors method'!Y111","v":0},{"$f":"'semiconductors method'!Z111","v":0},{"$f":"'semiconductors method'!AA111","v":0},{"$f":"'semiconductors method'!AB111","v":0},{"$f":"'semiconductors method'!AC111","v":0},{"$f":"'semiconductors method'!AD111","v":0},{"$f":"'semiconductors method'!AE111","v":0},{"$f":"'semiconductors method'!AF111","v":0},{"$f":"'semiconductors method'!AG111","v":0}]
["TN","Semi",null,"TN Semi ",{"$f":"'semiconductors method'!B112","v":75038.649581137768},{"$f":"'semiconductors method'!C112","v":75038.649581137768},{"$f":"'semiconductors method'!D112","v":75038.649581137768},{"$f":"'semiconductors method'!E112","v":93798.311976422177},{"$f":"'semiconductors method'!F112","v":103178.14317406442},{"$f":"'semiconductors method'!G112","v":129659.92966149464},{"$f":"'semiconductors method'!H112","v":143982.53608751699},{"$f":"'semiconductors method'!I112","v":152160.75209642481},{"$f":"'semiconductors method'!J112","v":168284.77444210631},{"$f":"'semiconductors method'!K112","v":150440.44211738196},{"$f":"'semiconductors method'!L112","v":107967.08944310664},{"$f":"'semiconductors method'!M112","v":61767.281714817174},{"$f":"'semiconductors method'!N112","v":46618.587060635698},{"$f":"'semiconductors method'!O112","v":50626.386831680822},{"$f":"'semiconductors method'!P112","v":53094.926975847877},{"$f":"'semiconductors method'!Q112","v":54792.326034334328},{"$f":"'semiconductors method'!R112","v":64589.956884551488},{"$f":"'semiconductors method'!S112","v":62775.706134018888},{"$f":"'semiconductors method'!T112","v":56010.265634171898},{"$f":"'semiconductors method'!U112","v":38756.104219308872},{"$f":"'semiconductors method'!V112","v":47251.625744402481},{"$f":"'semiconductors method'!W112","v":57972.06570042274},{"$f":"'semiconductors method'!X112","v":49578.571879567455},{"$f":"'semiconductors method'!Y112","v":46030.751128178556},{"$f":"'semiconductors method'!Z112","v":48434.880361399788},{"$f":"'semiconductors method'!AA112","v":49340.311913331214},{"$f":"'semiconductors method'!AB112","v":49543.049308384936},{"$f":"'semiconductors method'!AC112","v":49004.006668997295},{"$f":"'semiconductors method'!AD112","v":50749.566127698665},{"$f":"'semiconductors method'!AE112","v":47014.736451647048},{"$f":"'semiconductors method'!AF112","v":46828.55987765696},{"$f":"'semiconductors method'!AG112","v":51581.768163810069}]
["TX","Semi",null,"TX Semi ",{"$f":"'semiconductors method'!B113","v":567125.46578134689},{"$f":"'semiconductors method'!C113","v":567125.46578134689},{"$f":"'semiconductors method'!D113","v":567125.46578134689},{"$f":"'semiconductors method'!E113","v":708906.83222668339},{"$f":"'semiconductors method'!F113","v":779797.51544935186},{"$f":"'semiconductors method'!G113","v":979940.98258580198},{"$f":"'semiconductors method'!H113","v":1088188.064401659},{"$f":"'semiconductors method'!I113","v":1149997.2066130638},{"$f":"'semiconductors method'!J113","v":1378223.7359685926},{"$f":"'semiconductors method'!K113","v":1363140.4580661731},{"$f":"'semiconductors method'!L113","v":1116231.3447736942},{"$f":"'semiconductors method'!M113","v":765527.20655176754},{"$f":"'semiconductors method'!N113","v":757382.70840954199},{"$f":"'semiconductors method'!O113","v":707354.62489395426},{"$f":"'semiconductors method'!P113","v":652460.36640139914},{"$f":"'semiconductors method'!Q113","v":602284.62849943945},{"$f":"'semiconductors method'!R113","v":643512.57907038927},{"$f":"'semiconductors method'!S113","v":572911.68910566997},{"$f":"'semiconductors method'!T113","v":553590.81635382003},{"$f":"'semiconductors method'!U113","v":419540.7242558687},{"$f":"'semiconductors method'!V113","v":568290.19227634417},{"$f":"'semiconductors method'!W113","v":789246.97536150599},{"$f":"'semiconductors method'!X113","v":783756.00691228383},{"$f":"'semiconductors method'!Y113","v":715539.957800498},{"$f":"'semiconductors method'!Z113","v":740645.70011242444},{"$f":"'semiconductors method'!AA113","v":742474.37264787348},{"$f":"'semiconductors method'!AB113","v":733912.3940749421},{"$f":"'semiconductors method'!AC113","v":714864.44874853559},{"$f":"'semiconductors method'!AD113","v":740328.45638838015},{"$f":"'semiconductors method'!AE113","v":685845.21840389445},{"$f":"'semiconductors method'!AF113","v":683129.29733984149},{"$f":"'semiconductors method'!AG113","v":752468.5177880649}]
["UT","Semi",null,"UT Semi ",{"$f":"'semiconductors method'!B114","v":2160.4762955608435},{"$f":"'semiconductors method'!C114","v":2160.4762955608435},{"$f":"'semiconductors method'!D114","v":2160.4762955608435},{"$f":"'semiconductors method'!E114","v":2700.5953694510536},{"$f":"'semiconductors method'!F114","v":2970.6549063961593},{"$f":"'semiconductors method'!G114","v":3733.1056206555209},{"$f":"'semiconductors method'!H114","v":4145.4751375217593},{"$f":"'semiconductors method'!I114","v":4380.9383544885914},{"$f":"'semiconductors method'!J114","v":16734.599447600933},{"$f":"'semiconductors method'!K114","v":29609.839516684944},{"$f":"'semiconductors method'!L114","v":36669.296034774168},{"$f":"'semiconductors method'!M114","v":35167.412978252672},{"$f":"'semiconductors method'!N114","v":46618.587060635698},{"$f":"'semiconductors method'!O114","v":50626.386831680822},{"$f":"'semiconductors method'!P114","v":53094.926975847877},{"$f":"'semiconductors method'!Q114","v":54792.326034334328},{"$f":"'semiconductors method'!R114","v":64589.956884551488},{"$f":"'semiconductors method'!S114","v":62775.706134018888},{"$f":"'semiconductors method'!T114","v":56010.265634171898},{"$f":"'semiconductors method'!U114","v":38756.104219308872},{"$f":"'semiconductors method'!V114","v":47251.625744402481},{"$f":"'semiconductors method'!W114","v":57972.06570042274},{"$f":"'semiconductors method'!X114","v":49578.571879567455},{"$f":"'semiconductors method'!Y114","v":46030.751128178556},{"$f":"'semiconductors method'!Z114","v":48434.880361399788},{"$f":"'semiconductors method'!AA114","v":49340.311913331214},{"$f":"'semiconductors method'!AB114","v":49543.049308384936},{"$f":"'semiconductors method'!AC114","v":49004.006668997295},{"$f":"'semiconductors method'!AD114","v":50749.566127698665},{"$f":"'semiconductors method'!AE114","v":47014.736451647048},{"$f":"'semiconductors method'!AF114","v":46828.55987765696},{"$f":"'semiconductors method'!AG114","v":51581.768163810069}]
["VT","Semi",null,"VT Semi ",{"$f":"'semiconductors method'!B115","v":75038.649581137768},{"$f":"'semiconductors method'!C115","v":75038.649581137768},{"$f":"'semiconductors method'!D115","v":75038.649581137768},{"$f":"'semiconductors method'!E115","v":93798.311976422177},{"$f":"'semiconductors method'!F115","v":103178.14317406442},{"$f":"'semiconductors method'!G115","v":129659.92966149464},{"$f":"'semiconductors method'!H115","v":143982.53608751699},{"$f":"'semiconductors method'!I115","v":152160.75209642481},{"$f":"'semiconductors method'!J115","v":156042.88585569439},{"$f":"'semiconductors method'!K115","v":124412.63053756906},{"$f":"'semiconductors method'!L115","v":73411.419280661808},{"$f":"'semiconductors method'!M115","v":27388.422884940104},{"$f":"'semiconductors method'!N115","v":0},{"$f":"'semiconductors method'!O115","v":0},{"$f":"'semiconductors method'!P115","v":0},{"$f":"'semiconductors method'!Q115","v":0},{"$f":"'semiconductors method'!R115","v":0},{"$f":"'semiconductors method'!S115","v":0},{"$f":"'semiconductors method'!T115","v":0},{"$f":"'semiconductors method'!U115","v":0},{"$f":"'semiconductors method'!V115","v":0},{"$f":"'semiconductors method'!W115","v":0},{"$f":"'semiconductors method'!X115","v":0},{"$f":"'semiconductors method'!Y115","v":0},{"$f":"'semiconductors method'!Z115","v":0},{"$f":"'semiconductors method'!AA115","v":0},{"$f":"'semiconductors method'!AB115","v":0},{"$f":"'semiconductors method'!AC115","v":0},{"$f":"'semiconductors method'!AD115","v":0},{"$f":"'semiconductors method'!AE115","v":0},{"$f":"'semiconductors method'!AF115","v":0},{"$f":"'semiconductors method'!AG115","v":0}]
["VA","Semi",null,"VA Semi ",{"$f":"'semiconductors method'!B116","v":3259.9742283554888},{"$f":"'semiconductors method'!C116","v":3259.9742283554888},{"$f":"'semiconductors method'!D116","v":3259.9742283554888},{"$f":"'semiconductors method'!E116","v":4074.9677854443598},{"$f":"'semiconductors method'!F116","v":4482.4645639887967},{"$f":"'semiconductors method'!G116","v":5632.9375795844235},{"$f":"'semiconductors method'!H116","v":6255.1679647571373},{"$f":"'semiconductors method'!I116","v":6610.4618509315678},{"$f":"'semiconductors method'!J116","v":19021.005604739097},{"$f":"'semiconductors method'!K116","v":31432.785836390376},{"$f":"'semiconductors method'!L116","v":37744.951103104409},{"$f":"'semiconductors method'!M116","v":35568.719698357432},{"$f":"'semiconductors method'!N116","v":46618.587060635698},{"$f":"'semiconductors method'!O116","v":50626.386831680822},{"$f":"'semiconductors method'!P116","v":53094.926975847877},{"$f":"'semiconductors method'!Q116","v":54792.326034334328},{"$f":"'semiconductors method'!R116","v":64589.956884551488},{"$f":"'semiconductors method'!S116","v":62775.706134018888},{"$f":"'semiconductors method'!T116","v":56010.265634171898},{"$f":"'semiconductors method'!U116","v":38756.104219308872},{"$f":"'semiconductors method'!V116","v":47251.625744402481},{"$f":"'semiconductors method'!W116","v":57972.06570042274},{"$f":"'semiconductors method'!X116","v":49578.571879567455},{"$f":"'semiconductors method'!Y116","v":46030.751128178556},{"$f":"'semiconductors method'!Z116","v":48434.880361399788},{"$f":"'semiconductors method'!AA116","v":49340.311913331214},{"$f":"'semiconductors method'!AB116","v":49543.049308384936},{"$f":"'semiconductors method'!AC116","v":49004.006668997295},{"$f":"'semiconductors method'!AD116","v":50749.566127698665},{"$f":"'semiconductors method'!AE116","v":47014.736451647048},{"$f":"'semiconductors method'!AF116","v":46828.55987765696},{"$f":"'semiconductors method'!AG116","v":51581.768163810069}]
["WA","Semi",null,"WA Semi ",{"$f":"'semiconductors method'!B117","v":29345.944540967772},{"$f":"'semiconductors method'!C117","v":29345.944540967772},{"$f":"'semiconductors method'!D117","v":29345.944540967772},{"$f":"'semiconductors method'!E117","v":36682.430676209711},{"$f":"'semiconductors method'!F117","v":40350.673743830688},{"$f":"'semiconductors method'!G117","v":50707.110619278166},{"$f":"'semiconductors method'!H117","v":56308.36298997399},{"$f":"'semiconductors method'!I117","v":59506.681120445661},{"$f":"'semiconductors method'!J117","v":79830.427260676603},{"$f":"'semiconductors method'!K117","v":88637.956732284321},{"$f":"'semiconductors method'!L117","v":81792.695444249825},{"$f":"'semiconductors method'!M117","v":63522.515670900299},{"$f":"'semiconductors method'!N117","v":71613.724928683034},{"$f":"'semiconductors method'!O117","v":74716.936853556152},{"$f":"'semiconductors method'!P117","v":75989.723036396681},{"$f":"'semiconductors method'!Q117","v":76535.280323203566},{"$f":"'semiconductors method'!R117","v":88458.15608091584},{"$f":"'semiconductors method'!S117","v":84580.548931858299},{"$f":"'semiconductors method'!T117","v":73259.946656719811},{"$f":"'semiconductors method'!U117","v":48795.370363492009},{"$f":"'semiconductors method'!V117","v":56539.794657548096},{"$f":"'semiconductors method'!W117","v":64583.985386033884},{"$f":"'semiconductors method'!X117","v":49578.571879567455},{"$f":"'semiconductors method'!Y117","v":56436.632627021441},{"$f":"'semiconductors method'!Z117","v":69906.114023427785},{"$f":"'semiconductors method'!AA117","v":81521.006563736504},{"$f":"'semiconductors method'!AB117","v":91817.478538351847},{"$f":"'semiconductors method'!AC117","v":100308.18223706193},{"$f":"'semiconductors method'!AD117","v":103881.23489521974},{"$f":"'semiconductors method'!AE117","v":96236.268672349906},{"$f":"'semiconductors method'!AF117","v":95855.176696785289},{"$f":"'semiconductors method'!AG117","v":105584.70118645932}]
["WV","Semi",null,"WV Semi ",{"$f":"'semiconductors method'!B118","v":0},{"$f":"'semiconductors method'!C118","v":0},{"$f":"'semiconductors method'!D118","v":0},{"$f":"'semiconductors method'!E118","v":0},{"$f":"'semiconductors method'!F118","v":0},{"$f":"'semiconductors method'!G118","v":0},{"$f":"'semiconductors method'!H118","v":0},{"$f":"'semiconductors method'!I118","v":0},{"$f":"'semiconductors method'!J118","v":0},{"$f":"'semiconductors method'!K118","v":0},{"$f":"'semiconductors method'!L118","v":0},{"$f":"'semiconductors method'!M118","v":0},{"$f":"'semiconductors method'!N118","v":0},{"$f":"'semiconductors method'!O118","v":0},{"$f":"'semiconductors method'!P118","v":0},{"$f":"'semiconductors method'!Q118","v":0},{"$f":"'semiconductors method'!R118","v":0},{"$f":"'semiconductors method'!S118","v":0},{"$f":"'semiconductors method'!T118","v":0},{"$f":"'semiconductors method'!U118","v":0},{"$f":"'semiconductors method'!V118","v":0},{"$f":"'semiconductors method'!W118","v":0},{"$f":"'semiconductors method'!X118","v":0},{"$f":"'semiconductors method'!Y118","v":0},{"$f":"'semiconductors method'!Z118","v":0},{"$f":"'semiconductors method'!AA118","v":0},{"$f":"'semiconductors method'!AB118","v":0},{"$f":"'semiconductors method'!AC118","v":0},{"$f":"'semiconductors method'!AD118","v":0},{"$f":"'semiconductors method'!AE118","v":0},{"$f":"'semiconductors method'!AF118","v":0},{"$f":"'semiconductors method'!AG118","v":0}]
["WI","Semi",null,"WI Semi ",{"$f":"'semiconductors method'!B119","v":3149.7990768115019},{"$f":"'semiconductors method'!C119","v":3149.7990768115019},{"$f":"'semiconductors method'!D119","v":3149.7990768115019},{"$f":"'semiconductors method'!E119","v":3937.2488460143763},{"$f":"'semiconductors method'!F119","v":4330.9737306158149},{"$f":"'semiconductors method'!G119","v":5442.5649852030256},{"$f":"'semiconductors method'!H119","v":6043.766269475067},{"$f":"'semiconductors method'!I119","v":6387.0525276715107},{"$f":"'semiconductors method'!J119","v":8040.2809854216612},{"$f":"'semiconductors method'!K119","v":8390.8163155418588},{"$f":"'semiconductors method'!L119","v":7288.1489700535503},{"$f":"'semiconductors method'!M119","v":5334.777722956499},{"$f":"'semiconductors method'!N119","v":5675.1400034453063},{"$f":"'semiconductors method'!O119","v":5358.0870218361206},{"$f":"'semiconductors method'!P119","v":4994.4583940560497},{"$f":"'semiconductors method'!Q119","v":4657.5264516779989},{"$f":"'semiconductors method'!R119","v":5025.6732798322082},{"$f":"'semiconductors method'!S119","v":4517.3035581914601},{"$f":"'semiconductors method'!T119","v":3738.6922524756592},{"$f":"'semiconductors method'!U119","v":2336.0356252838578},{"$f":"'semiconductors method'!V119","v":2457.55713392095},{"$f":"'semiconductors method'!W119","v":2382.212425860434},{"$f":"'semiconductors method'!X119","v":1289.137411103768},{"$f":"'semiconductors method'!Y119","v":1065.437006174926},{"$f":"'semiconductors method'!Z119","v":988.16801418038676},{"$f":"'semiconductors method'!AA119","v":876.42575151061499},{"$f":"'semiconductors method'!AB119","v":754.19014641561648},{"$f":"'semiconductors method'!AC119","v":626.10747307499798},{"$f":"'semiconductors method'!AD119","v":648.40989069508839},{"$f":"'semiconductors method'!AE119","v":600.69124624560106},{"$f":"'semiconductors method'!AF119","v":598.31253168305398},{"$f":"'semiconductors method'!AG119","v":659.04265216369754}]
["WY","Semi",null,"WY Semi ",{"$f":"'semiconductors method'!B120","v":0},{"$f":"'semiconductors method'!C120","v":0},{"$f":"'semiconductors method'!D120","v":0},{"$f":"'semiconductors method'!E120","v":0},{"$f":"'semiconductors method'!F120","v":0},{"$f":"'semiconductors method'!G120","v":0},{"$f":"'semiconductors method'!H120","v":0},{"$f":"'semiconductors method'!I120","v":0},{"$f":"'semiconductors method'!J120","v":0},{"$f":"'semiconductors method'!K120","v":0},{"$f":"'semiconductors method'!L120","v":0},{"$f":"'semiconductors method'!M120","v":0},{"$f":"'semiconductors method'!N120","v":0},{"$f":"'semiconductors method'!O120","v":0},{"$f":"'semiconductors method'!P120","v":0},{"$f":"'semiconductors method'!Q120","v":0},{"$f":"'semiconductors method'!R120","v":0},{"$f":"'semiconductors method'!S120","v":0},{"$f":"'semiconductors method'!T120","v":0},{"$f":"'semiconductors method'!U120","v":0},{"$f":"'semiconductors method'!V120","v":0},{"$f":"'semiconductors method'!W120","v":0},{"$f":"'semiconductors method'!X120","v":0},{"$f":"'semiconductors method'!Y120","v":0},{"$f":"'semiconductors method'!Z120","v":0},{"$f":"'semiconductors method'!AA120","v":0},{"$f":"'semiconductors method'!AB120","v":0},{"$f":"'semiconductors method'!AC120","v":0},{"$f":"'semiconductors method'!AD120","v":0},{"$f":"'semiconductors method'!AE120","v":0},{"$f":"'semiconductors method'!AF120","v":0},{"$f":"'semiconductors method'!AG120","v":0}]
["AL","EU",null,{"$f":"A420&\" \"&B420&\" \"&C420","v":"AL EU "},{"$f":"'Electric Power method'!B4","v":23.177633235490141},{"$f":"'Electric Power method'!C4","v":22.289657869456704},{"$f":"'Electric Power method'!D4","v":22.550134913509183},{"$f":"'Electric Power method'!E4","v":22.092935186411129},{"$f":"'Electric Power method'!F4","v":21.078684227589985},{"$f":"'Electric Power method'!G4","v":19.604807273826633},{"$f":"'Electric Power method'!H4","v":18.190565637281278},{"$f":"'Electric Power method'!I4","v":16.765393187927909},{"$f":"'Electric Power method'!J4","v":14.592873196485117},{"$f":"'Electric Power method'!K4","v":14.944249229173995},{"$f":"'Electric Power method'!L4","v":14.532639608255341},{"$f":"'Electric Power method'!M4","v":13.640338970601423},{"$f":"'Electric Power method'!N4","v":13.227365608810986},{"$f":"'Electric Power method'!O4","v":12.757683099070553},{"$f":"'Electric Power method'!P4","v":12.666984499908772},{"$f":"'Electric Power method'!Q4","v":12.280971536394524},{"$f":"'Electric Power method'!R4","v":11.534755489640665},{"$f":"'Electric Power method'!S4","v":10.59848432299375},{"$f":"'Electric Power method'!T4","v":10.387156994506952},{"$f":"'Electric Power method'!U4","v":8.8170164608988202},{"$f":"'Electric Power method'!V4","v":7.9940640359111477},{"$f":"'Electric Power method'!W4","v":7.2081661339154737},{"$f":"'Electric Power method'!X4","v":6.0516640318408044},{"$f":"'Electric Power method'!Y4","v":5.9015576079217356},{"$f":"'Electric Power method'!Z4","v":6.2400318454324433},{"$f":"'Electric Power method'!AA4","v":5.3543395667376661},{"$f":"'Electric Power method'!AB4","v":5.5500380529199722},{"$f":"'Electric Power method'!AC4","v":5.3983232593417476},{"$f":"'Electric Power method'!AD4","v":5.2194932000465837},{"$f":"'Electric Power method'!AE4","v":5.9882489262712406},{"$f":"'Electric Power method'!AF4","v":5.5904462449812948},{"$f":"'Electric Power method'!AG4","v":5.7258804295993233}]
["AK","EU",null,"AK EU ",{"$f":"'Electric Power method'!B5","v":1.6452721703899367},{"$f":"'Electric Power method'!C5","v":1.5492819057602012},{"$f":"'Electric Power method'!D5","v":1.5738909812256454},{"$f":"'Electric Power method'!E5","v":1.4855795380902279},{"$f":"'Electric Power method'!F5","v":1.4139791147544551},{"$f":"'Electric Power method'!G5","v":1.2971051550837061},{"$f":"'Electric Power method'!H5","v":1.1892979585605541},{"$f":"'Electric Power method'!I5","v":1.0885199254054474},{"$f":"'Electric Power method'!J5","v":0.93901440280609094},{"$f":"'Electric Power method'!K5","v":0.98374497727903276},{"$f":"'Electric Power method'!L5","v":0.92389824580998914},{"$f":"'Electric Power method'!M5","v":0.93746387392699337},{"$f":"'Electric Power method'!N5","v":0.87030894759455424},{"$f":"'Electric Power method'!O5","v":0.84656630856608894},{"$f":"'Electric Power method'!P5","v":0.84404511392374582},{"$f":"'Electric Power method'!Q5","v":0.81402239284344513},{"$f":"'Electric Power method'!R5","v":0.78642509661065019},{"$f":"'Electric Power method'!S5","v":0.73019273090199432},{"$f":"'Electric Power method'!T5","v":0.73247761161565605},{"$f":"'Electric Power method'!U5","v":0.66732411750436582},{"$f":"'Electric Power method'!V5","v":0.54961223951570304},{"$f":"'Electric Power method'!W5","v":0.5118501639104861},{"$f":"'Electric Power method'!X5","v":0.45055483463087775},{"$f":"'Electric Power method'!Y5","v":0.42107372810838006},{"$f":"'Electric Power method'!Z5","v":0.42509712525271587},{"$f":"'Electric Power method'!AA5","v":0.37118879083004647},{"$f":"'Electric Power method'!AB5","v":0.38519637056420997},{"$f":"'Electric Power method'!AC5","v":0.38720167857617094},{"$f":"'Electric Power method'!AD5","v":0.34529345857538224},{"$f":"'Electric Power method'!AE5","v":0.39553219244935783},{"$f":"'Electric Power method'!AF5","v":0.39668632560478068},{"$f":"'Electric Power method'!AG5","v":0.39936501797220325}]
["AZ","EU",null,"AZ EU ",{"$f":"'Electric Power method'!B6","v":16.039332489731621},{"$f":"'Electric Power method'!C6","v":15.23481382386632},{"$f":"'Electric Power method'!D6","v":15.833922184533696},{"$f":"'Electric Power method'!E6","v":15.080462684681065},{"$f":"'Electric Power method'!F6","v":14.747456586596703},{"$f":"'Electric Power method'!G6","v":13.606933365452182},{"$f":"'Electric Power method'!H6","v":12.960190893070862},{"$f":"'Electric Power method'!I6","v":12.245823018949238},{"$f":"'Electric Power method'!J6","v":10.292821043463043},{"$f":"'Electric Power method'!K6","v":10.717698105309912},{"$f":"'Electric Power method'!L6","v":10.636207236912016},{"$f":"'Electric Power method'!M6","v":10.703896949430016},{"$f":"'Electric Power method'!N6","v":9.9683635877985441},{"$f":"'Electric Power method'!O6","v":9.75030502529426},{"$f":"'Electric Power method'!P6","v":9.7598409990563475},{"$f":"'Electric Power method'!Q6","v":9.5534704376096542},{"$f":"'Electric Power method'!R6","v":9.3181995869813186},{"$f":"'Electric Power method'!S6","v":8.9093397405909673},{"$f":"'Electric Power method'!T6","v":8.8310204697644288},{"$f":"'Electric Power method'!U6","v":7.815347386966919},{"$f":"'Electric Power method'!V6","v":6.4078247529492192},{"$f":"'Electric Power method'!W6","v":6.0700489240196731},{"$f":"'Electric Power method'!X6","v":5.2708830672171487},{"$f":"'Electric Power method'!Y6","v":5.0826768456242695},{"$f":"'Electric Power method'!Z6","v":5.2611379806776366},{"$f":"'Electric Power method'!AA6","v":4.6615173318581826},{"$f":"'Electric Power method'!AB6","v":4.9217594628475299},{"$f":"'Electric Power method'!AC6","v":4.8602877302617102},{"$f":"'Electric Power method'!AD6","v":4.5295295200746004},{"$f":"'Electric Power method'!AE6","v":5.2972209011745051},{"$f":"'Electric Power method'!AF6","v":5.4942150480434675},{"$f":"'Electric Power method'!AG6","v":5.4338382802605398}]
["AR","EU",null,"AR EU ",{"$f":"'Electric Power method'!B7","v":10.584168643692061},{"$f":"'Electric Power method'!C7","v":10.353605979836964},{"$f":"'Electric Power method'!D7","v":10.320264973525923},{"$f":"'Electric Power method'!E7","v":10.752415092926055},{"$f":"'Electric Power method'!F7","v":10.17402765445572},{"$f":"'Electric Power method'!G7","v":9.7094443827913555},{"$f":"'Electric Power method'!H7","v":8.9918607743070016},{"$f":"'Electric Power method'!I7","v":8.288382490060286},{"$f":"'Electric Power method'!J7","v":7.2464276482888526},{"$f":"'Electric Power method'!K7","v":7.3955840411084521},{"$f":"'Electric Power method'!L7","v":7.2400604145164049},{"$f":"'Electric Power method'!M7","v":7.1731003776990212},{"$f":"'Electric Power method'!N7","v":6.7595470686765617},{"$f":"'Electric Power method'!O7","v":6.5593252256942218},{"$f":"'Electric Power method'!P7","v":6.368064949565178},{"$f":"'Electric Power method'!Q7","v":6.355827454062438},{"$f":"'Electric Power method'!R7","v":5.9323356195458867},{"$f":"'Electric Power method'!S7","v":5.4308925888565414},{"$f":"'Electric Power method'!T7","v":5.3419095950786435},{"$f":"'Electric Power method'!U7","v":4.5948433506397519},{"$f":"'Electric Power method'!V7","v":4.2401165017257867},{"$f":"'Electric Power method'!W7","v":3.8819070896811709},{"$f":"'Electric Power method'!X7","v":3.2904382933947871},{"$f":"'Electric Power method'!Y7","v":3.1359818662467482},{"$f":"'Electric Power method'!Z7","v":3.2464413531398142},{"$f":"'Electric Power method'!AA7","v":2.80025541108752},{"$f":"'Electric Power method'!AB7","v":2.9056070140475585},{"$f":"'Electric Power method'!AC7","v":2.8847619500696942},{"$f":"'Electric Power method'!AD7","v":2.8677413537864305},{"$f":"'Electric Power method'!AE7","v":3.2691149451643633},{"$f":"'Electric Power method'!AF7","v":3.0736340068517527},{"$f":"'Electric Power method'!AG7","v":3.2556965820526993}]
["CA","EU",null,"CA EU ",{"$f":"'Electric Power method'!B8","v":81.645127680611765},{"$f":"'Electric Power method'!C8","v":75.958700042911232},{"$f":"'Electric Power method'!D8","v":77.425166544915598},{"$f":"'Electric Power method'!E8","v":71.483667712723204},{"$f":"'Electric Power method'!F8","v":66.648991884173725},{"$f":"'Electric Power method'!G8","v":59.538170333442402},{"$f":"'Electric Power method'!H8","v":54.272908929117243},{"$f":"'Electric Power method'!I8","v":51.24482422373751},{"$f":"'Electric Power method'!J8","v":43.578612727285147},{"$f":"'Electric Power method'!K8","v":43.648309526816192},{"$f":"'Electric Power method'!L8","v":42.464273961075897},{"$f":"'Electric Power method'!M8","v":42.58553299975393},{"$f":"'Electric Power method'!N8","v":37.454703034463797},{"$f":"'Electric Power method'!O8","v":37.008400489227498},{"$f":"'Electric Power method'!P8","v":36.749050544586098},{"$f":"'Electric Power method'!Q8","v":35.004195648120977},{"$f":"'Electric Power method'!R8","v":33.449927508587727},{"$f":"'Electric Power method'!S8","v":30.496966189276002},{"$f":"'Electric Power method'!T8","v":31.049546811573602},{"$f":"'Electric Power method'!U8","v":27.627069103097703},{"$f":"'Electric Power method'!V8","v":22.745458333391337},{"$f":"'Electric Power method'!W8","v":21.21592743775518},{"$f":"'Electric Power method'!X8","v":18.224536706191746},{"$f":"'Electric Power method'!Y8","v":17.555282556949315},{"$f":"'Electric Power method'!Z8","v":18.106640991436493},{"$f":"'Electric Power method'!AA8","v":15.739621339151102},{"$f":"'Electric Power method'!AB8","v":16.157623347005437},{"$f":"'Electric Power method'!AC8","v":16.103752651877084},{"$f":"'Electric Power method'!AD8","v":14.75558953967667},{"$f":"'Electric Power method'!AE8","v":17.019446451452136},{"$f":"'Electric Power method'!AF8","v":16.770524725755354},{"$f":"'Electric Power method'!AG8","v":16.541688582161246}]
["CO","EU",null,"CO EU ",{"$f":"'Electric Power method'!B9","v":11.910527578616943},{"$f":"'Electric Power method'!C9","v":11.451730305484427},{"$f":"'Electric Power method'!D9","v":11.542999176256899},{"$f":"'Electric Power method'!E9","v":11.192139982953684},{"$f":"'Electric Power method'!F9","v":10.761399370630876},{"$f":"'Electric Power method'!G9","v":9.8901790406941057},{"$f":"'Electric Power method'!H9","v":9.2248648485502347},{"$f":"'Electric Power method'!I9","v":8.5608659206302686},{"$f":"'Electric Power method'!J9","v":7.2942101506113692},{"$f":"'Electric Power method'!K9","v":7.5409682595133773},{"$f":"'Electric Power method'!L9","v":7.4852334235122875},{"$f":"'Electric Power method'!M9","v":7.6034248765441079},{"$f":"'Electric Power method'!N9","v":7.3148290211051519},{"$f":"'Electric Power method'!O9","v":7.0745955620290246},{"$f":"'Electric Power method'!P9","v":6.8130152384976768},{"$f":"'Electric Power method'!Q9","v":6.6571068441197259},{"$f":"'Electric Power method'!R9","v":6.3264295152808065},{"$f":"'Electric Power method'!S9","v":5.9207491551727438},{"$f":"'Electric Power method'!T9","v":6.0375485598313583},{"$f":"'Electric Power method'!U9","v":5.4316685992273204},{"$f":"'Electric Power method'!V9","v":4.6556884836738179},{"$f":"'Electric Power method'!W9","v":4.3298455171774339},{"$f":"'Electric Power method'!X9","v":3.7697351544258244},{"$f":"'Electric Power method'!Y9","v":3.5899989312246432},{"$f":"'Electric Power method'!Z9","v":3.6819788787713676},{"$f":"'Electric Power method'!AA9","v":3.2613418356078436},{"$f":"'Electric Power method'!AB9","v":3.4474684571773957},{"$f":"'Electric Power method'!AC9","v":3.4321095877579713},{"$f":"'Electric Power method'!AD9","v":3.263639879038335},{"$f":"'Electric Power method'!AE9","v":3.84199247787683},{"$f":"'Electric Power method'!AF9","v":3.7573441419246283},{"$f":"'Electric Power method'!AG9","v":3.7700491788186907}]
["CT","EU",null,"CT EU ",{"$f":"'Electric Power method'!B10","v":10.515300545193933},{"$f":"'Electric Power method'!C10","v":9.8916835135692303},{"$f":"'Electric Power method'!D10","v":9.8399503207169374},{"$f":"'Electric Power method'!E10","v":9.2499175211364708},{"$f":"'Electric Power method'!F10","v":8.7413193273669823},{"$f":"'Electric Power method'!G10","v":7.8327552991865961},{"$f":"'Electric Power method'!H10","v":7.0709857256852295},{"$f":"'Electric Power method'!I10","v":6.3937026339560239},{"$f":"'Electric Power method'!J10","v":5.3370866523600702},{"$f":"'Electric Power method'!K10","v":5.5395216717684788},{"$f":"'Electric Power method'!L10","v":5.2115127364348268},{"$f":"'Electric Power method'!M10","v":5.2494384584287026},{"$f":"'Electric Power method'!N10","v":4.9372260197110505},{"$f":"'Electric Power method'!O10","v":4.843265692236522},{"$f":"'Electric Power method'!P10","v":4.6973584391801104},{"$f":"'Electric Power method'!Q10","v":4.5564095040555479},{"$f":"'Electric Power method'!R10","v":4.0295650974540553},{"$f":"'Electric Power method'!S10","v":3.9390488497910217},{"$f":"'Electric Power method'!T10","v":3.5844413755472648},{"$f":"'Electric Power method'!U10","v":3.1626005075887087},{"$f":"'Electric Power method'!V10","v":2.6738570461868809},{"$f":"'Electric Power method'!W10","v":2.418424515273589},{"$f":"'Electric Power method'!X10","v":2.070926483741137},{"$f":"'Electric Power method'!Y10","v":2.0034932036676536},{"$f":"'Electric Power method'!Z10","v":2.0241487590125762},{"$f":"'Electric Power method'!AA10","v":1.7764013552350315},{"$f":"'Electric Power method'!AB10","v":1.8199872728153339},{"$f":"'Electric Power method'!AC10","v":1.7611507330953067},{"$f":"'Electric Power method'!AD10","v":1.667010581649623},{"$f":"'Electric Power method'!AE10","v":1.8964970620614219},{"$f":"'Electric Power method'!AF10","v":1.8175721779403209},{"$f":"'Electric Power method'!AG10","v":1.8557212982368554}]
["DE","EU",null,"DE EU ",{"$f":"'Electric Power method'!B11","v":3.2039794252514371},{"$f":"'Electric Power method'!C11","v":3.1074604056311816},{"$f":"'Electric Power method'!D11","v":3.0950081126816102},{"$f":"'Electric Power method'!E11","v":3.097445801568699},{"$f":"'Electric Power method'!F11","v":2.9003863967048309},{"$f":"'Electric Power method'!G11","v":2.6826678953231182},{"$f":"'Electric Power method'!H11","v":2.3988944654541013},{"$f":"'Electric Power method'!I11","v":2.2762934736021645},{"$f":"'Electric Power method'!J11","v":1.9164876725670328},{"$f":"'Electric Power method'!K11","v":1.9613827828256691},{"$f":"'Electric Power method'!L11","v":1.961648889495252},{"$f":"'Electric Power method'!M11","v":1.9557928761452725},{"$f":"'Electric Power method'!N11","v":1.9138290716455357},{"$f":"'Electric Power method'!O11","v":1.9171455873549581},{"$f":"'Electric Power method'!P11","v":1.7149470783299403},{"$f":"'Electric Power method'!Q11","v":1.6709511326280246},{"$f":"'Electric Power method'!R11","v":1.4698247047743911},{"$f":"'Electric Power method'!S11","v":1.3698519090724572},{"$f":"'Electric Power method'!T11","v":1.3603851869745638},{"$f":"'Electric Power method'!U11","v":1.1981470312229225},{"$f":"'Electric Power method'!V11","v":1.0210858775289926},{"$f":"'Electric Power method'!W11","v":0.93008778167914585},{"$f":"'Electric Power method'!X11","v":0.80887746650944647},{"$f":"'Electric Power method'!Y11","v":0.76230415179911737},{"$f":"'Electric Power method'!Z11","v":0.78184930496567262},{"$f":"'Electric Power method'!AA11","v":0.69294746702106214},{"$f":"'Electric Power method'!AB11","v":0.70824210206068372},{"$f":"'Electric Power method'!AC11","v":0.6965977655930643},{"$f":"'Electric Power method'!AD11","v":0.68065247026962772},{"$f":"'Electric Power method'!AE11","v":0.77963183674085967},{"$f":"'Electric Power method'!AF11","v":0.7460388514857027},{"$f":"'Electric Power method'!AG11","v":0.7680201485272814}]
["DC","EU",null,"DC EU ",{"$f":"'Electric Power method'!B12","v":3.8091165817510571},{"$f":"'Electric Power method'!C12","v":3.7115241469939093},{"$f":"'Electric Power method'!D12","v":3.6429731763976498},{"$f":"'Electric Power method'!E12","v":3.5231177786404908},{"$f":"'Electric Power method'!F12","v":3.2109504727455658},{"$f":"'Electric Power method'!G12","v":2.8887888857377813},{"$f":"'Electric Power method'!H12","v":2.5223058869637294},{"$f":"'Electric Power method'!I12","v":2.2727748351903672},{"$f":"'Electric Power method'!J12","v":1.8949672807857145},{"$f":"'Electric Power method'!K12","v":1.9363719471343017},{"$f":"'Electric Power method'!L12","v":1.8470276160240269},{"$f":"'Electric Power method'!M12","v":1.8701686501250772},{"$f":"'Electric Power method'!N12","v":1.7721094321807735},{"$f":"'Electric Power method'!O12","v":1.6655946634729646},{"$f":"'Electric Power method'!P12","v":1.6644506293076267},{"$f":"'Electric Power method'!Q12","v":1.6268146456885622},{"$f":"'Electric Power method'!R12","v":1.4496945946439488},{"$f":"'Electric Power method'!S12","v":1.3977104732041914},{"$f":"'Electric Power method'!T12","v":1.3450374104305345},{"$f":"'Electric Power method'!U12","v":1.2169419631600129},{"$f":"'Electric Power method'!V12","v":1.0449339063836025},{"$f":"'Electric Power method'!W12","v":0.93646685469069835},{"$f":"'Electric Power method'!X12","v":0.79058636473095079},{"$f":"'Electric Power method'!Y12","v":0.74468138814486207},{"$f":"'Electric Power method'!Z12","v":0.77185849384546068},{"$f":"'Electric Power method'!AA12","v":0.68047415286948076},{"$f":"'Electric Power method'!AB12","v":0.7167701803399138},{"$f":"'Electric Power method'!AC12","v":0.68331774363928199},{"$f":"'Electric Power method'!AD12","v":0.65664858861303366},{"$f":"'Electric Power method'!AE12","v":0.74965365187612831},{"$f":"'Electric Power method'!AF12","v":0.65599199265934727},{"$f":"'Electric Power method'!AG12","v":0.67460501740651868}]
["FL","EU",null,"FL EU ",{"$f":"'Electric Power method'!B13","v":55.51547313808576},{"$f":"'Electric Power method'!C13","v":53.273350514535188},{"$f":"'Electric Power method'!D13","v":53.325913396360313},{"$f":"'Electric Power method'!E13","v":51.87163028855025},{"$f":"'Electric Power method'!F13","v":49.762507850792801},{"$f":"'Electric Power method'!G13","v":46.904768878778256},{"$f":"'Electric Power method'!H13","v":42.756945715932176},{"$f":"'Electric Power method'!I13","v":39.362564007093809},{"$f":"'Electric Power method'!J13","v":34.53248789692325},{"$f":"'Electric Power method'!K13","v":34.808157161914039},{"$f":"'Electric Power method'!L13","v":34.075330365446092},{"$f":"'Electric Power method'!M13","v":34.505887757657938},{"$f":"'Electric Power method'!N13","v":33.515207219484083},{"$f":"'Electric Power method'!O13","v":33.0761926342525},{"$f":"'Electric Power method'!P13","v":31.872796770310558},{"$f":"'Electric Power method'!Q13","v":30.97405931006767},{"$f":"'Electric Power method'!R13","v":29.030917007730388},{"$f":"'Electric Power method'!S13","v":26.670886168642451},{"$f":"'Electric Power method'!T13","v":26.188424793839047},{"$f":"'Electric Power method'!U13","v":23.919811802177648},{"$f":"'Electric Power method'!V13","v":20.341741757950128},{"$f":"'Electric Power method'!W13","v":18.231163881450307},{"$f":"'Electric Power method'!X13","v":15.49556093150739},{"$f":"'Electric Power method'!Y13","v":14.907676559117631},{"$f":"'Electric Power method'!Z13","v":15.589308330678113},{"$f":"'Electric Power method'!AA13","v":14.198564565146219},{"$f":"'Electric Power method'!AB13","v":14.828710582662916},{"$f":"'Electric Power method'!AC13","v":14.594368931235902},{"$f":"'Electric Power method'!AD13","v":13.792469502933773},{"$f":"'Electric Power method'!AE13","v":16.33760773764881},{"$f":"'Electric Power method'!AF13","v":16.252040423468035},{"$f":"'Electric Power method'!AG13","v":16.161160426528436}]
["GA","EU",null,"GA EU ",{"$f":"'Electric Power method'!B14","v":31.112097360911136},{"$f":"'Electric Power method'!C14","v":29.684104767409114},{"$f":"'Electric Power method'!D14","v":30.24913980309465},{"$f":"'Electric Power method'!E14","v":30.288384698984977},{"$f":"'Electric Power method'!F14","v":28.044251962865442},{"$f":"'Electric Power method'!G14","v":26.937810667854439},{"$f":"'Electric Power method'!H14","v":25.208245030071048},{"$f":"'Electric Power method'!I14","v":22.993575445988114},{"$f":"'Electric Power method'!J14","v":20.407550053221716},{"$f":"'Electric Power method'!K14","v":20.939464572639896},{"$f":"'Electric Power method'!L14","v":20.737383194844838},{"$f":"'Electric Power method'!M14","v":20.246185081677005},{"$f":"'Electric Power method'!N14","v":19.711821247445599},{"$f":"'Electric Power method'!O14","v":18.818561336230999},{"$f":"'Electric Power method'!P14","v":18.877993340831051},{"$f":"'Electric Power method'!Q14","v":18.209851471983988},{"$f":"'Electric Power method'!R14","v":17.151727991422053},{"$f":"'Electric Power method'!S14","v":15.864392233738064},{"$f":"'Electric Power method'!T14","v":15.651667591179343},{"$f":"'Electric Power method'!U14","v":13.917160349237323},{"$f":"'Electric Power method'!V14","v":12.376236885386703},{"$f":"'Electric Power method'!W14","v":11.045360100309727},{"$f":"'Electric Power method'!X14","v":9.1972231850638781},{"$f":"'Electric Power method'!Y14","v":8.7663046817196815},{"$f":"'Electric Power method'!Z14","v":9.3634501314008869},{"$f":"'Electric Power method'!AA14","v":8.1887968519950096},{"$f":"'Electric Power method'!AB14","v":8.6883191495718641},{"$f":"'Electric Power method'!AC14","v":8.3537514363305672},{"$f":"'Electric Power method'!AD14","v":8.0862465089920708},{"$f":"'Electric Power method'!AE14","v":9.4689590019026344},{"$f":"'Electric Power method'!AF14","v":8.9472059608059702},{"$f":"'Electric Power method'!AG14","v":9.190022070988574}]
["HI","EU",null,"HI EU ",{"$f":"'Electric Power method'!B15","v":3.2142946718954808},{"$f":"'Electric Power method'!C15","v":3.1031730175944086},{"$f":"'Electric Power method'!D15","v":3.1437994752590726},{"$f":"'Electric Power method'!E15","v":2.9401399077467185},{"$f":"'Electric Power method'!F15","v":2.7910487559079642},{"$f":"'Electric Power method'!G15","v":2.5729125852391603},{"$f":"'Electric Power method'!H15","v":2.3337659749406017},{"$f":"'Electric Power method'!I15","v":2.1055384287634302},{"$f":"'Electric Power method'!J15","v":1.706965486173122},{"$f":"'Electric Power method'!K15","v":1.7436840526670554},{"$f":"'Electric Power method'!L15","v":1.6860970297860998},{"$f":"'Electric Power method'!M15","v":1.6818004749953659},{"$f":"'Electric Power method'!N15","v":1.5751163450820782},{"$f":"'Electric Power method'!O15","v":1.5810629858851792},{"$f":"'Electric Power method'!P15","v":1.5648116192382941},{"$f":"'Electric Power method'!Q15","v":1.4509607979611092},{"$f":"'Electric Power method'!R15","v":1.3443028184168051},{"$f":"'Electric Power method'!S15","v":1.2217140592235258},{"$f":"'Electric Power method'!T15","v":1.2030847484486595},{"$f":"'Electric Power method'!U15","v":1.077713425807836},{"$f":"'Electric Power method'!V15","v":0.88124899250159761},{"$f":"'Electric Power method'!W15","v":0.80684254247451326},{"$f":"'Electric Power method'!X15","v":0.67685327328876965},{"$f":"'Electric Power method'!Y15","v":0.63838502818751919},{"$f":"'Electric Power method'!Z15","v":0.65338365641484231},{"$f":"'Electric Power method'!AA15","v":0.57320836394426034},{"$f":"'Electric Power method'!AB15","v":0.59418741393263075},{"$f":"'Electric Power method'!AC15","v":0.58365075854899451},{"$f":"'Electric Power method'!AD15","v":0.53982058251057308},{"$f":"'Electric Power method'!AE15","v":0.64255824350292412},{"$f":"'Electric Power method'!AF15","v":0.58969317987977787},{"$f":"'Electric Power method'!AG15","v":0.59787495642955957}]
["ID","EU",null,"ID EU ",{"$f":"'Electric Power method'!B16","v":6.963244783157319},{"$f":"'Electric Power method'!C16","v":6.5694579864088372},{"$f":"'Electric Power method'!D16","v":6.8949759472188736},{"$f":"'Electric Power method'!E16","v":6.357070273722301},{"$f":"'Electric Power method'!F16","v":6.2002198448981725},{"$f":"'Electric Power method'!G16","v":5.4943733661529963},{"$f":"'Electric Power method'!H16","v":5.4198318432634958},{"$f":"'Electric Power method'!I16","v":5.035840349197823},{"$f":"'Electric Power method'!J16","v":4.069140255038123},{"$f":"'Electric Power method'!K16","v":4.2234398249740881},{"$f":"'Electric Power method'!L16","v":3.9729761205339433},{"$f":"'Electric Power method'!M16","v":3.6260476232929677},{"$f":"'Electric Power method'!N16","v":3.2961560314216674},{"$f":"'Electric Power method'!O16","v":3.2286215914347092},{"$f":"'Electric Power method'!P16","v":3.1800217001300917},{"$f":"'Electric Power method'!Q16","v":3.0086017872198902},{"$f":"'Electric Power method'!R16","v":2.8954332069377466},{"$f":"'Electric Power method'!S16","v":2.7417312175754196},{"$f":"'Electric Power method'!T16","v":2.7675405139937195},{"$f":"'Electric Power method'!U16","v":2.4216477494895066},{"$f":"'Electric Power method'!V16","v":2.005730934438926},{"$f":"'Electric Power method'!W16","v":1.8848896824578361},{"$f":"'Electric Power method'!X16","v":1.6650262445057977},{"$f":"'Electric Power method'!Y16","v":1.6262016010588727},{"$f":"'Electric Power method'!Z16","v":1.6020605719330805},{"$f":"'Electric Power method'!AA16","v":1.3896557552948312},{"$f":"'Electric Power method'!AB16","v":1.4508371390759152},{"$f":"'Electric Power method'!AC16","v":1.4893784016727525},{"$f":"'Electric Power method'!AD16","v":1.3732902886894163},{"$f":"'Electric Power method'!AE16","v":1.6303946269467307},{"$f":"'Electric Power method'!AF16","v":1.6397731443469437},{"$f":"'Electric Power method'!AG16","v":1.6916764968915705}]
["IL","EU",null,"IL EU ",{"$f":"'Electric Power method'!B17","v":43.154929290859968},{"$f":"'Electric Power method'!C17","v":42.545712613065447},{"$f":"'Electric Power method'!D17","v":40.815331613001916},{"$f":"'Electric Power method'!E17","v":39.999073878943818},{"$f":"'Electric Power method'!F17","v":37.893233837831836},{"$f":"'Electric Power method'!G17","v":35.349951346056827},{"$f":"'Electric Power method'!H17","v":31.350174539333608},{"$f":"'Electric Power method'!I17","v":28.548783870385659},{"$f":"'Electric Power method'!J17","v":24.273908749898563},{"$f":"'Electric Power method'!K17","v":24.661683793153689},{"$f":"'Electric Power method'!L17","v":23.4363446324056},{"$f":"'Electric Power method'!M17","v":23.381860520853646},{"$f":"'Electric Power method'!N17","v":22.04595696273908},{"$f":"'Electric Power method'!O17","v":20.731392292691218},{"$f":"'Electric Power method'!P17","v":20.305251108295764},{"$f":"'Electric Power method'!Q17","v":19.961202269471979},{"$f":"'Electric Power method'!R17","v":18.120229786603481},{"$f":"'Electric Power method'!S17","v":16.857117725131335},{"$f":"'Electric Power method'!T17","v":16.745461104110557},{"$f":"'Electric Power method'!U17","v":14.547531470270188},{"$f":"'Electric Power method'!V17","v":12.735993959207965},{"$f":"'Electric Power method'!W17","v":11.572994377659251},{"$f":"'Electric Power method'!X17","v":10.079255017350905},{"$f":"'Electric Power method'!Y17","v":9.525892368374155},{"$f":"'Electric Power method'!Z17","v":9.7599682052176693},{"$f":"'Electric Power method'!AA17","v":8.3540306587015642},{"$f":"'Electric Power method'!AB17","v":8.8731525782421325},{"$f":"'Electric Power method'!AC17","v":8.587838293235313},{"$f":"'Electric Power method'!AD17","v":8.2474749608038191},{"$f":"'Electric Power method'!AE17","v":9.4022411093664928},{"$f":"'Electric Power method'!AF17","v":8.8801127131344266},{"$f":"'Electric Power method'!AG17","v":9.0779520529278521}]
["IN","EU",null,"IN EU ",{"$f":"'Electric Power method'!B18","v":28.614354565379422},{"$f":"'Electric Power method'!C18","v":28.043943122552722},{"$f":"'Electric Power method'!D18","v":27.922322600891135},{"$f":"'Electric Power method'!E18","v":27.823113849305123},{"$f":"'Electric Power method'!F18","v":26.139909206992385},{"$f":"'Electric Power method'!G18","v":24.365288740668646},{"$f":"'Electric Power method'!H18","v":22.121319952086072},{"$f":"'Electric Power method'!I18","v":20.046954707104987},{"$f":"'Electric Power method'!J18","v":16.96793351143203},{"$f":"'Electric Power method'!K18","v":17.980341822474657},{"$f":"'Electric Power method'!L18","v":17.01216422912055},{"$f":"'Electric Power method'!M18","v":16.798811945467762},{"$f":"'Electric Power method'!N18","v":16.151194267620269},{"$f":"'Electric Power method'!O18","v":15.287113245843964},{"$f":"'Electric Power method'!P18","v":15.032642218363153},{"$f":"'Electric Power method'!Q18","v":14.669286622192088},{"$f":"'Electric Power method'!R18","v":13.44116639576081},{"$f":"'Electric Power method'!S18","v":12.628848331761537},{"$f":"'Electric Power method'!T18","v":12.387237470784035},{"$f":"'Electric Power method'!U18","v":10.569594986800773},{"$f":"'Electric Power method'!V18","v":9.3253484882642752},{"$f":"'Electric Power method'!W18","v":8.5707237855686653},{"$f":"'Electric Power method'!X18","v":7.3851870007139544},{"$f":"'Electric Power method'!Y18","v":7.0862262084704417},{"$f":"'Electric Power method'!Z18","v":7.3742639706980633},{"$f":"'Electric Power method'!AA18","v":6.2986414414273542},{"$f":"'Electric Power method'!AB18","v":6.5238286535722754},{"$f":"'Electric Power method'!AC18","v":6.1948002079465594},{"$f":"'Electric Power method'!AD18","v":6.0239154863716795},{"$f":"'Electric Power method'!AE18","v":6.9405142930351316},{"$f":"'Electric Power method'!AF18","v":6.5128607703387251},{"$f":"'Electric Power method'!AG18","v":6.6728804082559865}]
["IA","EU",null,{"$f":"A435&\" \"&B435&\" \"&C435","v":"IA EU "},{"$f":"'Electric Power method'!B19","v":11.385595235815437},{"$f":"'Electric Power method'!C19","v":11.205915932170523},{"$f":"'Electric Power method'!D19","v":10.957579000052764},{"$f":"'Electric Power method'!E19","v":10.902166467836055},{"$f":"'Electric Power method'!F19","v":10.305075062360823},{"$f":"'Electric Power method'!G19","v":9.6056847636913805},{"$f":"'Electric Power method'!H19","v":8.708901359499384},{"$f":"'Electric Power method'!I19","v":8.1288222338338176},{"$f":"'Electric Power method'!J19","v":6.8783660601382417},{"$f":"'Electric Power method'!K19","v":7.0693922610609325},{"$f":"'Electric Power method'!L19","v":6.8010199217235048},{"$f":"'Electric Power method'!M19","v":6.7797126856458307},{"$f":"'Electric Power method'!N19","v":6.5124086074517811},{"$f":"'Electric Power method'!O19","v":6.270074080782198},{"$f":"'Electric Power method'!P19","v":5.9642189037029585},{"$f":"'Electric Power method'!Q19","v":5.8866099296748846},{"$f":"'Electric Power method'!R19","v":5.5127095524417733},{"$f":"'Electric Power method'!S19","v":5.2248323550844207},{"$f":"'Electric Power method'!T19","v":5.2670388594343818},{"$f":"'Electric Power method'!U19","v":4.6446615156446196},{"$f":"'Electric Power method'!V19","v":3.998259026195063},{"$f":"'Electric Power method'!W19","v":3.6978096943389995},{"$f":"'Electric Power method'!X19","v":3.2096534950186721},{"$f":"'Electric Power method'!Y19","v":3.1374719654069079},{"$f":"'Electric Power method'!Z19","v":3.2548230208644293},{"$f":"'Electric Power method'!AA19","v":2.8413650009936204},{"$f":"'Electric Power method'!AB19","v":3.046693505406938},{"$f":"'Electric Power method'!AC19","v":3.0622849784964568},{"$f":"'Electric Power method'!AD19","v":2.9607035385646654},{"$f":"'Electric Power method'!AE19","v":3.4696485340129208},{"$f":"'Electric Power method'!AF19","v":3.3946564254107989},{"$f":"'Electric Power method'!AG19","v":3.5387035859068452}]
["KS","EU",null,"KS EU ",{"$f":"'Electric Power method'!B20","v":10.500420985627265},{"$f":"'Electric Power method'!C20","v":10.248748270879185},{"$f":"'Electric Power method'!D20","v":9.8189601937595778},{"$f":"'Electric Power method'!E20","v":9.7830391668650716},{"$f":"'Electric Power method'!F20","v":9.236669689888469},{"$f":"'Electric Power method'!G20","v":8.5011902713328791},{"$f":"'Electric Power method'!H20","v":7.7860434960110982},{"$f":"'Electric Power method'!I20","v":7.2567580505174352},{"$f":"'Electric Power method'!J20","v":6.2925877713145653},{"$f":"'Electric Power method'!K20","v":6.2861858223268534},{"$f":"'Electric Power method'!L20","v":6.2500870635487464},{"$f":"'Electric Power method'!M20","v":6.1614830645922156},{"$f":"'Electric Power method'!N20","v":5.846159851363816},{"$f":"'Electric Power method'!O20","v":5.589633538731297},{"$f":"'Electric Power method'!P20","v":5.4135892375092522},{"$f":"'Electric Power method'!Q20","v":5.3727287548276008},{"$f":"'Electric Power method'!R20","v":5.0566079008168874},{"$f":"'Electric Power method'!S20","v":4.6358009162848193},{"$f":"'Electric Power method'!T20","v":4.6275326543127795},{"$f":"'Electric Power method'!U20","v":4.0701769991944206},{"$f":"'Electric Power method'!V20","v":3.5561969863936143},{"$f":"'Electric Power method'!W20","v":3.3013822064907909},{"$f":"'Electric Power method'!X20","v":2.8293730585343186},{"$f":"'Electric Power method'!Y20","v":2.6767907674795746},{"$f":"'Electric Power method'!Z20","v":2.7969420813211032},{"$f":"'Electric Power method'!AA20","v":2.4015358586536433},{"$f":"'Electric Power method'!AB20","v":2.5672729573340689},{"$f":"'Electric Power method'!AC20","v":2.5218243839670893},{"$f":"'Electric Power method'!AD20","v":2.4303347120998264},{"$f":"'Electric Power method'!AE20","v":2.7978180920721649},{"$f":"'Electric Power method'!AF20","v":2.6468166716069059},{"$f":"'Electric Power method'!AG20","v":2.7090106364568354}]
["KY","EU",null,"KY EU ",{"$f":"'Electric Power method'!B21","v":23.630645837647982},{"$f":"'Electric Power method'!C21","v":23.369596563620014},{"$f":"'Electric Power method'!D21","v":24.327965585202488},{"$f":"'Electric Power method'!E21","v":23.14278069603327},{"$f":"'Electric Power method'!F21","v":22.608477046219122},{"$f":"'Electric Power method'!G21","v":20.876597787051953},{"$f":"'Electric Power method'!H21","v":19.164564267001523},{"$f":"'Electric Power method'!I21","v":17.278480919703032},{"$f":"'Electric Power method'!J21","v":13.980441678127454},{"$f":"'Electric Power method'!K21","v":14.702047091842426},{"$f":"'Electric Power method'!L21","v":13.626472305301434},{"$f":"'Electric Power method'!M21","v":13.746432232710996},{"$f":"'Electric Power method'!N21","v":13.896122987121121},{"$f":"'Electric Power method'!O21","v":12.966964760572987},{"$f":"'Electric Power method'!P21","v":12.616042295847098},{"$f":"'Electric Power method'!Q21","v":12.301601817109637},{"$f":"'Electric Power method'!R21","v":11.288705828217394},{"$f":"'Electric Power method'!S21","v":10.664921992274058},{"$f":"'Electric Power method'!T21","v":10.818025190194334},{"$f":"'Electric Power method'!U21","v":9.4611374895557141},{"$f":"'Electric Power method'!V21","v":8.2322056907703871},{"$f":"'Electric Power method'!W21","v":7.2521440669926927},{"$f":"'Electric Power method'!X21","v":6.2529080020091259},{"$f":"'Electric Power method'!Y21","v":5.6941001612149824},{"$f":"'Electric Power method'!Z21","v":5.4363701521501948},{"$f":"'Electric Power method'!AA21","v":4.5825218853074672},{"$f":"'Electric Power method'!AB21","v":4.689991691044427},{"$f":"'Electric Power method'!AC21","v":4.5465681262438711},{"$f":"'Electric Power method'!AD21","v":4.4291833622688399},{"$f":"'Electric Power method'!AE21","v":5.121588390295666},{"$f":"'Electric Power method'!AF21","v":4.8131585708588442},{"$f":"'Electric Power method'!AG21","v":4.9853890779405257}]
["LA","EU",null,"LA EU ",{"$f":"'Electric Power method'!B22","v":24.686156641380339},{"$f":"'Electric Power method'!C22","v":23.55544174750456},{"$f":"'Electric Power method'!D22","v":23.613559109184617},{"$f":"'Electric Power method'!E22","v":23.009199917255188},{"$f":"'Electric Power method'!F22","v":21.874391919142692},{"$f":"'Electric Power method'!G22","v":20.394643926754767},{"$f":"'Electric Power method'!H22","v":18.729201760789046},{"$f":"'Electric Power method'!I22","v":17.064882679901864},{"$f":"'Electric Power method'!J22","v":14.324335172172807},{"$f":"'Electric Power method'!K22","v":14.547525442681053},{"$f":"'Electric Power method'!L22","v":14.039565030160448},{"$f":"'Electric Power method'!M22","v":12.838417424519683},{"$f":"'Electric Power method'!N22","v":12.62129480489185},{"$f":"'Electric Power method'!O22","v":11.833330489633939},{"$f":"'Electric Power method'!P22","v":11.626830061548148},{"$f":"'Electric Power method'!Q22","v":10.654674141514437},{"$f":"'Electric Power method'!R22","v":9.8543697158722381},{"$f":"'Electric Power method'!S22","v":9.1833065445059745},{"$f":"'Electric Power method'!T22","v":9.1156145094098076},{"$f":"'Electric Power method'!U22","v":8.3726758620438471},{"$f":"'Electric Power method'!V22","v":7.4852818339549465},{"$f":"'Electric Power method'!W22","v":6.9954503439566889},{"$f":"'Electric Power method'!X22","v":5.9497195395551206},{"$f":"'Electric Power method'!Y22","v":5.7642380041565868},{"$f":"'Electric Power method'!Z22","v":6.2493124848080877},{"$f":"'Electric Power method'!AA22","v":5.5249485322217051},{"$f":"'Electric Power method'!AB22","v":5.7530736900801784},{"$f":"'Electric Power method'!AC22","v":5.7090589474551532},{"$f":"'Electric Power method'!AD22","v":5.4452933018315495},{"$f":"'Electric Power method'!AE22","v":6.3303942429459008},{"$f":"'Electric Power method'!AF22","v":5.9746306952972006},{"$f":"'Electric Power method'!AG22","v":6.076061310559469}]
["ME","EU",null,"ME EU ",{"$f":"'Electric Power method'!B23","v":4.4591008878146141},{"$f":"'Electric Power method'!C23","v":4.1438746664487764},{"$f":"'Electric Power method'!D23","v":4.1653163271141205},{"$f":"'Electric Power method'!E23","v":4.058900451528773},{"$f":"'Electric Power method'!F23","v":3.6199003038801694},{"$f":"'Electric Power method'!G23","v":3.2376456872725385},{"$f":"'Electric Power method'!H23","v":2.9178867121090168},{"$f":"'Electric Power method'!I23","v":2.6892811484464394},{"$f":"'Electric Power method'!J23","v":2.1378274769353087},{"$f":"'Electric Power method'!K23","v":2.2199782069844649},{"$f":"'Electric Power method'!L23","v":2.1162743130615134},{"$f":"'Electric Power method'!M23","v":2.0887222379519921},{"$f":"'Electric Power method'!N23","v":1.8218893570241446},{"$f":"'Electric Power method'!O23","v":1.8216270908087344},{"$f":"'Electric Power method'!P23","v":1.8033857821894412},{"$f":"'Electric Power method'!Q23","v":1.7020785621033523},{"$f":"'Electric Power method'!R23","v":1.5626973659504904},{"$f":"'Electric Power method'!S23","v":1.3688584071768759},{"$f":"'Electric Power method'!T23","v":1.3516882409680151},{"$f":"'Electric Power method'!U23","v":1.2008278555889274},{"$f":"'Electric Power method'!V23","v":1.0145433585657102},{"$f":"'Electric Power method'!W23","v":0.92458410095430166},{"$f":"'Electric Power method'!X23","v":0.8118075706033826},{"$f":"'Electric Power method'!Y23","v":0.79637524021045669},{"$f":"'Electric Power method'!Z23","v":0.82764838351646219},{"$f":"'Electric Power method'!AA23","v":0.71644886337657454},{"$f":"'Electric Power method'!AB23","v":0.72022683098932261},{"$f":"'Electric Power method'!AC23","v":0.70192280670709895},{"$f":"'Electric Power method'!AD23","v":0.71428409442577845},{"$f":"'Electric Power method'!AE23","v":0.79748324666380188},{"$f":"'Electric Power method'!AF23","v":0.76063169067217706},{"$f":"'Electric Power method'!AG23","v":0.77504620531889978}]
["MD","EU",null,"MD EU ",{"$f":"'Electric Power method'!B24","v":19.158329289444151},{"$f":"'Electric Power method'!C24","v":18.605672827737294},{"$f":"'Electric Power method'!D24","v":18.495509168110509},{"$f":"'Electric Power method'!E24","v":18.294529122169763},{"$f":"'Electric Power method'!F24","v":17.077251079362583},{"$f":"'Electric Power method'!G24","v":15.726589634965608},{"$f":"'Electric Power method'!H24","v":14.18268748873105},{"$f":"'Electric Power method'!I24","v":12.652546091705201},{"$f":"'Electric Power method'!J24","v":10.659676834982729},{"$f":"'Electric Power method'!K24","v":10.982430626472702},{"$f":"'Electric Power method'!L24","v":10.55752041446606},{"$f":"'Electric Power method'!M24","v":10.594874284597466},{"$f":"'Electric Power method'!N24","v":10.888622047812108},{"$f":"'Electric Power method'!O24","v":10.842660591306309},{"$f":"'Electric Power method'!P24","v":9.7537822592328194},{"$f":"'Electric Power method'!Q24","v":9.4123105304550894},{"$f":"'Electric Power method'!R24","v":8.0360088334524225},{"$f":"'Electric Power method'!S24","v":7.5471357647909088},{"$f":"'Electric Power method'!T24","v":7.3324572412695463},{"$f":"'Electric Power method'!U24","v":6.6612608520293222},{"$f":"'Electric Power method'!V24","v":5.7481944844346611},{"$f":"'Electric Power method'!W24","v":5.1512487459545389},{"$f":"'Electric Power method'!X24","v":4.3404941951672305},{"$f":"'Electric Power method'!Y24","v":4.1581624822872385},{"$f":"'Electric Power method'!Z24","v":4.2534363393993386},{"$f":"'Electric Power method'!AA24","v":3.7233190475606435},{"$f":"'Electric Power method'!AB24","v":3.8596315844421851},{"$f":"'Electric Power method'!AC24","v":3.7121419267079654},{"$f":"'Electric Power method'!AD24","v":3.5894793186190626},{"$f":"'Electric Power method'!AE24","v":4.127475484349044},{"$f":"'Electric Power method'!AF24","v":3.8631778049919636},{"$f":"'Electric Power method'!AG24","v":3.9675971899624187}]
["MA","EU",null,"MA EU ",{"$f":"'Electric Power method'!B25","v":17.57563009365364},{"$f":"'Electric Power method'!C25","v":16.308160708979621},{"$f":"'Electric Power method'!D25","v":16.322459717583175},{"$f":"'Electric Power method'!E25","v":15.376888749193933},{"$f":"'Electric Power method'!F25","v":14.376078401288357},{"$f":"'Electric Power method'!G25","v":13.024815060312493},{"$f":"'Electric Power method'!H25","v":11.768105044254318},{"$f":"'Electric Power method'!I25","v":10.767491163233284},{"$f":"'Electric Power method'!J25","v":8.9590844503240437},{"$f":"'Electric Power method'!K25","v":9.1834234825686529},{"$f":"'Electric Power method'!L25","v":9.0081654474172819},{"$f":"'Electric Power method'!M25","v":9.0231851816368636},{"$f":"'Electric Power method'!N25","v":8.5522356744960213},{"$f":"'Electric Power method'!O25","v":8.4470291936005744},{"$f":"'Electric Power method'!P25","v":8.1863225021895367},{"$f":"'Electric Power method'!Q25","v":7.8788970348802296},{"$f":"'Electric Power method'!R25","v":7.104471857433353},{"$f":"'Electric Power method'!S25","v":6.5947407026358436},{"$f":"'Electric Power method'!T25","v":6.4707900919892012},{"$f":"'Electric Power method'!U25","v":5.7853611701491205},{"$f":"'Electric Power method'!V25","v":5.0256988822895883},{"$f":"'Electric Power method'!W25","v":4.5008764191208996},{"$f":"'Electric Power method'!X25","v":3.8840538032404979},{"$f":"'Electric Power method'!Y25","v":3.7124894217626183},{"$f":"'Electric Power method'!Z25","v":3.7559522405145129},{"$f":"'Electric Power method'!AA25","v":3.2917785493939737},{"$f":"'Electric Power method'!AB25","v":3.364043513556827},{"$f":"'Electric Power method'!AC25","v":3.2870848274910469},{"$f":"'Electric Power method'!AD25","v":3.0806318316534096},{"$f":"'Electric Power method'!AE25","v":3.4895957434269258},{"$f":"'Electric Power method'!AF25","v":3.3523892848722556},{"$f":"'Electric Power method'!AG25","v":3.3985503481338477}]
["MI","EU",null,"MI EU ",{"$f":"'Electric Power method'!B26","v":31.857314174452632},{"$f":"'Electric Power method'!C26","v":30.768768798815969},{"$f":"'Electric Power method'!D26","v":30.411933896996103},{"$f":"'Electric Power method'!E26","v":29.744212455399921},{"$f":"'Electric Power method'!F26","v":28.433166015744025},{"$f":"'Electric Power method'!G26","v":26.520258537915431},{"$f":"'Electric Power method'!H26","v":23.962709522333736},{"$f":"'Electric Power method'!I26","v":21.900844713126869},{"$f":"'Electric Power method'!J26","v":18.52492071506477},{"$f":"'Electric Power method'!K26","v":19.327079786631177},{"$f":"'Electric Power method'!L26","v":18.229644719654779},{"$f":"'Electric Power method'!M26","v":17.602430320962235},{"$f":"'Electric Power method'!N26","v":16.674283561840728},{"$f":"'Electric Power method'!O26","v":16.56668432254892},{"$f":"'Electric Power method'!P26","v":15.544710355381373},{"$f":"'Electric Power method'!Q26","v":15.205626697727373},{"$f":"'Electric Power method'!R26","v":13.740509432326128},{"$f":"'Electric Power method'!S26","v":12.61460586807466},{"$f":"'Electric Power method'!T26","v":12.248355776742324},{"$f":"'Electric Power method'!U26","v":10.442860182949319},{"$f":"'Electric Power method'!V26","v":9.1190223876729348},{"$f":"'Electric Power method'!W26","v":8.5087966658458942},{"$f":"'Electric Power method'!X26","v":7.3602427762674125},{"$f":"'Electric Power method'!Y26","v":6.921706417127937},{"$f":"'Electric Power method'!Z26","v":7.1240657554321789},{"$f":"'Electric Power method'!AA26","v":6.1760250123796325},{"$f":"'Electric Power method'!AB26","v":6.5718267024966002},{"$f":"'Electric Power method'!AC26","v":6.3783999213342284},{"$f":"'Electric Power method'!AD26","v":6.0629470155125542},{"$f":"'Electric Power method'!AE26","v":6.8824019440825772},{"$f":"'Electric Power method'!AF26","v":6.5032185522987493},{"$f":"'Electric Power method'!AG26","v":6.6777800289830376}]
["MN","EU",null,"MN EU ",{"$f":"'Electric Power method'!B27","v":18.242908198862121},{"$f":"'Electric Power method'!C27","v":17.748991756429671},{"$f":"'Electric Power method'!D27","v":17.198132440152673},{"$f":"'Electric Power method'!E27","v":16.711450920892371},{"$f":"'Electric Power method'!F27","v":15.95548267265349},{"$f":"'Electric Power method'!G27","v":15.110701391476196},{"$f":"'Electric Power method'!H27","v":13.671137744535679},{"$f":"'Electric Power method'!I27","v":12.519825263594333},{"$f":"'Electric Power method'!J27","v":10.458847553893657},{"$f":"'Electric Power method'!K27","v":10.66883980209448},{"$f":"'Electric Power method'!L27","v":10.401672167254549},{"$f":"'Electric Power method'!M27","v":10.431040867085578},{"$f":"'Electric Power method'!N27","v":9.898557838448264},{"$f":"'Electric Power method'!O27","v":9.5993293100661496},{"$f":"'Electric Power method'!P27","v":9.2359387000363053},{"$f":"'Electric Power method'!Q27","v":9.0892756292175143},{"$f":"'Electric Power method'!R27","v":8.4935421896771661},{"$f":"'Electric Power method'!S27","v":7.8749777712315128},{"$f":"'Electric Power method'!T27","v":7.9656357842241166},{"$f":"'Electric Power method'!U27","v":6.8118910613148875},{"$f":"'Electric Power method'!V27","v":5.9649946507714944},{"$f":"'Electric Power method'!W27","v":5.5507960742442455},{"$f":"'Electric Power method'!X27","v":4.7740961643075313},{"$f":"'Electric Power method'!Y27","v":4.6112397543136128},{"$f":"'Electric Power method'!Z27","v":4.7385719728170708},{"$f":"'Electric Power method'!AA27","v":4.0124446864969423},{"$f":"'Electric Power method'!AB27","v":4.1862847562729817},{"$f":"'Electric Power method'!AC27","v":4.2034330078815376},{"$f":"'Electric Power method'!AD27","v":3.9723207937186658},{"$f":"'Electric Power method'!AE27","v":4.5519738526198346},{"$f":"'Electric Power method'!AF27","v":4.2939173063911023},{"$f":"'Electric Power method'!AG27","v":4.4549964870606384}]
["MS","EU",null,"MS EU ",{"$f":"'Electric Power method'!B28","v":12.425898882909234},{"$f":"'Electric Power method'!C28","v":12.020625596995377},{"$f":"'Electric Power method'!D28","v":12.057802480104124},{"$f":"'Electric Power method'!E28","v":11.800514770410892},{"$f":"'Electric Power method'!F28","v":11.42397395212555},{"$f":"'Electric Power method'!G28","v":10.604750308880989},{"$f":"'Electric Power method'!H28","v":9.8592315596121125},{"$f":"'Electric Power method'!I28","v":9.0150014485192607},{"$f":"'Electric Power method'!J28","v":7.8353258575606555},{"$f":"'Electric Power method'!K28","v":8.1745790090109693},{"$f":"'Electric Power method'!L28","v":7.8881830454653077},{"$f":"'Electric Power method'!M28","v":7.6121611760336805},{"$f":"'Electric Power method'!N28","v":7.2376235209192705},{"$f":"'Electric Power method'!O28","v":6.9299279175091666},{"$f":"'Electric Power method'!P28","v":6.7122132116818767},{"$f":"'Electric Power method'!Q28","v":6.3195002565449307},{"$f":"'Electric Power method'!R28","v":5.970600866618005},{"$f":"'Electric Power method'!S28","v":5.5576529509497234},{"$f":"'Electric Power method'!T28","v":5.5256158189432982},{"$f":"'Electric Power method'!U28","v":4.900936681770343},{"$f":"'Electric Power method'!V28","v":4.3714596550314724},{"$f":"'Electric Power method'!W28","v":3.9960877907874548},{"$f":"'Electric Power method'!X28","v":3.3977407163907767},{"$f":"'Electric Power method'!Y28","v":3.2769814412540152},{"$f":"'Electric Power method'!Z28","v":3.4069922977005982},{"$f":"'Electric Power method'!AA28","v":2.9344294771168711},{"$f":"'Electric Power method'!AB28","v":3.0856315287947824},{"$f":"'Electric Power method'!AC28","v":2.9938552175171131},{"$f":"'Electric Power method'!AD28","v":2.9132619498054484},{"$f":"'Electric Power method'!AE28","v":3.3274369284458776},{"$f":"'Electric Power method'!AF28","v":3.1159357375855756},{"$f":"'Electric Power method'!AG28","v":3.2123584716501914}]
["MO","EU",null,"MO EU ",{"$f":"'Electric Power method'!B29","v":20.85661532979131},{"$f":"'Electric Power method'!C29","v":20.573840226093562},{"$f":"'Electric Power method'!D29","v":19.736818759003089},{"$f":"'Electric Power method'!E29","v":19.907467810835865},{"$f":"'Electric Power method'!F29","v":18.618410927939603},{"$f":"'Electric Power method'!G29","v":17.435101686781756},{"$f":"'Electric Power method'!H29","v":16.134937997738277},{"$f":"'Electric Power method'!I29","v":14.77691655569312},{"$f":"'Electric Power method'!J29","v":12.719649698724483},{"$f":"'Electric Power method'!K29","v":12.83347502961797},{"$f":"'Electric Power method'!L29","v":12.639329822391284},{"$f":"'Electric Power method'!M29","v":12.584100303560852},{"$f":"'Electric Power method'!N29","v":11.942887176960673},{"$f":"'Electric Power method'!O29","v":11.296294060753272},{"$f":"'Electric Power method'!P29","v":10.798192878111573},{"$f":"'Electric Power method'!Q29","v":11.143608187336866},{"$f":"'Electric Power method'!R29","v":10.432837143430273},{"$f":"'Electric Power method'!S29","v":9.8718690299118563},{"$f":"'Electric Power method'!T29","v":9.7705083226481477},{"$f":"'Electric Power method'!U29","v":8.5033398951131574},{"$f":"'Electric Power method'!V29","v":7.5737387772159099},{"$f":"'Electric Power method'!W29","v":6.8242078024827668},{"$f":"'Electric Power method'!X29","v":5.7885396590059521},{"$f":"'Electric Power method'!Y29","v":5.6029499854448677},{"$f":"'Electric Power method'!Z29","v":5.7838690677843907},{"$f":"'Electric Power method'!AA29","v":4.911901160296714},{"$f":"'Electric Power method'!AB29","v":4.9456787203841728},{"$f":"'Electric Power method'!AC29","v":4.7861221780914525},{"$f":"'Electric Power method'!AD29","v":4.7439932382114298},{"$f":"'Electric Power method'!AE29","v":5.3603426541064971},{"$f":"'Electric Power method'!AF29","v":5.076292956912237},{"$f":"'Electric Power method'!AG29","v":5.2025589879445908}]
["MT","EU",null,"MT EU ",{"$f":"'Electric Power method'!B30","v":5.0762396229930751},{"$f":"'Electric Power method'!C30","v":4.8806399298460006},{"$f":"'Electric Power method'!D30","v":4.7505395372425294},{"$f":"'Electric Power method'!E30","v":4.3906360644058795},{"$f":"'Electric Power method'!F30","v":4.1121843380233845},{"$f":"'Electric Power method'!G30","v":3.7577448561171884},{"$f":"'Electric Power method'!H30","v":3.4387188070817492},{"$f":"'Electric Power method'!I30","v":2.6799600286043606},{"$f":"'Electric Power method'!J30","v":2.6071217931184347},{"$f":"'Electric Power method'!K30","v":2.4686674368878569},{"$f":"'Electric Power method'!L30","v":2.5368165533404552},{"$f":"'Electric Power method'!M30","v":1.9674864234109894},{"$f":"'Electric Power method'!N30","v":2.0432337868500685},{"$f":"'Electric Power method'!O30","v":1.9513920951656079},{"$f":"'Electric Power method'!P30","v":1.8892871672920126},{"$f":"'Electric Power method'!Q30","v":1.855719950172126},{"$f":"'Electric Power method'!R30","v":1.7573496590785194},{"$f":"'Electric Power method'!S30","v":1.7926413266312944},{"$f":"'Electric Power method'!T30","v":1.7746355115799617},{"$f":"'Electric Power method'!U30","v":1.5276489643952658},{"$f":"'Electric Power method'!V30","v":1.2116076650590641},{"$f":"'Electric Power method'!W30","v":1.1167634859279409},{"$f":"'Electric Power method'!X30","v":0.97347477195421594},{"$f":"'Electric Power method'!Y30","v":0.94349932295061001},{"$f":"'Electric Power method'!Z30","v":0.97243619081764332},{"$f":"'Electric Power method'!AA30","v":0.85618955233827054},{"$f":"'Electric Power method'!AB30","v":0.88703595406032176},{"$f":"'Electric Power method'!AC30","v":0.92075469870230919},{"$f":"'Electric Power method'!AD30","v":0.85789609407871459},{"$f":"'Electric Power method'!AE30","v":1.0414605592971005},{"$f":"'Electric Power method'!AF30","v":0.97765426279580381},{"$f":"'Electric Power method'!AG30","v":1.0009691320357605}]
["NE","EU",null,"NE EU ",{"$f":"'Electric Power method'!B31","v":6.9109646223445926},{"$f":"'Electric Power method'!C31","v":6.7731746287389321},{"$f":"'Electric Power method'!D31","v":6.451030372955592},{"$f":"'Electric Power method'!E31","v":6.3669866410129918},{"$f":"'Electric Power method'!F31","v":6.1985146656443835},{"$f":"'Electric Power method'!G31","v":5.8507635671814544},{"$f":"'Electric Power method'!H31","v":5.3492119255758173},{"$f":"'Electric Power method'!I31","v":5.0782324424376242},{"$f":"'Electric Power method'!J31","v":4.2659796431786159},{"$f":"'Electric Power method'!K31","v":4.2397254923463104},{"$f":"'Electric Power method'!L31","v":4.2365913562592405},{"$f":"'Electric Power method'!M31","v":4.2494026248427677},{"$f":"'Electric Power method'!N31","v":4.0861944819703533},{"$f":"'Electric Power method'!O31","v":3.9343186096573173},{"$f":"'Electric Power method'!P31","v":3.7730867503016117},{"$f":"'Electric Power method'!Q31","v":3.7139549756088814},{"$f":"'Electric Power method'!R31","v":3.4697105929307281},{"$f":"'Electric Power method'!S31","v":3.2603205096587113},{"$f":"'Electric Power method'!T31","v":3.3371703300574054},{"$f":"'Electric Power method'!U31","v":3.0281208043788617},{"$f":"'Electric Power method'!V31","v":2.6261451521400057},{"$f":"'Electric Power method'!W31","v":2.4036098291365122},{"$f":"'Electric Power method'!X31","v":2.16471123158348},{"$f":"'Electric Power method'!Y31","v":2.0623454028888579},{"$f":"'Electric Power method'!Z31","v":2.0839819179732686},{"$f":"'Electric Power method'!AA31","v":1.7775414619022119},{"$f":"'Electric Power method'!AB31","v":1.8997709946828076},{"$f":"'Electric Power method'!AC31","v":1.900329847495162},{"$f":"'Electric Power method'!AD31","v":1.7887422733763738},{"$f":"'Electric Power method'!AE31","v":2.0652917144165173},{"$f":"'Electric Power method'!AF31","v":2.0895920879943164},{"$f":"'Electric Power method'!AG31","v":2.1637122532816582}]
["NV","EU",null,"NV EU ",{"$f":"'Electric Power method'!B32","v":6.3244776793123805},{"$f":"'Electric Power method'!C32","v":6.0524431117375297},{"$f":"'Electric Power method'!D32","v":6.4190816049048651},{"$f":"'Electric Power method'!E32","v":6.2820246214774302},{"$f":"'Electric Power method'!F32","v":6.249393384396134},{"$f":"'Electric Power method'!G32","v":5.7854909073996366},{"$f":"'Electric Power method'!H32","v":5.6170934922879434},{"$f":"'Electric Power method'!I32","v":5.4462990659300594},{"$f":"'Electric Power method'!J32","v":4.6147387164754399},{"$f":"'Electric Power method'!K32","v":4.8797350455709463},{"$f":"'Electric Power method'!L32","v":4.8355630188105136},{"$f":"'Electric Power method'!M32","v":4.8414800688322659},{"$f":"'Electric Power method'!N32","v":4.6504053396841734},{"$f":"'Electric Power method'!O32","v":4.5848141890870977},{"$f":"'Electric Power method'!P32","v":4.5657893992598391},{"$f":"'Electric Power method'!Q32","v":4.474574698810291},{"$f":"'Electric Power method'!R32","v":4.399583077195989},{"$f":"'Electric Power method'!S32","v":4.1138228917252064},{"$f":"'Electric Power method'!T32","v":4.0749199513738228},{"$f":"'Electric Power method'!U32","v":3.6487536225686701},{"$f":"'Electric Power method'!V32","v":2.9713012106228325},{"$f":"'Electric Power method'!W32","v":2.7470599656646777},{"$f":"'Electric Power method'!X32","v":2.4703034354903139},{"$f":"'Electric Power method'!Y32","v":2.3653503696549691},{"$f":"'Electric Power method'!Z32","v":2.4186527143239589},{"$f":"'Electric Power method'!AA32","v":2.1707521259521712},{"$f":"'Electric Power method'!AB32","v":2.2737744551602672},{"$f":"'Electric Power method'!AC32","v":2.2946035382148793},{"$f":"'Electric Power method'!AD32","v":2.1842360413473272},{"$f":"'Electric Power method'!AE32","v":2.5138708405915708},{"$f":"'Electric Power method'!AF32","v":2.5630194432373754},{"$f":"'Electric Power method'!AG32","v":2.6113497917980188}]
["NH","EU",null,"NH EU ",{"$f":"'Electric Power method'!B33","v":3.47307585970414},{"$f":"'Electric Power method'!C33","v":3.1897023884270812},{"$f":"'Electric Power method'!D33","v":3.2480587337285036},{"$f":"'Electric Power method'!E33","v":2.9751373729103765},{"$f":"'Electric Power method'!F33","v":2.7934812953263473},{"$f":"'Electric Power method'!G33","v":2.522435644161114},{"$f":"'Electric Power method'!H33","v":2.2757460571540928},{"$f":"'Electric Power method'!I33","v":2.061478428506291},{"$f":"'Electric Power method'!J33","v":1.714727225996544},{"$f":"'Electric Power method'!K33","v":1.8379094393684983},{"$f":"'Electric Power method'!L33","v":1.7675792256931462},{"$f":"'Electric Power method'!M33","v":1.773068308890128},{"$f":"'Electric Power method'!N33","v":1.6534210593849841},{"$f":"'Electric Power method'!O33","v":1.669575000247385},{"$f":"'Electric Power method'!P33","v":1.6000679703054315},{"$f":"'Electric Power method'!Q33","v":1.5481216193758018},{"$f":"'Electric Power method'!R33","v":1.4112680502432982},{"$f":"'Electric Power method'!S33","v":1.2967988190613231},{"$f":"'Electric Power method'!T33","v":1.2710543167525372},{"$f":"'Electric Power method'!U33","v":1.1386232368864637},{"$f":"'Electric Power method'!V33","v":0.95810493863359414},{"$f":"'Electric Power method'!W33","v":0.88030114129013459},{"$f":"'Electric Power method'!X33","v":0.76330033210925563},{"$f":"'Electric Power method'!Y33","v":0.74184367022841591},{"$f":"'Electric Power method'!Z33","v":0.7546535679649059},{"$f":"'Electric Power method'!AA33","v":0.6628715037640438},{"$f":"'Electric Power method'!AB33","v":0.68600537306500831},{"$f":"'Electric Power method'!AC33","v":0.67523137535494848},{"$f":"'Electric Power method'!AD33","v":0.63863217775266201},{"$f":"'Electric Power method'!AE33","v":0.72812290117567269},{"$f":"'Electric Power method'!AF33","v":0.71684352003500162},{"$f":"'Electric Power method'!AG33","v":0.72704979230175226}]
["NJ","EU",null,"NJ EU ",{"$f":"'Electric Power method'!B34","v":24.311294699380067},{"$f":"'Electric Power method'!C34","v":23.547524441312515},{"$f":"'Electric Power method'!D34","v":22.896801010572062},{"$f":"'Electric Power method'!E34","v":22.284114502530695},{"$f":"'Electric Power method'!F34","v":20.666009326795969},{"$f":"'Electric Power method'!G34","v":18.693837780067355},{"$f":"'Electric Power method'!H34","v":16.644090514628555},{"$f":"'Electric Power method'!I34","v":14.822724518906409},{"$f":"'Electric Power method'!J34","v":12.563271404503332},{"$f":"'Electric Power method'!K34","v":13.141683580147241},{"$f":"'Electric Power method'!L34","v":12.175538982314272},{"$f":"'Electric Power method'!M34","v":12.577952562717529},{"$f":"'Electric Power method'!N34","v":11.879509354057147},{"$f":"'Electric Power method'!O34","v":11.622314363553667},{"$f":"'Electric Power method'!P34","v":11.314211714193084},{"$f":"'Electric Power method'!Q34","v":11.275270890533434},{"$f":"'Electric Power method'!R34","v":10.135902118244367},{"$f":"'Electric Power method'!S34","v":9.4565423027650084},{"$f":"'Electric Power method'!T34","v":9.3233140453067733},{"$f":"'Electric Power method'!U34","v":8.0651266971563551},{"$f":"'Electric Power method'!V34","v":6.966178562870935},{"$f":"'Electric Power method'!W34","v":6.2252445237819449},{"$f":"'Electric Power method'!X34","v":5.2701507518510731},{"$f":"'Electric Power method'!Y34","v":5.0141815914782759},{"$f":"'Electric Power method'!Z34","v":5.093465528469137},{"$f":"'Electric Power method'!AA34","v":4.5494355896615968},{"$f":"'Electric Power method'!AB34","v":4.7406824398740683},{"$f":"'Electric Power method'!AC34","v":4.5934239937079173},{"$f":"'Electric Power method'!AD34","v":4.3948490063957975},{"$f":"'Electric Power method'!AE34","v":5.0244742677835426},{"$f":"'Electric Power method'!AF34","v":4.8264196204917926},{"$f":"'Electric Power method'!AG34","v":4.8886129548560184}]
["NM","EU",null,"NM EU ",{"$f":"'Electric Power method'!B35","v":5.3455023700088438},{"$f":"'Electric Power method'!C35","v":5.1272253558780747},{"$f":"'Electric Power method'!D35","v":5.2348286970344038},{"$f":"'Electric Power method'!E35","v":5.0690186866100184},{"$f":"'Electric Power method'!F35","v":4.9464215326345453},{"$f":"'Electric Power method'!G35","v":4.5970360181858378},{"$f":"'Electric Power method'!H35","v":4.2732537492887657},{"$f":"'Electric Power method'!I35","v":3.9416191366667741},{"$f":"'Electric Power method'!J35","v":3.3496005608943591},{"$f":"'Electric Power method'!K35","v":3.3533593934329571},{"$f":"'Electric Power method'!L35","v":3.2711882696968084},{"$f":"'Electric Power method'!M35","v":3.2187839849613482},{"$f":"'Electric Power method'!N35","v":3.0584549197347131},{"$f":"'Electric Power method'!O35","v":2.9413151953400658},{"$f":"'Electric Power method'!P35","v":2.8937966588446078},{"$f":"'Electric Power method'!Q35","v":2.8414996249175895},{"$f":"'Electric Power method'!R35","v":2.7266571776660351},{"$f":"'Electric Power method'!S35","v":2.5700160488683013},{"$f":"'Electric Power method'!T35","v":2.551780526727375},{"$f":"'Electric Power method'!U35","v":2.303869532058533},{"$f":"'Electric Power method'!V35","v":1.9732379368379993},{"$f":"'Electric Power method'!W35","v":1.8662560893705098},{"$f":"'Electric Power method'!X35","v":1.6275790114162816},{"$f":"'Electric Power method'!Y35","v":1.5494173596452574},{"$f":"'Electric Power method'!Z35","v":1.5939195585815649},{"$f":"'Electric Power method'!AA35","v":1.3917493257309859},{"$f":"'Electric Power method'!AB35","v":1.4493642188912812},{"$f":"'Electric Power method'!AC35","v":1.4402908255084599},{"$f":"'Electric Power method'!AD35","v":1.3903514353656508},{"$f":"'Electric Power method'!AE35","v":1.6912225017772222},{"$f":"'Electric Power method'!AF35","v":1.6609430812459423},{"$f":"'Electric Power method'!AG35","v":1.6989104873381309}]
["NY","EU",null,"NY EU ",{"$f":"'Electric Power method'!B36","v":50.019253295373346},{"$f":"'Electric Power method'!C36","v":47.111745923663207},{"$f":"'Electric Power method'!D36","v":46.600681942632107},{"$f":"'Electric Power method'!E36","v":44.204489752370264},{"$f":"'Electric Power method'!F36","v":40.91449925962619},{"$f":"'Electric Power method'!G36","v":36.537230340527898},{"$f":"'Electric Power method'!H36","v":32.727897201671261},{"$f":"'Electric Power method'!I36","v":29.671052771030176},{"$f":"'Electric Power method'!J36","v":24.734410261392267},{"$f":"'Electric Power method'!K36","v":25.906296656520489},{"$f":"'Electric Power method'!L36","v":24.711644254567759},{"$f":"'Electric Power method'!M36","v":24.782227949597015},{"$f":"'Electric Power method'!N36","v":23.477945374911378},{"$f":"'Electric Power method'!O36","v":21.917750239357435},{"$f":"'Electric Power method'!P36","v":21.155022213269788},{"$f":"'Electric Power method'!Q36","v":20.671799970782772},{"$f":"'Electric Power method'!R36","v":18.093542965509467},{"$f":"'Electric Power method'!S36","v":17.102073650448357},{"$f":"'Electric Power method'!T36","v":16.679811030180307},{"$f":"'Electric Power method'!U36","v":14.903633473198896},{"$f":"'Electric Power method'!V36","v":12.723931860714272},{"$f":"'Electric Power method'!W36","v":11.667032794697036},{"$f":"'Electric Power method'!X36","v":10.052758809567415},{"$f":"'Electric Power method'!Y36","v":9.9350105731829661},{"$f":"'Electric Power method'!Z36","v":10.162090353978895},{"$f":"'Electric Power method'!AA36","v":8.9743868749164175},{"$f":"'Electric Power method'!AB36","v":9.297944734791372},{"$f":"'Electric Power method'!AC36","v":9.0758386165543037},{"$f":"'Electric Power method'!AD36","v":8.6680758211777036},{"$f":"'Electric Power method'!AE36","v":9.8971564916220576},{"$f":"'Electric Power method'!AF36","v":9.4121953864939343},{"$f":"'Electric Power method'!AG36","v":9.4616354746592357}]
["NC","EU",null,"NC EU ",{"$f":"'Electric Power method'!B37","v":34.780399802929033},{"$f":"'Electric Power method'!C37","v":33.607589777628142},{"$f":"'Electric Power method'!D37","v":34.168111783784781},{"$f":"'Electric Power method'!E37","v":33.883458540143593},{"$f":"'Electric Power method'!F37","v":31.124646588434633},{"$f":"'Electric Power method'!G37","v":29.312727670147417},{"$f":"'Electric Power method'!H37","v":26.947381434463964},{"$f":"'Electric Power method'!I37","v":24.52275878906255},{"$f":"'Electric Power method'!J37","v":20.937640333257431},{"$f":"'Electric Power method'!K37","v":21.37800530170249},{"$f":"'Electric Power method'!L37","v":20.854024702428891},{"$f":"'Electric Power method'!M37","v":20.458713309388099},{"$f":"'Electric Power method'!N37","v":19.536244762211208},{"$f":"'Electric Power method'!O37","v":18.462274710235011},{"$f":"'Electric Power method'!P37","v":18.322589123440462},{"$f":"'Electric Power method'!Q37","v":17.668772294151839},{"$f":"'Electric Power method'!R37","v":16.116882366188481},{"$f":"'Electric Power method'!S37","v":15.221163927707588},{"$f":"'Electric Power method'!T37","v":15.060648452149266},{"$f":"'Electric Power method'!U37","v":13.586431403316729},{"$f":"'Electric Power method'!V37","v":12.001739788374255},{"$f":"'Electric Power method'!W37","v":10.617203853800289},{"$f":"'Electric Power method'!X37","v":8.9940104809883081},{"$f":"'Electric Power method'!Y37","v":8.7181014987848844},{"$f":"'Electric Power method'!Z37","v":9.1802248559264701},{"$f":"'Electric Power method'!AA37","v":8.066415760537696},{"$f":"'Electric Power method'!AB37","v":8.4550625419436241},{"$f":"'Electric Power method'!AC37","v":8.2263512470247449},{"$f":"'Electric Power method'!AD37","v":7.9949769508263762},{"$f":"'Electric Power method'!AE37","v":9.2741799569537591},{"$f":"'Electric Power method'!AF37","v":8.7407935288727874},{"$f":"'Electric Power method'!AG37","v":9.0782359880731445}]
["ND","EU",null,"ND EU ",{"$f":"'Electric Power method'!B38","v":2.7127706289586482},{"$f":"'Electric Power method'!C38","v":2.6412381737098616},{"$f":"'Electric Power method'!D38","v":2.5857256627432603},{"$f":"'Electric Power method'!E38","v":2.5238185410426928},{"$f":"'Electric Power method'!F38","v":2.395661135183687},{"$f":"'Electric Power method'!G38","v":2.2074661184128965},{"$f":"'Electric Power method'!H38","v":2.068811394401382},{"$f":"'Electric Power method'!I38","v":1.8625227797159081},{"$f":"'Electric Power method'!J38","v":1.5151500049065332},{"$f":"'Electric Power method'!K38","v":1.6936947228821975},{"$f":"'Electric Power method'!L38","v":1.6378683989159943},{"$f":"'Electric Power method'!M38","v":1.6861308964119412},{"$f":"'Electric Power method'!N38","v":1.627300751044829},{"$f":"'Electric Power method'!O38","v":1.5917555286357457},{"$f":"'Electric Power method'!P38","v":1.5334439960562525},{"$f":"'Electric Power method'!Q38","v":1.4924124544464696},{"$f":"'Electric Power method'!R38","v":1.4304628139567928},{"$f":"'Electric Power method'!S38","v":1.3741090323785123},{"$f":"'Electric Power method'!T38","v":1.4376504485596528},{"$f":"'Electric Power method'!U38","v":1.3461678295828567},{"$f":"'Electric Power method'!V38","v":1.1398875312083008},{"$f":"'Electric Power method'!W38","v":1.1126274841588106},{"$f":"'Electric Power method'!X38","v":1.0334119302597518},{"$f":"'Electric Power method'!Y38","v":1.0770314066162137},{"$f":"'Electric Power method'!Z38","v":1.2577281575788473},{"$f":"'Electric Power method'!AA38","v":1.0925538896163836},{"$f":"'Electric Power method'!AB38","v":1.1650618744517711},{"$f":"'Electric Power method'!AC38","v":1.2606951429296613},{"$f":"'Electric Power method'!AD38","v":1.1949911508568594},{"$f":"'Electric Power method'!AE38","v":1.465486366655143},{"$f":"'Electric Power method'!AF38","v":1.4626726852206373},{"$f":"'Electric Power method'!AG38","v":1.5296040546458167}]
["OH","EU",null,"OH EU ",{"$f":"'Electric Power method'!B39","v":55.101855340837155},{"$f":"'Electric Power method'!C39","v":53.026555033064781},{"$f":"'Electric Power method'!D39","v":52.602806315752545},{"$f":"'Electric Power method'!E39","v":50.453110604505937},{"$f":"'Electric Power method'!F39","v":48.150715466438193},{"$f":"'Electric Power method'!G39","v":44.421754132722391},{"$f":"'Electric Power method'!H39","v":39.4612720051868},{"$f":"'Electric Power method'!I39","v":35.644703018417957},{"$f":"'Electric Power method'!J39","v":29.452472220328218},{"$f":"'Electric Power method'!K39","v":30.533224866338823},{"$f":"'Electric Power method'!L39","v":28.742768527718987},{"$f":"'Electric Power method'!M39","v":26.778985367909854},{"$f":"'Electric Power method'!N39","v":24.428110643698055},{"$f":"'Electric Power method'!O39","v":23.15701749617357},{"$f":"'Electric Power method'!P39","v":22.487680321061092},{"$f":"'Electric Power method'!Q39","v":22.052521220443143},{"$f":"'Electric Power method'!R39","v":19.517084114215972},{"$f":"'Electric Power method'!S39","v":18.670959952866397},{"$f":"'Electric Power method'!T39","v":18.455543183693806},{"$f":"'Electric Power method'!U39","v":15.570449395207307},{"$f":"'Electric Power method'!V39","v":13.561660485827709},{"$f":"'Electric Power method'!W39","v":12.533653420667152},{"$f":"'Electric Power method'!X39","v":10.705389219590552},{"$f":"'Electric Power method'!Y39","v":10.097031885665864},{"$f":"'Electric Power method'!Z39","v":10.390181051782969},{"$f":"'Electric Power method'!AA39","v":8.9924406128475134},{"$f":"'Electric Power method'!AB39","v":9.4737564486961734},{"$f":"'Electric Power method'!AC39","v":9.1792082988859391},{"$f":"'Electric Power method'!AD39","v":8.8406695059281457},{"$f":"'Electric Power method'!AE39","v":10.095750011280344},{"$f":"'Electric Power method'!AF39","v":9.5602472543584298},{"$f":"'Electric Power method'!AG39","v":9.8827270172694988}]
["OK","EU",null,"OK EU ",{"$f":"'Electric Power method'!B40","v":16.439501789002726},{"$f":"'Electric Power method'!C40","v":14.345074322326608},{"$f":"'Electric Power method'!D40","v":13.880923741636744},{"$f":"'Electric Power method'!E40","v":13.764032920485327},{"$f":"'Electric Power method'!F40","v":12.832805091101005},{"$f":"'Electric Power method'!G40","v":11.591609120100447},{"$f":"'Electric Power method'!H40","v":10.772170814255865},{"$f":"'Electric Power method'!I40","v":9.9963901118285445},{"$f":"'Electric Power method'!J40","v":8.828115066918544},{"$f":"'Electric Power method'!K40","v":8.6869959400879448},{"$f":"'Electric Power method'!L40","v":8.6238195178087569},{"$f":"'Electric Power method'!M40","v":8.5368678904172022},{"$f":"'Electric Power method'!N40","v":7.879925078192656},{"$f":"'Electric Power method'!O40","v":7.6731179157095193},{"$f":"'Electric Power method'!P40","v":7.428090263944453},{"$f":"'Electric Power method'!Q40","v":7.3942086585898048},{"$f":"'Electric Power method'!R40","v":6.9842905917706046},{"$f":"'Electric Power method'!S40","v":6.3701845751863884},{"$f":"'Electric Power method'!T40","v":6.5164992532525652},{"$f":"'Electric Power method'!U40","v":5.805091075370397},{"$f":"'Electric Power method'!V40","v":5.0892692848643746},{"$f":"'Electric Power method'!W40","v":4.8472818145651582},{"$f":"'Electric Power method'!X40","v":4.1668473283916976},{"$f":"'Electric Power method'!Y40","v":4.02580510622301},{"$f":"'Electric Power method'!Z40","v":4.2458171116183783},{"$f":"'Electric Power method'!AA40","v":3.6964806786779909},{"$f":"'Electric Power method'!AB40","v":3.8698630766088122},{"$f":"'Electric Power method'!AC40","v":3.7865203027522538},{"$f":"'Electric Power method'!AD40","v":3.7333708499750973},{"$f":"'Electric Power method'!AE40","v":4.4044924315577161},{"$f":"'Electric Power method'!AF40","v":4.1762502436692488},{"$f":"'Electric Power method'!AG40","v":4.3169071982113731}]
["OR","EU",null,"OR EU ",{"$f":"'Electric Power method'!B41","v":16.622531858842784},{"$f":"'Electric Power method'!C41","v":15.890949107034238},{"$f":"'Electric Power method'!D41","v":15.565099402112393},{"$f":"'Electric Power method'!E41","v":15.13820928325808},{"$f":"'Electric Power method'!F41","v":14.026555018455548},{"$f":"'Electric Power method'!G41","v":12.804988833244114},{"$f":"'Electric Power method'!H41","v":12.045733776006408},{"$f":"'Electric Power method'!I41","v":10.918256285125771},{"$f":"'Electric Power method'!J41","v":8.6456578724666748},{"$f":"'Electric Power method'!K41","v":8.8370083526717877},{"$f":"'Electric Power method'!L41","v":8.7571457476201395},{"$f":"'Electric Power method'!M41","v":7.8868242648222111},{"$f":"'Electric Power method'!N41","v":7.2063052339579299},{"$f":"'Electric Power method'!O41","v":6.8768013237890093},{"$f":"'Electric Power method'!P41","v":6.6544575317535815},{"$f":"'Electric Power method'!Q41","v":6.3908416302968929},{"$f":"'Electric Power method'!R41","v":6.1147034928682498},{"$f":"'Electric Power method'!S41","v":5.6204143862177114},{"$f":"'Electric Power method'!T41","v":5.6953911818315195},{"$f":"'Electric Power method'!U41","v":5.0624676046229142},{"$f":"'Electric Power method'!V41","v":4.0493466995521032},{"$f":"'Electric Power method'!W41","v":3.8206439656991877},{"$f":"'Electric Power method'!X41","v":3.2784511145225679},{"$f":"'Electric Power method'!Y41","v":3.2003327611110346},{"$f":"'Electric Power method'!Z41","v":3.2640009856379106},{"$f":"'Electric Power method'!AA41","v":2.8483968640887287},{"$f":"'Electric Power method'!AB41","v":2.9786372830056029},{"$f":"'Electric Power method'!AC41","v":3.1325055271852582},{"$f":"'Electric Power method'!AD41","v":2.8517381493304668},{"$f":"'Electric Power method'!AE41","v":3.4262288053378169},{"$f":"'Electric Power method'!AF41","v":3.4200930226763795},{"$f":"'Electric Power method'!AG41","v":3.6217924828450703}]
["PA","EU",null,"PA EU ",{"$f":"'Electric Power method'!B42","v":44.382502817831771},{"$f":"'Electric Power method'!C42","v":42.352199495562957},{"$f":"'Electric Power method'!D42","v":42.181797003230059},{"$f":"'Electric Power method'!E42","v":40.744514317653923},{"$f":"'Electric Power method'!F42","v":38.37824489413714},{"$f":"'Electric Power method'!G42","v":35.355421118887236},{"$f":"'Electric Power method'!H42","v":31.756425439636626},{"$f":"'Electric Power method'!I42","v":28.801341467735696},{"$f":"'Electric Power method'!J42","v":23.999151896737679},{"$f":"'Electric Power method'!K42","v":23.955702770526756},{"$f":"'Electric Power method'!L42","v":23.288165827917322},{"$f":"'Electric Power method'!M42","v":23.250951644231968},{"$f":"'Electric Power method'!N42","v":22.264519041664411},{"$f":"'Electric Power method'!O42","v":21.358477089021413},{"$f":"'Electric Power method'!P42","v":20.924603748997598},{"$f":"'Electric Power method'!Q42","v":20.413707237127905},{"$f":"'Electric Power method'!R42","v":18.591216332235266},{"$f":"'Electric Power method'!S42","v":17.493960634743008},{"$f":"'Electric Power method'!T42","v":17.414802315086554},{"$f":"'Electric Power method'!U42","v":15.298806397283826},{"$f":"'Electric Power method'!V42","v":13.105798309474912},{"$f":"'Electric Power method'!W42","v":12.048569461253697},{"$f":"'Electric Power method'!X42","v":10.161391955403802},{"$f":"'Electric Power method'!Y42","v":9.8247502216404712},{"$f":"'Electric Power method'!Z42","v":10.114910029655171},{"$f":"'Electric Power method'!AA42","v":8.819526484025932},{"$f":"'Electric Power method'!AB42","v":9.1422259193974043},{"$f":"'Electric Power method'!AC42","v":8.9505518935081305},{"$f":"'Electric Power method'!AD42","v":8.6129719417862614},{"$f":"'Electric Power method'!AE42","v":9.8957995783682762},{"$f":"'Electric Power method'!AF42","v":9.3662229388742198},{"$f":"'Electric Power method'!AG42","v":9.5898462423307471}]
["PR","EU",null,"PR EU ",0,0,0,0,0,0,0,0,0,0,0,0,0,0,1,2,3,4,5,5,6,6,6,6,6,{"$f":"'Electric Power method'!AA43","v":0},{"$f":"'Electric Power method'!AB43","v":0},{"$f":"'Electric Power method'!AC43","v":0},{"$f":"'Electric Power method'!AD43","v":0},{"$f":"'Electric Power method'!AE43","v":0},{"$f":"'Electric Power method'!AF43","v":0},{"$f":"'Electric Power method'!AG43","v":0}]
["RI","EU",null,"RI EU ",{"$f":"'Electric Power method'!B44","v":2.4826899614807449},{"$f":"'Electric Power method'!C44","v":2.3310132308147269},{"$f":"'Electric Power method'!D44","v":2.3188166796138896},{"$f":"'Electric Power method'!E44","v":2.223783993298742},{"$f":"'Electric Power method'!F44","v":2.0497851579103812},{"$f":"'Electric Power method'!G44","v":1.8582657058161423},{"$f":"'Electric Power method'!H44","v":1.6433219611608125},{"$f":"'Electric Power method'!I44","v":1.5166795499120949},{"$f":"'Electric Power method'!J44","v":1.2695018417989217},{"$f":"'Electric Power method'!K44","v":1.3289930215835513},{"$f":"'Electric Power method'!L44","v":1.2703822286132169},{"$f":"'Electric Power method'!M44","v":1.2707170797716072},{"$f":"'Electric Power method'!N44","v":1.203944238067115},{"$f":"'Electric Power method'!O44","v":1.1863296450247143},{"$f":"'Electric Power method'!P44","v":1.1501230960398421},{"$f":"'Electric Power method'!Q44","v":1.1081739924146177},{"$f":"'Electric Power method'!R44","v":0.99209636331072637},{"$f":"'Electric Power method'!S44","v":0.92483184785497463},{"$f":"'Electric Power method'!T44","v":0.90531074244610732},{"$f":"'Electric Power method'!U44","v":0.8107318843298954},{"$f":"'Electric Power method'!V44","v":0.68617329011946759},{"$f":"'Electric Power method'!W44","v":0.62628616076877763},{"$f":"'Electric Power method'!X44","v":0.5412725510646953},{"$f":"'Electric Power method'!Y44","v":0.52270504721380429},{"$f":"'Electric Power method'!Z44","v":0.52703335290800979},{"$f":"'Electric Power method'!AA44","v":0.46191965820149677},{"$f":"'Electric Power method'!AB44","v":0.47333429391112175},{"$f":"'Electric Power method'!AC44","v":0.46224537960783579},{"$f":"'Electric Power method'!AD44","v":0.43842474991650532},{"$f":"'Electric Power method'!AE44","v":0.49960911119489682},{"$f":"'Electric Power method'!AF44","v":0.49281247828678781},{"$f":"'Electric Power method'!AG44","v":0.49494659298432064}]
["SC","EU",null,"SC EU ",{"$f":"'Electric Power method'!B45","v":21.524632558971923},{"$f":"'Electric Power method'!C45","v":20.77595032657036},{"$f":"'Electric Power method'!D45","v":21.184162482575534},{"$f":"'Electric Power method'!E45","v":20.895897452041741},{"$f":"'Electric Power method'!F45","v":19.293745502716245},{"$f":"'Electric Power method'!G45","v":18.223538691716524},{"$f":"'Electric Power method'!H45","v":16.693056507490521},{"$f":"'Electric Power method'!I45","v":15.411766896763563},{"$f":"'Electric Power method'!J45","v":13.354425502311985},{"$f":"'Electric Power method'!K45","v":13.625024857119248},{"$f":"'Electric Power method'!L45","v":13.399552740500088},{"$f":"'Electric Power method'!M45","v":12.862415047624255},{"$f":"'Electric Power method'!N45","v":12.391738992424663},{"$f":"'Electric Power method'!O45","v":11.724502461454421},{"$f":"'Electric Power method'!P45","v":11.651797593075736},{"$f":"'Electric Power method'!Q45","v":11.186782728202649},{"$f":"'Electric Power method'!R45","v":10.288088183011048},{"$f":"'Electric Power method'!S45","v":9.4581378151028943},{"$f":"'Electric Power method'!T45","v":9.3384858218783631},{"$f":"'Electric Power method'!U45","v":8.1329881969061777},{"$f":"'Electric Power method'!V45","v":7.2564996306092349},{"$f":"'Electric Power method'!W45","v":6.5191573220545651},{"$f":"'Electric Power method'!X45","v":5.4617112925507847},{"$f":"'Electric Power method'!Y45","v":5.2801782641852784},{"$f":"'Electric Power method'!Z45","v":5.6281241772339907},{"$f":"'Electric Power method'!AA45","v":4.901304339500455},{"$f":"'Electric Power method'!AB45","v":5.0060382522725773},{"$f":"'Electric Power method'!AC45","v":4.8884865805945728},{"$f":"'Electric Power method'!AD45","v":4.7200178589601363},{"$f":"'Electric Power method'!AE45","v":5.4519621684108781},{"$f":"'Electric Power method'!AF45","v":5.144096711327518},{"$f":"'Electric Power method'!AG45","v":5.3383109633546511}]
["SD","EU",null,"SD EU ",{"$f":"'Electric Power method'!B46","v":2.4497813465310463},{"$f":"'Electric Power method'!C46","v":2.433708861352669},{"$f":"'Electric Power method'!D46","v":2.355556837893416},{"$f":"'Electric Power method'!E46","v":2.3447693793569973},{"$f":"'Electric Power method'!F46","v":2.2376162513923186},{"$f":"'Electric Power method'!G46","v":2.0761002769163741},{"$f":"'Electric Power method'!H46","v":1.9249884557818759},{"$f":"'Electric Power method'!I46","v":1.7478613120942479},{"$f":"'Electric Power method'!J46","v":1.4420957230269134},{"$f":"'Electric Power method'!K46","v":1.4725378580770481},{"$f":"'Electric Power method'!L46","v":1.4411397722586434},{"$f":"'Electric Power method'!M46","v":1.482834850773054},{"$f":"'Electric Power method'!N46","v":1.4230708127254414},{"$f":"'Electric Power method'!O46","v":1.38160549364917},{"$f":"'Electric Power method'!P46","v":1.3435123961050288},{"$f":"'Electric Power method'!Q46","v":1.3507469989904086},{"$f":"'Electric Power method'!R46","v":1.2792337206432189},{"$f":"'Electric Power method'!S46","v":1.2237917800790388},{"$f":"'Electric Power method'!T46","v":1.2706834431264025},{"$f":"'Electric Power method'!U46","v":1.1717889795938472},{"$f":"'Electric Power method'!V46","v":0.99911005570384104},{"$f":"'Electric Power method'!W46","v":0.94598739376741248},{"$f":"'Electric Power method'!X46","v":0.82396608416667694},{"$f":"'Electric Power method'!Y46","v":0.82020607860486705},{"$f":"'Electric Power method'!Z46","v":0.85192516915114125},{"$f":"'Electric Power method'!AA46","v":0.72933433470633779},{"$f":"'Electric Power method'!AB46","v":0.76304047010856446},{"$f":"'Electric Power method'!AC46","v":0.77077765207719029},{"$f":"'Electric Power method'!AD46","v":0.74331370750298975},{"$f":"'Electric Power method'!AE46","v":0.87476320187899514},{"$f":"'Electric Power method'!AF46","v":0.85106929804171982},{"$f":"'Electric Power method'!AG46","v":0.87250453544312512}]
["TN","EU",null,"TN EU ",{"$f":"'Electric Power method'!B47","v":29.837544789380956},{"$f":"'Electric Power method'!C47","v":28.537739044266115},{"$f":"'Electric Power method'!D47","v":28.505348351559622},{"$f":"'Electric Power method'!E47","v":27.110209527512961},{"$f":"'Electric Power method'!F47","v":25.74246520309265},{"$f":"'Electric Power method'!G47","v":22.971905838321447},{"$f":"'Electric Power method'!H47","v":21.812184128928767},{"$f":"'Electric Power method'!I47","v":19.545583476801802},{"$f":"'Electric Power method'!J47","v":16.910991599482927},{"$f":"'Electric Power method'!K47","v":17.319553721970458},{"$f":"'Electric Power method'!L47","v":16.655962730582115},{"$f":"'Electric Power method'!M47","v":16.523240454790422},{"$f":"'Electric Power method'!N47","v":15.642348259670349},{"$f":"'Electric Power method'!O47","v":14.828813657373935},{"$f":"'Electric Power method'!P47","v":14.531973716026728},{"$f":"'Electric Power method'!Q47","v":14.305340169585374},{"$f":"'Electric Power method'!R47","v":13.220751306613254},{"$f":"'Electric Power method'!S47","v":12.316853650050799},{"$f":"'Electric Power method'!T47","v":12.061761995435102},{"$f":"'Electric Power method'!U47","v":10.101100574414481},{"$f":"'Electric Power method'!V47","v":9.1077889695368768},{"$f":"'Electric Power method'!W47","v":8.1588803868476063},{"$f":"'Electric Power method'!X47","v":6.7678236600555319},{"$f":"'Electric Power method'!Y47","v":6.5123159477849928},{"$f":"'Electric Power method'!Z47","v":6.9106578705142567},{"$f":"'Electric Power method'!AA47","v":6.0043995451958718},{"$f":"'Electric Power method'!AB47","v":6.3384786271162286},{"$f":"'Electric Power method'!AC47","v":6.0867555988408002},{"$f":"'Electric Power method'!AD47","v":5.9497286973965844},{"$f":"'Electric Power method'!AE47","v":6.7858645878743458},{"$f":"'Electric Power method'!AF47","v":6.3686105392271397},{"$f":"'Electric Power method'!AG47","v":6.6649250726782858}]
["TX","EU",null,"TX EU ",{"$f":"'Electric Power method'!B48","v":91.825856469141399},{"$f":"'Electric Power method'!C48","v":87.499480020440743},{"$f":"'Electric Power method'!D48","v":86.850445601084218},{"$f":"'Electric Power method'!E48","v":84.926163247313596},{"$f":"'Electric Power method'!F48","v":80.527296740642697},{"$f":"'Electric Power method'!G48","v":73.728962182631875},{"$f":"'Electric Power method'!H48","v":69.286583294439438},{"$f":"'Electric Power method'!I48","v":64.472804982711594},{"$f":"'Electric Power method'!J48","v":56.162026575600855},{"$f":"'Electric Power method'!K48","v":56.104155695418669},{"$f":"'Electric Power method'!L48","v":55.375490304116745},{"$f":"'Electric Power method'!M48","v":54.666400829828454},{"$f":"'Electric Power method'!N48","v":51.090581864362228},{"$f":"'Electric Power method'!O48","v":49.09968933351567},{"$f":"'Electric Power method'!P48","v":46.75030442399833},{"$f":"'Electric Power method'!Q48","v":46.0195252219265},{"$f":"'Electric Power method'!R48","v":43.596608816914966},{"$f":"'Electric Power method'!S48","v":39.683358268131002},{"$f":"'Electric Power method'!T48","v":40.273268609317832},{"$f":"'Electric Power method'!U48","v":36.755190820215198},{"$f":"'Electric Power method'!V48","v":31.53697109363063},{"$f":"'Electric Power method'!W48","v":30.459335848118055},{"$f":"'Electric Power method'!X48","v":25.637296514477541},{"$f":"'Electric Power method'!Y48","v":25.447447121054484},{"$f":"'Electric Power method'!Z48","v":26.869841331697259},{"$f":"'Electric Power method'!AA48","v":23.644488480771194},{"$f":"'Electric Power method'!AB48","v":25.078885509470744},{"$f":"'Electric Power method'!AC48","v":25.155805321126564},{"$f":"'Electric Power method'!AD48","v":24.537427489501169},{"$f":"'Electric Power method'!AE48","v":29.184538388516263},{"$f":"'Electric Power method'!AF48","v":28.614891013988064},{"$f":"'Electric Power method'!AG48","v":29.144690111696249}]
["UT","EU",null,"UT EU ",{"$f":"'Electric Power method'!B49","v":5.9569578568113171},{"$f":"'Electric Power method'!C49","v":5.7910515076598088},{"$f":"'Electric Power method'!D49","v":6.0094806751751033},{"$f":"'Electric Power method'!E49","v":5.7279081642225238},{"$f":"'Electric Power method'!F49","v":5.5665709299147723},{"$f":"'Electric Power method'!G49","v":5.1696354287792161},{"$f":"'Electric Power method'!H49","v":4.941281423413824},{"$f":"'Electric Power method'!I49","v":4.5819712996444872},{"$f":"'Electric Power method'!J49","v":3.8154055869490819},{"$f":"'Electric Power method'!K49","v":4.0666830740054269},{"$f":"'Electric Power method'!L49","v":4.0340786763237242},{"$f":"'Electric Power method'!M49","v":3.990661578091296},{"$f":"'Electric Power method'!N49","v":3.7050009435138631},{"$f":"'Electric Power method'!O49","v":3.6305756548621719},{"$f":"'Electric Power method'!P49","v":3.5741627678585859},{"$f":"'Electric Power method'!Q49","v":3.4419823802940828},{"$f":"'Electric Power method'!R49","v":3.3538797757188985},{"$f":"'Electric Power method'!S49","v":3.2068882741725231},{"$f":"'Electric Power method'!T49","v":3.2642797098925462},{"$f":"'Electric Power method'!U49","v":2.9360076834200672},{"$f":"'Electric Power method'!V49","v":2.4673014946588472},{"$f":"'Electric Power method'!W49","v":2.3374258633356018},{"$f":"'Electric Power method'!X49","v":2.0871492106588438},{"$f":"'Electric Power method'!Y49","v":2.0471252578696331},{"$f":"'Electric Power method'!Z49","v":2.0716286256276302},{"$f":"'Electric Power method'!AA49","v":1.8195633540986063},{"$f":"'Electric Power method'!AB49","v":1.8985241646640392},{"$f":"'Electric Power method'!AC49","v":1.9147276329544081},{"$f":"'Electric Power method'!AD49","v":1.8062551224717007},{"$f":"'Electric Power method'!AE49","v":2.1169100894335924},{"$f":"'Electric Power method'!AF49","v":2.1225480306174793},{"$f":"'Electric Power method'!AG49","v":2.1862221418726517}]
["VT","EU",null,"VT EU ",{"$f":"'Electric Power method'!B50","v":1.8241115504141645},{"$f":"'Electric Power method'!C50","v":1.7126460610776428},{"$f":"'Electric Power method'!D50","v":1.7922940756294778},{"$f":"'Electric Power method'!E50","v":1.7032332898107077},{"$f":"'Electric Power method'!F50","v":1.5802629431203317},{"$f":"'Electric Power method'!G50","v":1.4293609688337126},{"$f":"'Electric Power method'!H50","v":1.3037422967824992},{"$f":"'Electric Power method'!I50","v":1.1945753796047591},{"$f":"'Electric Power method'!J50","v":0.98853537559985072},{"$f":"'Electric Power method'!K50","v":1.0273713764885151},{"$f":"'Electric Power method'!L50","v":0.98108004064046417},{"$f":"'Electric Power method'!M50","v":0.96004346191658896},{"$f":"'Electric Power method'!N50","v":0.89638785427305101},{"$f":"'Electric Power method'!O50","v":0.81442218667279742},{"$f":"'Electric Power method'!P50","v":0.82586029139548833},{"$f":"'Electric Power method'!Q50","v":0.80995845636099917},{"$f":"'Electric Power method'!R50","v":0.73716300982702365},{"$f":"'Electric Power method'!S50","v":0.67680077563903585},{"$f":"'Electric Power method'!T50","v":0.66477088537588225},{"$f":"'Electric Power method'!U50","v":0.58498495289462971},{"$f":"'Electric Power method'!V50","v":0.49223146951344932},{"$f":"'Electric Power method'!W50","v":0.44953629380197885},{"$f":"'Electric Power method'!X50","v":0.38696108505359067},{"$f":"'Electric Power method'!Y50","v":0.37536042549868015},{"$f":"'Electric Power method'!Z50","v":0.38407203644769983},{"$f":"'Electric Power method'!AA50","v":0.33273354377463171},{"$f":"'Electric Power method'!AB50","v":0.34702701599570551},{"$f":"'Electric Power method'!AC50","v":0.33949551714011283},{"$f":"'Electric Power method'!AD50","v":0.31976738659595666},{"$f":"'Electric Power method'!AE50","v":0.36894445539908127},{"$f":"'Electric Power method'!AF50","v":0.35739568477709927},{"$f":"'Electric Power method'!AG50","v":0.36212408699155346}]
["VA","EU",null,"VA EU ",{"$f":"'Electric Power method'!B51","v":28.116983308464977},{"$f":"'Electric Power method'!C51","v":27.344029664894347},{"$f":"'Electric Power method'!D51","v":27.730656472372274},{"$f":"'Electric Power method'!E51","v":27.633042275732116},{"$f":"'Electric Power method'!F51","v":25.64167217280567},{"$f":"'Electric Power method'!G51","v":23.849039863993024},{"$f":"'Electric Power method'!H51","v":21.796415529016901},{"$f":"'Electric Power method'!I51","v":19.658756713515988},{"$f":"'Electric Power method'!J51","v":16.700619346739003},{"$f":"'Electric Power method'!K51","v":17.292061319191429},{"$f":"'Electric Power method'!L51","v":16.827814516957329},{"$f":"'Electric Power method'!M51","v":16.578665345586831},{"$f":"'Electric Power method'!N51","v":16.022215352582176},{"$f":"'Electric Power method'!O51","v":15.445655998349059},{"$f":"'Electric Power method'!P51","v":15.372376966076382},{"$f":"'Electric Power method'!Q51","v":14.986031081737032},{"$f":"'Electric Power method'!R51","v":13.575592327154039},{"$f":"'Electric Power method'!S51","v":12.876923954596863},{"$f":"'Electric Power method'!T51","v":12.749152814110991},{"$f":"'Electric Power method'!U51","v":11.543483806713553},{"$f":"'Electric Power method'!V51","v":10.012624339403159},{"$f":"'Electric Power method'!W51","v":8.9279212581641225},{"$f":"'Electric Power method'!X51","v":7.5692706780648793},{"$f":"'Electric Power method'!Y51","v":7.4237481110974448},{"$f":"'Electric Power method'!Z51","v":7.7297895716177001},{"$f":"'Electric Power method'!AA51","v":6.7503044184895096},{"$f":"'Electric Power method'!AB51","v":7.0633150176224655},{"$f":"'Electric Power method'!AC51","v":6.9812322452686377},{"$f":"'Electric Power method'!AD51","v":6.8316940031886668},{"$f":"'Electric Power method'!AE51","v":8.0506230256853115},{"$f":"'Electric Power method'!AF51","v":7.8601786401355307},{"$f":"'Electric Power method'!AG51","v":8.3792443269635246}]
["WA","EU",null,"WA EU ",{"$f":"'Electric Power method'!B52","v":35.214229604644245},{"$f":"'Electric Power method'!C52","v":33.752126121577177},{"$f":"'Electric Power method'!D52","v":32.399401765881549},{"$f":"'Electric Power method'!E52","v":30.723593042148934},{"$f":"'Electric Power method'!F52","v":27.177256425198177},{"$f":"'Electric Power method'!G52","v":24.742632775521752},{"$f":"'Electric Power method'!H52","v":22.002561898630471},{"$f":"'Electric Power method'!I52","v":20.448470096065947},{"$f":"'Electric Power method'!J52","v":17.486555821339433},{"$f":"'Electric Power method'!K52","v":18.406890324218793},{"$f":"'Electric Power method'!L52","v":16.792271028472026},{"$f":"'Electric Power method'!M52","v":13.492002012709056},{"$f":"'Electric Power method'!N52","v":12.007095899366245},{"$f":"'Electric Power method'!O52","v":11.888743734259943},{"$f":"'Electric Power method'!P52","v":11.662481132566725},{"$f":"'Electric Power method'!Q52","v":11.485693943877035},{"$f":"'Electric Power method'!R52","v":10.816758494949653},{"$f":"'Electric Power method'!S52","v":9.8960021927673854},{"$f":"'Electric Power method'!T52","v":10.112227090190355},{"$f":"'Electric Power method'!U52","v":9.6009040223491606},{"$f":"'Electric Power method'!V52","v":7.9515984565904763},{"$f":"'Electric Power method'!W52","v":7.5912351419481023},{"$f":"'Electric Power method'!X52","v":6.483785079409472},{"$f":"'Electric Power method'!Y52","v":6.2394945241909472},{"$f":"'Electric Power method'!Z52","v":6.3536048497912931},{"$f":"'Electric Power method'!AA52","v":5.4309097403944522},{"$f":"'Electric Power method'!AB52","v":5.5915681239411832},{"$f":"'Electric Power method'!AC52","v":5.7555194632755589},{"$f":"'Electric Power method'!AD52","v":5.2036136601848133},{"$f":"'Electric Power method'!AE52","v":6.1892969485184874},{"$f":"'Electric Power method'!AF52","v":5.8123690947695312},{"$f":"'Electric Power method'!AG52","v":5.9007308231186721}]
["WV","EU",null,"WV EU ",{"$f":"'Electric Power method'!B53","v":8.9470090454190672},{"$f":"'Electric Power method'!C53","v":8.6006034272235787},{"$f":"'Electric Power method'!D53","v":8.6444231907478031},{"$f":"'Electric Power method'!E53","v":8.3000972242252331},{"$f":"'Electric Power method'!F53","v":7.7276428168160818},{"$f":"'Electric Power method'!G53","v":7.2745584288690841},{"$f":"'Electric Power method'!H53","v":6.5011236885649337},{"$f":"'Electric Power method'!I53","v":5.9023768498401852},{"$f":"'Electric Power method'!J53","v":4.886455089473726},{"$f":"'Electric Power method'!K53","v":5.0452907557458628},{"$f":"'Electric Power method'!L53","v":4.8183911158480246},{"$f":"'Electric Power method'!M53","v":4.7559062045440328},{"$f":"'Electric Power method'!N53","v":4.5323867183842843},{"$f":"'Electric Power method'!O53","v":4.3056524272110552},{"$f":"'Electric Power method'!P53","v":4.2167540171237583},{"$f":"'Electric Power method'!Q53","v":4.1512329165367596},{"$f":"'Electric Power method'!R53","v":4.1102993714216138},{"$f":"'Electric Power method'!S53","v":3.9453658044551663},{"$f":"'Electric Power method'!T53","v":3.9624428847763054},{"$f":"'Electric Power method'!U53","v":3.2217283883660137},{"$f":"'Electric Power method'!V53","v":2.8181469334036091},{"$f":"'Electric Power method'!W53","v":2.5301779628595105},{"$f":"'Electric Power method'!X53","v":2.1639600272699031},{"$f":"'Electric Power method'!Y53","v":2.1093179205719137},{"$f":"'Electric Power method'!Z53","v":2.2545733215478547},{"$f":"'Electric Power method'!AA53","v":1.9467647379582738},{"$f":"'Electric Power method'!AB53","v":2.0178356064176395},{"$f":"'Electric Power method'!AC53","v":1.984834195680089},{"$f":"'Electric Power method'!AD53","v":1.9452638969472973},{"$f":"'Electric Power method'!AE53","v":2.2599595525683198},{"$f":"'Electric Power method'!AF53","v":2.1502621509152768},{"$f":"'Electric Power method'!AG53","v":2.1929365657927389}]
["WI","EU",null,"WI EU ",{"$f":"'Electric Power method'!B54","v":19.028488684686039},{"$f":"'Electric Power method'!C54","v":18.578150468650254},{"$f":"'Electric Power method'!D54","v":18.472403560207251},{"$f":"'Electric Power method'!E54","v":18.051382010328759},{"$f":"'Electric Power method'!F54","v":17.283103986871211},{"$f":"'Electric Power method'!G54","v":16.233145431210193},{"$f":"'Electric Power method'!H54","v":14.617171376548857},{"$f":"'Electric Power method'!I54","v":13.513712772788843},{"$f":"'Electric Power method'!J54","v":11.438888901376801},{"$f":"'Electric Power method'!K54","v":11.811643731671492},{"$f":"'Electric Power method'!L54","v":11.335040510583537},{"$f":"'Electric Power method'!M54","v":11.209918740958276},{"$f":"'Electric Power method'!N54","v":10.668777632035493},{"$f":"'Electric Power method'!O54","v":10.231422888304692},{"$f":"'Electric Power method'!P54","v":9.911846529583979},{"$f":"'Electric Power method'!Q54","v":9.6835743668766145},{"$f":"'Electric Power method'!R54","v":8.881624834184116},{"$f":"'Electric Power method'!S54","v":8.2293188554158352},{"$f":"'Electric Power method'!T54","v":8.1193681706771699},{"$f":"'Electric Power method'!U54","v":7.0547580613322936},{"$f":"'Electric Power method'!V54","v":6.0488138345704785},{"$f":"'Electric Power method'!W54","v":5.5571877014568019},{"$f":"'Electric Power method'!X54","v":4.832487237683516},{"$f":"'Electric Power method'!Y54","v":4.6434802281629874},{"$f":"'Electric Power method'!Z54","v":4.7920391685329253},{"$f":"'Electric Power method'!AA54","v":4.1401897875757294},{"$f":"'Electric Power method'!AB54","v":4.3869505356901506},{"$f":"'Electric Power method'!AC54","v":4.3240245858855548},{"$f":"'Electric Power method'!AD54","v":4.1024702343536275},{"$f":"'Electric Power method'!AE54","v":4.7009709761031964},{"$f":"'Electric Power method'!AF54","v":4.5214185625560583},{"$f":"'Electric Power method'!AG54","v":4.6448294102955519}]
["WY","EU",null,"WY EU ",{"$f":"'Electric Power method'!B55","v":4.5518739032261974},{"$f":"'Electric Power method'!C55","v":4.2800517504758915},{"$f":"'Electric Power method'!D55","v":4.2440008283663833},{"$f":"'Electric Power method'!E55","v":4.0360905315072531},{"$f":"'Electric Power method'!F55","v":3.6481478910613276},{"$f":"'Electric Power method'!G55","v":3.1360558306080555},{"$f":"'Electric Power method'!H55","v":2.8553403295200477},{"$f":"'Electric Power method'!I55","v":2.650437377281142},{"$f":"'Electric Power method'!J55","v":2.1455449808688773},{"$f":"'Electric Power method'!K55","v":2.189999962078979},{"$f":"'Electric Power method'!L55","v":2.1518919226158091},{"$f":"'Electric Power method'!M55","v":2.2258003407975258},{"$f":"'Electric Power method'!N55","v":2.0500287549511391},{"$f":"'Electric Power method'!O55","v":2.016695241902815},{"$f":"'Electric Power method'!P55","v":1.9742578182054296},{"$f":"'Electric Power method'!Q55","v":1.9464335163006725},{"$f":"'Electric Power method'!R55","v":1.9013001468390767},{"$f":"'Electric Power method'!S55","v":1.7930530159042426},{"$f":"'Electric Power method'!T55","v":1.9325548447457943},{"$f":"'Electric Power method'!U55","v":1.7626600602579905},{"$f":"'Electric Power method'!V55","v":1.5056361074220974},{"$f":"'Electric Power method'!W55","v":1.4107489365766868},{"$f":"'Electric Power method'!X55","v":1.1917138093136626},{"$f":"'Electric Power method'!Y55","v":1.1455877237924392},{"$f":"'Electric Power method'!Z55","v":1.1814871282959525},{"$f":"'Electric Power method'!AA55","v":1.0199827675567035},{"$f":"'Electric Power method'!AB55","v":1.0414282983253407},{"$f":"'Electric Power method'!AC55","v":1.0502274169696526},{"$f":"'Electric Power method'!AD55","v":0.97501802762244816},{"$f":"'Electric Power method'!AE55","v":1.1394955366258259},{"$f":"'Electric Power method'!AF55","v":1.0277188109594102},{"$f":"'Electric Power method'!AG55","v":1.0560401732195226}]

{"sheet":"EF","index":23,"n_rows":131,"n_cols":8,"rows_kept":131,"cut":false,"hidden":false,"merged":[[124,0,124,6]]}
["Emission Source",null,null,"Emission Factor","Units","Other Calculations","end: MMTCE","Source: IPCC Guidelines Table 4.10"]
["Aluminum Production - Prebake",1.6,"Tons CO2 / Ton Aluminum Produced",{"$f":"(B2)*(12/44)","v":0.43636363636363634},"(tons CO2/ton of aluminum produced)*(C/CO2)"]
["Aluminum Production - Søderberg ",1.7,"Tons CO2 / Ton Aluminum Produced",{"$f":"(B3)*(12/44)","v":0.46363636363636357},"(tons CO2/ton of aluminum produced)*(C/CO2)"]
["Aluminum Production - Weighted avg.",{"$f":"0.5*B2+0.5*B3","v":1.65},"Tons CO2 / Ton Aluminum Produced",{"$f":"(B4)*(12/44)","v":0.44999999999999996},"(tons CO2/ton of aluminum produced)*(C/CO2)"]
["Ammonia"]
["Carbide"]
["Cement Production"]
["Clinker",null,null,{"$f":"(0.0507*(12/44))","v":1.3827272727272726E-2},"(Tg CO2/ton of clinker produced)*(C/CO2)"]
["Inventory Year",2022]
["CO2 Manufacture",1,null,1]
["Ferroalloy"]
["Iron and Steel"]
["Lime Production",null,null,{"$f":"(0.785*(12/44))/10^3","v":2.1409090909090908E-4},"(Tg CO2/thousand metric ton lime)*(C/CO2)","subtract amount C recovered"]
["Limestone Use"]
["Calcite",null,null,{"$f":"0.12/10^3","v":1.1999999999999999E-4},"MMTCE/ton calcite",null,{"$f":"D15*1000*44/12","v":0.43999999999999995}]
["Dolomite",null,null,{"$f":"0.132/10^3","v":1.3200000000000001E-4},"MMTCE/ton dolomite","add the two emissions",{"$f":"D16*1000*44/12","v":0.48399999999999999}]
["Mg Production from dolomite",null,null,0.49,"MTCE/T Mg produced",null,{"$f":"D17*44/12","v":1.7966666666666666}]
["Petrochemical"]
["Soda Ash"]
["Manufacture",{"$f":"0.0974*Control!C90","v":2.6563636363636362E-2},"tons C / ton trona",{"$f":"0.0974*(12/44)","v":2.6563636363636362E-2},"(tons CO2/ton Trona)*(C/CO2)"]
[" Consumption",{"$f":"0.415*Control!C90","v":0.11318181818181816},"tons C / ton soda ash",{"$f":"0.415*(12/44)","v":0.11318181818181816},"(tons CO2/ton Soda Ash)*(C/CO2)"]
["Adipic Acid Production",1,null,{"$f":"(0.3)*310*(12/44)","v":25.363636363636363},"(ton N2O/ ton adipic acid produced)*(GWP)","subtract amount N2O not released due to equipment"]
["Nitric Acid",0.47,null,{"$f":"(0.0061/1.1023)*310*(12/44)","v":0.46786471262566692},"(metric tons N2O/metric ton nitric acid)*(GWP)","still 12/44??"]
["Aluminum Production","Old EF's replaced w/2000 inventory data…see below"]
[]
["Electric Utilities",null,null,{"$f":"23900*(12/44)","v":6518.181818181818},"(ton SF6 emitted/ton SF6 purchased)*(GWP)","still 12/44??"]
["Magnesium "]
["Consumption",null,null,{"$f":"23900*(12/44)","v":6518.181818181818},"(ton SF6 emitted/ton SF6 purchased)*(GWP)"]
["Production",null,null,{"$f":"0.001*23900*(12/44)","v":6.5181818181818185},"(ton SF6 emitted/ton Mg produced)*(GWP)"]
[" Casting",null,null,{"$f":"0.0041*23900*(12/44)","v":26.724545454545456},"(ton SF6 emitted/ton Mg cast)*(GWP)"]
["HCFC-22 Production",null,{"$f":"0.02*11700","v":234},{"$f":"0.02*11700*(12/44)","v":63.818181818181813},"(tons HFC/ton HCFC produced)*(GWP)","still 12/44??"]
[]
[]
["Petrochemical"]
["Carbon Black",1.0999999999999999E-2,"ton CH4/ton produced"]
["Ethylene",1E-3,"ton CH4/ton produced"]
["Ethylene Dichloride",4.0000000000000002E-4,"ton CH4/ton produced"]
["Styrene",4.0000000000000001E-3,"ton CH4/ton produced"]
["Methanol",2E-3,"ton CH4/ton produced"]
[]
["Aluminum","Production","PFC emissions (MMTCE)","MTCE/ton Al production","EF: MTCO2E/ton Al"]
[1990,4048000,1.72224,{"$f":"C42*1000000/B42","v":0.42545454545454547},{"$f":"D42/CO2_C","v":1.5600000000000003}]
[1991,4121000,1.7532981818181816,{"$f":"C43*1000000/B43","v":0.42545454545454542},{"$f":"D43/CO2_C","v":1.56}]
[1992,4042000,1.7196872727272725,0.42545454545454542,1.56]
[1993,3695000,1.5720545454545454,0.42545454545454542,1.56]
[1994,3299000,1.4035745454545454,0.42545454545454542,1.56]
[1995,3375000,1.4359090909090908,0.42545454545454542,1.56]
[1996,3577000,1.5218509090909089,0.42545454545454542,1.56]
[1997,3603000,1.5329127272727272,0.42545454545454547,1.5600000000000003]
[1998,3713000,1.5797127272727274,0.42545454545454547,1.5600000000000003]
[1999,3779000,1.6077927272727273,0.42545454545454547,1.5600000000000003]
[2000,3668438,1.5607536218181821,0.42545454545454553,1.5600000000000005]
[2001,2636954,1.1219040654545454,{"$f":"C53*1000000/B53","v":0.42545454545454542},1.56]
[2002,2705143,1.1509153854545453,0.42545454545454536,1.5599999999999998]
[2003,2704495,1.1506396909090908,0.42545454545454536,1.5599999999999998]
[2004,2516864,1.0708112290909091,0.42545454545454542,1.56]
[2005,2481000,{"$f":"C56","v":1.0708112290909091},0.4316046872595361,1.5825505199516325]
[2006,2284000,1.0708112290909091,0.46883153637955738,1.7190489667250439]
[2007,2554000,1.0708112290909091,{"$f":"C59*1000000/B59","v":0.41926829643340213},1.5373170869224746]
[2008,2658000,1.0708112290909091,0.40286351734044734,1.4771662302483071]
[2009,1727000,1.0708112290909091,0.62004124440701158,2.2734845628257094]
[2010,1726000,1.0708112290909091,0.62040048035394502,{"$f":"D62/CO2_C","v":2.2748017612977987}]
[2011,1986000,1.0708112290909091,0.53917987366108211,1.9769928700906345]
[2012,2070000,1.0708112290909091,0.51730011067193671,1.896767072463768]
[2013,1946000,1.0708112290909091,0.55026270765206009,2.0176299280575538]
[2014,1710000,1.0708112290909091,0.62620539712918655,2.2960864561403507]
[2015,1587000,1.0708112290909091,0.6747392747894827,2.4740440075614369]
[2016,818000,1.0708112290909091,1.309060182262725,4.7998873349633255]
[2017,741000,1.0708112290909091,1.4450893779904306,5.2986610526315792]
[2018,891000,1.0708112290909091,1.2018083379247015,4.406630572390573]
[2019,1093000,1.0708112290909091,0.97969920319387838,3.5922304117108879]
[2020,1012000,1.0708112290909091,1.0581138627380524,3.8797508300395256]
[2021,889000,1.0708112290909091,1.2045120687186828,4.4165442519685039]
[2022,{"$f":"B73","v":889000},1.0708112290909091,1.2045120687186828,4.4165442519685039]
[2023,889000,1.0708112290909091,1.2045120687186828,4.4165442519685039]
[2024,889000,1.0708112290909091,1.2045120687186828,4.4165442519685039]
[2025,889000,1.0708112290909091,1.2045120687186828,4.4165442519685039]
[null,"Source: USGS Minerals Yearbook - Aluminum, Table 1 (1994 to 2021), USAA Primary Aluminum Statistics (2002-2004)"]
[]
[]
["Magnesium"]
["Estimated 1990-2000 U.S. SF6 Emission Factors for Different Magnesium Processes"]
[]
["Year","Primary","Secondary","Die Casting","Permanent Mold/Sand ","Wrought","Anodes"]
[1990,1.1999999999999999E-3,1E-3,4.0999999999999995E-3,2E-3,1.1999999999999999E-3,1.1999999999999999E-3]
[1991,1.1999999999999999E-3,1E-3,4.0999999999999995E-3,2E-3,1.1999999999999999E-3,1.1999999999999999E-3]
[1992,1.1999999999999999E-3,1E-3,4.0999999999999995E-3,2E-3,1.1999999999999999E-3,1.1999999999999999E-3]
[1993,1.1999999999999999E-3,1E-3,4.0999999999999995E-3,2E-3,1.1999999999999999E-3,1.1999999999999999E-3]
[1994,1.1000000000000001E-3,1E-3,4.0999999999999995E-3,2E-3,1.1000000000000001E-3,1.1000000000000001E-3]
[1995,1.1000000000000001E-3,1E-3,4.0999999999999995E-3,2E-3,1.1000000000000001E-3,1.1000000000000001E-3]
[1996,1.1000000000000001E-3,1E-3,4.0999999999999995E-3,2E-3,1.1000000000000001E-3,1.1000000000000001E-3]
[1997,1.1000000000000001E-3,1E-3,3.446383566889664E-3,2E-3,1.1000000000000001E-3,1.1000000000000001E-3]
[1998,1E-3,1E-3,2.7927671337793286E-3,2E-3,1E-3,1E-3]
[1999,1E-3,1E-3,2.1391507006689931E-3,2E-3,1E-3,1E-3]
[2000,1E-3,1E-3,7.1000000000000002E-4,2E-3,1E-3,1E-3]
[2001,{"$f":"B95","v":1E-3},1E-3,7.2999999999999996E-4,2E-3,1E-3,1E-3]
[2002,1E-3,1E-3,7.1000000000000002E-4,2E-3,1E-3,1E-3]
[2003,1E-3,1E-3,7.1000000000000002E-4,2E-3,1E-3,1E-3]
[2004,1E-3,1E-3,7.1000000000000002E-4,2E-3,1E-3,1E-3]
[2005,1E-3,1E-3,7.1000000000000002E-4,2E-3,1E-3,1E-3]
[2006,{"$f":"B100","v":1E-3},{"$f":"C100","v":1E-3},7.1000000000000002E-4,2E-3,1E-3,1E-3]
[2007,{"$f":"B101","v":1E-3},{"$f":"C101","v":1E-3},{"$f":"D101","v":7.1000000000000002E-4},{"$f":"E101","v":2E-3},{"$f":"F101","v":1E-3},{"$f":"G101","v":1E-3}]
[2008,1E-3,1E-3,7.1000000000000002E-4,2E-3,1E-3,1E-3]
[2009,1E-3,1E-3,7.1000000000000002E-4,2E-3,1E-3,1E-3]
[2010,1E-3,1E-3,7.1000000000000002E-4,2E-3,1E-3,1E-3]
[2011,1E-3,1E-3,7.1000000000000002E-4,2E-3,1E-3,1E-3]
[2012,1E-3,1E-3,7.1000000000000002E-4,2E-3,1E-3,1E-3]
[2013,1E-3,1E-3,7.1000000000000002E-4,2E-3,1E-3,1E-3]
[2014,1E-3,1E-3,7.1000000000000002E-4,2E-3,1E-3,1E-3]
[2015,1E-3,1E-3,7.1000000000000002E-4,2E-3,1E-3,1E-3]
[2016,1E-3,1E-3,7.1000000000000002E-4,2E-3,1E-3,1E-3]
[2017,1E-3,1E-3,7.1000000000000002E-4,2E-3,1E-3,1E-3]
[2018,1E-3,1E-3,7.1000000000000002E-4,2E-3,1E-3,1E-3]
[2019,1E-3,1E-3,7.1000000000000002E-4,2E-3,1E-3,1E-3]
[2020,1E-3,1E-3,7.1000000000000002E-4,2E-3,1E-3,1E-3]
[2021,{"$f":"B115","v":1E-3},1E-3,7.1000000000000002E-4,2E-3,1E-3,1E-3]
[2022,{"$f":"B116","v":1E-3},1E-3,7.1000000000000002E-4,2E-3,1E-3,1E-3]
[2023,1E-3,1E-3,7.1000000000000002E-4,2E-3,1E-3,1E-3]
[2024,1E-3,1E-3,7.1000000000000002E-4,2E-3,1E-3,1E-3]
[2025,1E-3,1E-3,7.1000000000000002E-4,2E-3,1E-3,1E-3]
[]
[]
[]
[]
["Primary production and die casting emission factors were estimated based on Partner reports and other studies (e.g., Gjestland and Magers, 1996).  Emission factors for secondary production, wrought, anodes, and permanent mold/sand were estimated based on analagy with primary production and die casting, respectively."]
[]
[]
[null,null,"Emissions Factor\n(MT CO2/MT NH3)"]
["Ammonia","KS",3.57]
[null,"All other states",1.2]
["Urea",null,{"$f":"0.73","v":0.73}]

{"sheet":"ODS subs method","index":24,"n_rows":63,"n_cols":38,"rows_kept":63,"cut":false,"hidden":false,"merged":[]}
[]
["Regional Production-based ODS Subs Estimates (MT CO₂eq)"]
["State","Region",1990,1991,1992,1993,1994,1995,1996,1997,1998,1999,2000,2001,2002,2003,2004,2005,2006,2007,2008,2009,2010,2011,2012,2013,2014,2015,2016,2017,2018,2019,2020,2021,2022,2023,2024,2025]
["AL","CS",4039.8249687098919,8490.0928765400968,32121.349987672078,114537.05020341935,282149.43607801222,610958.16543314944,842965.77870416956,1061749.9926908249,1211763.4796431269,1365242.678742033,1494223.0139203423,1614121.3773802135,1690160.9301564004,1760989.4005954938,1819863.9452404084,1890254.3967796855,2007909.0912650938,2125589.676139317,2258091.5959961228,2753653.4040637305,2868169.5491099567,3149077.0850117817,2631422.6387381675,2625530.7965992624,2681646.5272086388,2794084.4274045536,2829873.6368313604,2931474.7381634377,2964108.449543207,2863155.6970611867,3400182.0393639128,3540490.2152349297]
["AK","W",551.80489236529934,1180.7567860227114,3684.0969881913643,12517.219965523298,30400.463419642845,65842.005411044433,91543.416213631324,115577.59480935411,132977.78012100389,150571.2794859127,164880.6128486275,179320.0443873608,190725.079559148,200681.0564984291,210664.60101126853,221176.33069415938,236088.40001013843,251801.9484208459,270008.28513794864,292995.83050736127,313823.10253608512,322300.23715992813,329337.06991127925,335075.89042361948,341988.57022548828,350356.04599157372,353870.30901407503,351768.41070021194,351774.9550269164,358042.82933517447,363009.79944166914,376666.39217799529]
["AZ","M",3675.5185913317587,7848.4112225639619,19422.824548546894,61931.166953960288,149544.57552837662,333682.32196126715,477737.32004001777,614899.03654506151,720108.0163035834,829849.92891854758,920858.93386306812,1010699.9411498976,1090111.949761946,1167905.6235412646,1238000.3966623531,1334340.2377263533,1454468.500441608,1585039.6732559407,1726483.9592951487,1868012.1467732128,1853467.5538614527,1709777.208641401,2287238.5543205603,1744503.0786576471,1808500.2756239281,1660772.7786274846,1532982.086288919,1426472.1448418566,1821313.8960939376,1656627.0729997656,2101672.2435058542,2167312.1005110387]
["AR","CS",2350.6335009554605,4935.9219064044582,18681.850284716409,66759.424447572659,165175.64065637032,360506.12587996689,500611.59171430313,632268.40337325959,722510.13115043868,817227.36365475692,898978.50654295355,972443.64463083528,1020839.5626192512,1065478.3354897369,1104470.0338802689,1150373.1192295498,1223992.8323916825,1295798.921198728,1375736.0805435451,1676545.9297679355,1751282.2418156532,1929634.6210715049,1613215.3662116192,1608742.1969865493,1643599.2008792774,1714924.9473230997,1739626.9918075148,1805195.7578432295,1825235.2532703867,1762349.6527555489,2038316.1578269319,2125674.3920273129]
["CA","W",29871.630032498029,63080.100987814301,146591.97784957982,445439.81002237101,1055589.3524911201,2319193.6802383321,3273525.5687396703,4157829.498492294,4810155.4882772919,5478509.0859310003,6030110.8040510518,6572062.8069710154,7005128.8644103613,7419037.1838914286,7763841.4691217933,8175657.1276402213,8719082.3668168802,9350073.8007030096,10054003.941978464,6884436.4235876901,9802512.0488855038,9651839.9078999311,7989983.6632124018,8831691.3810187243,9272642.2824885678,9555156.2789260242,9196955.2631546892,10628284.984279072,9258981.4303220268,10163122.947979955,10913165.649543298,11173962.611427536]
["CO","M",3299.9162215391088,7016.7532000835199,17340.530737337634,55050.071746527501,131193.74476162059,288073.71606401919,408271.50952746469,521606.44085289707,607048.35830215621,698066.1414441755,772099.11025021598,848214.86667105311,907118.9630369097,959851.57610482327,1002028.1474458341,1058474.5731289114,1138753.690162508,1234551.7488801165,1344196.4667457491,1464274.8159866582,1460114.0009929673,1352810.9247019491,1811854.1964900752,1385879.5919490859,1437758.5155423004,1325720.9651820695,1223743.5094914353,1136917.4990933265,1448349.7132839796,1308265.1130983115,1693611.4909514822,1731173.7797953095]
["CT","NE",3282.5182554339544,6838.2255475286947,18266.896076149445,58922.835883392036,141863.66211605541,309978.54151942994,433756.0277230725,549247.4418991016,631879.44061746506,717316.80423428712,789699.44124319637,859412.85660072253,912999.2954470726,963525.27919036918,1004134.5670491653,1053208.8296917726,1121332.5817877969,1198507.2803784378,1285062.7254057631,1332094.2643883885,1225713.612704603,1288599.4359217354,1397249.2115536795,1637505.1136590766,1843018.2815003009,1769761.6829704689,1781136.3758467115,1526414.4101774823,1706627.4568869062,1629184.3849973676,1774219.080979554,1858043.7821920193]
["DE","NE",667.64518014188673,1414.2305786305346,3845.8740888990478,12577.695336643936,30696.576341172407,68048.159471172039,96324.118145452478,123233.63005887419,143323.99487593953,164160.52030268425,182016.09270146786,199203.85063201067,212802.87439512694,226202.80275884975,238620.01728447454,253815.4007104742,273926.41419877886,296205.71239588206,320352.05853692535,333501.6238620053,308090.60487684101,325895.76252126368,355808.54744358594,420813.06436468899,478287.65661696659,464595.84771377,472664.89318046981,408974.53571039659,461674.35704630165,446203.71240744129,488804.43838958442,517065.94007898163]
["DC","NE",603.5835817605514,1244.0251914588766,3307.061553308572,10599.869491404703,25207.645439235293,54133.579347716259,74406.776150595295,93100.969404800067,106127.74420631476,120784.09110227806,132407.36618055796,143827.5139261111,151295.41061807412,157208.15910701011,163068.10314037086,170322.25178647044,181927.64071439099,195172.86056312569,210301.23868020944,221489.68824257085,207283.18718460028,222732.60231416684,247073.96089005665,296716.6049511747,340137.79822338861,333881.30675069161,342101.89443609846,297604.19772644644,336185.78725738457,323574.76432493684,340079.92985240597,345291.56648892321]
["FL","SE",13005.894341128122,27704.371723163131,94888.271963267383,333540.45917793078,822404.30366353702,1798492.1509637267,2516023.1710498426,3204936.6927483408,3698275.1029052925,4216722.049397896,4659982.2695930274,5099084.4603262749,5437191.3808918428,5756607.5635152915,6047121.7881910084,6398018.348003448,6831859.3869737489,7308036.3235993842,7831847.593153473,9562604.2964694854,9933622.5311097559,9127749.6502010897,11197619.985299664,10390289.376279386,11163279.441624627,11902212.100681148,13718243.932036147,13748815.279344423,15112914.568086501,17624850.252183709,15051514.153644189,15820782.941402087]
["GA","SE",6498.9041919920764,13786.096364063464,47388.015144353667,167121.0207844445,413364.68601091712,906603.83718532033,1270612.4009411787,1621872.9568763787,1877855.4622495209,2152845.4645753643,2389098.0071724197,2611439.327401103,2771885.1094811428,2919182.972940133,3044947.8347359253,3200767.3522972893,3443125.525440719,3720091.4472815236,4017879.6523753251,4932295.0298773348,5119212.8887723573,4695997.3672421426,5745333.8207788263,5301298.823543312,5662755.3186383564,5994547.7969880942,6855679.309606351,6827536.2219326301,7479613.3030747231,8715651.0748535916,7484470.9992204327,7844294.8201464163]
["HI","W",1110.5022346413805,2353.9924193009406,7250.181174209426,24490.970168300013,59839.49280882896,130380.05126342656,181073.70731049366,228459.62101578843,260672.11673181562,291681.40984540159,318626.66498416872,346902.62449085264,368070.48021140631,387226.22670429014,406949.19237678353,428701.95908203966,457887.42848929612,486975.64087696088,523246.6817005942,564580.46755718975,599533.27556105109,615537.86296765797,628741.73944410577,639975.11760483554,656688.11591777136,675157.16193811665,680927.82075288903,676855.45355988771,679602.67660124379,690906.11659073504,719590.95806645579,741100.82894192322]
["ID","M",1010.026666932714,2157.1894507686829,5315.7640002424769,16890.495523537094,40340.608929651462,88629.808750342214,125303.06657721809,159471.68230803506,184671.25015152874,210719.60103356335,231871.28834393746,252980.24732450731,270772.14370453567,288964.42576637212,304835.15121627122,326380.25418581133,354301.35040382628,386798.72344498389,421787.60848908586,457770.83977749979,454394.66934792814,418442.46652597788,556747.30935803964,423867.7950980824,438434.07678811188,401653.01139912056,371732.70473518351,348061.53650905867,445418.08596612088,406454.888184093,541016.81512436748,566205.95092897897]
["IL","CN",11421.177969794337,23953.780139995237,81025.732541931691,280819.99436337169,691144.14234346803,1508448.963473435,2097086.1519210872,2654977.2901920034,3049012.049311786,3459627.5164316278,3807908.4435216347,4135509.8472914752,4356356.4178010318,4550816.8787423968,4716933.0701805539,4899637.8496493837,5175635.4958966989,5495195.5818771925,5852086.8627235694,6214569.3099232726,6855214.7186857937,6991513.8256279267,7244950.8254808122,7159043.987920735,6456706.9521844769,6952009.7257422972,6476711.4795989953,6941521.5926211411,5936648.1595824612,6006043.0674634986,5590591.9669502266,5674662.9832117194]
["IN","CN",5542.2028064332662,11628.847953274599,39317.350190369922,136468.14024710644,336128.68730125192,735035.48075051757,1023419.3642062481,1297510.9496676936,1490456.7668074325,1692152.0548050075,1865607.8185092155,2029188.7278070888,2141029.6156291473,2245918.3917128211,2335282.5221683411,2439586.1409095861,2592194.1718524508,2761303.8952166121,2949588.9780941713,3136877.3380158767,3465129.2580213435,3541048.4836489395,3677291.5556861646,3647630.6781128133,3305258.6457311199,3574206.2504490698,3353043.6681262385,3618566.2018852863,3125148.0803373982,3191496.1468455824,2967152.1223867051,3047923.7366870586]
["IA","CN",2773.2144572979128,5792.5157964699756,19527.912817338329,67460.36086883735,165394.53017200486,360187.24416355888,499058.80141374446,629906.02424581675,721235.49988928344,816725.50649456657,897014.19829939341,970921.71729379147,1020519.0984919143,1066302.3501616085,1106620.3186302674,1151852.7162298167,1220905.8129377489,1298159.3009498569,1384964.0528043867,1472869.2506025343,1628748.5704731592,1666283.8375537267,1730306.0854458753,1717586.6985898444,1558740.1536491921,1688074.3352937968,1582698.310731773,1707549.3075299799,1469572.5699982985,1498116.695650239,1394306.2723211963,1429956.3218574494]
["KS","CN",2474.3863291793587,5173.6557758299841,17546.250250106594,60792.134429999132,149716.15683675456,326727.47611842817,453061.17551094154,574167.40938259778,661041.10981621908,749740.01523619599,824928.24598730868,894812.56953742646,943760.54940616793,986929.48729739885,1024470.7692433223,1066698.997526357,1130969.2067326526,1204915.2876137793,1289170.4464307199,1375661.5409360775,1525949.8061117474,1559195.2724557503,1622995.8002234909,1606763.3894211671,1454119.6984059562,1573560.3359582317,1471450.6136200598,1581078.9395332292,1358930.3038564411,1381020.5867570515,1283769.4658123355,1314193.6303201637]
["KY","CS",3684.7172065596237,7709.6139880857763,29116.884925455142,103611.27207660583,254920.10138765868,552749.78313519177,762862.1707439,960826.82053617586,1096408.1453281213,1238248.9498748372,1358918.5240660592,1469784.415465663,1542948.5740625707,1609927.2165637165,1665369.9047604038,1730149.6357273574,1830175.6577355245,1936282.4444901382,2053097.6094830646,2498503.6618163213,2606226.2131509548,2867722.1462517288,2397178.6295334268,2394755.5566056506,2445386.9517499274,2549094.5736856102,2581869.5906948987,2677629.9677210506,2705150.3753694259,2609028.3989337962,3047736.8162790472,3167828.3683588118]
["LA","CS",4210.86883506713,8809.3094626888014,33196.097042794325,117315.43256242701,287928.02276822971,622614.68643576629,856156.88010323024,1074666.1985436184,1221569.1136021446,1374694.2950578609,1500838.6876712043,1617821.3709396119,1696641.5122292626,1767852.3264833996,1828503.4938865921,1893076.6628827751,1866363.2817175367,1990371.9795052579,2122832.1675480171,2599538.2464117957,2723800.1432697359,3002504.1692323419,2514201.4770465838,2513835.1022417997,2572138.7233300745,2685997.0290304674,2722025.2119834088,2808689.0589414067,2826448.7114457204,2717500.0710650273,3147374.5143910218,3248371.5690455209]
["ME","NE",1228.1836674136939,2561.2194449300819,6854.1868922461881,22120.303962047848,53161.082509492771,115955.30061531051,162372.92522002556,205765.84148959833,236414.04061933106,268338.76618227694,295594.65487554757,321873.97134691774,342092.05898652598,361290.73174654989,377312.37521579344,396058.03804858803,421957.06861581415,450905.97015635384,482230.83499673719,497258.61423377448,454663.66214231018,477025.66282562696,516152.81950605195,605011.62364674336,682331.48333799711,655467.94754573877,662906.75481422688,570269.25769348477,639824.22104578768,614832.85010521731,671335.72842984286,707149.19220912666]
["MD","NE",4785.9934947355869,10077.833852543938,27247.045970881354,88528.953463459053,214886.51548863063,472783.8008207166,664538.22915137582,845731.53074407589,977191.6284043201,1113024.5956401206,1229306.7753911284,1345557.9850637137,1436088.9801364604,1519886.1770880795,1593169.1695574725,1679502.9483640075,1793950.7391064717,1920933.369702264,2060463.6412660314,2143130.4356244034,1982410.838986157,2097103.0906058333,2288468.5561104468,2698304.1251933975,3054903.3778184894,2953347.4258333012,2988776.3233506773,2573615.6996205538,2884747.0244630291,2766285.9367321203,3041914.9901845395,3177027.1621763883]
["MA","NE",6005.3525637980256,12460.479461513316,33364.256189678723,107913.87960654042,260754.42052323412,572693.65103370836,803344.1619025541,1020988.6908184626,1177602.0716654193,1338157.4499433034,1472358.9128157732,1601652.5441583728,1693937.4776078654,1776035.3004828738,1841710.4934056657,1923035.6945102911,2043473.4271879846,2185336.0490360721,2344618.005572557,2437547.8218789496,2248724.7459142134,2375021.3406845252,2590013.3833123082,3058048.2864494538,3467413.4177221409,3352298.2398250522,3396897.8292518733,2930262.2333298363,3287497.0695521231,3150018.6257919343,3460571.3795215455,3599382.0553111131]
["MI","CN",9285.1914181471475,19463.818601380175,65677.792091999392,226854.38318384788,556841.33270009584,1215484.6174652248,1691020.0267785522,2137158.7669115155,2446778.6975280587,2770473.2937494824,3047895.100339049,3308528.4153047712,3483438.3828816833,3639329.5769067002,3767363.2284380803,3905417.1374047333,4108136.8182103182,4328890.3372089025,4566555.6533109555,4808563.807859486,5273378.0645328239,5369806.2586937891,5566440.7074918225,5504166.0650117034,4976931.986238488,5370672.726703194,5028186.4799124282,5418968.6433388898,4659526.1926816804,4734272.3855027771,4402277.8980265129,4501053.9135562861]
["MN","CN",4377.5390514805886,9194.8907541521512,31148.561925739919,108336.03607713539,267483.49349649297,585392.06148140959,816658.95621192129,1037829.3168950435,1195920.3195983411,1364220.5424383751,1510922.0014551156,1650037.4486210709,1745572.7871701838,1831623.9061641081,1906182.2402427359,1989244.1786260593,2113632.8421775368,2253851.6805027449,2408873.7404151536,2564739.5057783071,2835361.9668611274,2905004.5101303612,3024112.036387024,3005963.1129166572,2732325.0787369595,2964701.8344674571,2791060.2666865312,3025009.5364583931,2616744.273420996,2674220.8698998918,2495566.6319307517,2555940.0227197604]
["MS","CS",2572.3829657451647,5382.4456867046965,20288.299001533174,72162.492921577723,178088.44933412882,387132.45851332461,534861.93859443802,675029.27051395969,771629.08621069859,871634.40497613861,955954.45288605103,1030764.5176255449,1078467.6237414991,1121589.2359062918,1160432.4903208718,1202014.4256792469,1260089.7986241656,1332052.9973469172,1410793.8388503906,1712388.4541907145,1780420.5535976435,1954638.1898028217,1630546.277181918,1624707.5745673454,1656406.3638433113,1720967.4360509266,1738917.6080621947,1797274.5082209497,1807491.6669593414,1737405.951792941,2000853.8178977303,2072336.7292069846]
["MO","CN",5114.4883512965844,10706.24874862497,36147.834707427595,125343.2771641009,308916.57121232449,675592.59481097432,941202.8923594543,1194221.5075733657,1371914.7589167382,1556941.2741270633,1717206.9668980648,1868046.6856337616,1973689.6556646065,2069324.2373364975,2153470.8847993244,2249848.6341112079,2391633.4892379502,2548355.4607623564,2719633.4551978232,2894915.777905337,3201147.4253896521,3266084.1468468755,3388820.2291572639,3354743.2399597098,3036224.094883414,3284422.9700944251,3076979.5726486729,3319455.8134216131,2858052.950821803,2911495.0508618518,2691164.0754125393,2762298.707626381]
["MT","M",798.34072741788248,1677.3324855263791,4095.9782384564778,12868.72627002107,30341.799705505331,65987.660767010791,92304.806872282148,115511.56560498779,131599.77677128153,148252.8584613548,161269.9490395523,173825.62383893051,184168.29651371628,194912.90386211383,203692.36008246371,214831.2012612645,229827.18510360198,247920.94192745141,268418.4184152399,289775.45369483373,286590.89988284634,263467.31642297568,350312.8823952754,266659.29429186328,274693.35399148904,250713.66206441532,230040.45383507834,213292.56778679951,269938.90737741359,243120.25550189827,318030.9461721371,328916.43251109839]
["NE","CN",1577.2218585172106,3304.3834216478717,11166.928774449616,38654.906719126353,95093.851268283091,208144.31260985706,290032.87440216698,367430.34707204439,421335.38801581512,477210.04120246175,524850.01993107924,569518.35986997432,601095.54785705172,630156.27027474495,655425.73364760086,684438.04629138228,725628.39824466361,771932.50216590648,824706.10774719878,880303.16228191566,976768.44342471927,1000232.5717485294,1042448.9567349697,1035799.2623814052,942043.60498892574,1022864.4679963035,963033.89288903121,1041235.8702855764,898339.50868362933,916325.02403138822,857683.56934375199,879400.0366357672]
["NV","M",1217.8526154022875,2685.1468791339944,6703.0405853545362,21497.843228022812,52816.768506041684,119062.54674910408,173549.95947823228,228994.75193430623,273275.49347181787,319582.43647864071,360225.69626892457,402173.31863000512,439133.35181250138,476637.21697890962,513874.0554740848,555790.9698406934,608565.39901571802,668452.58582523547,729488.145572562,790614.07464124449,781753.89348066004,716595.45464804163,957502.38896662719,730163.47279176966,757187.12122832797,697220.93830343266,644460.14026608039,601526.76616240432,770481.00056828198,702189.40740256722,911781.7428184615,936464.24072261248]
["NH","NE",1109.1911878377409,2297.9673419055021,6186.0726302636022,20111.015093243539,48878.718776341477,107943.29923726917,152708.88535502154,195049.49577674185,226427.63449951919,258850.37749798622,286986.55351961654,314319.63711648522,334998.97299851186,353914.83293201402,370543.5528266792,389963.04478417448,417101.89038475318,445979.11296496016,476938.11102158373,492214.18385389412,450950.05611763109,474142.62414375157,514824.83053520188,604432.81680823304,683889.67235552589,659601.67759147531,668551.93162998534,576524.64152385108,646957.60632956016,621691.73801223678,679007.68619197409,715778.26060828683]
["NJ","NE",7740.6814113745195,16179.296365418622,43612.5359205118,141537.57779387102,342852.02454273403,753767.45589499129,1059415.6740920525,1347772.5424350859,1556047.9408998261,1770751.8448472323,1951375.1024856421,2126146.6526297117,2257624.6594391023,2378550.2498836513,2479985.1409586263,2598360.3475674191,2761260.3627865398,2948600.008161224,3157255.0087460717,3274542.165105381,3013435.470994873,3170140.3563267859,3437797.344971756,4033805.9552323255,4545030.8015739759,4374549.6575349122,4415031.7882501017,3794619.917125205,4245240.3406250468,4062088.9878365654,4573085.5819264287,4775556.8010693155]
["NM","M",1518.0310195651819,3221.9686807153507,7913.6995927673315,24929.022185866517,59266.954068522413,129512.73415024622,182507.62536166693,230388.24044859724,264470.97203354095,298664.32777964225,324977.04210086906,351056.61316145974,374795.94856078638,397946.3485923736,416975.69019641221,441561.38864283718,473345.4500485218,511430.45539424772,552734.96823340771,599823.19151828485,597235.96153414459,549562.3031890156,728317.83055211103,550282.47161756165,561453.09470697818,508009.5922759049,461908.84871649538,423573.55207531614,532281.1132200521,477013.90825210983,620010.9175459129,630231.81308961776]
["NY","NE",17969.059974547778,37520.360431483357,100981.15621373829,327182.57538718201,789696.15853024111,1727384.4757851157,2416427.2537231483,3059419.3751061154,3521614.2001055935,3999790.914376318,4398205.1138237175,4777403.0262534665,5051768.1151210982,5302732.5661797505,5506383.1605211617,5745904.3646538788,6090373.5091040628,6500847.0539933722,6963371.953591723,7220725.8508863812,6643654.876439427,7001996.0812695194,7607414.939252886,8937801.3141940627,10073605.375315202,9694351.9967058487,9770042.2367679402,8365209.2689897902,9331074.2960851584,8891989.1992697176,9932412.29924074,10221884.146717405]
["NC","SE",6649.9997263616387,14058.119277046759,47944.190819291733,168667.59144985842,415110.80399927811,908615.4985090571,1270544.8139948417,1615905.9763621753,1864860.8622402749,2126997.2930682995,2346791.8833348826,2559405.3021558453,2712573.8306942112,2851375.593589135,2969911.4203317733,3121692.3600789122,3353419.2926665009,3627804.8121234472,3935282.8565317513,4844485.341132977,5046673.1158544226,4626677.0592546733,5657287.9511054754,5232811.170290838,5587462.0466558253,5908523.7494751709,6758155.6669491334,6734942.9941039812,7388579.2733600764,8611801.515903268,7297025.6754941298,7663865.8834184324]
["ND","CN",635.89565446970119,1316.339785078628,4422.0687907860247,15247.476095947513,37410.22687851861,81377.910289650725,112700.99353509513,141557.65378349871,160883.1067006425,180345.70411802264,196616.78842947993,211623.40019352167,221953.2021121656,231533.75253465015,241547.6700819589,251040.95714630958,265832.29337784153,282563.20365638967,301885.88958739076,322932.04780774174,360231.58221576083,372470.10668639728,394907.13583932142,401453.52229395497,370179.88439888135,408450.23942515702,381940.67761836702,411038.74444207118,354603.72287947143,362118.34527856833,340615.97566252993,347044.9029638124]
["OH","CN",10833.677137230543,22663.427460982195,76419.844795984929,263974.02246320545,647042.87565251195,1407242.1026983771,1948205.4746951687,2457067.7000395805,2810417.1735700462,3173103.4151287852,3480036.2757102121,3770903.5333931744,3967634.6869322038,4144441.0137460139,4290744.6758498605,4454127.5658220984,4699682.4600175042,4977787.3319645962,5286645.288907527,5598840.8378184857,6160595.2574695274,6273199.1889773272,6495849.4529163111,6428423.6588574853,5816042.3363788668,6283130.2033184273,5879817.5988256382,6336340.2253970364,5449670.9344146037,5545877.5164577682,5155658.8057426969,5275444.1029295623]
["OK","CS",3140.8713849806791,6576.9101063439593,24902.986291872807,88393.278329047302,217292.39691241796,470391.14935562928,650091.92659451999,819882.75926650921,936792.2431738039,1059230.3444766526,1159342.1193383415,1252636.2337458567,1316292.3098603832,1370509.6029351323,1415985.0291800017,1467841.862322178,1559005.3158189596,1653199.0639284139,1755939.4124613192,2151542.2842105143,2253542.1814724864,2485872.6624908024,2086571.0962733836,2094241.8301644071,2147641.0356183448,2250620.1481059482,2284066.2241748725,2363936.2231011954,2389577.8872539452,2310536.4552545724,2681025.8323765211,2800595.405636678]
["OR","W",2851.9842111665212,6062.5551448288315,14158.905920203018,43587.927527082815,104647.67891543372,232995.73627045524,331976.51366804424,422913.05057663482,488843.21057848772,555050.10225358617,608495.15302250336,661016.76466662087,705783.97233871766,746546.2726118823,779004.22093283362,824504.5127180171,888552.55957166129,960126.2087652568,1035150.7595486145,709393.74236922897,1008004.0481187928,993147.55263358937,821244.43282678491,905963.78545426903,952923.30786586087,986980.89340642327,961594.20190673822,1120516.1283379504,982195.54982648231,1086498.5294734,1171872.8939879674,1209199.6411913768]
["PA","NE",11869.133641797969,24807.552156359376,66684.415642673135,215802.58167186915,520463.6400442071,1137508.8355998532,1588612.6264759214,2005194.9094325283,2299250.828247671,2597753.0157687971,2843329.0201073396,3079056.5060501276,3254998.44456363,3421970.7296699677,3564559.4661463764,3738980.3001732198,3988326.1661039516,4269015.404183981,4571207.5053733736,4737328.2408682378,4353112.6801680066,4577188.192287486,4962614.7238595886,5819735.6313158507,6556896.2902375245,6307532.5245410772,6362873.5292322906,5462437.0824001487,6115540.8186913785,5847339.2281394368,6401326.7180062067,6680664.434430453]
["PR","N/A",3518.1244477102118,7352.5190570938521,22369.630460292592,75179.747186194916,182765.58581236904,398180.88179324224,554273.37888653495,700615.16106971668,803992.4807245644,911493.68129960878,1000528.5147756222,1080586.3894206209,1135347.4538060143,1184158.2489942492,1222819.4243299589,1267261.2556550223,1330318.7091940776,1400213.893673847,1477136.6551899631,1568081.8068351317,1635756.2538910008,1641389.6828926413,1637869.8000132802,1632200.4310255155,1640113.292659841,1647912.2331587363,1623432.0753453819,1578619.0341841087,1524982.1374072433,1558647.8677865744,1626384.1746164067,1677804.9837373979]
["RI","NE",1003.1075500985525,2092.4206828810256,5603.8551366140046,18074.981764113971,43462.770557355318,94836.08311864447,132712.10570080506,168143.92302429292,193609.95360660704,220380.82251893994,243097.96705810769,264656.3047896566,281388.6419483177,296258.77058308054,308636.41507497372,320716.47336582473,338904.82972607494,359257.93181506608,382376.20159958536,394057.22805749107,360947.8484300634,378406.9960246596,409975.49588146433,480696.57471121103,541527.5779928522,521221.83406327118,526313.97484033171,451074.99368746998,505767.09053885547,483433.49829587259,540224.98622964299,564592.03516294179]
["SC","SE",3493.7911001338666,7398.4513167565083,25166.714686593197,87732.261305708395,214006.56090097045,463740.0792236767,643041.51800935355,814555.09735970001,935934.78208651952,1063499.0478866533,1168580.17137784,1267212.5647142637,1338269.06398927,1405052.4389306938,1462158.321051104,1531243.1264145342,1638807.4157549152,1768183.6171103418,1914493.5770206035,2353078.185990415,2443510.2862349618,2238229.6739096465,2737634.817335594,2533030.2704998031,2714006.7673946531,2882090.209515518,3300687.8187445709,3294865.9744172744,3620358.7503506332,4229643.0548751773,3580226.4078538907,3770283.0228925948]
["SD","CN",695.14493304136545,1456.9612730517881,4938.798909066375,17172.219797967235,42398.96108050293,92695.011130185754,128613.86464364572,162148.47990770859,185362.4667489297,210060.83037817653,231473.98120268562,251000.07806986492,264333.01680637087,276807.03752332169,288639.5465219919,301321.49747211771,320524.1864004166,342640.9204470471,366872.92075909005,391940.36258594511,435743.05194119975,447566.57760880399,468932.22474191472,467850.13512672036,425768.80289737816,462038.66518492548,436282.74264759041,474575.92517903366,410273.83219801373,420629.65324114519,387900.93919119879,400976.16489896929]
["TN","CS",4882.1290058408613,10286.699239896372,39047.66092012381,139633.48613385975,346471.34733299172,757432.28587316116,1054245.474813913,1336743.9299245856,1532357.6131430489,1737687.8262066094,1914262.5847501257,2077715.2877122385,2186571.3288263306,2286656.0516441874,2374202.5149379964,2478141.1538583622,2641118.770197113,2809225.5574457571,2989955.5627358644,3649604.2372642439,3809142.1729035201,4199278.1480466118,3526906.7603419153,3530501.9780771779,3623307.6754498882,3795823.6213952103,3867465.4011656842,4035292.8502162406,4107274.8398947702,3984601.3442494897,4682703.846113163,4900058.2907341905]
["TX","CS",17013.671353640206,36034.412526995548,137329.04125680833,493611.23776672874,1229473.7265572476,2695727.9207465751,3764225.9301293194,4798441.6962396577,5545475.1424839515,6335455.0888940189,7029320.832957658,7702613.4253310589,8182904.3747556405,8614702.677600706,8995037.0120535679,9421944.0766375121,10132664.845704544,10840734.334307982,11634090.726992842,14354002.428031867,15128581.869611075,16826185.990533877,14250277.762462031,14389297.02504446,14927623.449540514,15808961.704682812,16230969.89133434,17001764.902047869,17345209.410218902,16910003.306999743,19770991.810617685,20743241.588343181]
["UT","M",1727.1918525058215,3686.9909236860726,9110.8767967092772,28919.471218383751,69061.936019787521,151628.97006879849,215383.09028395312,275164.84925736312,319397.07663172262,363977.66821667465,400510.66269867879,437690.46799732657,469642.11522357981,500224.17296349374,525998.67111699271,561635.57266406599,609252.69107900839,667597.83313078713,732071.9492981137,802027.43127113918,802850.53366361209,743452.26037569507,995694.05919820769,762193.62514746969,789256.70948690549,725195.76022239868,671983.22410906886,628129.69423799694,802113.50102236797,727773.62362124457,960857.84713947133,994244.01148923952]
["VT","NE",563.17689260936902,1177.226668022477,3169.7351948642208,10287.322545939089,24976.505089889455,54924.810992552448,77178.812928165484,97939.05946840324,112734.27748947985,128085.62161858605,141103.88632428049,153270.49430184212,162457.03645697827,170856.5999232,178051.01945345828,186563.25404053391,198572.00779396622,211848.40334809327,226217.82933753062,233677.77703630764,214339.17561437603,225212.75528162386,243430.05553720621,285351.77138558571,320706.56610019354,308629.15770966379,310651.90091202868,266887.83815482742,298303.55344834039,285103.68099806091,316623.49064621952,332676.48172263888]
["VA","NE",6199.0400334861415,13045.871294704228,35498.243824216697,115909.81442553063,282054.49782447249,622046.36353415216,877588.57292769523,1119892.9740984906,1295718.3098787274,1482796.1729174855,1644732.2654664724,1802115.4087703286,1923501.7964623321,2037194.0509508927,2147105.6745237866,2275555.7496306421,2446310.0834635114,2633660.0062408815,2839179.0788514777,2964252.4756685891,2747878.0520517407,2909408.3059481704,3181987.4940943518,3759676.4788281797,4262174.9019831335,4126481.9628825746,4188183.3481708472,3616531.8889062833,4063427.580440762,3909215.2360284501,4253897.544248214,4453554.7011215473]
["WA","W",4888.6601311613094,10403.978080699568,24424.016284765687,75185.029286657751,180214.84964000536,401038.92525748251,569437.62714983593,726301.2747050391,841298.76747167262,955501.5086069915,1048636.7655442804,1140926.8941834336,1215808.5443716063,1284612.7111544649,1348435.4746485814,1427868.1927976939,1542067.3675921676,1666642.6756907864,1802428.3937221232,1241881.6053431439,1771147.4808309157,1750908.432087,1452637.9112788402,1608306.6051533658,1695971.6737825151,1760333.8042902735,1714912.1501472334,2006884.222821919,1767112.5705240688,1962143.8023467988,2132580.7102368646,2203787.5653834064]
["WV","NE",1787.4029520167196,3724.0528779249794,9997.3135140709783,32362.91589555236,77877.613528870555,170061.1845241916,236957.92601993849,298309.74917368998,340899.25787853252,383780.26364712178,418258.13176380564,451002.14030733379,476571.64772300073,501154.89604053966,521710.28144599416,546730.05557618488,582720.85034112539,623180.15762689977,667003.55123704195,691056.66853376816,635006.4252445189,666666.69759644021,721881.12436336465,844651.77202997776,948531.67499311827,909071.44746691466,911723.91841921746,776451.01220052049,862228.66965965286,820189.68098444934,882017.89945699566,918798.15848895465]
["WI","CN",4890.7997881042011,10278.775243965174,34819.578199279094,120913.58212840362,297845.63790122222,651297.12467823678,906274.49464259169,1147382.4818907955,1316237.5444626773,1492758.9751889214,1645764.1305735726,1790456.6489406971,1893813.450250536,1985890.2181518539,2065906.3185043447,2154989.2060262896,2283139.1919589802,2428531.1447763392,2589746.6206875825,2753195.6922479123,3038022.1287212367,3100181.2236669548,3217185.6328338063,3185436.3739215294,2882922.3711092463,3115491.2505141399,2917248.3820710424,3146603.4175503957,2710313.2965395544,2761714.4854174918,2576530.4951509396,2640364.0240939585]
["WY","M",452.63358421379928,951.40267426989067,2312.6947572066929,7206.7127773983839,16919.248894073902,36523.260427747053,50843.393266965642,63534.638733883097,72372.496744562814,81233.673647252959,88203.27207191482,94804.585435640416,101009.7756284903,106705.39911496232,111505.37540189695,117494.66116111653,126088.05926421587,137458.41918096025,150108.30276748395,164871.99717729224,163303.26860170095,149887.35127004312,201171.5425213011,153192.14367024205,156640.88899828857,142526.85042999766,129186.05262436964,117385.77684833217,147209.03589176381,131796.01797245664,169020.39527409134,172401.35608625168]
["US",null,{"$f":"SUM(C4:C55)","v":252470.91595161072},{"$f":"SUM(D4:D55)","v":531225.94931695552},1627542.8831009408,5502748.0770788658,13441576.833258105,29405386.881591741,41077653.744605467,52109295.261281073,59975750.652892694,68159968.940109581,75086280.77808775,81717349.439660639,86538084.363154694,90971187.050061911,94784204.433499828,99268114.437227905,105645182.30984372,112896031.69135596,120914612.97066903,130175066.9982703,137597172.24880862,140664811.63186184,143085783.09304821,145206407.64208773,149365223.26661357,153825973.43483672,155581620.5082573,155924527.44238088,157606636.75944418,161803610.50780419,{"$f":"SUM(AG4:AG55)","v":165923768.62673846},172304018.19971994]
["Total Pop US",null,"Census 1990",null,null," "]
[null,null,{"$f":"'state population'!D59","v":249622814},{"$f":"'state population'!E59","v":252980941},{"$f":"'state population'!F59","v":256514224},{"$f":"'state population'!G59","v":259918588},{"$f":"'state population'!H59","v":263125821},{"$f":"'state population'!I59","v":266278393},{"$f":"'state population'!J59","v":269394284},{"$f":"'state population'!K59","v":272646925},{"$f":"'state population'!L59","v":275854104},{"$f":"'state population'!M59","v":279040168},{"$f":"'state population'!N59","v":282162411},{"$f":"'state population'!O59","v":284968955},{"$f":"'state population'!P59","v":287625193},{"$f":"'state population'!Q59","v":290107933},{"$f":"'state population'!R59","v":292805298},{"$f":"'state population'!S59","v":295516599},{"$f":"'state population'!T59","v":298379912},{"$f":"'state population'!U59","v":301231207},{"$f":"'state population'!V59","v":304093966},{"$f":"'state population'!W59","v":306771529},{"$f":"'state population'!X59","v":309327143},{"$f":"'state population'!Y59","v":311583481},{"$f":"'state population'!Z59","v":313877662},{"$f":"'state population'!AA59","v":316059947},{"$f":"'state population'!AB59","v":318386329},{"$f":"'state population'!AC59","v":320738994},{"$f":"'state population'!AD59","v":323071755},{"$f":"'state population'!AE59","v":325122128},{"$f":"'state population'!AF59","v":326838199},{"$f":"'state population'!AG59","v":328329953},{"$f":"'state population'!AH59","v":331501080},{"$f":"'state population'!AI59","v":331893745}]
["Total US Fluorinated Compound Emissions from ODS Substitutes",null,null,null,null,null,null,null,null,null,null,null,null,null,null,null,null,null,null,null,null,null,null,null,null,null,null,null,null,null,null,null,null,"HIDE THIS TABLE"]
["Gg or 10^3 Metric Tonnes CO2",null,{"$f":"C62*1000","v":252.79935600000002},{"$f":"D62*1000","v":531.92605640000011},1629.7154976000004,5510.1341164000005,13459.606291199996,29444.943262800003,41133.035218200006,52179.715482600004,60057.270254400006,68253.06454599998,75189.046049200027,81828.308092499996,86654.612663600026,91092.689006900036,94909.724282599986,99398.465495299984,105782.237985,113040.3338619,121066.86676430002,130336.52776299999,137765.22611969998,140834.73171109997,143257.34967610001,145379.21912160001,149541.48628449996,154005.91124800002,{"$f":"AC62*1000","v":155761.97511049995},156103.76444313998,157786.43728348005,161986.79044408002,166109.1400781,172495.62080783999]
["Metric Tonnes CO2 Eq.",null,{"$f":"C62*1000000","v":252799.35600000003},{"$f":"D62*1000000","v":531926.05640000012},1629715.4976000004,5510134.1164000006,13459606.291199997,29444943.262800004,41133035.218200006,52179715.482600003,60057270.254400007,68253064.545999974,75189046.049200028,81828308.092500001,86654612.663600013,91092689.006900027,94909724.282599986,99398465.495299995,105782237.985,113040333.8619,121066866.76430002,130336527.763,137765226.11969998,140834731.71109998,143257349.67610002,145379219.1216,149541486.28449997,154005911.24800003,{"$f":"AC62*1000000","v":155761975.11049995},156103764.44314,157786437.28348005,161986790.44408002,166109140.07810003,172495620.80783999]
["Tg CO2 Eq.",null,0.25279935600000003,0.53192605640000012,1.6297154976000003,5.5101341164000006,13.459606291199997,29.444943262800003,41.133035218200007,52.179715482600002,60.057270254400009,68.253064545999976,75.18904604920003,81.828308092499995,86.65461266360002,91.092689006900031,94.909724282599981,99.398465495299988,105.78223798499999,113.0403338619,121.06686676430002,130.33652776299999,137.76522611969997,140.83473171109998,143.25734967610001,145.37921912160002,149.54148628449997,154.00591124800002,155.76197511049995,156.10376444313999,157.78643728348004,161.98679044408001,166.10914007810001,172.49562080784]
["National Emissions Source: 1990-2021 US Inventory, \"ODS Substitutes BY21_AR5_3-15-2023_FR.xlsx\", Summary!Row 16; Updated data for all years"]

{"sheet":"Soda Ash Method","index":25,"n_rows":13,"n_cols":38,"rows_kept":13,"cut":false,"hidden":false,"merged":[]}
["From National Inventory, IndCalc Chemicals 1990-2021, on the \"Soda Ash\" worksheet. Updated 10/05/2023."]
[]
[]
["Manufacture","Units",1990,1991,1992,1993,1994,1995,1996,1997,1998,1999,2000,2001,2002,2003,2004,2005,2006,2007,2008,2009,2010,2011,2012,2013,2014,2015,2016,2017,2018,2019,2020,2021,2022,2023,2024,2025]
["Trona Production","10^3 metric tons",14700,14700,14900,14500,14600,16500,16300,17100,16500,15900,15700,15400,15100,15500,16500,17000,16700,17200,17800,15100,15900,16500,17100,17400,17300,17600,17700,18000,17600,18400,15000,17600]
["Emission Factor","metric ton CO2 / metric ton Trona",9.7370983446932818E-2,9.7370983446932818E-2,9.7370983446932818E-2,9.7370983446932818E-2,9.7370983446932818E-2,9.7370983446932818E-2,9.7370983446932818E-2,9.7370983446932818E-2,9.7370983446932818E-2,9.7370983446932818E-2,9.7370983446932818E-2,9.7370983446932818E-2,9.7370983446932818E-2,9.7370983446932818E-2,9.7370983446932818E-2,9.7370983446932818E-2,9.7370983446932818E-2,9.7370983446932818E-2,9.7370983446932818E-2,9.7370983446932818E-2,9.7370983446932818E-2,9.7370983446932818E-2,9.7370983446932818E-2,9.7370983446932818E-2,9.7370983446932818E-2,9.7370983446932818E-2,9.7370983446932818E-2,9.7370983446932818E-2,9.7370983446932818E-2,9.7370983446932818E-2,9.7370983446932818E-2,9.7370983446932818E-2]
["CO2 released from trona production","Gg",{"$f":"C5*C6","v":1431.3534566699125},{"$f":"D5*D6","v":1431.3534566699125},1450.8276533592989,1411.8792599805258,1421.6163583252192,1606.6212268743916,1587.147030185005,1665.0438169425513,1606.6212268743916,1548.1986368062319,1528.7244401168452,1499.5131450827655,1470.3018500486855,1509.2502434274586,1606.6212268743916,1655.306718597858,1626.095423563778,1674.7809152872444,1733.2035053554041,1470.3018500486855,{"$f":"W5*W6","v":1548.1986368062319},1606.6212268743916,1665.0438169425513,1694.255111976631,1684.5180136319377,1713.7293086660177,1723.4664070107108,1752.6777020447907,1713.7293086660177,1791.6260954235638,1460.5647517039922,1713.7293086660177]
[]
[]
["Consumption",null,1990,1991,1992,1993,1994,1995,1996,1997,1998,1999,2000,2001,2002,2003,2004,2005,2006,2007,2008,2009,2010,2011,2012,2013,2014,2015,2016,2017,2018,2019,2020,2021,2022,2023,2024,2025]
["Soda Ash Consumption","10^3 metric tons",6527.8919999999998,6278.9589999999998,6257.8580000000002,6292,6259,6495,6395.5,6485.1,6555,6428.3,6392.9,6378,6427.7,6269,6257,6194,6105,5941,5697,5017,5278,5143,5065,5114,5164,4982,5118,4910,4856,4717,4440,4644]
["Emission Factor","metric ton CO2 / metric ton Trona",0.41499999999999998,0.41499999999999998,0.41499999999999998,0.41499999999999998,0.41499999999999998,0.41499999999999998,0.41499999999999998,0.41499999999999998,0.41499999999999998,0.41499999999999998,0.41499999999999998,0.41499999999999998,0.41499999999999998,0.41499999999999998,0.41499999999999998,0.41499999999999998,0.41499999999999998,0.41499999999999998,0.41499999999999998,0.41499999999999998,0.41499999999999998,0.41499999999999998,0.41499999999999998,0.41499999999999998,0.41499999999999998,0.41499999999999998,0.41499999999999998,0.41499999999999998,0.41499999999999998,0.41499999999999998,0.41499999999999998,0.41499999999999998]
["CO2 released from Soda Ash Use","Gg",{"$f":"C11*C12","v":2709.0751799999998},{"$f":"D11*D12","v":2605.767985},2597.01107,2611.1799999999998,2597.4849999999997,2695.4249999999997,2654.1324999999997,2691.3164999999999,2720.3249999999998,2667.7444999999998,2653.0534999999995,{"$f":"N11*N12","v":2646.87},2667.4955,2601.6349999999998,2596.6549999999997,2570.5099999999998,2533.5749999999998,2465.5149999999999,2364.2550000000001,2082.0549999999998,2190.37,2134.3449999999998,2101.9749999999999,{"$f":"Z11*Z12","v":2122.31},2143.06,2067.5299999999997,2123.9699999999998,2037.6499999999999,2015.24,1957.5549999999998,1842.6,1927.26]

{"sheet":"Industrial Limestone Ratios","index":26,"n_rows":56,"n_cols":73,"rows_kept":56,"cut":false,"hidden":false,"merged":[]}
["From IndCalc_Minerals_1990-2021_FR.xls","Data entered in rows 37-56, other values calculated"]
[]
[null,1990,1991,1992,1993,1994,1995,1996,1997,1998,1999,2000,2001,2002,2003,2004,2005,2006,2007,2008,2009,2010,2011,2012,2013,2014,2015,2016,2017,2018,2019,2020,2021,2022,2023,2024,2025]
["Total Crushed Stone Consumed",{"$f":"B5+B6","v":791541.91989654803},{"$f":"C5+C6","v":710961.52624942199},746049.81008620525,792900,880700,897100,955000,1014200,1064000,1084000,1099000,1131000,1075400,{"$f":"O5+O6","v":1073100},1115500,1185200,1167700,1092500,997800,{"$f":"U5+U6","v":792700},798300,802200,817800,823500,874800,{"$f":"AA5+AA6","v":919000},927200,951900,973800,1018300,1009300,{"$f":"AG5+AG6","v":1049445}]
["Limestone",{"$f":"B19","v":729931.53695193992},{"$f":"D19","v":655623.19129827397},{"$f":"F19","v":684378.51409889059},{"$f":"H19","v":723500},{"$f":"J19","v":788000},{"$f":"L19","v":804000},{"$f":"N19","v":869000},{"$f":"P19","v":916000},{"$f":"R19","v":955000},{"$f":"T19","v":978000},{"$f":"V19","v":998000},{"$f":"X19","v":1030000},{"$f":"Z19","v":978000},{"$f":"AB19","v":984000},{"$f":"AD19","v":1020000},{"$f":"AF19","v":1090000},{"$f":"AH19","v":1080000},{"$f":"AJ19","v":1020000},{"$f":"AL19","v":938000},{"$f":"AN19","v":747000},{"$f":"AP19","v":754000},{"$f":"AR19","v":751000},{"$f":"AT19","v":768000},{"$f":"AV19","v":781000},{"$f":"AX19","v":833000},{"$f":"AZ19","v":875000},{"$f":"BB19","v":884000},{"$f":"BD19","v":902000},{"$f":"BF19","v":917000},{"$f":"BH19","v":961000},{"$f":"BJ19","v":952000},{"$f":"BK19","v":57300}]
["Dolomite",{"$f":"C19","v":61610.382944608158},{"$f":"E19","v":55338.334951148048},{"$f":"G19","v":61671.295987314668},{"$f":"I19","v":69400},{"$f":"K19","v":92700},{"$f":"M19","v":93100},{"$f":"O19","v":86000},{"$f":"Q19","v":98200},{"$f":"S19","v":109000},{"$f":"U19","v":106000},{"$f":"W19","v":101000},{"$f":"Y19","v":101000},{"$f":"AA19","v":97400},{"$f":"AC19","v":89100},{"$f":"AE19","v":95500},{"$f":"AG19","v":95200},{"$f":"AI19","v":87700},{"$f":"AK19","v":72500},{"$f":"AM19","v":59800},{"$f":"AO19","v":45700},{"$f":"AQ19","v":44300},{"$f":"AS19","v":51200},{"$f":"AU19","v":49800},{"$f":"AW19","v":42500},{"$f":"AY19","v":41800},{"$f":"BA19","v":44000},{"$f":"BC19","v":43200},{"$f":"BE19","v":49900},{"$f":"BG19","v":56800},{"$f":"BI19","v":57300},{"$f":"BK19","v":57300},{"$f":"BL19","v":992145}]
[]
["Limestone and Dolomite Consumption- \nData pasted in the yellow cells below from indcalc.xls",3,3,4,4,5,5,6,6,7,7,8,8,9,9,10,10,11,11,12,12,13,13,14,14,15,15,16,16,17,17,18,18,19,19,20,20,21,21,22,22,23,23,24,24,25,25,26,26,27,27,28,28,29,29,30,30,31,31,32,32,33,33,34,34,35,35,36,36,37,37,38,38]
[null,1990,1990,1991,1991,1992,1992,1993,1993,1994,1994,1995,1995,1996,1996,1997,1997,1998,1998,1999,1999,2000,2000,2001,2001,2002,2002,2003,2003,2004,2004,2005,2005,2006,2006,2007,2007,2008,2008,2009,2009,2010,2010,2011,2011,2012,2012,2013,2013,2014,2014,2015,2015,2016,2016,2017,2017,2018,2018,2019,2019,2020,2020,2021,2021,2022,2022,2023,2023,2024,2024,2025,2025]
["Consumption (10^3 MT)","Limestone","Dolomite","Limestone","Dolomite","Limestone","Dolomite","Limestone"," Dolomite","Limestone","Dolomite","Limestone","Dolomite","Limestone","Dolomite","Limestone","Dolomite","Limestone","Dolomite","Limestone","Dolomite","Limestone","Dolomite","Limestone","Dolomite","Limestone","Dolomite","Limestone","Dolomite","Limestone","Dolomite","Limestone","Dolomite","Limestone","Dolomite","Limestone","Dolomite","Limestone","Dolomite","Limestone","Dolomite","Limestone","Dolomite","Limestone","Dolomite","Limestone","Dolomite","Limestone","Dolomite","Limestone","Dolomite","Limestone","Dolomite","Limestone","Dolomite","Limestone","Dolomite","Limestone","Dolomite","Limestone","Dolomite","Limestone","Dolomite","Limestone","Dolomite","Limestone","Dolomite","Limestone","Dolomite","Limestone","Dolomite","Limestone","Dolomite"]
["     Flux stone",{"$f":"VLOOKUP($A11,$A$37:$AH$43,B$8,FALSE)","v":5237.1934260875923},{"$f":"VLOOKUP($A11,$A$48:$AH$54,C$8,FALSE)","v":604.77103654466669},{"$f":"VLOOKUP($A11,$A$37:$AH$43,D$8,FALSE)","v":4506.6085724407731},{"$f":"VLOOKUP($A11,$A$48:$AH$54,E$8,FALSE)","v":513.40088761372533},{"$f":"VLOOKUP($A11,$A$37:$AH$43,F$8,FALSE)","v":3819.9909376419296},{"$f":"VLOOKUP($A11,$A$48:$AH$54,G$8,FALSE)","v":488.04301371838199},{"$f":"VLOOKUP($A11,$A$37:$AH$43,H$8,FALSE)","v":2543.8318344249928},{"$f":"VLOOKUP($A11,$A$48:$AH$54,I$8,FALSE)","v":103.12939103028907},{"$f":"VLOOKUP($A11,$A$37:$AH$43,J$8,FALSE)","v":1923.8058024772797},{"$f":"VLOOKUP($A11,$A$48:$AH$54,K$8,FALSE)","v":1859.5915664206445},{"$f":"VLOOKUP($A11,$A$37:$AH$43,L$8,FALSE)","v":4607.8773647133312},{"$f":"VLOOKUP($A11,$A$48:$AH$54,M$8,FALSE)","v":2451.7638557028613},{"$f":"VLOOKUP($A11,$A$37:$AH$43,N$8,FALSE)","v":6619.7847023671902},{"$f":"VLOOKUP($A11,$A$48:$AH$54,O$8,FALSE)","v":1485.3731415042421},{"$f":"VLOOKUP($A11,$A$37:$AH$43,P$8,FALSE)","v":8274.0468179328745},{"$f":"VLOOKUP($A11,$A$48:$AH$54,Q$8,FALSE)","v":1748.6233945598692},{"$f":"VLOOKUP($A11,$A$37:$AH$43,R$8,FALSE)","v":8971.0155268024555},{"$f":"VLOOKUP($A11,$A$48:$AH$54,S$8,FALSE)","v":1244.8296445828273},{"$f":"VLOOKUP($A11,$A$37:$AH$43,T$8,FALSE)","v":9099.7273503885826},{"$f":"VLOOKUP($A11,$A$48:$AH$54,U$8,FALSE)","v":3246.161008670414},{"$f":"VLOOKUP($A11,$A$37:$AH$43,V$8,FALSE)","v":3093.9326763586055},{"$f":"VLOOKUP($A11,$A$48:$AH$54,W$8,FALSE)","v":1528.7374244485063},{"$f":"VLOOKUP($A11,$A$37:$AH$43,X$8,FALSE)","v":2269.5567435839712},{"$f":"VLOOKUP($A11,$A$48:$AH$54,Y$8,FALSE)","v":1237.703711263654},{"$f":"VLOOKUP($A11,$A$37:$AH$43,Z$8,FALSE)","v":2001.4097559883642},{"$f":"VLOOKUP($A11,$A$48:$AH$54,AA$8,FALSE)","v":1712.5011655246619},{"$f":"VLOOKUP($A11,$A$37:$AH$43,AB$8,FALSE)","v":1235.8768685869059},{"$f":"VLOOKUP($A11,$A$48:$AH$54,AC$8,FALSE)","v":1850.0629761835853},{"$f":"VLOOKUP($A11,$A$37:$AH$43,AD$8,FALSE)","v":3638.492459489466},{"$f":"VLOOKUP($A11,$A$48:$AH$54,AE$8,FALSE)","v":3711.0422599153408},{"$f":"VLOOKUP($A11,$A$37:$AH$43,AF$8,FALSE)","v":2491.9822906992658},{"$f":"VLOOKUP($A11,$A$48:$AH$54,AG$8,FALSE)","v":3253.5026611444264},{"$f":"VLOOKUP($A11,$A$37:$AH$43,AH$8,FALSE)","v":4358.1834753332241},{"$f":"VLOOKUP($A11,$A$48:$AH$54,AI$8,FALSE)","v":5391.1836671527899},2887.5965955481511,1441.6783016147317,1289.9096698579158,851.56192175025171,1154.7467930153571,2674.2108167474066,1290.1056916346629,2079.5933197339136,1827.4680904354136,1389.1805129611357,2359.0793606012439,82.393175137725393,{"$f":"VLOOKUP($A11,$A$37:$AH$43,AV$8,FALSE)","v":3631.2057937120926},{"$f":"VLOOKUP($A11,$A$48:$AH$54,AW$8,FALSE)","v":1489.0153999504168},3494.7808721755064,2879.2277115322672,3864.4086953805977,2518.1010936575817,3415.3246121745437,2270.303451764988,4216.4656324037724,1230.3417870594953,4891.1306391657863,1350.6936859869015,5088.4999616180203,1462.8074038428374,{"$f":"VLOOKUP($A11,$A$37:$AH$43,BJ$8,FALSE)","v":4630.6299101665181},{"$f":"VLOOKUP($A11,$A$48:$AH$54,BK$8,FALSE)","v":2961.3178990826705},3298.500431494359,2825.94499756201]
["     Chemical stone",{"$f":"VLOOKUP($A12,$A$37:$AH$43,B$8,FALSE)","v":469.31805962959913},{"$f":"VLOOKUP($A12,$A$48:$AH$54,C$8,FALSE)","v":58.634236041457712},421.54063554118056,52.665165165165163,550.94641928205044,90.141446931409249,698.35037745605155,137.03419957521015,1127.3724912539128,22.424835848404562,1508.7011952191235,0,1261.4516129032259,0,322.2962962962963,0,823.39222614840992,0,877.82291666666674,0,869.49803850227568,0,896.51837524177949,0,662.58441558441564,0,149.65779467680608,0,0,0,828.54982817869416,0,892.26168224299067,0,1026.6832536382053,0,0,0,501.68343195266272,0,284.84444444444443,0,793.85597826086951,0,803.51445086705201,0,509.16022099447514,0,1257.3215962441313,0,928.27868852459017,0,951.78567369367238,0,1023.1641791044776,0,1027.7356140113125,0,1061.6015220387321,0,1163.5555555555557,0,1214.9691676756165,0]
["     Glass manufacture",299.9718645007971,51.213640922768306,269.43418820477001,46,348.29347217835988,78.505943087291143,439.07754,119,654,21,598,156,406.69018744424119,177,428.68608941188143,0,88,102,{"$f":"VLOOKUP($A13,$A$37:$AH$43,T$8,FALSE)","v":0},0,467.06191837670048,0,128,0,467.842271608315,0,409,0,391.13499999999999,0,491,26,807,26,392,0,522,0,63,0,477,0,301,0,250,0,321,0,391,0,341,0,227,0,374.27972772620046,0,381.15569199047837,0,422.52995221471321,0,516,0,538,0]
["     Sulfur oxide removal",3257.7046793424956,0,2926.0644732472688,0,3110.8696229209913,0,3347.7090838270765,0,3815.9454980666542,22.424835848404562,3907.8884462151395,0,4501.6508538899434,17.134318445957163,3239.9259259259261,0,2800.8833922261483,0,2818.541666666667,0,4060.5786618444845,0,5737.7176015473888,0,6329.4805194805194,0,4396.1977186311788,0,4229.7619047619046,0,6760.9965635738827,0,4683.3644859813085,0,7225,0,8639.0305206463199,0,12287.92899408284,0,16064.388888888889,0,12326.195652173912,0,13184.739884393064,0,14347.099447513812,0,16171.150234741785,0,16680.327868852459,0,14019.2,0,12731.85501066098,0,5068.1967213114749,0,7281.5859030837,0,6816.7901234567908,0,7128.8659402226813,0]
["     Mine dusting or acid water treatment",1051.6200965774351,255.55357790462463,944.56327593486753,229.53776321703674,1320.3490245271109,188.98399162702921,1745.2328954104273,137.03419957521015,503.47265696925058,22.424835848404562,842.43824701195217,6.921933085501859,638.14611005692598,252.73119707786816,434.25185185185182,144.66687697160884,548.36572438162545,190.53984575835477,339.58333333333337,0,380.79204339963837,0,229.11025145067697,0,355.63636363636363,0,289.9619771863118,0,360.79261904761904,0,383.93470790378007,0,779.21495327102798,0,589.2045454545455,0,661.8204667863555,0,265.20710059171597,0,1417.9388888888889,0,1502,0,981.08670520231215,0,729.22099447513813,0,1118.4882629107981,0,877.04918032786884,0,917.28,0,584.66524520255871,0,1591.327868852459,0,981.49978301603505,0,395.68724279835391,0,414.14942549201146,0]
["     Acid neutralization",0,0,0,0,0,0,0,0,0,0,0,0,0,0,0,0,0,0,0,0,0,0,0,0,0,0,0,0,0,0,0,0,0,0,1639.630681818182,81.046747967479675,934.63195691202873,0,51.383875739644971,14.107702861622894,157.08333333333331,52.225521958243341,1508.1222826086955,118.09225957779515,412.85549132947978,0,682.29627071823211,684.85777661795407,838.86619718309862,7.669724770642202,88.114754098360663,0,358.8,2.7645051194539247,145.92590618336885,0,237.84016393442624,5.2165506573859242,732.92125550660785,57.613765105740185,700.28806584362133,0.41330063473744949,732.12197018256052,0]
["     Sugar refining",0,0,0,0,0,0,0,0,262.84455989081169,0,296.02932915913709,0,329.42404707514777,0,0,0,370.43897395765612,0,404.10416666666663,0,389.81555153707052,0,0,0,475.60340932626457,0,423.18553381927734,0,474.56550553634293,0,419.5189003436426,0,0,0,1639.630681818182,81.046747967479675,934.63195691202873,0,51.383875739644971,14.107702861622894,157.08333333333331,52.225521958243341,1508.1222826086955,118.09225957779515,412.85549132947978,0,682.29627071823211,684.85777661795407,838.86619718309862,7.669724770642202,88.114754098360663,0,358.8,2.7645051194539247,145.92590618336885,0,237.84016393442624,5.2165506573859242,732.92125550660785,57.613765105740185,700.28806584362133,0.41330063473744949,731.63127181112463,0.41252072968490877]
["Total Industrial",{"$f":"SUM(B11:B17)","v":10315.808126137919},970.17249141351726,{"$f":"SUM(D11:D17)","v":9068.2111453688613},841.60381599592722,9150.4494765504423,845.67439536411166,{"$f":"SUM(H11:H17)","v":8774.2017311185482},496.19779018070938,8287.4410086579082,1947.8660739658585,11760.934582318683,2614.685788788363,{"$f":"SUM(N11:N17)","v":13757.147513736676},1932.2386570280673,12699.206981418829,1893.2902715314781,13602.095843516294,1537.369490341182,13539.779433721917,3246.161008670414,9261.6788900187767,1528.7374244485063,9260.9029718238162,1237.703711263654,10292.556735624243,1712.5011655246619,{"$f":"SUM(AB11:AB17)","v":6903.8798929004797},1850.0629761835853,9094.7474888353318,3711.0422599153408,11375.982290699265,3279.5026611444264,11520.024596828553,5417.1836671527899,15399.745758277266,1603.771797549691,12982.024571114649,851.56192175025171,14375.334071121866,2702.4262224706522,19848.444580523548,2184.0443636504006,19766.764286087586,1625.3650321167261,18404.13138372263,82.393175137725393,20902.27899813198,2858.7309531863252,24110.47336043842,2894.5671610735512,22867.293941282238,2518.1010936575817,20248.190285868215,2275.8324620038961,19222.281607464727,1230.3417870594953,13435.226863200365,1361.1267873016732,16301.559632984416,1578.0349340543178,14923.23896366446,2962.1445003521453,14058.238206878354,2826.3575182916948]
["Total Consumption",{"$f":"HLOOKUP(B9,$C$36:$AH$45,10, FALSE)","v":729931.53695193992},{"$f":"HLOOKUP(C9,$C$47:$AH$56,10, FALSE)","v":61610.382944608158},{"$f":"HLOOKUP(D9,$C$36:$AH$45,10, FALSE)","v":655623.19129827397},{"$f":"HLOOKUP(E9,$C$47:$AH$56,10, FALSE)","v":55338.334951148048},{"$f":"HLOOKUP(F9,$C$36:$AH$45,10, FALSE)","v":684378.51409889059},{"$f":"HLOOKUP(G9,$C$47:$AH$56,10, FALSE)","v":61671.295987314668},{"$f":"HLOOKUP(H9,$C$36:$AH$45,10, FALSE)","v":723500},{"$f":"HLOOKUP(I9,$C$47:$AH$56,10, FALSE)","v":69400},{"$f":"HLOOKUP(J9,$C$36:$AH$45,10, FALSE)","v":788000},{"$f":"HLOOKUP(K9,$C$47:$AH$56,10, FALSE)","v":92700},{"$f":"HLOOKUP(L9,$C$36:$AH$45,10, FALSE)","v":804000},{"$f":"HLOOKUP(M9,$C$47:$AH$56,10, FALSE)","v":93100},{"$f":"HLOOKUP(N9,$C$36:$AH$45,10, FALSE)","v":869000},{"$f":"HLOOKUP(O9,$C$47:$AH$56,10, FALSE)","v":86000},{"$f":"HLOOKUP(P9,$C$36:$AH$45,10, FALSE)","v":916000},{"$f":"HLOOKUP(Q9,$C$47:$AH$56,10, FALSE)","v":98200},{"$f":"HLOOKUP(R9,$C$36:$AH$45,10, FALSE)","v":955000},{"$f":"HLOOKUP(S9,$C$47:$AH$56,10, FALSE)","v":109000},{"$f":"HLOOKUP(T9,$C$36:$AH$45,10, FALSE)","v":978000},{"$f":"HLOOKUP(U9,$C$47:$AH$56,10, FALSE)","v":106000},{"$f":"HLOOKUP(V9,$C$36:$AH$45,10, FALSE)","v":998000},{"$f":"HLOOKUP(W9,$C$47:$AH$56,10, FALSE)","v":101000},{"$f":"HLOOKUP(X9,$C$36:$AH$45,10, FALSE)","v":1030000},{"$f":"HLOOKUP(Y9,$C$47:$AH$56,10, FALSE)","v":101000},{"$f":"HLOOKUP(Z9,$C$36:$AH$45,10, FALSE)","v":978000},{"$f":"HLOOKUP(AA9,$C$47:$AH$56,10, FALSE)","v":97400},{"$f":"HLOOKUP(AB9,$C$36:$AH$45,10, FALSE)","v":984000},{"$f":"HLOOKUP(AC9,$C$47:$AH$56,10, FALSE)","v":89100},{"$f":"HLOOKUP(AD9,$C$36:$AH$45,10, FALSE)","v":1020000},{"$f":"HLOOKUP(AE9,$C$47:$AH$56,10, FALSE)","v":95500},{"$f":"HLOOKUP(AF9,$C$36:$AH$45,10, FALSE)","v":1090000},{"$f":"HLOOKUP(AG9,$C$47:$AH$56,10, FALSE)","v":95200},{"$f":"HLOOKUP(AH9,$C$36:$AH$45,10, FALSE)","v":1080000},{"$f":"HLOOKUP(AI9,$C$47:$AH$56,10, FALSE)","v":87700},{"$f":"HLOOKUP(AJ9,$C$36:$AH$45,10, FALSE)","v":1020000},{"$f":"HLOOKUP(AK9,$C$47:$AH$56,10, FALSE)","v":72500},{"$f":"HLOOKUP(AL9,$C$36:$AH$45,10, FALSE)","v":938000},59800,{"$f":"HLOOKUP(AN9,$C$36:$AH$45,10, FALSE)","v":747000},{"$f":"HLOOKUP(AO9,$C$47:$AH$56,10, FALSE)","v":45700},{"$f":"HLOOKUP(AP9,$C$36:$AH$45,10, FALSE)","v":754000},{"$f":"HLOOKUP(AQ9,$C$47:$AH$56,10, FALSE)","v":44300},{"$f":"HLOOKUP(AR9,$C$36:$AH$45,10, FALSE)","v":751000},{"$f":"HLOOKUP(AS9,$C$47:$AH$56,10, FALSE)","v":51200},{"$f":"HLOOKUP(AT9,$C$36:$AH$45,10, FALSE)","v":768000},49800,{"$f":"HLOOKUP(AV9,$C$36:$AH$45,10, FALSE)","v":781000},{"$f":"HLOOKUP(AW9,$C$47:$AH$56,10, FALSE)","v":42500},{"$f":"HLOOKUP(AX9,$C$36:$AH$45,10, FALSE)","v":833000},{"$f":"HLOOKUP(AY9,$C$47:$AH$56,10, FALSE)","v":41800},{"$f":"HLOOKUP(AZ9,$C$36:$AH$45,10, FALSE)","v":875000},44000,{"$f":"HLOOKUP(BB9,$C$36:$AH$45,10, FALSE)","v":884000},{"$f":"HLOOKUP(BC9,$C$47:$AH$56,10, FALSE)","v":43200},{"$f":"HLOOKUP(BD9,$C$36:$AH$45,10, FALSE)","v":902000},{"$f":"HLOOKUP(BE9,$C$47:$AH$56,10, FALSE)","v":49900},{"$f":"HLOOKUP(BF9,$C$36:$AH$45,10, FALSE)","v":917000},{"$f":"HLOOKUP(BG9,$C$47:$AH$56,10, FALSE)","v":56800},{"$f":"HLOOKUP(BH9,$C$36:$AH$45,10, FALSE)","v":961000},57300,{"$f":"HLOOKUP(BJ9,$C$36:$AH$45,10, FALSE)","v":952000},{"$f":"HLOOKUP(BK9,$C$47:$AH$56,10, FALSE)","v":57300},{"$f":"HLOOKUP(BL9,$C$36:$AH$45,10, FALSE)","v":992145},{"$f":"HLOOKUP(BM9,$C$47:$AH$56,10, FALSE)","v":59700}]
[]
["Limestone Consumption for Industrial Uses"]
["10^3 metric tons",1990,1991,1992,1993,1994,1995,1996,1997,1998,1999,2000,2001,2002,2003,2004,2005,2006,2007,2008,2009,2010,2011,2012,2013,2014,2015,2016,2017,2018,2019,2020,2021,2022,2023,2024,2025]
["Limestone",{"$f":"B18","v":10315.808126137919},{"$f":"D18","v":9068.2111453688613},{"$f":"F18","v":9150.4494765504423},{"$f":"H18","v":8774.2017311185482},{"$f":"J18","v":8287.4410086579082},{"$f":"L18","v":11760.934582318683},{"$f":"N18","v":13757.147513736676},{"$f":"P18","v":12699.206981418829},{"$f":"R18","v":13602.095843516294},{"$f":"T18","v":13539.779433721917},{"$f":"V18","v":9261.6788900187767},{"$f":"X18","v":9260.9029718238162},{"$f":"Z18","v":10292.556735624243},{"$f":"AB18","v":6903.8798929004797},{"$f":"AD18","v":9094.7474888353318},{"$f":"AF18","v":11375.982290699265},{"$f":"AH18","v":11520.024596828553},{"$f":"AJ18","v":15399.745758277266},{"$f":"AL18","v":12982.024571114649},{"$f":"AN18","v":14375.334071121866},{"$f":"AP18","v":19848.444580523548},{"$f":"AR18","v":19766.764286087586},{"$f":"AT18","v":18404.13138372263},{"$f":"AV18","v":20902.27899813198},{"$f":"AX18","v":24110.47336043842},{"$f":"AZ18","v":22867.293941282238},{"$f":"BB18","v":20248.190285868215},{"$f":"BD18","v":19222.281607464727},{"$f":"BF18","v":13435.226863200365},{"$f":"BH18","v":16301.559632984416},{"$f":"BJ18","v":14923.23896366446},{"$f":"BK18","v":2962.1445003521453}]
["Dolomite",{"$f":"C18","v":970.17249141351726},{"$f":"E18","v":841.60381599592722},{"$f":"G18","v":845.67439536411166},{"$f":"I18","v":496.19779018070938},{"$f":"K18","v":1947.8660739658585},{"$f":"M18","v":2614.685788788363},{"$f":"O18","v":1932.2386570280673},{"$f":"Q18","v":1893.2902715314781},{"$f":"S18","v":1537.369490341182},{"$f":"U18","v":3246.161008670414},{"$f":"W18","v":1528.7374244485063},{"$f":"Y18","v":1237.703711263654},{"$f":"AA18","v":1712.5011655246619},{"$f":"AC18","v":1850.0629761835853},{"$f":"AE18","v":3711.0422599153408},{"$f":"AG18","v":3279.5026611444264},{"$f":"AI18","v":5417.1836671527899},{"$f":"AK18","v":1603.771797549691},{"$f":"AM18","v":851.56192175025171},{"$f":"AO18","v":2702.4262224706522},{"$f":"AQ18","v":2184.0443636504006},{"$f":"AS18","v":1625.3650321167261},{"$f":"AU18","v":82.393175137725393},{"$f":"AW18","v":2858.7309531863252},{"$f":"AY18","v":2894.5671610735512},{"$f":"BA18","v":2518.1010936575817},{"$f":"BC18","v":2275.8324620038961},{"$f":"BE18","v":1230.3417870594953},{"$f":"BG18","v":1361.1267873016732},{"$f":"BI18","v":1578.0349340543178},{"$f":"BK18","v":2962.1445003521453},{"$f":"BL18","v":14058.238206878354}]
[]
[]
[]
["Ratio of Consumption for Industrial Uses to Total Consumption"]
[null,1990,1991,1992,1993,1994,1995,1996,1997,1998,1999,2000,2001,2002,2003,2004,2005,2006,2007,2008,2009,2010,2011,2012,2013,2014,2015,2016,2017,2018,2019,2020,2021,2022,2023,2024,2025]
["Limestone",{"$f":"B23/B5","v":1.4132569431394676E-2},{"$f":"C23/C5","v":1.3831437425835817E-2},1.3370451129078302E-2,1.2127438467337315E-2,1.0517057117586178E-2,1.4628028087461048E-2,1.5831009797165334E-2,1.386376308015156E-2,1.42430322968757E-2,1.3844355249204413E-2,9.2802393687562885E-3,8.991167933809531E-3,1.0524086641742579E-2,{"$f":"O23/O5","v":7.0161381025411378E-3},8.9164191067013059E-3,1.0436681000641528E-2,{"$f":"R23/R5","v":1.0666689441507919E-2},1.5097789959095359E-2,1.3840111483064658E-2,{"$f":"U23/U5","v":1.9244088448623648E-2},2.632419705639728E-2,2.6320591592659901E-2,{"$f":"X23/X5","v":2.3963712739222175E-2},2.6763481431667069E-2,2.8944145690802427E-2,{"$f":"AA23/AA5","v":2.6134050218608273E-2},2.290519263107264E-2,2.1310733489428742E-2,{"$f":"AD23/AD5","v":1.4651283384078916E-2},1.6963121366268902E-2,1.567567118031981E-2,{"$f":"AG23/AG5","v":5.169536649829224E-2}]
["Dolomite",{"$f":"B24/B6","v":1.5746899224531149E-2},{"$f":"C24/C6","v":1.5208332826401156E-2},1.3712609437266579E-2,7.1498240660044579E-3,2.1012579007182938E-2,2.8084702350036121E-2,2.246789136079148E-2,1.9279941665290002E-2,1.4104307250836532E-2,3.0624160459154851E-2,1.5136014103450557E-2,1.2254492190729247E-2,1.7582147489986263E-2,2.0763894233261339E-2,3.8859081255658019E-2,3.4448557364962461E-2,6.1769483091822008E-2,2.2120990311030219E-2,1.4240165915556048E-2,5.9134053008110553E-2,4.9301227170437938E-2,3.1745410783529805E-2,1.6544814284683814E-3,6.7264257722031179E-2,6.9248018207501219E-2,5.7229570310399581E-2,5.2681306990830928E-2,2.4656148037264437E-2,2.396349977643791E-2,2.7539876685066626E-2,5.169536649829224E-2,{"$f":"AG24/AG6","v":1.4169539943131653E-2}]
[]
[]
[]
["From the \"Other Process Uses of Carbonate\" worksheet in IndCalc_Minerals_1990-2021_FR.xls"]
["Limestone Consumption (10^3 MT)",null,1990,1991,1992,1993,1994,1995,1996,1997,1998,1999,2000,2001,2002,2003,2004,2005,2006,2007,2008,2009,2010,2011,2012,2013,2014,2015,2016,2017,2018,2019,2020,2021,2022,2023,2024,2025]
["     Flux stone",null,5237.1934260875923,4506.6085724407731,3819.9909376419296,2543.8318344249928,1923.8058024772797,4607.8773647133312,6619.7847023671902,8274.0468179328745,8971.0155268024555,9099.7273503885826,3093.9326763586055,2269.5567435839712,2001.4097559883642,1235.8768685869059,3638.492459489466,2491.9822906992658,4358.1834753332241,2887.5965955481511,1289.9096698579158,1154.7467930153571,1290.1056916346629,1827.4680904354136,2359.0793606012439,3631.2057937120926,3494.7808721755064,3864.4086953805977,3415.3246121745437,4216.4656324037724,4891.1306391657863,5088.4999616180203,4630.6299101665181,3298.500431494359]
["     Chemical stone",null,469.31805962959913,421.54063554118056,550.94641928205044,698.35037745605155,1127.3724912539128,1508.7011952191235,1261.4516129032259,322.2962962962963,823.39222614840992,877.82291666666674,869.49803850227568,896.51837524177949,662.58441558441564,149.65779467680608,0,828.54982817869416,892.26168224299067,1026.6832536382053,0,501.68343195266272,284.84444444444443,793.85597826086951,803.51445086705201,509.16022099447514,1257.3215962441313,928.27868852459017,951.78567369367238,1023.1641791044776,1027.7356140113125,1061.6015220387321,1163.5555555555557,1214.9691676756165]
["     Glass manufacture",null,299.9718645007971,269.43418820477001,348.29347217835988,439.07754,654,598,406.69018744424119,428.68608941188143,88,0,467.06191837670048,128,467.842271608315,409,391.13499999999999,491,807,392,522,63,477,301,250,321,391,341,227,374.27972772620046,381.15569199047837,422.52995221471321,516,538]
["     Sulfur oxide removal",null,3257.7046793424956,2926.0644732472688,3110.8696229209913,3347.7090838270765,3815.9454980666542,3907.8884462151395,4501.6508538899434,3239.9259259259261,2800.8833922261483,2818.541666666667,4060.5786618444845,5737.7176015473888,6329.4805194805194,4396.1977186311788,4229.7619047619046,6760.9965635738827,4683.3644859813085,7225,8639.0305206463199,12287.92899408284,16064.388888888889,12326.195652173912,13184.739884393064,14347.099447513812,16171.150234741785,16680.327868852459,14019.2,12731.85501066098,5068.1967213114749,7281.5859030837,6816.7901234567908,7128.8659402226813]
["     Mine dusting or acid water treatment",null,1051.6200965774351,944.56327593486753,1320.3490245271109,1745.2328954104273,503.47265696925058,842.43824701195217,638.14611005692598,434.25185185185182,548.36572438162545,339.58333333333337,380.79204339963837,229.11025145067697,355.63636363636363,289.9619771863118,360.79261904761904,383.93470790378007,779.21495327102798,589.2045454545455,661.8204667863555,265.20710059171597,1417.9388888888889,1502,981.08670520231215,729.22099447513813,1118.4882629107981,877.04918032786884,917.28,584.66524520255871,1591.327868852459,981.49978301603505,395.68724279835391,414.14942549201146]
["     Acid neutralization",null,0,0,0,0,0,0,0,0,0,0,0,0,0,0,0,0,0,1639.630681818182,934.63195691202873,51.383875739644971,157.08333333333331,1508.1222826086955,412.85549132947978,682.29627071823211,838.86619718309862,88.114754098360663,358.8,145.92590618336885,237.84016393442624,732.92125550660785,700.28806584362133,732.12197018256052]
["     Sugar refining",null,0,0,0,0,262.84455989081169,296.02932915913709,329.42404707514777,0,370.43897395765612,404.10416666666663,389.81555153707052,0,475.60340932626457,423.18553381927734,474.56550553634293,419.5189003436426,0,1639.630681818182,934.63195691202873,51.383875739644971,157.08333333333331,1508.1222826086955,412.85549132947978,682.29627071823211,838.86619718309862,88.114754098360663,358.8,145.92590618336885,237.84016393442624,732.92125550660785,700.28806584362133,731.63127181112463]
["Total",null,{"$f":"SUM(C37:C43)","v":10315.808126137919},{"$f":"SUM(D37:D43)","v":9068.2111453688613},{"$f":"SUM(E37:E43)","v":9150.4494765504423},8774.2017311185482,8287.4410086579082,11760.934582318683,13757.147513736676,12699.206981418829,13602.095843516294,13539.779433721917,9261.6788900187767,9260.9029718238162,10292.556735624243,6903.8798929004797,9094.7474888353318,11375.982290699265,11520.024596828553,15399.745758277266,12982.024571114649,14375.334071121866,19848.444580523548,19766.764286087586,18404.13138372263,{"$f":"SUM(Z37:Z43)","v":20902.27899813198},24110.47336043842,22867.293941282238,20248.190285868215,19222.281607464727,13435.226863200365,16301.559632984416,{"$f":"SUM(AG37:AG43)","v":14923.23896366446},14058.238206878354]
["Total Limestone Consumption",null,729931.53695193992,655623.19129827397,684378.51409889059,723500,788000,804000,869000,916000,955000,978000,998000,1030000,978000,984000,1020000,1090000,1080000,1020000,938000,747000,754000,751000,768000,781000,833000,875000,884000,902000,917000,961000,952000,992145]
[]
["Dolomite Consumption (10^3 MT)",null,1990,1991,1992,1993,1994,1995,1996,1997,1998,1999,2000,2001,2002,2003,2004,2005,2006,2007,2008,2009,2010,2011,2012,2013,2014,2015,2016,2017,2018,2019,2020,2021,2022,2023,2024,2025]
["     Flux stone",null,604.77103654466669,513.40088761372533,488.04301371838199,103.12939103028907,1859.5915664206445,2451.7638557028613,1485.3731415042421,1748.6233945598692,1244.8296445828273,3246.161008670414,1528.7374244485063,1237.703711263654,1712.5011655246619,1850.0629761835853,3711.0422599153408,3253.5026611444264,5391.1836671527899,1441.6783016147317,851.56192175025171,2674.2108167474066,2079.5933197339136,1389.1805129611357,82.393175137725393,1489.0153999504168,2879.2277115322672,2518.1010936575817,2270.303451764988,1230.3417870594953,1350.6936859869015,1462.8074038428374,2961.3178990826705,2825.94499756201]
["     Chemical stone",null,58.634236041457712,52.665165165165163,90.141446931409249,137.03419957521015,22.424835848404562,0,0,0,0,0,0,0,0,0,0,0,0,0,0,0,0,0,0,0,0,0,0,0,0,0,0,0]
["     Glass manufacture",null,51.213640922768306,46,78.505943087291143,119,21,156,177,0,102,0,0,0,0,0,0,26,26,0,0,0,0,0,0,0,0,0,0,0,0,0,0,0]
["     Sulfur oxide removal",null,0,0,0,0,22.424835848404562,0,17.134318445957163,0,0,0,0,0,0,0,0,0,0,0,0,0,0,0,0,0,0,0,0,0,0,0,0,0]
["     Mine dusting or acid water treatment",null,255.55357790462463,229.53776321703674,188.98399162702921,137.03419957521015,22.424835848404562,6.921933085501859,252.73119707786816,144.66687697160884,190.53984575835477,0,0,0,0,0,0,0,0,0,0,0,0,0,0,0,0,0,0,0,0,0,0,0]
["     Acid neutralization",null,0,0,0,0,0,0,0,0,0,0,0,0,0,0,0,0,0,81.046747967479675,0,14.107702861622894,52.225521958243341,118.09225957779515,0,684.85777661795407,7.669724770642202,0,2.7645051194539247,0,5.2165506573859242,57.613765105740185,0.41330063473744949,0]
["     Sugar refining",null,0,0,0,0,0,0,0,0,0,0,0,0,0,0,0,0,0,81.046747967479675,0,14.107702861622894,52.225521958243341,118.09225957779515,0,684.85777661795407,7.669724770642202,0,2.7645051194539247,0,5.2165506573859242,57.613765105740185,0.41330063473744949,0.41252072968490877]
["Total",null,{"$f":"SUM(C48:C54)","v":970.17249141351726},{"$f":"SUM(D48:D54)","v":841.60381599592722},845.67439536411166,496.19779018070938,1947.8660739658585,2614.685788788363,1932.2386570280673,1893.2902715314781,1537.369490341182,3246.161008670414,1528.7374244485063,1237.703711263654,1712.5011655246619,1850.0629761835853,3711.0422599153408,3279.5026611444264,5417.1836671527899,1603.771797549691,851.56192175025171,2702.4262224706522,2184.0443636504006,1625.3650321167261,82.393175137725393,2858.7309531863252,2894.5671610735512,2518.1010936575817,2275.8324620038961,1230.3417870594953,1361.1267873016732,{"$f":"SUM(AF48:AF54)","v":1578.0349340543178},{"$f":"SUM(AG48:AG54)","v":2962.1445003521453},{"$f":"SUM(AH48:AH54)","v":2826.3575182916948}]
["Total Dolomite Consumption",null,61610.382944608158,55338.334951148048,61671.295987314668,69400,92700,93100,86000,98200,109000,106000,101000,101000,97400,89100,95500,95200,87700,72500,59800,45700,44300,51200,49800,42500,41800,44000,43200,49900,56800,57300,57300,59700]

{"sheet":"Lime Proportion Data","index":27,"n_rows":12,"n_cols":38,"rows_kept":12,"cut":false,"hidden":false,"merged":[]}
[null,"From National Inventory, on the \"Lime\" worksheet, IndCalc Minerals, 1990-2021. Updated October 2023."]
[]
[null,null,1990,1991,1992,1993,1994,1995,1996,1997,1998,1999,2000,2001,2002,2003,2004,2005,2006,2007,2008,2009,2010,2011,2012,2013,2014,2015,2016,2017,2018,2019,2020,2021,2022,2023,2024,2025]
[null,"Adjusted Production (thousand metric tons)"]
[null,"High Calcium",12465.834670481399,12342.529134246412,12796.304827491207,13225.312545815606,13750.028997773043,14645.196396802437,15354.603983928857,15628.6,16223.5,15567.3,15431.5,15081.9,14495,15462.2,15762.2,15720.6,16730.099999999999,16335.2,16111.1,13033.7,14694.3,15367.3,15060,15296.5,15698.7,14669.5,13815.5,13922.8,14173.9,13073.9,12393.6,12973.9]
[null,"Dolomitic",2799.6030836276759,2739.6898783329648,2823.4409780627143,2921.9421907298301,3011.2436007554224,3196.6208566836044,3334.1239596420346,3446.4,3308.1,3508.6,3494.7,3092.9,2921.7,2984.8,3514.7,3521.8,3436.3,3159.9,3080.6,2212.6999999999998,2937.3,3051,3167.1,3232,3135.3,2945.3,2816,3043.2,3195.5,3086.9,2766.4,3070.8]
[null,"Total",{"$f":"SUM(C5:C6)","v":15265.437754109076},{"$f":"SUM(D5:D6)","v":15082.219012579377},15619.745805553921,16147.254736545437,16761.272598528463,17841.817253486042,18688.727943570892,19075,19531.599999999999,19075.899999999998,18926.2,18174.8,17416.7,18447,19276.900000000001,19242.400000000001,20166.399999999998,19495.100000000002,19191.7,15246.400000000001,17631.599999999999,18418.3,18227.099999999999,18528.5,18834,17614.8,{"$f":"SUM(AC5:AC6)","v":16631.5},16966,17369.400000000001,16160.8,15160,16044.7]
[]
[]
[null,null,1990,1991,1992,1993,1994,1995,1996,1997,1998,1999,2000,2001,2002,2003,2004,2005,2006,2007,2008,2009,2010,2011,2012,2013,2014,2015,2016,2017,2018,2019,2020,2021,2022,2023,2024,2025]
[null,"% High Calcium",{"$f":"C5/C$7","v":0.81660512271427699},{"$f":"D5/D$7","v":0.8183496820959888},0.81923899318138826,0.81904402708673962,0.82034516871828755,0.82083546696685117,0.82159706269419974,0.81932372214941029,0.83062831514059277,0.81607158771014743,{"$f":"M5/M$7","v":0.815351206264332},0.82982481237757777,0.83224721101012245,0.83819591261451731,0.8176729660889458,0.81697709225460435,{"$f":"S5/S$7","v":0.82960270549032056},0.83791311662930679,0.83948269303917833,{"$f":"V5/V$7","v":0.85487065799139461},0.8334070645885796,0.83434953280161572,{"$f":"Y5/Y$7","v":0.82624224369208488},0.82556601991526568,0.83352978655622811,{"$f":"AB5/AB$7","v":0.83279401412448628},0.83068274058262936,0.82062949428268295,{"$f":"AE5/AE$7","v":0.8160270360519073},0.80898841641502894,0.81751978891820587,{"$f":"AH5/AH$7","v":0.80860969665995619}]
[null,"% Dolomite",{"$f":"C6/C$7","v":0.18339487728572293},{"$f":"D6/D$7","v":0.18165031790401115},0.18076100681861174,0.18095597291326029,0.17965483128171253,0.1791645330331488,0.17840293730580023,0.18067627785058979,0.16937168485940732,0.18392841228985266,{"$f":"M6/M$7","v":0.184648793735668},0.17017518762242226,0.16775278898987753,0.16180408738548274,0.18232703391105415,0.18302290774539559,0.1703972945096795,0.16208688337069313,0.16051730696082159,0.14512934200860528,0.16659293541142042,0.16565046719838422,0.17375775630791515,0.17443398008473432,0.16647021344377191,0.1672059858755138,0.16931725941737066,0.17937050571731697,0.18397296394809259,0.19101158358497106,0.18248021108179421,{"$f":"AH6/AH$7","v":0.19139030334004375}]

{"sheet":"Data Sources","index":28,"n_rows":123,"n_cols":14,"rows_kept":123,"cut":false,"hidden":false,"merged":[[119,2,119,8],[60,2,60,9],[36,2,36,9],[101,2,101,9],[104,2,104,8],[111,2,111,8],[94,2,94,8],[5,1,5,9],[87,2,87,9],[34,2,34,9],[50,2,50,9],[78,2,78,9]]}
[null,null,null,null,null,null,null,null,null,null,null,null,null,"Soda Ash"]
[]
[]
[]
[]
[null,"Recommended Data Sources for Industrial Processes Activity Data"]
[]
[]
[]
[null,"Cement Production"]
[]
[null,null,"- In-State sources"]
[null,null,"- U.S. Geological Survey (USGS) in Cement: Annual Report"]
[null,null,"http://minerals.usgs.gov/minerals/pubs/commodity/cement/"]
[]
[]
[null,"Lime Manufacture"]
[]
[null,null,"- In-State sources (e.g. the state’s environmental agency)"]
[null,null,"- U.S. Geological Survey (USGS) in Lime: Minerals Yearbook Annual Report"]
[null,null,"http://minerals.usgs.gov/minerals/pubs/commodity/lime/"]
[]
[]
[null,"Limestone and Dolomite Use"]
[]
[null,null,"- In-state sources, for state-specific resources and contacts go to: "]
[null,null,"http://minerals.usgs.gov/minerals/pubs/state/"]
[null,null,"- U.S. Geological Survey (USGS) in Crushed Stone: Minerals Yearbook Annual Report"]
[null,null,"http://minerals.usgs.gov/minerals/pubs/commodity/stone_crushed/"]
[]
[]
[null,"Soda Ash Manufacture and Consumption"]
[]
[null,null,"- In-state sources"]
[null,null,"- U.S. Geological Survey (USGS) in Soda Ash: Minerals Yearbook Annual Report (for trona production and soda ash consumption by state)"]
[null,null,"https://minerals.usgs.gov/minerals/pubs/commodity/soda_ash/index.html"]
[null,null,"- Bureau of the Census’ Current Industrial Reports:"]
[null,null,"https://www.census.gov/programs-surveys/current-industrial-reports.html"]
[]
[]
[null,"Nitric Acid Production"]
[]
[null,null,"- In-state sources (for annual state HNO3 production)"]
[null,null,"- Directory of Chemical Producers (SRI 2000) for data on state nitric acid capacity"]
[]
[]
[]
[null,"Adipic Acid Production"]
[]
[null,null,"- In-state sources (e.g. the air-permitting department, adipic acid plants)"]
[null,null,"- Chemical Market Reporter for state Adipic acid production capacity data"]
[]
[]
[]
[null,"Aluminum Production"]
[]
[null,null,"- In-state sources"]
[null,null,"- For Aluminum production capacity"]
[null,null,"- U.S. Geological Survey (USGS) in Minerals Yearbook: Aluminum Annual Report"]
[null,null,"http://minerals.usgs.gov/minerals/pubs/commodity/aluminum/"]
[null,null,"- Bureau of Census’ Current Industrial Reports (Table 6.4-1)"]
[null,null,"https://www.census.gov/programs-surveys/current-industrial-reports.html"]
[]
[]
[null,"HCFC-22 Production"]
[]
[null,null,"- In-state manufacturers of HCFC-22"]
[null,null,"- The Chemical Manufacturers Association (Washington, D.C.)"]
[null,null,"- Alliance for Responsible CFC Policy (Arlington, VA)"]
[null,null,"- Grant Thorton Consulting (Washington, D.C.)"]
[]
[]
[]
[null,"Semiconductor Manufacture"]
[]
[null,null,"- For national emissions of PFC, HFC, NF3, and SF6 (necessary data element)"]
[null,null,"Inventory of U.S. Greenhouse Gas Emissions and Sinks: 1990-2021 (U.S. EPA 2023)"]
[null,null,"- Value of Semiconductor Shipments (State and US)"]
[null,null,"U.S. Census Bureau’s Economic Census, https://www.census.gov/programs-surveys/economic-census.html (for value of semiconductor shipments produced at the state and national levels.)  Information is listed by NAICS Code Number. The NAICS Code for “Semiconductor and Related Device Manufacturing” is 334413. \nNational semiconductor emissions from the U.S. Inventory are apportioned to state-level estimates, based on the state's ratio of the national total from the semiconductor data in the U.S. Census."]
[]
[]
[]
[null,"Electric Power Transmission and Distribution"]
[]
[null,null,"- Total national emissions of SF6 from electric utility"]
[null,null,"Inventory of U.S. Greenhouse Gas Emissions and Sinks: 1990-2021 (U.S. EPA 2023)"]
[null,null,"- State and national electricity consumption"]
[null,null,"U.S. Department of Energy, Energy Information Administration report, Electric Power Annual. Released October 2022. (Electricity Sales data)\n Default data apportions national consumption based on the ratio of state electricity sales to national electricity sales. "]
[]
[]
[]
[null,"Magnesium Production and Processing"]
[]
[null,null,"- In-state sources, for state-specific resources and contacts go to:"]
[null,null,"- http://minerals.usgs.gov/minerals/"]
[]
[]
[]
[null,"Ammonia Production and Urea Consumption"]
[]
[null,null,"- In-state manufacturers and vendors of ammonia and urea"]
[null,null,"Urea Consumption is provided by:\nAAPFCO (2016) Commercial Fertilizers 2014. Association of American Plant Food Control Officials and The Fertilizer Institute. University of Kentucky, Lexington, KY."]
[null,null,"TVA (1991 through 1994) Commercial Fertilizers. Tennessee Valley Authority, Muscle Shoals, AL."]
[null,null,"- For state-specific resources and contacts go to:"]
[null,null,"- https://answers.usgs.gov/"]
[]
[]
[null,"Iron and Steel Production "]
[]
[null,null,"- In-state manufacturers of iron and steel"]
[null,null,"- For state-specific resources and contacts go to:"]
[null,null,"- https://answers.usgs.gov/"]
[]
[]
[]
[null,"Greenhouse Gas Reporting Program Data and Additional Emission Soucres"]
[]
[null,null,"- EPA's Greenhouse Gas Reporting Program"]
[null,null,"- Download Summary 2021 GHG data at:"]
[null,null,"- https://www.epa.gov/ghgreporting/ghg-reporting-program-data-sets"]
[]
[null,null,"- For state-level data on additonal emission sources go to:"]
[null,null,"- https://www.epa.gov/ghgemissions/state-ghg-emissions-and-removals"]

{"sheet":"semiconductors method","index":29,"n_rows":121,"n_cols":97,"rows_kept":121,"cut":false,"hidden":false,"merged":[]}
["Emissions, Metric Tonnes CO2 Eq"]
[null,null,null,null,null,null,null,null,null,null,null,null,null,null,null,null,null,null,null,null,null,null,null,null,null,null,null,null,null,null,null,null,null,null,null,null,null,1990,1991,1992,1993,1994,1995,1996,1997,1998,1999,2000,2001,2002,2003,2004,2005,2006,2007,2008,2009,2010,2011,2012,2013,2014,2015,2016,2017,2018,2019,1990,1991,1992,1993,1994,1995,1996,1997,1998,1999,2000,2001,2002,2003,2004,2005,2006,2007,2008,2009,2010,2011,2012,2013,2014,2015,2016,2017,2018,2019]
[null,1990,1991,1992,1993,1994,1995,1996,"1997 Total shipments with default data for undisclosed states ($1000)",1998,1999,2000,2001,"2002 Total shipments of semiconductors ($1000)",2003,2004,2005,2006,"2007 Total shipments of semiconductors ($1000)",2008,2009,2010,2011,"2012 Total shipments of semiconductors ($1000)",2013,2014,2015,2016,"2017 Total shipments of semiconductors ($1000)",2018,2019,2020,2021,2022,2023,2024,2025,{"$f":"SUM(AL4:AL55)","v":0.99999999999999967},{"$f":"SUM(AM4:AM55)","v":0.99999999999999967},0.99999999999999967,0.99999999999999967,0.99999999999999967,0.99999999999999967,0.99999999999999967,0.99999999999999967,0.99999999999999956,1.0000000000000002,{"$f":"SUM(AV4:AV55)","v":1.0000000000000002},1,1.0000000000000002,1.0000000000000002,1.0000000000000002,0.99999999999999989,{"$f":"SUM(BB4:BB55)","v":0.99999999999999989},1,1.0000000000000002,0.99999999999999978,1.0000000000000002,0.99999999999999978,1.0000000000000004,1.0000000000000002,1.0000000000000002,1,1,{"$f":"SUM(BM4:BM55)","v":1.0000000000000002},{"$f":"SUM(BN4:BN55)","v":1.0000000000000002},{"$f":"SUM(BO4:BO55)","v":1.0000000000000002}]
["AL",{"$f":"$I4","v":0},{"$f":"$I4","v":0},0,0,0,0,0,0,{"$f":"($N4-$I4)/5+I4","v":0},0,0,0,0,{"$f":"($S4-$N4)/5+N4","v":0},0,0,0,null,{"$f":"($X4-$S4)/5+S4","v":108338.20800000001},216676.41600000003,325014.62400000007,433352.83200000005,{"$f":"(X$56-X$57)/25","v":541691.04},{"$f":"($AC4-$X4)/5+X4","v":433352.83200000005},325014.62400000007,216676.41600000006,108338.20800000004,0,{"$f":"$AC4","v":0},{"$f":"$AC4","v":0},{"$f":"$AC4","v":0},{"$f":"$AC4","v":0},null,null,null,null,{"$f":"$I4/$I$56","v":0},0,0,0,0,0,0,0,{"$f":"($AX4-$AS4)/5+AS4","v":0},{"$f":"($AX4-$AS4)/5+AT4","v":0},{"$f":"($AX4-$AS4)/5+AU4","v":0},{"$f":"($AX4-$AS4)/5+AV4","v":0},{"$f":"$N4/$N$56","v":0},{"$f":"($BC4-$AX4)/5+AX4","v":0},{"$f":"($BC4-$AX4)/5+AY4","v":0},{"$f":"($BC4-$AX4)/5+AZ4","v":0},{"$f":"($BC4-$AX4)/5+BA4","v":0},{"$f":"$S4/$S$56","v":0},{"$f":"($BH4-$BC4)/5+BC4","v":2.2285760798657203E-3},{"$f":"($BH4-$BC4)/5+BD4","v":4.4571521597314406E-3},{"$f":"($BH4-$BC4)/5+BE4","v":6.6857282395971608E-3},{"$f":"($BH4-$BC4)/5+BF4","v":8.9143043194628811E-3},{"$f":"$X4/$X$56","v":1.1142880399328602E-2},{"$f":"($BM4-$BH4)/5+BH4","v":8.9143043194628811E-3},{"$f":"($BM4-$BH4)/5+BI4","v":6.6857282395971608E-3},{"$f":"($BM4-$BH4)/5+BJ4","v":4.4571521597314406E-3},{"$f":"($BM4-$BH4)/5+BK4","v":2.2285760798657203E-3},{"$f":"$AC4/$AC$56","v":0},{"$f":"BM4","v":0},0,{"$f":"AL4*B$64","v":0},{"$f":"AM4*C$64","v":0},{"$f":"AN4*D$64","v":0},{"$f":"AO4*E$64","v":0},{"$f":"AP4*F$64","v":0},{"$f":"AQ4*G$64","v":0},{"$f":"AR4*H$64","v":0},{"$f":"AS4*I$64","v":0},{"$f":"AT4*J$64","v":0},{"$f":"AU4*K$64","v":0},{"$f":"AV4*L$64","v":0},{"$f":"AW4*M$64","v":0},{"$f":"AX4*N$64","v":0},{"$f":"AY4*O$64","v":0},{"$f":"AZ4*P$64","v":0},{"$f":"BA4*Q$64","v":0},{"$f":"BB4*R$64","v":0},{"$f":"BC4*S$64","v":0},{"$f":"BD4*T$64","v":8834.0423384359365},{"$f":"BE4*U$64","v":12746.09036668127},{"$f":"BF4*V$64","v":24525.777027833788},{"$f":"BG4*W$64","v":42746.954200853172},{"$f":"BH4*X$64","v":49578.571879567455},{"$f":"BI4*Y$64","v":36569.11844723879},{"$f":"BJ4*Z$64","v":28665.561171650672},{"$f":"BK4*AA$64","v":19341.078805814795},{"$f":"BL4*AB$64","v":9649.1322052802116},{"$f":"BM4*AC$64","v":0},{"$f":"BN4*AD$64","v":0},{"$f":"BO4*AE$64","v":0}]
["AK",{"$f":"$I5","v":0},0,0,0,0,0,0,0,0,0,0,0,0,0,0,0,0,null,0,0,0,0,0,0,0,0,0,0,{"$f":"$AC5","v":0},0,0,0,null,null,null,null,{"$f":"$I5/$I$56","v":0},0,0,0,0,0,0,0,{"$f":"($AX5-$AS5)/5+AS5","v":0},0,0,0,{"$f":"$N5/$N$56","v":0},{"$f":"($BC5-$AX5)/5+AX5","v":0},0,0,0,{"$f":"$S5/$S$56","v":0},{"$f":"($BH5-$BC5)/5+BC5","v":0},0,0,{"$f":"($BH5-$BC5)/5+BF5","v":0},{"$f":"$X5/$X$56","v":0},{"$f":"($BM5-$BH5)/5+BH5","v":0},0,0,0,{"$f":"$AC5/$AC$56","v":0},{"$f":"BM5","v":0},0,0,0,0,0,0,0,0,0,0,0,0,0,0,0,0,0,0,0,0,0,0,0,0,0,0,0,0,0,0,0]
["AZ",10329715,10329715,10329715,10329715,10329715,10329715,10329715,10329715,10309014.199999999,10288313.399999999,10267612.599999998,10246911.799999997,10226211,9330706.1999999993,8435201.3999999985,7539696.5999999987,6644191.7999999989,5748687,4891692.5999999996,4034698.1999999997,3177703.8,2320709.4,1463715,2297685,3131655,3965625,4799595,5633565,5633565,5633565,5633565,5633565,null,null,null,null,0.13152244215469397,0.13152244215469397,0.13152244215469397,0.13152244215469397,0.13152244215469397,0.13152244215469397,0.13152244215469397,0.13152244215469397,0.13848935210534294,0.14545626205599191,0.15242317200664088,{"$f":"($AX6-$AS6)/5+AV6","v":0.15939008195728985},0.16635699190793884,0.14896582064723374,0.13157464938652863,0.11418347812582351,9.6792306865118388E-2,7.9401135604413253E-2,6.9542791800523723E-2,5.9684447996634193E-2,4.9826104192744664E-2,3.9967760388855134E-2,3.01094165849656E-2,4.582596661392388E-2,6.1542516642882156E-2,7.7259066671840432E-2,9.2975616700798708E-2,0.10869216672975698,0.10869216672975698,0.10869216672975698,431090.11951938958,431090.11951938958,431090.11951938958,538862.64939923678,592748.91433916066,744884.33476153004,827166.38741690165,874149.48394668859,1128638.9785127619,1202912.9517089601,1062580.5805244674,787658.58942461689,844897.71476906678,723816.58107189438,603429.30547566176,494164.06821310346,457119.82482835656,340674.09500608704,275666.58937480766,170679.24548854216,182780.97430871663,191658.25639616567,133967.32450789859,187991.69750183789,263868.15501046513,335253.01434936892,402559.29582961375,462646.53024052351,479126.34652068146,443865.84216364106]
["AR",0,0,0,0,0,0,0,0,0,0,0,0,0,0,0,0,0,null,0,0,0,0,0,0,0,0,0,0,0,0,0,0,null,null,null,null,0,0,0,0,0,0,0,0,0,0,0,0,0,0,0,0,0,0,0,0,0,0,0,0,0,0,0,0,0,0,0,0,0,0,0,0,0,0,0,0,0,0,0,0,0,0,0,0,0,0,0,0,0,0,0,0,0,0,0,0]
["CA",16040142,16040142,16040142,16040142,16040142,16040142,16040142,16040142,15219501.199999999,14398860.399999999,13578219.599999998,12757578.799999997,11936938,11790117,11643296,11496475,11349654,11202833,11041787.6,10880742.199999999,{"$f":"($X8-$S8)/5+U8","v":10719696.799999999},10558651.399999999,10397606,{"$f":"($AC8-$X8)/5+X8","v":10019907},9642208,9264509,8886810,8509111,{"$f":"$AC8","v":8509111},{"$f":"$AC8","v":8509111},8509111,8509111,null,null,null,null,0.20423009234505279,0.20423009234505279,0.20423009234505279,0.20423009234505279,0.20423009234505279,0.20423009234505279,0.20423009234505279,0.20423009234505279,0.20222139296268279,0.20021269358031279,0.1982039941979428,0.1961952948155728,0.19418659543320274,0.1862960877553794,0.17840558007755605,0.17051507239973271,0.16262456472190936,0.15473405704408602,0.16656413191987174,0.17839420679565746,0.19022428167144317,0.20205435654722889,0.21388443142301461,0.20394194792009643,0.19399946441717825,0.18405698091426007,0.17411449741134188,0.16417201390842373,0.16417201390842373,0.16417201390842373,669403.43774131034,669403.43774131034,669403.43774131034,836754.2971766378,920429.72689430171,1156667.9722674319,1284436.8224867883,1357392.9050057628,1648032.450994655,1655744.7496594358,1381730.3002193284,969539.05329937709,986239.34490888508,905202.25861402892,818205.90654148126,737956.34229894041,768025.01093459211,663893.33664875594,660257.7344066418,510152.80592235434,697814.53124615364,968915.57836424338,951646.63688441634,836630.31713729748,831787.25117507426,798684.99998383457,753868.72342235059,698795.64353681391,723687.26828729978,670428.71078595915]
["CO",1416921,1416921,1416921,1416921,1416921,1416921,1416921,1416921,1371783.6,1326646.2000000002,1281508.8000000003,1236371.4000000004,1191234,1402247.2,1613260.4,1824273.5999999999,2035286.7999999998,2246300,2000021.2,1753742.4,1507463.5999999999,1261184.7999999998,1014906,896964,779022,661080,543138,425196,425196,425196,{"$f":"$AC9","v":425196},425196,null,null,null,null,1.8040856912341835E-2,1.8040856912341835E-2,1.8040856912341835E-2,1.8040856912341835E-2,1.8040856912341835E-2,1.8040856912341835E-2,1.8040856912341835E-2,1.8040856912341835E-2,1.8308414377996424E-2,1.8575971843651014E-2,1.8843529309305603E-2,1.9111086774960193E-2,1.9378644240614789E-2,2.1708115672423353E-2,2.4037587104231917E-2,2.6367058536040482E-2,2.8696529967849046E-2,3.1026001399657607E-2,2.8996235210185101E-2,2.6966469020712595E-2,2.4936702831240089E-2,2.2906936641767583E-2,2.0877170452295084E-2,1.834245496630147E-2,1.5807739480307857E-2,1.3273023994314246E-2,1.0738308508320634E-2,8.203593022327026E-3,8.203593022327026E-3,8.203593022327026E-3,59132.381023051748,59132.381023051748,59132.381023051748,73915.476278814662,81307.023906696151,102175.3510619259,113461.93237907761,119906.57641021325,149207.06745780958,153621.96721862126,131363.02078623191,94441.332024474395,98420.703851623475,105478.51849006317,110241.48313711937,114111.54334101547,135524.74547759915,133118.43549877967,114940.64385607882,77115.844083955148,91477.246985019025,109846.12331099827,92889.832683967397,75246.186829331622,67776.868400739157,57596.10483680918,46493.974064423383,34918.467093598752,36162.28907187681,33500.985721228302]
["CT",151230,151230,151230,151230,151230,151230,151230,151230,139814.79999999999,128399.59999999999,116984.4,105569.2,94154,104301,114448,124595,134742,144889,224249.408,303609.81599999999,382970.22399999999,462330.63199999998,{"$f":"(X$56-X$57)/25","v":541691.04},452237.23200000002,362783.424,273329.61599999998,183875.80799999996,94422,94422,94422,94422,94422,null,null,null,null,1.9255263990395058E-3,1.9255263990395058E-3,1.9255263990395058E-3,1.9255263990395058E-3,1.9255263990395058E-3,1.9255263990395058E-3,1.9255263990395058E-3,1.9255263990395058E-3,1.8467550334467537E-3,1.7679836678540016E-3,1.6892123022612495E-3,1.6104409366684974E-3,1.5316695710757458E-3,1.6255783953011424E-3,1.7194872195265391E-3,1.8133960437519358E-3,1.9073048679773324E-3,2.0012136922027291E-3,3.8295470336279038E-3,5.6578803750530786E-3,7.4862137164782537E-3,9.314547057903428E-3,1.1142880399328602E-2,9.2786537772913472E-3,7.4144271552540929E-3,5.5502005332168387E-3,3.6859739111795844E-3,1.8217472891423306E-3,1.8217472891423306E-3,1.8217472891423306E-3,6311.2833969685789,6311.2833969685789,6311.2833969685789,7889.1042462107216,8678.0146708317952,10905.321003143472,12109.953930873991,12797.799983567573,15050.396892081584,14621.099307864981,11775.927276251856,7958.3222553826699,7779.0786280829434,7898.5943972850455,7885.9338291302383,7848.0282871970066,9007.6049985979807,8586.2961318535763,15180.267318555738,16179.805391396891,27462.260177676537,44666.246766621553,49578.571879567455,38063.787913528584,31789.912415657847,24084.182467643244,15959.270987207488,7754.2392212339273,8030.451036098063,7439.4633857557901]
["DC",0,0,0,0,0,0,0,null,0,0,0,0,0,0,0,0,0,null,0,0,0,0,0,0,0,0,0,0,0,0,0,0,null,null,null,null,0,0,0,0,0,0,0,0,0,0,0,0,0,0,0,0,0,0,0,0,0,0,0,0,0,0,0,0,0,0,0,0,0,0,0,0,0,0,0,0,0,0,0,0,0,0,0,0,0,0,0,0,0,0,0,0,0,0,0,0]
["DE",0,0,0,0,0,0,0,0,0,0,0,0,0,0,0,0,0,null,0,0,0,0,0,0,0,0,0,0,0,0,0,0,null,null,null,null,0,0,0,0,0,0,0,0,0,0,0,0,0,0,0,0,0,0,0,0,0,0,0,0,0,0,0,0,0,0,0,0,0,0,0,0,0,0,0,0,0,0,0,0,0,0,0,0,0,0,0,0,0,0,0,0,0,0,0,0]
["FL",605877,605877,605877,605877,605877,605877,605877,605877,670081.80000000005,734286.60000000009,798491.40000000014,862696.20000000019,926901,953381.8666666667,979862.7333333334,1006343.6000000001,1032824.4666666668,{"$f":"($S$56-$S$57)/15","v":1059305.3333333333},955782.47466666659,852259.61599999992,748736.75733333325,645213.89866666659,{"$f":"(X$56-X$57)/25","v":541691.04},562169.23200000008,582647.42400000012,603125.61600000015,623603.80800000019,644082,644082,644082,644082,644082,null,null,null,null,7.7142905380602964E-3,7.7142905380602964E-3,7.7142905380602964E-3,7.7142905380602964E-3,7.7142905380602964E-3,7.7142905380602964E-3,7.7142905380602964E-3,7.7142905380602964E-3,9.1871429835839076E-3,1.0659995429107519E-2,1.213284787463113E-2,1.3605700320154741E-2,1.5078552765678356E-2,1.498907724389778E-2,1.4899601722117205E-2,1.4810126200336629E-2,1.4720650678556053E-2,1.4631175156775481E-2,1.3933516205286106E-2,1.323585725379673E-2,1.2538198302307355E-2,1.1840539350817979E-2,1.1142880399328602E-2,1.1399645950619541E-2,1.165641150191048E-2,1.1913177053201419E-2,1.2169942604492359E-2,1.2426708155783298E-2,1.2426708155783298E-2,1.2426708155783298E-2,25285.072080309012,25285.072080309012,25285.072080309012,31606.340100386253,34766.974110424882,43690.29407803715,48516.448838035714,51272.185813952063,74871.948744157591,88157.404745459819,84581.158942676411,67235.342316837341,76581.300416856524,72831.087003460852,68332.740090597537,64095.369435524786,69521.034031331452,62775.706134018888,55232.250400981269,37850.498836807048,45994.848260790641,56779.191645693456,49578.571879567455,46764.72645370831,49977.738396689652,51695.272666544188,52692.562835231765,52894.091483878648,54778.218680308746,50746.907038871876]
["GA",0,0,0,0,0,0,0,0,0,0,0,0,0,211861.06666666665,423722.1333333333,635583.19999999995,847444.2666666666,{"$f":"($S$56-$S$57)/15","v":1059305.3333333333},955782.47466666659,852259.61599999992,748736.75733333325,645213.89866666659,{"$f":"(X$56-X$57)/25","v":541691.04},552695.45700000005,563699.87400000007,574704.29100000008,585708.7080000001,{"$f":"($AC$56-$AC$57)/8","v":596713.125},596713.125,596713.125,596713.125,596713.125,null,null,null,null,0,0,0,0,0,0,0,0,0,0,0,0,0,2.9262350313550962E-3,5.8524700627101923E-3,8.778705094065288E-3,1.1704940125420385E-2,1.4631175156775481E-2,1.3933516205286106E-2,1.323585725379673E-2,1.2538198302307355E-2,1.1840539350817979E-2,1.1142880399328602E-2,1.121686202394785E-2,1.1290843648567098E-2,1.1364825273186345E-2,1.1438806897805593E-2,1.1512788522424844E-2,1.1512788522424844E-2,1.1512788522424844E-2,0,0,0,0,0,0,0,0,0,0,0,0,0,14218.412160625956,26840.671525436683,37992.542302363945,55278.775277199034,62775.706134018888,55232.250400981269,37850.498836807048,45994.848260790641,56779.191645693456,49578.571879567455,46014.892610800955,48410.33881255173,49315.790295177401,49526.942797594704,49004.006668997295,50749.566127698665,47014.736451647048]
["HI",0,0,0,0,0,0,0,0,0,0,0,0,0,0,0,0,0,null,0,0,0,0,0,0,0,0,0,0,0,0,0,0,null,null,null,null,0,0,0,0,0,0,0,0,0,0,0,0,0,0,0,0,0,0,0,0,0,0,0,0,0,0,0,0,0,0,0,0,0,0,0,0,0,0,0,0,0,0,0,0,0,0,0,0,0,0,0,0,0,0,0,0,0,0,0,0]
["ID",2198945,2198945,2198945,2198945,2198945,2198945,2198945,2198945,2581119.6,2963294.2,3345468.8000000003,3727643.4000000004,4109818,3499715.4666666668,2889612.9333333336,2279510.4000000004,1669407.8666666669,{"$f":"($S$56-$S$57)/15","v":1059305.3333333333},955782.47466666659,852259.61599999992,748736.75733333325,645213.89866666659,{"$f":"(X$56-X$57)/25","v":541691.04},552695.45700000005,563699.87400000007,574704.29100000008,585708.7080000001,{"$f":"($AC$56-$AC$57)/8","v":596713.125},596713.125,596713.125,596713.125,596713.125,null,null,null,null,2.7997927974184527E-2,2.7997927974184527E-2,2.7997927974184527E-2,2.7997927974184527E-2,2.7997927974184527E-2,2.7997927974184527E-2,2.7997927974184527E-2,2.7997927974184527E-2,3.5769804395320133E-2,4.3541680816455743E-2,5.1313557237591352E-2,5.9085433658726962E-2,6.6857310079862564E-2,5.6412083095245147E-2,4.596685611062773E-2,3.5521629126010312E-2,2.5076402141392895E-2,1.4631175156775481E-2,1.3933516205286106E-2,1.323585725379673E-2,1.2538198302307355E-2,1.1840539350817979E-2,1.1142880399328602E-2,1.121686202394785E-2,1.1290843648567098E-2,1.1364825273186345E-2,1.1438806897805593E-2,1.1512788522424844E-2,1.1512788522424844E-2,1.1512788522424844E-2,91768.597959049599,91768.597959049599,91768.597959049599,114710.74744881198,126181.8221936932,158567.75172424337,176083.5988000113,186085.15694548699,291511.1875433338,360086.60646820581,357719.81858453737,291982.71786851384,339556.44337054814,274103.15292283252,210813.77139946018,153730.75900808853,118428.01277763436,62775.706134018888,55232.250400981269,37850.498836807048,45994.848260790641,56779.191645693456,49578.571879567455,46014.892610800955,48410.33881255173,49315.790295177401,49526.942797594704,49004.006668997295,50749.566127698665,47014.736451647048]
["IL",57360,57360,57360,57360,57360,57360,57360,57360,158737.51999999999,260115.03999999998,361492.55999999994,462870.07999999996,{"$f":"($N$56-$N$57)/10","v":564247.6},459209.88,354172.16000000003,249134.44000000003,144096.72000000003,39059,139585.408,240111.81599999999,340638.22399999999,441164.63199999998,{"$f":"(X$56-X$57)/25","v":541691.04},453053.03200000001,364415.02399999998,275777.01599999995,187139.00799999994,98501,98501,98501,98501,98501,null,null,null,null,7.3033256793563481E-4,7.3033256793563481E-4,7.3033256793563481E-4,7.3033256793563481E-4,7.3033256793563481E-4,7.3033256793563481E-4,7.3033256793563481E-4,7.3033256793563481E-4,2.4200688443999532E-3,4.1098051208642719E-3,5.7995413973285902E-3,7.4892776737929085E-3,9.1790139502572268E-3,7.4511081097378322E-3,5.7232022692184376E-3,3.995296428699043E-3,2.2673905881796484E-3,5.3948474766025306E-4,2.6601638779939229E-3,4.7808430083275929E-3,6.9015221386612632E-3,9.0222012689949328E-3,1.1142880399328602E-2,9.2943935565639995E-3,7.4459067137993967E-3,5.597419871034794E-3,3.7489330282701912E-3,1.9004461855055888E-3,1.9004461855055888E-3,1.9004461855055888E-3,2393.8055653647934,2393.8055653647934,2393.8055653647934,2992.2569567059909,3291.4826523765905,4136.2772779230945,4593.1822884013236,4854.0752962866891,19722.700604422469,33987.796324536364,40430.073614270434,37009.792679131016,46618.587060635698,36204.517074821044,26247.821951367536,17290.872281431159,10708.177354740408,2314.6832445117907,10544.849932514848,13671.74707733817,25317.390575789177,43264.354751111285,49578.571879567455,38128.357153250225,31924.883383486376,24289.08301874996,16231.866950981625,8089.2198590451699,8377.3639353825947,7760.8458088192483]
["IN",1798064.5555555555,1798064.5555555555,1798064.5555555555,1798064.5555555555,1798064.5555555555,1798064.5555555555,1798064.5555555555,{"$f":"($I$56-$I$57)/9","v":1798064.5555555555},1441997.0444444444,1085929.5333333332,729862.02222222206,373794.51111111097,17727,226042.66666666666,434358.33333333331,642674,850989.66666666663,{"$f":"($S$56-$S$57)/15","v":1059305.3333333333},955782.47466666659,852259.61599999992,748736.75733333325,645213.89866666659,{"$f":"(X$56-X$57)/25","v":541691.04},552695.45700000005,563699.87400000007,574704.29100000008,585708.7080000001,{"$f":"($AC$56-$AC$57)/8","v":596713.125},596713.125,596713.125,596713.125,596713.125,null,null,null,null,2.2893743099249211E-2,2.2893743099249211E-2,2.2893743099249211E-2,2.2893743099249211E-2,2.2893743099249211E-2,2.2893743099249211E-2,2.2893743099249211E-2,2.2893743099249211E-2,1.8372670003511907E-2,1.3851596907774603E-2,9.3305238120372988E-3,4.8094507162999948E-3,2.8837762056269247E-4,3.1569371278052502E-3,6.0254966350478077E-3,8.8940561422903644E-3,1.1762615649532921E-2,1.4631175156775481E-2,1.3933516205286106E-2,1.323585725379673E-2,1.2538198302307355E-2,1.1840539350817979E-2,1.1142880399328602E-2,1.121686202394785E-2,1.1290843648567098E-2,1.1364825273186345E-2,1.1438806897805593E-2,1.1512788522424844E-2,1.1512788522424844E-2,1.1512788522424844E-2,75038.649581137768,75038.649581137768,75038.649581137768,93798.311976422177,103178.14317406442,129659.92966149464,143982.53608751699,152160.75209642481,149730.72795909006,114551.72219261265,65045.447344187283,23766.881355410525,1464.6188886295467,15339.380728940085,27634.208159289279,38491.759388751314,55551.158758212099,62775.706134018888,55232.250400981269,37850.498836807048,45994.848260790641,56779.191645693456,49578.571879567455,46014.892610800955,48410.33881255173,49315.790295177401,49526.942797594704,49004.006668997295,50749.566127698665,47014.736451647048]
["IA",0,0,0,0,0,0,0,0,0,0,0,0,0,0,0,0,0,null,108338.20800000001,216676.41600000003,325014.62400000007,433352.83200000005,{"$f":"(X$56-X$57)/25","v":541691.04},434930.83200000005,328170.62400000007,221410.41600000006,114650.20800000004,7890,7890,7890,7890,7890,null,null,null,null,0,0,0,0,0,0,0,0,0,0,0,0,0,0,0,0,0,0,2.2285760798657203E-3,4.4571521597314406E-3,6.6857282395971608E-3,8.9143043194628811E-3,1.1142880399328602E-2,8.9447497370802442E-3,6.7466190748318861E-3,4.5484884125835279E-3,2.3503577503351698E-3,1.5222708808681226E-4,1.5222708808681226E-4,1.5222708808681226E-4,0,0,0,0,0,0,0,0,0,0,0,0,0,0,0,0,0,0,8834.0423384359365,12746.09036668127,24525.777027833788,42746.954200853172,49578.571879567455,36694.014574084511,28926.635193755865,19737.417454560073,10176.413929766095,647.95225112299761,671.03279611545736,621.64925667337252]
["KS",13193,13193,13193,13193,13193,13193,13193,13193,123403.92,233614.84,343825.76,454036.68,{"$f":"($N$56-$N$57)/10","v":564247.6},663259.14666666661,762270.69333333324,861282.23999999987,960293.78666666651,{"$f":"($S$56-$S$57)/15","v":1059305.3333333333},955782.47466666659,852259.61599999992,748736.75733333325,645213.89866666659,{"$f":"(X$56-X$57)/25","v":541691.04},433352.83200000005,325014.62400000007,216676.41600000006,108338.20800000004,0,0,0,0,0,null,null,null,null,1.6797903711253189E-4,1.6797903711253189E-4,1.6797903711253189E-4,1.6797903711253189E-4,1.6797903711253189E-4,1.6797903711253189E-4,1.6797903711253189E-4,1.6797903711253189E-4,1.9701860197414707E-3,3.7723930023704096E-3,5.574599984999349E-3,7.3768069676282879E-3,9.1790139502572268E-3,1.0269446191560878E-2,1.1359878432864529E-2,1.2450310674168181E-2,1.3540742915471832E-2,1.4631175156775481E-2,1.3933516205286106E-2,1.323585725379673E-2,1.2538198302307355E-2,1.1840539350817979E-2,1.1142880399328602E-2,8.9143043194628811E-3,6.6857282395971608E-3,4.4571521597314406E-3,2.2285760798657203E-3,0,0,0,550.58362663629214,550.58362663629214,550.58362663629214,688.22953329536494,757.05248662490158,951.35819608855275,1056.4479416122499,1116.4542430946701,16056.315543376346,31197.422079640764,38861.949992709888,36453.995751986244,46618.587060635698,49898.663999441502,52098.816793299651,53882.543028548178,63948.698300907301,62775.706134018888,55232.250400981269,37850.498836807048,45994.848260790641,56779.191645693456,49578.571879567455,36569.11844723879,28665.561171650672,19341.078805814795,9649.1322052802116,0,0,0]
["KY",0,0,0,0,0,0,0,0,0,0,0,0,0,0,0,0,0,null,0,0,0,0,0,0,0,0,0,0,0,0,0,0,null,null,null,null,0,0,0,0,0,0,{"$f":"$I21/$I$56","v":0},0,0,0,0,0,0,0,0,0,0,0,0,0,0,0,0,0,0,0,0,0,0,0,0,0,0,0,0,0,0,0,0,0,0,0,0,0,0,0,0,0,0,0,0,0,0,0,0,0,0,0,0,0]
["LA",0,0,0,0,0,0,0,0,0,0,0,0,0,211861.06666666665,423722.1333333333,635583.19999999995,847444.2666666666,{"$f":"($S$56-$S$57)/15","v":1059305.3333333333},955782.47466666659,852259.61599999992,748736.75733333325,645213.89866666659,{"$f":"(X$56-X$57)/25","v":541691.04},552695.45700000005,563699.87400000007,574704.29100000008,585708.7080000001,{"$f":"($AC$56-$AC$57)/8","v":596713.125},596713.125,596713.125,596713.125,596713.125,null,null,null,null,0,0,0,0,0,0,0,0,0,0,0,0,0,2.9262350313550962E-3,5.8524700627101923E-3,8.778705094065288E-3,1.1704940125420385E-2,1.4631175156775481E-2,1.3933516205286106E-2,1.323585725379673E-2,1.2538198302307355E-2,1.1840539350817979E-2,1.1142880399328602E-2,1.121686202394785E-2,1.1290843648567098E-2,1.1364825273186345E-2,1.1438806897805593E-2,1.1512788522424844E-2,1.1512788522424844E-2,1.1512788522424844E-2,0,0,0,0,0,0,0,0,0,0,0,0,0,14218.412160625956,26840.671525436683,37992.542302363945,55278.775277199034,62775.706134018888,55232.250400981269,37850.498836807048,45994.848260790641,56779.191645693456,49578.571879567455,46014.892610800955,48410.33881255173,49315.790295177401,49526.942797594704,49004.006668997295,50749.566127698665,47014.736451647048]
["ME",1798064.5555555555,1798064.5555555555,1798064.5555555555,1798064.5555555555,1798064.5555555555,1798064.5555555555,1798064.5555555555,{"$f":"($I$56-$I$57)/9","v":1798064.5555555555},1551301.1644444445,1304537.7733333334,1057774.3822222224,811010.99111111136,{"$f":"($N$56-$N$57)/10","v":564247.6},663259.14666666661,762270.69333333324,861282.23999999987,960293.78666666651,{"$f":"($S$56-$S$57)/15","v":1059305.3333333333},955782.47466666659,852259.61599999992,748736.75733333325,645213.89866666659,{"$f":"(X$56-X$57)/25","v":541691.04},433352.83200000005,325014.62400000007,216676.41600000006,108338.20800000004,0,0,0,0,0,null,null,null,null,2.2893743099249211E-2,2.2893743099249211E-2,2.2893743099249211E-2,2.2893743099249211E-2,2.2893743099249211E-2,2.2893743099249211E-2,2.2893743099249211E-2,2.2893743099249211E-2,2.0150797269450814E-2,1.7407851439652417E-2,1.466490560985402E-2,1.1921959780055624E-2,9.1790139502572268E-3,1.0269446191560878E-2,1.1359878432864529E-2,1.2450310674168181E-2,1.3540742915471832E-2,1.4631175156775481E-2,1.3933516205286106E-2,1.323585725379673E-2,1.2538198302307355E-2,1.1840539350817979E-2,1.1142880399328602E-2,8.9143043194628811E-3,6.6857282395971608E-3,4.4571521597314406E-3,2.2285760798657203E-3,0,0,0,75038.649581137768,75038.649581137768,75038.649581137768,93798.311976422177,103178.14317406442,129659.92966149464,143982.53608751699,152160.75209642481,164221.83294720817,143961.69447914636,102232.77544424997,58914.795125407421,46618.587060635698,49898.663999441502,52098.816793299651,53882.543028548178,63948.698300907301,62775.706134018888,55232.250400981269,37850.498836807048,45994.848260790641,56779.191645693456,49578.571879567455,36569.11844723879,28665.561171650672,19341.078805814795,9649.1322052802116,0,0,0]
["MD",68435,68435,68435,68435,68435,68435,68435,68435,{"$f":"($N24-$I24)/5+I24","v":167597.51999999999},266760.03999999998,365922.55999999994,465085.07999999996,{"$f":"($N$56-$N$57)/10","v":564247.6},{"$f":"($S24-$N24)/5+N24","v":663259.14666666661},762270.69333333324,861282.23999999987,960293.78666666651,{"$f":"($S$56-$S$57)/15","v":1059305.3333333333},{"$f":"($X24-$S24)/5+S24","v":955782.47466666659},852259.61599999992,748736.75733333325,645213.89866666659,{"$f":"(X$56-X$57)/25","v":541691.04},{"$f":"($AC24-$X24)/5+X24","v":433352.83200000005},325014.62400000007,216676.41600000006,108338.20800000004,0,0,0,0,0,null,null,null,null,8.7134430416100359E-4,8.7134430416100359E-4,8.7134430416100359E-4,8.7134430416100359E-4,8.7134430416100359E-4,8.7134430416100359E-4,8.7134430416100359E-4,8.7134430416100359E-4,{"$f":"($AX24-$AS24)/5+AS24","v":2.5328782333802484E-3},4.1944121625994927E-3,5.8559460918187374E-3,7.5174800210379821E-3,9.1790139502572268E-3,1.0269446191560878E-2,1.1359878432864529E-2,1.2450310674168181E-2,1.3540742915471832E-2,1.4631175156775481E-2,1.3933516205286106E-2,1.323585725379673E-2,1.2538198302307355E-2,1.1840539350817979E-2,1.1142880399328602E-2,8.9143043194628811E-3,6.6857282395971608E-3,4.4571521597314406E-3,2.2285760798657203E-3,0,0,0,2855.9986726942052,2855.9986726942052,2855.9986726942052,3569.9983408677558,3926.9981749545318,4934.904733519299,5480.02841538955,5791.2943323113586,20642.05701421,34687.490547875481,40823.285041552852,37149.160328464874,46618.587060635698,49898.663999441502,52098.816793299651,53882.543028548178,63948.698300907301,62775.706134018888,55232.250400981269,37850.498836807048,45994.848260790641,56779.191645693456,49578.571879567455,36569.11844723879,28665.561171650672,19341.078805814795,9649.1322052802116,0,0,0]
["MA",1941028,1941028,1941028,1941028,1941028,1941028,1941028,1941028,2420169.4,2899310.8,3378452.1999999997,3857593.5999999996,4336735,3984999.6,3633264.2,3281528.8000000003,2929793.4000000004,2578058,2864265.2,3150472.4000000004,3436679.6000000006,3722886.8000000007,4009094,3836919,3664744,3492569,3320394,3148219,3148219,3148219,3148219,3148219,null,null,null,null,2.4714016103120108E-2,2.4714016103120108E-2,2.4714016103120108E-2,2.4714016103120108E-2,2.4714016103120108E-2,2.4714016103120108E-2,2.4714016103120108E-2,2.4714016103120108E-2,3.3880958697478293E-2,4.3047901291836478E-2,5.2214843886194663E-2,6.1381786480552848E-2,7.054872907491104E-2,6.3560634964189039E-2,5.6572540853467038E-2,4.9584446742745036E-2,4.2596352632023035E-2,3.560825852130102E-2,4.4980457242060179E-2,5.4352655962819338E-2,6.3724854683578497E-2,7.3097053404337656E-2,8.2469252125096815E-2,7.8123543931498896E-2,7.3777835737900976E-2,6.9432127544303057E-2,6.5086419350705138E-2,6.0740711157107233E-2,6.0740711157107233E-2,6.0740711157107233E-2,81004.944716333572,81004.944716333572,81004.944716333572,101256.18089541695,111381.79898495866,139969.14247232408,155430.53401135016,164258.9969351597,276117.76670214994,356003.08488544601,364002.91634246969,303330.61356095277,358304.5070221051,308837.56616549974,259453.6956425005,214591.92104386719,201169.26524554592,152778.81297471971,178301.86156467645,155431.95290263,233766.84200893072,350523.8639060522,366934.54455318773,320485.93240321253,316328.00312329549,301289.29916780395,281806.60770670348,258541.89962968222,267751.3559383789,248046.64146958027]
["MI",35905,35905,35905,35905,35905,35905,35905,35905,39856.199999999997,43807.399999999994,47758.599999999991,51709.799999999988,55661,256389.86666666664,457118.73333333328,657847.59999999986,858576.46666666656,{"$f":"($S$56-$S$57)/15","v":1059305.3333333333},955782.47466666659,852259.61599999992,748736.75733333325,645213.89866666659,{"$f":"(X$56-X$57)/25","v":541691.04},438994.83200000005,336298.62400000007,233602.41600000006,130906.20800000004,28210,28210,28210,28210,28210,null,null,null,null,4.5715813897714375E-4,4.5715813897714375E-4,4.5715813897714375E-4,4.5715813897714375E-4,4.5715813897714375E-4,4.5715813897714375E-4,4.5715813897714375E-4,4.5715813897714375E-4,5.468218655918242E-4,6.3648559220650465E-4,7.261493188211851E-4,8.1581304543586555E-4,9.0547677205054578E-4,3.6506164489955332E-3,6.3957561259405209E-3,9.1408958028855077E-3,1.1886035479830494E-2,1.4631175156775481E-2,1.3933516205286106E-2,1.323585725379673E-2,1.2538198302307355E-2,1.1840539350817979E-2,1.1142880399328602E-2,9.0231592283330705E-3,6.9034380573375397E-3,4.7837168863420088E-3,2.663995715346478E-3,5.4427454435094732E-4,5.4427454435094732E-4,5.4427454435094732E-4,1498.4237940101621,1498.4237940101621,1498.4237940101621,1873.0297425127021,2060.3327167639727,2589.1393944182132,2875.1431322358699,3038.4514210804314,4456.4037770972354,5263.6906216291181,5062.171024146146,4031.5065072518191,4598.7562452760876,17738.140906659282,29332.296875291115,39560.033826333463,56134.032057064163,62775.706134018888,55232.250400981269,37850.498836807048,45994.848260790641,56779.191645693456,49578.571879567455,37015.673547152321,29599.008340673172,20758.152732443978,11534.381564943938,2316.6961982483858,2399.2186537917687,2222.6521585241876]
["MN",372096,372096,372096,372096,372096,372096,372096,372096,365634.8,359173.6,352712.39999999997,346251.19999999995,339790,360474.6,381159.19999999995,401843.79999999993,422528.39999999991,443213,462908.60800000001,482604.21600000001,502299.82400000002,521995.43200000003,{"$f":"(X$56-X$57)/25","v":541691.04},526299.83200000005,510908.62400000007,495517.41600000008,480126.2080000001,464735,464735,464735,464735,464735,null,null,null,null,4.7376887586920843E-3,4.7376887586920843E-3,4.7376887586920843E-3,4.7376887586920843E-3,4.7376887586920843E-3,4.7376887586920843E-3,4.7376887586920843E-3,4.7376887586920843E-3,4.8956717571200497E-3,5.0536547555480151E-3,5.2116377539759805E-3,5.3696207524039459E-3,5.5276037508319104E-3,5.6464187668896701E-3,5.7652337829474298E-3,5.8840487990051895E-3,6.0028638150629492E-3,6.121678831120708E-3,7.1259191447622869E-3,8.1301594584038649E-3,9.1343997720454428E-3,1.0138640085687021E-2,1.1142880399328602E-2,1.0707593439412811E-2,1.027230647949702E-2,9.8370195195812294E-3,9.4017325596654384E-3,8.9664455997496458E-3,8.9664455997496458E-3,8.9664455997496458E-3,15528.686813981487,15528.686813981487,15528.686813981487,19410.858517476852,21351.94436922454,26832.151848083537,29796.108033210927,31488.528616581098,39897.984120012203,41793.365737490181,36331.648247431534,26535.075806767949,28073.721000024467,27435.632612857069,26440.587406231618,25465.028214298491,28349.650343946261,26265.334618136774,28247.037197354399,23249.766541196132,33508.429308484847,48618.037692021579,49578.571879567455,43925.721933885856,44043.284322861997,42686.128479406172,40706.961385121504,38165.537316304988,39525.022370433093,36616.244271242052]
["MS",0,0,0,0,0,0,0,0,0,0,0,0,0,0,0,0,0,null,0,0,0,0,0,0,0,0,0,0,0,0,0,0,null,null,null,null,0,0,0,0,0,0,0,0,0,0,0,0,0,0,0,0,0,0,0,0,0,0,0,0,0,0,0,0,0,0,0,0,0,0,0,0,0,0,0,0,0,0,0,0,0,0,0,0,0,0,0,0,0,0,0,0,0,0,0,0]
["MO",1798064.5555555555,1798064.5555555555,1798064.5555555555,1798064.5555555555,1798064.5555555555,1798064.5555555555,1798064.5555555555,{"$f":"($I$56-$I$57)/9","v":1798064.5555555555},1551301.1644444445,1304537.7733333334,1057774.3822222224,811010.99111111136,{"$f":"($N$56-$N$57)/10","v":564247.6},496610.68,428973.76,361336.84,293699.92000000004,226063,289188.60800000001,352314.21600000001,415439.82400000002,478565.43200000003,{"$f":"(X$56-X$57)/25","v":541691.04},489323.83200000005,436956.62400000007,384589.41600000008,332222.2080000001,279855,279855,279855,279855,279855,null,null,null,null,2.2893743099249211E-2,2.2893743099249211E-2,2.2893743099249211E-2,2.2893743099249211E-2,2.2893743099249211E-2,2.2893743099249211E-2,2.2893743099249211E-2,2.2893743099249211E-2,2.0150797269450814E-2,1.7407851439652417E-2,1.466490560985402E-2,1.1921959780055624E-2,9.1790139502572268E-3,7.9676897208976576E-3,6.7563654915380874E-3,5.5450412621785173E-3,4.3337170328189472E-3,3.1223928034593762E-3,4.7264903226332212E-3,6.3305878418070663E-3,7.9346853609809122E-3,9.5387828801547572E-3,1.1142880399328602E-2,9.9941905485258688E-3,8.8455006977231354E-3,7.696810846920402E-3,6.5481209961176685E-3,5.3994311453149368E-3,5.3994311453149368E-3,5.3994311453149368E-3,75038.649581137768,75038.649581137768,75038.649581137768,93798.311976422177,103178.14317406442,129659.92966149464,143982.53608751699,152160.75209642481,164221.83294720817,143961.69447914636,102232.77544424997,58914.795125407421,46618.587060635698,38714.558197071317,30986.128065760833,23997.868986861322,20466.791577335338,13396.764850714788,18735.73713708057,18103.542758735097,29107.423600747541,45741.529601989889,49578.571879567455,40999.131828532678,37925.747541263991,33399.044907793148,28351.594436712061,22982.595340687771,23801.252618110437,22049.639128811999]
["MT",0,0,0,0,0,0,0,0,0,0,0,0,0,0,0,0,0,null,0,0,0,0,0,0,0,0,0,0,0,0,0,0,null,null,null,null,0,0,0,0,0,0,0,0,0,0,0,0,0,0,0,0,0,0,0,0,0,0,0,0,0,0,0,0,0,0,0,0,0,0,0,0,0,0,0,0,0,0,0,0,0,0,0,0,0,0,0,0,0,0,0,0,0,0,0,0]
["NE",0,0,0,0,0,0,0,0,0,0,0,0,0,0,0,0,0,null,1221,2442,3663,4884,6105,7402.2,8699.4,9996.6,11293.800000000001,12591,12591,12591,12591,12591,null,null,null,null,0,0,0,0,0,0,0,0,0,0,0,0,0,0,0,0,0,0,2.511663653801662E-5,5.023327307603324E-5,7.5349909614049853E-5,1.0046654615206648E-4,1.2558318269008311E-4,1.4905187609125668E-4,1.7252056949243025E-4,1.9598926289360381E-4,2.1945795629477738E-4,2.4292664969595098E-4,2.4292664969595098E-4,2.4292664969595098E-4,0,0,0,0,0,0,0,0,0,0,0,0,0,0,0,0,0,0,99.561972588934452,143.65177922933552,276.41193539942117,481.76937797643581,558.76349980749046,611.45497351528036,739.69487854194438,850.46317533551394,950.19364737887042,1034.0135353472324,1070.8458727363402,992.03875675214613]
["NV",0,0,0,0,0,0,0,0,2918.8,5837.6,8756.4000000000015,11675.2,14594,223536.26666666666,432478.53333333333,641420.80000000005,850363.06666666665,{"$f":"($S$56-$S$57)/15","v":1059305.3333333333},955782.47466666659,852259.61599999992,748736.75733333325,645213.89866666659,{"$f":"(X$56-X$57)/25","v":541691.04},434538.23200000002,327385.424,220232.61599999998,113079.80799999998,5927,5927,5927,5927,5927,null,null,null,null,0,0,0,0,0,0,0,0,4.7482179663698697E-5,9.4964359327397394E-5,1.424465389910961E-4,1.8992871865479479E-4,2.3741089831849348E-4,3.1161637500098909E-3,5.9949166017012889E-3,8.8736694533926869E-3,1.1752422305084085E-2,1.4631175156775481E-2,1.3933516205286106E-2,1.323585725379673E-2,1.2538198302307355E-2,1.1840539350817979E-2,1.1142880399328602E-2,8.9371750406565583E-3,6.7314696819845143E-3,4.5257643233124704E-3,2.3200589646404264E-3,1.1435360596838231E-4,1.1435360596838231E-4,1.1435360596838231E-4,0,0,0,0,0,0,0,0,386.96288153931522,785.34850388013376,993.03094209498204,938.57148945407482,1205.7679280566147,15141.265169368349,27493.961627227443,38403.529731637791,55503.018777052646,62775.706134018888,55232.250400981269,37850.498836807048,45994.848260790641,56779.191645693456,49578.571879567455,36662.940924274859,28861.681035911446,19638.81000620938,10045.228375245719,486.74435898681969,504.0825579944634,466.98544287744983]
["NH",273485,273485,273485,273485,273485,273485,273485,273485,240317.2,207149.40000000002,173981.60000000003,140813.80000000005,107646,109525.8,111405.6,113285.40000000001,115165.20000000001,117045,201974.20800000001,286903.41600000003,371832.62400000007,456761.83200000005,{"$f":"(X$56-X$57)/25","v":541691.04},447650.23200000002,353609.424,259568.61599999998,165527.80799999996,71487,71487,71487,71487,71487,null,null,null,null,3.4821304452907439E-3,3.4821304452907439E-3,3.4821304452907439E-3,3.4821304452907439E-3,3.4821304452907439E-3,3.4821304452907439E-3,3.4821304452907439E-3,3.4821304452907439E-3,3.1359350477550363E-3,2.7897396502193287E-3,2.4435442526836212E-3,2.0973488551479136E-3,1.7511534576122069E-3,1.72424897664249E-3,1.6973444956727732E-3,1.6704400147030563E-3,1.6435355337333394E-3,1.6166310527636221E-3,3.521880922076618E-3,5.4271307913896141E-3,7.3323806607026101E-3,9.2376305300156062E-3,1.1142880399328602E-2,9.1901536945214867E-3,7.2374269897143712E-3,5.2847002849072556E-3,3.3319735801001396E-3,1.3792468752930227E-3,1.3792468752930227E-3,1.3792468752930227E-3,11413.352772729959,11413.352772729959,11413.352772729959,14266.690965912445,15693.360062503692,19721.230672119898,21899.694179627542,23143.59801961236,25556.755629042076,23070.948680456728,17034.566571286574,10364.477014446917,8893.798436589168,8378.0292268893409,7784.3825915725765,7229.3421685928806,7761.9048415314855,6936.2272550214429,13960.683441612313,15519.932239203268,26897.94241149538,44297.407295017394,49578.571879567455,37700.734343286946,31031.010933150552,22932.087802374186,14426.545213939589,5870.743038787039,6079.8633074658692,5632.4259077071465]
["NJ",307171,307171,307171,307171,307171,307171,307171,307171,321122,335073,349024,362975,376926,419645.6,462365.19999999995,505084.79999999993,547804.39999999991,590524,580757.40800000005,570990.81600000011,561224.22400000016,551457.63200000022,{"$f":"(X$56-X$57)/25","v":541691.04},479085.03200000001,416479.02399999998,353873.01599999995,291267.00799999991,228661,228661,228661,228661,228661,null,null,null,null,3.9110353072760963E-3,{"$f":"$I34/$I$56","v":3.9110353072760963E-3},3.9110353072760963E-3,3.9110353072760963E-3,3.9110353072760963E-3,3.9110353072760963E-3,3.9110353072760963E-3,3.9110353072760963E-3,4.3551725004405354E-3,4.7993096936049745E-3,5.2434468867694137E-3,5.6875840799338528E-3,6.1317212730982919E-3,6.5366460787583298E-3,6.9415708844183677E-3,7.3464956900784056E-3,7.7514204957384435E-3,8.1563453013984814E-3,8.7536523209845053E-3,9.3509593405705291E-3,9.9482663601565529E-3,1.0545573379742577E-2,1.1142880399328602E-2,9.7966464788803373E-3,8.4504125584320723E-3,7.1041786379838065E-3,5.7579447175355406E-3,4.411710797087273E-3,4.411710797087273E-3,4.411710797087273E-3,12819.171013226445,12819.171013226445,12819.171013226445,16023.963766533052,17626.360143186361,22150.356132094053,24597.147780866857,25994.267134513226,35493.107357489323,39689.950147883414,36553.397777668011,28106.356422070432,31141.926959755208,31761.197272279915,31835.519358970974,31794.216264096598,36607.537251081056,34995.161378480778,34699.347228111925,26740.880387008325,36493.999429656811,50569.413622257191,49578.571879567455,40188.747504357809,36231.77751748031,30827.414897163802,24930.344677101126,18778.378921931024,19447.278858372196,18016.088806107738]
["NM",1798064.5555555555,1798064.5555555555,1798064.5555555555,1798064.5555555555,1798064.5555555555,1798064.5555555555,1798064.5555555555,{"$f":"($I$56-$I$57)/9","v":1798064.5555555555},1551301.1644444445,1304537.7733333334,1057774.3822222224,811010.99111111136,{"$f":"($N$56-$N$57)/10","v":564247.6},663259.14666666661,762270.69333333324,861282.23999999987,960293.78666666651,{"$f":"($S$56-$S$57)/15","v":1059305.3333333333},955782.47466666659,852259.61599999992,748736.75733333325,645213.89866666659,{"$f":"(X$56-X$57)/25","v":541691.04},676361.03200000001,811031.02399999998,945701.01599999995,1080371.0079999999,1215041,1215041,1215041,1215041,1215041,null,null,null,null,2.2893743099249211E-2,2.2893743099249211E-2,2.2893743099249211E-2,2.2893743099249211E-2,2.2893743099249211E-2,2.2893743099249211E-2,2.2893743099249211E-2,2.2893743099249211E-2,2.0150797269450814E-2,1.7407851439652417E-2,1.466490560985402E-2,1.1921959780055624E-2,9.1790139502572268E-3,1.0269446191560878E-2,1.1359878432864529E-2,1.2450310674168181E-2,1.3540742915471832E-2,1.4631175156775481E-2,1.3933516205286106E-2,1.323585725379673E-2,1.2538198302307355E-2,1.1840539350817979E-2,{"$f":"$X35/$X$56","v":1.1142880399328602E-2},1.360282531657539E-2,1.6062770233822177E-2,1.8522715151068965E-2,2.0982660068315753E-2,2.3442604985562544E-2,2.3442604985562544E-2,2.3442604985562544E-2,75038.649581137768,75038.649581137768,75038.649581137768,93798.311976422177,103178.14317406442,129659.92966149464,143982.53608751699,152160.75209642481,164221.83294720817,143961.69447914636,102232.77544424997,58914.795125407421,46618.587060635698,49898.663999441502,52098.816793299651,53882.543028548178,63948.698300907301,62775.706134018888,55232.250400981269,37850.498836807048,45994.848260790641,56779.191645693456,49578.571879567455,55802.821217675984,68870.331880486789,80376.27628491605,90849.248022904299,99783.086331652492,103337.4346799647,95732.488526954534]
["NY",1167165,1167165,1167165,1167165,1167165,1167165,1167165,1167165,1193278.8,1219392.6000000001,1245506.4000000001,1271620.2000000002,1297734,1446211,1594688,1743165,1891642,2040119,1919824,1799529,1679234,1558939,1438644,1650765.6,1862887.2000000002,2075008.8000000003,2287130.4000000004,2499252,2499252,2499252,2499252,2499252,null,null,null,null,1.4860854457018744E-2,1.4860854457018744E-2,1.4860854457018744E-2,1.4860854457018744E-2,1.4860854457018744E-2,1.4860854457018744E-2,1.4860854457018744E-2,1.4860854457018744E-2,1.6110914547093024E-2,1.7360974637167306E-2,1.8611034727241585E-2,1.9861094817315864E-2,2.1111154907390146E-2,2.2524567869238305E-2,2.3937980831086465E-2,2.5351393792934624E-2,2.6764806754782784E-2,2.8178219716630936E-2,2.8461314259070249E-2,2.8744408801509563E-2,2.9027503343948876E-2,2.9310597886388189E-2,2.9593692428827506E-2,3.3318904623800709E-2,3.7044116818773912E-2,4.0769329013747115E-2,4.4494541208720317E-2,4.8219753403693506E-2,4.8219753403693506E-2,4.8219753403693506E-2,{"$f":"AL36*B$64","v":48709.310890847257},{"$f":"AM36*C$64","v":48709.310890847257},{"$f":"AN36*D$64","v":48709.310890847257},{"$f":"AO36*E$64","v":60886.638613559058},{"$f":"AP36*F$64","v":66975.302474914977},{"$f":"AQ36*G$64","v":84165.238303471211},{"$f":"AR36*H$64","v":93462.371088597109},{"$f":"AS36*I$64","v":98771.038932887954},{"$f":"AT36*J$64","v":131298.2251769517},{"$f":"AU36*K$64","v":143574.02665345772},{"$f":"AV36*L$64","v":129742.2421032662},{"$f":"AW36*M$64","v":98147.649691449958},{"$f":"AX36*N$64","v":107219.8188535441},{"$f":"AY36*O$64","v":109445.61399653304},{"$f":"AZ36*P$64","v":109784.66759928269},{"$f":"BA36*Q$64","v":109715.94224677715},{"$f":"BB36*R$64","v":126401.82026408774},{"$f":"BC36*S$64","v":120899.90184362502},{"$f":"BD36*T$64","v":112820.22518491112},{"$f":"BE36*U$64","v":82200.207439843158},{"$f":"BF36*V$64","v":106483.8487559114},{"$f":"BG36*W$64","v":140553.73706655705},{"$f":"BH36*X$64","v":131672.68737379974},{"$f":"BI36*Y$64","v":136684.02222479161},{"$f":"BJ36*Z$64","v":158829.42869695817},{"$f":"BK36*AA$64","v":176911.7986231338},{"$f":"BL36*AB$64","v":192649.33982514055},{"$f":"BM36*AC$64","v":205246.63618804235},{"$f":"BN36*AD$64","v":212557.67525439154},{"$f":"BO36*AE$64","v":196914.84766025853}]
["NC",{"$f":"$I37","v":350600},350600,350600,350600,350600,350600,350600,350600,426418.6,502237.19999999995,578055.79999999993,653874.39999999991,729693,904333.6,1078974.2,1253614.8,1428255.4000000001,1602896,1604292.8,1605689.6,1607086.4000000001,1608483.2000000002,1609880,1737021.6,1864163.2000000002,1991304.8000000003,2118446.4000000004,2245588,{"$f":"$AC37","v":2245588},2245588,2245588,2245588,null,null,null,null,4.4639922998297339E-3,4.4639922998297339E-3,4.4639922998297339E-3,4.4639922998297339E-3,4.4639922998297339E-3,4.4639922998297339E-3,4.4639922998297339E-3,4.4639922998297339E-3,5.9452800482606141E-3,7.4265677966914943E-3,8.9078555451223736E-3,1.0389143293553253E-2,1.1870431041984134E-2,1.3924199843114582E-2,1.5977968644245027E-2,1.8031737445375475E-2,2.0085506246505923E-2,{"$f":"$S37/$S$56","v":2.213927504763637E-2},2.4334642123256058E-2,2.6530009198875746E-2,2.8725376274495434E-2,{"$f":"($BH37-$BC37)/5+BF37","v":3.0920743350115121E-2},3.3116110425734806E-2,3.515801691556094E-2,3.7199923405387074E-2,3.9241829895213208E-2,4.1283736385039342E-2,4.3325642874865476E-2,4.3325642874865476E-2,4.3325642874865476E-2,14631.593989136967,14631.593989136967,14631.593989136967,18289.492486421204,20118.441735063327,25282.057420499248,28074.785744656623,29669.435126884815,48451.918495055819,61417.187978789167,62098.919683628133,51340.069918046196,60287.818057243741,67656.907341665166,73278.35997939462,78037.881480000971,94857.570754938119,94989.54181865821,96462.158393301754,75867.70264045251,105375.53252259491,148274.90205352867,147345.15693203648,144228.60594382769,159497.46112056964,170283.46739982709,178747.42258347478,184414.93025282511,190983.92833502128,176928.78466345315]
["ND",1798064.5555555555,1798064.5555555555,1798064.5555555555,1798064.5555555555,1798064.5555555555,1798064.5555555555,1798064.5555555555,{"$f":"($I$56-$I$57)/9","v":1798064.5555555555},1438451.6444444444,1078838.7333333334,719225.82222222234,359612.91111111123,0,0,0,0,0,null,0,0,0,0,0,0,0,0,0,0,0,0,0,0,null,null,null,null,2.2893743099249211E-2,2.2893743099249211E-2,2.2893743099249211E-2,2.2893743099249211E-2,2.2893743099249211E-2,2.2893743099249211E-2,2.2893743099249211E-2,2.2893743099249211E-2,1.8314994479399369E-2,1.3736245859549526E-2,9.1574972396996843E-3,4.5787486198498421E-3,0,0,0,0,0,0,0,0,0,0,0,0,0,0,0,0,0,0,75038.649581137768,75038.649581137768,75038.649581137768,93798.311976422177,103178.14317406442,129659.92966149464,143982.53608751699,152160.75209642481,149260.69294462883,113597.77722013883,63839.235235751097,22626.819905941407,0,0,0,0,0,0,0,0,0,0,0,0,0,0,0,0,0,0]
["OH",399762,399762,399762,399762,399762,399762,399762,399762,347039.8,294317.59999999998,241595.39999999997,188873.19999999995,136151,202261,268371,334481,400591,466701,481699.00800000003,496697.01600000006,511695.02400000009,526693.03200000012,{"$f":"(X$56-X$57)/25","v":541691.04},552695.45700000005,563699.87400000007,574704.29100000008,585708.7080000001,{"$f":"($AC$56-$AC$57)/8","v":596713.125},596713.125,596713.125,596713.125,596713.125,null,null,null,null,5.0899443518668975E-3,5.0899443518668975E-3,5.0899443518668975E-3,5.0899443518668975E-3,5.0899443518668975E-3,5.0899443518668975E-3,5.0899443518668975E-3,5.0899443518668975E-3,4.5149283637322627E-3,3.9399123755976279E-3,3.3648963874629931E-3,2.7898803993283584E-3,2.2148644111937236E-3,3.0611107676338377E-3,3.9073571240739518E-3,4.7536034805140664E-3,5.5998498369541809E-3,6.4460961933942946E-3,7.3854530345811558E-3,8.3248098757680179E-3,9.2641667169548799E-3,1.0203523558141742E-2,1.1142880399328602E-2,1.121686202394785E-2,1.1290843648567098E-2,1.1364825273186345E-2,1.1438806897805593E-2,1.1512788522424844E-2,1.1512788522424844E-2,1.1512788522424844E-2,16683.272322548124,16683.272322548124,16683.272322548124,20854.090403185153,22939.499443503672,28827.170104203142,32011.50170808734,33829.756774654103,36795.060840670092,32582.795393026328,23457.545921163037,13786.762846305559,11248.904287572708,14873.765810736204,17919.970196528833,20572.678930083672,26446.34123764321,27657.261704009248,29275.825665306096,23806.40713158271,33984.46348791536,48929.174795492312,49578.571879567455,46014.892610800955,48410.33881255173,49315.790295177401,49526.942797594704,49004.006668997295,50749.566127698665,47014.736451647048]
["OK",1798064.5555555555,1798064.5555555555,1798064.5555555555,1798064.5555555555,1798064.5555555555,1798064.5555555555,1798064.5555555555,{"$f":"($I$56-$I$57)/9","v":1798064.5555555555},1438451.6444444444,1078838.7333333334,719225.82222222234,359612.91111111123,0,0,0,0,0,null,0,0,0,0,0,0,0,0,0,0,0,0,0,0,null,null,null,null,2.2893743099249211E-2,2.2893743099249211E-2,2.2893743099249211E-2,2.2893743099249211E-2,2.2893743099249211E-2,2.2893743099249211E-2,2.2893743099249211E-2,2.2893743099249211E-2,1.8314994479399369E-2,1.3736245859549526E-2,9.1574972396996843E-3,4.5787486198498421E-3,0,0,0,0,0,0,0,0,0,0,0,0,0,0,0,0,0,0,75038.649581137768,75038.649581137768,75038.649581137768,93798.311976422177,103178.14317406442,129659.92966149464,143982.53608751699,152160.75209642481,149260.69294462883,113597.77722013883,63839.235235751097,22626.819905941407,0,0,0,0,0,0,0,0,0,0,0,0,0,0,0,0,0,0]
["OR",7859672,7859672,7859672,7859672,7859672,7859672,7859672,7859672,8124718.7999999998,8389765.5999999996,8654812.4000000004,8919859.2000000011,9184906,10845579.199999999,12506252.399999999,14166925.599999998,15827598.799999997,17488272,15248982.800000001,13009693.600000001,10770404.400000002,8531115.200000003,6291826,7305959.7999999998,8320093.5999999996,9334227.4000000004,10348361.200000001,11362495,11362495,11362495,11362495,11362495,null,null,null,null,0.10007277606157264,0.10007277606157264,0.10007277606157264,0.10007277606157264,0.10007277606157264,0.10007277606157264,0.10007277606157264,0.10007277606157264,0.10994169055504022,0.1198106050485078,0.12967951954197537,0.13954843403544295,0.14941734852891056,0.16784364613378089,0.18626994373865122,0.20469624134352155,0.22312253894839187,0.2415488365532622,0.21912432834210901,0.19669982013095583,0.17427531191980264,0.15185080370864945,0.12942629549749629,0.1473858913346501,0.16534548717180392,0.18330508300895773,0.20126467884611154,0.21922427468326541,0.21922427468326541,0.21922427468326541,328007.78548713098,328007.78548713098,328007.78548713098,410009.73185891367,451010.70504480507,566767.4809192532,629374.2368034136,665122.7282447035,895985.68725789827,990825.19052674912,904028.81230580003,689607.04053232388,758864.26456179027,815542.87803300982,854273.54969424021,885885.84820284252,1053738.0420272134,1036375.999740513,868605.56901973253,562501.25475863938,639307.68473155913,728173.40746647283,575862.85273378599,604620.61025906703,708931.17505256413,795422.26267552248,871421.67233366694,933124.74190415791,966363.34482863173,895245.44622368983]
["PA",4142733,4142733,4142733,4142733,4142733,4142733,4142733,4142733,3442936.2,2743139.4000000004,2043342.6000000003,1343545.8000000003,643749,596055.19999999995,548361.39999999991,500667.59999999992,452973.79999999993,405280,376586.4,347892.80000000005,319199.20000000007,290505.60000000009,261812,239067.6,216323.20000000001,193578.80000000002,170834.40000000002,148090,148090,148090,148090,148090,null,null,null,null,5.2747085602540031E-2,5.2747085602540031E-2,5.2747085602540031E-2,5.2747085602540031E-2,5.2747085602540031E-2,5.2747085602540031E-2,5.2747085602540031E-2,5.2747085602540031E-2,4.4292132349123048E-2,3.5837179095706065E-2,2.7382225842289082E-2,1.8927272588872099E-2,1.0472319335455109E-2,9.4974047580629901E-3,8.5224901806708712E-3,7.5475756032787533E-3,6.5726610258866353E-3,5.5977464484945174E-3,5.5553203111774665E-3,5.5128941738604156E-3,5.4704680365433647E-3,5.4280418992263138E-3,5.3856157619092612E-3,4.8799326469108322E-3,4.3742495319124032E-3,3.8685664169139738E-3,3.3628833019155443E-3,2.857200186917114E-3,2.857200186917114E-3,2.857200186917114E-3,172888.72578836099,172888.72578836099,172888.72578836099,216110.90723545119,237721.99795899633,298735.92009069346,331735.14367461088,350577.71817314584,360965.13017579261,296370.92468624038,190888.43939216761,93532.976744444008,53187.056181891021,46147.357905115205,39085.951242306044,32664.451341657692,31040.624550836201,24017.379485796831,22021.206848577433,15765.189251741731,20067.743481933441,26029.205437819299,23962.488028107895,20018.930090798411,18754.922881019545,16787.007769456552,14560.375956771239,12161.62850048222,12594.834825949061,11667.938963340905]
["PR",0,0,0,0,0,0,0,0,0,0,0,0,0,0,0,0,0,null,0,0,0,0,null,0,0,0,0,0,0,0,0,0,null,null,null,null,0,0,0,0,0,0,0,0,0,0,0,0,0,0,0,0,0,0,0,0,0,0,0,0,0,0,0,0,0,0,0,0,0,0,0,0,0,0,0,0,0,0,0,0,0,0,0,0,0,0,0,0,0,0,0,0,0,0,0,0]
["RI",127631,127631,127631,127631,127631,127631,127631,127631,{"$f":"($N44-$I44)/5+I44","v":102104.8},76578.600000000006,51052.400000000009,25526.200000000008,0,{"$f":"($S44-$N44)/5+N44","v":0},0,0,0,null,{"$f":"($X44-$S44)/5+S44","v":0},0,0,0,0,{"$f":"($AC44-$X44)/5+X44","v":0},0,0,0,0,0,0,0,0,null,null,null,null,1.6250536258401848E-3,1.6250536258401848E-3,1.6250536258401848E-3,1.6250536258401848E-3,1.6250536258401848E-3,1.6250536258401848E-3,1.6250536258401848E-3,1.6250536258401848E-3,{"$f":"($AX44-$AS44)/5+AS44","v":1.3000429006721479E-3},9.7503217550411094E-4,6.5002145033607396E-4,3.2501072516803698E-4,0,0,0,0,0,0,0,0,0,0,0,0,0,0,0,0,0,0,5326.4260479964069,5326.4260479964069,5326.4260479964069,6658.0325599955067,7323.8358159950594,9203.5774975349104,10220.230973691585,10800.740657956178,10594.88739842818,8063.4468098415109,4531.4643499307895,1606.1067676866176,0,0,0,0,0,0,0,0,0,0,0,0,0,0,0,0,0,0]
["SC",1798064.5555555555,1798064.5555555555,1798064.5555555555,1798064.5555555555,1798064.5555555555,1798064.5555555555,1798064.5555555555,{"$f":"($I$56-$I$57)/9","v":1798064.5555555555},1551301.1644444445,1304537.7733333334,1057774.3822222224,811010.99111111136,{"$f":"($N$56-$N$57)/10","v":564247.6},663259.14666666661,762270.69333333324,861282.23999999987,960293.78666666651,{"$f":"($S$56-$S$57)/15","v":1059305.3333333333},955782.47466666659,852259.61599999992,748736.75733333325,645213.89866666659,{"$f":"(X$56-X$57)/25","v":541691.04},433352.83200000005,325014.62400000007,216676.41600000006,108338.20800000004,0,0,0,0,0,null,null,null,null,2.2893743099249211E-2,2.2893743099249211E-2,2.2893743099249211E-2,2.2893743099249211E-2,2.2893743099249211E-2,2.2893743099249211E-2,2.2893743099249211E-2,2.2893743099249211E-2,2.0150797269450814E-2,1.7407851439652417E-2,1.466490560985402E-2,1.1921959780055624E-2,9.1790139502572268E-3,1.0269446191560878E-2,1.1359878432864529E-2,1.2450310674168181E-2,1.3540742915471832E-2,1.4631175156775481E-2,1.3933516205286106E-2,1.323585725379673E-2,1.2538198302307355E-2,1.1840539350817979E-2,{"$f":"$X45/$X$56","v":1.1142880399328602E-2},8.9143043194628811E-3,6.6857282395971608E-3,4.4571521597314406E-3,2.2285760798657203E-3,0,0,0,75038.649581137768,75038.649581137768,75038.649581137768,93798.311976422177,103178.14317406442,129659.92966149464,143982.53608751699,152160.75209642481,164221.83294720817,143961.69447914636,102232.77544424997,58914.795125407421,46618.587060635698,49898.663999441502,52098.816793299651,53882.543028548178,63948.698300907301,62775.706134018888,55232.250400981269,37850.498836807048,45994.848260790641,56779.191645693456,49578.571879567455,36569.11844723879,28665.561171650672,19341.078805814795,9649.1322052802116,0,0,0]
["SD",0,0,0,0,0,0,0,0,0,0,0,0,0,0,0,0,0,null,0,0,0,0,0,0,0,0,0,0,0,0,0,0,null,null,null,null,0,0,0,0,0,0,0,0,0,0,0,0,0,0,0,0,0,0,0,0,0,0,0,0,0,0,0,0,0,0,0,0,0,0,0,0,0,0,0,0,0,0,0,0,0,0,0,0,0,0,0,0,0,0,0,0,0,0,0,0]
["TN",1798064.5555555555,1798064.5555555555,1798064.5555555555,1798064.5555555555,1798064.5555555555,1798064.5555555555,1798064.5555555555,{"$f":"($I$56-$I$57)/9","v":1798064.5555555555},1551301.1644444445,1304537.7733333334,1057774.3822222224,811010.99111111136,{"$f":"($N$56-$N$57)/10","v":564247.6},663259.14666666661,762270.69333333324,861282.23999999987,960293.78666666651,{"$f":"($S$56-$S$57)/15","v":1059305.3333333333},955782.47466666659,852259.61599999992,748736.75733333325,645213.89866666659,{"$f":"(X$56-X$57)/25","v":541691.04},552695.45700000005,563699.87400000007,574704.29100000008,585708.7080000001,{"$f":"($AC$56-$AC$57)/8","v":596713.125},596713.125,596713.125,596713.125,596713.125,null,null,null,null,2.2893743099249211E-2,2.2893743099249211E-2,2.2893743099249211E-2,2.2893743099249211E-2,2.2893743099249211E-2,2.2893743099249211E-2,2.2893743099249211E-2,2.2893743099249211E-2,2.0150797269450814E-2,1.7407851439652417E-2,1.466490560985402E-2,1.1921959780055624E-2,9.1790139502572268E-3,1.0269446191560878E-2,1.1359878432864529E-2,1.2450310674168181E-2,1.3540742915471832E-2,1.4631175156775481E-2,1.3933516205286106E-2,1.323585725379673E-2,1.2538198302307355E-2,1.1840539350817979E-2,1.1142880399328602E-2,1.121686202394785E-2,1.1290843648567098E-2,1.1364825273186345E-2,1.1438806897805593E-2,1.1512788522424844E-2,1.1512788522424844E-2,1.1512788522424844E-2,75038.649581137768,75038.649581137768,75038.649581137768,93798.311976422177,103178.14317406442,129659.92966149464,143982.53608751699,152160.75209642481,164221.83294720817,143961.69447914636,102232.77544424997,58914.795125407421,46618.587060635698,49898.663999441502,52098.816793299651,53882.543028548178,63948.698300907301,62775.706134018888,55232.250400981269,37850.498836807048,45994.848260790641,56779.191645693456,49578.571879567455,46014.892610800955,48410.33881255173,49315.790295177401,49526.942797594704,49004.006668997295,50749.566127698665,47014.736451647048]
["TX",13589373,13589373,13589373,13589373,13589373,13589373,13589373,13589373,12704893.199999999,11820413.399999999,10935933.599999998,10051453.799999997,9166974,9267092.8000000007,9367211.6000000015,9467330.4000000022,9567449.200000003,9667568,9446704,9225840,9004976,8784112,8563248,8591554,8619860,8648166,8676472,8704778,8704778,8704778,8704778,8704778,null,null,null,null,0.17302583123649201,0.17302583123649201,0.17302583123649201,0.17302583123649201,0.17302583123649201,0.17302583123649201,0.17302583123649201,0.17302583123649201,0.16824579219492575,0.16346575315335948,0.15868571411179322,0.15390567507022695,0.14912563602866064,0.146006289733696,0.14288694343873137,0.13976759714376674,0.13664825084880211,0.13352890455383745,0.14205326084223421,0.15057761713063098,0.15910197341902774,0.1676263297074245,0.17615068599582126,0.17450997864157833,0.1728692712873354,0.17122856393309246,0.16958785657884953,0.16794714922460655,0.16794714922460655,0.16794714922460655,567125.46578134689,567125.46578134689,567125.46578134689,708906.83222668339,779797.51544935186,979940.98258580198,1088188.064401659,1149997.2066130638,1371143.3850705803,1351850.1634074938,1106238.3494715786,760556.27452868666,757382.70840954199,709436.3860841709,655309.89018619992,604887.20034281036,645346.99620447308,572911.68910566997,563097.00706685917,430605.87710835511,583646.14667594212,803822.12476364465,783756.00691228383,715891.65575553384,741189.96363578911,743018.19416368834,734269.59183642326,714864.44874853559,740328.45638838015,685845.21840389445]
["UT",51769,51769,51769,51769,51769,51769,51769,51769,154264.72,256760.44,359256.16000000003,461751.88,{"$f":"($N$56-$N$57)/10","v":564247.6},663259.14666666661,762270.69333333324,861282.23999999987,960293.78666666651,{"$f":"($S$56-$S$57)/15","v":1059305.3333333333},955782.47466666659,852259.61599999992,748736.75733333325,645213.89866666659,{"$f":"(X$56-X$57)/25","v":541691.04},552695.45700000005,563699.87400000007,574704.29100000008,585708.7080000001,{"$f":"($AC$56-$AC$57)/8","v":596713.125},596713.125,596713.125,596713.125,596713.125,null,null,null,null,6.5914551446059758E-4,6.5914551446059758E-4,6.5914551446059758E-4,6.5914551446059758E-4,6.5914551446059758E-4,6.5914551446059758E-4,6.5914551446059758E-4,6.5914551446059758E-4,2.3631192016199233E-3,4.0670928887792494E-3,5.7710665759385755E-3,7.4750402630979016E-3,9.1790139502572268E-3,1.0269446191560878E-2,1.1359878432864529E-2,1.2450310674168181E-2,1.3540742915471832E-2,1.4631175156775481E-2,1.3933516205286106E-2,1.323585725379673E-2,1.2538198302307355E-2,1.1840539350817979E-2,1.1142880399328602E-2,1.121686202394785E-2,1.1290843648567098E-2,1.1364825273186345E-2,1.1438806897805593E-2,1.1512788522424844E-2,1.1512788522424844E-2,1.1512788522424844E-2,2160.4762955608435,2160.4762955608435,2160.4762955608435,2700.5953694510536,2970.6549063961593,3733.1056206555209,4145.4751375217593,4380.9383544885914,19258.581264727472,33634.569200140068,40231.568414276204,36939.435611191919,46618.587060635698,49898.663999441502,52098.816793299651,53882.543028548178,63948.698300907301,62775.706134018888,55232.250400981269,37850.498836807048,45994.848260790641,56779.191645693456,49578.571879567455,46014.892610800955,48410.33881255173,49315.790295177401,49526.942797594704,49004.006668997295,50749.566127698665,47014.736451647048]
["VT",1798064.5555555555,1798064.5555555555,1798064.5555555555,1798064.5555555555,1798064.5555555555,1798064.5555555555,1798064.5555555555,{"$f":"($I$56-$I$57)/9","v":1798064.5555555555},1438451.6444444444,1078838.7333333334,719225.82222222234,359612.91111111123,0,0,0,0,0,null,0,0,0,0,0,0,0,0,0,0,0,0,0,0,null,null,null,null,2.2893743099249211E-2,{"$f":"$I50/$I$56","v":2.2893743099249211E-2},2.2893743099249211E-2,2.2893743099249211E-2,2.2893743099249211E-2,2.2893743099249211E-2,2.2893743099249211E-2,2.2893743099249211E-2,1.8314994479399369E-2,1.3736245859549526E-2,9.1574972396996843E-3,4.5787486198498421E-3,0,0,0,0,0,0,0,0,0,0,0,0,0,0,0,0,0,0,75038.649581137768,75038.649581137768,75038.649581137768,93798.311976422177,103178.14317406442,129659.92966149464,143982.53608751699,152160.75209642481,149260.69294462883,113597.77722013883,63839.235235751097,22626.819905941407,0,0,0,0,0,0,0,0,0,0,0,0,0,0,0,0,0,0]
["VA",78115,78115,78115,78115,78115,78115,78115,78115,175341.52,272568.03999999998,369794.55999999994,467021.07999999996,{"$f":"($N$56-$N$57)/10","v":564247.6},663259.14666666661,762270.69333333324,861282.23999999987,960293.78666666651,{"$f":"($S$56-$S$57)/15","v":1059305.3333333333},955782.47466666659,852259.61599999992,748736.75733333325,645213.89866666659,{"$f":"(X$56-X$57)/25","v":541691.04},552695.45700000005,563699.87400000007,574704.29100000008,585708.7080000001,{"$f":"($AC$56-$AC$57)/8","v":596713.125},596713.125,596713.125,596713.125,596713.125,null,null,null,null,9.9459429121848174E-4,9.9459429121848174E-4,9.9459429121848174E-4,9.9459429121848174E-4,9.9459429121848174E-4,9.9459429121848174E-4,9.9459429121848174E-4,9.9459429121848174E-4,2.6314782230262308E-3,4.2683621548339802E-3,5.9052460866417297E-3,7.5421300184494791E-3,9.1790139502572268E-3,1.0269446191560878E-2,1.1359878432864529E-2,1.2450310674168181E-2,1.3540742915471832E-2,1.4631175156775481E-2,1.3933516205286106E-2,1.323585725379673E-2,1.2538198302307355E-2,1.1840539350817979E-2,1.1142880399328602E-2,1.121686202394785E-2,1.1290843648567098E-2,1.1364825273186345E-2,1.1438806897805593E-2,1.1512788522424844E-2,1.1512788522424844E-2,1.1512788522424844E-2,3259.9742283554888,3259.9742283554888,3259.9742283554888,4074.9677854443598,4482.4645639887967,5632.9375795844235,6255.1679647571373,6610.4618509315678,21445.611871703746,35299.051729087463,41166.967805985718,37270.973316776544,46618.587060635698,49898.663999441502,52098.816793299651,53882.543028548178,63948.698300907301,62775.706134018888,55232.250400981269,37850.498836807048,45994.848260790641,56779.191645693456,49578.571879567455,46014.892610800955,48410.33881255173,49315.790295177401,49526.942797594704,49004.006668997295,50749.566127698665,47014.736451647048]
["WA",703183,703183,703183,703183,703183,703183,703183,703183,735901.6,768620.2,801338.79999999993,834057.39999999991,866776,978870.8,1090965.6000000001,1203060.4000000001,1315155.2000000002,1427250,1250138.2080000001,1073026.4160000002,895914.62400000019,718802.83200000017,{"$f":"(X$56-X$57)/25","v":541691.04},677639.83200000005,813588.62400000007,949537.41600000008,1085486.2080000001,1221435,1221435,1221435,1221435,1221435,null,null,null,null,8.9532330215949009E-3,8.9532330215949009E-3,8.9532330215949009E-3,8.9532330215949009E-3,8.9532330215949009E-3,8.9532330215949009E-3,8.9532330215949009E-3,8.9532330215949009E-3,9.9826778082709941E-3,1.1012122594947087E-2,1.2041567381623181E-2,1.3071012168299274E-2,1.4100456954975367E-2,1.5223014408539019E-2,1.634557186210267E-2,1.7468129315666322E-2,1.8590686769229973E-2,1.9713244222793625E-2,1.7999171458100621E-2,1.6285098693407617E-2,1.4571025928714613E-2,1.285695316402161E-2,1.1142880399328602E-2,1.3627498066923352E-2,1.6112115734518102E-2,1.8596733402112851E-2,2.1081351069707599E-2,2.3565968737302351E-2,{"$f":"BM52","v":2.3565968737302351E-2},2.3565968737302351E-2,29345.944540967772,29345.944540967772,29345.944540967772,36682.430676209711,40350.673743830688,50707.110619278166,56308.36298997399,59506.681120445661,81355.274705731805,91069.471386316654,83944.819480808233,64593.071792217219,71613.724928683034,73967.774586965388,74964.266462723361,75598.694210296802,87798.005385196448,84580.548931858299,71348.447178527218,46570.395655732675,53452.027989694645,61653.222547607744,49578.571879567455,55904.036152410023,69081.904415003984,80697.466312809251,91276.553389997178,100308.18223706193,103881.23489521974,96236.268672349906]
["WV",0,0,0,0,0,0,0,0,0,0,0,0,0,0,0,0,0,null,0,0,0,0,0,0,0,0,0,0,0,0,0,0,null,null,null,null,0,0,0,0,0,0,0,0,0,0,0,0,0,0,0,0,0,0,0,0,0,0,0,0,0,0,0,0,0,0,0,0,0,0,0,0,0,0,0,0,0,0,0,0,0,0,0,0,0,0,0,0,0,0,0,0,0,0,0,0]
["WI",75475,75475,75475,75475,75475,75475,75475,75475,74117.8,72760.600000000006,71403.400000000009,70046.200000000012,68689,70196.600000000006,71704.200000000012,73211.800000000017,74719.400000000023,76227,63798.6,51370.2,38941.799999999996,26513.399999999994,14085,12792.8,11500.599999999999,10208.399999999998,8916.1999999999971,7624,7624,7624,7624,7624,null,null,null,null,9.6098065838462401E-4,9.6098065838462401E-4,9.6098065838462401E-4,9.6098065838462401E-4,9.6098065838462401E-4,9.6098065838462401E-4,9.6098065838462401E-4,9.6098065838462401E-4,9.9226701532766624E-4,1.0235533722707086E-3,1.0548397292137509E-3,1.0861260861567933E-3,1.1174124430998354E-3,1.1045001373309301E-3,1.0915878315620247E-3,1.0786755257931194E-3,1.0657632200242141E-3,1.0528509142553088E-3,9.0022795919097337E-4,7.4760500412663798E-4,5.9498204906230259E-4,4.4235909399796715E-4,2.8973613893363155E-4,2.6120790530593835E-4,2.3267967167824515E-4,2.0415143805055196E-4,1.7562320442285876E-4,1.4709497079516562E-4,1.4709497079516562E-4,1.4709497079516562E-4,3149.7990768115019,3149.7990768115019,3149.7990768115019,3937.2488460143763,4330.9737306158149,5442.5649852030256,6043.766269475067,6387.0525276715107,8086.6233653794234,8464.7136593944815,7353.5552178338439,5367.3135144555517,5675.1400034453063,5366.7043199762165,5006.253789285015,4668.2996074130315,5033.2667153482471,4517.3035581914601,3568.4902021455841,2137.9213900912487,2182.6189381195882,2121.2540265398266,1289.137411103768,1071.5522475076939,997.63154032928742,885.88159213618917,760.40101708945156,626.10747307499798,648.40989069508839,600.69124624560106]
["WY",0,0,0,0,0,0,0,0,0,0,0,0,0,0,0,0,0,null,0,0,0,0,0,0,0,0,0,0,0,0,0,0,null,null,null,null,0,0,0,0,0,0,0,0,{"$f":"($AX55-$AS55)/5+AS55","v":0},0,0,0,0,0,0,0,0,0,0,0,0,0,0,0,0,0,0,0,0,0,0,0,0,0,0,0,0,0,0,0,0,0,0,0,0,0,0,0,0,0,0,0,0,0,0,0,0,0,0,0]
["US total",78539562,78539562,78539562,78539562,78539562,78539562,78539562,78539562,75125946.200000003,71712330.400000006,68298714.600000009,64885098.800000012,61471483,63657299.200000003,65843115.400000006,68028931.600000009,70214747.800000012,72400564,67643090.599999994,62885617.199999996,58128143.799999997,53370670.399999999,48613197,49256649.600000001,49900102.200000003,50543554.800000004,51187007.400000006,51830460,51830460,51830460,51830460,51830460,null,null,null,null,1,1,1,1,1,1,1,1,1,1,1,1,1,1,1,1,1,1,1,1,1,1,1,1,1,1,1,1,1,1]
["Total of disclosed states",null,null,null,null,null,null,null,{"$f":"SUM(I4:I17,I19:I22,I24:I28,I30:I34,I36:I37,I39,I41:I44,I46,I48:I49,I51:I55)","v":62356981},null,null,null,null,{"$f":"SUM(N52:N55,N50,N48,N46,N36:N44,N30:N34,N25:N28,N21:N22,N18:N19,N16,N4:N15)","v":55829007},null,null,null,null,{"$f":"SUM(S4:S12,S15,S17,S19,S21,S25,S27:S31,S33:S34,S36:S44,S46,S48,S50,S52:S55)","v":56510984},null,null,null,null,{"$f":"SUM(X5:X9,X11:X12,X15,X21,X25,X28,X30:X31,X36:X38,X40:X44,X46,X48,X50,X53:X55)","v":35070921},null,null,null,null,{"$f":"SUM(AC4:AC13,AC15,AC17,AC19:AC21,AC23:AC38,AC40:AC46,AC48,AC50,AC52:AC55)","v":47056755},null,null,null,null,null,null,null,null,{"$f":"$I56","v":78539562},{"$f":"$I56","v":78539562},78539562,78539562,78539562,78539562,78539562,78539562,75125946.200000003,71712330.400000006,68298714.600000009,64885098.800000012,{"$f":"N56","v":61471483},63657299.200000003,65843115.400000006,68028931.600000009,70214747.800000012,{"$f":"S56","v":72400564},{"$f":"($BH57-$BC57)/5+BC57","v":67643090.599999994},{"$f":"($BH57-$BC57)/5+BD57","v":62885617.199999996},{"$f":"($BH57-$BC57)/5+BE57","v":58128143.799999997},53370670.399999999,{"$f":"X56","v":48613197},{"$f":"($BM57-$BH57)/5+BH57","v":49256649.600000001},{"$f":"($BM57-$BH57)/5+BI57","v":49900102.200000003},{"$f":"($BM57-$BH57)/5+BJ57","v":50543554.800000004},{"$f":"($BM57-$BH57)/5+BK57","v":51187007.400000006},{"$f":"AC56","v":51830460},{"$f":"BM57","v":51830460},{"$f":"BN57","v":51830460}]
[]
[]
["Total Pop US","Census 1990"]
[null,{"$f":"'state population'!D59","v":249622814},{"$f":"'state population'!E59","v":252980941},{"$f":"'state population'!F59","v":256514224},{"$f":"'state population'!G59","v":259918588},{"$f":"'state population'!H59","v":263125821},{"$f":"'state population'!I59","v":266278393},{"$f":"'state population'!J59","v":269394284},{"$f":"'state population'!K59","v":272646925},{"$f":"'state population'!L59","v":275854104},{"$f":"'state population'!M59","v":279040168},{"$f":"'state population'!N59","v":282162411},{"$f":"'state population'!O59","v":284968955},{"$f":"'state population'!P59","v":287625193},{"$f":"'state population'!Q59","v":290107933},{"$f":"'state population'!R59","v":292805298},{"$f":"'state population'!S59","v":295516599},{"$f":"'state population'!T59","v":298379912},{"$f":"'state population'!U59","v":301231207},{"$f":"'state population'!V59","v":304093966},{"$f":"'state population'!W59","v":306771529},{"$f":"'state population'!X59","v":309327143},{"$f":"'state population'!Y59","v":311583481},{"$f":"'state population'!Z59","v":313877662},{"$f":"'state population'!AA59","v":316059947},{"$f":"'state population'!AB59","v":318386329},{"$f":"'state population'!AC59","v":320738994},{"$f":"'state population'!AD59","v":323071755},{"$f":"'state population'!AE59","v":325122128},{"$f":"'state population'!AF59","v":326838199},{"$f":"'state population'!AG59","v":328329953},{"$f":"'state population'!AH59","v":331501080},{"$f":"'state population'!AI59","v":331893745}]
["Total US Fluorinated Compound Emission from Semiconductor Manufacture"]
["Gg or 10^3 Metric Tonnes CO2",{"$f":"B65*1000","v":3277.6924793743588},3277.6924793743588,3277.6924793743588,4097.1155992179474,4506.8271591397433,5663.5530983025119,6289.1653611784795,6646.3903013489671,8149.6444409260748,8269.9289443166836,6971.2535603062515,4941.7038987135838,5078.8229883155691,4858.9440042489068,4586.212528698893,4327.8071076847345,4722.6875733560137,4290.5443658056674,3963.9850836809751,2859.6937932334959,3668.3777965392674,4795.3213923292251,4449.3497285095809,4102.2963920354705,4287.5749872504357,4339.3355471580235,4329.7297733993473,{"$f":"AC65*1000","v":4256.484567014003},{"$f":"AD65*1000","v":4408.103738624889},{"$f":"AE65*1000","v":4083.696696075915},{"$f":"AF65*1000","v":4067.525411974982},{"$f":"AG65*1000","v":4480.3887488542023}]
["Metric Tonnes CO2 Eq.",{"$f":"B65*1000000","v":3277692.4793743589},3277692.4793743589,3277692.4793743589,4097115.5992179476,4506827.1591397431,5663553.0983025124,6289165.3611784801,6646390.3013489675,8149644.440926075,8269928.9443166833,6971253.560306252,4941703.8987135841,5078822.9883155683,4858944.0042489069,4586212.5286988933,4327807.1076847352,4722687.5733560137,4290544.3658056669,3963985.0836809753,2859693.7932334957,3668377.7965392675,4795321.3923292253,4449349.7285095816,4102296.3920354708,4287574.9872504352,4339335.5471580233,4329729.7733993474,4256484.5670140032,4408103.7386248885,4083696.6960759149,4067525.4119749819,4480388.7488542022]
["Tg CO2 Eq.",3.2776924793743589,3.2776924793743589,3.2776924793743589,4.0971155992179478,4.5068271591397435,5.6635530983025122,6.2891653611784797,6.6463903013489674,8.1496444409260747,8.2699289443166837,6.971253560306252,4.941703898713584,5.0788229883155687,4.8589440042489072,4.5862125286988933,4.3278071076847349,4.7226875733560139,4.2905443658056672,3.9639850836809751,2.8596937932334958,3.6683777965392674,4.7953213923292255,4.4493497285095813,4.1022963920354707,4.2875749872504354,4.3393355471580231,4.3297297733993476,4.2564845670140032,4.4081037386248889,4.0836966960759149,4.067525411974982,4.4803887488542022]
["Source for national emissions: 2021 US Inventory,  \"Electronics Inventory 1990 - 2021_FR_Unc_AR5.xlsx\", Summary! Row 45, Total F-GHGs (excluding N2O)"]
[]
["State Emissions Check"]
["AL",{"$f":"B4/B$56*B$64","v":0},{"$f":"C4/C$56*C$64","v":0},0,0,0,0,0,0,0,0,0,0,0,0,0,0,0,0,6348.7791095211578,9853.2578602930371,20511.17328525737,38936.481219768481,49578.571879567455,36091.406411692966,27926.286939608817,18602.404953511494,9163.9497716432525,0,0,0,{"$f":"AF4/AF$56*AF$64","v":0},0,null,null,null,null,null,null,null,null,null,null,null,null,null,null,null,null,null,null,null,null,null,null,null,null,null,null,null,null,null,null,null,null,null,null,{"$f":"BP4-B69","v":0},0,0,0,0,0,0,0,0,0,0,0,0,0,0,0,0,0,2485.2632289147787,2892.832506388233,4014.6037425764189,3810.4729810846911,0,477.71203554582462,739.2742320418547,738.67385230330183,485.1824336369591,0,0,0]
["AK",{"$f":"B5/B$56*B$64","v":0},0,0,0,0,0,0,0,0,0,0,0,0,0,0,0,0,0,0,0,0,0,0,0,0,0,0,0,0,0,{"$f":"AF5/AF$56*AF$64","v":0},0]
["AZ",{"$f":"B6/B$56*B$64","v":431090.11951938958},431090.11951938958,431090.11951938958,538862.64939923678,592748.91433916066,744884.33476153004,827166.38741690165,874149.48394668859,1118319.3625647535,1186457.3400456831,1048015.7835004892,780413.45283170324,844897.71476906678,712210.21808443451,587542.46526400594,479654.04964946449,446892.46963091579,340674.09500608704,286660.41613942175,183475.99838950706,200540.00182779718,208514.28973617541,133967.32450789859,191360.65814622559,269081.72638367384,340462.35167453112,405980.93983823399,462646.53024052351,479126.34652068146,443865.84216364106,{"$f":"AF6/AF$56*AF$64","v":442108.1502559082},486983.16090458824]
["AR",{"$f":"B7/B$56*B$64","v":0},0,0,0,0,0,0,0,0,0,0,0,0,0,0,0,0,0,0,0,0,0,0,0,0,0,0,0,0,0,{"$f":"AF7/AF$56*AF$64","v":0},0]
["CA",{"$f":"B8/B$56*B$64","v":669403.43774131034},669403.43774131034,669403.43774131034,836754.2971766378,920429.72689430171,1156667.9722674319,1284436.8224867883,1357392.9050057628,1651007.8025246586,1660489.2313907465,1385929.622299511,971627.97098346625,986239.34490888508,899936.36278152221,810997.92538901803,731373.03567942348,763384.7815044116,663893.33664875594,647065.07280099881,494796.62155742937,676503.58597470017,948688.23181518284,951646.63688441634,834499.0710580314,828489.08158480772,795389.50890461355,751704.14919671684,698795.64353681391,723687.26828729978,670428.71078595915,{"$f":"AF8/AF$56*AF$64","v":667773.83850762364},735554.44399203733]
["CO",{"$f":"B9/B$56*B$64","v":59132.381023051748},59132.381023051748,59132.381023051748,73915.476278814662,81307.023906696151,102175.3510619259,113461.93237907761,119906.57641021325,148810.75254788017,152990.00530385415,130803.6737863262,94163.08953263046,98420.703851623475,107033.14011969294,112369.45599530041,116055.09695292081,136894.65503678023,133118.43549877967,117204.19829317683,79750.608795971464,95133.710416728485,113316.66635988996,92889.832683967397,74702.851510747161,66936.040097284771,56755.959387233801,45942.142139463584,34918.467093598752,36162.28907187681,33500.985721228302,{"$f":"AF9/AF$56*AF$64","v":33368.323087815821},36755.285877412847]
["CT",{"$f":"B10/B$56*B$64","v":6311.2833969685789},6311.2833969685789,6311.2833969685789,7889.1042462107216,8678.0146708317952,10905.321003143472,12109.953930873991,12797.799983567573,15167.075627184457,14807.154676968694,11940.604150115156,8040.2393904357277,7779.0786280829434,7961.266421230217,7971.7195684900853,7926.3794667911479,9062.8306580506705,8586.2961318535763,13141.346742904281,13806.513238451029,24168.662107825123,41540.118446004955,49578.571879567455,37664.176923184561,31171.501980039415,23466.274255799915,15553.410932662995,7754.2392212339273,8030.451036098063,7439.4633857557901,{"$f":"AF10/AF$56*AF$64","v":7410.0033927829645},8162.1360575289409]
["DC",{"$f":"B11/B$56*B$64","v":0},0,0,0,0,0,0,0,0,0,0,0,0,0,0,0,0,0,0,0,0,0,0,0,0,0,0,0,0,0,{"$f":"AF11/AF$56*AF$64","v":0},0]
["DE",{"$f":"B12/B$56*B$64","v":0},0,0,0,0,0,0,0,0,0,0,0,0,0,0,0,0,0,0,0,0,0,0,0,0,0,0,0,0,0,{"$f":"AF12/AF$56*AF$64","v":0},0]
["FL",{"$f":"B13/B$56*B$64","v":25285.072080309012},25285.072080309012,25285.072080309012,31606.340100386253,34766.974110424882,43690.29407803715,48516.448838035714,51272.185813952063,72690.311304667965,84678.575816633718,81502.061169448774,65703.670854938944,76581.300416856524,72771.373636907781,68251.004174363174,64020.717104030547,69468.415496960864,62775.706134018888,56010.265634171898,38756.104219308872,47251.625744402481,57972.06570042274,49578.571879567455,46819.766079805631,50062.91392982957,51780.379026889903,52748.463163775632,52894.091483878648,54778.218680308746,50746.907038871876,{"$f":"AF13/AF$56*AF$64","v":50545.951210845327},55676.483406466243]
["GA",{"$f":"B14/B$56*B$64","v":0},0,0,0,0,0,0,0,0,0,0,0,0,16171.296497822166,29513.788112467657,40433.995151630581,56999.628036810602,62775.706134018888,56010.265634171898,38756.104219308872,47251.625744402481,57972.06570042274,49578.571879567455,46030.751128178556,48434.880361399788,49340.311913331214,49543.049308384936,49004.006668997295,50749.566127698665,47014.736451647048,{"$f":"AF14/AF$56*AF$64","v":46828.55987765696},51581.768163810069]
["HI",{"$f":"B15/B$56*B$64","v":0},0,0,0,0,0,0,0,0,0,0,0,0,0,0,0,0,0,0,0,0,0,0,0,0,0,0,0,0,0,{"$f":"AF15/AF$56*AF$64","v":0},0]
["ID",{"$f":"B16/B$56*B$64","v":91768.597959049599},91768.597959049599,91768.597959049599,114710.74744881198,126181.8221936932,158567.75172424337,176083.5988000113,186085.15694548699,279999.22880845307,341729.69053458277,341472.18464479689,283900.46811170084,339556.44337054814,267132.31156588503,201272.05338682522,145015.96716478898,112285.41059816268,62775.706134018888,56010.265634171898,38756.104219308872,47251.625744402481,57972.06570042274,49578.571879567455,46030.751128178556,48434.880361399788,49340.311913331214,49543.049308384936,49004.006668997295,50749.566127698665,47014.736451647048,{"$f":"AF16/AF$56*AF$64","v":46828.55987765696},51581.768163810069]
["IL",{"$f":"B17/B$56*B$64","v":2393.8055653647934},2393.8055653647934,2393.8055653647934,2992.2569567059909,3291.4826523765905,4136.2772779230945,4593.1822884013236,4854.0752962866891,17219.807707851425,29996.69493585571,36897.565505928585,35252.576034204452,46618.587060635698,35051.362862687398,24669.379442947029,15849.224364432856,9692.034938924342,2314.6832445117907,8179.9112119741485,10918.971626110131,21497.154663558507,39638.366569377969,49578.571879567455,37732.120102913592,31311.694224960258,23676.391843692931,15829.433597675379,8089.2198590451699,8377.3639353825947,7760.8458088192483,{"$f":"AF17/AF$56*AF$64","v":7730.113153634903},8514.7377073421267]
["IN",{"$f":"B18/B$56*B$64","v":75038.649581137768},75038.649581137768,75038.649581137768,93798.311976422177,103178.14317406442,129659.92966149464,143982.53608751699,152160.75209642481,156427.48998865183,125230.34782316376,74497.056800377701,28468.505512632662,1464.6188886295467,17253.774095154105,30254.638137582766,40885.091676556316,57238.093844168761,62775.706134018888,56010.265634171898,38756.104219308872,47251.625744402481,57972.06570042274,49578.571879567455,46030.751128178556,48434.880361399788,49340.311913331214,49543.049308384936,49004.006668997295,50749.566127698665,47014.736451647048,{"$f":"AF18/AF$56*AF$64","v":46828.55987765696},51581.768163810069]
["IA",{"$f":"B19/B$56*B$64","v":0},0,0,0,0,0,0,0,0,0,0,0,0,0,0,0,0,0,6348.7791095211578,9853.2578602930371,20511.17328525737,38936.481219768481,49578.571879567455,36222.828742671642,28197.460465577315,19008.834904106225,9697.8597561854767,647.95225112299761,671.03279611545736,621.64925667337252,{"$f":"AF19/AF$56*AF$64","v":619.18754918406296},682.03653273499128]
["KS",{"$f":"B20/B$56*B$64","v":550.58362663629214},550.58362663629214,550.58362663629214,688.22953329536494,757.05248662490158,951.35819608855275,1056.4479416122499,1116.4542430946701,13386.827341104237,26940.668590208174,35094.314257050493,34579.816833306133,46618.587060635698,50626.386831680822,53094.926975847877,54792.326034334328,64589.956884551488,62775.706134018888,56010.265634171898,38756.104219308872,47251.625744402481,57972.06570042274,49578.571879567455,36091.406411692966,27926.286939608817,18602.404953511494,9163.9497716432525,0,0,0,{"$f":"AF20/AF$56*AF$64","v":0},0]
["KY",{"$f":"B21/B$56*B$64","v":0},{"$f":"C21/C$56*C$64","v":0},0,0,0,0,0,0,0,0,0,0,0,0,0,0,0,0,0,0,0,0,0,0,0,0,0,0,0,0,{"$f":"AF21/AF$56*AF$64","v":0},0]
["LA",{"$f":"B22/B$56*B$64","v":0},0,0,0,0,0,0,0,0,0,0,0,0,16171.296497822166,29513.788112467657,40433.995151630581,56999.628036810602,62775.706134018888,56010.265634171898,38756.104219308872,47251.625744402481,57972.06570042274,49578.571879567455,46030.751128178556,48434.880361399788,49340.311913331214,49543.049308384936,49004.006668997295,50749.566127698665,47014.736451647048,{"$f":"AF22/AF$56*AF$64","v":46828.55987765696},51581.768163810069]
["ME",{"$f":"B23/B$56*B$64","v":75038.649581137768},75038.649581137768,75038.649581137768,93798.311976422177,103178.14317406442,129659.92966149464,143982.53608751699,152160.75209642481,168284.77444210631,150440.44211738196,107967.08944310664,61767.281714817174,46618.587060635698,50626.386831680822,53094.926975847877,54792.326034334328,64589.956884551488,62775.706134018888,56010.265634171898,38756.104219308872,47251.625744402481,57972.06570042274,49578.571879567455,36091.406411692966,27926.286939608817,18602.404953511494,9163.9497716432525,0,0,0,{"$f":"AF23/AF$56*AF$64","v":0},0]
["MD",{"$f":"B24/B$56*B$64","v":2855.9986726942052},2855.9986726942052,2855.9986726942052,3569.9983408677558,3926.9981749545318,4934.904733519299,5480.02841538955,5791.2943323113586,18180.9383610931,30763.00217379459,37349.735849880512,35421.272304042766,46618.587060635698,50626.386831680822,53094.926975847877,54792.326034334328,64589.956884551488,62775.706134018888,56010.265634171898,38756.104219308872,47251.625744402481,57972.06570042274,49578.571879567455,36091.406411692966,27926.286939608817,18602.404953511494,9163.9497716432525,0,0,0,{"$f":"AF24/AF$56*AF$64","v":0},0]
["MA",{"$f":"B25/B$56*B$64","v":81004.944716333572},81004.944716333572,81004.944716333572,101256.18089541695,111381.79898495866,139969.14247232408,155430.53401135016,164258.9969351597,262539.39011032908,334351.06863421568,344838.8020991318,293797.58504386473,358304.5070221051,304173.91495858954,253070.06955678103,208761.52734864,197059.72486139819,152778.81297471971,167850.17402067827,143266.24702402437,216883.56644994835,334499.0531215081,366934.54455318773,319554.39718401688,314886.42340047366,299848.89018138766,280860.50526205509,258541.89962968222,267751.3559383789,248046.64146958027,{"$f":"AF25/AF$56*AF$64","v":247064.38617296598},272141.99886570615]
["MI",{"$f":"B26/B$56*B$64","v":1498.4237940101621},1498.4237940101621,1498.4237940101621,1873.0297425127021,2060.3327167639727,2589.1393944182132,2875.1431322358699,3038.4514210804314,4323.5909189312524,5051.9078548207181,4874.7229319780208,3938.2620199030903,4598.7562452760876,19570.167459919136,31839.982801243656,41850.39294448281,57748.38672713397,62775.706134018888,56010.265634171898,38756.104219308872,47251.625744402481,57972.06570042274,49578.571879567455,36561.295379615462,28895.843995067793,20055.559440999121,11072.897891280278,2316.6961982483858,2399.2186537917687,2222.6521585241876,{"$f":"AF26/AF$56*AF$64","v":2213.8505402385827},2438.561544797732]
["MN",{"$f":"B27/B$56*B$64","v":15528.686813981487},15528.686813981487,15528.686813981487,19410.858517476852,21351.94436922454,26832.151848083537,29796.108033210927,31488.528616581098,39663.97451149996,41420.215102567941,36001.374091221362,26370.783687151546,28073.721000024467,27514.926306424615,26549.12495937042,25564.15943799774,28419.522772536377,26265.334618136774,27127.128594262133,21946.199187236689,31699.369721955271,46900.963450662144,49578.571879567455,43832.414901854681,43898.888788907883,42541.850212021302,40612.195229974088,38165.537316304988,39525.022370433093,36616.244271242052,{"$f":"AF27/AF$56*AF$64","v":36471.24533207294},40173.161982331585]
["MS",{"$f":"B28/B$56*B$64","v":0},0,0,0,0,0,0,0,0,0,0,0,0,0,0,0,0,0,0,0,0,0,0,0,0,0,0,0,0,0,{"$f":"AF28/AF$56*AF$64","v":0},0]
["MO",{"$f":"B29/B$56*B$64","v":75038.649581137768},75038.649581137768,75038.649581137768,93798.311976422177,103178.14317406442,129659.92966149464,143982.53608751699,152160.75209642481,168284.77444210631,150440.44211738196,107967.08944310664,61767.281714817174,46618.587060635698,37906.155560428997,29879.583015524688,22987.22187223563,19754.439144758351,13396.764850714788,16946.879841153575,16021.322865590404,26217.768649267986,42998.805083379229,49578.571879567455,40752.901523991823,37544.698487126414,33018.305311393429,28101.51361499737,22982.595340687771,23801.252618110437,22049.639128811999,{"$f":"AF29/AF$56*AF$64","v":21962.323393777686},24191.550553682002]
["MT",{"$f":"B30/B$56*B$64","v":0},0,0,0,0,0,0,0,0,0,0,0,0,0,0,0,0,0,0,0,0,0,0,0,0,0,0,0,0,0,{"$f":"AF30/AF$56*AF$64","v":0},0]
["NE",{"$f":"B31/B$56*B$64","v":0},0,0,0,0,0,0,0,0,0,0,0,0,0,0,0,0,0,71.55240460249567,111.04879866037471,231.16629897828145,438.8243487407259,558.76349980749046,616.48566436652152,747.48002909073068,858.24200340415894,955.30300751314383,1034.0135353472324,1070.8458727363402,992.03875675214613,{"$f":"AF31/AF$56*AF$64","v":988.11032088422508},1088.4058280945849]
["NV",{"$f":"B32/B$56*B$64","v":0},0,0,0,0,0,0,0,316.63071678124209,673.19716060075302,893.76623019879889,889.19308786289207,1205.7679280566147,17062.461277844861,30123.703228760874,40805.366657512357,57195.948338755938,62775.706134018888,56010.265634171898,38756.104219308872,47251.625744402481,57972.06570042274,49578.571879567455,36190.131399742466,28129.993592132927,18907.716780783347,9565.0251174457517,486.74435898681969,504.0825579944634,466.98544287744983,{"$f":"AF32/AF$56*AF$64","v":465.13619822736899},512.34860957164688]
["NH",{"$f":"B33/B$56*B$64","v":11413.352772729959},{"$f":"C33/C$56*C$64","v":11413.352772729959},11413.352772729959,14266.690965912445,15693.360062503692,19721.230672119898,21899.694179627542,23143.59801961236,26069.551627676137,23888.650798298899,17758.311492845842,10724.497878897813,8893.798436589168,8360.0739570893529,7759.8053400616791,7206.8948870116938,7746.0829236655036,6936.2272550214429,11835.987100806404,13046.797575085066,23465.785293328674,41039.765245090268,49578.571879567455,37282.152694921446,30383.242814248857,22284.845749223216,14001.417840714214,5870.743038787039,6079.8633074658692,5632.4259077071465,{"$f":"AF33/AF$56*AF$64","v":5610.1217146414583},6179.5621819551743]
["NJ",{"$f":"B34/B$56*B$64","v":12819.171013226445},12819.171013226445,12819.171013226445,16023.963766533052,17626.360143186361,22150.356132094053,24597.147780866857,25994.267134513226,34835.236752852543,38640.912737079649,35624.898900107983,27644.48241289513,31141.926959755208,32031.432336190519,32205.418291528309,32132.058170137752,36845.664387756246,34995.161378480778,34033.242451361715,25965.538150248598,35417.998023215405,49548.123714271693,49578.571879567455,39900.172143494674,35785.198171735879,30381.198227648594,24637.25661263302,18778.378921931024,19447.278858372196,18016.088806107738,{"$f":"AF34/AF$56*AF$64","v":17944.745777436885},19766.179418468422]
["NM",{"$f":"B35/B$56*B$64","v":75038.649581137768},75038.649581137768,75038.649581137768,93798.311976422177,103178.14317406442,129659.92966149464,143982.53608751699,152160.75209642481,168284.77444210631,150440.44211738196,107967.08944310664,61767.281714817174,46618.587060635698,50626.386831680822,53094.926975847877,54792.326034334328,64589.956884551488,62775.706134018888,56010.265634171898,38756.104219308872,47251.625744402481,57972.06570042274,49578.571879567455,56330.128902778386,69686.356922661915,81191.638616448443,91384.801676353978,99783.086331652492,103337.4346799647,95732.488526954534,{"$f":"AF35/AF$56*AF$64","v":95353.391501667051},105031.98362114785]
["NY",{"$f":"B36/B$56*B$64","v":48709.310890847257},48709.310890847257,48709.310890847257,60886.638613559058,66975.302474914977,84165.238303471211,93462.371088597109,98771.038932887954,129446.59509519678,140621.42592462141,127128.9068357404,96847.667896638042,107219.8188535441,110388.88478838913,111075.82076782746,110895.19854913112,127233.01651791042,120899.90184362502,112504.5238440472,81832.732843777834,105973.87630316557,140069.69520915611,131672.68737379974,137482.54946224095,160065.17443142631,178146.54078319229,193460.3543266872,205246.63618804235,212557.67525439154,196914.84766025853,{"$f":"AF36/AF$56*AF$64","v":196135.07232869047},216043.2406224325]
["NC",{"$f":"B37/B$56*B$64","v":14631.593989136967},14631.593989136967,14631.593989136967,18289.492486421204,20118.441735063327,25282.057420499248,28074.785744656623,29669.435126884815,46257.786407720203,57918.435142536749,59002.187338466807,49799.626285673534,60287.818057243741,69027.533036790061,75154.478400985026,79751.407439989503,96065.345821246723,94989.54181865821,94013.92917810865,73017.977519024411,101420.75217754029,144521.21062661731,147345.15693203648,144666.30394950128,160174.81239693196,170960.26858535086,179191.96525309398,184414.93025282511,190983.92833502128,176928.78466345315,{"$f":"AF37/AF$56*AF$64","v":176228.15338366813},194115.72287342252]
["ND",{"$f":"B38/B$56*B$64","v":75038.649581137768},75038.649581137768,75038.649581137768,93798.311976422177,103178.14317406442,129659.92966149464,143982.53608751699,152160.75209642481,156042.88585569439,124412.63053756906,73411.419280661808,27388.422884940104,0,0,0,0,0,0,0,0,0,0,0,0,0,0,0,0,0,0,{"$f":"AF38/AF$56*AF$64","v":0},0]
["OH",{"$f":"B39/B$56*B$64","v":16683.272322548124},16683.272322548124,16683.272322548124,20854.090403185153,22939.499443503672,28827.170104203142,32011.50170808734,33829.756774654103,37646.793417027162,33940.964203581636,24659.655782213104,14384.742353239819,11248.904287572708,15438.526069974832,18693.016499329413,21278.729727772145,26943.999615110184,27657.261704009248,28228.273805926943,22587.062622847225,32292.286350991788,47323.039875855517,49578.571879567455,46030.751128178556,48434.880361399788,49340.311913331214,49543.049308384936,49004.006668997295,50749.566127698665,47014.736451647048,{"$f":"AF39/AF$56*AF$64","v":46828.55987765696},51581.768163810069]
["OK",{"$f":"B40/B$56*B$64","v":75038.649581137768},{"$f":"C40/C$56*C$64","v":75038.649581137768},75038.649581137768,93798.311976422177,103178.14317406442,129659.92966149464,143982.53608751699,152160.75209642481,156042.88585569439,124412.63053756906,73411.419280661808,27388.422884940104,0,0,0,0,0,0,0,0,0,0,0,0,0,0,0,0,0,0,{"$f":"AF40/AF$56*AF$64","v":0},0]
["OR",{"$f":"B41/B$56*B$64","v":328007.78548713098},328007.78548713098,328007.78548713098,410009.73185891367,451010.70504480507,566767.4809192532,629374.2368034136,665122.7282447035,881367.52682267805,967515.13978790492,883397.1782725571,679344.00655665225,758864.26456179027,827840.05430199986,871105.97813466447,901259.50626748952,1064574.1316587699,1036375.999740513,893612.92963316734,591609.68272709486,679703.66465940443,766515.37094023533,575862.85273378599,608470.38463404111,714888.82062735385,801375.06992437365,875331.64897486463,933124.74190415791,966363.34482863173,895245.44622368983,{"$f":"AF41/AF$56*AF$64","v":891700.30819596571},982209.97376662551]
["PA",{"$f":"B42/B$56*B$64","v":172888.72578836099},172888.72578836099,172888.72578836099,216110.90723545119,237721.99795899633,298735.92009069346,331735.14367461088,350577.71817314584,373488.88476020482,316341.24558244034,208564.0917051085,102325.58231012913,53187.056181891021,45496.728209314017,38195.366480712801,31851.048471669033,30467.299297425539,24017.379485796831,22068.519623748791,15820.261057573305,20144.170816496935,26101.746667799725,23962.488028107895,19910.533113737787,18587.175187829038,16619.396307601884,14450.283882015214,12161.62850048222,12594.834825949061,11667.938963340905,{"$f":"AF42/AF$56*AF$64","v":11621.73436738503},12801.367570687562]
["PR",{"$f":"B43/B$56*B$64","v":0},0,0,0,0,0,0,0,0,0,0,0,0,0,0,0,0,0,0,0,0,0,0,0,0,0,0,0,0,0,{"$f":"AF43/AF$56*AF$64","v":0},0]
["RI",{"$f":"B44/B$56*B$64","v":5326.4260479964069},5326.4260479964069,5326.4260479964069,6658.0325599955067,7323.8358159950594,9203.5774975349104,10220.230973691585,10800.740657956178,11076.303964233713,8831.1114298308948,5210.9212793615143,1944.0969404726052,0,0,0,0,0,0,0,0,0,0,0,0,0,0,0,0,0,0,{"$f":"AF44/AF$56*AF$64","v":0},0]
["SC",{"$f":"B45/B$56*B$64","v":75038.649581137768},75038.649581137768,75038.649581137768,93798.311976422177,103178.14317406442,129659.92966149464,143982.53608751699,152160.75209642481,168284.77444210631,150440.44211738196,107967.08944310664,61767.281714817174,46618.587060635698,50626.386831680822,53094.926975847877,54792.326034334328,64589.956884551488,62775.706134018888,56010.265634171898,38756.104219308872,47251.625744402481,57972.06570042274,49578.571879567455,36091.406411692966,27926.286939608817,18602.404953511494,9163.9497716432525,0,0,0,{"$f":"AF45/AF$56*AF$64","v":0},0]
["SD",{"$f":"B46/B$56*B$64","v":0},0,0,0,0,0,0,0,0,0,0,0,0,0,0,0,0,0,0,0,0,0,0,0,0,0,0,0,0,0,{"$f":"AF46/AF$56*AF$64","v":0},0]
["TN",{"$f":"B47/B$56*B$64","v":75038.649581137768},75038.649581137768,75038.649581137768,93798.311976422177,103178.14317406442,129659.92966149464,143982.53608751699,152160.75209642481,168284.77444210631,150440.44211738196,107967.08944310664,61767.281714817174,46618.587060635698,50626.386831680822,53094.926975847877,54792.326034334328,64589.956884551488,62775.706134018888,56010.265634171898,38756.104219308872,47251.625744402481,57972.06570042274,49578.571879567455,46030.751128178556,48434.880361399788,49340.311913331214,49543.049308384936,49004.006668997295,50749.566127698665,47014.736451647048,{"$f":"AF47/AF$56*AF$64","v":46828.55987765696},51581.768163810069]
["TX",{"$f":"B48/B$56*B$64","v":567125.46578134689},567125.46578134689,567125.46578134689,708906.83222668339,779797.51544935186,979940.98258580198,1088188.064401659,1149997.2066130638,1378223.7359685926,1363140.4580661731,1116231.3447736942,765527.20655176754,757382.70840954199,707354.62489395426,652460.36640139914,602284.62849943945,643512.57907038927,572911.68910566997,553590.81635382003,419540.7242558687,568290.19227634417,789246.97536150599,783756.00691228383,715539.957800498,740645.70011242444,742474.37264787348,733912.3940749421,714864.44874853559,740328.45638838015,685845.21840389445,{"$f":"AF48/AF$56*AF$64","v":683129.29733984149},752468.5177880649]
["UT",{"$f":"B49/B$56*B$64","v":2160.4762955608435},{"$f":"C49/C$56*C$64","v":2160.4762955608435},2160.4762955608435,2700.5953694510536,2970.6549063961593,3733.1056206555209,4145.4751375217593,4380.9383544885914,16734.599447600933,29609.839516684944,36669.296034774168,35167.412978252672,46618.587060635698,50626.386831680822,53094.926975847877,54792.326034334328,64589.956884551488,62775.706134018888,56010.265634171898,38756.104219308872,47251.625744402481,57972.06570042274,49578.571879567455,46030.751128178556,48434.880361399788,49340.311913331214,49543.049308384936,49004.006668997295,50749.566127698665,47014.736451647048,{"$f":"AF49/AF$56*AF$64","v":46828.55987765696},51581.768163810069]
["VT",{"$f":"B50/B$56*B$64","v":75038.649581137768},75038.649581137768,75038.649581137768,93798.311976422177,103178.14317406442,129659.92966149464,143982.53608751699,152160.75209642481,156042.88585569439,124412.63053756906,73411.419280661808,27388.422884940104,0,0,0,0,0,0,0,0,0,0,0,0,0,0,0,0,0,0,{"$f":"AF50/AF$56*AF$64","v":0},0]
["VA",{"$f":"B51/B$56*B$64","v":3259.9742283554888},3259.9742283554888,3259.9742283554888,4074.9677854443598,4482.4645639887967,5632.9375795844235,6255.1679647571373,6610.4618509315678,19021.005604739097,31432.785836390376,37744.951103104409,35568.719698357432,46618.587060635698,50626.386831680822,53094.926975847877,54792.326034334328,64589.956884551488,62775.706134018888,56010.265634171898,38756.104219308872,47251.625744402481,57972.06570042274,49578.571879567455,46030.751128178556,48434.880361399788,49340.311913331214,49543.049308384936,49004.006668997295,50749.566127698665,47014.736451647048,{"$f":"AF51/AF$56*AF$64","v":46828.55987765696},51581.768163810069]
["WA",{"$f":"B52/B$56*B$64","v":29345.944540967772},29345.944540967772,29345.944540967772,36682.430676209711,40350.673743830688,50707.110619278166,56308.36298997399,59506.681120445661,79830.427260676603,88637.956732284321,81792.695444249825,63522.515670900299,71613.724928683034,74716.936853556152,75989.723036396681,76535.280323203566,88458.15608091584,84580.548931858299,73259.946656719811,48795.370363492009,56539.794657548096,64583.985386033884,49578.571879567455,56436.632627021441,69906.114023427785,81521.006563736504,91817.478538351847,100308.18223706193,103881.23489521974,96236.268672349906,{"$f":"AF52/AF$56*AF$64","v":95855.176696785289},105584.70118645932]
["WV",{"$f":"B53/B$56*B$64","v":0},0,0,0,0,0,0,0,0,0,0,0,0,0,0,0,0,0,0,0,0,0,0,0,0,0,0,0,0,0,{"$f":"AF53/AF$56*AF$64","v":0},0]
["WI",{"$f":"B54/B$56*B$64","v":3149.7990768115019},3149.7990768115019,3149.7990768115019,3937.2488460143763,4330.9737306158149,5442.5649852030256,6043.766269475067,6387.0525276715107,8040.2809854216612,8390.8163155418588,7288.1489700535503,5334.777722956499,5675.1400034453063,5358.0870218361206,4994.4583940560497,4657.5264516779989,5025.6732798322082,4517.3035581914601,3738.6922524756592,2336.0356252838578,2457.55713392095,2382.212425860434,1289.137411103768,1065.437006174926,988.16801418038676,876.42575151061499,754.19014641561648,626.10747307499798,648.40989069508839,600.69124624560106,{"$f":"AF54/AF$56*AF$64","v":598.31253168305398},659.04265216369754]
["WY",{"$f":"B55/B$56*B$64","v":0},0,0,0,0,0,0,0,0,0,0,0,0,0,0,0,0,0,0,0,0,0,0,0,0,0,0,0,0,0,{"$f":"AF55/AF$56*AF$64","v":0},0]
["US total check",{"$f":"SUM(B69:B120)-B64","v":0},{"$f":"SUM(C69:C120)-C64","v":0},0,0,0,0,0,0,0,0,0,0,0,0,0,0,0,0,0,0,0,0,0,0,0,0,0,0,0,0,{"$f":"SUM(AF69:AF120)-AF64","v":0},0]

{"sheet":"Notes","index":30,"n_rows":4,"n_cols":26,"rows_kept":4,"cut":false,"hidden":false,"merged":[]}
[null,null,null,null,null,null,null,null,null,null,null,null,null,null,null,null,null,null,null,null,null,null,null,null,null,"Control"]
[null,null,null,null,null,null,null,null,null,null,null,null,null,null,null,null,null,null,null,null,null,null,null,null,null,"$A$1"]
["Notes and Comments"]
["Use this sheet to keep a record of data sources, edits, or any other useful notes about the use of this tool."]

{"sheet":"Electric Power method","index":31,"n_rows":128,"n_cols":37,"rows_kept":128,"cut":false,"hidden":false,"merged":[]}
["Emissions/Consumption, Metric Tonnes SF6"]
[null,1990,1991,1992,1993,1994,1995,1996,1997,1998,1999,2000,2001,2002,2003,2004,2005,2006,2007,2008,2009,2010,2011,2012,2013,2014,2015,2016,2017,2018,2019,2020,2021,2022,2023,2024,2025]
[]
["Alabama",{"$f":"B$66*B76/B$61","v":23.177633235490141},22.289657869456704,22.550134913509183,22.092935186411129,21.078684227589985,19.604807273826633,18.190565637281278,16.765393187927909,14.592873196485117,14.944249229173995,{"$f":"L$66*L76/L$61","v":14.532639608255341},13.640338970601423,13.227365608810986,12.757683099070553,12.666984499908772,12.280971536394524,{"$f":"R$66*R76/R$61","v":11.534755489640665},10.59848432299375,{"$f":"T$66*T76/T$61","v":10.387156994506952},8.8170164608988202,{"$f":"V$66*V76/V$61","v":7.9940640359111477},7.2081661339154737,{"$f":"X$66*X76/X$61","v":6.0516640318408044},5.9015576079217356,{"$f":"Z$66*Z76/Z$61","v":6.2400318454324433},5.3543395667376661,{"$f":"AB$66*AB76/AB$61","v":5.5500380529199722},5.3983232593417476,5.2194932000465837,5.9882489262712406,{"$f":"AF$66*AF76/AF$61","v":5.5904462449812948},5.7258804295993233]
["Alaska",{"$f":"B$66*B77/B$61","v":1.6452721703899367},1.5492819057602012,{"$f":"D$66*D77/D$61","v":1.5738909812256454},1.4855795380902279,1.4139791147544551,1.2971051550837061,1.1892979585605541,1.0885199254054474,0.93901440280609094,0.98374497727903276,{"$f":"L$66*L77/L$61","v":0.92389824580998914},0.93746387392699337,0.87030894759455424,0.84656630856608894,0.84404511392374582,0.81402239284344513,0.78642509661065019,0.73019273090199432,0.73247761161565605,0.66732411750436582,0.54961223951570304,0.5118501639104861,0.45055483463087775,0.42107372810838006,0.42509712525271587,0.37118879083004647,0.38519637056420997,0.38720167857617094,0.34529345857538224,0.39553219244935783,{"$f":"AF$66*AF77/AF$61","v":0.39668632560478068},0.39936501797220325]
["Arizona",16.039332489731621,15.23481382386632,{"$f":"D$66*D78/D$61","v":15.833922184533696},15.080462684681065,14.747456586596703,13.606933365452182,12.960190893070862,12.245823018949238,10.292821043463043,10.717698105309912,{"$f":"L$66*L78/L$61","v":10.636207236912016},10.703896949430016,9.9683635877985441,9.75030502529426,9.7598409990563475,9.5534704376096542,9.3181995869813186,8.9093397405909673,8.8310204697644288,7.815347386966919,6.4078247529492192,6.0700489240196731,5.2708830672171487,5.0826768456242695,5.2611379806776366,4.6615173318581826,4.9217594628475299,4.8602877302617102,4.5295295200746004,5.2972209011745051,{"$f":"AF$66*AF78/AF$61","v":5.4942150480434675},5.4338382802605398]
["Arkansas",10.584168643692061,10.353605979836964,{"$f":"D$66*D79/D$61","v":10.320264973525923},10.752415092926055,10.17402765445572,9.7094443827913555,8.9918607743070016,8.288382490060286,7.2464276482888526,7.3955840411084521,{"$f":"L$66*L79/L$61","v":7.2400604145164049},7.1731003776990212,6.7595470686765617,6.5593252256942218,6.368064949565178,6.355827454062438,5.9323356195458867,5.4308925888565414,5.3419095950786435,4.5948433506397519,4.2401165017257867,3.8819070896811709,3.2904382933947871,3.1359818662467482,3.2464413531398142,2.80025541108752,2.9056070140475585,2.8847619500696942,2.8677413537864305,3.2691149451643633,{"$f":"AF$66*AF79/AF$61","v":3.0736340068517527},3.2556965820526993]
["California",81.645127680611765,75.958700042911232,{"$f":"D$66*D80/D$61","v":77.425166544915598},71.483667712723204,66.648991884173725,59.538170333442402,54.272908929117243,51.24482422373751,43.578612727285147,43.648309526816192,{"$f":"L$66*L80/L$61","v":42.464273961075897},42.58553299975393,37.454703034463797,37.008400489227498,36.749050544586098,35.004195648120977,33.449927508587727,30.496966189276002,31.049546811573602,27.627069103097703,22.745458333391337,21.21592743775518,18.224536706191746,17.555282556949315,18.106640991436493,15.739621339151102,16.157623347005437,16.103752651877084,14.75558953967667,17.019446451452136,{"$f":"AF$66*AF80/AF$61","v":16.770524725755354},16.541688582161246]
["Colorado",11.910527578616943,11.451730305484427,{"$f":"D$66*D81/D$61","v":11.542999176256899},11.192139982953684,10.761399370630876,9.8901790406941057,9.2248648485502347,8.5608659206302686,7.2942101506113692,7.5409682595133773,{"$f":"L$66*L81/L$61","v":7.4852334235122875},7.6034248765441079,7.3148290211051519,7.0745955620290246,6.8130152384976768,6.6571068441197259,6.3264295152808065,5.9207491551727438,6.0375485598313583,5.4316685992273204,4.6556884836738179,4.3298455171774339,3.7697351544258244,3.5899989312246432,3.6819788787713676,3.2613418356078436,3.4474684571773957,3.4321095877579713,3.263639879038335,3.84199247787683,{"$f":"AF$66*AF81/AF$61","v":3.7573441419246283},3.7700491788186907]
["Connecticut",10.515300545193933,9.8916835135692303,{"$f":"D$66*D82/D$61","v":9.8399503207169374},9.2499175211364708,8.7413193273669823,7.8327552991865961,7.0709857256852295,6.3937026339560239,5.3370866523600702,5.5395216717684788,{"$f":"L$66*L82/L$61","v":5.2115127364348268},5.2494384584287026,4.9372260197110505,4.843265692236522,4.6973584391801104,4.5564095040555479,4.0295650974540553,3.9390488497910217,3.5844413755472648,3.1626005075887087,2.6738570461868809,2.418424515273589,2.070926483741137,2.0034932036676536,2.0241487590125762,1.7764013552350315,1.8199872728153339,1.7611507330953067,1.667010581649623,1.8964970620614219,{"$f":"AF$66*AF82/AF$61","v":1.8175721779403209},1.8557212982368554]
["Delaware",3.2039794252514371,3.1074604056311816,{"$f":"D$66*D83/D$61","v":3.0950081126816102},3.097445801568699,2.9003863967048309,2.6826678953231182,2.3988944654541013,2.2762934736021645,1.9164876725670328,1.9613827828256691,{"$f":"L$66*L83/L$61","v":1.961648889495252},1.9557928761452725,1.9138290716455357,1.9171455873549581,1.7149470783299403,1.6709511326280246,1.4698247047743911,1.3698519090724572,1.3603851869745638,1.1981470312229225,1.0210858775289926,0.93008778167914585,0.80887746650944647,0.76230415179911737,0.78184930496567262,0.69294746702106214,0.70824210206068372,0.6965977655930643,0.68065247026962772,0.77963183674085967,{"$f":"AF$66*AF83/AF$61","v":0.7460388514857027},0.7680201485272814]
["District of Columbia",3.8091165817510571,3.7115241469939093,3.6429731763976498,3.5231177786404908,3.2109504727455658,2.8887888857377813,2.5223058869637294,2.2727748351903672,1.8949672807857145,1.9363719471343017,{"$f":"L$66*L84/L$61","v":1.8470276160240269},1.8701686501250772,1.7721094321807735,1.6655946634729646,1.6644506293076267,1.6268146456885622,1.4496945946439488,1.3977104732041914,1.3450374104305345,1.2169419631600129,1.0449339063836025,0.93646685469069835,0.79058636473095079,0.74468138814486207,0.77185849384546068,0.68047415286948076,0.7167701803399138,0.68331774363928199,0.65664858861303366,0.74965365187612831,{"$f":"AF$66*AF84/AF$61","v":0.65599199265934727},0.67460501740651868]
["Florida",{"$f":"B$66*B85/B$61","v":55.51547313808576},53.273350514535188,53.325913396360313,51.87163028855025,49.762507850792801,46.904768878778256,42.756945715932176,39.362564007093809,34.53248789692325,34.808157161914039,{"$f":"L$66*L85/L$61","v":34.075330365446092},34.505887757657938,33.515207219484083,33.0761926342525,31.872796770310558,30.97405931006767,29.030917007730388,26.670886168642451,26.188424793839047,23.919811802177648,20.341741757950128,18.231163881450307,15.49556093150739,14.907676559117631,15.589308330678113,14.198564565146219,14.828710582662916,14.594368931235902,13.792469502933773,16.33760773764881,{"$f":"AF$66*AF85/AF$61","v":16.252040423468035},16.161160426528436]
["Georgia",{"$f":"B$66*B86/B$61","v":31.112097360911136},29.684104767409114,{"$f":"D$66*D86/D$61","v":30.24913980309465},30.288384698984977,28.044251962865442,26.937810667854439,25.208245030071048,22.993575445988114,20.407550053221716,20.939464572639896,{"$f":"L$66*L86/L$61","v":20.737383194844838},20.246185081677005,19.711821247445599,18.818561336230999,18.877993340831051,18.209851471983988,17.151727991422053,15.864392233738064,15.651667591179343,13.917160349237323,12.376236885386703,11.045360100309727,9.1972231850638781,8.7663046817196815,9.3634501314008869,8.1887968519950096,8.6883191495718641,8.3537514363305672,8.0862465089920708,9.4689590019026344,{"$f":"AF$66*AF86/AF$61","v":8.9472059608059702},9.190022070988574]
["Hawaii",3.2142946718954808,3.1031730175944086,{"$f":"D$66*D87/D$61","v":3.1437994752590726},2.9401399077467185,2.7910487559079642,2.5729125852391603,2.3337659749406017,2.1055384287634302,1.706965486173122,1.7436840526670554,{"$f":"L$66*L87/L$61","v":1.6860970297860998},1.6818004749953659,1.5751163450820782,1.5810629858851792,1.5648116192382941,1.4509607979611092,1.3443028184168051,1.2217140592235258,1.2030847484486595,1.077713425807836,0.88124899250159761,0.80684254247451326,0.67685327328876965,0.63838502818751919,0.65338365641484231,0.57320836394426034,0.59418741393263075,0.58365075854899451,0.53982058251057308,0.64255824350292412,{"$f":"AF$66*AF87/AF$61","v":0.58969317987977787},0.59787495642955957]
["Idaho",6.963244783157319,6.5694579864088372,{"$f":"D$66*D88/D$61","v":6.8949759472188736},6.357070273722301,6.2002198448981725,5.4943733661529963,5.4198318432634958,5.035840349197823,4.069140255038123,4.2234398249740881,{"$f":"L$66*L88/L$61","v":3.9729761205339433},3.6260476232929677,3.2961560314216674,3.2286215914347092,3.1800217001300917,3.0086017872198902,2.8954332069377466,2.7417312175754196,2.7675405139937195,2.4216477494895066,2.005730934438926,1.8848896824578361,1.6650262445057977,1.6262016010588727,1.6020605719330805,1.3896557552948312,1.4508371390759152,1.4893784016727525,1.3732902886894163,1.6303946269467307,{"$f":"AF$66*AF88/AF$61","v":1.6397731443469437},1.6916764968915705]
["Illinois",43.154929290859968,42.545712613065447,{"$f":"D$66*D89/D$61","v":40.815331613001916},39.999073878943818,37.893233837831836,35.349951346056827,31.350174539333608,28.548783870385659,24.273908749898563,24.661683793153689,{"$f":"L$66*L89/L$61","v":23.4363446324056},23.381860520853646,22.04595696273908,20.731392292691218,20.305251108295764,19.961202269471979,18.120229786603481,16.857117725131335,16.745461104110557,14.547531470270188,12.735993959207965,11.572994377659251,10.079255017350905,9.525892368374155,9.7599682052176693,8.3540306587015642,8.8731525782421325,8.587838293235313,8.2474749608038191,9.4022411093664928,{"$f":"AF$66*AF89/AF$61","v":8.8801127131344266},9.0779520529278521]
["Indiana",28.614354565379422,28.043943122552722,{"$f":"D$66*D90/D$61","v":27.922322600891135},27.823113849305123,26.139909206992385,24.365288740668646,22.121319952086072,20.046954707104987,16.96793351143203,17.980341822474657,{"$f":"L$66*L90/L$61","v":17.01216422912055},16.798811945467762,16.151194267620269,15.287113245843964,15.032642218363153,14.669286622192088,13.44116639576081,12.628848331761537,12.387237470784035,10.569594986800773,9.3253484882642752,8.5707237855686653,7.3851870007139544,7.0862262084704417,7.3742639706980633,6.2986414414273542,6.5238286535722754,6.1948002079465594,6.0239154863716795,6.9405142930351316,{"$f":"AF$66*AF90/AF$61","v":6.5128607703387251},6.6728804082559865]
["Iowa",11.385595235815437,11.205915932170523,{"$f":"D$66*D91/D$61","v":10.957579000052764},10.902166467836055,10.305075062360823,9.6056847636913805,8.708901359499384,8.1288222338338176,6.8783660601382417,7.0693922610609325,{"$f":"L$66*L91/L$61","v":6.8010199217235048},6.7797126856458307,6.5124086074517811,6.270074080782198,5.9642189037029585,5.8866099296748846,5.5127095524417733,5.2248323550844207,5.2670388594343818,4.6446615156446196,3.998259026195063,3.6978096943389995,3.2096534950186721,3.1374719654069079,3.2548230208644293,2.8413650009936204,3.046693505406938,3.0622849784964568,2.9607035385646654,3.4696485340129208,{"$f":"AF$66*AF91/AF$61","v":3.3946564254107989},3.5387035859068452]
["Kansas",10.500420985627265,10.248748270879185,{"$f":"D$66*D92/D$61","v":9.8189601937595778},9.7830391668650716,9.236669689888469,8.5011902713328791,7.7860434960110982,7.2567580505174352,6.2925877713145653,6.2861858223268534,{"$f":"L$66*L92/L$61","v":6.2500870635487464},6.1614830645922156,5.846159851363816,5.589633538731297,5.4135892375092522,5.3727287548276008,5.0566079008168874,4.6358009162848193,4.6275326543127795,4.0701769991944206,3.5561969863936143,3.3013822064907909,2.8293730585343186,2.6767907674795746,2.7969420813211032,2.4015358586536433,2.5672729573340689,2.5218243839670893,2.4303347120998264,2.7978180920721649,{"$f":"AF$66*AF92/AF$61","v":2.6468166716069059},2.7090106364568354]
["Kentucky",23.630645837647982,23.369596563620014,{"$f":"D$66*D93/D$61","v":24.327965585202488},23.14278069603327,22.608477046219122,20.876597787051953,19.164564267001523,17.278480919703032,13.980441678127454,14.702047091842426,{"$f":"L$66*L93/L$61","v":13.626472305301434},13.746432232710996,13.896122987121121,12.966964760572987,12.616042295847098,12.301601817109637,11.288705828217394,10.664921992274058,10.818025190194334,9.4611374895557141,8.2322056907703871,7.2521440669926927,6.2529080020091259,5.6941001612149824,5.4363701521501948,4.5825218853074672,4.689991691044427,4.5465681262438711,4.4291833622688399,5.121588390295666,{"$f":"AF$66*AF93/AF$61","v":4.8131585708588442},4.9853890779405257]
["Louisiana",24.686156641380339,23.55544174750456,{"$f":"D$66*D94/D$61","v":23.613559109184617},23.009199917255188,21.874391919142692,20.394643926754767,18.729201760789046,17.064882679901864,14.324335172172807,14.547525442681053,{"$f":"L$66*L94/L$61","v":14.039565030160448},12.838417424519683,12.62129480489185,11.833330489633939,11.626830061548148,10.654674141514437,9.8543697158722381,9.1833065445059745,9.1156145094098076,8.3726758620438471,7.4852818339549465,6.9954503439566889,5.9497195395551206,5.7642380041565868,6.2493124848080877,5.5249485322217051,5.7530736900801784,5.7090589474551532,5.4452933018315495,6.3303942429459008,{"$f":"AF$66*AF94/AF$61","v":5.9746306952972006},6.076061310559469]
["Maine",4.4591008878146141,4.1438746664487764,{"$f":"D$66*D95/D$61","v":4.1653163271141205},4.058900451528773,3.6199003038801694,3.2376456872725385,2.9178867121090168,2.6892811484464394,2.1378274769353087,2.2199782069844649,{"$f":"L$66*L95/L$61","v":2.1162743130615134},2.0887222379519921,1.8218893570241446,1.8216270908087344,1.8033857821894412,1.7020785621033523,1.5626973659504904,1.3688584071768759,1.3516882409680151,1.2008278555889274,1.0145433585657102,0.92458410095430166,0.8118075706033826,0.79637524021045669,0.82764838351646219,0.71644886337657454,0.72022683098932261,0.70192280670709895,0.71428409442577845,0.79748324666380188,{"$f":"AF$66*AF95/AF$61","v":0.76063169067217706},0.77504620531889978]
["Maryland",19.158329289444151,18.605672827737294,{"$f":"D$66*D96/D$61","v":18.495509168110509},18.294529122169763,17.077251079362583,15.726589634965608,14.18268748873105,12.652546091705201,10.659676834982729,10.982430626472702,{"$f":"L$66*L96/L$61","v":10.55752041446606},10.594874284597466,10.888622047812108,10.842660591306309,9.7537822592328194,9.4123105304550894,8.0360088334524225,7.5471357647909088,7.3324572412695463,6.6612608520293222,5.7481944844346611,5.1512487459545389,4.3404941951672305,4.1581624822872385,4.2534363393993386,3.7233190475606435,{"$f":"AB$66*AB96/AB$61","v":3.8596315844421851},3.7121419267079654,3.5894793186190626,4.127475484349044,{"$f":"AF$66*AF96/AF$61","v":3.8631778049919636},3.9675971899624187]
["Massachusetts",17.57563009365364,16.308160708979621,{"$f":"D$66*D97/D$61","v":16.322459717583175},15.376888749193933,14.376078401288357,13.024815060312493,11.768105044254318,10.767491163233284,8.9590844503240437,9.1834234825686529,{"$f":"L$66*L97/L$61","v":9.0081654474172819},9.0231851816368636,8.5522356744960213,8.4470291936005744,8.1863225021895367,7.8788970348802296,7.104471857433353,6.5947407026358436,6.4707900919892012,5.7853611701491205,5.0256988822895883,4.5008764191208996,3.8840538032404979,3.7124894217626183,3.7559522405145129,3.2917785493939737,3.364043513556827,3.2870848274910469,3.0806318316534096,3.4895957434269258,{"$f":"AF$66*AF97/AF$61","v":3.3523892848722556},3.3985503481338477]
["Michigan",31.857314174452632,30.768768798815969,{"$f":"D$66*D98/D$61","v":30.411933896996103},29.744212455399921,28.433166015744025,26.520258537915431,23.962709522333736,21.900844713126869,18.52492071506477,19.327079786631177,{"$f":"L$66*L98/L$61","v":18.229644719654779},17.602430320962235,16.674283561840728,16.56668432254892,15.544710355381373,15.205626697727373,13.740509432326128,12.61460586807466,12.248355776742324,10.442860182949319,9.1190223876729348,8.5087966658458942,7.3602427762674125,6.921706417127937,7.1240657554321789,6.1760250123796325,6.5718267024966002,6.3783999213342284,6.0629470155125542,6.8824019440825772,{"$f":"AF$66*AF98/AF$61","v":6.5032185522987493},6.6777800289830376]
["Minnesota",18.242908198862121,17.748991756429671,{"$f":"D$66*D99/D$61","v":17.198132440152673},16.711450920892371,15.95548267265349,15.110701391476196,13.671137744535679,12.519825263594333,10.458847553893657,10.66883980209448,{"$f":"L$66*L99/L$61","v":10.401672167254549},10.431040867085578,9.898557838448264,9.5993293100661496,9.2359387000363053,9.0892756292175143,8.4935421896771661,7.8749777712315128,7.9656357842241166,6.8118910613148875,5.9649946507714944,5.5507960742442455,4.7740961643075313,4.6112397543136128,4.7385719728170708,4.0124446864969423,4.1862847562729817,4.2034330078815376,3.9723207937186658,4.5519738526198346,{"$f":"AF$66*AF99/AF$61","v":4.2939173063911023},4.4549964870606384]
["Mississippi",12.425898882909234,12.020625596995377,{"$f":"D$66*D100/D$61","v":12.057802480104124},11.800514770410892,11.42397395212555,10.604750308880989,9.8592315596121125,9.0150014485192607,7.8353258575606555,8.1745790090109693,{"$f":"L$66*L100/L$61","v":7.8881830454653077},7.6121611760336805,7.2376235209192705,6.9299279175091666,6.7122132116818767,6.3195002565449307,5.970600866618005,5.5576529509497234,5.5256158189432982,4.900936681770343,4.3714596550314724,3.9960877907874548,3.3977407163907767,3.2769814412540152,3.4069922977005982,2.9344294771168711,3.0856315287947824,2.9938552175171131,2.9132619498054484,3.3274369284458776,{"$f":"AF$66*AF100/AF$61","v":3.1159357375855756},3.2123584716501914]
["Missouri",20.85661532979131,20.573840226093562,{"$f":"D$66*D101/D$61","v":19.736818759003089},19.907467810835865,18.618410927939603,17.435101686781756,16.134937997738277,14.77691655569312,12.719649698724483,12.83347502961797,{"$f":"L$66*L101/L$61","v":12.639329822391284},12.584100303560852,11.942887176960673,11.296294060753272,10.798192878111573,11.143608187336866,10.432837143430273,9.8718690299118563,9.7705083226481477,8.5033398951131574,7.5737387772159099,6.8242078024827668,5.7885396590059521,5.6029499854448677,5.7838690677843907,4.911901160296714,4.9456787203841728,4.7861221780914525,4.7439932382114298,5.3603426541064971,{"$f":"AF$66*AF101/AF$61","v":5.076292956912237},5.2025589879445908]
["Montana",{"$f":"B$66*B102/B$61","v":5.0762396229930751},4.8806399298460006,4.7505395372425294,4.3906360644058795,4.1121843380233845,3.7577448561171884,3.4387188070817492,2.6799600286043606,2.6071217931184347,2.4686674368878569,{"$f":"L$66*L102/L$61","v":2.5368165533404552},1.9674864234109894,2.0432337868500685,1.9513920951656079,1.8892871672920126,1.855719950172126,1.7573496590785194,1.7926413266312944,1.7746355115799617,1.5276489643952658,1.2116076650590641,1.1167634859279409,0.97347477195421594,0.94349932295061001,0.97243619081764332,0.85618955233827054,0.88703595406032176,0.92075469870230919,0.85789609407871459,1.0414605592971005,{"$f":"AF$66*AF102/AF$61","v":0.97765426279580381},1.0009691320357605]
["Nebraska",{"$f":"B$66*B103/B$61","v":6.9109646223445926},6.7731746287389321,6.451030372955592,6.3669866410129918,6.1985146656443835,5.8507635671814544,5.3492119255758173,5.0782324424376242,4.2659796431786159,4.2397254923463104,{"$f":"L$66*L103/L$61","v":4.2365913562592405},4.2494026248427677,4.0861944819703533,3.9343186096573173,3.7730867503016117,3.7139549756088814,3.4697105929307281,3.2603205096587113,3.3371703300574054,3.0281208043788617,2.6261451521400057,2.4036098291365122,2.16471123158348,2.0623454028888579,2.0839819179732686,1.7775414619022119,1.8997709946828076,1.900329847495162,1.7887422733763738,2.0652917144165173,{"$f":"AF$66*AF103/AF$61","v":2.0895920879943164},2.1637122532816582]
["Nevada",{"$f":"B$66*B104/B$61","v":6.3244776793123805},6.0524431117375297,{"$f":"D$66*D104/D$61","v":6.4190816049048651},6.2820246214774302,6.249393384396134,5.7854909073996366,5.6170934922879434,5.4462990659300594,4.6147387164754399,4.8797350455709463,{"$f":"L$66*L104/L$61","v":4.8355630188105136},4.8414800688322659,4.6504053396841734,4.5848141890870977,4.5657893992598391,4.474574698810291,4.399583077195989,4.1138228917252064,4.0749199513738228,3.6487536225686701,2.9713012106228325,2.7470599656646777,2.4703034354903139,2.3653503696549691,2.4186527143239589,2.1707521259521712,2.2737744551602672,2.2946035382148793,2.1842360413473272,2.5138708405915708,{"$f":"AF$66*AF104/AF$61","v":2.5630194432373754},2.6113497917980188]
["New Hampshire",3.47307585970414,3.1897023884270812,{"$f":"D$66*D105/D$61","v":3.2480587337285036},2.9751373729103765,2.7934812953263473,2.522435644161114,2.2757460571540928,2.061478428506291,1.714727225996544,1.8379094393684983,{"$f":"L$66*L105/L$61","v":1.7675792256931462},1.773068308890128,1.6534210593849841,1.669575000247385,1.6000679703054315,1.5481216193758018,1.4112680502432982,1.2967988190613231,1.2710543167525372,1.1386232368864637,0.95810493863359414,0.88030114129013459,0.76330033210925563,0.74184367022841591,0.7546535679649059,0.6628715037640438,0.68600537306500831,0.67523137535494848,0.63863217775266201,0.72812290117567269,{"$f":"AF$66*AF105/AF$61","v":0.71684352003500162},0.72704979230175226]
["New Jersey",24.311294699380067,23.547524441312515,{"$f":"D$66*D106/D$61","v":22.896801010572062},22.284114502530695,20.666009326795969,18.693837780067355,16.644090514628555,14.822724518906409,12.563271404503332,13.141683580147241,{"$f":"L$66*L106/L$61","v":12.175538982314272},12.577952562717529,11.879509354057147,11.622314363553667,11.314211714193084,11.275270890533434,10.135902118244367,9.4565423027650084,9.3233140453067733,8.0651266971563551,6.966178562870935,6.2252445237819449,5.2701507518510731,5.0141815914782759,5.093465528469137,4.5494355896615968,4.7406824398740683,4.5934239937079173,4.3948490063957975,5.0244742677835426,{"$f":"AF$66*AF106/AF$61","v":4.8264196204917926},4.8886129548560184]
["New Mexico",5.3455023700088438,5.1272253558780747,{"$f":"D$66*D107/D$61","v":5.2348286970344038},5.0690186866100184,4.9464215326345453,4.5970360181858378,4.2732537492887657,3.9416191366667741,3.3496005608943591,3.3533593934329571,{"$f":"L$66*L107/L$61","v":3.2711882696968084},3.2187839849613482,3.0584549197347131,2.9413151953400658,2.8937966588446078,2.8414996249175895,2.7266571776660351,2.5700160488683013,2.551780526727375,2.303869532058533,1.9732379368379993,1.8662560893705098,1.6275790114162816,1.5494173596452574,1.5939195585815649,1.3917493257309859,1.4493642188912812,1.4402908255084599,1.3903514353656508,1.6912225017772222,{"$f":"AF$66*AF107/AF$61","v":1.6609430812459423},1.6989104873381309]
["New York",50.019253295373346,47.111745923663207,{"$f":"D$66*D108/D$61","v":46.600681942632107},44.204489752370264,40.91449925962619,36.537230340527898,32.727897201671261,29.671052771030176,24.734410261392267,25.906296656520489,{"$f":"L$66*L108/L$61","v":24.711644254567759},24.782227949597015,23.477945374911378,21.917750239357435,21.155022213269788,20.671799970782772,18.093542965509467,17.102073650448357,16.679811030180307,14.903633473198896,12.723931860714272,11.667032794697036,10.052758809567415,9.9350105731829661,10.162090353978895,8.9743868749164175,9.297944734791372,9.0758386165543037,8.6680758211777036,9.8971564916220576,{"$f":"AF$66*AF108/AF$61","v":9.4121953864939343},9.4616354746592357]
["North Carolina",34.780399802929033,33.607589777628142,{"$f":"D$66*D109/D$61","v":34.168111783784781},33.883458540143593,31.124646588434633,29.312727670147417,26.947381434463964,24.52275878906255,20.937640333257431,21.37800530170249,{"$f":"L$66*L109/L$61","v":20.854024702428891},20.458713309388099,19.536244762211208,18.462274710235011,18.322589123440462,17.668772294151839,16.116882366188481,15.221163927707588,15.060648452149266,13.586431403316729,12.001739788374255,10.617203853800289,8.9940104809883081,8.7181014987848844,9.1802248559264701,8.066415760537696,8.4550625419436241,8.2263512470247449,7.9949769508263762,9.2741799569537591,{"$f":"AF$66*AF109/AF$61","v":8.7407935288727874},9.0782359880731445]
["North Dakota",{"$f":"B$66*B110/B$61","v":2.7127706289586482},2.6412381737098616,{"$f":"D$66*D110/D$61","v":2.5857256627432603},2.5238185410426928,2.395661135183687,2.2074661184128965,2.068811394401382,1.8625227797159081,1.5151500049065332,1.6936947228821975,{"$f":"L$66*L110/L$61","v":1.6378683989159943},1.6861308964119412,1.627300751044829,1.5917555286357457,1.5334439960562525,1.4924124544464696,1.4304628139567928,1.3741090323785123,1.4376504485596528,1.3461678295828567,1.1398875312083008,1.1126274841588106,1.0334119302597518,1.0770314066162137,1.2577281575788473,1.0925538896163836,1.1650618744517711,1.2606951429296613,1.1949911508568594,1.465486366655143,{"$f":"AF$66*AF110/AF$61","v":1.4626726852206373},1.5296040546458167]
["Ohio",55.101855340837155,53.026555033064781,{"$f":"D$66*D111/D$61","v":52.602806315752545},50.453110604505937,48.150715466438193,44.421754132722391,39.4612720051868,35.644703018417957,29.452472220328218,30.533224866338823,{"$f":"L$66*L111/L$61","v":28.742768527718987},26.778985367909854,24.428110643698055,23.15701749617357,22.487680321061092,22.052521220443143,19.517084114215972,18.670959952866397,18.455543183693806,15.570449395207307,13.561660485827709,12.533653420667152,10.705389219590552,10.097031885665864,10.390181051782969,8.9924406128475134,9.4737564486961734,9.1792082988859391,8.8406695059281457,10.095750011280344,{"$f":"AF$66*AF111/AF$61","v":9.5602472543584298},9.8827270172694988]
["Oklahoma",16.439501789002726,14.345074322326608,{"$f":"D$66*D112/D$61","v":13.880923741636744},13.764032920485327,12.832805091101005,11.591609120100447,10.772170814255865,9.9963901118285445,8.828115066918544,8.6869959400879448,{"$f":"L$66*L112/L$61","v":8.6238195178087569},8.5368678904172022,7.879925078192656,7.6731179157095193,7.428090263944453,7.3942086585898048,6.9842905917706046,6.3701845751863884,6.5164992532525652,5.805091075370397,5.0892692848643746,4.8472818145651582,4.1668473283916976,4.02580510622301,4.2458171116183783,3.6964806786779909,3.8698630766088122,3.7865203027522538,3.7333708499750973,4.4044924315577161,{"$f":"AF$66*AF112/AF$61","v":4.1762502436692488},4.3169071982113731]
["Oregon",16.622531858842784,15.890949107034238,{"$f":"D$66*D113/D$61","v":15.565099402112393},15.13820928325808,14.026555018455548,12.804988833244114,12.045733776006408,10.918256285125771,8.6456578724666748,8.8370083526717877,{"$f":"L$66*L113/L$61","v":8.7571457476201395},7.8868242648222111,7.2063052339579299,6.8768013237890093,6.6544575317535815,6.3908416302968929,6.1147034928682498,5.6204143862177114,5.6953911818315195,5.0624676046229142,4.0493466995521032,3.8206439656991877,3.2784511145225679,3.2003327611110346,3.2640009856379106,2.8483968640887287,2.9786372830056029,3.1325055271852582,2.8517381493304668,3.4262288053378169,{"$f":"AF$66*AF113/AF$61","v":3.4200930226763795},3.6217924828450703]
["Pennsylvania",44.382502817831771,42.352199495562957,{"$f":"D$66*D114/D$61","v":42.181797003230059},40.744514317653923,38.37824489413714,35.355421118887236,31.756425439636626,28.801341467735696,23.999151896737679,23.955702770526756,{"$f":"L$66*L114/L$61","v":23.288165827917322},23.250951644231968,22.264519041664411,21.358477089021413,20.924603748997598,20.413707237127905,18.591216332235266,17.493960634743008,17.414802315086554,15.298806397283826,13.105798309474912,12.048569461253697,10.161391955403802,9.8247502216404712,10.114910029655171,8.819526484025932,9.1422259193974043,8.9505518935081305,8.6129719417862614,9.8957995783682762,{"$f":"AF$66*AF114/AF$61","v":9.3662229388742198},9.5898462423307471]
["PR",0,0,0,0,0,0,0,0,0,0,0,0,0,0,0,0,0,0,0,0,0,0,0,0,0,0,0,0,0,0,0,0]
["Rhode Island",{"$f":"B$66*B115/B$61","v":2.4826899614807449},2.3310132308147269,2.3188166796138896,2.223783993298742,2.0497851579103812,1.8582657058161423,1.6433219611608125,1.5166795499120949,1.2695018417989217,1.3289930215835513,{"$f":"L$66*L115/L$61","v":1.2703822286132169},1.2707170797716072,1.203944238067115,1.1863296450247143,1.1501230960398421,1.1081739924146177,{"$f":"R$66*R115/R$61","v":0.99209636331072637},0.92483184785497463,{"$f":"T$66*T115/T$61","v":0.90531074244610732},0.8107318843298954,{"$f":"V$66*V115/V$61","v":0.68617329011946759},0.62628616076877763,{"$f":"X$66*X115/X$61","v":0.5412725510646953},0.52270504721380429,{"$f":"Z$66*Z115/Z$61","v":0.52703335290800979},0.46191965820149677,{"$f":"AB$66*AB115/AB$61","v":0.47333429391112175},0.46224537960783579,0.43842474991650532,0.49960911119489682,{"$f":"AF$66*AF115/AF$61","v":0.49281247828678781},0.49494659298432064]
["South Carolina",{"$f":"B$66*B116/B$61","v":21.524632558971923},20.77595032657036,21.184162482575534,20.895897452041741,19.293745502716245,18.223538691716524,16.693056507490521,15.411766896763563,13.354425502311985,13.625024857119248,{"$f":"L$66*L116/L$61","v":13.399552740500088},12.862415047624255,12.391738992424663,11.724502461454421,11.651797593075736,11.186782728202649,10.288088183011048,9.4581378151028943,9.3384858218783631,8.1329881969061777,7.2564996306092349,6.5191573220545651,5.4617112925507847,5.2801782641852784,5.6281241772339907,4.901304339500455,5.0060382522725773,4.8884865805945728,4.7200178589601363,5.4519621684108781,{"$f":"AF$66*AF116/AF$61","v":5.144096711327518},5.3383109633546511]
["South Dakota",{"$f":"B$66*B117/B$61","v":2.4497813465310463},2.433708861352669,2.355556837893416,2.3447693793569973,2.2376162513923186,2.0761002769163741,1.9249884557818759,1.7478613120942479,1.4420957230269134,1.4725378580770481,{"$f":"L$66*L117/L$61","v":1.4411397722586434},1.482834850773054,1.4230708127254414,1.38160549364917,1.3435123961050288,1.3507469989904086,1.2792337206432189,1.2237917800790388,1.2706834431264025,1.1717889795938472,0.99911005570384104,0.94598739376741248,0.82396608416667694,0.82020607860486705,0.85192516915114125,0.72933433470633779,0.76304047010856446,0.77077765207719029,0.74331370750298975,0.87476320187899514,{"$f":"AF$66*AF117/AF$61","v":0.85106929804171982},0.87250453544312512]
["Tennessee",{"$f":"B$66*B118/B$61","v":29.837544789380956},28.537739044266115,28.505348351559622,27.110209527512961,25.74246520309265,22.971905838321447,21.812184128928767,19.545583476801802,16.910991599482927,17.319553721970458,{"$f":"L$66*L118/L$61","v":16.655962730582115},16.523240454790422,15.642348259670349,14.828813657373935,14.531973716026728,14.305340169585374,13.220751306613254,12.316853650050799,12.061761995435102,10.101100574414481,9.1077889695368768,8.1588803868476063,6.7678236600555319,6.5123159477849928,6.9106578705142567,6.0043995451958718,6.3384786271162286,6.0867555988408002,5.9497286973965844,6.7858645878743458,{"$f":"AF$66*AF118/AF$61","v":6.3686105392271397},6.6649250726782858]
["Texas",{"$f":"B$66*B119/B$61","v":91.825856469141399},87.499480020440743,86.850445601084218,84.926163247313596,80.527296740642697,73.728962182631875,69.286583294439438,64.472804982711594,56.162026575600855,56.104155695418669,{"$f":"L$66*L119/L$61","v":55.375490304116745},54.666400829828454,51.090581864362228,49.09968933351567,46.75030442399833,46.0195252219265,43.596608816914966,39.683358268131002,40.273268609317832,36.755190820215198,31.53697109363063,30.459335848118055,25.637296514477541,25.447447121054484,26.869841331697259,23.644488480771194,25.078885509470744,25.155805321126564,24.537427489501169,29.184538388516263,{"$f":"AF$66*AF119/AF$61","v":28.614891013988064},29.144690111696249]
["Utah",{"$f":"B$66*B120/B$61","v":5.9569578568113171},5.7910515076598088,6.0094806751751033,5.7279081642225238,5.5665709299147723,5.1696354287792161,4.941281423413824,4.5819712996444872,3.8154055869490819,4.0666830740054269,{"$f":"L$66*L120/L$61","v":4.0340786763237242},3.990661578091296,3.7050009435138631,3.6305756548621719,3.5741627678585859,3.4419823802940828,3.3538797757188985,3.2068882741725231,3.2642797098925462,2.9360076834200672,2.4673014946588472,2.3374258633356018,2.0871492106588438,2.0471252578696331,2.0716286256276302,1.8195633540986063,1.8985241646640392,1.9147276329544081,1.8062551224717007,2.1169100894335924,{"$f":"AF$66*AF120/AF$61","v":2.1225480306174793},2.1862221418726517]
["Vermont",{"$f":"B$66*B121/B$61","v":1.8241115504141645},1.7126460610776428,1.7922940756294778,1.7032332898107077,1.5802629431203317,1.4293609688337126,1.3037422967824992,1.1945753796047591,0.98853537559985072,1.0273713764885151,{"$f":"L$66*L121/L$61","v":0.98108004064046417},0.96004346191658896,0.89638785427305101,0.81442218667279742,0.82586029139548833,0.80995845636099917,0.73716300982702365,0.67680077563903585,0.66477088537588225,0.58498495289462971,0.49223146951344932,0.44953629380197885,0.38696108505359067,0.37536042549868015,0.38407203644769983,0.33273354377463171,0.34702701599570551,0.33949551714011283,0.31976738659595666,0.36894445539908127,{"$f":"AF$66*AF121/AF$61","v":0.35739568477709927},0.36212408699155346]
["Virginia",{"$f":"B$66*B122/B$61","v":28.116983308464977},27.344029664894347,27.730656472372274,27.633042275732116,25.64167217280567,23.849039863993024,21.796415529016901,19.658756713515988,16.700619346739003,17.292061319191429,{"$f":"L$66*L122/L$61","v":16.827814516957329},16.578665345586831,16.022215352582176,15.445655998349059,15.372376966076382,14.986031081737032,13.575592327154039,12.876923954596863,12.749152814110991,11.543483806713553,10.012624339403159,8.9279212581641225,7.5692706780648793,7.4237481110974448,7.7297895716177001,6.7503044184895096,7.0633150176224655,6.9812322452686377,6.8316940031886668,8.0506230256853115,{"$f":"AF$66*AF122/AF$61","v":7.8601786401355307},8.3792443269635246]
["Washington",{"$f":"B$66*B123/B$61","v":35.214229604644245},33.752126121577177,32.399401765881549,30.723593042148934,27.177256425198177,24.742632775521752,22.002561898630471,20.448470096065947,17.486555821339433,18.406890324218793,{"$f":"L$66*L123/L$61","v":16.792271028472026},13.492002012709056,12.007095899366245,11.888743734259943,11.662481132566725,11.485693943877035,10.816758494949653,9.8960021927673854,10.112227090190355,9.6009040223491606,7.9515984565904763,7.5912351419481023,6.483785079409472,6.2394945241909472,6.3536048497912931,5.4309097403944522,5.5915681239411832,5.7555194632755589,5.2036136601848133,6.1892969485184874,{"$f":"AF$66*AF123/AF$61","v":5.8123690947695312},5.9007308231186721]
["West Virginia",{"$f":"B$66*B124/B$61","v":8.9470090454190672},8.6006034272235787,8.6444231907478031,8.3000972242252331,7.7276428168160818,7.2745584288690841,6.5011236885649337,5.9023768498401852,4.886455089473726,5.0452907557458628,{"$f":"L$66*L124/L$61","v":4.8183911158480246},4.7559062045440328,4.5323867183842843,4.3056524272110552,4.2167540171237583,4.1512329165367596,4.1102993714216138,3.9453658044551663,3.9624428847763054,3.2217283883660137,2.8181469334036091,2.5301779628595105,2.1639600272699031,2.1093179205719137,2.2545733215478547,1.9467647379582738,2.0178356064176395,1.984834195680089,1.9452638969472973,2.2599595525683198,{"$f":"AF$66*AF124/AF$61","v":2.1502621509152768},2.1929365657927389]
["Wisconsin",{"$f":"B$66*B125/B$61","v":19.028488684686039},18.578150468650254,18.472403560207251,18.051382010328759,17.283103986871211,16.233145431210193,14.617171376548857,13.513712772788843,11.438888901376801,11.811643731671492,{"$f":"L$66*L125/L$61","v":11.335040510583537},11.209918740958276,10.668777632035493,10.231422888304692,9.911846529583979,9.6835743668766145,8.881624834184116,8.2293188554158352,8.1193681706771699,7.0547580613322936,6.0488138345704785,5.5571877014568019,4.832487237683516,4.6434802281629874,4.7920391685329253,4.1401897875757294,4.3869505356901506,4.3240245858855548,4.1024702343536275,4.7009709761031964,{"$f":"AF$66*AF125/AF$61","v":4.5214185625560583},4.6448294102955519]
["Wyoming",{"$f":"B$66*B126/B$61","v":4.5518739032261974},4.2800517504758915,4.2440008283663833,4.0360905315072531,3.6481478910613276,3.1360558306080555,2.8553403295200477,2.650437377281142,2.1455449808688773,2.189999962078979,{"$f":"L$66*L126/L$61","v":2.1518919226158091},2.2258003407975258,2.0500287549511391,2.016695241902815,1.9742578182054296,1.9464335163006725,1.9013001468390767,1.7930530159042426,1.9325548447457943,1.7626600602579905,1.5056361074220974,1.4107489365766868,{"$f":"X$66*X126/X$61","v":1.1917138093136626},{"$f":"Y$66*Y126/Y$61","v":1.1455877237924392},1.1814871282959525,1.0199827675567035,1.0414282983253407,1.0502274169696526,0.97501802762244816,1.1394955366258259,{"$f":"AF$66*AF126/AF$61","v":1.0277188109594102},1.0560401732195226]
["total",{"$f":"SUM(B4:B55)","v":1049.1439971851073},1005.5004492846838,1002.3743062262887,971.72396671071226,915.3019415826509,843.84564380309666,771.65314262915058,707.37302233726041,601.65063334132037,615.62177302609848,{"$f":"SUM(L4:L55)","v":595.30254192522216},583.44979245972138,551.83096644382726,531.60441357415141,517.2740780437307,504.02952439417123,466.83604480931825,434.49096229128014,{"$f":"SUM(T4:T55)","v":432.35373028633859},382.80106533626383,330.34964302965443,303.71821079890475,259.43511463811126,250.22191018737206,{"$f":"SUM(Z4:Z55)","v":259.59644202286},226.53833839298818,236.68769448780256,233.06442434832002,223.11574531158212,259.06224703951676,{"$f":"SUM(AF4:AF55)","v":249.21528349568575},254.62334095103171]
[]
[]
[]
["Total US Electricity Sales, Million kWh ",null,null,null," "]
[null,{"$f":"B128","v":2712554.6650000005},{"$f":"C128","v":2762003.04},2763365.449,2861462.34,2934562.8639999996,3013286.5890000006,3101127.0230000005,3145610.4280000003,3264230.7519999999,3312087.0809999998,3421414.2659999998,3394458.1040000003,3465466.0110000009,3493734.486000001,3547479.4829999991,3660968.5130000012,3669918.8399999994,3764560.7120000003,3733964.6190000004,3596795.1339999991,3754841.3679999998,3749846.1800000006,{"$f":"X128","v":3694649.7859999994},3724867.821,{"$f":"Z128","v":3764700.2669999995},3758992.3899999992,{"$f":"AB128","v":3762461.6300000013},3723355.9740000009,3859185.2610000009,3811150.4629999991,3717674.4810000006,{"$f":"AG128","v":3805874.253}]
["Total US SF6 Emissions from Electric Power Transmission and Distribution Systems"]
["Gg or 10^3 Metric Tonnes CO2",{"$f":"B65*1000","v":24654.883933850026},23629.260558190064,23555.796196317788,22835.513217701733,21509.595627192306,19830.372629372774,18133.848851785046,16623.266024925622,14138.789883521027,14467.111666113309,{"$f":"L65*1000","v":13989.609735242719},13711.070122803452,12968.02771142995,12492.703718992561,12155.940834027666,11844.693823263029,10970.647053018978,{"$f":"S65*1000","v":10210.537613845085},10160.31266172896,8995.8250354021984,7763.2166111968791,7137.3779537742621,6096.7251939956132,5880.2148894032453,6100.51638753721,5323.6509522352208,{"$f":"AB65*1000","v":5562.1608204633612},5477.0139721855239,5243.2200148221827,6087.9628054286422,5856.5591621486183,{"$f":"AG65*1000","v":5983.6485123492457}]
["Metric Tonnes CO2 Eq.",{"$f":"B65*1000000","v":24654883.933850028},23629260.558190066,23555796.196317784,22835513.217701733,21509595.627192304,19830372.629372776,18133848.851785045,16623266.024925623,14138789.883521028,14467111.66611331,13989609.735242719,13711070.122803451,12968027.71142995,12492703.718992563,12155940.834027667,11844693.823263029,10970647.053018978,10210537.613845086,10160312.661728961,8995825.0354021993,7763216.6111968784,7137377.9537742622,6096725.1939956136,5880214.8894032445,6100516.3875372102,5323650.9522352209,{"$f":"AB65*1000000","v":5562160.8204633612},5477013.9721855232,5243220.0148221822,6087962.8054286418,5856559.1621486181,5983648.5123492451]
["Tg CO2 Eq.",24.654883933850027,23.629260558190065,23.555796196317786,22.835513217701735,21.509595627192304,19.830372629372775,18.133848851785046,16.623266024925623,14.138789883521028,14.467111666113309,13.989609735242718,13.711070122803452,12.968027711429949,12.492703718992562,12.155940834027666,11.844693823263029,10.970647053018977,10.210537613845085,10.160312661728961,8.9958250354021985,7.7632166111968788,7.1373779537742621,6.0967251939956135,5.8802148894032449,6.1005163875372102,5.3236509522352211,5.5621608204633608,5.4770139721855235,5.2432200148221826,6.0879628054286421,5.8565591621486179,5.9836485123492453]
["Metric Tons of SF6",{"$f":"B64/$A$69","v":1049.1439971851075},1005.5004492846837,1002.3743062262887,971.72396671071203,915.30194158265124,843.84564380309678,771.65314262915081,707.37302233726052,601.65063334132037,615.62177302609825,{"$f":"L64/$A$69","v":595.30254192522204},583.44979245972138,551.83096644382761,531.60441357415164,517.27407804373047,504.0295243941714,466.8360448093182,434.49096229128025,432.35373028633876,382.80106533626378,{"$f":"V64/$A$69","v":330.34964302965437},303.71821079890475,259.4351146381112,250.22191018737212,{"$f":"Z64/$A$69","v":259.59644202286},226.53833839298812,{"$f":"AB64/$A$69","v":236.68769448780262},233.06442434832013,223.11574531158223,259.06224703951665,249.21528349568587,{"$f":"AG64/$A$69","v":254.62334095103171}]
["(Source : US Inventory, Electrical Equipment (1990-Present)_FR, Summary Tab - Row 7 (MMT CO2e) "]
["GWP of SF6"]
[23500]
[]
[]
[]
[]
["Electricity Sales by State (million kWh); Retail Sales of Electricity by State by Sector by Provider (Electric Power Annual, EIA-861), http://www.eia.gov/electricity/data/state/. See \"Retail Sales by State\"; Total Electric Industry"]
[null,1990,1991,1992,1993,1994,1995,1996,1997,1998,1999,2000,2001,2002,2003,2004,2005,2006,2007,2008,2009,2010,2011,2012,2013,2014,2015,2016,2017,2018,2019,2020,2021,2022,2023,2024,2025]
["Alabama",59925.612999999998,61227.324999999997,62166.661,65057.675000000003,67580.676000000007,70006.763999999996,73104.418999999994,74553.869000000006,79173.032999999996,80401.078999999998,83524.22,79358.258000000002,83067.077999999994,83844.22,86870.519,89201.62,90677.695000000007,91828.464000000007,89707.278999999995,82844.601999999999,90862.645000000004,88995.369000000006,86182.547999999995,87852.107000000004,90493.726999999999,88845.543000000005,88225.141000000003,86241.73,90280.456000000006,88095.111999999994,83395.604999999996,85585.165999999997]
["Alaska",4253.84,4255.7129999999997,4338.9340000000002,4374.6270000000004,4533.3789999999999,4631.83,4779.5619999999999,4840.5290000000005,5094.5839999999998,5292.6149999999998,5309.97,5454.08,5465.4889999999996,5563.6819999999998,5788.4840000000004,5912.5709999999999,6182.2910000000002,6326.61,6325.9440000000004,6270.1710000000003,6247.0379999999996,6319.54,6416.4110000000001,6268.2120000000004,6164.8119999999999,6159.2039999999997,6123.2020000000002,6185.799,5972.4669999999996,5818.8050000000003,5917.5770000000002,5969.3389999999999]
["Arizona",41469.584999999999,41848.417000000001,43651.271999999997,44407.853999999999,47282.035000000003,48588.968999999997,52084.538999999997,54455.834999999999,55843.277000000002,57661.946000000004,61130.044999999998,62274.303999999996,62600.737000000001,64079.56,66933.251000000004,69390.686000000002,73252.775999999998,77193.206000000006,76267.915999999997,73432.929000000004,72833.03,74943.645000000004,75063.342999999993,75662.036999999997,76297.684999999998,77349.415999999997,78237.827999999994,77646.262000000002,78346.301999999996,77929.17,81960.073999999993,81219.990000000005]
["Arkansas",27365.295999999998,28440.257000000001,28451.112000000001,31662.933000000001,32619.098000000002,34671.434000000001,36136.576000000001,36857.53,39315.195,39788.745999999999,41611.188000000002,41732.449000000001,42449.557999999997,43108.258999999998,43672.36,46164.923000000003,46635.624000000003,47054.891000000003,46134.680999999997,43173.103999999999,48194.285000000003,47927.828999999998,46859.567000000003,46683.034,47080.300999999999,46465.154000000002,46188.438000000002,46085.951000000001,49602.707999999999,48093.031999999999,45851.002999999997,48663.142]
["California",211092.92199999999,208650.489,213447.24100000001,210499.92600000001,213684.302,212604.72399999999,218112.48499999999,227880.12599999999,236433.97,234830.87899999999,244057.20199999999,247758.77799999999,235213.33199999999,243221.31599999999,252025.973,254249.50700000001,262958.52799999999,264234.91100000002,268155.21899999998,259583.67600000001,258530.89199999999,261941.7,259538.038,261332.459,262584.78600000002,261170.43700000001,256846.63500000001,257267.93700000001,255224.272,250378.71,250174.67199999999,247249.86499999999]
["Colorado",30794.588,31456.687999999998,31821.97,32957.803,34502.279000000002,35316.819000000003,37072.974999999999,38069.233999999997,39574.436999999998,40570.923000000003,43020.284,44236.038,45936.696000000004,46494.644999999997,46723.841,48353.235999999997,49733.697999999997,51299.156000000003,52142.472999999998,51035.906000000003,52917.786,53458.285000000003,53685.296999999999,53441.648999999998,53396.521000000001,54116.046000000002,54802.036999999997,54830.186000000002,56450.48,56520.822999999997,56050.264000000003,56351.209000000003]
["Connecticut",27187.238000000001,27171.404999999999,27126.971000000001,27238.487000000001,28025.670999999998,27969.969000000001,28416.945,28432.096000000001,28956.144,29803.004000000001,29952.406999999999,30540.758000000002,31005.489000000001,31830.218000000001,32214.61,33095.029000000002,31677.453000000001,34129.107000000004,30956.544000000002,29715.763999999999,30391.766,29858.992999999999,29492.338,29824.516,29354.46,29476.154999999999,28931.087,28135.53,28833.924999999999,27899.995999999999,27113.672999999999,27737.606]
["Delaware",8283.8670000000002,8535.8639999999996,8532.3799999999992,9121.134,9298.9709999999995,9579.5329999999994,9640.7000000000007,10122.428,10397.825000000001,10552.373,11274.29,11378.626,12018.734,12599.59,11761.153,12136.788,11554.672,11868.81,11748.782999999999,11257.778,11605.932000000001,11483.296,11519.331,11347.856,11338.477000000001,11498.205,11258.438,11128.602999999999,11773.1,11469.422,11129.050999999999,11479.655000000001]
["District of Columbia",9848.4449999999997,10195.163,10043.021000000001,10374.621999999999,10294.674999999999,10315.57,10136.666999999999,10106.781000000001,10281.066999999999,10417.813,10615.521000000001,10880.472,11128.743,10946.383,11414.847,11816.207,11396.424000000001,12110.184999999999,11616.234,11434.375,11876.995000000001,11562.055,11258.844999999999,11085.519,11193.589,11291.233,11394.003000000001,10916.446,11357.91,11028.403,9785.7749999999996,10083.371999999999]
["Florida",143534.878,146336.24100000001,147009.94,152747.81899999999,159544.29999999999,167492.13800000001,171832.022,175041.01500000001,187354.592,187270.25700000001,195842.976,200752.133,210473.53,217378.622,218584.49400000001,224977.011,228219.54399999999,231084.6,226172.79500000001,224750.32199999999,231209.614,225090.42199999999,220674.33300000001,221919.514,226078.111,235599.39799999999,235721.82199999999,233154.549,238565.391,240347.95499999999,242440.171,241562.08199999999]
["Georgia",80440.115999999995,81539.085999999996,83391.430999999997,89191.040999999997,89913.084000000003,96192.17,101307.136,102249.914,110720.323,112655.746,119185.076,117790.473,123789.07799999999,123676.65700000001,129465.784,132265.45199999999,134834.16800000001,137453.878,135173.514,130765.505,140671.57999999999,136371.149,130978.872,130497.47,135789.932,135878.215,138112.239,133456.62,139866.07399999999,139300.99,133470.14199999999,137363.95199999999]
["Hawaii",8310.5370000000003,8524.0869999999995,8666.8889999999992,8657.9110000000001,8948.4220000000005,9187.6080000000002,9378.9609999999993,9363.0990000000002,9261.0709999999999,9381.1389999999992,9690.5959999999995,9784.5630000000001,9891.6380000000008,10390.835999999999,10731.52,10538.91,10567.912,10585.299000000001,10390.279,10126.184999999999,10016.509,9961.6530000000002,9639.1569999999992,9503.1640000000007,9475.4519999999993,9511.3520000000008,9445.3889999999992,9324.2009999999991,9337.1610000000001,9452.8870000000006,8796.7610000000004,8936.482]
["Idaho",18003.421999999999,18045.603999999999,19008.206999999999,18719.84,19878.615000000002,19619.846000000001,21781.272000000001,22393.830999999998,22076.953000000001,22722.394,22834.098999999998,21096.017,20699.666000000001,21218.685000000001,21808.673999999999,21852.681,22761.749,23755.186000000002,23901.49,22753.778999999999,22797.668000000001,23271.723999999998,23711.859,24208.056,23233.284,23058.813999999998,23062.960999999999,23793.79,23753.508000000002,23985.275000000001,24461.351999999999,25285.616000000002]
["Illinois",111576.776,116868.558,112520.519,117786.375,121490.048,126231.065,125990.38099999999,126953.318,131697.09299999999,132681.53899999999,134696.962,136033.549,138447.31299999999,136247.891,139253.95600000001,144986.215,142447.81099999999,146055.15100000001,144619.91399999999,136688.46599999999,144760.674,142885.56700000001,143540.00399999999,141804.88800000001,141540.28700000001,138619.97,141050.40900000001,137196.31,142654.80799999999,138319.481,132469.277,135688.83300000001]
["Indiana",73982.218999999997,77033.736000000004,76976.815000000002,81931.490000000005,83807.543000000005,87005.956999999995,88901.372000000003,89146.614000000001,92058.824999999997,96735.464000000007,97774.925000000003,97733.967999999993,101428.55,100467.77899999999,103094.26300000001,106548.91,105664.484,109420.15,106980.704,99311.812999999995,105994.376,105818.139,105173.425,105487.389,106942.504,104514.518,103704.821,98965.967999999993,104194.376,102104.20299999999,97155.744000000006,99740.046000000002]
["Iowa",29437.379000000001,30781.462,30208.072,32103.91,33039.250999999997,34300.919000000002,34999.415999999997,36147.983,37318.292000000001,38033.811999999998,39087.866999999998,39443.754999999997,40897.542999999998,41207.284,40902.773000000001,42756.807999999997,43336.834999999999,45269.523000000001,45488.07,43641.195,45445.269,45654.877,45709.1,46705.216,47201.853000000003,47147.292999999998,48431.192999999999,48921.997000000003,51210.654999999999,51043.148000000001,50639.862000000001,52893.269]
["Kansas",27148.767,28152.223999999998,27069.105,28808.384999999998,29613.821,30356.882000000001,31290.626,32270.008999999998,34140.175999999999,33820.108,35921.461000000003,35846.951000000001,36713.54,36735.39,37126.54,39024.283000000003,39751.302000000003,40165.976999999999,39965.061000000002,38243.343999999997,40420.675000000003,40760.398999999998,40293.476000000002,39847.396999999997,40561.606,39849.127,40810.173999999999,40287.786999999997,42036.978999999999,41159.627999999997,39483.946000000004,40491.786]
["Kentucky",61096.874000000003,64193.802000000003,67067.820000000007,68149.183999999994,72485.366999999998,74548.198000000004,77018.733999999997,76835.513999999996,75850.311000000002,79098.014999999999,78316.156000000003,79975.498999999996,87266.835000000006,85219.630999999994,86521.156000000003,89351.466,88743.434999999998,92404.1,93428.414000000004,88896.756999999998,93569.426000000007,89538.341,89048.49,84763.842000000004,78838.923999999999,76038.63,74553.574999999997,72634.387000000002,76610.635999999999,75345.381999999998,71800.399000000005,74516.986000000004]
["Louisiana",63825.89,64704.298999999999,65098.33,67755.824999999997,70131.805999999997,72827.19,75269.095000000001,75885.665999999997,77716.091,78266.678,80690.346000000005,74692.751000000004,79260.989000000001,77769.322,79737.111999999994,77389.17,77467.748000000007,79566.937000000005,78725.774000000005,78669.581999999995,85079.691999999995,86369.081000000006,84730.743000000002,85807.932000000001,90628.316000000006,91676.489000000001,91452.659,91205.934999999998,94186.072,93128.524999999994,89126.684999999998,90819.346000000005]
["Maine",11528.975,11382.784,11483.027,11952.356,11605.815000000001,11561.302,11726.431,11958.939,11598.695,11943.634,12162.977000000001,12151.996999999999,11441.358,11971.837,12367.668,12362.879000000001,12284.768,11860.201999999999,11673.673000000001,11282.967000000001,11531.567999999999,11415.344999999999,11561.058999999999,11855.047,12002.661,11888.168,11448.950999999999,11213.674000000001,12354.819,11732.04,11346.74,11584.674000000001]
["Maryland",49533.73,51107.809000000001,50988.788,53872.404000000002,54751.623,56158.044999999998,56997.52,56264.487999999998,57833.637999999999,59086.224999999999,60677.803999999996,61640.02,68379.906000000003,71258.582999999999,66891.7,68365.384999999995,63173.142999999996,65390.66,63325.777000000002,62589.142999999996,65335.498,63599.711000000003,61813.552000000003,61899.478000000003,61683.868999999999,61781.718999999997,61353.911,59303.885000000002,62086.455000000002,60720.658000000003,57629.04,59303.974000000002]
["Massachusetts",45441.671999999999,44796.786999999997,44998.082000000002,45280.748,46091.353999999999,46510.284,47293.773000000001,47881.855000000003,48607.144,49407.444000000003,51773.112999999998,52496.074999999997,53707.536999999997,55514.357000000004,56142.019,57227.588000000003,55850.09,57138.822,55884.105000000003,54359.197999999997,57123.421999999999,55569.911999999997,55313.324000000001,55265.074000000001,54469.292000000001,54621.088000000003,53475.887999999999,52513.321000000004,53285.029000000002,51336.597999999998,50009.341,50798.387999999999]
["Michigan",82366.869000000006,84518.543000000005,83840.225000000006,87588.601999999999,91159.986999999994,94701.134000000005,96301.566000000006,97390.66,100506.19500000001,103981.00599999999,104772.216,102409.34699999999,104713.52,108877.193,106606.04,110444.56299999999,108017.697,109296.749,105781.27099999999,98121.013999999996,103649.219,105053.558,104818.19100000001,103038.30499999999,103314.098,102479.921,104467.81299999999,101899.09299999999,104869.496,101249.29300000001,97011.906000000003,99813.281000000003]
["Minnesota",47166.915000000001,48754.597000000002,47412.154000000002,49210.67,51155.105000000003,53958.771000000001,54941.699000000001,55674.292999999998,56744.046999999999,57399.084999999999,59782.089,60686.851999999999,62162.360999999997,63087.339,63340.315000000002,66019.053,66769.930999999997,68231.182000000001,68794.138000000006,64004.463000000003,67799.706000000006,68532.707999999999,67988.535000000003,68644.103000000003,68719.366999999998,66579.233999999997,66546.491999999998,67152.58,68708.381999999998,66965.593999999997,64054.606,66589.168000000005]
["Mississippi",32127.077000000001,33019.383000000002,33241.19,34749.300999999999,36626.569000000003,37868.480000000003,39622.374000000003,40088.724999999999,42510.237999999998,43979.792000000001,45336.178,44286.864999999998,45451.85,45543.881000000001,46032.538,45901.063999999998,46936.436999999998,48153.180999999997,47721.235000000001,46049.154000000002,49687.165999999997,49337.557000000001,48387.675000000003,48781.99,49408.631000000001,48691.529000000002,49050.163999999997,47828.786999999997,50390.067999999999,48951.025999999998,46482.04,48015.364000000001]
["Missouri",53924.637000000002,56514.156000000003,54410.855000000003,58622.069000000003,59692.758000000002,62258.966999999997,64843.243000000002,65711.331000000006,69009.936000000002,69044.97,72642.698999999993,73213.157000000007,75000.629000000001,74239.888000000006,74054.296000000002,80940.494000000006,82015.23,85532.85,84381.676000000007,79897.3,86085.116999999998,84254.841,82435.358999999997,83406.956999999995,83878.396999999997,81504.081000000006,78618.055999999997,76461.418999999994,82055.835000000006,78857.774999999994,75725.712,77763.040999999997]
["Montana",13124.583000000001,13406.6,13096.382,12929.227000000001,13184.134,13418.522999999999,13819.556,11917.489,14144.832,13281.599,14579.982,11446.657999999999,12831.388000000001,12824.66,12956.781999999999,13478.838,13814.98,15531.985000000001,15326.4,14353.775,13771.453,13788.081,13863.383,14045.174000000001,14102.392,14206.911,14100.601000000001,14709.656000000001,14838.844999999999,15321.271000000001,14584.179,14961.561]
["Nebraska",17868.252,18605.191999999999,17784.329000000002,18749.041000000001,19873.148000000001,20892.478999999999,21497.464,22582.344000000001,23144.897000000001,22810.011999999999,24349.188999999998,24722.639999999999,25661.061000000002,25856.565999999999,25875.93,26975.944,27276.292000000001,28248.400000000001,28821.021000000001,28452.194,29849.46,29676.083999999999,30827.938999999998,30700.605,30222.168000000001,29495.073,30199.353999999999,30359.007000000001,30939.491999999998,30383.19,31171.536,32341.17]
["Nevada",16351.894,16625.419000000002,17696.252,18498.850999999999,20036.271000000001,20659.397000000001,22574.028999999999,24219.096000000001,25037.075000000001,26253.307000000001,27791.690999999999,28167.293000000001,29204.272000000001,30131.66,31312.306,32500.63,34586.26,35643.402000000002,35192.495999999999,34283.654000000002,33772.595000000001,33916.478999999999,35179.917999999998,35211.214999999997,35075.606,36019.69,36144.629999999997,36657.786,37780.262999999999,36982.385999999999,38233.898999999998,39032.042000000001]
["New Hampshire",8979.6139999999996,8761.7739999999994,8954.3130000000001,8760.9689999999991,8956.2209999999995,9007.36,9145.7900000000009,9167.1689999999999,9303.1820000000007,9888.0779999999995,10158.903,10315.550999999999,10383.387000000001,10972.541999999999,10973.308999999999,11244.628000000001,11094.343000000001,11235.856,10977.289000000001,10698.493,10890.074000000001,10868.607,10870.261,11043.276,10944.081,10999.148999999999,10904.956,10787.261,11046.284,10711.656999999999,10693.529,10867.268]
["New Jersey",62856.686999999998,64682.550999999999,63122.357000000004,65620.645999999993,66257.592999999993,66753.785000000003,66889.429999999993,65915.034,68161.512000000002,70703.153000000006,69977.129000000001,73177.39,74602.62,76382.512000000002,77593.167000000001,81896.812999999995,79680.947,81934.334000000003,80519.543000000005,75779.853000000003,79179.426999999996,76859.762000000002,75052.914000000004,74642.399000000005,73866.077999999994,75489.623000000007,75359.370999999999,73382.94,76016.762000000002,73916.703999999998,71998.221000000005,73070.466]
["New Mexico",13820.76,14083.944,14431.48,14926.879000000001,15858.794,16415.545999999998,17173.393,17527.949000000001,18173.12,18041.302,18800.675999999999,18726.594000000001,19206.917000000001,19330.491000000002,19845.735000000001,20638.951000000001,21434.956999999999,22267.394,22038.108,21647.135999999999,22428.344000000001,23041.665000000001,23178.567999999999,23065.026000000002,23115.222000000002,23093.553,23039.546999999999,23009.583999999999,24048.611000000001,24880.133999999998,24777.154999999999,25393.742999999999]
["New York",129324.439,129410.967,128469.68799999999,130170.179,131176.571,130470.717,131527.18599999999,131943.92499999999,134195.52499999999,139377.641,142026.56,144180.76,147440.11600000001,144044.70300000001,145081.709,150147.571,142238.019,148177.52299999999,144052.93599999999,140034.397,144623.573,144046.609,143162.66800000001,147895.12700000001,147371.913,148913.655,147803.038,144992.43299999999,149929.851,145600.345,140406.63200000001,141423.77799999999]
["North Carolina",89924.486999999994,92316.482999999993,94195.331000000006,99777.554000000004,99789.182000000001,104672.75599999999,108296.394,109050.02499999999,113596.306,115015.125,119855.45600000001,119026.943,122686.46799999999,121335.121,125656.807,128335.37699999999,126698.97900000001,131880.75399999999,130069.257,127657.97900000001,136414.94699999999,131084.93299999999,128084.893,129779.905,133132.77600000001,133847.52299999999,134404.31899999999,131421.31899999999,138287.40400000001,136435.53099999999,130390.98,135693.07699999999]
["North Dakota",7013.85,7255.201,7128.38,7431.9579999999996,7680.7640000000001,7882.6360000000004,8314.1589999999997,8282.4349999999995,8220.384,9112.1929999999993,9413.4089999999997,9809.7569999999996,10219.352999999999,10461.108,10516.4,10839.99,11245.237999999999,11905.695,12416.074000000001,12648.58,12956.263000000001,13737.016,14716.956,16032.967000000001,18239.732,18128.948,18520.187999999998,20140.425999999999,20669.506000000001,21559.255000000001,21819.452000000001,22863.107]
["Ohio",142465.47200000001,145658.32,145016.46400000001,148570.66500000001,154376.709,158625.546,158587.337,158508.09400000001,159793.17600000001,164270.82999999999,165194.85699999999,155797.71400000001,153407.098,152189.23800000001,154221.114,160176.30300000001,153428.84400000001,161770.82699999999,159388.807,146299.79300000001,154145.41800000001,154746.31,152456.864,150307.01800000001,150679.71299999999,149213.22399999999,150597.796,146643.83100000001,152915.16699999999,148521.92000000001,142615.19899999999,147717.86499999999]
["Oklahoma",42504.22,39404.396999999997,38267.207000000002,40531.326999999997,41143.442999999999,41392.451999999997,43291.303,44452.853000000003,47896.574999999997,46736.63,49564.141000000003,49666.724999999999,49485.466,50428.167999999998,50942.042000000001,53707.101999999999,54905.313999999998,55193.2,56278.866000000002,54544.58,57845.98,59846.794000000002,59340.624000000003,59929.171999999999,61573.374000000003,61336.385000000002,61516.553999999996,60492.127999999997,64575.315999999999,64795.946000000004,62299.305,64525.137000000002]
["Oregon",42977.442999999999,43650.750999999997,42910.175999999999,44577.902000000002,44970.741999999998,45725.307000000001,48409.51,48552.290999999997,46906.661,47543.707000000002,50330.413999999997,45884.83,45255.173000000003,45194.73,45636.447999999997,46419.245000000003,48069.264999999999,48696.964999999997,49187.476999999999,47566.896999999997,46025.945,47171.446000000004,46688.856,47640.978000000003,47334.953000000001,47263.974000000002,47349.35,50043.815999999999,49325.904000000002,50404.385999999999,51019.313000000002,54135.205000000002]
["Pennsylvania",114750.659,116336.99800000001,116287.618,119981.49400000001,123045.049,126250.59699999999,127623.026,128076.414,130206.41099999999,128883.31299999999,133845.326,135271.93299999999,139819.87,140369.128,143501.49299999999,148272.94,146150.35800000001,151572.95000000001,150400.58900000001,143747.43799999999,148963.96799999999,148757.23800000001,144709.72700000001,146253.76300000001,146687.698,146344.02799999999,145327.68299999999,142990.89600000001,148976.731,145580.383,139720.837,143340.15400000001]
["Rhode Island",6418.9780000000001,6403.0460000000003,6392.56,6548.4380000000001,6571.8459999999995,6635.6769999999997,6604.1980000000003,6744.5079999999998,6887.63,7150.0730000000003,7301.3360000000002,7392.9170000000004,7560.6989999999996,7796.6260000000002,7887.5749999999998,8049.1120000000001,7799.1260000000002,8013.0219999999999,7818.5940000000001,7617.6289999999999,7799.2269999999999,7732.42,7708.3339999999998,7781.1220000000003,7643.1040000000003,7664.7179999999998,7524.27,7384.6710000000003,7583.3389999999999,7349.915,7351.5410000000002,7398.0039999999999]
["South Carolina",55651.790999999997,57069.330999999998,58400.921000000002,61532.724999999999,61857.957999999999,65074.394999999997,67086.214999999997,68534.441000000006,72453.885999999999,73303.562000000005,77011.968999999997,74832.366999999998,77819.392000000007,77054.097999999998,79908.34,81254.088000000003,80877.320999999996,81948.157999999996,80650.572,76417.479000000007,82479.293000000005,80488.546000000002,77780.952999999994,78602.093999999997,81619.764999999999,81328.245999999999,79577.55,78096.756999999998,81641.138000000006,80205.62,76737.176000000007,79792.135999999999]
["South Dakota",6333.893,6685.14,6493.8459999999995,6904.7070000000003,7174.0540000000001,7413.5420000000004,7736.1620000000003,7772.5479999999998,7824.0309999999999,7922.3540000000003,8282.74,8626.9989999999998,8936.8009999999995,9079.99,9213.8439999999991,9811.0169999999998,10056.387000000001,10603.300999999999,10974.085999999999,11010.118,11356.148999999999,11679.6,11734.21,12209.799000000001,12354.726000000001,12101.978999999999,12129.53,12313.674999999999,12856.938,12868.931,12695.844999999999,13041.391]
["Tennessee",77144.769,78390.141000000003,78584.111999999994,79832.180999999997,82533.292000000001,82030.328999999998,87659.013999999996,86917.070999999996,91749.888999999996,93180.379000000001,95727.709000000003,96130.717999999993,98233.027000000002,97455.808000000005,99660.664999999994,103905.421,103931.74400000001,106716.93399999999,104169.77899999999,94909.843999999997,103521.537,100733.329,96381.471999999994,96944.013000000006,100219.23,99632.107999999993,100758.439,97239.884999999995,102911.183,99829.1,95003.888000000006,99621.137000000002]
["Texas",237415.12700000001,240351.78700000001,239431.038,250084.413,258179.73699999999,263278.592,278449.58299999998,286703.50900000002,304704.76400000002,301844.18,318262.52899999998,318044.174,320845.84899999999,322685.95500000002,320614.84000000003,334258.26199999999,342724.21299999999,343828.58199999999,347814.647,345351.42,358457.55,376065.11599999998,365104.13099999999,378817.25400000002,389669.82,392337.35399999999,398661.80900000001,401880.37400000001,424418.62800000003,429343.40399999998,426863.26699999999,435627.87800000003]
["Utah",15401.674000000001,15907.404,16567.056,16867.129000000001,17847.063999999998,18460.240000000002,19858.069,20375.525000000001,20700.326000000001,21879.031999999999,23185.276999999998,23217.308000000001,23267.187999999998,23860.35,24511.704000000002,25000.498,26365.716,27785.447,28191.510999999999,27586.7,28044.001,28858.946,29723.367999999999,30474.034,30043.019,30192.35,30179.534,30589.021000000001,31242.407999999999,31142.564999999999,31663.156999999999,32677.627]
["Vermont",4716.2280000000001,4704.4570000000003,4941.0320000000002,5015.558,5066.5039999999999,5104.1019999999999,5239.4920000000002,5312.1459999999997,5363.2579999999998,5527.3280000000004,5638.6139999999996,5585.4459999999999,5629.2629999999999,5352.4290000000001,5663.7719999999999,5883.0529999999999,5795.0290000000005,5864.0060000000003,5741.2039999999997,5496.5129999999999,5594.8329999999996,5550.1840000000002,5510.7640000000001,5587.7120000000004,5569.8609999999999,5521.1090000000004,5516.45,5423.6620000000003,5530.9480000000003,5427.6639999999998,5331.4579999999996,5412.6959999999999]
["Virginia",72696.269,75111.148000000001,76448.426000000007,81371.781000000003,82210.138000000006,85162.485000000001,87595.642999999996,87420.34,90608.523000000001,93032.467999999993,96715.402000000002,96453.175000000003,100618.57,101509.731,105424.173,108849.552,106721.24099999999,111569.552,110106.337,108462.463,113806.13499999999,110228.265,107794.985,110511.827,112098.38099999999,112009.045,112280.66499999999,111529.732,118166.348,118435.38,117254.38800000001,125245.196]
["Washington",91046.150999999998,92713.509000000005,89319.316000000006,90472.611000000004,87133.396999999997,88353.414000000004,88424.106,90932.108999999997,94872.589000000007,99030.323999999993,96511.120999999999,78495.247000000003,75403.856,78133.501000000004,79981.607999999993,83425.2,85033.335000000006,85741.947,87332.884000000005,90210.001999999993,90379.97,93724.917000000001,92336.441000000006,92882.722999999998,92140.777000000002,90116.085999999996,88885.316000000006,91948.172000000006,90005.790999999997,91052.796000000002,86706.144,88198.668000000005]
["West Virginia",23132.431,23624.945,23831.117999999999,24441.525000000001,24775.707999999999,25976.705000000002,26126.777999999998,26247.223999999998,26511.260999999999,27144.008000000002,27692.998,27669.432000000001,28463.121999999999,28296.992999999999,28918.612000000001,30152.069,32312.126,34183.839,34221.103000000003,30271.329000000002,32031.803,31238.753000000001,30817.241000000002,31399.85,32696.106,32303.026000000002,32076.146000000001,31709.019,33646.813000000002,33247.012999999999,32076.582999999999,32777.987999999998]
["Wisconsin",49198.027999999998,51032.207999999999,50925.09,53156.402000000002,55411.610999999997,57966.904000000002,58743.627999999997,60094.002,62061.220999999998,63547.447999999997,65146.487000000001,65218.292999999998,66999.296000000002,67241.494000000006,67975.709000000003,70335.683000000005,69820.748999999996,71301.3,70121.827000000005,66286.438999999998,68752.417000000001,68611.622000000003,68820.09,69124.043000000005,69494.755000000005,68698.932000000001,69736.338000000003,69079.108999999997,70959.548999999999,69157.539999999994,67448.361000000004,69426.615000000005]
["Wyoming",11768.839,11756.848,11699.946,11885.187,11696.38,11198.535,11475.069,11786.205,11640.566000000001,11782.349,12367.683999999999,12949.504999999999,12874.06,13253.835999999999,13539.513000000001,14137.727000000001,14946.611999999999,15535.552,16690.249,16561.937000000002,17113.457999999999,17417.761999999999,16971.353999999999,17053.513999999999,17134.075000000001,16924.761999999999,16554.87,16778.066999999999,16864.678,16763.495999999999,15331.018,15784.712]
[]
["U.S.Total",{"$f":"SUM(B76:B126)","v":2712554.6650000005},{"$f":"SUM(C76:C126)","v":2762003.04},2763365.449,2861462.34,2934562.8639999996,3013286.5890000006,3101127.0230000005,3145610.4280000003,3264230.7519999999,3312087.0809999998,3421414.2659999998,3394458.1040000003,3465466.0110000009,3493734.486000001,3547479.4829999991,3660968.5130000012,3669918.8399999994,3764560.7120000003,3733964.6190000004,{"$f":"SUM(U76:U126)","v":3596795.1339999991},3754841.3679999998,3749846.1800000006,{"$f":"SUM(X76:X126)","v":3694649.7859999994},3724867.821,3764700.2669999995,3758992.3899999992,{"$f":"SUM(AB76:AB126)","v":3762461.6300000013},3723355.9740000009,3859185.2610000009,3811150.4629999991,{"$f":"SUM(AF76:AF126)","v":3717674.4810000006},{"$f":"SUM(AG76:AG126)","v":3805874.253}]

{"sheet":"Iron & Steel Data","index":32,"n_rows":148,"n_cols":38,"rows_kept":148,"cut":false,"hidden":false,"merged":[]}
[]
["Raw Steel Production by Method",null,null,null,null,null,null,null,"Raw Steel Production by State"]
[]
[null,"BOF","EAF","% BOF","% EAF","Capacity utilization",null,null,"(thousand tons)"]
[2025]
[2024]
[2023]
[2022]
[2021,{"$f":"B10","v":34345},{"$f":"C10","v":54386},{"$f":"B9/(B9+C9)","v":0.38706878092211289},{"$f":"1-D9","v":0.61293121907788706},{"$f":"F10","v":0.70399999999999996}]
[2020,34345,54386,{"$f":"B10/(B10+C10)","v":0.38706878092211289},{"$f":"1-D10","v":0.61293121907788706},0.70399999999999996]
[2019,34345,54386,0.38706878092211289,0.61293121907788706,0.70399999999999996]
[2018,34345,54386,0.38706878092211289,0.61293121907788706,0.70399999999999996]
[2017,34345,54386,0.38706878092211289,0.61293121907788706,0.70399999999999996]
[2016,34345,54386,0.38706878092211289,0.61293121907788706,0.70399999999999996]
[2015,34345,54386,0.38706878092211289,0.61293121907788706,0.70399999999999996]
[2014,34345,54386,{"$f":"B16/(B16+C16)","v":0.38706878092211289},{"$f":"1-D16","v":0.61293121907788706},0.70399999999999996]
[2013,34345,54386,{"$f":"B17/(B17+C17)","v":0.38706878092211289},{"$f":"1-D17","v":0.61293121907788706},0.70399999999999996]
[2012,34345,54386,{"$f":"B18/(B18+C18)","v":0.38706878092211289},{"$f":"1-D18","v":0.61293121907788706},{"$f":"F19","v":0.70399999999999996}]
[2011,{"$f":"B20","v":34345},{"$f":"C20","v":54386},{"$f":"B19/(B19+C19)","v":0.38706878092211289},{"$f":"1-D19","v":0.61293121907788706},{"$f":"F20","v":0.70399999999999996}]
[2010,34345,54386,{"$f":"B20/(B20+C20)","v":0.38706878092211289},{"$f":"1-D20","v":0.61293121907788706},0.70399999999999996]
[2009,24977,40482,{"$f":"B21/(B21+C21)","v":0.38156708779541393},{"$f":"1-D21","v":0.61843291220458607},0.52400000000000002]
[2008,43105,58191,0.42553506555046594,0.57446493444953406,0.81399999999999995]
[2007,45303,62835,0.41893691394329469,0.58106308605670531,0.87]
[2006,46427,61807,0.42895023744849126,0.57104976255150874,0.875]
[2005,47073,57533,0.4500028679043267,0.54999713209567336,0.875]
[2004,52595,57285,0.47865853658536583,0.52134146341463417,0.94599999999999995,null,null,"State",1997,1998,1999,2000,2001,2002,2003,2004,2005,2006,2007,2008,2009,2010,2011,2012,2013,2014,2015,2016,2017,2018,2019,2020,2021,2022,2023,2024,2025]
[2003,50567,52694,{"$f":"B27/(B27+C27)","v":0.48970085511470934},{"$f":"1-D27","v":0.51029914488529071},0.84900000000000009,null,null,"Indiana",25200,23949,25654,25667,23258,20006,22418,27289,24730,26252,25857,25731,18414,22050,{"$f":"W27","v":22050},22050,22050,22050,22050,22050,22050,22050,22050,22050,22050]
[2002,50114,50843,0.4963895519874798,0.5036104480125202,0.88800000000000001,null,null,"AL, TN, KY, MS, AR",14408,15628,15243,16085,14157,17269,18275,18351,19043,20465,20445,19478,13274,19420,{"$f":"W28","v":19420},{"$f":"X28","v":19420},19420,19420,19420,19420,19420,19420,19420,19420,19420]
[2001,52204,47116,0.52561417639951669,0.47438582360048331,0.79200000000000004,null,null,"Ohio",15827,16758,17499,18263,15726,14646,13100,15807,16432,15856,16146,14778,6590,9257,9257,9257,9257,9257,9257,9257,9257,9257,9257,9257,9257]
[2000,59485,52756,0.52997567733715845,0.47002432266284155,0.86099999999999999,null,null,"VA, WV, GA, FL, NC, SC, LA",9043,9365,8925,10053,10758,11432,12491,11875,10506,10825,11386,9864,6534,9486,9486,9486,9486,9486,9486,9486,9486,9486,9486,9486,9486]
[1999,57722,49674,0.53746880703191924,0.46253119296808076,0.83799999999999997,null,null,"Pennsylvania",8155,8074,8319,7926,5758,6371,6091,6900,6506,6817,6790,6395,5705,6299,6299,6299,6299,6299,6299,6299,6299,6299,6299,6299,6299]
[1998,59686,49067,0.54882164170183811,0.45117835829816189,0.86799999999999999,null,null,"Michigan",7291,7147,6569,7121,6761,6861,6706,6437,6671,6662,5867,5251,2858,6124,6124,6124,6124,6124,6124,6124,6124,6124,6124,6124,6124]
[1997,61053,47508,0.56238428164810572,0.43761571835189428,0.89400000000000002,null,null,"RI, CN, NJ, NY, DE, MD",5873,5718,4937,5637,5318,5808,4844,6247,5266,5067,4834,4693,2762,2395,2395,2395,2395,2395,2395,2395,2395,2395,2395,2395,2395]
[1996,60433,44876,0.57386358240986046,0.42613641759013954,"not provided",null,null,"Illinois",7903,7432,6934,6575,5206,6599,7183,4407,4565,4398,4239,3968,2105,4332,4332,4332,4332,4332,4332,4332,4332,4332,4332,4332,4332]
[1995,62523,42407,0.59585437910988281,0.40414562089011719,"not provided",null,null,"Texas",4970,4677,3902,4186,3967,4145,4110,4350,3867,4162,4592,3710,2244,3081,3081,3081,3081,3081,3081,3081,3081,3081,3081,3081,3081]
[1994,61028,39551,0.60676682011155414,0.39323317988844586,null,null,null,"CO, UT, WA, OR, CA, AZ, HI",6735,6343,5540,6577,5057,4093,4036,4127,3457,3860,3992,3899,2747,3540,3540,3540,3540,3540,3540,3540,3540,3540,3540,3540,3540]
[1993,59353,38524,0.60640395598557373,0.39359604401442627,null,null,null,"MN, WI, MO, OK, NE, IA",3156,3661,3873,4152,3355,3727,4006,4088,3562,3869,3990,3529,2226,2747,2747,2747,2747,2747,2747,2747,2747,2747,2747,2747,2747]
[1992,57642,35308,0.62013986013986011,0.37986013986013989]
[1991,null,null,null,null,null,null,null,"Source:","Table 24, AISI Annual Statistics Report 2007, 2006, 2005, 2001"]
[1990,null,null,null,null,null,null,null,null,"Obtained from IP source lead for National GHG Inventory"]
["Source:","Tables 23 and 25, AISI Annual Statistics Report 2007, 2006,2005, 2001"]
[null,"Obtained from IP source lead for National GHG Inventory"]
[]
["Default % by EF category"]
[null,"BOF w/coke","BOF w/o coke","EAF","OHF"]
[2025]
[2024]
[2023]
[2022]
[2021,{"$f":"D9/2","v":0.19353439046105644},{"$f":"B50","v":0.19353439046105644},{"$f":"E9","v":0.61293121907788706},0]
[2020,{"$f":"D10/2","v":0.19353439046105644},{"$f":"B51","v":0.19353439046105644},{"$f":"E10","v":0.61293121907788706},0]
[2019,{"$f":"D11/2","v":0.19353439046105644},{"$f":"B52","v":0.19353439046105644},{"$f":"E11","v":0.61293121907788706},0]
[2018,0.19353439046105644,{"$f":"B53","v":0.19353439046105644},0.61293121907788706,0]
[2017,0.19353439046105644,{"$f":"B54","v":0.19353439046105644},0.61293121907788706,0]
[2016,0.19353439046105644,{"$f":"B55","v":0.19353439046105644},0.61293121907788706,0]
[2015,0.19353439046105644,0.19353439046105644,0.61293121907788706,0]
[2014,0.19353439046105644,0.19353439046105644,0.61293121907788706,0]
[2013,0.19353439046105644,0.19353439046105644,0.61293121907788706,0]
[2012,0.19353439046105644,0.19353439046105644,0.61293121907788706,0]
[2011,0.19353439046105644,0.19353439046105644,0.61293121907788706,0]
[2010,0.19353439046105644,{"$f":"B61","v":0.19353439046105644},0.61293121907788706,0]
[2009,0.19078354389770696,0.19078354389770696,0.61843291220458607,0]
[2008,0.21276753277523297,0.21276753277523297,0.57446493444953406,0]
[2007,0.20946845697164734,0.20946845697164734,0.58106308605670531,0]
[2006,0.21447511872424563,0.21447511872424563,0.57104976255150874,0]
[2005,0.22500143395216335,0.22500143395216335,0.54999713209567336,0]
[2004,0.23932926829268292,{"$f":"B67","v":0.23932926829268292},0.52134146341463417,0]
[2003,0.24485042755735467,0.24485042755735467,0.51029914488529071,0]
[2002,0.2481947759937399,0.2481947759937399,0.5036104480125202,0]
[2001,0.26280708819975834,0.26280708819975834,0.47438582360048331,0]
[2000,0.26498783866857922,0.26498783866857922,0.47002432266284155,0]
[1999,0.26873440351595962,0.26873440351595962,0.46253119296808076,0]
[1998,0.27441082085091906,0.27441082085091906,0.45117835829816189,0]
[1997,0.28119214082405286,0.28119214082405286,0.43761571835189428,0]
[1996,0.28693179120493023,0.28693179120493023,0.42613641759013954,0]
[1995,0.29792718955494141,0.29792718955494141,0.40414562089011719,0]
[1994,0.30338341005577707,0.30338341005577707,0.39323317988844586,0]
[1993,0.30320197799278686,0.30320197799278686,0.39359604401442627,0]
[1992,0.31006993006993006,0.31006993006993006,0.37986013986013989,0]
[1991,0,0,0,0]
[1990,0,0,0,0]
[]
["Assumptions:","BOF is split 50/50 between those with and without integrated coke ovens"]
[null,"OHF does not occur"]
[]
[]
[null,1990,1991,1992,1993,1994,1995,1996,1997,1998,1999,2000,2001,2002,2003,2004,2005,2006,2007,2008,2009,2010,2011,2012,2013,2014,2015,2016,2017,2018,2019,2020,2021,2022,2023,2024,2025]
["AL",null,null,null,null,null,null,null,{"$f":"0.2*J$28","v":2881.6000000000004},3125.6000000000004,3048.6000000000004,3217,2831.4,3453.8,3655,3670.2000000000003,3808.6000000000004,4093,4089,3895.6000000000004,2654.8,3884,3884,{"$f":"0.2*Y$28","v":3884},3884,3884,3884,3884,3884,3884,3884,3884,3884]
["AK"]
["AZ",null,null,null,null,null,null,null,{"$f":"J$36/7","v":962.14285714285711},906.14285714285711,791.42857142857144,939.57142857142856,722.42857142857144,584.71428571428567,576.57142857142856,589.57142857142856,493.85714285714283,551.42857142857144,570.28571428571433,557,392.42857142857144,505.71428571428572,505.71428571428572,505.71428571428572,505.71428571428572,505.71428571428572,505.71428571428572,505.71428571428572,505.71428571428572,505.71428571428572,505.71428571428572,505.71428571428572,505.71428571428572]
["AR",null,null,null,null,null,null,null,{"$f":"0.2*J$28","v":2881.6000000000004},{"$f":"0.2*K$28","v":3125.6000000000004},3048.6000000000004,3217,2831.4,3453.8,3655,3670.2000000000003,3808.6000000000004,4093,4089,3895.6000000000004,2654.8,3884,3884,3884,3884,3884,3884,3884,3884,3884,3884,3884,3884]
["CA",null,null,null,null,null,null,null,{"$f":"J$36/7","v":962.14285714285711},906.14285714285711,791.42857142857144,939.57142857142856,722.42857142857144,584.71428571428567,576.57142857142856,589.57142857142856,493.85714285714283,551.42857142857144,570.28571428571433,557,392.42857142857144,505.71428571428572,505.71428571428572,{"$f":"Y$36/7","v":505.71428571428572},505.71428571428572,505.71428571428572,505.71428571428572,505.71428571428572,505.71428571428572,505.71428571428572,505.71428571428572,505.71428571428572,505.71428571428572]
["CO",null,null,null,null,null,null,null,962.14285714285711,906.14285714285711,791.42857142857144,939.57142857142856,722.42857142857144,584.71428571428567,576.57142857142856,589.57142857142856,493.85714285714283,551.42857142857144,570.28571428571433,557,392.42857142857144,505.71428571428572,505.71428571428572,505.71428571428572,505.71428571428572,505.71428571428572,505.71428571428572,505.71428571428572,505.71428571428572,505.71428571428572,505.71428571428572,505.71428571428572,505.71428571428572]
["CT",null,null,null,null,null,null,null,{"$f":"J$33/6","v":978.83333333333337},{"$f":"K$33/6","v":953},822.83333333333337,939.5,886.33333333333337,968,807.33333333333337,1041.1666666666667,877.66666666666663,844.5,805.66666666666663,782.16666666666663,460.33333333333331,399.16666666666669,399.16666666666669,399.16666666666669,399.16666666666669,399.16666666666669,399.16666666666669,399.16666666666669,399.16666666666669,399.16666666666669,399.16666666666669,399.16666666666669,399.16666666666669]
["DE",null,null,null,null,null,null,null,978.83333333333337,953,822.83333333333337,939.5,886.33333333333337,968,807.33333333333337,1041.1666666666667,877.66666666666663,844.5,805.66666666666663,782.16666666666663,460.33333333333331,399.16666666666669,399.16666666666669,399.16666666666669,399.16666666666669,399.16666666666669,399.16666666666669,399.16666666666669,399.16666666666669,399.16666666666669,399.16666666666669,399.16666666666669,399.16666666666669]
["DC"]
["FL",null,null,null,null,null,null,null,{"$f":"J$30/7","v":1291.8571428571429},1337.8571428571429,1275,1436.1428571428571,1536.8571428571429,1633.1428571428571,1784.4285714285713,1696.4285714285713,1500.8571428571429,1546.4285714285713,1626.5714285714287,1409.1428571428571,933.42857142857144,1355.1428571428571,1355.1428571428571,1355.1428571428571,1355.1428571428571,1355.1428571428571,1355.1428571428571,1355.1428571428571,1355.1428571428571,1355.1428571428571,1355.1428571428571,1355.1428571428571,1355.1428571428571]
["GA",null,null,null,null,null,null,null,1291.8571428571429,1337.8571428571429,1275,1436.1428571428571,1536.8571428571429,1633.1428571428571,1784.4285714285713,1696.4285714285713,1500.8571428571429,1546.4285714285713,1626.5714285714287,1409.1428571428571,933.42857142857144,1355.1428571428571,1355.1428571428571,1355.1428571428571,1355.1428571428571,1355.1428571428571,1355.1428571428571,1355.1428571428571,1355.1428571428571,1355.1428571428571,1355.1428571428571,1355.1428571428571,1355.1428571428571]
["HI",null,null,null,null,null,null,null,{"$f":"J$36/7","v":962.14285714285711},906.14285714285711,791.42857142857144,939.57142857142856,722.42857142857144,584.71428571428567,576.57142857142856,589.57142857142856,493.85714285714283,551.42857142857144,570.28571428571433,557,392.42857142857144,505.71428571428572,505.71428571428572,505.71428571428572,505.71428571428572,505.71428571428572,505.71428571428572,505.71428571428572,505.71428571428572,505.71428571428572,505.71428571428572,505.71428571428572,505.71428571428572]
["ID"]
["IL",null,null,null,null,null,null,null,{"$f":"J34","v":7903},7432,6934,6575,5206,6599,7183,4407,4565,4398,4239,3968,2105,4332,4332,4332,4332,4332,4332,4332,4332,4332,4332,4332,4332]
["IN",null,null,null,null,null,null,null,{"$f":"J27","v":25200},23949,25654,25667,23258,20006,22418,27289,24730,26252,25857,25731,18414,22050,22050,22050,22050,22050,22050,22050,22050,22050,22050,22050,22050]
["IA",null,null,null,null,null,null,null,{"$f":"J$37/6","v":526},610.16666666666663,645.5,692,559.16666666666663,621.16666666666663,667.66666666666663,681.33333333333337,593.66666666666663,644.83333333333337,665,588.16666666666663,371,457.83333333333331,457.83333333333331,457.83333333333331,457.83333333333331,457.83333333333331,457.83333333333331,457.83333333333331,457.83333333333331,457.83333333333331,457.83333333333331,457.83333333333331,457.83333333333331]
["KS"]
["KY",null,null,null,null,null,null,null,{"$f":"0.2*J$28","v":2881.6000000000004},3125.6000000000004,3048.6000000000004,3217,2831.4,3453.8,3655,3670.2000000000003,3808.6000000000004,4093,4089,3895.6000000000004,2654.8,3884,3884,3884,3884,3884,3884,3884,3884,3884,3884,3884,3884]
["LA",null,null,null,null,null,null,null,{"$f":"J$30/7","v":1291.8571428571429},1337.8571428571429,1275,1436.1428571428571,1536.8571428571429,1633.1428571428571,1784.4285714285713,1696.4285714285713,1500.8571428571429,1546.4285714285713,1626.5714285714287,1409.1428571428571,933.42857142857144,1355.1428571428571,1355.1428571428571,1355.1428571428571,1355.1428571428571,1355.1428571428571,1355.1428571428571,1355.1428571428571,1355.1428571428571,1355.1428571428571,1355.1428571428571,1355.1428571428571,1355.1428571428571]
["ME"]
["MD",null,null,null,null,null,null,null,{"$f":"J$33/6","v":978.83333333333337},953,822.83333333333337,939.5,886.33333333333337,968,807.33333333333337,1041.1666666666667,877.66666666666663,844.5,805.66666666666663,782.16666666666663,460.33333333333331,399.16666666666669,399.16666666666669,399.16666666666669,{"$f":"Z$33/6","v":399.16666666666669},399.16666666666669,399.16666666666669,399.16666666666669,399.16666666666669,399.16666666666669,399.16666666666669,399.16666666666669,399.16666666666669]
["MA"]
["MI",null,null,null,null,null,null,null,{"$f":"J32","v":7291},7147,6569,7121,6761,6861,6706,6437,6671,6662,5867,5251,2858,6124,6124,6124,6124,6124,6124,6124,6124,6124,6124,6124,6124]
["MN",null,null,null,null,null,null,null,{"$f":"J$37/6","v":526},610.16666666666663,645.5,692,559.16666666666663,621.16666666666663,667.66666666666663,681.33333333333337,593.66666666666663,644.83333333333337,665,588.16666666666663,371,457.83333333333331,457.83333333333331,457.83333333333331,457.83333333333331,457.83333333333331,457.83333333333331,457.83333333333331,457.83333333333331,457.83333333333331,457.83333333333331,457.83333333333331,457.83333333333331]
["MS",null,null,null,null,null,null,null,{"$f":"0.2*J$28","v":2881.6000000000004},3125.6000000000004,3048.6000000000004,3217,2831.4,3453.8,3655,3670.2000000000003,3808.6000000000004,4093,4089,3895.6000000000004,2654.8,3884,3884,3884,3884,3884,3884,3884,3884,3884,3884,3884,3884]
["MO",null,null,null,null,null,null,null,{"$f":"J$37/6","v":526},610.16666666666663,645.5,692,559.16666666666663,621.16666666666663,667.66666666666663,681.33333333333337,593.66666666666663,644.83333333333337,665,588.16666666666663,371,457.83333333333331,457.83333333333331,457.83333333333331,457.83333333333331,457.83333333333331,457.83333333333331,457.83333333333331,457.83333333333331,457.83333333333331,457.83333333333331,457.83333333333331,457.83333333333331]
["MT"]
["NE",null,null,null,null,null,null,null,{"$f":"J$37/6","v":526},610.16666666666663,645.5,692,559.16666666666663,621.16666666666663,667.66666666666663,681.33333333333337,593.66666666666663,644.83333333333337,665,588.16666666666663,371,457.83333333333331,457.83333333333331,457.83333333333331,457.83333333333331,457.83333333333331,457.83333333333331,457.83333333333331,457.83333333333331,457.83333333333331,457.83333333333331,457.83333333333331,457.83333333333331]
["NV"]
["NH"]
["NJ",null,null,null,null,null,null,null,{"$f":"J$33/6","v":978.83333333333337},953,822.83333333333337,939.5,886.33333333333337,968,807.33333333333337,1041.1666666666667,877.66666666666663,844.5,805.66666666666663,782.16666666666663,460.33333333333331,399.16666666666669,399.16666666666669,399.16666666666669,399.16666666666669,399.16666666666669,399.16666666666669,399.16666666666669,399.16666666666669,399.16666666666669,399.16666666666669,399.16666666666669,399.16666666666669]
["NM"]
["NY",null,null,null,null,null,null,null,{"$f":"J$33/6","v":978.83333333333337},953,822.83333333333337,939.5,886.33333333333337,968,807.33333333333337,1041.1666666666667,877.66666666666663,844.5,805.66666666666663,782.16666666666663,460.33333333333331,399.16666666666669,399.16666666666669,399.16666666666669,399.16666666666669,399.16666666666669,399.16666666666669,399.16666666666669,399.16666666666669,399.16666666666669,399.16666666666669,399.16666666666669,399.16666666666669]
["NC",null,null,null,null,null,null,null,{"$f":"J$30/7","v":1291.8571428571429},1337.8571428571429,1275,1436.1428571428571,1536.8571428571429,1633.1428571428571,1784.4285714285713,1696.4285714285713,1500.8571428571429,1546.4285714285713,1626.5714285714287,1409.1428571428571,933.42857142857144,1355.1428571428571,1355.1428571428571,1355.1428571428571,1355.1428571428571,1355.1428571428571,1355.1428571428571,1355.1428571428571,1355.1428571428571,1355.1428571428571,1355.1428571428571,1355.1428571428571,1355.1428571428571]
["ND"]
["OH",null,null,null,null,null,null,null,{"$f":"J29","v":15827},16758,17499,18263,15726,14646,13100,15807,16432,15856,16146,14778,6590,9257,9257,9257,9257,9257,9257,9257,9257,9257,9257,9257,9257]
["OK",null,null,null,null,null,null,null,{"$f":"J$37/6","v":526},610.16666666666663,645.5,692,559.16666666666663,621.16666666666663,667.66666666666663,681.33333333333337,593.66666666666663,644.83333333333337,665,588.16666666666663,371,457.83333333333331,457.83333333333331,457.83333333333331,457.83333333333331,457.83333333333331,457.83333333333331,457.83333333333331,457.83333333333331,457.83333333333331,457.83333333333331,457.83333333333331,457.83333333333331]
["OR",null,null,null,null,null,null,null,{"$f":"J$36/7","v":962.14285714285711},906.14285714285711,791.42857142857144,939.57142857142856,722.42857142857144,584.71428571428567,576.57142857142856,589.57142857142856,493.85714285714283,551.42857142857144,570.28571428571433,557,392.42857142857144,505.71428571428572,505.71428571428572,505.71428571428572,505.71428571428572,505.71428571428572,505.71428571428572,505.71428571428572,505.71428571428572,505.71428571428572,505.71428571428572,505.71428571428572,505.71428571428572]
["PA",null,null,null,null,null,null,null,{"$f":"J31","v":8155},8074,8319,7926,5758,6371,6091,6900,6506,6817,6790,6395,5705,6299,6299,6299,6299,6299,6299,6299,6299,6299,6299,6299,6299]
["RI",null,null,null,null,null,null,null,{"$f":"J$33/6","v":978.83333333333337},953,822.83333333333337,939.5,886.33333333333337,968,807.33333333333337,1041.1666666666667,877.66666666666663,844.5,805.66666666666663,782.16666666666663,460.33333333333331,399.16666666666669,399.16666666666669,399.16666666666669,399.16666666666669,399.16666666666669,399.16666666666669,399.16666666666669,399.16666666666669,399.16666666666669,399.16666666666669,399.16666666666669,399.16666666666669]
["SC",null,null,null,null,null,null,null,{"$f":"J$30/7","v":1291.8571428571429},1337.8571428571429,1275,1436.1428571428571,1536.8571428571429,1633.1428571428571,1784.4285714285713,1696.4285714285713,1500.8571428571429,1546.4285714285713,1626.5714285714287,1409.1428571428571,933.42857142857144,1355.1428571428571,1355.1428571428571,1355.1428571428571,1355.1428571428571,1355.1428571428571,1355.1428571428571,1355.1428571428571,1355.1428571428571,1355.1428571428571,1355.1428571428571,1355.1428571428571,1355.1428571428571]
["SD"]
["TN",null,null,null,null,null,null,null,{"$f":"0.2*J$28","v":2881.6000000000004},3125.6000000000004,3048.6000000000004,3217,2831.4,3453.8,3655,3670.2000000000003,3808.6000000000004,4093,4089,3895.6000000000004,2654.8,3884,3884,3884,3884,3884,3884,3884,3884,3884,3884,3884,3884]
["TX",null,null,null,null,null,null,null,{"$f":"J35","v":4970},4677,3902,4186,3967,4145,4110,4350,3867,4162,4592,3710,2244,3081,3081,3081,3081,3081,3081,3081,3081,3081,3081,3081,3081]
["UT",null,null,null,null,null,null,null,{"$f":"J$36/7","v":962.14285714285711},906.14285714285711,791.42857142857144,939.57142857142856,722.42857142857144,584.71428571428567,576.57142857142856,589.57142857142856,493.85714285714283,551.42857142857144,570.28571428571433,557,392.42857142857144,505.71428571428572,505.71428571428572,505.71428571428572,505.71428571428572,505.71428571428572,505.71428571428572,505.71428571428572,505.71428571428572,505.71428571428572,505.71428571428572,505.71428571428572,505.71428571428572]
["VT"]
["VA",null,null,null,null,null,null,null,{"$f":"J$30/7","v":1291.8571428571429},1337.8571428571429,1275,1436.1428571428571,1536.8571428571429,1633.1428571428571,1784.4285714285713,1696.4285714285713,1500.8571428571429,1546.4285714285713,1626.5714285714287,1409.1428571428571,933.42857142857144,1355.1428571428571,1355.1428571428571,1355.1428571428571,1355.1428571428571,1355.1428571428571,1355.1428571428571,1355.1428571428571,1355.1428571428571,1355.1428571428571,1355.1428571428571,1355.1428571428571,1355.1428571428571]
["WA",null,null,null,null,null,null,null,{"$f":"J$36/7","v":962.14285714285711},906.14285714285711,791.42857142857144,939.57142857142856,722.42857142857144,584.71428571428567,576.57142857142856,589.57142857142856,493.85714285714283,551.42857142857144,570.28571428571433,557,392.42857142857144,505.71428571428572,505.71428571428572,505.71428571428572,505.71428571428572,505.71428571428572,505.71428571428572,505.71428571428572,505.71428571428572,505.71428571428572,505.71428571428572,505.71428571428572,505.71428571428572]
["WV",null,null,null,null,null,null,null,{"$f":"J$30/7","v":1291.8571428571429},1337.8571428571429,1275,1436.1428571428571,1536.8571428571429,1633.1428571428571,1784.4285714285713,1696.4285714285713,1500.8571428571429,1546.4285714285713,1626.5714285714287,1409.1428571428571,933.42857142857144,1355.1428571428571,1355.1428571428571,1355.1428571428571,1355.1428571428571,1355.1428571428571,1355.1428571428571,1355.1428571428571,1355.1428571428571,1355.1428571428571,1355.1428571428571,1355.1428571428571,1355.1428571428571]
["WI",null,null,null,null,null,null,null,{"$f":"J$37/6","v":526},610.16666666666663,645.5,692,559.16666666666663,621.16666666666663,667.66666666666663,681.33333333333337,593.66666666666663,644.83333333333337,665,588.16666666666663,371,457.83333333333331,457.83333333333331,457.83333333333331,457.83333333333331,457.83333333333331,457.83333333333331,457.83333333333331,457.83333333333331,457.83333333333331,457.83333333333331,457.83333333333331,457.83333333333331]
["WY"]
["Total",null,null,null,null,null,null,null,{"$f":"SUM(I88:I138)","v":108561},{"$f":"SUM(J88:J138)","v":108752.00000000001},107394.99999999999,112242.00000000001,99320.999999999985,100957.00000000001,103260,109878,104605.00000000001,108232.99999999996,108138.00000000001,{"$f":"SUM(T88:T138)","v":101296},65459.000000000022,88731,88731,88731,88731,{"$f":"SUM(Z88:Z138)","v":88731},88731,88731,88731,88731,88731,{"$f":"SUM(AF88:AF138)","v":88731},88731]
[]
[]
[]
["Selected State Data"]
[null,1990,1991,1992,1993,1994,1995,1996,1997,1998,1999,2000,2001,2002,2003,2004,2005,2006,2007,2008,2009,2010,2011,2012,2013,2014,2015,2016,2017,2018,2019,2020,2021,2022,2023,2024,2025]
["BOF with coke ovens",{"$f":"VLOOKUP(StateID,$A$88:$AG$139,B$144-1988,FALSE)*VLOOKUP(B$144,$A$50:$E$81,2,FALSE)","v":{"$error":"#N/A"}},{"$error":"#N/A"},{"$error":"#N/A"},{"$error":"#N/A"},{"$error":"#N/A"},{"$error":"#N/A"},{"$error":"#N/A"},{"$error":"#N/A"},{"$error":"#N/A"},{"$error":"#N/A"},{"$error":"#N/A"},{"$error":"#N/A"},{"$error":"#N/A"},{"$error":"#N/A"},{"$error":"#N/A"},{"$error":"#N/A"},{"$error":"#N/A"},{"$error":"#N/A"},{"$error":"#N/A"},{"$error":"#N/A"},{"$error":"#N/A"},{"$error":"#N/A"},{"$error":"#N/A"},{"$error":"#N/A"},{"$error":"#N/A"},{"$error":"#N/A"},{"$error":"#N/A"},{"$error":"#N/A"},{"$error":"#N/A"},{"$error":"#N/A"},{"$error":"#N/A"},{"$error":"#N/A"}]
["BOF without coke ovens",{"$f":"VLOOKUP(StateID,$A$88:$AG$139,B$144-1988,FALSE)*VLOOKUP(B$144,$A$50:$E$81,3,FALSE)","v":{"$error":"#N/A"}},{"$error":"#N/A"},{"$error":"#N/A"},{"$error":"#N/A"},{"$error":"#N/A"},{"$error":"#N/A"},{"$error":"#N/A"},{"$error":"#N/A"},{"$error":"#N/A"},{"$error":"#N/A"},{"$error":"#N/A"},{"$error":"#N/A"},{"$error":"#N/A"},{"$error":"#N/A"},{"$error":"#N/A"},{"$error":"#N/A"},{"$error":"#N/A"},{"$error":"#N/A"},{"$error":"#N/A"},{"$error":"#N/A"},{"$error":"#N/A"},{"$error":"#N/A"},{"$error":"#N/A"},{"$error":"#N/A"},{"$error":"#N/A"},{"$error":"#N/A"},{"$error":"#N/A"},{"$error":"#N/A"},{"$error":"#N/A"},{"$error":"#N/A"},{"$error":"#N/A"},{"$error":"#N/A"}]
["EAF",{"$f":"VLOOKUP(StateID,$A$88:$AG$139,B$144-1988,FALSE)*VLOOKUP(B$144,$A$50:$E$81,4,FALSE)","v":{"$error":"#N/A"}},{"$error":"#N/A"},{"$error":"#N/A"},{"$error":"#N/A"},{"$error":"#N/A"},{"$error":"#N/A"},{"$error":"#N/A"},{"$error":"#N/A"},{"$error":"#N/A"},{"$error":"#N/A"},{"$error":"#N/A"},{"$error":"#N/A"},{"$error":"#N/A"},{"$error":"#N/A"},{"$error":"#N/A"},{"$error":"#N/A"},{"$error":"#N/A"},{"$error":"#N/A"},{"$error":"#N/A"},{"$error":"#N/A"},{"$error":"#N/A"},{"$error":"#N/A"},{"$error":"#N/A"},{"$error":"#N/A"},{"$error":"#N/A"},{"$error":"#N/A"},{"$error":"#N/A"},{"$error":"#N/A"},{"$error":"#N/A"},{"$error":"#N/A"},{"$error":"#N/A"},{"$error":"#N/A"}]
["OHF",{"$f":"VLOOKUP(StateID,$A$88:$AG$139,B$144-1988,FALSE)*VLOOKUP(B$144,$A$50:$E$81,5,FALSE)","v":{"$error":"#N/A"}},{"$error":"#N/A"},{"$error":"#N/A"},{"$error":"#N/A"},{"$error":"#N/A"},{"$error":"#N/A"},{"$error":"#N/A"},{"$error":"#N/A"},{"$error":"#N/A"},{"$error":"#N/A"},{"$error":"#N/A"},{"$error":"#N/A"},{"$error":"#N/A"},{"$error":"#N/A"},{"$error":"#N/A"},{"$error":"#N/A"},{"$error":"#N/A"},{"$error":"#N/A"},{"$error":"#N/A"},{"$error":"#N/A"},{"$error":"#N/A"},{"$error":"#N/A"},{"$error":"#N/A"},{"$error":"#N/A"},{"$error":"#N/A"},{"$error":"#N/A"},{"$error":"#N/A"},{"$error":"#N/A"},{"$error":"#N/A"},{"$error":"#N/A"},{"$error":"#N/A"},{"$error":"#N/A"}]

{"sheet":"Ammonia Defaults","index":33,"n_rows":174,"n_cols":37,"rows_kept":174,"cut":false,"hidden":false,"merged":[]}
[]
[]
["Domestic Production Capacity of Ammonia by State ('000 MT NH3)"]
["State",1990,1991,1992,1993,1994,1995,1996,1997,1998,1999,2000,2001,2002,2003,2004,2005,2006,2007,2008,2009,2010,2011,2012,2013,2014,2015,2016,2017,2018,2019,2020,2021,2022,2023,2024,2025]
["AK",1200,1200,1134,1134,1130,1140,1180,1180,1180,1180,1210,1250,1250,1250,1250,1250,280,280,0,0,0,0,0,280,280,280,280,280,280,280,280,280]
["AL",175,175,159,159,159,159,159,159,159,159,159,175,175,175,175,175,175,159,159,159,159,159,159,159,159,159,159,163,163,163,185,185]
["AR",600,610,554,363,363,364,364,390,390,390,381,381,381,381,388,0,0,0,0,0,0,0,0,0,0,0,340,400,400,400,490,490]
["AZ",null,null,null,null,null,null,null,null,null,null,null,null,0,0,0,0,0,0,0,0,0,0,0,0,0,0,0,0,0,0,0,0]
["CA",20,20,18,18,18,19,null,null,null,null,null,null,0,0,0,0,0,0,0,0,0,0,0,0,0,0,0,0,0,0,0,0]
["CO",null,null,null,null,null,null,null,null,null,null,null,null,0,0,0,0,0,0,0,0,0,0,0,0,0,0,0,0,0,0,0,0]
["CT",null,null,null,null,null,null,null,null,null,null,null,null,0,0,0,0,0,0,0,0,0,0,0,0,0,0,0,0,0,0,0,0]
["DC",null,null,null,null,null,null,null,null,null,null,null,null,0,0,0,0,0,0,0,0,0,0,0,0,0,0,0,0,0,0,0,0]
["DE",null,null,null,null,null,null,null,null,null,null,null,null,0,0,0,0,0,0,0,0,0,0,0,0,0,0,0,0,0,0,0,0]
["FL",100,100,91,91,45,46,46,46,71,71,71,71,71,78,78,0,0,0,0,0,0,0,0,0,0,0,0,0,0,0,0,0]
["GA",545,545,494,499,522,560,607,653,653,653,684,682,781,711,719,719,719,688,688,688,688,644,644,644,785,785,785,785,785,785,765,765]
["IA",731,735,708,776,796,829,829,933,927,690,707,707,707,707,755,718,718,718,718,718,{"$f":"336+32+350","v":718},718,718,718,727,727,1472,2242,2241,2242,2382,2382]
["ID",108,108,98,93,93,93,93,93,93,93,93,93,93,0,0,0,0,0,0,0,0,0,0,0,0,0,0,0,0,0,0,0]
["IL",238,238,216,245,260,269,269,269,292,292,292,278,278,278,278,278,278,278,278,278,278,278,278,278,337,337,337,337,337,337,337,337]
["IN",null,null,null,null,null,null,null,null,null,null,null,null,0,0,0,0,0,0,0,0,0,0,0,0,0,0,0,0,0,0,0,0]
["KS",610,660,599,617,643,664,664,664,672,672,1039,1051,1051,631,630,655,655,655,655,655,{"$f":"375+280","v":655},655,655,655,655,655,655,655,655,655,655,655]
["KY",null,null,null,null,null,null,null,null,null,null,null,null,0,0,0,0,0,0,0,0,0,0,0,0,0,0,0,0,0,0,0,0]
["LA",6997,7155,6510,6270,6435,6455,6410,6437,6418,5972,5979,5846,5417,5009,5041,4595,4141,4501,4595,4595,{"$f":"2490+1110+508+483","v":4591},4591,3481,3481,3668,3668,5658,5658,5658,5658,6175,6175]
["MA",null,null,null,null,null,null,null,null,null,null,null,null,0,0,0,0,0,0,0,0,0,0,0,0,0,0,0,0,0,0,0,0]
["MD",null,null,null,null,null,null,null,null,null,null,null,null,0,0,0,0,0,0,0,0,0,0,0,0,0,0,0,0,0,0,0,0]
["ME",null,null,null,null,null,null,null,null,null,null,null,null,0,0,0,0,0,0,0,0,0,0,0,0,0,0,0,0,0,0,0,0]
["MI",null,null,null,null,null,null,null,null,null,null,null,null,0,0,0,0,0,0,0,0,0,0,0,0,0,0,0,0,0,0,0,0]
["MN",null,null,null,null,null,null,null,null,null,null,null,null,0,0,0,0,0,0,0,0,0,0,0,0,0,0,0,0,0,0,0,0]
["MO",null,null,null,null,null,null,null,null,null,null,null,null,0,0,0,0,0,0,0,0,0,0,0,0,0,0,0,0,0,0,0,0]
["MS",500,500,454,454,454,455,455,481,644,644,621,621,621,621,463,454,454,454,454,454,454,454,454,454,508,508,508,508,508,508,570,570]
["MT",null,null,null,null,null,null,null,null,null,null,null,null,0,0,0,0,0,0,0,0,0,0,0,0,0,0,0,0,0,0,0,0]
["NC",null,null,null,null,null,null,null,null,null,null,null,null,0,0,0,0,0,0,0,0,0,0,0,0,0,0,0,0,0,0,0,0]
["ND",0,24,22,22,22,22,91,321,334,334,363,363,363,363,363,363,363,363,363,363,363,363,363,363,355,355,355,355,355,355,355,355]
["NE",567,440,399,408,422,437,437,437,437,255,272,272,272,272,265,265,265,265,265,265,265,265,265,265,265,265,265,296,296,296,296,296]
["NH",null,null,null,null,null,null,null,null,null,null,null,null,0,0,0,0,0,0,0,0,0,0,0,0,0,0,0,0,0,0,0,0]
["NJ",null,null,null,null,null,null,null,null,null,null,null,null,0,0,0,0,0,0,0,0,0,0,0,0,0,0,0,0,0,0,0,0]
["NM",null,null,null,null,null,null,null,null,null,null,null,null,0,0,0,0,0,0,0,0,0,0,0,0,0,0,0,0,0,0,0,0]
["NV",null,null,null,null,null,null,null,null,null,null,null,null,0,0,0,0,0,0,0,0,0,0,0,0,0,0,0,0,0,0,0,0]
["NY",null,null,null,null,null,null,null,null,null,null,null,null,0,0,0,0,0,0,0,0,0,0,0,0,0,0,0,0,0,0,0,0]
["OH",530,530,481,481,494,523,523,551,551,551,542,542,579,525,542,542,542,542,542,542,542,535,535,535,612,612,612,612,612,612,725,725]
["OK",2334,2444,2216,2280,2323,2406,2406,2653,2675,2675,2592,2259,2259,2259,2434,2282,2282,2582,2492,2492,{"$f":"953+399+930+210","v":2492},2492,2492,2492,2595,2595,2595,2595,2595,2595,2860,2860]
["OR",88,88,80,77,77,85,85,88,88,88,93,91,101,101,101,101,101,101,101,101,101,101,101,101,101,101,101,101,101,101,100,100]
["PA",35,35,32,32,null,null,null,null,null,null,null,null,0,0,0,0,0,0,0,0,0,0,0,0,0,0,0,0,0,0,0,0]
["RI",null,null,null,null,null,null,null,null,null,null,null,null,0,0,0,0,0,0,0,0,0,0,0,0,0,0,0,0,0,0,0,0]
["SC",null,null,null,null,null,null,null,null,null,null,null,null,0,0,0,0,0,0,0,0,0,0,0,0,0,0,0,0,0,0,0,0]
["SD",null,null,null,null,null,null,null,null,null,null,null,null,0,0,0,0,0,0,0,0,0,0,0,0,0,0,0,0,0,0,0,0]
["TN",340,340,308,308,308,356,356,356,356,356,371,409,409,372,0,0,0,371,372,372,372,0,0,0,0,0,0,0,0,0,0,0]
["TX",890,967,953,953,958,1000,1000,1018,1027,1027,1504,1549,1053,1053,849,849,849,721,721,721,{"$f":"490+231","v":721},721,721,721,821,821,821,821,1571,1571,1572,1572]
["UT",null,null,null,null,null,null,null,null,null,null,null,null,0,0,0,0,0,0,0,0,0,0,0,0,0,0,0,0,0,0,0,0]
["VA",410,410,390,392,392,409,409,409,409,409,409,409,409,409,409,530,530,530,530,530,530,530,530,530,530,530,530,530,530,530,530,530]
["VT",null,null,null,null,null,null,null,null,null,null,null,null,0,0,0,0,0,0,0,0,0,0,0,0,0,0,0,0,0,0,0,0]
["WA",168,168,25,0,null,150,150,150,150,150,180,180,180,180,180,180,180,0,180,180,180,180,180,180,180,180,180,180,180,180,180,180]
["WI",null,null,null,null,null,null,null,null,null,null,null,null,0,0,0,0,0,0,0,0,0,0,0,0,0,0,0,0,0,0,0,0]
["WV",50,50,45,45,null,null,null,null,null,null,null,null,0,0,0,0,0,0,0,0,0,0,0,0,0,0,0,0,0,0,0,0]
["WY",170,170,154,154,167,172,172,174,174,174,174,235,259,174,174,174,174,174,174,174,174,174,174,174,178,178,178,362,363,363,363,363]
["Total",{"$f":"SUM(B5:B54)","v":17406},{"$f":"SUM(C5:C54)","v":17712},16140,15871,16081,16613,16705,17462,17700,16835,17736,17464,16709,15549,15094,14130,12706,{"$f":"SUM(S5:S54)","v":13382},13287,13287,13283,{"$f":"SUM(W5:W54)","v":12860},{"$f":"SUM(X5:X54)","v":11750},12030,12756,12756,15831,{"$f":"SUM(AC5:AC54)","v":16880},17630,17631,18820,{"$f":"SUM(AG5:AG54)","v":18820}]
["National production (Thousand MT NH3)",12700,12800,13400,12600,13400,13000,13400,13300,13800,12900,11800,9120,10300,8450,8990,8340,8190,8540,7870,7700,8290,9350,8730,9170,9330,9590,10200,11600,13100,13500,14000,12700]
["Urea Consumption (Thousand MT NH3)",1715,1432,1473,1640,1680,1680,1630,1600,1850,1930,1960,2100,2210,2230,2430,2170,2240,2380,2340,2180,2290,2530,2620,2540,2570,2740,2710,2950,3130,3130,3160,3160,"This row will be moved to LULUCF"]
["State share of nat. capacity",{"$f":"IF(ISERROR(VLOOKUP(StateID,$A$5:$AG$54,COLUMN(B58),FALSE)/B$55),0,VLOOKUP(StateID,$A$5:$AG$54,COLUMN(B58),FALSE)/B$55)","v":0},0,0,0,0,0,0,0,0,0,0,0,0,0,0,0,0,0,0,0,0,0,0,0,0,0,0,0,0,0,0,0]
["Default production",{"$f":"B58*B56","v":0},{"$f":"C58*C56","v":0},0,0,0,0,0,0,0,0,0,0,0,0,0,0,0,{"$f":"S58*S56","v":0},0,0,0,{"$f":"W58*W56","v":0},{"$f":"X58*X56","v":0},0,0,0,0,{"$f":"AC58*AC56","v":0},0,{"$f":"AE58*AE56","v":0},{"$f":"AF58*AF56","v":0},{"$f":"AG58*AG56","v":0}]
["Default urea consumption",{"$f":"B58*B57","v":0},{"$f":"C58*C57","v":0},0,0,0,0,0,0,0,0,0,0,0,0,0,0,{"$f":"R58*R57","v":0},{"$f":"S58*S57","v":0},0,0,{"$f":"V58*V57","v":0},0,{"$f":"X58*X57","v":0},0,0,0,0,0,{"$f":"AD58*AD57","v":0},0,{"$f":"AF58*AF57","v":0},{"$f":"AG58*AG57","v":0}]
["Source:http://minerals.usgs.gov/minerals/pubs/commodity/nitrogen, Contact: Deborah Kramer, dkramer@usgs.gov  "]
["Production Capacity","Table 4 or 5, Nitrogen, minerals yearbook"]
["Urea Consumption","Table 6 or 7, Nitrogen, minerals yearbook"]
[null,null,null,null,null,0.87,"Amount applied to Ag soils; Divide by this number to get total Urea"]
["Estimated Calendar Year Total for Urea Consumption in IP(metric tons)",2,3,4,5,6,7,8,9,10,11,12,13,14,15,16,17,18,19,20,21,22,23,24,25,26,27,28,29,30,31,32,33,34,35,36,37]
[null,1990,1991,1992,1993,1994,1995,1996,1997,1998,1999,2000,2001,2002,2003,2004,2005,2006,2007,2008,2009,2010,2011,2012,2013,2014,2015,2016,2017,2018,2019,2020,2021,2022,2023,2024,2025]
["Alabama",{"$f":"(B122/$F$64)*(1-$F$64)","v":1170.638883588234},{"$f":"(C122/$F$64)*(1-$F$64)","v":716.05199577476992},832.51370957903066,928.01901145045724,861.18118750658221,1697.2863636221441,2626.0463336326034,2180.5130755859477,1922.8278594078627,2068.738677019106,2036.1112866409944,2005.7710263075849,1787.6491473940066,1705.8584923269111,1861.4337628427913,2027.527499971324,1879.5328889125246,1953.1697464340498,1604.8969917653892,1160.8375173748516,1237.7583964980224,1256.735394436502,1290.9116674539443,1409.3183635887763,1367.2577817958481,1396.2514116252225,1489.3234522174639,1548.9898768701344,1539.9986690998901,1569.5844169921836,1599.1701648844771,{"$f":"(AG122/$F$64)*(1-$F$64)","v":1628.7559127767624}]
["Alaska",{"$f":"(B123/$F$64)*(1-$F$64)","v":815.06797177479473},{"$f":"(C123/$F$64)*(1-$F$64)","v":789.02245148858037},772.80459561564589,839.72592312208224,833.36826551797117,787.12003428567846,694.73337358355207,694.73337358355207,702.1234388702411,702.94058087530664,703.86372902635128,742.45782851112767,732.82509611564535,732.82509611564535,732.82509611564535,732.82509611564535,732.82509611564535,732.82509611564535,714.6858449574089,695.06874341111222,731.33694333999654,766.82080623482136,791.97381441729453,786.30180781876129,772.84553405053794,766.20727194236508,775.73345596094259,783.62411545686246,772.31870504115682,769.80185675366533,767.28500846617339,{"$f":"(AG123/$F$64)*(1-$F$64)","v":764.76816017868191}]
["Arizona",2702.5749086810129,{"$f":"(C124/$F$64)*(1-$F$64)","v":2428.2684168212545},2665.5446031860233,2869.6576750180652,3323.1354294729617,3633.9416538668888,3616.4099724609259,3255.9513910830128,2539.8302608652129,1886.255196814185,2013.4617586425877,1866.954758128511,1928.2995116793413,2343.8045632903409,2319.0457569908681,2181.1960154368976,2001.7219168697425,2268.8839740521648,2330.9479969259678,2433.7094330454297,2089.5476021401437,2507.7003673614518,1650.2912092896672,902.84106064540072,1072.368746226542,1564.9841866692529,1440.8829813524696,1323.8375710434104,1639.2808765096247,1783.9089791243623,1928.5370817390999,{"$f":"(AG124/$F$64)*(1-$F$64)","v":2073.1651843538375}]
["Arkansas",46846.344477221603,{"$f":"(C125/$F$64)*(1-$F$64)","v":45718.701523773176},49512.034940526653,51864.113405512609,55091.265827668583,53409.042368047587,52147.5616396646,52364.369964160614,59666.954966678866,54556.657584298657,59153.976586051525,59593.670559259059,55268.170293878728,55603.174386679479,54034.455855624758,49118.155413810826,54375.411746181708,56125.090630770974,49471.612167244872,50544.170694295419,51877.560732470556,47469.477070409732,50199.519771095132,45190.826704038889,48636.146552506201,51414.237419981837,49153.781883439122,32678.308644328481,39786.509824369066,39316.263323842322,38846.016823315564,{"$f":"(AG125/$F$64)*(1-$F$64)","v":38375.77032278882}]
["California",8676.8180429426047,{"$f":"(C126/$F$64)*(1-$F$64)","v":8393.4725615510306},10354.934103301248,11236.149639051471,11320.255077940481,13864.720057643319,10252.89220762022,10131.292042448336,14646.489357153956,15313.342029883181,18017.896623674013,20494.016648574925,24592.328662848111,26929.115131266812,24637.128053046868,18902.766795863612,19524.489046413924,24667.943036555749,20775.69232983073,15444.857971993773,18602.170508685602,17574.195292809916,14870.767997113664,19284.277221817287,18292.476671035798,17473.414897377585,14930.549770021096,14622.123498781124,13174.471237275013,11836.840493816504,10499.209750357999,{"$f":"(AG126/$F$64)*(1-$F$64)","v":9161.5790068999922}]
["Colorado",4834.739692659341,{"$f":"(C127/$F$64)*(1-$F$64)","v":4225.1327787979362},4051.652500883732,4979.7138063463963,4520.6925540223629,4160.8011461927572,4019.3859651866887,4794.055021840436,5312.8626560347693,5183.6132391937035,3556.3253635814772,1480.9614379964148,3965.0498174663007,4615.954936439065,5456.0503899370287,6686.7256238523214,6157.5630056694417,5743.6748866789503,6214.3692863719634,6234.7951253439769,6505.2357818187875,7272.3615929493299,8257.8969364995446,9426.6927771712453,7968.7292505430141,8016.1923501643896,7854.5633424782663,8368.4366130170511,7284.5454295875215,6834.6115862331844,6384.6777428788473,{"$f":"(AG127/$F$64)*(1-$F$64)","v":5934.7438995245102}]
["Connecticut",195.20530218425213,{"$f":"(C128/$F$64)*(1-$F$64)","v":207.21381938079315},234.58075643299637,419.30690374671138,511.06403434407264,402.4437930721657,228.83744646773044,294.40373889078319,393.99068405559535,378.27195174978959,640.82694387179993,837.99105527522909,992.50572210039411,780.8483202832947,380.4682581144337,129.12985492194483,264.87574048410795,317.40192137443029,280.87263725480994,147.72051332584638,218.9287185310547,311.49024870672707,320.49480657475851,233.26665978450492,211.1989455693998,267.24827189961218,303.11576317438664,149.22280050624613,207.7554996019899,210.33520822475035,212.91491684751151,{"$f":"(AG128/$F$64)*(1-$F$64)","v":215.49462547027198}]
["Delaware",62.687588438385369,{"$f":"(C129/$F$64)*(1-$F$64)","v":29.830563263229134},39.643316326051796,32.863531946264914,55.011767453839987,47.024977033392041,73.979547466582417,57.207260472095435,267.46923100184461,457.82590424827504,39.305506459325898,33.227368897425549,42.323021560978553,46.40493596982693,56.155332476191361,79.118541065129222,76.353163343938121,132.56163445085042,209.62566253841237,212.90263513802387,210.95711057652701,205.56814852122162,242.74268744245316,490.0138164610882,456.51397652348641,525.83006691338176,499.79186674466445,505.91843552796871,507.71556237107086,510.46571102490924,513.21585967874864,{"$f":"(AG129/$F$64)*(1-$F$64)","v":515.96600833258708}]
["District of Columbia",0,{"$f":"(C130/$F$64)*(1-$F$64)","v":0},0,0,0,0,0,0,0,0,0,0,0,0,0,0,0,0,0,0,0,0,0,0,0,0,0,0,0,0,0,{"$f":"(AG130/$F$64)*(1-$F$64)","v":0}]
["Florida",981.96854852080446,{"$f":"(C131/$F$64)*(1-$F$64)","v":1039.2254231226036},1073.7140211532626,1356.4077409721158,1428.6982391050685,1643.1351166474276,2292.5284957992744,2222.6886103351303,1809.8334412581428,2147.9710865786374,2639.3995835249393,1361.1316567970209,1454.0423836888597,1191.9173806909482,1351.1730436151786,1103.6389325975674,936.53312144617144,1309.2176546218409,481.91234419984966,969.2925450546976,1138.4851319237414,651.12092688120242,839.03484980724738,1308.365809837529,1134.762716618648,744.77695018044835,825.71684492508359,693.25437181539212,486.3392943699767,338.06059739571634,189.78190042151559,{"$f":"(AG131/$F$64)*(1-$F$64)","v":41.50320344725526}]
["Georgia",1197.6652996190828,{"$f":"(C132/$F$64)*(1-$F$64)","v":930.83237660857503},2315.8764172300134,3554.4196929930208,1587.1901697704175,2530.368331211333,3317.0497006781015,3340.4624187044642,2703.0187246937176,1827.1297944423416,1596.706864747795,1780.9094881027236,1654.8478468739866,1955.5251975753933,2121.0669436215394,2126.5215156188574,2541.1720112909161,3299.7408761826109,5036.1242584731399,7328.5152987327438,7688.3429944285772,6145.0271688976345,6497.1497631389338,6711.8702274554453,6985.0312564846126,8562.6141787130564,9322.506629294443,9521.7819523058042,10500.511979471401,11304.606346594328,12108.700713717506,{"$f":"(AG132/$F$64)*(1-$F$64)","v":12912.795080840433}]
["Hawaii",356.35362215472139,{"$f":"(C133/$F$64)*(1-$F$64)","v":352.82912113751701},349.25663268338616,349.33959401502187,347.56731223429375,336.18317394872372,336.18317394872372,339.73424428128857,330.28261701499798,292.3795908450565,276.26665665624949,276.26665665624949,276.26665665624949,276.26665665624949,276.26665665624949,276.26665665624949,276.26665665624949,276.26665665624949,269.45244061267925,262.10412710727104,275.80142252197857,289.18449511522925,298.61687318365676,296.45987856112765,291.37104132321031,288.90958403588735,292.50484618889863,295.49791903362228,291.23959266817445,290.3008561850566,289.36211970193881,{"$f":"(AG133/$F$64)*(1-$F$64)","v":288.42338321882079}]
["Idaho",11236.441630404972,{"$f":"(C134/$F$64)*(1-$F$64)","v":12039.486986979158},13465.83031717381,13993.185679681252,14075.634874207641,15441.030906120015,19096.023320100812,21615.913852018923,18351.360780645689,17780.521480165298,17328.268083140683,17419.212680695848,18222.6072339862,20286.18170366871,24111.332146681805,26204.813363072612,26521.604732424679,25235.73716815728,24095.919232618111,18768.978906174238,17318.818624798096,24941.458142379415,23381.442959913496,22406.44506105833,13234.004636074415,18060.201209383515,27735.109139615077,29307.329959345469,27445.790087625879,29135.090886957383,30824.391686288873,{"$f":"(AG134/$F$64)*(1-$F$64)","v":32513.692485620883}]
["Illinois",24100.749425704456,{"$f":"(C135/$F$64)*(1-$F$64)","v":20815.680776141005},19716.075228284437,19748.96966739347,16802.515826365143,15915.440401000624,14111.596442548025,12649.850855212873,14330.456568866977,11266.467125686002,11664.302769235903,13268.011733043033,12161.064920683086,11367.922598620857,10283.133510809686,11493.731018007282,12713.455627262121,11220.010677778229,12470.26126145854,11913.071540071387,9344.9915902068915,12465.015448367625,13178.811492375922,13291.092605742853,12919.495245573258,13595.69489500011,16220.050281490841,19741.267514898769,19463.053107919251,20736.439820969161,22009.826534019077,{"$f":"(AG135/$F$64)*(1-$F$64)","v":23283.213247068448}]
["Indiana",15548.597321587777,{"$f":"(C136/$F$64)*(1-$F$64)","v":12748.84243082124},12236.712370477193,11172.005347231128,11701.708027416031,10526.17550972314,8744.3499224714051,7630.7599679249552,8791.9873493354007,8418.0741208820418,9176.4334135209447,10527.200055057296,9683.9599333055958,10138.629782450696,11760.70898779042,13170.425348878676,12243.567796071118,12459.311721259935,13661.609299677477,13653.948118927927,12598.237520086008,14884.862747796928,16192.494919191953,16191.631416442735,16369.69110564014,14259.860000145984,16625.832590372691,24418.292712012095,21919.075758875228,22816.811292238061,23714.546825600893,{"$f":"(AG136/$F$64)*(1-$F$64)","v":24612.28235896401}]
["Iowa",25503.632592666741,{"$f":"(C137/$F$64)*(1-$F$64)","v":24356.422694032644},26331.405577262172,28473.142092656839,26572.507202807923,27697.685445583476,24530.071876880211,24169.159448217473,24798.446633528012,24217.145800682167,29519.258728614463,36881.778413161192,35451.673084803879,32240.750176485737,32336.675165093675,31403.974260715062,30919.808947018824,30401.55737063882,30661.90033169934,24845.749232795381,19466.596406051711,24739.169948727893,25235.27220513847,27848.503453072517,29586.652881488135,32661.965733090998,35219.746277636834,32528.512767691853,36192.929551335881,38102.45897453306,40011.988397729765,{"$f":"(AG137/$F$64)*(1-$F$64)","v":41921.517820926951}]
["Kansas",21344.428587665705,{"$f":"(C138/$F$64)*(1-$F$64)","v":18320.045046876905},18045.916948991708,19457.05612402907,19360.685963831111,16301.709174442987,14968.327811962659,21015.922319163376,27275.83412321781,27705.170943513094,32588.742055534876,39011.758006508862,42525.763601914914,42445.163143729776,43191.958548531227,41087.099700625964,45431.384471966136,50026.264790130554,44949.034005178306,43752.137589011887,38401.349675339232,41819.972513063069,46432.582698036807,44097.779710344403,46485.118910199257,53933.620694868921,56142.946295155052,55802.344978769237,61102.239433671937,64666.555107683162,68230.870781695397,{"$f":"(AG138/$F$64)*(1-$F$64)","v":71795.186455706629}]
["Kentucky",17569.955046970754,{"$f":"(C139/$F$64)*(1-$F$64)","v":15838.648843953239},16206.235050849789,16460.789696778211,16219.300376120565,14302.69786997094,13871.193210434607,14271.080113576523,16040.28175153102,15884.220099874767,15247.556947281599,13928.571002532844,14076.078147989419,13738.182066546331,13244.321663898163,11761.374847367206,12658.637165133301,12951.92661947172,14028.248771377714,13588.478885840579,12402.796076333601,13532.066535905591,13436.264362602333,14257.875434957836,14671.158153119755,15962.255534665761,17230.604973300338,16943.569719996962,18121.465373552757,18982.22076179224,19842.976150031725,{"$f":"(AG139/$F$64)*(1-$F$64)","v":20703.731538270953}]
["Louisiana",10699.536225718222,{"$f":"(C140/$F$64)*(1-$F$64)","v":7858.3714302696244},8929.5136501421784,8730.1339831762434,9526.0427674215152,8749.3463093364862,9451.2965054259585,10201.506338366697,13081.750529978593,13103.960308696234,12950.331376088241,12814.239547195464,15016.529430104871,15385.933195064445,15323.547358136228,14004.988149126017,12473.887159658854,17508.500220542002,22036.913600715747,20698.352035086511,26002.014930119989,23887.734548764805,22458.610387267581,23379.223337619045,25830.91667266249,36631.103700621796,36055.012893625761,35164.25969235324,41442.961190813956,45095.170250995601,48747.379311178265,{"$f":"(AG140/$F$64)*(1-$F$64)","v":52399.588371359925}]
["Maine",420.17040649592656,{"$f":"(C141/$F$64)*(1-$F$64)","v":591.50751667620784},897.29620719894967,669.40685150484728,495.34123530632399,521.51933105387798,654.60204942434882,826.01588528062018,911.91149957090772,925.03240351157092,715.47723099350264,808.75803049214744,915.50350833836455,1005.5347178991472,1207.4560923294134,1455.4204635865865,1655.4310162346026,1655.4310162346026,1573.3724990901992,1326.3567608375797,855.45658450825374,369.52685137971702,459.33195064447273,339.5913664323603,120.08842535096419,194.15500088112526,330.98724610297592,311.73608257111403,245.85727329863283,239.48447433636139,233.11167537408986,{"$f":"(AG141/$F$64)*(1-$F$64)","v":226.73887641181835}]
["Maryland",927.79479896267037,{"$f":"(C142/$F$64)*(1-$F$64)","v":1279.9214599359125},1359.1972479695014,1278.3424834802049,1424.3915699775077,1176.5936636145323,1357.7747051358651,1669.8201983105337,1565.1403491758613,1627.6560504107922,1946.6529440532388,1673.5412580383129,1673.5767741639479,1535.1918506862871,2077.1416296750472,1364.0260854785345,1049.0178425257116,1125.4130287663932,1436.7126833027287,1199.2738276602424,863.35282236410603,1196.7733297462671,1392.6699763608171,1616.7203371007956,1411.6442631446682,986.35926344185259,1195.7433621028551,4464.2330250982559,3028.407441217837,3084.8738408959957,3141.3402405741554,{"$f":"(AG142/$F$64)*(1-$F$64)","v":3197.8066402522991}]
["Massachusetts",538.00694681235996,{"$f":"(C143/$F$64)*(1-$F$64)","v":519.31950018821669},542.38302149841354,423.43707670794919,444.07736801108649,567.90827121139591,366.7997009387895,401.28721450759696,520.4050465015157,786.01686546729354,663.28235319879752,658.72517338355215,454.07556405050673,409.88591252772414,591.44787127437826,608.47094007201235,545.27609460261249,579.25255552392548,431.52987327437614,403.75572079695434,361.89983117848675,239.19595495729408,170.33316962130382,174.32859819749928,146.64879390115337,146.4565730379843,127.69619635433121,180.35922623768676,141.00953458738189,129.49823513500152,117.98693568262112,{"$f":"(AG143/$F$64)*(1-$F$64)","v":106.47563623024523}]
["Michigan",14902.208986226291,{"$f":"(C144/$F$64)*(1-$F$64)","v":13881.908235757834},13136.391140363774,13193.168682827234,13751.923282666025,12452.887369251959,11603.915595499901,11864.67363433406,12462.928672649976,14721.803877159671,16352.104930026142,14782.111885180517,14572.36747406937,15802.806024185586,16789.413087160494,14645.285062267923,15136.441088174048,16967.103788212942,16516.055228305286,11782.131447203914,11080.578435267535,12515.887282703565,13719.217539919146,15970.865077304405,14215.991891562155,14777.701921061604,16109.626037929051,11943.984666523942,12619.038759277819,12255.872070805237,11892.705382332653,{"$f":"(AG144/$F$64)*(1-$F$64)","v":11529.538693860066}]
["Minnesota",43845.741558142276,{"$f":"(C145/$F$64)*(1-$F$64)","v":41984.772216087375},46116.507073506706,51211.669706288107,59570.533294542962,66695.775166032152,62321.833074209513,61750.107226165557,64249.505766938724,61429.445412465677,63453.529474943192,64576.578919104359,68252.63022666295,75746.915821777045,80295.070474379085,72050.073753833407,72890.178154141657,79843.759474703358,77859.261794304708,79867.761326630512,84636.785071131308,93106.316906864537,96359.925589232967,95232.538026550552,98725.572298673316,104946.24556178773,107899.93330559615,105959.9222211571,112003.03721842018,115608.33560698689,119213.6339955536,{"$f":"(AG145/$F$64)*(1-$F$64)","v":122818.93238412132}]
["Mississippi",11770.149770438196,{"$f":"(C146/$F$64)*(1-$F$64)","v":10666.149440928633},10815.144196929932,9493.5056584925369,7686.6867500659555,8895.9078040585973,12036.384612737631,10326.522558370638,10539.598436289429,10594.675542569819,9928.7630982658011,10637.553537483278,11572.545909754002,10300.069009312816,9243.4943654907565,10185.005980181459,11100.768674902321,9493.8871179487815,11189.927434903613,10087.347479303984,7663.7007677781357,8998.1110134400278,9655.4781694701051,10244.273718171304,10068.816737417374,9982.6632923219058,10106.622433136148,10208.790604455105,10061.70108803692,10028.860346949839,9996.0196058627662,{"$f":"(AG146/$F$64)*(1-$F$64)","v":9963.1788647756821}]
["Missouri",35771.488204913236,{"$f":"(C147/$F$64)*(1-$F$64)","v":30910.856714435125},31217.391785827123,31235.42394637753,28559.248092546306,24663.788192087388,22177.202839204547,24214.876022027085,26466.038804964748,25144.624750130602,24971.752584199599,27321.072449350937,27000.472178861124,26897.186676551959,28925.406063184499,27685.435093394066,31973.225909044937,34606.871337986086,31548.191420029798,32167.807374549138,32374.60665838722,29884.513071414938,30782.524481204917,33509.792857358858,36785.159368968336,37244.982038600589,32426.833527806539,33815.204397917347,34581.732638644033,34396.09359574785,34210.454552851683,{"$f":"(AG147/$F$64)*(1-$F$64)","v":34024.815509955515}]
["Montana",9631.732521655349,{"$f":"(C148/$F$64)*(1-$F$64)","v":10295.02219497164},12882.827963683041,13639.745464290443,14616.261338622173,18234.413499047445,22943.502832635211,25287.058511930642,28215.18196539941,27374.375647157816,27123.210486746102,24167.541431135109,25501.441166380431,23974.236377230056,22361.222188506577,20874.53696085823,28921.342584627131,35981.209300094575,33776.902047026022,33606.789294276023,41715.284530464516,50068.31750957507,43542.658871054358,47105.265437679423,49758.007968709098,48157.055435812894,48076.655060839352,50254.745426771035,50588.083880269594,51120.444755595228,51652.80563092087,{"$f":"(AG148/$F$64)*(1-$F$64)","v":52185.166506246373}]
["Nebraska",8489.7169241742176,{"$f":"(C149/$F$64)*(1-$F$64)","v":7561.7589137029054},8614.6520806547651,10742.05255260422,11185.431256067512,10993.811998110536,9901.5772663427888,11630.481657474811,13137.182526399871,13805.928398406259,14728.365413591853,17635.531912896859,18693.434209140552,18717.998354537685,18905.584227753669,18177.736811536168,19096.51403908859,21055.716917917707,25125.896636187033,22663.517285174887,20722.138621336166,25403.863186795428,25468.726747938741,26077.700064963432,29068.659407028772,34160.422523021349,35179.271179070718,30369.250961168556,35804.233256727821,37960.899369660896,40117.565482594931,{"$f":"(AG149/$F$64)*(1-$F$64)","v":42274.231595528006}]
["Nevada",30.322095597397713,{"$f":"(C150/$F$64)*(1-$F$64)","v":36.916979231512791},24.32475044343019,24.407711775065927,52.531603199579571,86.778095121902894,78.02404794155585,119.41334784843812,147.73162905982372,122.57374079901898,140.01622521770051,163.75346845310901,204.38201837120087,150.74209515944196,163.50838007468187,169.62257599314282,208.73179485735676,197.96064863331736,238.3866753006514,265.00479144443017,276.6519117289763,271.28762118079123,220.51257506509381,215.6183987295112,279.75753935605911,229.59494307096654,220.64243937180461,222.81893692417751,238.14964155870391,240.72062929244456,243.29161702618526,{"$f":"(AG150/$F$64)*(1-$F$64)","v":245.86260475992503}]
["New Hampshire",94.038024986418165,{"$f":"(C151/$F$64)*(1-$F$64)","v":69.403118453473979},108.46380764983562,189.32290998653806,212.93056003069864,219.96275290640989,162.91355274916296,117.72484074573435,148.54985552674083,148.08028354506408,147.21867860408904,139.56183570194398,75.767825059619341,57.345800473617864,80.285964248212466,103.0387872379695,73.618421670050409,67.681806379763941,99.782690528998401,229.85467168438822,397.10254733832397,314.02219601439413,62.705753174397103,22.533761695764657,22.863709214067558,28.391753501821167,33.139527487458302,25.886347886429689,31.313727105130596,33.564713877863603,35.815700650596625,{"$f":"(AG151/$F$64)*(1-$F$64)","v":38.06668742332964}]
["New Jersey",932.99669134860142,{"$f":"(C152/$F$64)*(1-$F$64)","v":735.087012422302},347.2210977882192,381.21274117545238,331.44000892595528,324.68272712958594,411.71431520926461,457.88121180269889,618.98940668466457,872.97281233283377,720.75422236264615,765.18625110922733,951.20426360347903,907.64956449471902,738.41359915161718,636.03714698941928,626.06579138082236,571.57646342391706,536.90811584138089,522.41970550604219,417.35649910688318,332.70042471280016,523.28022598516588,622.35150953961477,551.76307428250846,497.98596664654161,525.52695982590205,649.49139640864712,548.83638646769828,528.52325663429519,508.21012680089217,{"$f":"(AG152/$F$64)*(1-$F$64)","v":487.8969969674805}]
["New Mexico",1998.0933075147993,{"$f":"(C153/$F$64)*(1-$F$64)","v":2330.9338989218986},1535.3488265392841,1391.2588203766209,1642.547609439406,1477.304361517871,1538.6499284150905,1022.9061700665588,1261.1345139368989,1748.1991363929756,1263.2546368564788,1470.859133619256,2004.6884622643772,1531.3298109178199,1733.5260964274282,2460.9725328753566,1735.4493895209703,2088.2736305801559,2350.4262873552789,1807.5598669865828,1213.2444074615148,833.83919307696237,629.33842613302807,888.10295296876643,1399.7075915457858,1762.2537619877351,1827.6782610237112,1458.165564813436,2015.8201307664583,2246.1992146945609,2476.5782986226632,{"$f":"(AG153/$F$64)*(1-$F$64)","v":2706.9573825507655}]
["New York",3944.3048755944988,{"$f":"(C154/$F$64)*(1-$F$64)","v":4506.6184081142774},6521.4601444628324,7189.7825341162315,6698.0693659339249,4320.6177470096491,3866.2341957933309,4608.8438489636619,6930.0604274656644,7539.2763928296217,5966.7630586412333,5593.4891204493006,4328.7905226376197,4428.6138804860466,4967.3319631574941,4686.5322559621936,4688.3612008746595,4049.6779669677089,3820.6943892654963,3748.0446631442514,4592.8247207250042,4739.5049640198495,5557.9307008021888,7052.4498097499381,7463.8135726657219,8250.9680386151831,8353.4035939482856,8437.7498022483342,9036.3902135444132,9436.0007817066653,9835.6113498687901,{"$f":"(AG154/$F$64)*(1-$F$64)","v":10235.221918031046}]
["North Carolina",1515.8290554441551,{"$f":"(C155/$F$64)*(1-$F$64)","v":1325.8009741387129},1468.8927331671186,1489.5172997734101,1972.3067024956181,2835.1744992966642,2172.9381095535878,2260.1301979872806,2182.0364733717693,1795.9162712030538,1725.030693398651,2187.2925888502723,2305.8551763762493,2360.3754114959206,2384.9883576763732,2279.7757666571774,2446.75713581112,2173.2347098699579,1838.7571232980986,1508.8136717271409,1619.655433101738,1430.5770692627013,1305.4456251870438,1488.2712531060968,1718.514433248766,1759.9113243886088,1800.0141814242111,1906.5812212286587,2049.9208097032838,2157.4428009033686,2264.9647921034853,{"$f":"(AG155/$F$64)*(1-$F$64)","v":2372.4867833035705}]
["North Dakota",17209.521137099964,{"$f":"(C156/$F$64)*(1-$F$64)","v":21222.192656733412},23751.530749185873,27321.708757342276,34168.37813516357,41696.426009983305,40908.179762064894,38174.730224473176,29455.354645094219,39218.827592463407,48128.312858902129,53053.502092281451,58699.351199842342,60338.420126777768,66548.562994199165,69743.979724734381,68736.899648696926,69206.887250378248,66027.975215875675,68822.887984475499,88234.044531757521,89496.586134946672,103242.74929848872,112367.22072239757,103224.76566760619,97538.28692566535,102815.15575061967,119843.3620806931,107728.20635711723,106229.32123692941,104730.43611674164,{"$f":"(AG156/$F$64)*(1-$F$64)","v":103231.55099655439}]
["Ohio",16474.619025423333,{"$f":"(C157/$F$64)*(1-$F$64)","v":13629.706872047056},17144.06112193835,24376.498794057563,21910.674921089754,20359.829948039674,14678.141816327614,11752.740362105982,19323.352280133182,25796.722234909037,25826.915821777038,27088.502827421453,21938.850053336755,12042.538120398207,12519.218749511212,12659.62809215006,11062.504794051309,9618.2152469079792,12366.813089871648,11650.022033345116,10455.633164094717,8971.0474545907673,8980.0945775864675,10985.641120290802,19467.95171225056,27758.598583317431,13138.020544295576,13225.253163561461,18762.758094343248,19413.741706341469,20064.72531833969,{"$f":"(AG157/$F$64)*(1-$F$64)","v":20715.708930337914}]
["Oklahoma",22782.840351574188,{"$f":"(C158/$F$64)*(1-$F$64)","v":20123.43380246736},20084.5102976952,20106.225290693128,21014.32436462527,18688.303077890429,18084.402873406805,23568.393609599989,29149.105058284611,28048.980053201198,23646.043247087335,27165.031131354397,31961.746880347368,38130.216318856808,34775.135083279376,27116.371328079949,26285.181746421538,25439.52056358648,24976.080400333267,26106.497678313164,26064.808524704353,25138.867884392199,23257.359377101795,26053.087932129369,27630.029666288145,30282.499184046734,31636.321296849532,31539.90831756443,33999.928815699808,35669.227472209815,37338.526128719313,{"$f":"(AG158/$F$64)*(1-$F$64)","v":39007.824785229321}]
["Oregon",12788.412003741392,{"$f":"(C159/$F$64)*(1-$F$64)","v":12692.334919358793},12932.868558009844,13291.30949811314,14407.211525326877,14639.076247052924,15128.647331963159,15996.317125842412,17310.689227644183,14320.870197215643,10700.102314804677,16352.010310729602,26333.401258184302,29336.697167156239,24502.192802718659,23817.461963021935,24826.976655915896,26097.06231797464,23099.480709613443,20035.035521339396,24580.532971289918,26552.157818396434,26291.327120618225,28000.100917517291,28902.664898159648,25396.073226201017,22291.488309188418,26759.89028818189,23722.439637891552,22322.352933144382,20922.266228397213,{"$f":"(AG159/$F$64)*(1-$F$64)","v":19522.179523650051}]
["Pennsylvania",5104.6964080329417,{"$f":"(C160/$F$64)*(1-$F$64)","v":5301.164566043205},6931.1467871253526,8341.6651077527549,7572.4245960118915,5850.6074341945414,6296.6617761608168,6274.400214389766,7880.2016473392632,8679.3857774913686,8389.7870179488873,6752.9802784355807,6898.8281972594386,5049.1996150160421,4910.376568950398,4770.8038886299391,6244.2074408681528,7375.3754375647159,5750.67942577745,6573.5425093404492,5209.9317727510188,5048.3146941452605,5250.6687688542543,6965.8048323202993,9141.3312811978285,8221.7111556713699,7410.8357134142716,10896.455387181839,10811.334982954262,11317.74050875568,11824.146034557098,{"$f":"(AG160/$F$64)*(1-$F$64)","v":12330.551560358517}]
["Rhode Island",16.810514274750492,{"$f":"(C161/$F$64)*(1-$F$64)","v":45.392590831500698},467.65600870072092,809.86906165895562,110.74903988629833,22.227401222730737,48.936341046568252,55.606594779358936,79.53578776247366,106.02919079333597,121.31847620596849,110.84555699107717,51.620113013437951,15.02169445078785,10.394566846124249,11.018945757095143,17.504569859676895,5.7546968147061373,17.432182031092768,25.999159542065126,13.011102178204194,15.121464941121021,16.650556151661991,10.670833502780496,20.521000499478102,21.93486763830278,17.105759013807074,42.249163829282544,43.75364624856978,49.132686131224474,54.511726013879176,{"$f":"(AG161/$F$64)*(1-$F$64)","v":59.890765896535363}]
["South Carolina",829.04695615541607,{"$f":"(C162/$F$64)*(1-$F$64)","v":341.81559768967918},292.29283389694064,356.50517569846119,575.48649062931122,821.89438801419396,654.65383247775549,810.95325239494014,1231.1239300063296,2038.8942868672711,2261.8005403539728,1983.6154706825125,1689.0243910068914,1738.3454448952605,1288.0725463268548,1315.3711622824169,1348.8585309087268,1391.3393416690913,928.40453763864684,661.73292832854202,905.26862849986594,854.21026672547794,729.35319149823624,992.47291712938772,952.50832897984469,1600.2828777029429,2467.7501483314409,2583.9298297255768,3011.9892489547424,3471.4158039908639,3930.8423590271127,{"$f":"(AG162/$F$64)*(1-$F$64)","v":4390.2689140632328}]
["South Dakota",22077.867760304733,{"$f":"(C163/$F$64)*(1-$F$64)","v":23013.695710431999},22235.821797891764,25310.284973634018,23687.534486408251,18522.805523664727,17960.267507541703,21644.429505287269,26636.14044198077,36299.300125860136,58238.149636965958,63064.592111999882,65110.804618556176,86153.107827833344,89208.387686769871,86501.10756923091,93985.447564705362,81534.54801402711,74513.143364814008,81096.396145572318,87239.999416058999,104866.29090063515,116404.92623052529,106704.74356126843,103170.09794567472,93455.500067257482,93454.056648533209,110403.12013071019,98832.764887667101,96193.137484493127,93553.510081319168,{"$f":"(AG163/$F$64)*(1-$F$64)","v":90913.882678146256}]
["Tennessee",15098.109428457323,{"$f":"(C164/$F$64)*(1-$F$64)","v":12780.537184007106},13155.085364874491,13316.94427847312,12260.429822283812,10422.399830657112,10310.262408485496,10193.476711703115,9555.5867616404994,9843.0068373234208,9692.3165252173876,9045.8541753345398,7939.7076958209645,8183.522373803572,9496.5437783693651,8633.5916646593687,7306.7468959886382,7572.4424896324408,9200.416287365706,7814.816731160864,7256.0138727696849,8968.3894385928688,15102.108923765461,20820.86423267546,20931.581552052605,16810.115735020088,19659.295788012732,20195.263055299874,18956.242504406888,18685.384684702789,18414.526864998687,{"$f":"(AG164/$F$64)*(1-$F$64)","v":18143.669045294588}]
["Texas",22574.408139303298,{"$f":"(C165/$F$64)*(1-$F$64)","v":32049.114922716453},30191.790456944262,33250.892772791682,36410.227288605543,34195.795228576397,34636.232058152185,38133.138672431,42525.788815652952,43064.468128813212,44373.719130636986,50692.162594199588,53506.138575455079,42099.569552065121,21111.915357752496,21227.859783253611,19665.6304008025,18917.407301973617,20151.933731038862,22890.511417610618,21128.458552180859,18884.878326508526,17473.131039487966,20727.730377757685,24030.133878901066,27279.156643215181,27143.804417305091,26415.921812467212,30013.764562822216,31866.864250313083,33719.963937803957,{"$f":"(AG165/$F$64)*(1-$F$64)","v":35573.063625295312}]
["Utah",1039.055975958315,{"$f":"(C166/$F$64)*(1-$F$64)","v":499.06771734336041},555.48603181852775,708.96124195908033,644.59843107567133,565.58698061837265,738.46782224418951,922.89465808690511,1127.1980529738757,1355.9167508688727,1398.217269846434,1015.6785029421242,488.63410987058404,456.94315230119673,886.15390390625248,877.42154596293426,874.00467778448626,1457.9234015397271,1432.1541479101691,1339.3968723703103,1602.2677140065546,2318.336518940022,2571.4775688450791,2744.9068770522658,3113.5547721013841,3195.7401712824076,2257.7367906811355,2849.0558609080804,2740.0647356894247,2635.6655170782074,2531.2662984669905,{"$f":"(AG166/$F$64)*(1-$F$64)","v":2426.8670798558082}]
["Vermont",553.27698302712929,{"$f":"(C167/$F$64)*(1-$F$64)","v":530.23108422201847},567.8150074921715,608.454130913315,601.70200031074,423.43490778424632,499.76339962106402,750.27381618997265,1071.1102282479371,994.00743064918595,857.98500731490367,1032.5044707982579,693.19831783282802,688.38683171341847,828.70941740415299,704.44716950243014,714.35996417104877,665.4409745141038,707.28357947489098,1202.044356575228,1095.4021737203611,865.6798063818494,972.1698934620506,1449.0590103659954,2211.2266619117186,2098.0465296699376,1909.3821591426913,1838.4809789881599,2233.4005524488812,2370.3736059587259,2507.3466594686029,{"$f":"(AG167/$F$64)*(1-$F$64)","v":2644.3197129784494}]
["Virginia",2141.5781839643546,{"$f":"(C168/$F$64)*(1-$F$64)","v":2427.0849978258625},3781.641562417557,5100.8641909653898,3698.9155590035884,3206.3567816926156,3198.3060080229325,3429.8697915852017,3963.1452313396962,4834.7819866715463,4727.6113997795619,4047.508772149351,4468.0872074168856,4088.0874368222767,3392.3601539518722,3120.7344517888923,3434.9157925799873,4044.7639992033373,4083.147713088933,3630.7948166894507,3670.1043898807193,4043.2311123763166,3873.409537633433,4384.5850004327422,5016.9992314919373,5526.2351342699321,5555.8574808576832,6037.0316790187726,6540.9093635913541,6951.2905982773218,7361.6718329632913,{"$f":"(AG168/$F$64)*(1-$F$64)","v":7772.05306764939}]
["Washington",6874.4017785174356,{"$f":"(C169/$F$64)*(1-$F$64)","v":6326.7946331651374},6514.7221118643256,7880.1373929745632,8844.9164078035374,9151.6702693740663,8869.7508553171483,8058.7439220605602,7793.7562108902903,7338.6913465158013,7860.0203545147506,9653.0443659599932,8964.9037070868526,10228.136112475377,10971.463408275904,11939.752283887085,12871.38607780388,13959.431533439483,13988.661575952474,10190.587163099934,11518.297603443583,12529.580240270865,10379.291116484759,10854.841194117629,10313.810496547971,11746.73298567989,13359.023296117522,15635.043371798543,15689.503997417511,16688.667467963554,17687.8309385096,{"$f":"(AG169/$F$64)*(1-$F$64)","v":18686.994409055642}]
["West Virginia",556.5558534349808,{"$f":"(C170/$F$64)*(1-$F$64)","v":561.92149956048013},612.65886062683967,671.41066589085938,522.24131153147903,374.1881395327012,447.46604018139709,621.20062439976596,1064.8100471219532,1354.7571900342125,651.05802809381839,1177.4880735265135,1238.9691981551637,1416.8819427716967,4662.1738872013675,7018.5335364613793,5699.3613353896408,3632.4011758069073,163.9177644236033,350.03717410096544,503.55738940835312,463.28589855485035,569.38666383038185,533.04173822550763,396.88050377424008,518.7450065224125,537.27059721522721,105.74665058949036,207.17612140720794,166.69164682830956,126.20717224942243,{"$f":"(AG170/$F$64)*(1-$F$64)","v":85.722697670524028}]
["Wisconsin",16355.73896169034,{"$f":"(C171/$F$64)*(1-$F$64)","v":14795.148472212228},15458.017374330162,15257.204862143,15752.25383498036,15789.444369713901,16953.766534132916,18373.407618970155,18186.484623060871,17955.946740410069,17423.549172524323,15133.5659086904,18347.099116684967,24040.399665902329,24058.958332681614,23497.746613402909,26655.840504858701,26283.049423306129,19695.983132447203,21199.956037584947,26629.589479051643,33420.065026001015,39133.411310311465,41151.152355419865,40683.895970911391,40796.835081506695,39512.388975611073,35264.896158180098,35943.936900435452,35068.48889812977,34193.040895824088,{"$f":"(AG171/$F$64)*(1-$F$64)","v":33317.592893518158}]
["Wyoming",1030.4377576248617,{"$f":"(C172/$F$64)*(1-$F$64)","v":1151.4628869000137},1205.5140922689341,1254.9110584869045,1409.1123158370012,1452.4411757651974,1510.6835550744995,1558.2325982976035,1564.9988269042474,1521.5230223951799,1510.39183483646,1341.6194769348517,1233.8865965728917,1241.8207905935449,1282.4580162064481,1246.9234547200681,1250.6260785963727,1326.4917763380852,1405.2199111366933,6976.3796909492257,18788.862243105068,22014.925865562185,22736.368992315962,22572.31512793,22185.85006689253,21996.010681949232,22269.039406632528,22493.917361200642,22169.946180917228,22097.571666803353,22025.197152689478,{"$f":"(AG172/$F$64)*(1-$F$64)","v":21952.822638575602}]
["Puerto Rico",283.77519940020915,{"$f":"(C173/$F$64)*(1-$F$64)","v":301.83284480412431},235.61424857742585,251.4940234681716,311.76407532421763,285.75569785641522,269.87185623372659,238.19879228488807,150.70847684204711,0,0,0,0,0,0,0,0,0,0,0,0,0,0,0,0,0,0,0,0,0,0,{"$f":"(AG173/$F$64)*(1-$F$64)","v":0}]
["Total",{"$f":"SUM(B67:B118)","v":492447.15175479458},{"$f":"SUM(C67:C118)","v":471296.98878311901},498839.98008344101,537232.59523191303,546684.48954693472,541381.52152083267,527166.99555057823,548344.35465656465,600391.28664099413,614599.37199231284,654802.5089442035,695616.1930383807,727902.97102922725,750857.63324542937,744395.11414482328,714075.00202815211,744856.72210977878,765615.18938979181,736145.61012970784,724407.76702005509,769797.35253665014,834875.36682443484,872408.84336929757,905391.42726649938,919416.55278774479,953493.02061207464,961766.0796808342,990735.01831506216,1006279.8537637986,1024963.408332629,1043646.9629014626,{"$f":"SUM(AG67:AG118)","v":1062330.5174702969}]
["Estimated Calendar Year Total applied to Ag Soils (metric tons) From LULUCF Spreadsheet \"Urea_1990-2020_FR,\" on the \"Urea Consump Calendar Yr\" worksheet. DC is not reported in this source, so values are assumed to be zero."]
[null,1990,1991,1992,1993,1994,1995,1996,1997,1998,1999,2000,2001,2002,2003,2004,2005,2006,2007,2008,2009,2010,2011,2012,2013,2014,2015,2016,2017,2018,2019,2020,2021,2022,2023,2024,2025]
["Alabama",7834.2756055520276,4792.0402794157671,5571.4379025673588,6210.588768937675,5763.2894856209732,11358.762587317426,17574.310078925882,14592.664428921344,12868.155674498774,13844.635761589403,13626.283225982039,13423.236868366144,11963.498140252199,11416.129910187788,12457.287489794066,13568.837884423476,12578.412410414587,13071.212918443254,10740.464483352989,7768.6818470470835,8283.4600381021501,8410.4599473827438,8639.1780821917819,9431.5921255556568,9150.1097704799067,9344.1440624149509,9967.0107956091815,10366.316868284744,10306.144939360802,10504.141867563074,10702.138795765346,10900.135723967564]
["Alaska",5454.6856572620882,5280.3810215004996,5171.8461398893223,5619.7042547400888,5577.1568538510382,5267.6494602195407,4649.3695001360793,4649.3695001360793,4698.8260909008441,4704.2946566270521,4710.4726480994277,4968.7562369590851,4904.2910278508571,4904.2910278508571,4904.2910278508571,4904.2910278508571,4904.2910278508571,4904.2910278508571,4782.8975777918895,4651.6138982128277,4894.3318515830533,5131.8007801868816,5300.1324503311253,5262.1736369409409,5172.1201124920617,5127.6948199219814,5191.4469745078468,5244.2536957497714,5168.5944106600491,5151.7508875052981,5134.9073643505453,5118.0638411957943]
["Arizona",18086.462850403699,16250.719404880703,17838.644652091079,19204.632132813207,22239.444797242129,24319.455683570715,24202.128277238502,21789.828540324776,16997.325591944118,12623.400163294929,13474.705615531162,12494.23568901388,12904.773655084822,15685.461308173819,15519.767758323504,14597.234872539237,13396.138982128276,15184.069672502948,15599.421210196861,16287.13235961172,13983.895491245576,16782.302458495869,11044.256554477002,6042.0901750884505,7176.6216093622425,10473.355710786538,9642.832259820374,8859.5283600597468,10970.572019718256,11938.467783370732,12906.363547023208,13874.259310675681]
["Arkansas",313510.1515014061,305963.61788986658,331349.77229429374,347090.60509843053,368687.70207747433,357429.7450784723,348987.52789621695,350438.47591399797,399309.62170008163,365109.9392179987,395876.61253742175,398819.17989657982,369871.60119749611,372113.55166470108,361615.20457225799,328713.80930781091,363896.98630136985,375606.37575977499,331079.25065771566,338257.14233874623,347180.59874807217,317680.34654812666,335950.63231425203,302430.91717318335,325488.05769754149,344079.8965798784,328952.2326045541,218693.29631204446,266263.56574770069,263116.53147494479,259969.49720218877,256822.46292943286]
["California",58067.936133538969,56171.700988841512,69298.405152862193,75195.770661344461,75758.630136986292,92786.972693459131,68615.509389458399,67801.723668692721,98018.813390184165,102481.59666152589,120581.30817381837,137152.26526353986,164579.43028213736,180217.92434001633,164879.24158577519,126503.13163385648,130663.88823369319,165085.46493695001,139037.32559194413,103361.74181257372,124491.44878889594,117611.92234418943,99519.755057606817,129056.31679216184,122418.88233693186,116937.46892860382,99919.833076295021,97855.749568765983,88167.615203302004,79215.778689387371,70263.942175472752,61312.10566156148]
["Colorado",32355.565635489431,28275.888596570807,27114.905198221899,33325.777011702805,30253.865553841966,27845.361516828449,26898.967613172455,32083.29130000907,35555.311621155764,34690.33475460401,23800.023587045271,9911.0496235144674,26535.333393812936,30891.390728476821,36513.56799419396,44749.625328857845,41208.306268710876,38438.439626236053,41588.471378027753,41725.167377302001,43535.039462941117,48668.881429737819,55264.387190420028,63086.328585684474,53329.18806132632,53646.825728023221,52565.15467658532,56004.152717883342,48750.419413393407,45739.323692483616,42728.227971573819,39717.132250664028]
["Connecticut",1306.3739453869182,1386.7386373945387,1569.8866007438987,2806.1308173818379,3420.1977683026398,2693.2776920983397,1531.4506032840422,1970.2404064229336,2636.7068856028304,2531.5122924793613,4288.6110859112759,5608.0939853034561,6642.153678671868,5225.6772203574337,2546.2106504581329,864.17672140070761,1772.6299555474916,2124.1513199673409,1879.6861108591127,988.59112764220254,1465.1383470924429,2084.5885874988658,2144.8498593849222,1561.0922616347636,1413.4083280413679,1788.5076657897123,2028.5439535516646,998.64489569564716,1390.3637281056247,1407.6279319656369,1424.8921358256539,1442.1563396856664]
["Delaware",419.52463031842512,199.63530799237958,265.30527079742359,219.93286764038825,368.15567449877528,314.70561553116215,495.09389458405155,382.84858931325408,1789.9863920892676,3063.9118207384558,263.0445432277964,222.36777646738636,283.2386827542411,310.5561099519187,375.80876349451142,529.48562097432637,510.97886237866271,887.14324594030654,1402.8794339109136,1424.8099428467749,1411.7898938582962,1375.7253016420213,1624.508754422571,3279.3232332395901,3055.1319967341014,3519.016601651093,3344.7609543681392,3385.7618377640983,3397.7887635602433,3416.1936045513157,3434.598445542395,3453.003286533467]
["District of Columbia",0,0,0,0,0,0,0,0,0,0,0,0,0,0,0,0,0,0,0,0,0,0,0,0,0,0,0,0,0,0,0,0]
["Florida",6571.6356708699986,6954.8162932051164,7185.624603102603,9077.4979588133901,9561.2882155493044,10996.365780640477,15342.306087272067,14874.916084550485,12111.962260727571,14374.883425564727,17663.674135897669,9109.111857026217,9730.8990293023671,7976.6778553932681,9042.4657534246562,7385.8913181529515,6267.5678127551473,8761.6873809307799,3225.1056881066861,6486.8039553660528,7619.0928059511925,4357.5015875895851,5615.0793794792708,8755.9865735280782,7594.1812573709522,4984.2765127460771,5525.951192960174,4639.4715652260857,3254.7322007836901,2262.4055364174865,1270.0788720516812,277.75220768547752]
["Georgia",8015.1446974507844,6229.416674226617,15498.557561462396,23787.270253107137,10621.964982309715,16934.003447337382,22198.717227614987,22355.402340560642,18089.433003719496,12227.714778191053,10685.653633312166,11918.394266533611,11074.750975233601,13086.976322235325,14194.832622697995,14231.336296833892,17006.304998639207,22082.881248299011,33703.293114397165,49044.679306903745,51452.756962714324,41124.412591853397,43480.925337929788,44917.900752971058,46745.978408781637,57303.648734464296,62389.082826816652,63722.694603892698,70272.657093385526,75653.904011823572,81035.150930263306,86416.397848701366]
["Hawaii",2384.8280867277508,2361.2410414587675,2337.3328494965072,2337.8880522543773,2326.0273972602736,2249.8412410414585,2249.8412410414585,2273.6060963440077,2210.3528984849863,1956.694184886147,1848.8614714687469,1848.8614714687469,1848.8614714687469,1848.8614714687469,1848.8614714687469,1848.8614714687469,1848.8614714687469,1848.8614714687469,1803.2586410233148,1754.0814660255828,1845.7479814932412,1935.3116211557651,1998.4359974598565,1984.000725755239,1949.9446611630228,1933.4718316247845,1957.5324321872447,1977.562996609626,1949.0649663177828,1942.7826529307636,1936.5003395437443,1930.2180261567237]
["Idaho",75197.724757325588,80571.951374398981,90117.47981493242,93646.704164020688,94198.479542774206,103336.1299101878,127796.46375759774,144660.34654812663,122812.95291662886,118992.72067495238,115966.10178717226,116574.73101696452,121951.29456590765,135761.36986301368,161360.45359702437,175370.67404517825,177490.73936314977,168885.3179715141,161257.30563367505,125607.78191055068,115902.86310441804,166915.91218361608,156475.81057788263,149950.82463939037,88566.031026036464,120864.42347818197,185611.88424203935,196133.66972792736,183675.67212488089,194980.99285886862,206286.31359285628,217591.63432684744]
["Illinois",161289.63077202212,139304.9405787898,131946.04191236506,132166.18162024859,112447.60591490519,106511.02422208109,94439.14542320602,84656.694184886146,95903.824730109758,75398.664610360167,78061.103147963353,88793.616982672596,81385.588315340647,76077.635852308798,68817.89349541867,76919.584505125647,85082.356890138806,75087.763766669683,83454.825365145603,79725.940306631586,62539.559103692271,83419.718769844869,88196.661525900388,88948.081284586777,86461.237412682574,90986.573528077657,108549.56726843871,132114.63644586099,130252.74002992114,138774.63572494747,147296.53141997382,155818.42711499654]
["Indiana",104055.99745985666,85319.176267803676,81891.84432550121,74766.497323777556,78311.430645014974,70444.405334301016,58519.880250385555,51067.393631497776,58838.684568629222,56336.342193595206,61411.515921255552,70451.261906921893,64808.039553660521,67850.830082554661,78706.283225982042,88140.538873264988,81937.722942937486,83381.547673047258,91427.693005533874,91376.422026671498,84311.281865190962,99614.081466025586,108365.15830536152,108359.3794792706,109551.00970697631,95431.370770207737,111265.18733557107,163414.72814961939,146689.19930939574,152697.12172497777,158705.0441405598,164712.96655614377]
["Iowa",170678.15658169281,163000.67495237233,176217.86809398531,190551.0278508573,177831.39435725301,185361.43336659711,164162.78871450602,161747.45169191691,165958.83516284131,162068.5911276422,197551.96226072757,246824.20938038646,237253.50449061056,215765.02041186608,216406.97995101151,210165.05851401616,206924.87526081828,203456.57624965979,205198.87145060327,166275.39871178445,130276.45287126915,165562.13734917899,168882.20629592668,186370.75387825453,198002.98466842057,218583.92452145513,235701.37893495418,217690.81621455314,242214.22084355552,254993.37929110584,267772.53773865302,280551.69618620339]
["Kansas",142843.4836251474,122603.37839063775,120768.82881248299,130212.60636850222,129567.66760410051,109096.05370588768,100172.65535698086,140645.01859747799,182538.27451691916,185411.52862197222,218093.88914088724,261078.68819740543,284595.49487435364,284056.09180803772,289053.87644017051,274967.51338111219,304040.80377392721,334791.15667241218,300812.76603465481,292802.76694184879,256993.64782727024,279872.12374126824,310741.13036378479,295115.91036922793,311092.71886056423,360940.38465027662,375725.87135988381,373446.46255022485,408914.9869791891,432768.4841821873,456621.98138519225,480475.47858819051]
["Kentucky",117583.54531434273,105997.11149414859,108457.11149414859,110160.669509208,108544.54867096071,95718.054975959356,92830.293023677747,95506.459221627505,107346.50095255375,106302.08836070035,102041.34264719223,93214.28286310441,94201.446067313795,91940.141522271602,88635.075750703079,78710.739363149769,84715.494874353622,86678.278145695353,93881.357162297005,90938.281774471558,83003.327587771026,90560.752971060501,89919.615349723303,95418.089449333202,98183.90456318605,106824.32550122471,115312.51020593304,113391.58197228736,121274.42211531459,127034.86202122498,132795.30192713538,138555.74183304407]
["Louisiana",71604.58858749886,52590.639571804408,59759.05288941304,58424.742810487165,63751.209289667066,58553.317608636484,63250.984305542952,68271.619341377111,87547.099700625957,87695.734373582498,86667.602286128997,85756.833892769646,100495.23541685566,102967.39907466205,102549.89385829629,93725.68992107411,83479.090991563091,117172.27070670416,147477.80640479,138519.74054250203,174013.48453234145,159864.06967250293,150299.93105325228,156460.95618252744,172868.4423478182,245146.61707339197,241291.24013426469,235330.0456334409,277349.04796929337,301790.75475666288,326232.46154403914,350674.1683314087]
["Maine",2811.9096434727389,3958.5503039100063,6004.9823097160479,4479.8766216093618,3314.9759593577064,3490.167830899029,4380.7983307629502,5527.9524630318429,6102.7923432822281,6190.6014696543589,4788.1937766488254,5412.4575886782168,6126.8311711875167,6729.3477274789075,8080.6676948199211,9740.1215640025403,11078.65372403157,11078.65372403157,10529.492878526717,8876.387553297649,5724.978680939852,2472.9873900027214,3073.9907466207019,2272.649913816565,803.66869273337568,1299.3450058967612,2215.0684931506848,2086.2337833605325,1645.3525213062351,1602.7037897894952,1560.0550582727551,1517.406326756015]
["Maryland",6209.0882699809481,8565.628231878798,9096.1661979497403,8555.0612355982939,9532.4666606187056,7874.1268257280226,9086.6461036015589,11174.95055792434,10474.400798330764,10892.7751065953,13027.600471740905,11199.853034564094,11200.090719404881,10273.976231515921,13900.870906286855,9128.4822643563457,7020.3501769028389,7531.6102694366318,9614.9233421028766,8025.9094620339292,5777.8227342828632,8009.1753606096336,9320.175995645468,10819.589948289939,9447.1577610450877,6601.0196861108589,8002.2825002267982,29876.021014119098,20267.034414303984,20644.924935227049,21022.815456150118,21400.705977073078]
["Massachusetts",3600.5080286673319,3475.4458858749886,3629.7940669509208,2833.7712056608907,2971.902385920348,3800.6168919531883,2454.7364601288218,2685.537512473918,3482.7106958178356,5260.2667150503494,4438.8895944842598,4408.3915449514643,3038.8133901841602,2743.0826453778463,3958.1511385285312,4072.074752789621,3649.1554023405602,3876.5363331216549,2887.930690374671,2702.0575161026941,2421.9450240406422,1600.7729293295833,1139.9219813118025,1166.6606187063412,981.41885149233417,980.13245033112571,854.58223714052428,1207.0194371291345,943.67919300786343,866.64203513424081,789.6048772606182,712.56771938702582]
["Michigan",99730.167830899023,92902.001270071662,87912.7714778191,88292.744261997635,92032.101968611081,83338.553932686191,77656.973600653175,79402.046629774093,83405.753424657538,98522.841331760865,109433.31760863648,98926.441077746524,97522.766941848851,105757.24031570353,112359.91835253561,98010.75387825456,101297.7211285494,113549.07919804045,110530.52345096615,78849.648915903119,74154.640297559643,83760.168738093082,91813.225074843504,106881.94320965254,95137.791889685192,98896.928240950729,107810.57425383288,79932.820460583302,84450.490158243862,82020.066935388881,79589.6437125339,77159.22048967889]
["Minnesota",293429.1935044906,280975.01406150777,308625.85503039102,342724.25111131271,398664.33820194134,446348.6491880613,417076.88288124825,413250.71759049257,429977.46167105145,411104.75006803952,424650.54340923519,432166.33584323683,456767.60228612897,506921.66742266167,537359.31779007532,482181.26281411585,487803.49995464028,534339.00571532245,521058.13662342378,534499.63349360425,566415.40778372483,623096.12083824724,644870.2712510206,637325.44679306902,660701.90692189056,702332.56645196397,722099.55366052804,709116.40255697444,749558.78753865813,773686.55367752758,797814.31981639715,821942.08595527336]
["Mississippi",78769.463848317158,71381.153950830078,72378.272702531074,63533.460945296203,51441.672865826004,59534.152227161387,80551.189331397982,69108.266352172737,70534.235689013876,70902.828631044176,66446.337657624972,71189.781366234238,77447.038011430632,68931.231062324223,61860.308445976589,68161.193867368216,74289.759593577066,63536.013789349541,74886.437448970333,67507.633130726666,51287.843599745982,60218.12755148326,64617.430826453776,68557.831806223345,67383.619704254728,66807.054340923525,67636.627052526528,68320.367891353395,67335.999589170155,67116.219244972002,66896.438900773894,66676.658556575727]
["Missouri",239393.80567903473,206864.96416583506,208916.39118207383,209037.06794883424,191127.27569627142,165057.65943935406,148416.66515467656,162053.40107048897,177118.87507937948,168275.56563548942,167118.65190964346,182841.02331488705,180695.46765853214,180004.24929692462,193577.71749977319,185279.45024040644,213974.66569899302,231599.83126190689,211130.20411866094,215276.86473736732,216660.82917536062,199996.35670869998,206006.12537421752,224257.84450694005,246177.60500771116,249254.8797967885,217010.34745532068,226301.75250913916,231431.5953509254,230189.24175615871,228946.88816139201,227704.53456662534]
["Montana",64458.51764492425,68897.456227887131,86215.84868003265,91281.373491789884,97816.518189240684,122030.30572439443,153544.98049532794,169228.77619522813,188824.67930690374,183197.74471559463,181516.87018053161,161736.62342375034,170663.49088269981,160442.9665245396,149648.17926154402,139698.82427651275,193550.52345096617,240797.32377755601,226045.42139163567,224906.97450784722,279171.51955003175,335072.58641023317,291400.87090628687,315242.93023677764,332995.89948289935,322281.83253197855,321743.7684840787,336320.21939454461,338551.02289103495,342113.74567206035,345676.46845308581,349239.19123411033]
["Nebraska",56815.797877165918,50605.617345550207,57651.902385920344,71889.120928966702,74856.347636759499,73573.972602739726,66264.401705524811,77834.76186156219,87918.067676676044,92393.520820103411,98566.753152499325,118022.40587861743,125102.21355347907,125266.6043726753,126521.98675496687,121651.00789258821,127799.74780005442,140911.33629683388,168150.23133448244,151671.23106232422,138678.92769663432,170010.46901932324,170444.55592851309,174519.99274244759,194536.412954731,228612.05842329672,235430.50712147326,203240.37181705111,239612.94564117852,254046.01885849983,268479.09207582759,282912.16529314895]
["Nevada",202.9247936133539,247.05978408781635,162.78871450603282,163.34391726390274,351.5576521818017,580.74571350811937,522.16093622425831,799.15086637031663,988.66551755420483,820.30118842420393,937.03166107230322,1095.8885965708064,1367.7873537149596,1008.8124829901114,1094.2483897305633,1135.1664701079558,1396.8973963530798,1324.8135716229701,1595.3569808582056,1773.4936042819559,1851.4397169554568,1815.5402340560645,1475.7380023587045,1442.984668420575,1872.223532613626,1536.5200036287761,1476.6070942574615,1491.1728855694955,1593.7706781236338,1610.976519110975,1628.1823600983166,1645.3882010856521]
["New Hampshire",629.33139798602929,464.46702349632585,725.87317427197672,1267.0071668329856,1424.9968248208293,1472.0584232967431,1090.2676222443981,787.85085729837601,994.14134083280396,990.99882064773647,985.23269527351886,933.99074662070211,507.06159847591402,383.77574163113491,537.2983761226526,689.567268438719,492.67712963802956,452.9474734645741,667.77646738637395,1538.2581874262903,2657.5324321872449,2101.5331579424837,419.64619432096521,150.80286673319424,153.01097704799056,190.00635035834165,221.77991472375939,173.23940508610639,209.56109678048935,224.62539287493337,239.68968896937741,254.75398506382143]
["New Jersey",6243.9009344098704,4919.4284677492515,2323.7104236596206,2551.1929601741813,2218.0985212737005,2172.8767123287671,2755.3188787081554,3064.2819559103691,4142.4675678127551,5842.2026671505027,4823.5090265807858,5120.8618343463668,6365.7516102694362,6074.2701623877347,4941.6910097069767,4256.5562913907288,4189.8249115485796,3825.1655629139068,3593.1543137077024,3496.1934137712055,2793.0781094076024,2226.5336115395085,3501.9522815930327,4164.9677946112679,3692.5682663521725,3332.6753152499318,3516.9881157579603,4346.5962682732534,3672.9819709761341,3537.040255937206,3401.0985408982779,3265.1568258592924]
["New Mexico",13371.85521182981,15599.326862015783,10275.026762224439,9310.7321055973862,10992.434001632948,9886.5753424657523,10297.118751700989,6845.6028304454321,8439.9002086546316,11699.486528168374,8454.0887235779737,9843.4418942211742,13415.992016692369,10248.13027306541,11601.290029937405,16469.585412319695,11614.161299101877,13975.369681574888,15729.775923069941,12096.746802140977,8119.4048807039826,5580.3084459765942,4211.72639027488,5943.4582237140521,9367.273881883335,11793.544407148689,12231.385285312528,9758.4926260591474,13490.488567437067,15032.256282955905,16574.023998474746,18115.791713993585]
["New York",26396.501859747797,30159.677038918624,43643.61788986664,48116.236959085545,44825.541141250113,28914.9033838338,25874.028848770751,30843.801143064502,46378.096706885597,50455.157398167466,39931.414315522095,37433.350267622242,28969.59811303638,29637.646738637392,33242.913907284768,31363.715866823914,31375.955728930414,27101.691009706974,25569.262451238319,25083.068130273066,30736.596207928873,31718.225528440533,37195.382382291573,47197.164111403428,49950.136986301368,55218.016873809305,55903.547128730832,56468.017907354239,60474.303736797221,63148.620616036918,65822.93749527575,68497.254374515454]
["North Carolina",10144.394447972421,8872.6680576975414,9830.2821373491788,9968.3080830989747,13199.283316701443,18973.860110677677,14541.970425474008,15125.486709607183,14602.859475641839,12018.824276512745,11544.436178898664,14638.035017690283,15431.492334210285,15796.358523088085,15961.075932141883,15256.960899936495,16374.451601197496,14543.955366052796,12305.528440533428,10097.445341558558,10839.232513834708,9573.8619250657703,8736.4437993286774,9959.9691554023393,11500.827360972511,11777.868093985304,12046.248752608182,12759.428172837946,13718.700803398897,14438.271052199467,15157.841301000248,15877.411549800818]
["North Dakota",115171.41068674589,142025.44316429284,158952.55193685929,182845.28168375214,228665.29982763313,279045.31252834981,273770.12609997275,255477.04073301278,197124.29647101514,262464.46158033202,322089.47836342192,355050.36015603738,392834.11956817564,403803.27315612813,445363.46003810212,466748.17200399161,460008.48226435634,463153.7839063775,441879.52644470648,460583.94266533607,590489.37494330038,598938.6918261816,690932.24530527066,751996.01560373756,690811.89331397985,652756.22788714501,688070.65771568543,802028.65392463841,720950.30408224603,710919.30366252759,700888.30324280937,690857.30282309465]
["Ohio",110253.21963167921,91214.192143699533,114733.33212374126,163135.03039100062,146632.9783180622,136254.24657534243,98230.641386192496,78652.954731016958,129317.81910550667,172639.60264900661,172841.6674226617,181284.59584505126,146821.53497233058,80592.370498049539,83782.463939036563,84722.1264628504,74033.685929420302,64368.0558831534,82762.518370679492,77965.532069309629,69972.314252018492,60037.00988841513,60097.556019232507,73519.290574253828,130285.52299736913,185769.08282681665,87923.675950285775,88507.463479219005,125566.15032368172,129922.73295782367,134279.31559196563,138635.89822610756]
["Oklahoma",152469.77773745803,134672.21083189693,134411.72276149865,134557.04617617707,140634.32459403065,125067.87444434364,121026.3884604917,157726.94184886146,195074.78000544314,187712.40497142338,158246.59711512292,181796.74680214096,213897.84450694005,255179.13998004171,232725.90401886962,181471.10042638119,175908.52399528259,170249.09915630953,167147.6149868457,174712.71523178808,174433.71858840605,168237.03891862469,155645.40506214279,174355.28077655809,184908.66007438989,202659.80223169737,211719.99637122379,211074.7710483158,227537.98515122177,238709.44539094256,249880.90563066001,261052.36587038083]
["Oregon",85583.988025038547,84941.010614170373,86550.735734373578,88949.53279506485,96417.492515649094,97969.202576431097,101245.56291390728,107052.27614986844,115848.45867731106,95839.669781366232,71608.377029846684,109432.68438719041,176231.22380477184,196330.20411866097,163976.21337204025,159393.78390637756,166149.76685112945,174649.5708972149,154588.83244125918,134080.62233511748,164500.48988478637,177695.21001542229,175949.65073029121,187385.29075569264,193425.52662614532,169958.33620611447,149181.49868456862,179085.41962090955,158757.86526896653,149388.05424488932,140018.24322081212,130648.43219673494]
["Pennsylvania",34162.199038374303,35477.024403519907,46385.366959992738,55824.989567268436,50676.995373310347,39154.065136532699,42139.198040460855,41990.21681937766,52736.734101424299,58085.120203211467,56147.036197042544,45193.021863376576,46169.081012428549,33790.797423568896,32861.7508845142,31927.687562369589,41788.157488886871,49358.281774471558,38485.316157126006,43992.169100970699,34866.466479179893,33784.875260818284,35139.090991563091,46617.309262451236,61176.601651093166,55022.220811031475,49595.592851310896,72922.432206524609,72352.780270540068,75741.801866288006,79130.823462035958,82519.84505778391]
["Rhode Island",112.50113399256099,303.78118479542775,3129.6979043817473,5419.8929511022416,741.16665154676582,148.7526081828903,327.49705161934133,372.13644198494057,532.27796425655447,709.5799691554023,811.90057153225064,741.81257370951641,345.45767939762317,100.5298013245033,69.563639662523812,73.742175451329032,117.14596752245305,38.512201759956454,116.66152590039007,173.9943753968974,87.074299192597294,101.19749614442529,111.4306450149687,71.412501133992549,137.33284949650729,146.79488342556473,114.47700263086273,282.74440408827547,292.81286335581314,328.81105333973301,364.80924332365294,400.80743330758281]
["South Carolina",5548.2373219631681,2287.5351537693914,1956.1135806949105,2385.8423296743172,3851.3326680576974,5500.3701351719128,4381.1448788895941,5427.1486891045988,8239.0601469654357,13644.907919804045,15136.665154676584,13274.965073029121,11303.470924430734,11633.54259276059,8620.177810033565,8802.8685475823277,9026.9763222353249,9311.2709788623797,6213.1688288124824,4428.5203665063964,6058.3362061144871,5716.6379388551213,4881.0559738728116,6641.9341377120563,6374.4788170189604,10709.585412319695,16514.94330037195,17292.453475855782,20157.158819927892,23231.782688246549,26306.40655656606,29381.03042488471]
["South Dakota",147751.88424203935,154014.73283135262,148808.96126281412,169384.21482355072,158524.26925519368,123960.31388914087,120195.63639662524,144851.18207384559,178257.24757325591,242926.08545767938,389747.61680123373,422047.65490338381,435741.53860110673,576563.1062324231,597009.97913453681,578892.02757869905,628979.53370225895,545654.28286310448,498664.88251837064,542722.03574344551,583836.91916901025,701797.48525809671,779017.58323505393,714100.97614079644,690446.04009797692,625432.96198856935,625423.30218633765,738851.65010552201,661419.27270977211,643754.07393468474,626088.87515959749,608423.67638451722]
["Tennessee",101041.19386736823,85531.28730835524,88037.878980313893,89121.088632858562,82050.568810668585,69749.906559012976,68999.448426018324,68217.882609090069,63948.926789440258,65872.430372856732,64863.96443799328,60537.639481085003,53134.96688741722,54766.649732377751,63553.792978318059,57778.651909643464,48898.998457770118,50677.115122924792,61572.016692370496,52299.158123922702,48559.477456227891,60019.221627506122,101067.95972058423,139339.62986482808,140080.58423296743,112498.4668420575,131566.05642746983,135152.91429316069,126861.00752949224,125048.34365916482,123235.67978883735,121423.01591850993]
["Texas",151074.88523995283,214482.53832894855,202052.75151955005,222525.20547945204,243668.44416220629,228848.78345278051,231796.32223532611,255198.69726934592,284595.66361244669,288200.67132359609,296962.58187426289,339247.54966887413,358079.54277419939,281743.27315612813,141287.43354803592,142063.36931869725,131608.44960537058,126601.11040551573,134862.94112310623,153190.34564093259,141398.14569536422,126383.4164927878,116935.56926426562,138716.34945114757,160817.04980495328,182560.50984305542,181654.69110042637,176783.47674497287,200861.34745888715,213262.86075209524,225664.37404530338,238065.88733851479]
["Utah",6953.6823006441073,3339.9147237594116,3717.4834437086092,4744.5867731107683,4313.8510387371853,3785.0821010614168,4942.0538873264986,6176.2950195046724,7543.5562006713226,9074.2121019686092,9357.3001905107485,6797.2330581511378,3270.0898122108315,3058.0041730926241,5930.414587680305,5871.9749614442526,5849.1082282500229,9756.871994919713,9584.4162206295932,8963.655992016691,10722.868547582326,15515.021319060146,17209.119114578607,18369.761407965165,20836.866551755418,21386.87653088996,15109.469291481448,19066.75845376946,18337.356308075377,17638.684614292619,16940.012920509856,16241.341226727331]
["Vermont",3702.6998094892497,3548.4695636396618,3799.9927424476091,4071.9622607275696,4026.774925156491,2833.7566905561098,3344.5704436178899,5021.0632314252016,7168.1992198131175,6652.2035743445522,5741.8996643382015,6909.8376122652635,4639.0964347273875,4606.8964891590313,5545.9784087816388,4714.377211285494,4780.7166832985567,4453.3357525174633,4733.3593395627322,8044.450694003448,7330.7683933593389,5793.395627324684,6506.0600562460304,9697.548761680122,14798.209198947654,14040.772929329582,12778.172911185702,12303.680397843838,14946.603697157896,15863.269516800705,16779.935336443727,17696.601156086545]
["Virginia",14332.100154222988,16242.799600834618,25307.908917717497,34136.552662614529,24754.281048716322,21457.926154404428,21404.047899845777,22953.743989839426,26522.587317427198,32355.848680032657,31638.630136986299,27087.174090537963,29901.814388097613,27358.739000272159,22702.717953370222,20884.915177356434,22987.513381112221,27068.805225437718,27325.680849133627,24298.39608092171,24561.467839970966,27058.54667513381,25922.048444162203,29342.991925972965,33575.302549215274,36983.265898575701,37181.507756509112,40401.673544202553,43773.77804864983,46520.175542317462,49266.5730359851,52012.970529653612]
["Washington",46005.611902385914,42340.856391182067,43598.524902476638,52736.304091445156,59192.902113762131,61245.793341195676,59359.101877891684,53931.593939943748,52158.21464211194,49112.780549759591,52601.674680214099,64601.143064501492,59995.894039735096,68449.833983489065,73424.408963077207,79904.49605370588,86139.276059149037,93420.811031479621,93616.427469835791,68198.544860745707,77083.991653814752,83851.806223351174,69461.409779551846,72643.937222171822,69023.193323051804,78612.751519550031,89402.694366324955,104634.52102665178,104998.98829040948,111685.69767021763,118372.40705002577,125059.1164298339]
["West Virginia",3724.643019141794,3760.5515739816742,4100.1016057334655,4493.2867640388276,3494.9995464029753,2504.1821645650002,2994.5804227524263,4157.2657171368955,7126.0364692007624,9066.451964075115,4357.0806495509387,7880.1124920620514,8291.563095346095,9482.2099247028927,31200.702168193769,46970.185974779997,38141.879706069129,24309.146330400072,1096.9881157579605,2342.5564728295381,3369.9609906559012,3100.4517826363058,3810.510750249478,3567.2793250476275,2656.0464483352989,3471.6011974961448,3595.5801505942122,707.68912317581999,1386.48635095593,1115.5517903125331,844.61722966921161,573.68266902581468]
["Wisconsin",109457.63766669689,99013.685929420288,103449.8085820557,102105.90946203392,105418.9295110224,105667.82001270071,113459.82218996643,122960.49714233875,121709.55093894582,120166.72049351354,116603.75215458585,101278.47954277421,122784.43255012247,160885.75161026942,161009.95191871541,157254.15041277331,178389.08645559283,175894.25383289484,131811.57942483897,141876.62886691463,178213.40651365329,223657.35825092989,261892.82953823823,275396.17345550214,272269.14995917625,273024.97323777556,264429.06468293566,236003.53582782065,240547.88541060648,234689.11801056075,228830.35061051504,222971.58321046765]
["Wyoming",6896.0065317971512,7705.943935407784,8067.6712328767126,8398.2509298738987,9430.2131906014693,9720.183253197858,10109.959176267803,10428.172003991654,10473.453687743808,10182.500226798511,10108.006894674771,8978.530345640931,8257.548761680122,8310.6468293567996,8582.6036469200753,8344.795427741994,8369.5745259911091,8877.2911185702615,9404.1640206840239,46688.079470198667,125740.84731924158,147330.65771568537,152158.7771024222,151060.87816383922,148474.53506304999,147204.07148689101,149031.26372130998,150536.2161864966,148368.10136459989,147883.74884706858,147399.39632953727,146915.04381200596]
["Puerto Rico",1899.1109498321691,2019.9582690737548,1576.8030481720039,1683.0753878254559,2086.4211194774562,1912.3650548852402,1806.0654994103238,1594.0996099065587,1008.5874988660074,0,0,0,0,0,0,0,0,0,0,0,0,0,0,0,0,0,0,0,0,0,0,0]
["Total",{"$f":"SUM(B122:B173)","v":3295607.8617436257},{"$f":"SUM(C122:C173)","v":3154064.4633947196},3338390.6359430286,3595325.829628957,3658580.8146602567,3623091.7209471106,3527963.7394538685,3669689.142701624,4018003.2259820378,4113088.104871633,4382139.867549669,4655277.5995645467,4871350.6522725197,5024970.3147963351,4981721.1485076658,4778809.6289576348,4984810.3710423671,5123732.4213009169,4926512.9293295834,4847959.6715957532,5151720.7438991209,5587242.8395173727,5838428.4133176077,6059158.0132450312,6153018.4686564431,6381068.676403882,6436434.5332486592,{"$f":"SUM(AC122:AC173)","v":6630303.5841084933},6734334.4059577268,6859370.5019183625,{"$f":"SUM(AF122:AF173)","v":6984406.5978790177},7109442.6938396776]

{"sheet":"state population","index":34,"n_rows":187,"n_cols":39,"rows_kept":187,"cut":false,"hidden":false,"merged":[[0,0,0,11]]}
["State Population (Source: https://www.census.gov/data/tables/time-series/demo/popest/2010s-state-total.html; https://www.census.gov/data/tables/time-series/demo/popest/2020s-state-total.html)\n\n1990-2000: Table CO-EST2001-12-00 - Time Series of Intercensal State Population Estimates: April 1, 1990 to April 1, 2000 Source: Population Division, U.S. Census Bureau\nRelease Date: April 11, 2002\n\n2000-2010: Table 1. Intercensal Estimates of the Resident Population for the United States, Regions, States, and Puerto Rico: April 1, 2000 to July 1, 2010 (ST-EST00INT-01) Source: U.S. Census Bureau, Population Division\nRelease Date: September 2011 \n\n2010-2020: Table 1. Annual Estimates of the Resident Population for the United States, Regions, States, the District of Columbia, and Puerto Rico: April 1, 2010 to July 1, 2019; April 1, 2020; and July 1, 2020 (NST-EST2020) Source: U.S. Census Bureau, Population Division\nRelease Date: July 2021\n\n2020-2021: Annual Estimates of the Resident Population for the United States, Regions, States, the District of Columbia, and Puerto Rico: April 1, 2020 to July 1, 2022 (NST-EST-2021-POP) Source: U.S. Census Bureau, Population Division\nRelease Date: December 2022"]
[null,null,"Region",1990,1991,1992,1993,1994,1995,1996,1997,1998,1999,2000,2001,2002,2003,2004,2005,2006,2007,2008,2009,2010,2011,2012,2013,2014,2015,2016,2017,2018,2019,2020,2021,2022,2023,2024,2025]
["Alabama","AL","CS",4050055,4099156,4154014,4214202,4260229,4296800,4331102,4367935,4404701,4430141,4452173,4467634,4480089,4503491,4530729,4569805,4628981,4672840,4718206,4757938,4785514,4799642,4816632,4831586,4843737,4854803,4866824,4877989,4891628,4907965,5024803,5039877]
["Alaska","AK","W",553290,570193,588736,599432,603308,604412,608569,612968,619932,624779,627963,633714,642337,648414,659286,666946,675302,680300,687455,698895,713982,722349,730810,737626,737075,738430,742575,740983,736624,733603,732441,732673]
["Arizona","AZ","M",3684097,3788576,3915740,4065440,4245089,4432499,4586940,4736990,4883342,5023823,5160586,5273477,5396255,5510364,5652404,5839077,6029141,6167681,6280362,6343154,6407342,6473416,6556344,6634690,6732873,6832810,6944767,7048088,7164228,7291843,7177986,7276316]
["Arkansas","AR","CS",2356586,2383144,2415984,2456303,2494019,2535399,2572109,2601090,2626289,2651860,2678588,2691571,2705927,2724816,2749686,2781097,2821761,2848650,2874554,2896843,2921998,2941038,2952876,2960459,2968759,2979732,2991815,3003855,3012161,3020985,3012232,3025891]
["California","CA","W",29959515,30470736,30974659,31274928,31484435,31696582,32018834,32486010,32987675,33499204,33987977,34479458,34871843,35253159,35574576,35827943,36021202,36250311,36604337,36961229,37319550,37636311,37944551,38253768,38586706,38904296,39149186,39337785,39437463,39437610,39499738,39237836]
["Colorado","CO","M",3307618,3387119,3495939,3613734,3724168,3826653,3919972,4018293,4116639,4226018,4326921,4425687,4490406,4528732,4575013,4631888,4720423,4803868,4889730,4972195,5047539,5121900,5193660,5270774,5352637,5454328,5543844,5617421,5697155,5758486,5784308,5812069]
["Connecticut","CT","NE",3291967,3302895,3300712,3309175,3316121,3324144,3336685,3349348,3365352,3386401,3411777,3432835,3458749,3484336,3496094,3506956,3517460,3527270,3545579,3561807,3579173,3588632,3595211,3595792,3595697,3588561,3579830,3575324,3574561,3566022,3600260,3605597]
["Delaware","DE","NE",669567,683080,694925,706378,717545,729734,740977,751487,763335,774990,786373,795699,806169,818003,830803,845150,859268,871749,883874,891730,899647,907590,915518,924062,933131,942065,949989,957942,966985,976668,991886,1003384]
["District of Columbia","DC","NE",605321,600870,597565,595301,589239,580517,572377,567736,565230,570213,572046,574504,573158,568502,567754,567136,570681,574404,580236,592228,605282,620290,635737,651559,663603,677014,687576,697079,704147,708253,690093,670050]
["Florida","FL","SE",13033307,13369798,13650553,13927185,14239444,14537875,14853360,15186304,15486559,15759421,16047515,16356966,16689370,17004085,17415318,17842038,18166990,18367842,18527305,18652644,18846143,19055607,19302016,19551678,19853880,20219111,20627237,20977089,21254926,21492056,21569932,21781128]
["Georgia","GA","SE",6512602,6653005,6817203,6978240,7157165,7328413,7501069,7685099,7863536,8045965,8227303,8377038,8508256,8622793,8769252,8925922,9155813,9349988,9504843,9620846,9712209,9803630,9903580,9975592,10071204,10183353,10308442,10417031,10519389,10628020,10725800,10799566]
["Hawaii","HI","W",1113491,1136754,1158613,1172838,1187536,1196854,1203755,1211640,1215233,1210300,1213519,1225948,1239613,1251154,1273569,1292729,1309731,1315675,1332213,1346717,1364004,1379562,1395199,1408822,1415335,1422999,1428885,1425763,1423102,1415615,1451911,1441553]
["Idaho","ID","M",1012384,1041316,1071685,1108768,1145140,1177322,1203083,1228520,1252330,1275674,1299430,1319962,1340372,1363380,1391802,1428241,1468669,1505105,1534320,1554439,1570819,1584272,1595910,1612053,1632248,1652495,1684036,1719745,1752074,1789060,1847772,1900923]
["Illinois","IL","CN",11453316,11568964,11694184,11809579,11912585,12008437,12101997,12185715,12271847,12359020,12434161,12488445,12525556,12556006,12589773,12609903,12643955,12695866,12747038,12796778,12840545,12867783,12883029,12895778,12885092,12859585,12821709,12779893,12724685,12667017,12785245,12671469]
["Indiana","IN","CN",5557798,5616388,5674547,5739019,5793526,5851459,5906013,5955267,5998880,6044969,6091866,6127760,6155967,6196638,6233007,6278616,6332669,6379599,6424806,6459325,6490555,6517250,6538989,6570575,6596019,6611442,6637898,6662068,6698481,6731010,6785644,6805985]
["Iowa","IA","CN",2781018,2797613,2818401,2836972,2850746,2867373,2880000,2891119,2902872,2917634,2929067,2931997,2934234,2941999,2953635,2964454,2982644,2999212,3016734,3032870,3050819,3066772,3076844,3093935,3110643,3122541,3133210,3143734,3149900,3159596,3188669,3193079]
["Kansas","KS","CN",2481349,2498722,2532394,2556547,2580513,2601007,2614554,2635292,2660598,2678338,2693681,2702162,2713535,2723004,2734373,2745299,2762931,2783785,2808076,2832704,2858266,2869677,2886024,2894306,2901861,2910717,2912977,2910892,2912748,2912635,2935880,2934582]
["Kentucky","KY","CS",3694048,3722328,3765469,3812206,3849088,3887427,3919535,3952747,3985390,4018053,4049021,4068132,4089875,4117170,4146101,4182742,4219239,4256672,4289878,4317074,4348464,4370817,4387865,4406906,4416992,4429126,4440306,4455590,4464273,4472345,4503958,4509394]
["Louisiana","LA","CS",4221532,4253279,4293003,4316428,4347481,4378779,4398877,4421071,4440344,4460811,4471885,4477875,4497267,4521042,4552238,4576628,4302665,4375581,4435586,4491648,4544635,4576244,4602067,4626040,4645938,4666998,4681346,4673673,4664450,4658285,4651203,4624047]
["Maine","ME","NE",1231719,1237081,1238508,1242302,1242662,1243480,1249060,1254774,1259127,1266808,1277072,1285692,1295960,1306513,1313688,1318787,1323619,1327040,1330509,1329590,1327651,1328473,1328094,1328543,1331217,1329098,1332348,1335743,1340123,1345770,1362280,1372247]
["Maryland","MD","NE",4799770,4867641,4923368,4971889,5023060,5070033,5111986,5157328,5204464,5254509,5311034,5374691,5440389,5496269,5546935,5592379,5627367,5653408,5684965,5730388,5788784,5840241,5888375,5925197,5960064,5988528,6007014,6028186,6042153,6054954,6172679,6165129]
["Massachusetts","MA","NE",6022639,6018470,6028709,6060569,6095241,6141445,6179756,6226058,6271838,6317345,6361104,6397634,6417206,6422565,6412281,6403290,6410084,6431559,6468967,6517613,6566440,6614218,6664269,6715158,6764864,6797484,6827280,6863560,6885720,6894883,7022220,6984723]
["Michigan","MI","CN",9311319,9400446,9479065,9540114,9597737,9676211,9758645,9809051,9847942,9897116,9952450,9991120,10015710,10041152,10055315,10051137,10036081,10001284,9946889,9901591,9877597,9883053,9898289,9914802,9932033,9934483,9954117,9976752,9987286,9984795,10067664,10050811]
["Minnesota","MN","CN",4389857,4440859,4495572,4555954,4610355,4660180,4712827,4763390,4813412,4873481,4933692,4982796,5018935,5053572,5087713,5119598,5163555,5207203,5247018,5281203,5310934,5346620,5377500,5414722,5452665,5484002,5525360,5569283,5608762,5640053,5707165,5707390]
["Mississippi","MS","CS",2578897,2598733,2623734,2655100,2688992,2722659,2748085,2777004,2804834,2828408,2848353,2852994,2858681,2868312,2889010,2905943,2904978,2928350,2947806,2958774,2970615,2979147,2984599,2989839,2991892,2990231,2990595,2990674,2982879,2978227,2956870,2949965]
["Missouri","MO","CN",5128880,5170800,5217101,5271175,5324497,5378247,5431553,5481193,5521765,5561948,5607285,5641142,5674825,5709403,5747741,5790300,5842704,5887612,5923916,5961088,5996089,6011182,6026027,6042989,6059130,6075411,6091384,6111382,6125986,6140475,6154481,6168187]
["Montana","MT","M",800204,809680,825770,844761,861306,876553,886254,889865,892431,897507,903773,906961,911667,919630,930009,940102,952692,964706,976415,983982,990730,997518,1004168,1014158,1022657,1031495,1042137,1053862,1061818,1070123,1086193,1104271]
["Nebraska","NE","CN",1581660,1595919,1611687,1625590,1639041,1656992,1673740,1686418,1695816,1704764,1713820,1719836,1728292,1738643,1749370,1761497,1772693,1783440,1796378,1812683,1829591,1840914,1853691,1865813,1879955,1892059,1906483,1916998,1925512,1932571,1961455,1963692]
["Nevada","NV","M",1220695,1296171,1351367,1411215,1499298,1581578,1666320,1764104,1853191,1934718,2018741,2098399,2173791,2248850,2346222,2432143,2522658,2601072,2653630,2684665,2702483,2713114,2744670,2776956,2818935,2868531,2919555,2972097,3030725,3090771,3114071,3143991]
["New Hampshire","NH","NE",1112384,1109929,1117784,1129458,1142560,1157561,1174719,1189425,1205940,1222014,1239882,1255517,1269089,1279840,1290121,1298492,1308389,1312540,1315906,1316102,1316807,1320444,1324677,1327272,1334257,1337480,1343694,1350395,1355064,1360783,1377848,1388992]
["New Jersey","NJ","NE",7762963,7814676,7880508,7948915,8014306,8083242,8149596,8218808,8287418,8359592,8430621,8492671,8552643,8601402,8634561,8651974,8661679,8677885,8711090,8755602,8799451,8828552,8845671,8857821,8867277,8870312,8873584,8888147,8891730,8891258,9279743,9267130]
["New Mexico","NM","M",1521574,1555305,1595442,1636453,1682398,1720394,1752326,1774839,1793484,1808082,1821204,1831690,1855309,1877574,1903808,1932274,1962137,1990070,2010662,2036802,2064614,2080707,2087715,2092833,2090236,2090071,2092555,2092844,2093754,2099634,2117566,2115877]
["New York","NY","NE",18020784,18122510,18246653,18374954,18459470,18524104,18588460,18656546,18755906,18882725,19001780,19082838,19137800,19175939,19171567,19132610,19104631,19132335,19212436,19307066,19399956,19499921,19574362,19626488,19653431,19657321,19636391,19593849,19544098,19463131,20154933,19835913]
["North Carolina","NC","SE",6664016,6784280,6897214,7042818,7187398,7344674,7500670,7656825,7809121,7949361,8081614,8210122,8326201,8422501,8553152,8705407,8917270,9118037,9309449,9449566,9574586,9658913,9751810,9846717,9937295,10037218,10161802,10275758,10391358,10501384,10457177,10551162]
["North Dakota","ND","CN",637685,635753,638223,641216,644804,647832,650382,649716,647532,644259,642023,639062,638168,638817,644705,646089,649422,652822,657569,664968,674752,685526,702227,723149,738736,755537,756114,756755,760062,763724,778962,774948]
["Ohio","OH","CN",10864162,10945762,11029431,11101140,11152454,11202751,11242827,11277357,11311536,11335454,11363543,11387404,11407889,11434788,11452251,11463320,11481213,11500468,11515391,11528896,11539449,11545735,11550971,11579692,11606573,11622315,11640060,11665706,11680892,11696507,11790587,11780017]
["Oklahoma","OK","CS",3148825,3175440,3220517,3252285,3280940,3308208,3340129,3372917,3405194,3437147,3454365,3467100,3489080,3504892,3525233,3548597,3594090,3634349,3668976,3717572,3760014,3788824,3819320,3853891,3879187,3910518,3928143,3933602,3943488,3960676,3962031,3986639]
["Oregon","OR","W",2860375,2928507,2991755,3060367,3121264,3184369,3247111,3304310,3352449,3393941,3429708,3467937,3513424,3547376,3569463,3613202,3670883,3722417,3768748,3808600,3837614,3872672,3900102,3924110,3965447,4018542,4093271,4147294,4183538,4216116,4241544,4246155]
["Pennsylvania","PA","NE",11903299,11982164,12049450,12119724,12166050,12198403,12220464,12227814,12245672,12263805,12284173,12298970,12331031,12374658,12410722,12449990,12510809,12563937,12612285,12666858,12711406,12747052,12769123,12779538,12792392,12789838,12788468,12794679,12809107,12798883,12989625,12964056]
["Rhode Island","RI","NE",1005995,1010649,1012581,1015112,1015960,1017002,1020893,1025353,1031155,1040402,1050268,1057142,1065995,1071342,1074579,1067916,1063096,1057315,1055003,1053646,1053994,1053829,1054893,1055560,1056511,1056886,1057816,1056554,1059338,1058158,1096229,1095610]
["South Carolina","SC","SE",3501155,3570404,3620464,3663314,3705397,3748582,3796200,3859696,3919235,3974682,4024223,4064995,4107795,4150297,4210921,4270150,4357847,4444110,4528996,4589872,4635846,4672655,4719027,4766469,4826858,4896006,4963031,5027102,5091702,5157702,5130729,5190705]
["South Dakota","SD","CN",697101,703669,712801,722159,730790,737925,742213,744223,746058,750412,755844,757972,760020,763729,770396,775493,783033,791623,799124,807067,816193,823740,833859,842751,849670,854663,863693,873732,879386,887127,887099,895376]
["Tennessee","TN","CS",4894492,4966587,5049742,5137584,5231438,5326936,5416643,5499233,5570045,5638706,5703719,5750789,5795918,5847812,5910809,5991057,6088766,6175727,6247411,6306019,6355518,6400298,6455752,6496943,6544617,6595354,6651277,6714748,6778180,6830325,6920119,6975218]
["Texas","TX","CS",17056755,17398005,17759738,18161612,18564062,18958751,19340342,19740317,20157531,20558220,20944499,21319622,21690325,22030931,22394023,22778123,23359580,23831983,24309039,24801761,25241897,25645504,26084120,26479646,26963092,27468531,27914064,28291024,28624564,28986794,29217653,29527941]
["Utah","UT","M",1731223,1779780,1836799,1898404,1960446,2014177,2067976,2119784,2165960,2203482,2244502,2283715,2324815,2360137,2401580,2457719,2525507,2597746,2663029,2723421,2775413,2814797,2854146,2898773,2938327,2983626,3044241,3103540,3155153,3203383,3281684,3337975]
["Vermont","VT","NE",564798,568606,572751,577748,583836,589002,593701,597239,600416,604683,609618,612223,615442,617858,619920,621215,622892,623481,624151,624817,625886,627197,626361,626603,625693,625810,624366,625132,624802,624046,642495,645570]
["Virginia","VA","NE",6216884,6301217,6414307,6509630,6593139,6670693,6750884,6829183,6900918,7000174,7105817,7198362,7286873,7366977,7475575,7577105,7673725,7751000,7833496,7925937,8024004,8102437,8187456,8255861,8315430,8367303,8417651,8471011,8510920,8556642,8632044,8642274]
["Washington","WA","W",4903043,5025624,5160757,5278842,5375161,5481027,5569753,5674747,5769562,5842564,5910512,5985722,6052349,6104115,6178645,6257305,6370753,6461587,6562231,6667426,6743009,6827479,6898599,6966252,7057531,7167287,7299961,7427951,7526793,7614024,7718785,7738692]
["West Virginia","WV","NE",1792548,1798735,1806451,1817539,1820421,1823700,1822808,1819113,1815609,1811799,1807021,1801481,1805414,1812295,1816438,1820492,1827912,1834052,1840310,1847775,1854265,1856606,1857446,1854768,1850569,1843332,1832435,1818683,1805953,1795263,1789798,1782959]
["Wisconsin","WI","CN",4904562,4964343,5025398,5084889,5133678,5184836,5229986,5266213,5297672,5332666,5373999,5406835,5445162,5479203,5514026,5546166,5577655,5610775,5640996,5669264,5690538,5705840,5720825,5738012,5753199,5762927,5775170,5793147,5809319,5824581,5892323,5895908]
["Wyoming","WY","M",453690,459260,466251,473081,480283,485160,488167,489451,490787,491780,494300,494657,500017,503453,509106,514157,522667,534876,546043,559851,564531,567491,576656,582620,583159,586389,585243,579994,579054,580116,577267,578803]
[]
[]
[]
[]
["Total Pop US",null,null,"Census 1990"]
[null,null,null,{"$f":"SUM(D3:D53)","v":249622814},{"$f":"SUM(E3:E53)","v":252980941},256514224,259918588,263125821,266278393,269394284,272646925,275854104,279040168,282162411,284968955,287625193,290107933,292805298,295516599,298379912,301231207,{"$f":"SUM(V3:V53)","v":304093966},306771529,309327143,311583481,313877662,316059947,318386329,320738994,323071755,325122128,326838199,328329953,331501080,{"$f":"SUM(AI3:AI53)","v":331893745}]
[]
["Ratio State:US Populations",null,"Region",1990,1991,1992,1993,1994,1995,1996,1997,1998,1999,2000,2001,2002,2003,2004,2005,2006,2007,2008,2009,2010,2011,2012,2013,2014,2015,2016,2017,2018,2019,2020,2021,2022,2023,2024,2025]
["Alabama","AL",{"$f":"VLOOKUP(B62,B$3:C$53,2,FALSE)","v":"CS"},{"$f":"D3/D$59","v":1.6224698917143045E-2},1.620341826461939E-2,1.6194088324708263E-2,1.6213546066201314E-2,1.619084354324922E-2,1.6136495160536741E-2,1.6077185958407344E-2,1.6020481434001137E-2,1.5967502154689714E-2,1.5876355837056405E-2,1.5778760126911446E-2,1.5677616531948192E-2,1.5576135571684779E-2,1.5523501730647262E-2,1.5473521247556115E-2,1.5463784489479727E-2,1.5513715279867769E-2,1.5512469795335647E-2,1.5515618616385174E-2,1.5509711789453578E-2,1.5470721235737143E-2,{"$f":"Y3/Y$59","v":1.5404032282443112E-2},1.5345571167151104E-2,1.528692909639702E-2,1.521339504498637E-2,1.5136304256164126E-2,1.5064220021338602E-2,{"$f":"AE3/AE$59","v":1.5003558908792576E-2},1.4966512528114867E-2,1.494827065016514E-2,{"$f":"AH3/AH$59","v":1.5157727389606091E-2},1.5185212363673801E-2]
["Alaska","AK",{"$f":"VLOOKUP(B63,B$3:C$53,2,FALSE)","v":"W"},{"$f":"D4/D$59","v":2.216504137318154E-3},2.2538970633364827E-3,2.2951397814103282E-3,2.3062298260869284E-3,2.2928498529986535E-3,2.2698499611269623E-3,2.2590271440206208E-3,2.2482116752279529E-3,2.247318386823783E-3,2.2390288985204452E-3,2.2255374051223286E-3,2.2238001328951781E-3,2.2332431776934088E-3,2.235078487150505E-3,2.251619094679086E-3,2.2568816853499318E-3,2.2632287658828723E-3,2.258398147971435E-3,2.2606663625808344E-3,2.2782264125951533E-3,2.3081776564302346E-3,{"$f":"Y4/Y$59","v":2.3183160984070268E-3},2.3283275252636488E-3,{"$f":"AA4/AA$59","v":2.3338167553385056E-3},2.3150334447934163E-3,{"$f":"AC4/AC$59","v":2.3022769722848228E-3},2.2984831960936973E-3,2.2790912589007169E-3,2.2537879668098402E-3,2.2343468614330168E-3,{"$f":"AH4/AH$59","v":2.2094679148556618E-3},2.2075529022097117E-3]
["Arizona","AZ","M",{"$f":"D5/D$59","v":1.4758655032227943E-2},1.4975736848097186E-2,1.5265196365874822E-2,1.5641205314642598E-2,1.6133304530382826E-2,1.6646108420821062E-2,1.7026864608604687E-2,1.7374081882639975E-2,1.7702625877916971E-2,1.8003941998773452E-2,1.8289417012388655E-2,1.8505443864929076E-2,1.8761412878043685E-2,1.8994185863921206E-2,1.930430917271176E-2,1.9758879940277061E-2,2.0206256378277904E-2,2.0474907169893589E-2,2.0652701803362979E-2,2.0677127439684927E-2,2.0713804607829064E-2,2.0775863916867917E-2,2.0888214721059062E-2,2.0991872152658433E-2,2.1146865888202127E-2,2.1303334261876496E-2,2.1496051241000624E-2,2.1678278385284192E-2,2.1919800139395578E-2,2.2208887533328402E-2,{"$f":"AH5/AH$59","v":2.1652979230112914E-2},2.1923631010280113E-2]
["Arkansas","AR","CS",{"$f":"D6/D$59","v":9.4405874296409464E-3},9.4202511484847394E-3,9.4185186393406402E-3,9.4502783309980132E-3,9.478427432631175E-3,9.5216099640499183E-3,9.5477489789649733E-3,9.540140604923383E-3,9.5205725124901525E-3,9.5035063195632822E-3,9.49307170472115E-3,9.4451376291147231E-3,9.4078233265192449E-3,9.3924215440189286E-3,9.3908341781438667E-3,9.4109671314943633E-3,9.4569402513933302E-3,9.4566895255311315E-3,9.4528478740022095E-3,9.4429982125231703E-3,9.4463032621744415E-3,9.4390048874253389E-3,9.4077290533660218E-3,9.3667642107147474E-3,9.3243921914750311E-3,9.2902080998607858E-3,9.2605278972778052E-3,9.239158892316305E-3,9.2160616758263317E-3,9.2010642720738913E-3,{"$f":"AH6/AH$59","v":9.0866430963060518E-3},9.1170473851503279E-3]
["California","CA","W",{"$f":"D7/D$59","v":0.12001913815457589},0.12044676519722487,0.12075220826740586,0.12032586141934566,0.11965543662854737,0.11903550131459596,0.11885491230392996,0.11915047272218456,0.11958377461732453,0.12005154756070818,0.12045536781297209,0.12099373421220568,0.12124057227490501,0.12151739056373891,0.12149567047792967,0.12123834370467969,0.12072261084385601,0.12034048982182646,0.12037179652555158,0.12048454796468416,0.12064751136307492,0.12079045679575034,0.12088961908987331,0.12103326714789331,0.12119460694557649,0.12129580976362357,0.12117799031982848,0.12099387157062406,0.1206635672349914,0.12011578486718207,{"$f":"AH7/AH$59","v":0.11915417590796386},0.11822409006231799]
["Colorado","CO","M",{"$f":"D8/D$59","v":1.325046355738943E-2},1.3388830741996489E-2,1.3628636047878577E-2,1.3903330376663942E-2,1.4153563439142675E-2,1.437087311849595E-2,1.4551058551784268E-2,1.473808296205798E-2,1.4923247253917962E-2,1.5144837498807698E-2,1.5334859752102132E-2,1.5530418041502099E-2,1.5612005169519348E-2,1.5610507279716477E-2,1.5624761680370962E-2,1.5673867443229475E-2,1.5820176929336984E-2,1.5947444648389302E-2,1.6079667953687711E-2,1.6208137098667981E-2,1.631780176497476E-2,1.643829121993794E-2,1.6546765280799115E-2,1.6676500929742925E-2,1.6811767693706473E-2,1.7005503234820273E-2,1.7159791638238383E-2,1.7277879652657785E-2,1.7431117346231612E-2,1.7538716609264097E-2,{"$f":"AH8/AH$59","v":1.7448836064123834E-2},1.7511836506590384E-2]
["Connecticut","CT","NE",{"$f":"D9/D$59","v":1.3187764961258709E-2},1.3055904476219021E-2,1.2867559344389417E-2,1.2731582706197219E-2,1.2602795831276475E-2,1.2483716619094963E-2,1.2385878981753005E-2,1.2284561800944574E-2,1.2199753243475399E-2,1.2135890772542826E-2,1.2091536175596402E-2,1.2046347294216664E-2,1.2025194886179529E-2,1.2010481629952533E-2,1.1939995703219823E-2,1.1867204792783907E-2,1.1788528176789596E-2,1.1709510562097904E-2,1.1659484884353147E-2,1.1610617881035498E-2,1.1570833924522426E-2,1.1517401334892974E-2,1.1454179240063284E-2,1.1376930339104309E-2,1.1293503120229764E-2,1.1188415088687346E-2,1.1080603440557656E-2,1.0996864538238997E-2,1.093679077579301E-2,1.0861092530293756E-2,{"$f":"AH9/AH$59","v":1.0860477437961891E-2},1.0863708805358776E-2]
["Delaware","DE","NE",{"$f":"D10/D$59","v":2.682314926551545E-3},2.7001243544271581E-3,2.7091090278097015E-3,2.7176894328157859E-3,2.7270033677158577E-3,2.7404927293518703E-3,2.7505297773875561E-3,2.7562643517802373E-3,2.7671692714783752E-3,2.7773420778617079E-3,2.7869516609708867E-3,2.7922304729650288E-3,2.8028455768824116E-3,2.8196505746707727E-3,2.8373905994009711E-3,2.8599070335132005E-3,2.8797783142988525E-3,2.8939531487519486E-3,2.9065818425348172E-3,2.9068212519813078E-3,2.9083997972980985E-3,2.9128309276447166E-3,2.9167988386507096E-3,2.9236921943798211E-3,2.9308136531201374E-3,2.9371701527504323E-3,2.9404891801822785E-3,2.946406649995844E-3,2.9586046030072514E-3,2.9746539755999661E-3,{"$f":"AH10/AH$59","v":2.9921048824335657E-3},3.0232085271748644E-3]
["District of Columbia","DC","NE",{"$f":"D11/D$59","v":2.4249426176246856E-3},2.3751591626817452E-3,2.3295589253561236E-3,2.2903363879462134E-3,2.239381136220759E-3,2.1801130518314341E-3,2.1246813091253267E-3,2.0823121331737006E-3,2.0490179112941528E-3,2.0434799910240878E-3,2.0273643040284342E-3,2.0160231138160296E-3,1.9927253034472542E-3,1.9596223864722789E-3,1.9390154613937347E-3,1.9191341600408713E-3,1.9125985934334614E-3,1.9068542257641985E-3,1.9080812672225137E-3,1.9305181348820673E-3,1.9567697620379858E-3,1.9907666414446406E-3,2.0254292578488751E-3,2.0615044904756627E-3,2.0842697677512403E-3,2.1107941742811603E-3,2.1282454728981182E-3,2.1440527726860844E-3,2.1544207566753849E-3,2.1571379447064948E-3,{"$f":"AH11/AH$59","v":2.0817217247075031E-3},2.0188690208669041E-3]
["Florida","FL","SE",{"$f":"D12/D$59","v":5.2212002545568612E-2},5.284903260755916E-2,5.3215579187530747E-2,5.3582874188282371E-2,5.4116482927762534E-2,5.4596525223884765E-2,5.5136136444528271E-2,5.5699524210661829E-2,5.6140397316691723E-2,5.6477248823904092E-2,5.6873326759318055E-2,5.739911563349067E-2,5.8024715519269549E-2,5.8612961128505232E-2,5.9477468881044632E-2,6.0375755745618875E-2,6.0885432528715269E-2,6.097589351026303E-2,6.0926250013129166E-2,6.0803047990806214E-2,6.0926250497196105E-2,6.1157308272064656E-2,6.1495347827587678E-2,6.1860663413956719E-2,6.2357828184262269E-2,6.303914203833913E-2,6.3847231089576365E-2,6.4520643762518676E-2,6.5031951788475012E-2,6.5458712504369049E-2,{"$f":"AH12/AH$59","v":6.5067456190489634E-2},6.5626810773429911E-2]
["Georgia","GA","SE",{"$f":"D13/D$59","v":2.6089770785133446E-2},2.6298443565359337E-2,2.6576315705596116E-2,2.6847791278398297E-2,2.720054220752436E-2,2.7521620952549463E-2,2.7844202514705176E-2,2.8187000458560096E-2,2.8506141057810762E-2,2.8834432897847165E-2,2.9158040473364115E-2,2.9396317925228031E-2,2.9581052727881176E-2,2.9722706686548968E-2,2.994908924086476E-2,3.0204469157416095E-2,3.0685085127312457E-2,3.1039240897773251E-2,3.1256269649230728E-2,3.1361600052526389E-2,3.1397855699976517E-2,3.1463895224920477E-2,3.1552356854244699E-2,3.1562341557945017E-2,3.1632023999372157E-2,3.1749656856503078E-2,3.1907592788481307E-2,3.2040362998608324E-2,3.2185310750656781E-2,3.2369937323385174E-2,{"$f":"AH13/AH$59","v":3.2355249038705999E-2},3.2539227275886144E-2]
["Hawaii","HI","W",{"$f":"D14/D$59","v":4.4606940453767981E-3},4.493437313920024E-3,4.5167592733570986E-3,4.5123282987363719E-3,4.513186868118124E-3,4.4947469695748084E-3,4.4683761738612097E-3,4.4439892362622465E-3,4.4053468205787509E-3,4.3373683748642242E-3,4.3007819351245907E-3,4.3020405503469668E-3,4.3098206630321151E-3,4.3127190182696588E-3,4.3495421998819162E-3,4.3744717026876724E-3,4.3894744496070504E-3,4.3676583615056856E-3,4.3809254669656943E-3,4.3899673623232485E-3,4.4095839336026196E-3,4.4275838872215433E-3,4.4450407560382554E-3,4.4574518643452155E-3,4.4453384805978905E-3,4.4366261247299416E-3,4.4228100348790936E-3,4.3853151699351578E-3,4.354148335029835E-3,4.3115621558901755E-3,{"$f":"AH14/AH$59","v":4.3798077520592086E-3},4.3434171981758798E-3]
["Idaho","ID","M",{"$f":"D15/D$59","v":4.0556549450644361E-3},4.1161835981944582E-3,4.1778774809774289E-3,4.265828036892844E-3,4.3520624302394104E-3,4.4213951674253946E-3,4.4658816888631537E-3,4.5059008092609154E-3,4.5398273284344539E-3,4.571650057206101E-3,4.6052555171851011E-3,4.6319501715546526E-3,4.6601342045861751E-3,4.6995612491575675E-3,4.7533361230369543E-3,4.8330313925953111E-3,4.9221443566884624E-3,4.9965108694730951E-3,5.0455456916234896E-3,5.0670901731561923E-3,5.0781802875928027E-3,5.0845827735007555E-3,5.0844969018534365E-3,5.1004659568584946E-3,5.1266271548989781E-3,5.1521487281337552E-3,5.2125757635482555E-3,5.2895353834544294E-3,5.3606769507379397E-3,5.448969805078978E-3,{"$f":"AH15/AH$59","v":5.5739546911883365E-3},5.7275047470388453E-3]
["Illinois","IL","CN",{"$f":"D16/D$59","v":4.5882488929878021E-2},4.5730575411212497E-2,4.558883253195347E-2,4.5435684653688559E-2,4.5273340923846467E-2,4.5097301604940958E-2,4.4922991016394395E-2,4.4694122260869072E-2,4.4486729840350681E-2,4.4291186063219398E-2,4.4067389968538366E-2,4.382387899060794E-2,4.3548188075444423E-2,4.3280464171243468E-2,4.2997080606102966E-2,4.2670709674755024E-2,4.2375356019275182E-2,4.2146582774207721E-2,4.1918089226407079E-2,4.1714360005031627E-2,4.1511213259419658E-2,4.1298026964401234E-2,4.1044746280797774E-2,4.0801683738813002E-2,4.0469991410969158E-2,4.0093612689949383E-2,3.9686876991150158E-2,3.9307976601334255E-2,3.8932673839632802E-2,3.8580144407354758E-2,{"$f":"AH16/AH$59","v":3.8567732569679714E-2},3.8179294400381064E-2]
["Indiana","IN","CN",{"$f":"D17/D$59","v":2.226478385905865E-2},2.2200834488950692E-2,2.2121763508911693E-2,2.2080063777508672E-2,2.2018082368282663E-2,2.1974967379347222E-2,2.1923304801819775E-2,2.1842413957171899E-2,2.1746567888654648E-2,2.166343664185294E-2,2.1589927511641512E-2,2.1503254626455713E-2,2.140273922388989E-2,2.1359767504186104E-2,2.1287207036807101E-2,2.1246238015888916E-2,2.1223509845394686E-2,2.1178413297663411E-2,2.1127699718974366E-2,2.1055816428127528E-2,2.0982817534379774E-2,2.0916545315828216E-2,2.0832922477930272E-2,2.0789015066182998E-2,2.0717029593315232E-2,2.0613153135973235E-2,2.0546203427780307E-2,2.0490970703784271E-2,2.0494792287115742E-2,2.0500749135123838E-2,{"$f":"AH17/AH$59","v":2.0469447641015225E-2},2.0506517831482482E-2]
["Iowa","IA","CN",{"$f":"D18/D$59","v":1.1140880736966613E-2},1.1058591959304951E-2,1.0987308836331821E-2,1.0914848460164765E-2,1.0834155269011018E-2,1.0768327717825757E-2,1.0690649991667975E-2,1.0603893662105304E-2,1.0523214836781982E-2,1.0455964175021568E-2,1.0380783852885352E-2,1.0288829532325723E-2,1.0201588982506133E-2,1.0141049814035937E-2,1.0087368706012963E-2,1.0031429740432279E-2,9.9961286938109965E-3,9.9565115775006666E-3,9.9204007224530065E-3,9.8864128945942691E-3,9.8627587944973838E-3,9.8425371915014971E-3,9.8026854806889697E-3,9.7890765007310459E-3,9.770026903385038E-3,9.7354579842574424E-3,9.6981860887219926E-3,9.6693941422529069E-3,9.6374903840416772E-3,9.6232341007279343E-3,{"$f":"AH18/AH$59","v":9.6188796730315336E-3},9.6207869178131095E-3]
["Kansas","KS","CN",{"$f":"D19/D$59","v":9.9403935090644404E-3},9.8771156045308565E-3,9.8723336293429099E-3,9.8359529407723613E-3,9.807144696757069E-3,9.7679987125354178E-3,9.7053061452484265E-3,9.6655848951899964E-3,9.6449462285324566E-3,9.5983958839933031E-3,9.5465621747894691E-3,9.4823030810496541E-3,9.4342744169840509E-3,9.3861755927922182E-3,9.3385366271617129E-3,9.2898301120472766E-3,9.259775503921994E-3,9.2413565902552727E-3,9.2342378145050079E-3,9.233920791912863E-3,9.2402689666325217E-3,9.2099779833963655E-3,9.194741612418407E-3,9.157458980400322E-3,9.1142763859060043E-3,9.0750331404980331E-3,9.0165016127763935E-3,8.9532263396110649E-3,8.9118958827698099E-3,8.8710608745465273E-3,{"$f":"AH19/AH$59","v":8.8563210714124978E-3},8.8419322274362229E-3]
["Kentucky","KY","CS",{"$f":"D20/D$59","v":1.4798519177017209E-2},1.4713867318566104E-2,1.4679377000161987E-2,1.4666923321390158E-2,1.462831730223846E-2,1.4599107934379039E-2,1.4549436394129284E-2,1.4497676803066824E-2,1.4447455891393951E-2,1.4399550533527488E-2,1.4349965984661223E-2,1.4275702418180956E-2,1.421946025430394E-2,1.4191855966930763E-2,1.4159924797535596E-2,1.415400019543403E-2,1.4140492809046744E-2,1.4130913069707284E-2,1.4107080309511962E-2,1.407260319780197E-2,1.4057815805708328E-2,1.4027755855259862E-2,1.3979538945335971E-2,1.3943259947455475E-2,1.3873057972913152E-2,1.3809128552669839E-2,1.3744024141014742E-2,1.3704357889783497E-2,1.3658969525774434E-2,1.3621495569123418E-2,{"$f":"AH20/AH$59","v":1.3586556037766151E-2},1.3586860457403318E-2]
["Louisiana","LA","CS",{"$f":"D21/D$59","v":1.6911643340419998E-2},1.6812645977152881E-2,1.673592572394738E-2,1.660684614060769E-2,1.6522441558481635E-2,1.6444364676633752E-2,1.6328768876180014E-2,1.6215370850047182E-2,1.6096711760358658E-2,1.5986268328221476E-2,1.5848620601700204E-2,1.5713553779919641E-2,1.563585913004498E-2,1.5583999903925413E-2,1.5546979617834647E-2,1.5486872871056559E-2,1.442008937920727E-2,1.452565636733647E-2,1.458623483505753E-2,1.4641671652651964E-2,1.4692001988328584E-2,1.4687055890488623E-2,1.4661976805472701E-2,1.4636590444027379E-2,1.4592140355373111E-2,1.4550765847946758E-2,1.4490112266236334E-2,1.4375130443289913E-2,1.4271434655653576E-2,1.4187816120450027E-2,{"$f":"AH21/AH$59","v":1.403073256955905E-2},1.3932311378751654E-2]
["Maine","ME","NE",{"$f":"D22/D$59","v":4.9343206266395188E-3},4.8900165961514074E-3,4.8282234828428069E-3,4.7795812125602964E-3,4.7226912025483047E-3,4.6698494233439365E-3,4.6365497495113889E-3,4.6021938446582514E-3,4.5644671648604508E-3,4.5398768538585455E-3,4.5260174644595023E-3,4.5116914577589687E-3,4.5057249209738033E-3,4.5035411010287676E-3,4.4865581633020861E-3,4.4626494906297972E-3,4.4360191379103292E-3,4.4053868562163945E-3,4.375321935851894E-3,4.3341375398627683E-3,4.292061107615118E-3,4.2636181986810779E-3,4.2312472685615962E-3,4.2034525811016476E-3,4.1811374382221041E-3,4.1438615973210914E-3,4.1240002549897932E-3,4.1084346003050273E-3,4.1002643023375614E-3,4.0988340774379484E-3,{"$f":"AH22/AH$59","v":4.1094285424349147E-3},4.1345973543430291E-3]
["Maryland","MD","NE",{"$f":"D23/D$59","v":1.9228090265820015E-2},1.9241137220688889E-2,1.9193352802143245E-2,1.9128639618494696E-2,1.9089954687495303E-2,1.9040346995033878E-2,1.8975851766773195E-2,1.8915775411734427E-2,1.8866726739001135E-2,1.883065451709447E-2,1.8822613477030431E-2,1.8860619396242655E-2,1.8914855626016042E-2,1.8945600498280757E-2,1.894410735696456E-2,1.8924077425512061E-2,1.8859738118027193E-2,1.8767670376197112E-2,1.8694764236130881E-2,1.8679660458321087E-2,1.871411588345482E-2,1.8743743991999372E-2,1.8760095772600727E-2,1.8747066992325985E-2,1.8719597724938749E-2,1.867103193570533E-2,1.8593435999999443E-2,{"$f":"AE23/AE$59","v":1.8541297195249658E-2},1.8486679398205839E-2,1.8441674128951615E-2,{"$f":"AH23/AH$59","v":1.8620388808386387E-2},1.8575610697333267E-2]
["Massachusetts","MA","NE",{"$f":"D24/D$59","v":2.4126957402218853E-2},2.3790211136893509E-2,2.3502435482875991E-2,2.3317181916977788E-2,2.3164739123037265E-2,2.3064000540216571E-2,2.2939447371496568E-2,2.2835606893420859E-2,2.2736069208526256E-2,2.2639554173433555E-2,2.2544122647151606E-2,2.2450284101999812E-2,2.2311001109002297E-2,2.2138536280564242E-2,2.189947054851446E-2,2.1668122946961771E-2,2.1482960957505744E-2,2.1350905386107621E-2,2.1272921278549801E-2,2.1245821022719484E-2,2.1228140331674677E-2,2.1227755652424976E-2,2.1232058877767478E-2,2.1246469423726128E-2,2.1247344448636799E-2,{"$f":"AC24/AC$59","v":2.1193194862985695E-2},2.1132395185707274E-2,2.1110713202516933E-2,2.1067672080765567E-2,2.099985985744042E-2,{"$f":"AH24/AH$59","v":2.1183098408005186E-2},2.1045057658438244E-2]
["Michigan","MI","CN",{"$f":"D25/D$59","v":3.7301554496537326E-2},3.7158712284179544E-2,3.6953369884080968E-2,3.6704239098128678E-2,3.6475846283440194E-2,3.633870135306097E-2,3.6224395169423863E-2,3.5977119492545166E-2,3.5699820510917614E-2,3.5468427613618694E-2,3.5272061805567717E-2,3.5060380524608373E-2,3.4822088759102546E-2,3.461178016114437E-2,3.4341301433691955E-2,3.401208945288383E-2,3.3635243514650547E-2,3.3201354200994189E-2,3.270991901233581E-2,3.2276759946650718E-2,3.193252588247647E-2,3.1718796414627645E-2,3.1535499968137266E-2,3.137000462763477E-2,3.1194910381971835E-2,3.0973729998043206E-2,3.081085500649848E-2,3.0686167260814679E-2,3.0557278893829667E-2,3.0410856240094548E-2,{"$f":"AH25/AH$59","v":3.0369928206568739E-2},3.0283219106765631E-2]
["Minnesota","MN","CN",{"$f":"D26/D$59","v":1.7585960712709535E-2},1.7554124759145393E-2,1.7525624621892312E-2,1.7528388542954073E-2,1.7521484522037844E-2,1.750115714420734E-2,1.7494161086209239E-2,1.7470910409130784E-2,1.7449122308508414E-2,1.7465159352971719E-2,1.7485291476333466E-2,1.7485399418333131E-2,1.7449566735275514E-2,1.7419627059974262E-2,1.7375754587609954E-2,1.7324231590794669E-2,1.7305303716290393E-2,1.7286399546246216E-2,1.7254594259196843E-2,1.7215427446006567E-2,1.7169311262154579E-2,1.7159510455562309E-2,1.7132471185541072E-2,1.7131946174755261E-2,1.7125939474618584E-2,1.7098020828736526E-2,1.7102578342077599E-2,1.712981836782269E-2,1.7160668542296063E-2,1.7178003250894382E-2,{"$f":"AH26/AH$59","v":1.7216127923323811E-2},1.7196437371846222E-2]
["Mississippi","MS","CS",{"$f":"D27/D$59","v":1.0331175098442724E-2},1.0272445780806863E-2,1.0228415247647242E-2,1.021512166725067E-2,1.0219415144361678E-2,1.0224858912979844E-2,1.0200977389705863E-2,1.0185348688601568E-2,1.0167816825375198E-2,1.0136203759739709E-2,1.0094728741171694E-2,1.0011595824534642E-2,9.9389103234778179E-3,9.8870512444759646E-3,9.8666589017798439E-3,9.8334340941707982E-3,9.7358363722555158E-3,9.7212703463356639E-3,9.6937339427511041E-3,9.6448780942771251E-3,9.6034734333029417E-3,9.5613123983296147E-3,9.5087970930534081E-3,9.4597212597773428E-3,9.3970492055894771E-3,9.3229418808989592E-3,9.2567516463950856E-3,9.1986172039326703E-3,9.1264699448426467E-3,9.0708355201451884E-3,{"$f":"AH27/AH$59","v":8.91963911550454E-3},8.8882813986144865E-3]
["Missouri","MO","CN",{"$f":"D28/D$59","v":2.054651943792285E-2},2.0439484411594468E-2,2.0338447196596787E-2,2.0280100167364715E-2,2.0235554913479965E-2,2.01978348277023E-2,2.0162094456317416E-2,2.0103630363702066E-2,2.0016976075150218E-2,1.9932427792976385E-2,1.9872544256080944E-2,1.979563703702391E-2,1.9729930263792991E-2,1.9680271893840282E-2,1.9629907789441705E-2,1.9593823222092511E-2,1.958142544126764E-2,1.9545159542517121E-2,1.948054437883848E-2,1.9431685917632859E-2,1.9384296320869587E-2,1.9292364218756512E-2,1.9198648803494655E-2,1.9119755784810025E-2,1.9030748019334711E-2,1.8941915743490797E-2,1.8854585415552655E-2,1.8797188729030464E-2,1.8743176344574092E-2,1.8702146861392203E-2,{"$f":"AH28/AH$59","v":1.8565493059630456E-2},1.8584824489536553E-2]
["Montana","MT","M",{"$f":"D29/D$59","v":3.2056525089890222E-3},3.2005573099674728E-3,3.2191977003193399E-3,3.2500984500577544E-3,3.2733617579857356E-3,3.2918667944642432E-3,3.2898025408735101E-3,3.2637998759751279E-3,3.2351557836529416E-3,3.2164078972314841E-3,3.2030240909729116E-3,3.1826659854930512E-3,3.1696354220264703E-3,3.1699581272739618E-3,3.1762027748555286E-3,3.1812155499258434E-3,3.1928825020901539E-3,3.2025433540157741E-3,3.2108989627239104E-3,3.207540162568346E-3,3.2028550433416056E-3,3.2014469984048993E-3,3.1992337192826422E-3,3.2087520409538003E-3,3.2120003494245509E-3,3.2159949968540466E-3,3.2257137427566208E-3,3.2414342465179732E-3,3.2487573461387237E-3,3.2592914238318061E-3,{"$f":"AH29/AH$59","v":3.2765896267969927E-3},3.3271823185459549E-3]
["Nebraska","NE","CN",{"$f":"D30/D$59","v":6.3361997032851331E-3},6.3084554658210399E-3,6.2830316965190982E-3,6.2542275737509012E-3,6.2291150057827279E-3,6.222780531802293E-3,6.2129751795327627E-3,6.1853549237718339E-3,6.1475104970705819E-3,6.1093856566198741E-3,6.0738777852305777E-3,6.0351696906773581E-3,6.0088338645634563E-3,5.9930901648249657E-3,5.9745162124764557E-3,5.9607379279564597E-3,5.9410601341017893E-3,5.9205021211497519E-3,5.9073122154617167E-3,5.9089023218970235E-3,5.9147444425851755E-3,5.9082528832778529E-3,5.9057754801295796E-3,5.9033516195584248E-3,5.9046348061006096E-3,5.899061340823436E-3,5.901113206259705E-3,5.8962397047302795E-3,5.8913309579214758E-3,5.8860636452501792E-3,{"$f":"AH30/AH$59","v":5.9168887172252951E-3},5.9166285282056157E-3]
["Nevada","NV","M",{"$f":"D31/D$59","v":4.8901579965363266E-3},5.1235915040730284E-3,5.2681951859324576E-3,5.4294500861169648E-3,5.6980268766553318E-3,5.9395656635196836E-3,6.1854319076792294E-3,6.4702875339599005E-3,6.7180113441415393E-3,6.933474896703761E-3,7.1545355486773181E-3,7.3636056250408052E-3,7.5577211346712593E-3,7.7517700972348112E-3,8.0129082910241605E-3,8.2301400605926701E-3,8.4545168710955312E-3,8.6348025687790035E-3,8.72634874971508E-3,8.7513499337808498E-3,8.7366500520777123E-3,8.7075026933151178E-3,8.7443941773722011E-3,8.7861686567959844E-3,8.8538192228724746E-3,8.9435056343663659E-3,9.0368624146669827E-3,9.1414786753610325E-3,9.2728604222910918E-3,9.4136126532445852E-3,{"$f":"AH31/AH$59","v":9.3938487319558655E-3},9.4728841605616881E-3]
["New Hampshire","NH","NE",{"$f":"D32/D$59","v":4.4562593545636421E-3},4.3874016580561304E-3,4.3575907120066764E-3,4.345429885145421E-3,4.342257235180275E-3,4.3471833630902229E-3,4.3605936345702126E-3,4.3625102318685608E-3,4.3716587229023062E-3,4.3793479940852096E-3,4.3942139408498322E-3,4.4058027303360116E-3,4.4123012548487016E-3,4.4115994580541168E-3,4.4060712316755964E-3,4.3939731453122195E-3,4.3849768277966382E-3,4.3572510732594848E-3,4.3273005949746469E-3,4.290169965544619E-3,4.2570043715820958E-3,4.2378498236239938E-3,4.2203608614874927E-3,4.1994311920833171E-3,4.190685586880208E-3,4.169994995993534E-3,4.1591193881990703E-3,4.1535007423425824E-3,4.1459780531956734E-3,4.1445594212965392E-3,{"$f":"AH32/AH$59","v":4.1563906820454403E-3},4.185050248536621E-3]
["New Jersey","NJ","NE",{"$f":"D33/D$59","v":3.1098772085791804E-2},3.0890374465007624E-2,3.0721524432890709E-2,3.0582326032026614E-2,3.0458075036277038E-2,3.0356357152868954E-2,3.0251555003297695E-2,3.0144510157229906E-2,3.0042757674542338E-2,2.9958382192487785E-2,2.9878611293833891E-2,2.9802091950682837E-2,2.9735375092820884E-2,2.9648972060340038E-2,2.9489087318358562E-2,2.9277455240339985E-2,2.9029028602971102E-2,2.8808054405863731E-2,2.8646046860397092E-2,2.8541116669272136E-2,2.8447070356189208E-2,2.8334467448869666E-2,2.8181906745565092E-2,2.8025762467143615E-2,2.7850683877824415E-2,2.7655857772005108E-2,2.7466294600714942E-2,2.7337871632040992E-2,2.7205296159400268E-2,2.7080252406943815E-2,{"$f":"AH33/AH$59","v":2.799310035430352E-2},2.792197846331813E-2]
["New Mexico","NM","M",{"$f":"D34/D$59","v":6.095492537793441E-3},6.1479137276195051E-3,6.2197018750897804E-3,6.2960214296024107E-3,6.3938916887978092E-3,6.4608847177472636E-3,6.5046888671179085E-3,6.509660800318947E-3,6.5015672197503357E-3,6.4796477616799603E-3,6.4544529285298739E-3,6.4276826224807541E-3,6.4504398263889214E-3,6.4719843424619486E-3,6.5019588545832934E-3,6.5386310161210269E-3,6.575968827284861E-3,6.6064536268315649E-3,6.6119759837654918E-3,6.639475334101164E-3,6.6745322766583078E-3,6.6778475974469259E-3,6.6513653335419582E-3,6.6216330789930812E-3,6.5650934403028343E-3,6.5164231325112905E-3,6.477059562201592E-3,6.43710107606087E-3,6.4060871905612235E-3,6.3948902036360961E-3,{"$f":"AH34/AH$59","v":6.3878102599243414E-3},6.3751638344374346E-3]
["New York","NY","NE",{"$f":"D35/D$59","v":7.2192055330327298E-2},7.1635870782850788E-2,7.1133104104199693E-2,7.0695036247272941E-2,7.0154536448933297E-2,6.9566680913535475E-2,6.9000944355597393E-2,6.8427494643484424E-2,6.7992122386549669E-2,6.7670275341864039E-2,6.7343413790152226E-2,6.6964620760180699E-2,6.6537286947600582E-2,6.6099326556506133E-2,6.5475478520883867E-2,6.4742928365929112E-2,6.4027872627028595E-2,6.3513787932337307E-2,6.3179274001115823E-2,6.293630332298536E-2,6.2716630076009847E-2,6.2583295293501137E-2,6.236302983549049E-2,6.2097359017781524E-2,6.1728250272956912E-2,6.1287593238507194E-2,6.0780277743561956E-2,6.0266119444198518E-2,5.979747183712758E-2,5.927918187835881E-2,{"$f":"AH35/AH$59","v":6.0798996491957129E-2},5.9765853677055586E-2]
["North Carolina","NC","SE",{"$f":"D36/D$59","v":2.6696341945732574E-2},2.6817356173878728E-2,2.6888232131719914E-2,2.7096245998381615E-2,2.7315441611486697E-2,2.7582688618674366E-2,2.7842721414237579E-2,2.8083298573787326E-2,2.8308880987320748E-2,2.8488231844814544E-2,2.8641710181587583E-2,2.8810583945889826E-2,2.8948093569814658E-2,2.9032301574462634E-2,2.9211056146941711E-2,2.9458267418677218E-2,2.9885624471931608E-2,3.0269231036211996E-2,3.0613724837933811E-2,3.0803269230372417E-2,3.0952944856830752E-2,{"$f":"Y36/Y$59","v":3.0999438638404583E-2},3.1068824515457234E-2,{"$f":"AA36/AA$59","v":3.1154586632895942E-2},3.1211437473497802E-2,3.129403716967448E-2,3.1453699813529044E-2,3.1605840129097583E-2,3.1793584812893919E-2,3.1984239951449084E-2,{"$f":"AH36/AH$59","v":3.1544925886817621E-2},3.1790782920600086E-2]
["North Dakota","ND","CN",{"$f":"D37/D$59","v":2.5545942287150086E-3},2.5130470204077549E-3,2.4880608570072901E-3,2.4669878554434131E-3,2.4505538739962736E-3,2.4329123842954845E-3,2.414238306555903E-3,2.3829940499053861E-3,2.347371275650842E-3,2.3088396363064117E-3,2.2753668630936105E-3,2.2425670894571656E-3,2.2187486198401263E-3,2.2019976958024103E-3,2.2018214984620942E-3,2.1863035856067091E-3,2.1764937044421407E-3,2.1671791794135062E-3,2.1623875299123826E-3,2.1676327075319953E-3,2.1813539977641083E-3,2.2001358923132387E-3,2.2372633832094748E-3,2.2880121535931285E-3,2.3202503773332556E-3,2.3556131749917506E-3,2.340390295029041E-3,2.3276022602804814E-3,2.3254992908585941E-3,2.3260868922306338E-3,{"$f":"AH37/AH$59","v":2.349802299286627E-3},2.3349280053470123E-3]
["Ohio","OH","CN",{"$f":"D38/D$59","v":4.3522312027137071E-2},4.3267140823861509E-2,4.2997346611079158E-2,4.2710065814915862E-2,4.2384491030243665E-2,4.2071573565490163E-2,4.1733725129817531E-2,4.1362494735636572E-2,4.1005501951857856E-2,4.0623018833618248E-2,4.0273057490992303E-2,3.9960156361593842E-2,3.9662342790674807E-2,3.941563362901903E-2,3.9112171392472549E-2,3.8790782104256689E-2,3.8478505215190223E-2,3.8178209072475017E-2,3.7867870748872406E-2,3.7581375421576364E-2,3.7304999774947008E-2,3.7055029242708794E-2,3.6800869887962911E-2,3.6637644566839087E-2,3.6454369873399936E-2,3.6236052420866541E-2,3.6029333483516689E-2,3.5880996694263763E-2,3.5739066105917441E-2,3.5624245954800231E-2,{"$f":"AH38/AH$59","v":3.5567265723538515E-2},3.5493338387561357E-2]
["Oklahoma","OK","CS",{"$f":"D39/D$59","v":1.2614331797413357E-2},1.2552091819438683E-2,1.2554925609115539E-2,1.2512706478691705E-2,1.2469091735394528E-2,1.2423869480089585E-2,1.2398663217368043E-2,1.2371006935068129E-2,1.2344184663643794E-2,1.2317749894703332E-2,1.2242470525246539E-2,1.216658846224144E-2,1.213064809660119E-2,1.2081338017047607E-2,1.2039512345162552E-2,1.2008113967229299E-2,1.2045348414741808E-2,1.2064981700252591E-2,1.206527064072031E-2,1.211837360565491E-2,1.2155460925716434E-2,1.2159900094318544E-2,1.2168180353019196E-2,1.2193544410105213E-2,1.2183899390981703E-2,1.219221258765936E-2,1.2158732353436468E-2,1.2098844284139283E-2,1.2065566424198782E-2,1.2063096783618764E-2,{"$f":"AH39/AH$59","v":1.195178911634315E-2},1.2011793111677957E-2]
["Oregon","OR","W",{"$f":"D40/D$59","v":1.1458788378212898E-2},1.1575998525517382E-2,1.1663115414605624E-2,1.1774329121855649E-2,1.1862248973277313E-2,1.1958796070997769E-2,1.2053377494824649E-2,1.2119373801850139E-2,1.2152978517948748E-2,1.2162911971870659E-2,1.2155084682771582E-2,1.2169525624291249E-2,1.2215286023293515E-2,1.2227780065566149E-2,1.2190568355084886E-2,1.2226731128561749E-2,1.2302714936118085E-2,1.2357341847387014E-2,1.2393366595113564E-2,1.2415102576223754E-2,1.2406328014997378E-2,1.2429002935492591E-2,1.2425548142384214E-2,1.2415714288530208E-2,1.2454828109155403E-2,1.2529009802905349E-2,1.2669851005699957E-2,1.2756111143563873E-2,1.2800027698108812E-2,1.2841094641158127E-2,{"$f":"AH40/AH$59","v":1.2794962839940069E-2},1.2793718061785106E-2]
["Pennsylvania","PA","NE",{"$f":"D41/D$59","v":4.768514066987483E-2},4.7363900033876465E-2,4.6973808360818228E-2,4.6628923668975919E-2,4.6236625329142439E-2,4.5810712850441457E-2,4.536274422214541E-2,4.4848530750896967E-2,4.4391842725675021E-2,4.3949962788153135E-2,4.3535823770658101E-2,4.3158982002092124E-2,4.2871873883453593E-2,4.2655358893615637E-2,4.2385578692636906E-2,4.2129579326946706E-2,4.1929126247614149E-2,4.1708616863192396E-2,4.1474959749776816E-2,4.1290852646237587E-2,4.1093729689282391E-2,4.0910551352367749E-2,4.0681846929266345E-2,4.0433905407191627E-2,4.0178835693664469E-2,3.9876155501067635E-2,3.9583986535746525E-2,3.9353454896185962E-2,3.9190972900936837E-2,3.8981770877297935E-2,{"$f":"AH41/AH$59","v":3.9184261481139064E-2},3.9060862686640871E-2]
["Rhode Island","RI","NE",{"$f":"D42/D$59","v":4.0300603293415317E-3},3.9949610275186696E-3,3.9474653070310827E-3,3.9054998251991119E-3,3.8611185939064489E-3,3.8193185280339286E-3,3.7895867159527408E-3,3.7607356107170475E-3,3.7380448035676133E-3,3.7285026290551832E-3,3.7222108936402587E-3,3.7096742696059648E-3,3.7061948186159063E-3,3.6929083218141434E-3,3.6699438409751725E-3,3.6137259416686779E-3,3.5628940060817497E-3,3.5099783004886344E-3,3.469332239232922E-3,3.4346277290941167E-3,3.4073763775718836E-3,3.3821722403826666E-3,3.360841269424264E-3,3.3397461779616131E-3,3.3183302917506865E-3,3.2951590538442608E-3,3.2742447571747647E-3,3.2497142120083565E-3,3.2411694937775617E-3,3.222849424280215E-3,{"$f":"AH42/AH$59","v":3.3068640379693482E-3},3.3010866173449577E-3]
["South Carolina","SC","SE",{"$f":"D43/D$59","v":1.4025781313401908E-2},1.4113331960449938E-2,1.4114086710450802E-2,1.4094082413220866E-2,1.4082224944392667E-2,1.4077679971577717E-2,1.409161302026735E-2,1.4156389256911664E-2,1.4207637092105761E-2,1.4244121297977429E-2,1.4262080429983283E-2,1.4264694201513986E-2,1.4281763558868781E-2,1.4306044502409384E-2,1.4381300573325009E-2,1.4449780535001351E-2,1.4605028102562079E-2,1.4753152717009164E-2,1.4893409624576371E-2,1.4961857819602287E-2,1.4986871035756471E-2,1.4996478584177573E-2,1.5034606062536557E-2,1.5080901725266695E-2,1.5160380834065271E-2,1.5264766965004574E-2,1.5362008356317005E-2,{"$f":"AE43/AE$59","v":1.546219579369879E-2},1.557866251735159E-2,1.5708898785728512E-2,{"$f":"AH43/AH$59","v":1.5477261793536238E-2},1.5639659011952755E-2]
["South Dakota","SD","CN",{"$f":"D44/D$59","v":2.7926173446630562E-3},2.7815099320070914E-3,2.7787971711073613E-3,2.7784045979812725E-3,2.7773405028159513E-3,2.7712537682319572E-3,2.7551178480089799E-3,2.7296218360064028E-3,2.704538338135437E-3,2.6892615689652253E-3,2.6787551088794746E-3,2.6598406131643358E-3,2.6423971838934151E-3,2.6325684792631991E-3,2.6310862722162902E-3,2.624194385777971E-3,2.6242818920061885E-3,2.6279581318412338E-3,2.6278850925966746E-3,2.6308406214580623E-3,2.6386077603283587E-3,2.643721667645147E-3,2.656636967048646E-3,2.6664277077791195E-3,2.6686761415563166E-3,{"$f":"AC44/AC$59","v":2.6646682068223984E-3},2.6733782406945478E-3,2.6873962882034285E-3,2.6905851356744258E-3,2.7019374622820357E-3,{"$f":"AH44/AH$59","v":2.6760063647454785E-3},2.6977790738418406E-3]
["Tennessee","TN","CS",{"$f":"D45/D$59","v":1.9607550774585852E-2},1.9632257593665919E-2,1.9686011641989881E-2,1.9766127692260316E-2,1.9881887608438092E-2,2.0005138006071715E-2,2.0106748070423053E-2,2.0169796523470784E-2,2.0191996128504218E-2,2.0207506469104478E-2,2.0214311962340015E-2,2.0180405265549015E-2,2.015093997694423E-2,2.0157366741156989E-2,2.0186823941962962E-2,2.0273165772322656E-2,2.0406085514228584E-2,2.0501617549870919E-2,2.0544343849295581E-2,2.055607644084859E-2,2.0546266772327834E-2,2.0541198074618083E-2,2.0567733169874317E-2,2.0556046603399575E-2,2.0555584219195542E-2,2.0562993971353541E-2,2.0587615280698246E-2,2.0653002123558934E-2,2.0738640773136804E-2,2.0803234482843543E-2,{"$f":"AH45/AH$59","v":2.0875102428022256E-2},2.1016418974693241E-2]
["Texas","TX","CS",{"$f":"D46/D$59","v":6.833011264747621E-2},6.8771998915127766E-2,6.923490527371301E-2,6.9874233081013815E-2,7.0552034496074792E-2,7.119898383944355E-2,7.1791953833734642E-2,7.2402492711040115E-2,7.3073159716340486E-2,7.3674769289846467E-2,7.4228522948083256E-2,7.4813840686610927E-2,7.5411770345165829E-2,7.5940463854878459E-2,7.6480935122970356E-2,7.7078996838346805E-2,7.8288045074562523E-2,7.9115252491087348E-2,7.9939234966602393E-2,8.0847662365694961E-2,8.1602593148445438E-2,8.2307007796732334E-2,8.310282367274674E-2,8.3780454471822086E-2,8.4686714045438802E-2,8.5641382912113262E-2,8.6402056410038078E-2,8.7016605649185466E-2,8.758022803815535E-2,8.8285560714590053E-2,{"$f":"AH46/AH$59","v":8.8137429295856287E-2},8.8968055122581477E-2]
["Utah","UT","M",{"$f":"D47/D$59","v":6.9353556762644297E-3},7.0352335356361883E-3,7.1606126606062982E-3,7.3038408472733008E-3,7.450602880969253E-3,7.564177390840721E-3,7.6763915302672124E-3,7.7748318635906125E-3,7.8518317059368455E-3,7.8966480553437739E-3,7.9546456668177536E-3,8.0139080413162908E-3,8.0827933594815535E-3,8.1353756017419898E-3,8.2019690777589693E-3,8.3166868064829067E-3,8.4640651010045205E-3,8.6237612160814398E-3,8.7572569591860966E-3,8.8776849953373614E-3,8.9724198564753825E-3,9.033845411079414E-3,9.0931797497586821E-3,9.1715923751641958E-3,9.2288101980660103E-3,9.3023488126298733E-3,9.4228014454559791E-3,9.5457667526093453E-3,9.6535625568050561E-3,9.7565968950752424E-3,{"$f":"AH47/AH$59","v":9.8994669941950119E-3},1.0057360375984188E-2]
["Vermont","VT","NE",{"$f":"D48/D$59","v":2.2626056927633224E-3},2.2476238634909656E-3,2.2328235489974231E-3,2.2228037034427101E-3,2.2188472335445937E-3,2.2119781983211836E-3,2.203836663438635E-3,2.1905216792743949E-3,2.1765708441299826E-3,2.1670105932562367E-3,2.160521657861791E-3,2.1483849003832716E-3,2.1397360696425506E-3,2.129752170548194E-3,2.1171748060378336E-3,2.1021323407961934E-3,2.087580212169243E-3,2.0697755926729067E-3,2.0524938663202545E-3,2.0367502878665118E-3,2.0233788536300548E-3,2.0129340553840208E-3,1.9955577469542895E-3,1.9825447860370615E-3,1.9652005849786344E-3,1.9511503487474305E-3,1.9325923431468034E-3,1.9227605449235988E-3,1.9116553753865226E-3,1.9006672839258134E-3,{"$f":"AH48/AH$59","v":1.9381384820827733E-3},1.9451104750407393E-3]
["Virginia","VA","NE",{"$f":"D49/D$59","v":2.4905111437450583E-2},2.4907872407668844E-2,2.500565816576316E-2,2.5044880591610478E-2,2.5056982149995837E-2,2.5051574500075943E-2,2.5059492353594257E-2,2.5047716932806045E-2,2.5016550052849675E-2,2.5086617637070804E-2,2.5183428844460787E-2,2.5260162111342972E-2,2.5334613160954925E-2,2.5393917787143037E-2,2.5530873420193372E-2,2.5640201009487117E-2,2.5717967903951925E-2,2.5731065772345428E-2,2.576011652924412E-2,2.5836612106203638E-2,2.5940187214673237E-2,2.6004064702005173E-2,2.6084863598862921E-2,2.6121187067085092E-2,2.6117421643439973E-2,2.6087576367468435E-2,2.6055050835378662E-2,2.605485837617303E-2,2.6040163071636556E-2,2.6061106889020264E-2,{"$f":"AH49/AH$59","v":2.6039263582489685E-2},2.6039279529055302E-2]
["Washington","WA","W",{"$f":"D50/D$59","v":1.964180645764213E-2},1.9865622999639329E-2,2.0118794659901591E-2,2.0309597865313118E-2,2.0428101581106327E-2,2.0583821834916961E-2,2.0675097174667596E-2,2.0813537508262748E-2,2.091526613647916E-2,2.0938075123291926E-2,2.0947198384975524E-2,2.1004821384841728E-2,2.1042485662930089E-2,2.1040841375406304E-2,2.1101547827867512E-2,2.1174123623424617E-2,2.1351145783567359E-2,2.1450589613047629E-2,2.1579615953313588E-2,2.173417468607395E-2,2.1798956711664971E-2,2.191219822722245E-2,2.1978623633305897E-2,2.2040919977753461E-2,2.2166564193150391E-2,2.2346166615463039E-2,2.2595478827915488E-2,2.2846648567703763E-2,2.3029110498800662E-2,2.3190159564881369E-2,{"$f":"AH50/AH$59","v":2.3284343447689523E-2},2.331677567469673E-2]
["West Virginia","WV","NE",{"$f":"D51/D$59","v":7.181026330389818E-3},7.1101601286240766E-3,7.0423034318751855E-3,6.9927241987017873E-3,6.9184430212191148E-3,6.8488471011615279E-3,6.7663202534764995E-3,6.6720466405406917E-3,6.5817726605220273E-3,6.4929684245316251E-3,6.404187551402798E-3,6.3216745838156297E-3,6.2769675394881005E-3,6.2469680896316609E-3,6.2035694449763682E-3,6.1603713840791734E-3,6.1261228604424286E-3,6.088519241633554E-3,6.0517807183323065E-3,6.0232936414382834E-3,5.9945111250712321E-3,5.958614988321541E-3,5.9177387398788514E-3,5.8684057173495636E-3,5.812338129631188E-3,5.7471403056156001E-3,5.6719133494043759E-3,5.5938456455969059E-3,5.5255261029020664E-3,5.4678623853730455E-3,{"$f":"AH51/AH$59","v":5.399071399707054E-3},5.3720777413265204E-3]
["Wisconsin","WI","CN",{"$f":"D52/D$59","v":1.9647891638622423E-2},1.9623387360235962E-2,1.959110852269931E-2,{"$f":"G52/G$59","v":1.9563391133842263E-2},1.9510354325887311E-2,1.947148599473484E-2,1.9413871453931815E-2,1.9315138067300779E-2,1.9204615494863183E-2,1.9110746808323309E-2,{"$f":"N52/N$59","v":1.9045765100157156E-2},1.8973417648248735E-2,1.8931450139000862E-2,1.8886774116583707E-2,1.8831715264933491E-2,1.8767697038906433E-2,{"$f":"T52/T$59","v":1.8693131727983082E-2},1.8626141215176289E-2,1.8550174060342914E-2,1.8480411198785008E-2,1.8396503924002557E-2,1.8312395707524687E-2,1.8226289069274385E-2,1.8154821749685354E-2,1.8069868194623393E-2,1.7967653162870491E-2,1.7875812139628237E-2,1.7818371931915995E-2,1.7774296326972479E-2,1.7740023250330743E-2,{"$f":"AH52/AH$59","v":1.7774672106648945E-2},1.7764444460982534E-2]
["Wyoming","WY","M",1.8175021454569452E-3,1.8153936742610188E-3,1.8176418941976489E-3,{"$f":"G53/G$59","v":1.8201122268331189E-3},1.8252978676691711E-3,1.8220028840267187E-3,1.8120911578064515E-3,1.7951825424035134E-3,1.779154244520502E-3,1.7623985948861671E-3,{"$f":"N53/N$59","v":1.7518279569846743E-3},1.735827679895868E-3,1.7384325579574665E-3,1.7353989420206583E-3,1.7387185391706948E-3,1.7398582744247134E-3,1.7516829350093781E-3,1.7756327617144926E-3,1.795639049279919E-3,1.8249770499399896E-3,1.8250289791090204E-3,1.8213128570830749E-3,1.8371998705661316E-3,1.8433844766796725E-3,1.8316081655629127E-3,1.8282435593097858E-3,1.8114954060282986E-3,1.7839265618979955E-3,1.7716839762661892E-3,1.7668689520995364E-3,{"$f":"AH53/AH$59","v":1.7413729089510055E-3},{"$f":"AI53/AI$59","v":1.7439406699273588E-3}]
[]
[]
[]
["Regional Population Distributions",null,"Region",1990,1991,1992,1993,1994,1995,1996,1997,1998,1999,2000,2001,2002,2003,2004,2005,2006,2007,2008,2009,2010,2011,2012,2013,2014,2015,2016,2017,2018,2019,2020,2021,2022,2023,2024,2025]
[null,null,"NE",{"$f":"SUMIF($C$62:$C$112,$C117,D$62:D$112)","v":0.26039542203061616},{"$f":"SUMIF($C$62:$C$112,$C117,E$62:E$112)","v":0.25859071731415534},0.25684451712899942,0.255382635427367,0.25379345039649298,0.2521911719664014,0.2506080121581199,0.24893078108253008,0.24749452340937442,0.24639986598631924,0.24542101747209691,0.24444858914543866,0.24356669618992657,0.24265623580862231,0.2413243151085333,0.23976146260400083,0.23822519258602101,0.2368213297369286,0.23577846000403707,0.23509730265744444,0.23455020887061306,0.23408006665154374,0.23342595498242244,0.23262745785374697,0.23161841223402527,0.23031509539498024,0.22892264908766163,0.22777989445246249,0.22676266491114769,0.22567150308092668,0.22866330631562345,0.22725235150183382]
[null,null,"SE",0.11902389658983653,{"$f":"SUMIF($C$62:$C$112,$C118,E$62:E$112)","v":0.12007816430724716},0.12079421373529758,0.12162099387828315,0.12271469169116626,0.12377851476668632,0.12491467339373837,0.1261262124999209,0.12716305645392897,0.12804403486454322,0.12893515784425305,0.12987071170612252,0.13083562537583415,0.13167401389192621,0.13301891484217609,0.13448827285671353,0.13606117023052142,0.13703751816125745,0.13768965412487008,0.13792977509330731,0.13826392208975985,0.13861712071956728,0.13915113525982617,0.13965849333006436,0.14036167049119749,0.14134760302952126,0.14257053204790374,0.14362904268392337,0.14458950986937733,0.14552178856493181,0.14444489290954948,0.14559647998186889]
[null,null,"CN",0.23951619662456017,0.23851297952125178,0.23752602506752213,0.2365523546165155,0.23551746371558113,0.23461629498417466,0.23365283058492808,0.23233327865333528,0.2309769152464739,0.22971625002748705,0.22856138339418994,0.2273108346135459,0.2260521490549682,0.22500920028270993,0.22380846742738927,0.22249806685139872,0.22129021540833488,0.22007576724944039,0.21876111477989668,0.21758354570120492,0.21651940192005717,0.2155572939375435,0.21456855059663338,0.21380919867078255,0.21284072156251407,0.21165397182732326,0.21053581424968587,0.20964534902404428,0.20885875399160425,0.20814455207502805,0.20794856535610684,0.20742013080119964]
[null,null,"CS",0.16825861918213936,0.16837897681786235,0.16873216746062394,0.16930578277841368,0.16994245882086959,0.17055442797418413,0.17100148271891322,0.17140231455021909,0.17180939965279618,0.17210191043176265,0.17225045259483554,0.17228444059809955,0.17247154702474202,0.17275799900308139,0.17314519015294594,0.17370933535953426,0.17400655309530355,0.17502885084545705,0.17590436503432627,0.17683397535890627,0.17757463657174113,0.17812726727961553,0.17874235026001944,0.17922331044369882,0.17982623242595319,0.18050593810866661,0.18096404001643535,0.18128927539499864,0.1816238835657028,0.18218137411301003,0.18174561904896358,0.18270598019254625]
[null,null,"M",5.5008934399721973E-2,5.5803440939845357E-2,5.675705921087635E-2,5.7909886768082931E-2,5.9280111471842208E-2,6.0516874157341034E-2,6.1512210852996407E-2,6.243182827020697E-2,6.3251420758271559E-2,6.4009006760632384E-2,6.4748018473658409E-2,6.5391502032212598E-2,6.6032574552674889E-2,6.6568741503528622E-2,6.7314164513512326E-2,6.8272310483649012E-2,6.9387693900787792E-2,7.0262056215178267E-2,7.0880035153344678E-2,7.12533821872368E-2,7.1521272868058663E-2,7.1740693467636049E-2,7.2044849754233226E-2,7.2400369667846576E-2,7.2776592113036359E-2,7.3267502360501877E-2,7.3842351213896748E-2,7.4395400733843625E-2,7.5064545928427415E-2,7.5787834075558752E-2,7.5374858507248302E-2,7.6139503623365967E-2]
[null,null,"W",0.15779693117312588,0.15863572109963808,0.15934601739668053,0.15922834653133772,0.1587518239040478,0.15834271615121245,0.15831079029130404,0.15877558494378766,0.15930468447915497,0.15972893192925544,0.1600839702209661,0.16069392190458079,0.16104140780185416,0.16133380951013152,0.16138894795544309,0.16127055184470365,0.16102917477903139,0.16077447779173823,0.16098637090352524,0.16130201900190025,0.16157055767977013,0.16187755794409397,0.16206715914686531,0.16228117003386069,0.16257637117327359,0.16290988927900674,0.16316461338441671,0.16326103771072759,0.16310064173374053,0.16269294809054477,0.16182275786250833,0.16088555389918541]
[]
[]
["Regional Population Distribution By State",null,"Region",1990,1991,1992,1993,1994,1995,1996,1997,1998,1999,2000,2001,2002,2003,2004,2005,2006,2007,2008,2009,2010,2011,2012,2013,2014,2015,2016,2017,2018,2019,2020,2021,2022,2023,2024,2025]
["Alabama","AL",{"$f":"VLOOKUP(B126,B$3:C$53,2,FALSE)","v":"CS"},{"$f":"'ODS subs method'!C4*'state population'!D$181 /('state population'!D3*'ODS subs method'!C$56)","v":0.16594029876110072},{"$f":"'ODS subs method'!D4*'state population'!E$181 /('state population'!E3*'ODS subs method'!D$56)","v":0.16607887078388955},{"$f":"'ODS subs method'!E4*'state population'!F$181 /('state population'!F3*'ODS subs method'!E$56)","v":0.20563769666904611},{"$f":"'ODS subs method'!F4*'state population'!G$181 /('state population'!G3*'ODS subs method'!F$56)","v":0.2173502507634599},{"$f":"'ODS subs method'!G4*'state population'!H$181 /('state population'!H3*'ODS subs method'!G$56)","v":0.22032378773444983},{"$f":"'ODS subs method'!H4*'state population'!I$181 /('state population'!I3*'ODS subs method'!H$56)","v":0.21960304761081972},{"$f":"'ODS subs method'!I4*'state population'!J$181 /('state population'!J3*'ODS subs method'!I$56)","v":0.21827005376555275},{"$f":"'ODS subs method'!J4*'state population'!K$181 /('state population'!K3*'ODS subs method'!J$56)","v":0.21799582999789965},{"$f":"'ODS subs method'!K4*'state population'!L$181 /('state population'!L3*'ODS subs method'!K$56)","v":0.21739627787562293},{"$f":"'ODS subs method'!L4*'state population'!M$181 /('state population'!M3*'ODS subs method'!L$56)","v":0.21712775375362595},{"$f":"'ODS subs method'!M4*'state population'!N$181 /('state population'!N3*'ODS subs method'!M$56)","v":0.21724126635518459},{"$f":"'ODS subs method'!N4*'state population'!O$181 /('state population'!O3*'ODS subs method'!N$56)","v":0.21706406772197787},{"$f":"'ODS subs method'!O4*'state population'!P$181 /('state population'!P3*'ODS subs method'!O$56)","v":0.21626115662226911},{"$f":"'ODS subs method'!P4*'state population'!Q$181 /('state population'!Q3*'ODS subs method'!P$56)","v":0.2154276038679582},{"$f":"'ODS subs method'!Q4*'state population'!R$181 /('state population'!R3*'ODS subs method'!Q$56)","v":0.21484449382647197},{"$f":"'ODS subs method'!R4*'state population'!S$181 /('state population'!S3*'ODS subs method'!R$56)","v":0.21390348203444359},{"$f":"'ODS subs method'!S4*'state population'!T$181 /('state population'!T3*'ODS subs method'!S$56)","v":0.21317886060722091},{"$f":"'ODS subs method'!T4*'state population'!U$181 /('state population'!U3*'ODS subs method'!T$56)","v":0.21243665180304849},{"$f":"'ODS subs method'!U4*'state population'!V$181 /('state population'!V3*'ODS subs method'!U$56)","v":0.21172409492656805},{"$f":"'ODS subs method'!V4*'state population'!W$181 /('state population'!W3*'ODS subs method'!V$56)","v":0.24118119828718268},{"$f":"'ODS subs method'!W4*'state population'!X$181 /('state population'!X3*'ODS subs method'!W$56)","v":0.23925756893754824},{"$f":"'ODS subs method'!X4*'state population'!Y$181 /('state population'!Y3*'ODS subs method'!X$56)","v":0.25887720311846046},{"$f":"'ODS subs method'!Y4*'state population'!Z$181 /('state population'!Z3*'ODS subs method'!Y$56)","v":0.21420940183733864},{"$f":"'ODS subs method'!Z4*'state population'!AA$181 /('state population'!AA3*'ODS subs method'!Z$56)","v":0.21198521855976743},{"$f":"'ODS subs method'!AA4*'state population'!AB$181 /('state population'!AB3*'ODS subs method'!AA$56)","v":0.21221639973744227},{"$f":"'ODS subs method'!AB4*'state population'!AC$181 /('state population'!AC3*'ODS subs method'!AB$56)","v":0.21661149377867411},{"$f":"'ODS subs method'!AC4*'state population'!AD$181 /('state population'!AD3*'ODS subs method'!AC$56)","v":0.21850148137678019},{"$f":"'ODS subs method'!AD4*'state population'!AE$181 /('state population'!AE3*'ODS subs method'!AD$56)","v":0.22716925032429333},{"$f":"'ODS subs method'!AE4*'state population'!AF$181 /('state population'!AF3*'ODS subs method'!AE$56)","v":0.22822958051479561},{"$f":"'ODS subs method'!AF4*'state population'!AG$181 /('state population'!AG3*'ODS subs method'!AF$56)","v":0.21566008798319902},{"$f":"'ODS subs method'!AG4*'state population'!AH$181 /('state population'!AH3*'ODS subs method'!AG$56)","v":0.24571033536840781},{"$f":"'ODS subs method'!AH4*'state population'!AI$181 /('state population'!AI3*'ODS subs method'!AH$56)","v":0.2472292695415321}]
["Alaska","AK",{"$f":"VLOOKUP(B127,B$3:C$53,2,FALSE)","v":"W"},{"$f":"'ODS subs method'!C5*'state population'!D$182 /('state population'!D4*'ODS subs method'!C$56)","v":0.15559806704162243},{"$f":"'ODS subs method'!D5*'state population'!E$182 /('state population'!E4*'ODS subs method'!D$56)","v":0.15644009762902139},{"$f":"'ODS subs method'!E5*'state population'!F$182 /('state population'!F4*'ODS subs method'!E$56)","v":0.15715589905233829},{"$f":"'ODS subs method'!F5*'state population'!G$182 /('state population'!G4*'ODS subs method'!F$56)","v":0.15705293405207768},{"$f":"'ODS subs method'!G5*'state population'!H$182 /('state population'!H4*'ODS subs method'!G$56)","v":0.15659326985532812},{"$f":"'ODS subs method'!H5*'state population'!I$182 /('state population'!I4*'ODS subs method'!H$56)","v":0.15619858376497625},{"$f":"'ODS subs method'!I5*'state population'!J$182 /('state population'!J4*'ODS subs method'!I$56)","v":0.15617465425017285},{"$f":"'ODS subs method'!J5*'state population'!K$182 /('state population'!K4*'ODS subs method'!J$56)","v":0.15664082987827468},{"$f":"'ODS subs method'!K5*'state population'!L$182 /('state population'!L4*'ODS subs method'!K$56)","v":0.1571691585862538},{"$f":"'ODS subs method'!L5*'state population'!M$182 /('state population'!M4*'ODS subs method'!L$56)","v":0.1575928993805584},{"$f":"'ODS subs method'!M5*'state population'!N$182 /('state population'!N4*'ODS subs method'!M$56)","v":0.15795084316626584},{"$f":"'ODS subs method'!N5*'state population'!O$182 /('state population'!O4*'ODS subs method'!N$56)","v":0.15856899169008673},{"$f":"'ODS subs method'!O5*'state population'!P$182 /('state population'!P4*'ODS subs method'!O$56)","v":0.15892860447773738},{"$f":"'ODS subs method'!P5*'state population'!Q$182 /('state population'!Q4*'ODS subs method'!P$56)","v":0.15923375159544303},{"$f":"'ODS subs method'!Q5*'state population'!R$182 /('state population'!R4*'ODS subs method'!Q$56)","v":0.15930685483020568},{"$f":"'ODS subs method'!R5*'state population'!S$182 /('state population'!S4*'ODS subs method'!R$56)","v":0.15921176465820847},{"$f":"'ODS subs method'!S5*'state population'!T$182 /('state population'!T4*'ODS subs method'!S$56)","v":0.15900144271164429},{"$f":"'ODS subs method'!T5*'state population'!U$182 /('state population'!U4*'ODS subs method'!T$56)","v":0.15878044262345534},{"$f":"'ODS subs method'!U5*'state population'!V$182 /('state population'!V4*'ODS subs method'!U$56)","v":0.15901970315671377},{"$f":"'ODS subs method'!V5*'state population'!W$182 /('state population'!W4*'ODS subs method'!V$56)","v":0.15935898361705178},{"$f":"'ODS subs method'!W5*'state population'!X$182 /('state population'!X4*'ODS subs method'!W$56)","v":0.15964980563341674},{"$f":"'ODS subs method'!X5*'state population'!Y$182 /('state population'!Y4*'ODS subs method'!X$56)","v":0.15998864094759119},{"$f":"'ODS subs method'!Y5*'state population'!Z$182 /('state population'!Z4*'ODS subs method'!Y$56)","v":0.16021201393395501},{"$f":"'ODS subs method'!Z5*'state population'!AA$182 /('state population'!AA4*'ODS subs method'!Z$56)","v":0.16045703981827494},{"$f":"'ODS subs method'!AA5*'state population'!AB$182 /('state population'!AB4*'ODS subs method'!AA$56)","v":0.16079119212287479},{"$f":"'ODS subs method'!AB5*'state population'!AC$182 /('state population'!AC4*'ODS subs method'!AB$56)","v":0.16116466255655645},{"$f":"'ODS subs method'!AC5*'state population'!AD$182 /('state population'!AD4*'ODS subs method'!AC$56)","v":0.16146205580682971},{"$f":"'ODS subs method'!AD5*'state population'!AE$182 /('state population'!AE4*'ODS subs method'!AD$56)","v":0.16160814200600251},{"$f":"'ODS subs method'!AE5*'state population'!AF$182 /('state population'!AF4*'ODS subs method'!AE$56)","v":0.16152250029022228},{"$f":"'ODS subs method'!AF5*'state population'!AG$182 /('state population'!AG4*'ODS subs method'!AF$56)","v":0.16112573326851826},{"$f":"'ODS subs method'!AG5*'state population'!AH$182 /('state population'!AH4*'ODS subs method'!AG$56)","v":0.16023657178043813},{"$f":"'ODS subs method'!AH5*'state population'!AI$182 /('state population'!AI4*'ODS subs method'!AH$56)","v":0.15931893585415224}]
["Arizona","AZ","M",{"$f":"'ODS subs method'!C6*'state population'!D$183/('state population'!D5*'ODS subs method'!C$56)","v":5.4261740316790562E-2},{"$f":"'ODS subs method'!D6*'state population'!E$183/('state population'!E5*'ODS subs method'!D$56)","v":5.5052272115756043E-2},{"$f":"'ODS subs method'!E6*'state population'!F$183/('state population'!F5*'ODS subs method'!E$56)","v":4.4370818124945532E-2},{"$f":"'ODS subs method'!F6*'state population'!G$183/('state population'!G5*'ODS subs method'!F$56)","v":4.1668909187177958E-2},{"$f":"'ODS subs method'!G6*'state population'!H$183/('state population'!H5*'ODS subs method'!G$56)","v":4.0879551798863593E-2},{"$f":"'ODS subs method'!H6*'state population'!I$183/('state population'!I5*'ODS subs method'!H$56)","v":4.1254380492370138E-2},{"$f":"'ODS subs method'!I6*'state population'!J$183/('state population'!J5*'ODS subs method'!I$56)","v":4.2015563550400058E-2},{"$f":"'ODS subs method'!J6*'state population'!K$183/('state population'!K5*'ODS subs method'!J$56)","v":4.2402630751502697E-2},{"$f":"'ODS subs method'!K6*'state population'!L$183/('state population'!L5*'ODS subs method'!K$56)","v":4.2899728847096946E-2},{"$f":"'ODS subs method'!L6*'state population'!M$183/('state population'!M5*'ODS subs method'!L$56)","v":4.328562177855811E-2},{"$f":"'ODS subs method'!M6*'state population'!N$183/('state population'!N5*'ODS subs method'!M$56)","v":4.3416932106038246E-2},{"$f":"'ODS subs method'!N6*'state population'!O$183/('state population'!O5*'ODS subs method'!N$56)","v":4.3704864250962337E-2},{"$f":"'ODS subs method'!O6*'state population'!P$183/('state population'!P5*'ODS subs method'!O$56)","v":4.4336000415050099E-2},{"$f":"'ODS subs method'!P6*'state population'!Q$183/('state population'!Q5*'ODS subs method'!P$56)","v":4.499389091924054E-2},{"$f":"'ODS subs method'!Q6*'state population'!R$183/('state population'!R5*'ODS subs method'!Q$56)","v":4.5544612347567182E-2},{"$f":"'ODS subs method'!R6*'state population'!S$183/('state population'!S5*'ODS subs method'!R$56)","v":4.6445012930375583E-2},{"$f":"'ODS subs method'!S6*'state population'!T$183/('state population'!T5*'ODS subs method'!S$56)","v":4.7277142377117422E-2},{"$f":"'ODS subs method'!T6*'state population'!U$183/('state population'!U5*'ODS subs method'!T$56)","v":4.8179287611365959E-2},{"$f":"'ODS subs method'!U6*'state population'!V$183/('state population'!V5*'ODS subs method'!U$56)","v":4.9003918329161122E-2},{"$f":"'ODS subs method'!V6*'state population'!W$183/('state population'!W5*'ODS subs method'!V$56)","v":4.9450099003411283E-2},{"$f":"'ODS subs method'!W6*'state population'!X$183/('state population'!X5*'ODS subs method'!W$56)","v":4.6510481841829612E-2},{"$f":"'ODS subs method'!X6*'state population'!Y$183/('state population'!Y5*'ODS subs method'!X$56)","v":4.1972083972405441E-2},{"$f":"'ODS subs method'!Y6*'state population'!Z$183/('state population'!Z5*'ODS subs method'!Y$56)","v":5.5133630981857293E-2},{"$f":"'ODS subs method'!Z6*'state population'!AA$183/('state population'!AA5*'ODS subs method'!Z$56)","v":4.1435784900443903E-2},{"$f":"'ODS subs method'!AA6*'state population'!AB$183/('state population'!AB5*'ODS subs method'!AA$56)","v":4.1669164349299466E-2},{"$f":"'ODS subs method'!AB6*'state population'!AC$183/('state population'!AC5*'ODS subs method'!AB$56)","v":3.7131658789238492E-2},{"$f":"'ODS subs method'!AC6*'state population'!AD$183/('state population'!AD5*'ODS subs method'!AC$56)","v":3.3847423640809435E-2},{"$f":"'ODS subs method'!AD6*'state population'!AE$183/('state population'!AE5*'ODS subs method'!AD$56)","v":3.1395699046540854E-2},{"$f":"'ODS subs method'!AE6*'state population'!AF$183/('state population'!AF5*'ODS subs method'!AE$56)","v":3.9573874436161227E-2},{"$f":"'ODS subs method'!AF6*'state population'!AG$183/('state population'!AG5*'ODS subs method'!AF$56)","v":3.493890074078277E-2},{"$f":"'ODS subs method'!AG6*'state population'!AH$183/('state population'!AH5*'ODS subs method'!AG$56)","v":4.409255201399042E-2},{"$f":"'ODS subs method'!AH6*'state population'!AI$183/('state population'!AI5*'ODS subs method'!AH$56)","v":4.3684121611195149E-2}]
["Arkansas","AR","CS",{"$f":"'ODS subs method'!C7*'state population'!D$181 /('state population'!D6*'ODS subs method'!C$56)","v":0.16594029876110067},{"$f":"'ODS subs method'!D7*'state population'!E$181 /('state population'!E6*'ODS subs method'!D$56)","v":0.16607887078388958},{"$f":"'ODS subs method'!E7*'state population'!F$181 /('state population'!F6*'ODS subs method'!E$56)","v":0.20563769666904611},{"$f":"'ODS subs method'!F7*'state population'!G$181 /('state population'!G6*'ODS subs method'!F$56)","v":0.21735025076345993},{"$f":"'ODS subs method'!G7*'state population'!H$181 /('state population'!H6*'ODS subs method'!G$56)","v":0.22032378773444977},{"$f":"'ODS subs method'!H7*'state population'!I$181 /('state population'!I6*'ODS subs method'!H$56)","v":0.21960304761081975},{"$f":"'ODS subs method'!I7*'state population'!J$181 /('state population'!J6*'ODS subs method'!I$56)","v":0.21827005376555261},{"$f":"'ODS subs method'!J7*'state population'!K$181 /('state population'!K6*'ODS subs method'!J$56)","v":0.21799582999789971},{"$f":"'ODS subs method'!K7*'state population'!L$181 /('state population'!L6*'ODS subs method'!K$56)","v":0.21739627787562296},{"$f":"'ODS subs method'!L7*'state population'!M$181 /('state population'!M6*'ODS subs method'!L$56)","v":0.21712775375362603},{"$f":"'ODS subs method'!M7*'state population'!N$181 /('state population'!N6*'ODS subs method'!M$56)","v":0.21724126635518454},{"$f":"'ODS subs method'!N7*'state population'!O$181 /('state population'!O6*'ODS subs method'!N$56)","v":0.21706406772197781},{"$f":"'ODS subs method'!O7*'state population'!P$181 /('state population'!P6*'ODS subs method'!O$56)","v":0.21626115662226916},{"$f":"'ODS subs method'!P7*'state population'!Q$181 /('state population'!Q6*'ODS subs method'!P$56)","v":0.21542760386795817},{"$f":"'ODS subs method'!Q7*'state population'!R$181 /('state population'!R6*'ODS subs method'!Q$56)","v":0.21484449382647194},{"$f":"'ODS subs method'!R7*'state population'!S$181 /('state population'!S6*'ODS subs method'!R$56)","v":0.21390348203444357},{"$f":"'ODS subs method'!S7*'state population'!T$181 /('state population'!T6*'ODS subs method'!S$56)","v":0.21317886060722094},{"$f":"'ODS subs method'!T7*'state population'!U$181 /('state population'!U6*'ODS subs method'!T$56)","v":0.21243665180304847},{"$f":"'ODS subs method'!U7*'state population'!V$181 /('state population'!V6*'ODS subs method'!U$56)","v":0.21172409492656802},{"$f":"'ODS subs method'!V7*'state population'!W$181 /('state population'!W6*'ODS subs method'!V$56)","v":0.24118119828718276},{"$f":"'ODS subs method'!W7*'state population'!X$181 /('state population'!X6*'ODS subs method'!W$56)","v":0.23925756893754818},{"$f":"'ODS subs method'!X7*'state population'!Y$181 /('state population'!Y6*'ODS subs method'!X$56)","v":0.25887720311846041},{"$f":"'ODS subs method'!Y7*'state population'!Z$181 /('state population'!Z6*'ODS subs method'!Y$56)","v":0.21420940183733864},{"$f":"'ODS subs method'!Z7*'state population'!AA$181 /('state population'!AA6*'ODS subs method'!Z$56)","v":0.21198521855976743},{"$f":"'ODS subs method'!AA7*'state population'!AB$181 /('state population'!AB6*'ODS subs method'!AA$56)","v":0.21221639973744222},{"$f":"'ODS subs method'!AB7*'state population'!AC$181 /('state population'!AC6*'ODS subs method'!AB$56)","v":0.21661149377867414},{"$f":"'ODS subs method'!AC7*'state population'!AD$181 /('state population'!AD6*'ODS subs method'!AC$56)","v":0.21850148137678022},{"$f":"'ODS subs method'!AD7*'state population'!AE$181 /('state population'!AE6*'ODS subs method'!AD$56)","v":0.22716925032429341},{"$f":"'ODS subs method'!AE7*'state population'!AF$181 /('state population'!AF6*'ODS subs method'!AE$56)","v":0.22822958051479561},{"$f":"'ODS subs method'!AF7*'state population'!AG$181 /('state population'!AG6*'ODS subs method'!AF$56)","v":0.21566008798319899},{"$f":"'ODS subs method'!AG7*'state population'!AH$181 /('state population'!AH6*'ODS subs method'!AG$56)","v":0.24571033536840789},{"$f":"'ODS subs method'!AH7*'state population'!AI$181 /('state population'!AI6*'ODS subs method'!AH$56)","v":0.2472292695415321}]
["California","CA","W",{"$f":"'ODS subs method'!C8*'state population'!D$182 /('state population'!D7*'ODS subs method'!C$56)","v":0.15555916924281141},{"$f":"'ODS subs method'!D8*'state population'!E$182 /('state population'!E7*'ODS subs method'!D$56)","v":0.15639358856153476},{"$f":"'ODS subs method'!E8*'state population'!F$182 /('state population'!F7*'ODS subs method'!E$56)","v":0.11885676233323515},{"$f":"'ODS subs method'!F8*'state population'!G$182 /('state population'!G7*'ODS subs method'!F$56)","v":0.10712005906476885},{"$f":"'ODS subs method'!G8*'state population'!H$182 /('state population'!H7*'ODS subs method'!G$56)","v":0.10419120716570467},{"$f":"'ODS subs method'!H8*'state population'!I$182 /('state population'!I7*'ODS subs method'!H$56)","v":0.10491357986077605},{"$f":"'ODS subs method'!I8*'state population'!J$182 /('state population'!J7*'ODS subs method'!I$56)","v":0.10614596474235168},{"$f":"'ODS subs method'!J8*'state population'!K$182 /('state population'!K7*'ODS subs method'!J$56)","v":0.10632598827520709},{"$f":"'ODS subs method'!K8*'state population'!L$182 /('state population'!L7*'ODS subs method'!K$56)","v":0.1068414348911929},{"$f":"'ODS subs method'!L8*'state population'!M$182 /('state population'!M7*'ODS subs method'!L$56)","v":0.10694212935329955},{"$f":"'ODS subs method'!M8*'state population'!N$182 /('state population'!N7*'ODS subs method'!M$56)","v":0.10672997012822008},{"$f":"'ODS subs method'!N8*'state population'!O$182 /('state population'!O7*'ODS subs method'!N$56)","v":0.10681297304615006},{"$f":"'ODS subs method'!O8*'state population'!P$182 /('state population'!P7*'ODS subs method'!O$56)","v":0.10752227192834973},{"$f":"'ODS subs method'!P8*'state population'!Q$182 /('state population'!Q7*'ODS subs method'!P$56)","v":0.1082756101642912},{"$f":"'ODS subs method'!Q8*'state population'!R$182 /('state population'!R7*'ODS subs method'!Q$56)","v":0.10880620880865836},{"$f":"'ODS subs method'!R8*'state population'!S$182 /('state population'!S7*'ODS subs method'!R$56)","v":0.10955393324393953},{"$f":"'ODS subs method'!S8*'state population'!T$182 /('state population'!T7*'ODS subs method'!S$56)","v":0.1100872521277708},{"$f":"'ODS subs method'!T8*'state population'!U$182 /('state population'!U7*'ODS subs method'!T$56)","v":0.11064752269237441},{"$f":"'ODS subs method'!U8*'state population'!V$182 /('state population'!V7*'ODS subs method'!U$56)","v":0.11120508054119739},{"$f":"'ODS subs method'!V8*'state population'!W$182 /('state population'!W7*'ODS subs method'!V$56)","v":7.0802572052194243E-2},{"$f":"'ODS subs method'!W8*'state population'!X$182 /('state population'!X7*'ODS subs method'!W$56)","v":9.5405130947568306E-2},{"$f":"'ODS subs method'!X8*'state population'!Y$182 /('state population'!Y7*'ODS subs method'!X$56)","v":9.195570137699445E-2},{"$f":"'ODS subs method'!Y8*'state population'!Z$182 /('state population'!Z7*'ODS subs method'!Y$56)","v":7.4860964284490628E-2},{"$f":"'ODS subs method'!Z8*'state population'!AA$182 /('state population'!AA7*'ODS subs method'!Z$56)","v":8.1549532699434019E-2},{"$f":"'ODS subs method'!AA8*'state population'!AB$182 /('state population'!AB7*'ODS subs method'!AA$56)","v":8.3277589263463361E-2},{"$f":"'ODS subs method'!AB8*'state population'!AC$182 /('state population'!AC7*'ODS subs method'!AB$56)","v":8.3427604344494283E-2},{"$f":"'ODS subs method'!AC8*'state population'!AD$182 /('state population'!AD7*'ODS subs method'!AC$56)","v":7.9595408108484977E-2},{"$f":"'ODS subs method'!AD8*'state population'!AE$182 /('state population'!AE7*'ODS subs method'!AD$56)","v":9.1974605457836672E-2},{"$f":"'ODS subs method'!AE8*'state population'!AF$182 /('state population'!AF7*'ODS subs method'!AE$56)","v":7.940872462964893E-2},{"$f":"'ODS subs method'!AF8*'state population'!AG$182 /('state population'!AG7*'ODS subs method'!AF$56)","v":8.5076108539276024E-2},{"$f":"'ODS subs method'!AG8*'state population'!AH$182 /('state population'!AH7*'ODS subs method'!AG$56)","v":8.9324886918848531E-2},{"$f":"'ODS subs method'!AH8*'state population'!AI$182 /('state population'!AI7*'ODS subs method'!AH$56)","v":8.8251659025802301E-2}]
["Colorado","CO","M",{"$f":"'ODS subs method'!C9*'state population'!D$183 /('state population'!D8*'ODS subs method'!C$56)","v":5.4261740316790548E-2},{"$f":"'ODS subs method'!D9*'state population'!E$183 /('state population'!E8*'ODS subs method'!D$56)","v":5.5052272115756043E-2},{"$f":"'ODS subs method'!E9*'state population'!F$183 /('state population'!F8*'ODS subs method'!E$56)","v":4.4370818124945519E-2},{"$f":"'ODS subs method'!F9*'state population'!G$183 /('state population'!G8*'ODS subs method'!F$56)","v":4.1668909187177958E-2},{"$f":"'ODS subs method'!G9*'state population'!H$183 /('state population'!H8*'ODS subs method'!G$56)","v":4.0879551798863586E-2},{"$f":"'ODS subs method'!H9*'state population'!I$183 /('state population'!I8*'ODS subs method'!H$56)","v":4.1254380492370145E-2},{"$f":"'ODS subs method'!I9*'state population'!J$183 /('state population'!J8*'ODS subs method'!I$56)","v":4.2015563550400065E-2},{"$f":"'ODS subs method'!J9*'state population'!K$183 /('state population'!K8*'ODS subs method'!J$56)","v":4.2402630751502711E-2},{"$f":"'ODS subs method'!K9*'state population'!L$183 /('state population'!L8*'ODS subs method'!K$56)","v":4.2899728847096953E-2},{"$f":"'ODS subs method'!L9*'state population'!M$183 /('state population'!M8*'ODS subs method'!L$56)","v":4.3285621778558096E-2},{"$f":"'ODS subs method'!M9*'state population'!N$183 /('state population'!N8*'ODS subs method'!M$56)","v":4.3416932106038246E-2},{"$f":"'ODS subs method'!N9*'state population'!O$183 /('state population'!O8*'ODS subs method'!N$56)","v":4.3704864250962316E-2},{"$f":"'ODS subs method'!O9*'state population'!P$183 /('state population'!P8*'ODS subs method'!O$56)","v":4.4336000415050078E-2},{"$f":"'ODS subs method'!P9*'state population'!Q$183 /('state population'!Q8*'ODS subs method'!P$56)","v":4.499389091924054E-2},{"$f":"'ODS subs method'!Q9*'state population'!R$183 /('state population'!R8*'ODS subs method'!Q$56)","v":4.5544612347567189E-2},{"$f":"'ODS subs method'!R9*'state population'!S$183 /('state population'!S8*'ODS subs method'!R$56)","v":4.644501293037559E-2},{"$f":"'ODS subs method'!S9*'state population'!T$183 /('state population'!T8*'ODS subs method'!S$56)","v":4.7277142377117408E-2},{"$f":"'ODS subs method'!T9*'state population'!U$183 /('state population'!U8*'ODS subs method'!T$56)","v":4.8179287611365938E-2},{"$f":"'ODS subs method'!U9*'state population'!V$183 /('state population'!V8*'ODS subs method'!U$56)","v":4.9003918329161109E-2},{"$f":"'ODS subs method'!V9*'state population'!W$183 /('state population'!W8*'ODS subs method'!V$56)","v":4.9450099003411283E-2},{"$f":"'ODS subs method'!W9*'state population'!X$183 /('state population'!X8*'ODS subs method'!W$56)","v":4.6510481841829591E-2},{"$f":"'ODS subs method'!X9*'state population'!Y$183 /('state population'!Y8*'ODS subs method'!X$56)","v":4.1972083972405448E-2},{"$f":"'ODS subs method'!Y9*'state population'!Z$183 /('state population'!Z8*'ODS subs method'!Y$56)","v":5.5133630981857321E-2},{"$f":"'ODS subs method'!Z9*'state population'!AA$183 /('state population'!AA8*'ODS subs method'!Z$56)","v":4.1435784900443903E-2},{"$f":"'ODS subs method'!AA9*'state population'!AB$183 /('state population'!AB8*'ODS subs method'!AA$56)","v":4.1669164349299473E-2},{"$f":"'ODS subs method'!AB9*'state population'!AC$183 /('state population'!AC8*'ODS subs method'!AB$56)","v":3.7131658789238513E-2},{"$f":"'ODS subs method'!AC9*'state population'!AD$183 /('state population'!AD8*'ODS subs method'!AC$56)","v":3.3847423640809442E-2},{"$f":"'ODS subs method'!AD9*'state population'!AE$183 /('state population'!AE8*'ODS subs method'!AD$56)","v":3.1395699046540854E-2},{"$f":"'ODS subs method'!AE9*'state population'!AF$183 /('state population'!AF8*'ODS subs method'!AE$56)","v":3.9573874436161227E-2},{"$f":"'ODS subs method'!AF9*'state population'!AG$183 /('state population'!AG8*'ODS subs method'!AF$56)","v":3.4938900740782791E-2},{"$f":"'ODS subs method'!AG9*'state population'!AH$183 /('state population'!AH8*'ODS subs method'!AG$56)","v":4.4092552013990448E-2},{"$f":"'ODS subs method'!AH9*'state population'!AI$183 /('state population'!AI8*'ODS subs method'!AH$56)","v":4.3684121611195129E-2}]
["Connecticut","CT","NE",{"$f":"'ODS subs method'!C10*'state population'!D$184 /('state population'!D9*'ODS subs method'!C$56)","v":0.2567189576777823},{"$f":"'ODS subs method'!D10*'state population'!E$184 /('state population'!E9*'ODS subs method'!D$56)","v":0.2549588589741395},{"$f":"'ODS subs method'!E10*'state population'!F$184 /('state population'!F9*'ODS subs method'!E$56)","v":0.22403013317437867},{"$f":"'ODS subs method'!F10*'state population'!G$184 /('state population'!G9*'ODS subs method'!F$56)","v":0.214789466238516},{"$f":"'ODS subs method'!G10*'state population'!H$184 /('state population'!H9*'ODS subs method'!G$56)","v":0.2125369565454073},{"$f":"'ODS subs method'!H10*'state population'!I$184 /('state population'!I9*'ODS subs method'!H$56)","v":0.21295640716140288},{"$f":"'ODS subs method'!I10*'state population'!J$184 /('state population'!J9*'ODS subs method'!I$56)","v":0.21365251652593181},{"$f":"'ODS subs method'!J10*'state population'!K$184 /('state population'!K9*'ODS subs method'!J$56)","v":0.21358550479572622},{"$f":"'ODS subs method'!K10*'state population'!L$184 /('state population'!L9*'ODS subs method'!K$56)","v":0.21373373710957427},{"$f":"'ODS subs method'!L10*'state population'!M$184 /('state population'!M9*'ODS subs method'!L$56)","v":0.21367338464303598},{"$f":"'ODS subs method'!M10*'state population'!N$184 /('state population'!N9*'ODS subs method'!M$56)","v":0.21346737536684871},{"$f":"'ODS subs method'!N10*'state population'!O$184 /('state population'!O9*'ODS subs method'!N$56)","v":0.21341243948231542},{"$f":"'ODS subs method'!O10*'state population'!P$184 /('state population'!P9*'ODS subs method'!O$56)","v":0.21369233613146235},{"$f":"'ODS subs method'!P10*'state population'!Q$184 /('state population'!Q9*'ODS subs method'!P$56)","v":0.21398842620162975},{"$f":"'ODS subs method'!Q10*'state population'!R$184 /('state population'!R9*'ODS subs method'!Q$56)","v":0.21411784334638659},{"$f":"'ODS subs method'!R10*'state population'!S$184 /('state population'!S9*'ODS subs method'!R$56)","v":0.21435600820602935},{"$f":"'ODS subs method'!S10*'state population'!T$184 /('state population'!T9*'ODS subs method'!S$56)","v":0.21449286257896702},{"$f":"'ODS subs method'!T10*'state population'!U$184 /('state population'!U9*'ODS subs method'!T$56)","v":0.21470594632444054},{"$f":"'ODS subs method'!U10*'state population'!V$184 /('state population'!V9*'ODS subs method'!U$56)","v":0.21491676734325188},{"$f":"'ODS subs method'!V10*'state population'!W$184 /('state population'!W9*'ODS subs method'!V$56)","v":0.20720463342337703},{"$f":"'ODS subs method'!W10*'state population'!X$184 /('state population'!X9*'ODS subs method'!W$56)","v":0.18057210646699531},{"$f":"'ODS subs method'!X10*'state population'!Y$184 /('state population'!Y9*'ODS subs method'!X$56)","v":0.18618401858947525},{"$f":"'ODS subs method'!Y10*'state population'!Z$184 /('state population'!Z9*'ODS subs method'!Y$56)","v":0.19900434460910033},{"$f":"'ODS subs method'!Z10*'state population'!AA$184 /('state population'!AA9*'ODS subs method'!Z$56)","v":0.23058590647941302},{"$f":"'ODS subs method'!AA10*'state population'!AB$184 /('state population'!AB9*'ODS subs method'!AA$56)","v":0.25306061243119099},{"$f":"'ODS subs method'!AB10*'state population'!AC$184 /('state population'!AC9*'ODS subs method'!AB$56)","v":0.23683121839347543},{"$f":"'ODS subs method'!AC10*'state population'!AD$184 /('state population'!AD9*'ODS subs method'!AC$56)","v":0.23651801915220316},{"$f":"'ODS subs method'!AD10*'state population'!AE$184 /('state population'!AE9*'ODS subs method'!AD$56)","v":0.20277038831449881},{"$f":"'ODS subs method'!AE10*'state population'!AF$184 /('state population'!AF9*'ODS subs method'!AE$56)","v":0.22451526534430619},{"$f":"'ODS subs method'!AF10*'state population'!AG$184 /('state population'!AG9*'ODS subs method'!AF$56)","v":0.20921134836043168},{"$f":"'ODS subs method'!AG10*'state population'!AH$184 /('state population'!AH9*'ODS subs method'!AG$56)","v":0.22513665198467595},{"$f":"'ODS subs method'!AH10*'state population'!AI$184 /('state population'!AI9*'ODS subs method'!AH$56)","v":0.22557491765935658}]
["Delaware","DE","NE",{"$f":"'ODS subs method'!C11*'state population'!D$184 /('state population'!D10*'ODS subs method'!C$56)","v":0.25671895767778224},{"$f":"'ODS subs method'!D11*'state population'!E$184 /('state population'!E10*'ODS subs method'!D$56)","v":0.25495885897413945},{"$f":"'ODS subs method'!E11*'state population'!F$184 /('state population'!F10*'ODS subs method'!E$56)","v":0.22403013317437867},{"$f":"'ODS subs method'!F11*'state population'!G$184 /('state population'!G10*'ODS subs method'!F$56)","v":0.21478946623851602},{"$f":"'ODS subs method'!G11*'state population'!H$184 /('state population'!H10*'ODS subs method'!G$56)","v":0.2125369565454073},{"$f":"'ODS subs method'!H11*'state population'!I$184 /('state population'!I10*'ODS subs method'!H$56)","v":0.21295640716140288},{"$f":"'ODS subs method'!I11*'state population'!J$184 /('state population'!J10*'ODS subs method'!I$56)","v":0.21365251652593184},{"$f":"'ODS subs method'!J11*'state population'!K$184 /('state population'!K10*'ODS subs method'!J$56)","v":0.21358550479572622},{"$f":"'ODS subs method'!K11*'state population'!L$184 /('state population'!L10*'ODS subs method'!K$56)","v":0.21373373710957436},{"$f":"'ODS subs method'!L11*'state population'!M$184 /('state population'!M10*'ODS subs method'!L$56)","v":0.21367338464303601},{"$f":"'ODS subs method'!M11*'state population'!N$184 /('state population'!N10*'ODS subs method'!M$56)","v":0.21346737536684862},{"$f":"'ODS subs method'!N11*'state population'!O$184 /('state population'!O10*'ODS subs method'!N$56)","v":0.21341243948231545},{"$f":"'ODS subs method'!O11*'state population'!P$184 /('state population'!P10*'ODS subs method'!O$56)","v":0.21369233613146232},{"$f":"'ODS subs method'!P11*'state population'!Q$184 /('state population'!Q10*'ODS subs method'!P$56)","v":0.21398842620162972},{"$f":"'ODS subs method'!Q11*'state population'!R$184 /('state population'!R10*'ODS subs method'!Q$56)","v":0.21411784334638662},{"$f":"'ODS subs method'!R11*'state population'!S$184 /('state population'!S10*'ODS subs method'!R$56)","v":0.2143560082060294},{"$f":"'ODS subs method'!S11*'state population'!T$184 /('state population'!T10*'ODS subs method'!S$56)","v":0.21449286257896699},{"$f":"'ODS subs method'!T11*'state population'!U$184 /('state population'!U10*'ODS subs method'!T$56)","v":0.21470594632444059},{"$f":"'ODS subs method'!U11*'state population'!V$184 /('state population'!V10*'ODS subs method'!U$56)","v":0.21491676734325182},{"$f":"'ODS subs method'!V11*'state population'!W$184 /('state population'!W10*'ODS subs method'!V$56)","v":0.207204633423377},{"$f":"'ODS subs method'!W11*'state population'!X$184 /('state population'!X10*'ODS subs method'!W$56)","v":0.18057210646699529},{"$f":"'ODS subs method'!X11*'state population'!Y$184 /('state population'!Y10*'ODS subs method'!X$56)","v":0.1861840185894752},{"$f":"'ODS subs method'!Y11*'state population'!Z$184 /('state population'!Z10*'ODS subs method'!Y$56)","v":0.19900434460910038},{"$f":"'ODS subs method'!Z11*'state population'!AA$184 /('state population'!AA10*'ODS subs method'!Z$56)","v":0.23058590647941304},{"$f":"'ODS subs method'!AA11*'state population'!AB$184 /('state population'!AB10*'ODS subs method'!AA$56)","v":0.25306061243119093},{"$f":"'ODS subs method'!AB11*'state population'!AC$184 /('state population'!AC10*'ODS subs method'!AB$56)","v":0.23683121839347537},{"$f":"'ODS subs method'!AC11*'state population'!AD$184 /('state population'!AD10*'ODS subs method'!AC$56)","v":0.23651801915220316},{"$f":"'ODS subs method'!AD11*'state population'!AE$184 /('state population'!AE10*'ODS subs method'!AD$56)","v":0.20277038831449884},{"$f":"'ODS subs method'!AE11*'state population'!AF$184 /('state population'!AF10*'ODS subs method'!AE$56)","v":0.22451526534430619},{"$f":"'ODS subs method'!AF11*'state population'!AG$184 /('state population'!AG10*'ODS subs method'!AF$56)","v":0.20921134836043159},{"$f":"'ODS subs method'!AG11*'state population'!AH$184 /('state population'!AH10*'ODS subs method'!AG$56)","v":0.22513665198467586},{"$f":"'ODS subs method'!AH11*'state population'!AI$184 /('state population'!AI10*'ODS subs method'!AH$56)","v":0.22557491765935644}]
["District of Columbia","DC","NE",{"$f":"'ODS subs method'!C12*'state population'!D$184 /('state population'!D11*'ODS subs method'!C$56)","v":0.2567189576777823},{"$f":"'ODS subs method'!D12*'state population'!E$184 /('state population'!E11*'ODS subs method'!D$56)","v":0.2549588589741395},{"$f":"'ODS subs method'!E12*'state population'!F$184 /('state population'!F11*'ODS subs method'!E$56)","v":0.22403013317437867},{"$f":"'ODS subs method'!F12*'state population'!G$184 /('state population'!G11*'ODS subs method'!F$56)","v":0.21478946623851597},{"$f":"'ODS subs method'!G12*'state population'!H$184 /('state population'!H11*'ODS subs method'!G$56)","v":0.21253695654540733},{"$f":"'ODS subs method'!H12*'state population'!I$184 /('state population'!I11*'ODS subs method'!H$56)","v":0.21295640716140288},{"$f":"'ODS subs method'!I12*'state population'!J$184 /('state population'!J11*'ODS subs method'!I$56)","v":0.21365251652593178},{"$f":"'ODS subs method'!J12*'state population'!K$184 /('state population'!K11*'ODS subs method'!J$56)","v":0.21358550479572616},{"$f":"'ODS subs method'!K12*'state population'!L$184 /('state population'!L11*'ODS subs method'!K$56)","v":0.21373373710957425},{"$f":"'ODS subs method'!L12*'state population'!M$184 /('state population'!M11*'ODS subs method'!L$56)","v":0.21367338464303601},{"$f":"'ODS subs method'!M12*'state population'!N$184 /('state population'!N11*'ODS subs method'!M$56)","v":0.21346737536684868},{"$f":"'ODS subs method'!N12*'state population'!O$184 /('state population'!O11*'ODS subs method'!N$56)","v":0.21341243948231547},{"$f":"'ODS subs method'!O12*'state population'!P$184 /('state population'!P11*'ODS subs method'!O$56)","v":0.21369233613146238},{"$f":"'ODS subs method'!P12*'state population'!Q$184 /('state population'!Q11*'ODS subs method'!P$56)","v":0.21398842620162972},{"$f":"'ODS subs method'!Q12*'state population'!R$184 /('state population'!R11*'ODS subs method'!Q$56)","v":0.21411784334638656},{"$f":"'ODS subs method'!R12*'state population'!S$184 /('state population'!S11*'ODS subs method'!R$56)","v":0.21435600820602935},{"$f":"'ODS subs method'!S12*'state population'!T$184 /('state population'!T11*'ODS subs method'!S$56)","v":0.21449286257896699},{"$f":"'ODS subs method'!T12*'state population'!U$184 /('state population'!U11*'ODS subs method'!T$56)","v":0.21470594632444059},{"$f":"'ODS subs method'!U12*'state population'!V$184 /('state population'!V11*'ODS subs method'!U$56)","v":0.21491676734325188},{"$f":"'ODS subs method'!V12*'state population'!W$184 /('state population'!W11*'ODS subs method'!V$56)","v":0.20720463342337703},{"$f":"'ODS subs method'!W12*'state population'!X$184 /('state population'!X11*'ODS subs method'!W$56)","v":0.18057210646699529},{"$f":"'ODS subs method'!X12*'state population'!Y$184 /('state population'!Y11*'ODS subs method'!X$56)","v":0.18618401858947525},{"$f":"'ODS subs method'!Y12*'state population'!Z$184 /('state population'!Z11*'ODS subs method'!Y$56)","v":0.19900434460910033},{"$f":"'ODS subs method'!Z12*'state population'!AA$184 /('state population'!AA11*'ODS subs method'!Z$56)","v":0.23058590647941307},{"$f":"'ODS subs method'!AA12*'state population'!AB$184 /('state population'!AB11*'ODS subs method'!AA$56)","v":0.25306061243119093},{"$f":"'ODS subs method'!AB12*'state population'!AC$184 /('state population'!AC11*'ODS subs method'!AB$56)","v":0.23683121839347535},{"$f":"'ODS subs method'!AC12*'state population'!AD$184 /('state population'!AD11*'ODS subs method'!AC$56)","v":0.23651801915220319},{"$f":"'ODS subs method'!AD12*'state population'!AE$184 /('state population'!AE11*'ODS subs method'!AD$56)","v":0.20277038831449881},{"$f":"'ODS subs method'!AE12*'state population'!AF$184 /('state population'!AF11*'ODS subs method'!AE$56)","v":0.22451526534430608},{"$f":"'ODS subs method'!AF12*'state population'!AG$184 /('state population'!AG11*'ODS subs method'!AF$56)","v":0.20921134836043151},{"$f":"'ODS subs method'!AG12*'state population'!AH$184 /('state population'!AH11*'ODS subs method'!AG$56)","v":0.22513665198467586},{"$f":"'ODS subs method'!AH12*'state population'!AI$184 /('state population'!AI11*'ODS subs method'!AH$56)","v":0.22557491765935653}]
["Florida","FL","SE",{"$f":"'ODS subs method'!C13*'state population'!D$185 /('state population'!D12*'ODS subs method'!C$56)","v":0.11743368240204841},{"$f":"'ODS subs method'!D13*'state population'!E$185 /('state population'!E12*'ODS subs method'!D$56)","v":0.11849390784084714},{"$f":"'ODS subs method'!E13*'state population'!F$185 /('state population'!F12*'ODS subs method'!E$56)","v":0.13233887404744196},{"$f":"'ODS subs method'!F13*'state population'!G$185 /('state population'!G12*'ODS subs method'!F$56)","v":0.13757877375331856},{"$f":"'ODS subs method'!G13*'state population'!H$185 /('state population'!H12*'ODS subs method'!G$56)","v":0.13874014765592596},{"$f":"'ODS subs method'!H13*'state population'!I$185 /('state population'!I12*'ODS subs method'!H$56)","v":0.13866342185194419},{"$f":"'ODS subs method'!I13*'state population'!J$185 /('state population'!J12*'ODS subs method'!I$56)","v":0.13876697874312746},{"$f":"'ODS subs method'!J13*'state population'!K$185 /('state population'!K12*'ODS subs method'!J$56)","v":0.1392701760205724},{"$f":"'ODS subs method'!K13*'state population'!L$185 /('state population'!L12*'ODS subs method'!K$56)","v":0.13967188602544947},{"$f":"'ODS subs method'!L13*'state population'!M$185 /('state population'!M12*'ODS subs method'!L$56)","v":0.14025921671602279},{"$f":"'ODS subs method'!M13*'state population'!N$185 /('state population'!N12*'ODS subs method'!M$56)","v":0.14069750455080696},{"$f":"'ODS subs method'!N13*'state population'!O$185 /('state population'!O12*'ODS subs method'!N$56)","v":0.14118350305911975},{"$f":"'ODS subs method'!O13*'state population'!P$185 /('state population'!P12*'ODS subs method'!O$56)","v":0.1416707970286013},{"$f":"'ODS subs method'!P13*'state population'!Q$185 /('state population'!Q12*'ODS subs method'!P$56)","v":0.14215730263977525},{"$f":"'ODS subs method'!Q13*'state population'!R$185 /('state population'!R12*'ODS subs method'!Q$56)","v":0.14268347184153751},{"$f":"'ODS subs method'!R13*'state population'!S$185 /('state population'!S12*'ODS subs method'!R$56)","v":0.14356796507710684},{"$f":"'ODS subs method'!S13*'state population'!T$185 /('state population'!T12*'ODS subs method'!S$56)","v":0.14451403544422042},{"$f":"'ODS subs method'!T13*'state population'!U$185 /('state population'!U12*'ODS subs method'!T$56)","v":0.14548001337209296},{"$f":"'ODS subs method'!U13*'state population'!V$185 /('state population'!V12*'ODS subs method'!U$56)","v":0.14638018717700088},{"$f":"'ODS subs method'!V13*'state population'!W$185 /('state population'!W12*'ODS subs method'!V$56)","v":0.16664068898661252},{"$f":"'ODS subs method'!W13*'state population'!X$185 /('state population'!X12*'ODS subs method'!W$56)","v":0.16383344551011797},{"$f":"'ODS subs method'!X13*'state population'!Y$185 /('state population'!Y12*'ODS subs method'!X$56)","v":0.14707767714325354},{"$f":"'ODS subs method'!Y13*'state population'!Z$185 /('state population'!Z12*'ODS subs method'!Y$56)","v":0.17708171997802483},{"$f":"'ODS subs method'!Z13*'state population'!AA$185 /('state population'!AA12*'ODS subs method'!Z$56)","v":0.16154541677273923},{"$f":"'ODS subs method'!AA13*'state population'!AB$185 /('state population'!AB12*'ODS subs method'!AA$56)","v":0.1682286078698616},{"$f":"'ODS subs method'!AB13*'state population'!AC$185 /('state population'!AC12*'ODS subs method'!AB$56)","v":0.17349068730558137},{"$f":"'ODS subs method'!AC13*'state population'!AD$185 /('state population'!AD12*'ODS subs method'!AC$56)","v":0.19689193766760132},{"$f":"'ODS subs method'!AD13*'state population'!AE$185 /('state population'!AE12*'ODS subs method'!AD$56)","v":0.19628830031957778},{"$f":"'ODS subs method'!AE13*'state population'!AF$185 /('state population'!AF12*'ODS subs method'!AE$56)","v":0.21319829282416597},{"$f":"'ODS subs method'!AF13*'state population'!AG$185 /('state population'!AG12*'ODS subs method'!AF$56)","v":0.24215742636920887},{"$f":"'ODS subs method'!AG13*'state population'!AH$185 /('state population'!AH12*'ODS subs method'!AG$56)","v":0.20137703906291415},{"$f":"'ODS subs method'!AH13*'state population'!AI$185 /('state population'!AI12*'ODS subs method'!AH$56)","v":0.20370521265020952}]
["Georgia","GA","SE",{"$f":"'ODS subs method'!C14*'state population'!D$185 /('state population'!D13*'ODS subs method'!C$56)","v":0.11743368240204838},{"$f":"'ODS subs method'!D14*'state population'!E$185 /('state population'!E13*'ODS subs method'!D$56)","v":0.11849390784084717},{"$f":"'ODS subs method'!E14*'state population'!F$185 /('state population'!F13*'ODS subs method'!E$56)","v":0.13233887404744199},{"$f":"'ODS subs method'!F14*'state population'!G$185 /('state population'!G13*'ODS subs method'!F$56)","v":0.13757877375331856},{"$f":"'ODS subs method'!G14*'state population'!H$185 /('state population'!H13*'ODS subs method'!G$56)","v":0.13874014765592593},{"$f":"'ODS subs method'!H14*'state population'!I$185 /('state population'!I13*'ODS subs method'!H$56)","v":0.13866342185194422},{"$f":"'ODS subs method'!I14*'state population'!J$185 /('state population'!J13*'ODS subs method'!I$56)","v":0.13876697874312741},{"$f":"'ODS subs method'!J14*'state population'!K$185 /('state population'!K13*'ODS subs method'!J$56)","v":0.13927017602057237},{"$f":"'ODS subs method'!K14*'state population'!L$185 /('state population'!L13*'ODS subs method'!K$56)","v":0.1396718860254495},{"$f":"'ODS subs method'!L14*'state population'!M$185 /('state population'!M13*'ODS subs method'!L$56)","v":0.14025921671602279},{"$f":"'ODS subs method'!M14*'state population'!N$185 /('state population'!N13*'ODS subs method'!M$56)","v":0.14069750455080696},{"$f":"'ODS subs method'!N14*'state population'!O$185 /('state population'!O13*'ODS subs method'!N$56)","v":0.14118350305911978},{"$f":"'ODS subs method'!O14*'state population'!P$185 /('state population'!P13*'ODS subs method'!O$56)","v":0.14167079702860128},{"$f":"'ODS subs method'!P14*'state population'!Q$185 /('state population'!Q13*'ODS subs method'!P$56)","v":0.14215730263977525},{"$f":"'ODS subs method'!Q14*'state population'!R$185 /('state population'!R13*'ODS subs method'!Q$56)","v":0.14268347184153754},{"$f":"'ODS subs method'!R14*'state population'!S$185 /('state population'!S13*'ODS subs method'!R$56)","v":0.14356796507710684},{"$f":"'ODS subs method'!S14*'state population'!T$185 /('state population'!T13*'ODS subs method'!S$56)","v":0.14451403544422045},{"$f":"'ODS subs method'!T14*'state population'!U$185 /('state population'!U13*'ODS subs method'!T$56)","v":0.14548001337209296},{"$f":"'ODS subs method'!U14*'state population'!V$185 /('state population'!V13*'ODS subs method'!U$56)","v":0.14638018717700088},{"$f":"'ODS subs method'!V14*'state population'!W$185 /('state population'!W13*'ODS subs method'!V$56)","v":0.16664068898661261},{"$f":"'ODS subs method'!W14*'state population'!X$185 /('state population'!X13*'ODS subs method'!W$56)","v":0.16383344551011794},{"$f":"'ODS subs method'!X14*'state population'!Y$185 /('state population'!Y13*'ODS subs method'!X$56)","v":0.14707767714325359},{"$f":"'ODS subs method'!Y14*'state population'!Z$185 /('state population'!Z13*'ODS subs method'!Y$56)","v":0.1770817199780248},{"$f":"'ODS subs method'!Z14*'state population'!AA$185 /('state population'!AA13*'ODS subs method'!Z$56)","v":0.16154541677273929},{"$f":"'ODS subs method'!AA14*'state population'!AB$185 /('state population'!AB13*'ODS subs method'!AA$56)","v":0.16822860786986157},{"$f":"'ODS subs method'!AB14*'state population'!AC$185 /('state population'!AC13*'ODS subs method'!AB$56)","v":0.17349068730558151},{"$f":"'ODS subs method'!AC14*'state population'!AD$185 /('state population'!AD13*'ODS subs method'!AC$56)","v":0.19689193766760138},{"$f":"'ODS subs method'!AD14*'state population'!AE$185 /('state population'!AE13*'ODS subs method'!AD$56)","v":0.19628830031957784},{"$f":"'ODS subs method'!AE14*'state population'!AF$185 /('state population'!AF13*'ODS subs method'!AE$56)","v":0.21319829282416586},{"$f":"'ODS subs method'!AF14*'state population'!AG$185 /('state population'!AG13*'ODS subs method'!AF$56)","v":0.24215742636920901},{"$f":"'ODS subs method'!AG14*'state population'!AH$185 /('state population'!AH13*'ODS subs method'!AG$56)","v":0.2013770390629141},{"$f":"'ODS subs method'!AH14*'state population'!AI$185 /('state population'!AI13*'ODS subs method'!AH$56)","v":0.20370521265020966}]
["Hawaii","HI","W",{"$f":"'ODS subs method'!C15*'state population'!D$182 /('state population'!D14*'ODS subs method'!C$56)","v":0.15559806704162243},{"$f":"'ODS subs method'!D15*'state population'!E$182 /('state population'!E14*'ODS subs method'!D$56)","v":0.15644009762902139},{"$f":"'ODS subs method'!E15*'state population'!F$182 /('state population'!F14*'ODS subs method'!E$56)","v":0.15715589905233829},{"$f":"'ODS subs method'!F15*'state population'!G$182 /('state population'!G14*'ODS subs method'!F$56)","v":0.15705293405207768},{"$f":"'ODS subs method'!G15*'state population'!H$182 /('state population'!H14*'ODS subs method'!G$56)","v":0.15659326985532809},{"$f":"'ODS subs method'!H15*'state population'!I$182 /('state population'!I14*'ODS subs method'!H$56)","v":0.15619858376497628},{"$f":"'ODS subs method'!I15*'state population'!J$182 /('state population'!J14*'ODS subs method'!I$56)","v":0.15617465425017293},{"$f":"'ODS subs method'!J15*'state population'!K$182 /('state population'!K14*'ODS subs method'!J$56)","v":0.15664082987827468},{"$f":"'ODS subs method'!K15*'state population'!L$182 /('state population'!L14*'ODS subs method'!K$56)","v":0.15716915858625377},{"$f":"'ODS subs method'!L15*'state population'!M$182 /('state population'!M14*'ODS subs method'!L$56)","v":0.15759289938055843},{"$f":"'ODS subs method'!M15*'state population'!N$182 /('state population'!N14*'ODS subs method'!M$56)","v":0.15795084316626581},{"$f":"'ODS subs method'!N15*'state population'!O$182 /('state population'!O14*'ODS subs method'!N$56)","v":0.15856899169008673},{"$f":"'ODS subs method'!O15*'state population'!P$182 /('state population'!P14*'ODS subs method'!O$56)","v":0.15892860447773735},{"$f":"'ODS subs method'!P15*'state population'!Q$182 /('state population'!Q14*'ODS subs method'!P$56)","v":0.15923375159544303},{"$f":"'ODS subs method'!Q15*'state population'!R$182 /('state population'!R14*'ODS subs method'!Q$56)","v":0.15930685483020557},{"$f":"'ODS subs method'!R15*'state population'!S$182 /('state population'!S14*'ODS subs method'!R$56)","v":0.15921176465820849},{"$f":"'ODS subs method'!S15*'state population'!T$182 /('state population'!T14*'ODS subs method'!S$56)","v":0.15900144271164429},{"$f":"'ODS subs method'!T15*'state population'!U$182 /('state population'!U14*'ODS subs method'!T$56)","v":0.15878044262345534},{"$f":"'ODS subs method'!U15*'state population'!V$182 /('state population'!V14*'ODS subs method'!U$56)","v":0.15901970315671379},{"$f":"'ODS subs method'!V15*'state population'!W$182 /('state population'!W14*'ODS subs method'!V$56)","v":0.15935898361705181},{"$f":"'ODS subs method'!W15*'state population'!X$182 /('state population'!X14*'ODS subs method'!W$56)","v":0.15964980563341677},{"$f":"'ODS subs method'!X15*'state population'!Y$182 /('state population'!Y14*'ODS subs method'!X$56)","v":0.15998864094759119},{"$f":"'ODS subs method'!Y15*'state population'!Z$182 /('state population'!Z14*'ODS subs method'!Y$56)","v":0.16021201393395501},{"$f":"'ODS subs method'!Z15*'state population'!AA$182 /('state population'!AA14*'ODS subs method'!Z$56)","v":0.16045703981827497},{"$f":"'ODS subs method'!AA15*'state population'!AB$182 /('state population'!AB14*'ODS subs method'!AA$56)","v":0.16079119212287477},{"$f":"'ODS subs method'!AB15*'state population'!AC$182 /('state population'!AC14*'ODS subs method'!AB$56)","v":0.16116466255655645},{"$f":"'ODS subs method'!AC15*'state population'!AD$182 /('state population'!AD14*'ODS subs method'!AC$56)","v":0.16146205580682971},{"$f":"'ODS subs method'!AD15*'state population'!AE$182 /('state population'!AE14*'ODS subs method'!AD$56)","v":0.16160814200600249},{"$f":"'ODS subs method'!AE15*'state population'!AF$182 /('state population'!AF14*'ODS subs method'!AE$56)","v":0.16152250029022219},{"$f":"'ODS subs method'!AF15*'state population'!AG$182 /('state population'!AG14*'ODS subs method'!AF$56)","v":0.16112573326851828},{"$f":"'ODS subs method'!AG15*'state population'!AH$182 /('state population'!AH14*'ODS subs method'!AG$56)","v":0.16023657178043801},{"$f":"'ODS subs method'!AH15*'state population'!AI$182 /('state population'!AI14*'ODS subs method'!AH$56)","v":0.15931893585415224}]
["Idaho","ID","M",{"$f":"'ODS subs method'!C16*'state population'!D$183/('state population'!D15*'ODS subs method'!C$56)","v":5.4261740316790548E-2},{"$f":"'ODS subs method'!D16*'state population'!E$183/('state population'!E15*'ODS subs method'!D$56)","v":5.5052272115756043E-2},{"$f":"'ODS subs method'!E16*'state population'!F$183/('state population'!F15*'ODS subs method'!E$56)","v":4.4370818124945526E-2},{"$f":"'ODS subs method'!F16*'state population'!G$183/('state population'!G15*'ODS subs method'!F$56)","v":4.1668909187177958E-2},{"$f":"'ODS subs method'!G16*'state population'!H$183/('state population'!H15*'ODS subs method'!G$56)","v":4.0879551798863586E-2},{"$f":"'ODS subs method'!H16*'state population'!I$183/('state population'!I15*'ODS subs method'!H$56)","v":4.1254380492370159E-2},{"$f":"'ODS subs method'!I16*'state population'!J$183/('state population'!J15*'ODS subs method'!I$56)","v":4.2015563550400065E-2},{"$f":"'ODS subs method'!J16*'state population'!K$183/('state population'!K15*'ODS subs method'!J$56)","v":4.2402630751502711E-2},{"$f":"'ODS subs method'!K16*'state population'!L$183/('state population'!L15*'ODS subs method'!K$56)","v":4.2899728847096946E-2},{"$f":"'ODS subs method'!L16*'state population'!M$183/('state population'!M15*'ODS subs method'!L$56)","v":4.328562177855811E-2},{"$f":"'ODS subs method'!M16*'state population'!N$183/('state population'!N15*'ODS subs method'!M$56)","v":4.3416932106038246E-2},{"$f":"'ODS subs method'!N16*'state population'!O$183/('state population'!O15*'ODS subs method'!N$56)","v":4.370486425096233E-2},{"$f":"'ODS subs method'!O16*'state population'!P$183/('state population'!P15*'ODS subs method'!O$56)","v":4.4336000415050092E-2},{"$f":"'ODS subs method'!P16*'state population'!Q$183/('state population'!Q15*'ODS subs method'!P$56)","v":4.4993890919240546E-2},{"$f":"'ODS subs method'!Q16*'state population'!R$183/('state population'!R15*'ODS subs method'!Q$56)","v":4.5544612347567189E-2},{"$f":"'ODS subs method'!R16*'state population'!S$183/('state population'!S15*'ODS subs method'!R$56)","v":4.6445012930375583E-2},{"$f":"'ODS subs method'!S16*'state population'!T$183/('state population'!T15*'ODS subs method'!S$56)","v":4.7277142377117408E-2},{"$f":"'ODS subs method'!T16*'state population'!U$183/('state population'!U15*'ODS subs method'!T$56)","v":4.8179287611365931E-2},{"$f":"'ODS subs method'!U16*'state population'!V$183/('state population'!V15*'ODS subs method'!U$56)","v":4.9003918329161116E-2},{"$f":"'ODS subs method'!V16*'state population'!W$183/('state population'!W15*'ODS subs method'!V$56)","v":4.9450099003411296E-2},{"$f":"'ODS subs method'!W16*'state population'!X$183/('state population'!X15*'ODS subs method'!W$56)","v":4.6510481841829591E-2},{"$f":"'ODS subs method'!X16*'state population'!Y$183/('state population'!Y15*'ODS subs method'!X$56)","v":4.1972083972405441E-2},{"$f":"'ODS subs method'!Y16*'state population'!Z$183/('state population'!Z15*'ODS subs method'!Y$56)","v":5.5133630981857328E-2},{"$f":"'ODS subs method'!Z16*'state population'!AA$183/('state population'!AA15*'ODS subs method'!Z$56)","v":4.1435784900443903E-2},{"$f":"'ODS subs method'!AA16*'state population'!AB$183/('state population'!AB15*'ODS subs method'!AA$56)","v":4.1669164349299466E-2},{"$f":"'ODS subs method'!AB16*'state population'!AC$183/('state population'!AC15*'ODS subs method'!AB$56)","v":3.7131658789238492E-2},{"$f":"'ODS subs method'!AC16*'state population'!AD$183/('state population'!AD15*'ODS subs method'!AC$56)","v":3.3847423640809442E-2},{"$f":"'ODS subs method'!AD16*'state population'!AE$183/('state population'!AE15*'ODS subs method'!AD$56)","v":3.1395699046540854E-2},{"$f":"'ODS subs method'!AE16*'state population'!AF$183/('state population'!AF15*'ODS subs method'!AE$56)","v":3.9573874436161234E-2},{"$f":"'ODS subs method'!AF16*'state population'!AG$183/('state population'!AG15*'ODS subs method'!AF$56)","v":3.4938900740782784E-2},{"$f":"'ODS subs method'!AG16*'state population'!AH$183/('state population'!AH15*'ODS subs method'!AG$56)","v":4.4092552013990413E-2},{"$f":"'ODS subs method'!AH16*'state population'!AI$183/('state population'!AI15*'ODS subs method'!AH$56)","v":4.3684121611195136E-2}]
["Illinois","IL","CN",{"$f":"'ODS subs method'!C17*'state population'!D$186 /('state population'!D16*'ODS subs method'!C$56)","v":0.23614973443681467},{"$f":"'ODS subs method'!D17*'state population'!E$186 /('state population'!E16*'ODS subs method'!D$56)","v":0.23517986106494068},{"$f":"'ODS subs method'!E17*'state population'!F$186 /('state population'!F16*'ODS subs method'!E$56)","v":0.25938404350375377},{"$f":"'ODS subs method'!F17*'state population'!G$186 /('state population'!G16*'ODS subs method'!F$56)","v":0.2656920711360588},{"$f":"'ODS subs method'!G17*'state population'!H$186 /('state population'!H16*'ODS subs method'!G$56)","v":0.26748472381211968},{"$f":"'ODS subs method'!H17*'state population'!I$186 /('state population'!I16*'ODS subs method'!H$56)","v":0.26687711783117524},{"$f":"'ODS subs method'!I17*'state population'!J$186 /('state population'!J16*'ODS subs method'!I$56)","v":0.26552965118542154},{"$f":"'ODS subs method'!J17*'state population'!K$186 /('state population'!K16*'ODS subs method'!J$56)","v":0.26485405067100437},{"$f":"'ODS subs method'!K17*'state population'!L$186 /('state population'!L16*'ODS subs method'!K$56)","v":0.26394992491190172},{"$f":"'ODS subs method'!L17*'state population'!M$186 /('state population'!M16*'ODS subs method'!L$56)","v":0.26325362890151921},{"$f":"'ODS subs method'!M17*'state population'!N$186 /('state population'!N16*'ODS subs method'!M$56)","v":0.26303372288776977},{"$f":"'ODS subs method'!N17*'state population'!O$186 /('state population'!O16*'ODS subs method'!N$56)","v":0.26249685750998952},{"$f":"'ODS subs method'!O17*'state population'!P$186 /('state population'!P16*'ODS subs method'!O$56)","v":0.26130918632434019},{"$f":"'ODS subs method'!P17*'state population'!Q$186 /('state population'!Q16*'ODS subs method'!P$56)","v":0.26007216007341311},{"$f":"'ODS subs method'!Q17*'state population'!R$186 /('state population'!R16*'ODS subs method'!Q$56)","v":0.2590366941944886},{"$f":"'ODS subs method'!R17*'state population'!S$186 /('state population'!S16*'ODS subs method'!R$56)","v":0.25736565131768185},{"$f":"'ODS subs method'!S17*'state population'!T$186 /('state population'!T16*'ODS subs method'!S$56)","v":0.25583669577828333},{"$f":"'ODS subs method'!T17*'state population'!U$186 /('state population'!U16*'ODS subs method'!T$56)","v":0.25416417403924335},{"$f":"'ODS subs method'!U17*'state population'!V$186 /('state population'!V16*'ODS subs method'!U$56)","v":0.25258096822485809},{"$f":"'ODS subs method'!V17*'state population'!W$186 /('state population'!W16*'ODS subs method'!V$56)","v":0.24901395775116913},{"$f":"'ODS subs method'!W17*'state population'!X$186 /('state population'!X16*'ODS subs method'!W$56)","v":0.25986210101172835},{"$f":"'ODS subs method'!X17*'state population'!Y$186 /('state population'!Y16*'ODS subs method'!X$56)","v":0.25942938806295951},{"$f":"'ODS subs method'!Y17*'state population'!Z$186 /('state population'!Z16*'ODS subs method'!Y$56)","v":0.26469604334002395},{"$f":"'ODS subs method'!Z17*'state population'!AA$186 /('state population'!AA16*'ODS subs method'!Z$56)","v":0.25835540410160335},{"$f":"'ODS subs method'!AA17*'state population'!AB$186 /('state population'!AB16*'ODS subs method'!AA$56)","v":0.22734384127013257},{"$f":"'ODS subs method'!AB17*'state population'!AC$186 /('state population'!AC16*'ODS subs method'!AB$56)","v":0.23857884455835418},{"$f":"'ODS subs method'!AC17*'state population'!AD$186 /('state population'!AD16*'ODS subs method'!AC$56)","v":0.22083876985683443},{"$f":"'ODS subs method'!AD17*'state population'!AE$186 /('state population'!AE16*'ODS subs method'!AD$56)","v":0.23743502593793933},{"$f":"'ODS subs method'!AE17*'state population'!AF$186 /('state population'!AF16*'ODS subs method'!AE$56)","v":0.20207159089387741},{"$f":"'ODS subs method'!AF17*'state population'!AG$186 /('state population'!AG16*'ODS subs method'!AF$56)","v":0.20026332988313855},{"$f":"'ODS subs method'!AG17*'state population'!AH$186 /('state population'!AH16*'ODS subs method'!AG$56)","v":0.18166907892347517},{"$f":"'ODS subs method'!AH17*'state population'!AI$186 /('state population'!AI16*'ODS subs method'!AH$56)","v":0.17892361924935651}]
["Indiana","IN","CN",{"$f":"'ODS subs method'!C18*'state population'!D$186 /('state population'!D17*'ODS subs method'!C$56)","v":0.2361497344368147},{"$f":"'ODS subs method'!D18*'state population'!E$186 /('state population'!E17*'ODS subs method'!D$56)","v":0.23517986106494054},{"$f":"'ODS subs method'!E18*'state population'!F$186 /('state population'!F17*'ODS subs method'!E$56)","v":0.25938404350375383},{"$f":"'ODS subs method'!F18*'state population'!G$186 /('state population'!G17*'ODS subs method'!F$56)","v":0.2656920711360588},{"$f":"'ODS subs method'!G18*'state population'!H$186 /('state population'!H17*'ODS subs method'!G$56)","v":0.26748472381211974},{"$f":"'ODS subs method'!H18*'state population'!I$186 /('state population'!I17*'ODS subs method'!H$56)","v":0.26687711783117524},{"$f":"'ODS subs method'!I18*'state population'!J$186 /('state population'!J17*'ODS subs method'!I$56)","v":0.26552965118542171},{"$f":"'ODS subs method'!J18*'state population'!K$186 /('state population'!K17*'ODS subs method'!J$56)","v":0.26485405067100437},{"$f":"'ODS subs method'!K18*'state population'!L$186 /('state population'!L17*'ODS subs method'!K$56)","v":0.26394992491190172},{"$f":"'ODS subs method'!L18*'state population'!M$186 /('state population'!M17*'ODS subs method'!L$56)","v":0.26325362890151927},{"$f":"'ODS subs method'!M18*'state population'!N$186 /('state population'!N17*'ODS subs method'!M$56)","v":0.26303372288776977},{"$f":"'ODS subs method'!N18*'state population'!O$186 /('state population'!O17*'ODS subs method'!N$56)","v":0.26249685750998941},{"$f":"'ODS subs method'!O18*'state population'!P$186 /('state population'!P17*'ODS subs method'!O$56)","v":0.26130918632434019},{"$f":"'ODS subs method'!P18*'state population'!Q$186 /('state population'!Q17*'ODS subs method'!P$56)","v":0.26007216007341316},{"$f":"'ODS subs method'!Q18*'state population'!R$186 /('state population'!R17*'ODS subs method'!Q$56)","v":0.25903669419448855},{"$f":"'ODS subs method'!R18*'state population'!S$186 /('state population'!S17*'ODS subs method'!R$56)","v":0.25736565131768185},{"$f":"'ODS subs method'!S18*'state population'!T$186 /('state population'!T17*'ODS subs method'!S$56)","v":0.25583669577828333},{"$f":"'ODS subs method'!T18*'state population'!U$186 /('state population'!U17*'ODS subs method'!T$56)","v":0.2541641740392433},{"$f":"'ODS subs method'!U18*'state population'!V$186 /('state population'!V17*'ODS subs method'!U$56)","v":0.25258096822485809},{"$f":"'ODS subs method'!V18*'state population'!W$186 /('state population'!W17*'ODS subs method'!V$56)","v":0.24901395775116908},{"$f":"'ODS subs method'!W18*'state population'!X$186 /('state population'!X17*'ODS subs method'!W$56)","v":0.25986210101172841},{"$f":"'ODS subs method'!X18*'state population'!Y$186 /('state population'!Y17*'ODS subs method'!X$56)","v":0.25942938806295951},{"$f":"'ODS subs method'!Y18*'state population'!Z$186 /('state population'!Z17*'ODS subs method'!Y$56)","v":0.26469604334002406},{"$f":"'ODS subs method'!Z18*'state population'!AA$186 /('state population'!AA17*'ODS subs method'!Z$56)","v":0.2583554041016034},{"$f":"'ODS subs method'!AA18*'state population'!AB$186 /('state population'!AB17*'ODS subs method'!AA$56)","v":0.22734384127013246},{"$f":"'ODS subs method'!AB18*'state population'!AC$186 /('state population'!AC17*'ODS subs method'!AB$56)","v":0.23857884455835415},{"$f":"'ODS subs method'!AC18*'state population'!AD$186 /('state population'!AD17*'ODS subs method'!AC$56)","v":0.2208387698568344},{"$f":"'ODS subs method'!AD18*'state population'!AE$186 /('state population'!AE17*'ODS subs method'!AD$56)","v":0.23743502593793944},{"$f":"'ODS subs method'!AE18*'state population'!AF$186 /('state population'!AF17*'ODS subs method'!AE$56)","v":0.20207159089387744},{"$f":"'ODS subs method'!AF18*'state population'!AG$186 /('state population'!AG17*'ODS subs method'!AF$56)","v":0.20026332988313858},{"$f":"'ODS subs method'!AG18*'state population'!AH$186 /('state population'!AH17*'ODS subs method'!AG$56)","v":0.1816690789234752},{"$f":"'ODS subs method'!AH18*'state population'!AI$186 /('state population'!AI17*'ODS subs method'!AH$56)","v":0.17892361924935654}]
["Iowa","IA","CN",{"$f":"'ODS subs method'!C19*'state population'!D$186 /('state population'!D18*'ODS subs method'!C$56)","v":0.23614973443681464},{"$f":"'ODS subs method'!D19*'state population'!E$186 /('state population'!E18*'ODS subs method'!D$56)","v":0.2351798610649406},{"$f":"'ODS subs method'!E19*'state population'!F$186 /('state population'!F18*'ODS subs method'!E$56)","v":0.25938404350375377},{"$f":"'ODS subs method'!F19*'state population'!G$186 /('state population'!G18*'ODS subs method'!F$56)","v":0.2656920711360588},{"$f":"'ODS subs method'!G19*'state population'!H$186 /('state population'!H18*'ODS subs method'!G$56)","v":0.26748472381211974},{"$f":"'ODS subs method'!H19*'state population'!I$186 /('state population'!I18*'ODS subs method'!H$56)","v":0.26687711783117529},{"$f":"'ODS subs method'!I19*'state population'!J$186 /('state population'!J18*'ODS subs method'!I$56)","v":0.26552965118542154},{"$f":"'ODS subs method'!J19*'state population'!K$186 /('state population'!K18*'ODS subs method'!J$56)","v":0.26485405067100432},{"$f":"'ODS subs method'!K19*'state population'!L$186 /('state population'!L18*'ODS subs method'!K$56)","v":0.26394992491190178},{"$f":"'ODS subs method'!L19*'state population'!M$186 /('state population'!M18*'ODS subs method'!L$56)","v":0.26325362890151927},{"$f":"'ODS subs method'!M19*'state population'!N$186 /('state population'!N18*'ODS subs method'!M$56)","v":0.26303372288776977},{"$f":"'ODS subs method'!N19*'state population'!O$186 /('state population'!O18*'ODS subs method'!N$56)","v":0.26249685750998952},{"$f":"'ODS subs method'!O19*'state population'!P$186 /('state population'!P18*'ODS subs method'!O$56)","v":0.26130918632434014},{"$f":"'ODS subs method'!P19*'state population'!Q$186 /('state population'!Q18*'ODS subs method'!P$56)","v":0.26007216007341322},{"$f":"'ODS subs method'!Q19*'state population'!R$186 /('state population'!R18*'ODS subs method'!Q$56)","v":0.25903669419448855},{"$f":"'ODS subs method'!R19*'state population'!S$186 /('state population'!S18*'ODS subs method'!R$56)","v":0.25736565131768185},{"$f":"'ODS subs method'!S19*'state population'!T$186 /('state population'!T18*'ODS subs method'!S$56)","v":0.25583669577828333},{"$f":"'ODS subs method'!T19*'state population'!U$186 /('state population'!U18*'ODS subs method'!T$56)","v":0.2541641740392433},{"$f":"'ODS subs method'!U19*'state population'!V$186 /('state population'!V18*'ODS subs method'!U$56)","v":0.25258096822485815},{"$f":"'ODS subs method'!V19*'state population'!W$186 /('state population'!W18*'ODS subs method'!V$56)","v":0.24901395775116919},{"$f":"'ODS subs method'!W19*'state population'!X$186 /('state population'!X18*'ODS subs method'!W$56)","v":0.25986210101172835},{"$f":"'ODS subs method'!X19*'state population'!Y$186 /('state population'!Y18*'ODS subs method'!X$56)","v":0.25942938806295951},{"$f":"'ODS subs method'!Y19*'state population'!Z$186 /('state population'!Z18*'ODS subs method'!Y$56)","v":0.264696043340024},{"$f":"'ODS subs method'!Z19*'state population'!AA$186 /('state population'!AA18*'ODS subs method'!Z$56)","v":0.25835540410160346},{"$f":"'ODS subs method'!AA19*'state population'!AB$186 /('state population'!AB18*'ODS subs method'!AA$56)","v":0.22734384127013255},{"$f":"'ODS subs method'!AB19*'state population'!AC$186 /('state population'!AC18*'ODS subs method'!AB$56)","v":0.23857884455835418},{"$f":"'ODS subs method'!AC19*'state population'!AD$186 /('state population'!AD18*'ODS subs method'!AC$56)","v":0.22083876985683445},{"$f":"'ODS subs method'!AD19*'state population'!AE$186 /('state population'!AE18*'ODS subs method'!AD$56)","v":0.23743502593793944},{"$f":"'ODS subs method'!AE19*'state population'!AF$186 /('state population'!AF18*'ODS subs method'!AE$56)","v":0.2020715908938775},{"$f":"'ODS subs method'!AF19*'state population'!AG$186 /('state population'!AG18*'ODS subs method'!AF$56)","v":0.20026332988313858},{"$f":"'ODS subs method'!AG19*'state population'!AH$186 /('state population'!AH18*'ODS subs method'!AG$56)","v":0.18166907892347517},{"$f":"'ODS subs method'!AH19*'state population'!AI$186 /('state population'!AI18*'ODS subs method'!AH$56)","v":0.17892361924935651}]
["Kansas","KS","CN",{"$f":"'ODS subs method'!C20*'state population'!D$186 /('state population'!D19*'ODS subs method'!C$56)","v":0.23614973443681472},{"$f":"'ODS subs method'!D20*'state population'!E$186 /('state population'!E19*'ODS subs method'!D$56)","v":0.2351798610649406},{"$f":"'ODS subs method'!E20*'state population'!F$186 /('state population'!F19*'ODS subs method'!E$56)","v":0.25938404350375377},{"$f":"'ODS subs method'!F20*'state population'!G$186 /('state population'!G19*'ODS subs method'!F$56)","v":0.26569207113605875},{"$f":"'ODS subs method'!G20*'state population'!H$186 /('state population'!H19*'ODS subs method'!G$56)","v":0.26748472381211968},{"$f":"'ODS subs method'!H20*'state population'!I$186 /('state population'!I19*'ODS subs method'!H$56)","v":0.26687711783117524},{"$f":"'ODS subs method'!I20*'state population'!J$186 /('state population'!J19*'ODS subs method'!I$56)","v":0.26552965118542166},{"$f":"'ODS subs method'!J20*'state population'!K$186 /('state population'!K19*'ODS subs method'!J$56)","v":0.26485405067100432},{"$f":"'ODS subs method'!K20*'state population'!L$186 /('state population'!L19*'ODS subs method'!K$56)","v":0.26394992491190172},{"$f":"'ODS subs method'!L20*'state population'!M$186 /('state population'!M19*'ODS subs method'!L$56)","v":0.26325362890151915},{"$f":"'ODS subs method'!M20*'state population'!N$186 /('state population'!N19*'ODS subs method'!M$56)","v":0.26303372288776977},{"$f":"'ODS subs method'!N20*'state population'!O$186 /('state population'!O19*'ODS subs method'!N$56)","v":0.26249685750998947},{"$f":"'ODS subs method'!O20*'state population'!P$186 /('state population'!P19*'ODS subs method'!O$56)","v":0.26130918632434025},{"$f":"'ODS subs method'!P20*'state population'!Q$186 /('state population'!Q19*'ODS subs method'!P$56)","v":0.26007216007341316},{"$f":"'ODS subs method'!Q20*'state population'!R$186 /('state population'!R19*'ODS subs method'!Q$56)","v":0.25903669419448855},{"$f":"'ODS subs method'!R20*'state population'!S$186 /('state population'!S19*'ODS subs method'!R$56)","v":0.2573656513176818},{"$f":"'ODS subs method'!S20*'state population'!T$186 /('state population'!T19*'ODS subs method'!S$56)","v":0.25583669577828322},{"$f":"'ODS subs method'!T20*'state population'!U$186 /('state population'!U19*'ODS subs method'!T$56)","v":0.25416417403924335},{"$f":"'ODS subs method'!U20*'state population'!V$186 /('state population'!V19*'ODS subs method'!U$56)","v":0.25258096822485809},{"$f":"'ODS subs method'!V20*'state population'!W$186 /('state population'!W19*'ODS subs method'!V$56)","v":0.24901395775116922},{"$f":"'ODS subs method'!W20*'state population'!X$186 /('state population'!X19*'ODS subs method'!W$56)","v":0.25986210101172835},{"$f":"'ODS subs method'!X20*'state population'!Y$186 /('state population'!Y19*'ODS subs method'!X$56)","v":0.25942938806295951},{"$f":"'ODS subs method'!Y20*'state population'!Z$186 /('state population'!Z19*'ODS subs method'!Y$56)","v":0.264696043340024},{"$f":"'ODS subs method'!Z20*'state population'!AA$186 /('state population'!AA19*'ODS subs method'!Z$56)","v":0.25835540410160346},{"$f":"'ODS subs method'!AA20*'state population'!AB$186 /('state population'!AB19*'ODS subs method'!AA$56)","v":0.22734384127013257},{"$f":"'ODS subs method'!AB20*'state population'!AC$186 /('state population'!AC19*'ODS subs method'!AB$56)","v":0.23857884455835413},{"$f":"'ODS subs method'!AC20*'state population'!AD$186 /('state population'!AD19*'ODS subs method'!AC$56)","v":0.22083876985683445},{"$f":"'ODS subs method'!AD20*'state population'!AE$186 /('state population'!AE19*'ODS subs method'!AD$56)","v":0.23743502593793936},{"$f":"'ODS subs method'!AE20*'state population'!AF$186 /('state population'!AF19*'ODS subs method'!AE$56)","v":0.2020715908938775},{"$f":"'ODS subs method'!AF20*'state population'!AG$186 /('state population'!AG19*'ODS subs method'!AF$56)","v":0.20026332988313852},{"$f":"'ODS subs method'!AG20*'state population'!AH$186 /('state population'!AH19*'ODS subs method'!AG$56)","v":0.18166907892347517},{"$f":"'ODS subs method'!AH20*'state population'!AI$186 /('state population'!AI19*'ODS subs method'!AH$56)","v":0.17892361924935654}]
["Kentucky","KY","CS",{"$f":"'ODS subs method'!C21*'state population'!D$181 /('state population'!D20*'ODS subs method'!C$56)","v":0.1659402987611007},{"$f":"'ODS subs method'!D21*'state population'!E$181 /('state population'!E20*'ODS subs method'!D$56)","v":0.16607887078388953},{"$f":"'ODS subs method'!E21*'state population'!F$181 /('state population'!F20*'ODS subs method'!E$56)","v":0.20563769666904613},{"$f":"'ODS subs method'!F21*'state population'!G$181 /('state population'!G20*'ODS subs method'!F$56)","v":0.21735025076345987},{"$f":"'ODS subs method'!G21*'state population'!H$181 /('state population'!H20*'ODS subs method'!G$56)","v":0.2203237877344498},{"$f":"'ODS subs method'!H21*'state population'!I$181 /('state population'!I20*'ODS subs method'!H$56)","v":0.21960304761081972},{"$f":"'ODS subs method'!I21*'state population'!J$181 /('state population'!J20*'ODS subs method'!I$56)","v":0.2182700537655527},{"$f":"'ODS subs method'!J21*'state population'!K$181 /('state population'!K20*'ODS subs method'!J$56)","v":0.21799582999789974},{"$f":"'ODS subs method'!K21*'state population'!L$181 /('state population'!L20*'ODS subs method'!K$56)","v":0.21739627787562293},{"$f":"'ODS subs method'!L21*'state population'!M$181 /('state population'!M20*'ODS subs method'!L$56)","v":0.21712775375362592},{"$f":"'ODS subs method'!M21*'state population'!N$181 /('state population'!N20*'ODS subs method'!M$56)","v":0.21724126635518459},{"$f":"'ODS subs method'!N21*'state population'!O$181 /('state population'!O20*'ODS subs method'!N$56)","v":0.21706406772197787},{"$f":"'ODS subs method'!O21*'state population'!P$181 /('state population'!P20*'ODS subs method'!O$56)","v":0.21626115662226914},{"$f":"'ODS subs method'!P21*'state population'!Q$181 /('state population'!Q20*'ODS subs method'!P$56)","v":0.21542760386795817},{"$f":"'ODS subs method'!Q21*'state population'!R$181 /('state population'!R20*'ODS subs method'!Q$56)","v":0.21484449382647189},{"$f":"'ODS subs method'!R21*'state population'!S$181 /('state population'!S20*'ODS subs method'!R$56)","v":0.21390348203444362},{"$f":"'ODS subs method'!S21*'state population'!T$181 /('state population'!T20*'ODS subs method'!S$56)","v":0.21317886060722099},{"$f":"'ODS subs method'!T21*'state population'!U$181 /('state population'!U20*'ODS subs method'!T$56)","v":0.21243665180304844},{"$f":"'ODS subs method'!U21*'state population'!V$181 /('state population'!V20*'ODS subs method'!U$56)","v":0.21172409492656799},{"$f":"'ODS subs method'!V21*'state population'!W$181 /('state population'!W20*'ODS subs method'!V$56)","v":0.24118119828718268},{"$f":"'ODS subs method'!W21*'state population'!X$181 /('state population'!X20*'ODS subs method'!W$56)","v":0.23925756893754818},{"$f":"'ODS subs method'!X21*'state population'!Y$181 /('state population'!Y20*'ODS subs method'!X$56)","v":0.25887720311846041},{"$f":"'ODS subs method'!Y21*'state population'!Z$181 /('state population'!Z20*'ODS subs method'!Y$56)","v":0.21420940183733864},{"$f":"'ODS subs method'!Z21*'state population'!AA$181 /('state population'!AA20*'ODS subs method'!Z$56)","v":0.21198521855976746},{"$f":"'ODS subs method'!AA21*'state population'!AB$181 /('state population'!AB20*'ODS subs method'!AA$56)","v":0.21221639973744227},{"$f":"'ODS subs method'!AB21*'state population'!AC$181 /('state population'!AC20*'ODS subs method'!AB$56)","v":0.21661149377867411},{"$f":"'ODS subs method'!AC21*'state population'!AD$181 /('state population'!AD20*'ODS subs method'!AC$56)","v":0.21850148137678022},{"$f":"'ODS subs method'!AD21*'state population'!AE$181 /('state population'!AE20*'ODS subs method'!AD$56)","v":0.22716925032429347},{"$f":"'ODS subs method'!AE21*'state population'!AF$181 /('state population'!AF20*'ODS subs method'!AE$56)","v":0.22822958051479547},{"$f":"'ODS subs method'!AF21*'state population'!AG$181 /('state population'!AG20*'ODS subs method'!AF$56)","v":0.21566008798319897},{"$f":"'ODS subs method'!AG21*'state population'!AH$181 /('state population'!AH20*'ODS subs method'!AG$56)","v":0.2457103353684077},{"$f":"'ODS subs method'!AH21*'state population'!AI$181 /('state population'!AI20*'ODS subs method'!AH$56)","v":0.24722926954153213}]
["Louisiana","LA","CS",{"$f":"'ODS subs method'!C22*'state population'!D$181 /('state population'!D21*'ODS subs method'!C$56)","v":0.16594029876110067},{"$f":"'ODS subs method'!D22*'state population'!E$181 /('state population'!E21*'ODS subs method'!D$56)","v":0.16607887078388953},{"$f":"'ODS subs method'!E22*'state population'!F$181 /('state population'!F21*'ODS subs method'!E$56)","v":0.20563769666904613},{"$f":"'ODS subs method'!F22*'state population'!G$181 /('state population'!G21*'ODS subs method'!F$56)","v":0.21735025076345993},{"$f":"'ODS subs method'!G22*'state population'!H$181 /('state population'!H21*'ODS subs method'!G$56)","v":0.22032378773444977},{"$f":"'ODS subs method'!H22*'state population'!I$181 /('state population'!I21*'ODS subs method'!H$56)","v":0.2196030476108197},{"$f":"'ODS subs method'!I22*'state population'!J$181 /('state population'!J21*'ODS subs method'!I$56)","v":0.2182700537655527},{"$f":"'ODS subs method'!J22*'state population'!K$181 /('state population'!K21*'ODS subs method'!J$56)","v":0.21799582999789974},{"$f":"'ODS subs method'!K22*'state population'!L$181 /('state population'!L21*'ODS subs method'!K$56)","v":0.21739627787562291},{"$f":"'ODS subs method'!L22*'state population'!M$181 /('state population'!M21*'ODS subs method'!L$56)","v":0.21712775375362595},{"$f":"'ODS subs method'!M22*'state population'!N$181 /('state population'!N21*'ODS subs method'!M$56)","v":0.21724126635518451},{"$f":"'ODS subs method'!N22*'state population'!O$181 /('state population'!O21*'ODS subs method'!N$56)","v":0.21706406772197784},{"$f":"'ODS subs method'!O22*'state population'!P$181 /('state population'!P21*'ODS subs method'!O$56)","v":0.21626115662226916},{"$f":"'ODS subs method'!P22*'state population'!Q$181 /('state population'!Q21*'ODS subs method'!P$56)","v":0.21542760386795817},{"$f":"'ODS subs method'!Q22*'state population'!R$181 /('state population'!R21*'ODS subs method'!Q$56)","v":0.21484449382647194},{"$f":"'ODS subs method'!R22*'state population'!S$181 /('state population'!S21*'ODS subs method'!R$56)","v":0.21390348203444362},{"$f":"'ODS subs method'!S22*'state population'!T$181 /('state population'!T21*'ODS subs method'!S$56)","v":0.21317886060722091},{"$f":"'ODS subs method'!T22*'state population'!U$181 /('state population'!U21*'ODS subs method'!T$56)","v":0.21243665180304852},{"$f":"'ODS subs method'!U22*'state population'!V$181 /('state population'!V21*'ODS subs method'!U$56)","v":0.2117240949265681},{"$f":"'ODS subs method'!V22*'state population'!W$181 /('state population'!W21*'ODS subs method'!V$56)","v":0.24118119828718274},{"$f":"'ODS subs method'!W22*'state population'!X$181 /('state population'!X21*'ODS subs method'!W$56)","v":0.23925756893754821},{"$f":"'ODS subs method'!X22*'state population'!Y$181 /('state population'!Y21*'ODS subs method'!X$56)","v":0.25887720311846046},{"$f":"'ODS subs method'!Y22*'state population'!Z$181 /('state population'!Z21*'ODS subs method'!Y$56)","v":0.21420940183733858},{"$f":"'ODS subs method'!Z22*'state population'!AA$181 /('state population'!AA21*'ODS subs method'!Z$56)","v":0.2119852185597674},{"$f":"'ODS subs method'!AA22*'state population'!AB$181 /('state population'!AB21*'ODS subs method'!AA$56)","v":0.21221639973744222},{"$f":"'ODS subs method'!AB22*'state population'!AC$181 /('state population'!AC21*'ODS subs method'!AB$56)","v":0.21661149377867417},{"$f":"'ODS subs method'!AC22*'state population'!AD$181 /('state population'!AD21*'ODS subs method'!AC$56)","v":0.21850148137678024},{"$f":"'ODS subs method'!AD22*'state population'!AE$181 /('state population'!AE21*'ODS subs method'!AD$56)","v":0.22716925032429341},{"$f":"'ODS subs method'!AE22*'state population'!AF$181 /('state population'!AF21*'ODS subs method'!AE$56)","v":0.2282295805147955},{"$f":"'ODS subs method'!AF22*'state population'!AG$181 /('state population'!AG21*'ODS subs method'!AF$56)","v":0.21566008798319894},{"$f":"'ODS subs method'!AG22*'state population'!AH$181 /('state population'!AH21*'ODS subs method'!AG$56)","v":0.24571033536840783},{"$f":"'ODS subs method'!AH22*'state population'!AI$181 /('state population'!AI21*'ODS subs method'!AH$56)","v":0.2472292695415321}]
["Maine","ME","NE",{"$f":"'ODS subs method'!C23*'state population'!D$184 /('state population'!D22*'ODS subs method'!C$56)","v":0.25671895767778236},{"$f":"'ODS subs method'!D23*'state population'!E$184 /('state population'!E22*'ODS subs method'!D$56)","v":0.25495885897413945},{"$f":"'ODS subs method'!E23*'state population'!F$184 /('state population'!F22*'ODS subs method'!E$56)","v":0.2240301331743787},{"$f":"'ODS subs method'!F23*'state population'!G$184 /('state population'!G22*'ODS subs method'!F$56)","v":0.214789466238516},{"$f":"'ODS subs method'!G23*'state population'!H$184 /('state population'!H22*'ODS subs method'!G$56)","v":0.21253695654540736},{"$f":"'ODS subs method'!H23*'state population'!I$184 /('state population'!I22*'ODS subs method'!H$56)","v":0.21295640716140288},{"$f":"'ODS subs method'!I23*'state population'!J$184 /('state population'!J22*'ODS subs method'!I$56)","v":0.21365251652593181},{"$f":"'ODS subs method'!J23*'state population'!K$184 /('state population'!K22*'ODS subs method'!J$56)","v":0.21358550479572619},{"$f":"'ODS subs method'!K23*'state population'!L$184 /('state population'!L22*'ODS subs method'!K$56)","v":0.21373373710957433},{"$f":"'ODS subs method'!L23*'state population'!M$184 /('state population'!M22*'ODS subs method'!L$56)","v":0.21367338464303598},{"$f":"'ODS subs method'!M23*'state population'!N$184 /('state population'!N22*'ODS subs method'!M$56)","v":0.21346737536684865},{"$f":"'ODS subs method'!N23*'state population'!O$184 /('state population'!O22*'ODS subs method'!N$56)","v":0.21341243948231545},{"$f":"'ODS subs method'!O23*'state population'!P$184 /('state population'!P22*'ODS subs method'!O$56)","v":0.21369233613146227},{"$f":"'ODS subs method'!P23*'state population'!Q$184 /('state population'!Q22*'ODS subs method'!P$56)","v":0.21398842620162975},{"$f":"'ODS subs method'!Q23*'state population'!R$184 /('state population'!R22*'ODS subs method'!Q$56)","v":0.21411784334638664},{"$f":"'ODS subs method'!R23*'state population'!S$184 /('state population'!S22*'ODS subs method'!R$56)","v":0.21435600820602937},{"$f":"'ODS subs method'!S23*'state population'!T$184 /('state population'!T22*'ODS subs method'!S$56)","v":0.21449286257896696},{"$f":"'ODS subs method'!T23*'state population'!U$184 /('state population'!U22*'ODS subs method'!T$56)","v":0.21470594632444057},{"$f":"'ODS subs method'!U23*'state population'!V$184 /('state population'!V22*'ODS subs method'!U$56)","v":0.21491676734325188},{"$f":"'ODS subs method'!V23*'state population'!W$184 /('state population'!W22*'ODS subs method'!V$56)","v":0.20720463342337703},{"$f":"'ODS subs method'!W23*'state population'!X$184 /('state population'!X22*'ODS subs method'!W$56)","v":0.18057210646699531},{"$f":"'ODS subs method'!X23*'state population'!Y$184 /('state population'!Y22*'ODS subs method'!X$56)","v":0.18618401858947523},{"$f":"'ODS subs method'!Y23*'state population'!Z$184 /('state population'!Z22*'ODS subs method'!Y$56)","v":0.1990043446091003},{"$f":"'ODS subs method'!Z23*'state population'!AA$184 /('state population'!AA22*'ODS subs method'!Z$56)","v":0.23058590647941302},{"$f":"'ODS subs method'!AA23*'state population'!AB$184 /('state population'!AB22*'ODS subs method'!AA$56)","v":0.25306061243119099},{"$f":"'ODS subs method'!AB23*'state population'!AC$184 /('state population'!AC22*'ODS subs method'!AB$56)","v":0.23683121839347543},{"$f":"'ODS subs method'!AC23*'state population'!AD$184 /('state population'!AD22*'ODS subs method'!AC$56)","v":0.23651801915220313},{"$f":"'ODS subs method'!AD23*'state population'!AE$184 /('state population'!AE22*'ODS subs method'!AD$56)","v":0.20277038831449876},{"$f":"'ODS subs method'!AE23*'state population'!AF$184 /('state population'!AF22*'ODS subs method'!AE$56)","v":0.22451526534430624},{"$f":"'ODS subs method'!AF23*'state population'!AG$184 /('state population'!AG22*'ODS subs method'!AF$56)","v":0.20921134836043162},{"$f":"'ODS subs method'!AG23*'state population'!AH$184 /('state population'!AH22*'ODS subs method'!AG$56)","v":0.22513665198467583},{"$f":"'ODS subs method'!AH23*'state population'!AI$184 /('state population'!AI22*'ODS subs method'!AH$56)","v":0.22557491765935644}]
["Maryland","MD","NE",{"$f":"'ODS subs method'!C24*'state population'!D$184 /('state population'!D23*'ODS subs method'!C$56)","v":0.25671895767778219},{"$f":"'ODS subs method'!D24*'state population'!E$184 /('state population'!E23*'ODS subs method'!D$56)","v":0.25495885897413939},{"$f":"'ODS subs method'!E24*'state population'!F$184 /('state population'!F23*'ODS subs method'!E$56)","v":0.22403013317437864},{"$f":"'ODS subs method'!F24*'state population'!G$184 /('state population'!G23*'ODS subs method'!F$56)","v":0.21478946623851597},{"$f":"'ODS subs method'!G24*'state population'!H$184 /('state population'!H23*'ODS subs method'!G$56)","v":0.2125369565454073},{"$f":"'ODS subs method'!H24*'state population'!I$184 /('state population'!I23*'ODS subs method'!H$56)","v":0.21295640716140288},{"$f":"'ODS subs method'!I24*'state population'!J$184 /('state population'!J23*'ODS subs method'!I$56)","v":0.21365251652593181},{"$f":"'ODS subs method'!J24*'state population'!K$184 /('state population'!K23*'ODS subs method'!J$56)","v":0.21358550479572616},{"$f":"'ODS subs method'!K24*'state population'!L$184 /('state population'!L23*'ODS subs method'!K$56)","v":0.21373373710957436},{"$f":"'ODS subs method'!L24*'state population'!M$184 /('state population'!M23*'ODS subs method'!L$56)","v":0.21367338464303601},{"$f":"'ODS subs method'!M24*'state population'!N$184 /('state population'!N23*'ODS subs method'!M$56)","v":0.21346737536684865},{"$f":"'ODS subs method'!N24*'state population'!O$184 /('state population'!O23*'ODS subs method'!N$56)","v":0.21341243948231545},{"$f":"'ODS subs method'!O24*'state population'!P$184 /('state population'!P23*'ODS subs method'!O$56)","v":0.2136923361314623},{"$f":"'ODS subs method'!P24*'state population'!Q$184 /('state population'!Q23*'ODS subs method'!P$56)","v":0.21398842620162969},{"$f":"'ODS subs method'!Q24*'state population'!R$184 /('state population'!R23*'ODS subs method'!Q$56)","v":0.21411784334638659},{"$f":"'ODS subs method'!R24*'state population'!S$184 /('state population'!S23*'ODS subs method'!R$56)","v":0.21435600820602937},{"$f":"'ODS subs method'!S24*'state population'!T$184 /('state population'!T23*'ODS subs method'!S$56)","v":0.21449286257896696},{"$f":"'ODS subs method'!T24*'state population'!U$184 /('state population'!U23*'ODS subs method'!T$56)","v":0.21470594632444059},{"$f":"'ODS subs method'!U24*'state population'!V$184 /('state population'!V23*'ODS subs method'!U$56)","v":0.21491676734325191},{"$f":"'ODS subs method'!V24*'state population'!W$184 /('state population'!W23*'ODS subs method'!V$56)","v":0.20720463342337705},{"$f":"'ODS subs method'!W24*'state population'!X$184 /('state population'!X23*'ODS subs method'!W$56)","v":0.18057210646699526},{"$f":"'ODS subs method'!X24*'state population'!Y$184 /('state population'!Y23*'ODS subs method'!X$56)","v":0.18618401858947528},{"$f":"'ODS subs method'!Y24*'state population'!Z$184 /('state population'!Z23*'ODS subs method'!Y$56)","v":0.19900434460910027},{"$f":"'ODS subs method'!Z24*'state population'!AA$184 /('state population'!AA23*'ODS subs method'!Z$56)","v":0.23058590647941299},{"$f":"'ODS subs method'!AA24*'state population'!AB$184 /('state population'!AB23*'ODS subs method'!AA$56)","v":0.25306061243119099},{"$f":"'ODS subs method'!AB24*'state population'!AC$184 /('state population'!AC23*'ODS subs method'!AB$56)","v":0.23683121839347543},{"$f":"'ODS subs method'!AC24*'state population'!AD$184 /('state population'!AD23*'ODS subs method'!AC$56)","v":0.23651801915220313},{"$f":"'ODS subs method'!AD24*'state population'!AE$184 /('state population'!AE23*'ODS subs method'!AD$56)","v":0.20277038831449876},{"$f":"'ODS subs method'!AE24*'state population'!AF$184 /('state population'!AF23*'ODS subs method'!AE$56)","v":0.22451526534430616},{"$f":"'ODS subs method'!AF24*'state population'!AG$184 /('state population'!AG23*'ODS subs method'!AF$56)","v":0.20921134836043162},{"$f":"'ODS subs method'!AG24*'state population'!AH$184 /('state population'!AH23*'ODS subs method'!AG$56)","v":0.22513665198467586},{"$f":"'ODS subs method'!AH24*'state population'!AI$184 /('state population'!AI23*'ODS subs method'!AH$56)","v":0.22557491765935656}]
["Massachusetts","MA","NE",{"$f":"'ODS subs method'!C25*'state population'!D$184 /('state population'!D24*'ODS subs method'!C$56)","v":0.2567189576777823},{"$f":"'ODS subs method'!D25*'state population'!E$184 /('state population'!E24*'ODS subs method'!D$56)","v":0.25495885897413956},{"$f":"'ODS subs method'!E25*'state population'!F$184 /('state population'!F24*'ODS subs method'!E$56)","v":0.22403013317437864},{"$f":"'ODS subs method'!F25*'state population'!G$184 /('state population'!G24*'ODS subs method'!F$56)","v":0.214789466238516},{"$f":"'ODS subs method'!G25*'state population'!H$184 /('state population'!H24*'ODS subs method'!G$56)","v":0.2125369565454073},{"$f":"'ODS subs method'!H25*'state population'!I$184 /('state population'!I24*'ODS subs method'!H$56)","v":0.21295640716140288},{"$f":"'ODS subs method'!I25*'state population'!J$184 /('state population'!J24*'ODS subs method'!I$56)","v":0.21365251652593184},{"$f":"'ODS subs method'!J25*'state population'!K$184 /('state population'!K24*'ODS subs method'!J$56)","v":0.21358550479572619},{"$f":"'ODS subs method'!K25*'state population'!L$184 /('state population'!L24*'ODS subs method'!K$56)","v":0.21373373710957433},{"$f":"'ODS subs method'!L25*'state population'!M$184 /('state population'!M24*'ODS subs method'!L$56)","v":0.21367338464303598},{"$f":"'ODS subs method'!M25*'state population'!N$184 /('state population'!N24*'ODS subs method'!M$56)","v":0.21346737536684859},{"$f":"'ODS subs method'!N25*'state population'!O$184 /('state population'!O24*'ODS subs method'!N$56)","v":0.21341243948231547},{"$f":"'ODS subs method'!O25*'state population'!P$184 /('state population'!P24*'ODS subs method'!O$56)","v":0.21369233613146235},{"$f":"'ODS subs method'!P25*'state population'!Q$184 /('state population'!Q24*'ODS subs method'!P$56)","v":0.21398842620162978},{"$f":"'ODS subs method'!Q25*'state population'!R$184 /('state population'!R24*'ODS subs method'!Q$56)","v":0.21411784334638656},{"$f":"'ODS subs method'!R25*'state population'!S$184 /('state population'!S24*'ODS subs method'!R$56)","v":0.21435600820602937},{"$f":"'ODS subs method'!S25*'state population'!T$184 /('state population'!T24*'ODS subs method'!S$56)","v":0.21449286257896699},{"$f":"'ODS subs method'!T25*'state population'!U$184 /('state population'!U24*'ODS subs method'!T$56)","v":0.21470594632444057},{"$f":"'ODS subs method'!U25*'state population'!V$184 /('state population'!V24*'ODS subs method'!U$56)","v":0.21491676734325182},{"$f":"'ODS subs method'!V25*'state population'!W$184 /('state population'!W24*'ODS subs method'!V$56)","v":0.20720463342337697},{"$f":"'ODS subs method'!W25*'state population'!X$184 /('state population'!X24*'ODS subs method'!W$56)","v":0.18057210646699531},{"$f":"'ODS subs method'!X25*'state population'!Y$184 /('state population'!Y24*'ODS subs method'!X$56)","v":0.18618401858947525},{"$f":"'ODS subs method'!Y25*'state population'!Z$184 /('state population'!Z24*'ODS subs method'!Y$56)","v":0.19900434460910027},{"$f":"'ODS subs method'!Z25*'state population'!AA$184 /('state population'!AA24*'ODS subs method'!Z$56)","v":0.23058590647941296},{"$f":"'ODS subs method'!AA25*'state population'!AB$184 /('state population'!AB24*'ODS subs method'!AA$56)","v":0.25306061243119099},{"$f":"'ODS subs method'!AB25*'state population'!AC$184 /('state population'!AC24*'ODS subs method'!AB$56)","v":0.23683121839347532},{"$f":"'ODS subs method'!AC25*'state population'!AD$184 /('state population'!AD24*'ODS subs method'!AC$56)","v":0.23651801915220313},{"$f":"'ODS subs method'!AD25*'state population'!AE$184 /('state population'!AE24*'ODS subs method'!AD$56)","v":0.20277038831449887},{"$f":"'ODS subs method'!AE25*'state population'!AF$184 /('state population'!AF24*'ODS subs method'!AE$56)","v":0.22451526534430616},{"$f":"'ODS subs method'!AF25*'state population'!AG$184 /('state population'!AG24*'ODS subs method'!AF$56)","v":0.20921134836043165},{"$f":"'ODS subs method'!AG25*'state population'!AH$184 /('state population'!AH24*'ODS subs method'!AG$56)","v":0.22513665198467586},{"$f":"'ODS subs method'!AH25*'state population'!AI$184 /('state population'!AI24*'ODS subs method'!AH$56)","v":0.22557491765935653}]
["Michigan","MI","CN",{"$f":"'ODS subs method'!C26*'state population'!D$186 /('state population'!D25*'ODS subs method'!C$56)","v":0.23614973443681467},{"$f":"'ODS subs method'!D26*'state population'!E$186 /('state population'!E25*'ODS subs method'!D$56)","v":0.23517986106494057},{"$f":"'ODS subs method'!E26*'state population'!F$186 /('state population'!F25*'ODS subs method'!E$56)","v":0.25938404350375383},{"$f":"'ODS subs method'!F26*'state population'!G$186 /('state population'!G25*'ODS subs method'!F$56)","v":0.2656920711360588},{"$f":"'ODS subs method'!G26*'state population'!H$186 /('state population'!H25*'ODS subs method'!G$56)","v":0.26748472381211974},{"$f":"'ODS subs method'!H26*'state population'!I$186 /('state population'!I25*'ODS subs method'!H$56)","v":0.26687711783117529},{"$f":"'ODS subs method'!I26*'state population'!J$186 /('state population'!J25*'ODS subs method'!I$56)","v":0.26552965118542154},{"$f":"'ODS subs method'!J26*'state population'!K$186 /('state population'!K25*'ODS subs method'!J$56)","v":0.26485405067100437},{"$f":"'ODS subs method'!K26*'state population'!L$186 /('state population'!L25*'ODS subs method'!K$56)","v":0.26394992491190178},{"$f":"'ODS subs method'!L26*'state population'!M$186 /('state population'!M25*'ODS subs method'!L$56)","v":0.26325362890151921},{"$f":"'ODS subs method'!M26*'state population'!N$186 /('state population'!N25*'ODS subs method'!M$56)","v":0.26303372288776983},{"$f":"'ODS subs method'!N26*'state population'!O$186 /('state population'!O25*'ODS subs method'!N$56)","v":0.26249685750998941},{"$f":"'ODS subs method'!O26*'state population'!P$186 /('state population'!P25*'ODS subs method'!O$56)","v":0.26130918632434019},{"$f":"'ODS subs method'!P26*'state population'!Q$186 /('state population'!Q25*'ODS subs method'!P$56)","v":0.26007216007341316},{"$f":"'ODS subs method'!Q26*'state population'!R$186 /('state population'!R25*'ODS subs method'!Q$56)","v":0.25903669419448855},{"$f":"'ODS subs method'!R26*'state population'!S$186 /('state population'!S25*'ODS subs method'!R$56)","v":0.25736565131768185},{"$f":"'ODS subs method'!S26*'state population'!T$186 /('state population'!T25*'ODS subs method'!S$56)","v":0.25583669577828333},{"$f":"'ODS subs method'!T26*'state population'!U$186 /('state population'!U25*'ODS subs method'!T$56)","v":0.2541641740392433},{"$f":"'ODS subs method'!U26*'state population'!V$186 /('state population'!V25*'ODS subs method'!U$56)","v":0.25258096822485809},{"$f":"'ODS subs method'!V26*'state population'!W$186 /('state population'!W25*'ODS subs method'!V$56)","v":0.24901395775116922},{"$f":"'ODS subs method'!W26*'state population'!X$186 /('state population'!X25*'ODS subs method'!W$56)","v":0.25986210101172835},{"$f":"'ODS subs method'!X26*'state population'!Y$186 /('state population'!Y25*'ODS subs method'!X$56)","v":0.25942938806295945},{"$f":"'ODS subs method'!Y26*'state population'!Z$186 /('state population'!Z25*'ODS subs method'!Y$56)","v":0.26469604334002406},{"$f":"'ODS subs method'!Z26*'state population'!AA$186 /('state population'!AA25*'ODS subs method'!Z$56)","v":0.2583554041016034},{"$f":"'ODS subs method'!AA26*'state population'!AB$186 /('state population'!AB25*'ODS subs method'!AA$56)","v":0.22734384127013257},{"$f":"'ODS subs method'!AB26*'state population'!AC$186 /('state population'!AC25*'ODS subs method'!AB$56)","v":0.2385788445583541},{"$f":"'ODS subs method'!AC26*'state population'!AD$186 /('state population'!AD25*'ODS subs method'!AC$56)","v":0.22083876985683437},{"$f":"'ODS subs method'!AD26*'state population'!AE$186 /('state population'!AE25*'ODS subs method'!AD$56)","v":0.23743502593793944},{"$f":"'ODS subs method'!AE26*'state population'!AF$186 /('state population'!AF25*'ODS subs method'!AE$56)","v":0.20207159089387744},{"$f":"'ODS subs method'!AF26*'state population'!AG$186 /('state population'!AG25*'ODS subs method'!AF$56)","v":0.20026332988313864},{"$f":"'ODS subs method'!AG26*'state population'!AH$186 /('state population'!AH25*'ODS subs method'!AG$56)","v":0.18166907892347517},{"$f":"'ODS subs method'!AH26*'state population'!AI$186 /('state population'!AI25*'ODS subs method'!AH$56)","v":0.17892361924935654}]
["Minnesota","MN","CN",{"$f":"'ODS subs method'!C27*'state population'!D$186 /('state population'!D26*'ODS subs method'!C$56)","v":0.23614973443681458},{"$f":"'ODS subs method'!D27*'state population'!E$186 /('state population'!E26*'ODS subs method'!D$56)","v":0.23517986106494063},{"$f":"'ODS subs method'!E27*'state population'!F$186 /('state population'!F26*'ODS subs method'!E$56)","v":0.25938404350375383},{"$f":"'ODS subs method'!F27*'state population'!G$186 /('state population'!G26*'ODS subs method'!F$56)","v":0.26569207113605875},{"$f":"'ODS subs method'!G27*'state population'!H$186 /('state population'!H26*'ODS subs method'!G$56)","v":0.26748472381211968},{"$f":"'ODS subs method'!H27*'state population'!I$186 /('state population'!I26*'ODS subs method'!H$56)","v":0.26687711783117529},{"$f":"'ODS subs method'!I27*'state population'!J$186 /('state population'!J26*'ODS subs method'!I$56)","v":0.2655296511854216},{"$f":"'ODS subs method'!J27*'state population'!K$186 /('state population'!K26*'ODS subs method'!J$56)","v":0.26485405067100437},{"$f":"'ODS subs method'!K27*'state population'!L$186 /('state population'!L26*'ODS subs method'!K$56)","v":0.26394992491190178},{"$f":"'ODS subs method'!L27*'state population'!M$186 /('state population'!M26*'ODS subs method'!L$56)","v":0.26325362890151921},{"$f":"'ODS subs method'!M27*'state population'!N$186 /('state population'!N26*'ODS subs method'!M$56)","v":0.26303372288776983},{"$f":"'ODS subs method'!N27*'state population'!O$186 /('state population'!O26*'ODS subs method'!N$56)","v":0.26249685750998947},{"$f":"'ODS subs method'!O27*'state population'!P$186 /('state population'!P26*'ODS subs method'!O$56)","v":0.26130918632434019},{"$f":"'ODS subs method'!P27*'state population'!Q$186 /('state population'!Q26*'ODS subs method'!P$56)","v":0.26007216007341316},{"$f":"'ODS subs method'!Q27*'state population'!R$186 /('state population'!R26*'ODS subs method'!Q$56)","v":0.25903669419448855},{"$f":"'ODS subs method'!R27*'state population'!S$186 /('state population'!S26*'ODS subs method'!R$56)","v":0.25736565131768185},{"$f":"'ODS subs method'!S27*'state population'!T$186 /('state population'!T26*'ODS subs method'!S$56)","v":0.25583669577828333},{"$f":"'ODS subs method'!T27*'state population'!U$186 /('state population'!U26*'ODS subs method'!T$56)","v":0.2541641740392433},{"$f":"'ODS subs method'!U27*'state population'!V$186 /('state population'!V26*'ODS subs method'!U$56)","v":0.25258096822485815},{"$f":"'ODS subs method'!V27*'state population'!W$186 /('state population'!W26*'ODS subs method'!V$56)","v":0.24901395775116913},{"$f":"'ODS subs method'!W27*'state population'!X$186 /('state population'!X26*'ODS subs method'!W$56)","v":0.25986210101172835},{"$f":"'ODS subs method'!X27*'state population'!Y$186 /('state population'!Y26*'ODS subs method'!X$56)","v":0.25942938806295951},{"$f":"'ODS subs method'!Y27*'state population'!Z$186 /('state population'!Z26*'ODS subs method'!Y$56)","v":0.26469604334002406},{"$f":"'ODS subs method'!Z27*'state population'!AA$186 /('state population'!AA26*'ODS subs method'!Z$56)","v":0.2583554041016034},{"$f":"'ODS subs method'!AA27*'state population'!AB$186 /('state population'!AB26*'ODS subs method'!AA$56)","v":0.22734384127013252},{"$f":"'ODS subs method'!AB27*'state population'!AC$186 /('state population'!AC26*'ODS subs method'!AB$56)","v":0.2385788445583541},{"$f":"'ODS subs method'!AC27*'state population'!AD$186 /('state population'!AD26*'ODS subs method'!AC$56)","v":0.22083876985683443},{"$f":"'ODS subs method'!AD27*'state population'!AE$186 /('state population'!AE26*'ODS subs method'!AD$56)","v":0.23743502593793944},{"$f":"'ODS subs method'!AE27*'state population'!AF$186 /('state population'!AF26*'ODS subs method'!AE$56)","v":0.20207159089387747},{"$f":"'ODS subs method'!AF27*'state population'!AG$186 /('state population'!AG26*'ODS subs method'!AF$56)","v":0.20026332988313861},{"$f":"'ODS subs method'!AG27*'state population'!AH$186 /('state population'!AH26*'ODS subs method'!AG$56)","v":0.18166907892347514},{"$f":"'ODS subs method'!AH27*'state population'!AI$186 /('state population'!AI26*'ODS subs method'!AH$56)","v":0.17892361924935654}]
["Mississippi","MS","CS",{"$f":"'ODS subs method'!C28*'state population'!D$181 /('state population'!D27*'ODS subs method'!C$56)","v":0.16594029876110067},{"$f":"'ODS subs method'!D28*'state population'!E$181 /('state population'!E27*'ODS subs method'!D$56)","v":0.16607887078388958},{"$f":"'ODS subs method'!E28*'state population'!F$181 /('state population'!F27*'ODS subs method'!E$56)","v":0.20563769666904613},{"$f":"'ODS subs method'!F28*'state population'!G$181 /('state population'!G27*'ODS subs method'!F$56)","v":0.21735025076345985},{"$f":"'ODS subs method'!G28*'state population'!H$181 /('state population'!H27*'ODS subs method'!G$56)","v":0.2203237877344498},{"$f":"'ODS subs method'!H28*'state population'!I$181 /('state population'!I27*'ODS subs method'!H$56)","v":0.21960304761081972},{"$f":"'ODS subs method'!I28*'state population'!J$181 /('state population'!J27*'ODS subs method'!I$56)","v":0.21827005376555275},{"$f":"'ODS subs method'!J28*'state population'!K$181 /('state population'!K27*'ODS subs method'!J$56)","v":0.21799582999789971},{"$f":"'ODS subs method'!K28*'state population'!L$181 /('state population'!L27*'ODS subs method'!K$56)","v":0.21739627787562293},{"$f":"'ODS subs method'!L28*'state population'!M$181 /('state population'!M27*'ODS subs method'!L$56)","v":0.21712775375362595},{"$f":"'ODS subs method'!M28*'state population'!N$181 /('state population'!N27*'ODS subs method'!M$56)","v":0.21724126635518459},{"$f":"'ODS subs method'!N28*'state population'!O$181 /('state population'!O27*'ODS subs method'!N$56)","v":0.21706406772197784},{"$f":"'ODS subs method'!O28*'state population'!P$181 /('state population'!P27*'ODS subs method'!O$56)","v":0.21626115662226914},{"$f":"'ODS subs method'!P28*'state population'!Q$181 /('state population'!Q27*'ODS subs method'!P$56)","v":0.21542760386795817},{"$f":"'ODS subs method'!Q28*'state population'!R$181 /('state population'!R27*'ODS subs method'!Q$56)","v":0.214844493826472},{"$f":"'ODS subs method'!R28*'state population'!S$181 /('state population'!S27*'ODS subs method'!R$56)","v":0.21390348203444362},{"$f":"'ODS subs method'!S28*'state population'!T$181 /('state population'!T27*'ODS subs method'!S$56)","v":0.21317886060722088},{"$f":"'ODS subs method'!T28*'state population'!U$181 /('state population'!U27*'ODS subs method'!T$56)","v":0.21243665180304847},{"$f":"'ODS subs method'!U28*'state population'!V$181 /('state population'!V27*'ODS subs method'!U$56)","v":0.21172409492656805},{"$f":"'ODS subs method'!V28*'state population'!W$181 /('state population'!W27*'ODS subs method'!V$56)","v":0.24118119828718268},{"$f":"'ODS subs method'!W28*'state population'!X$181 /('state population'!X27*'ODS subs method'!W$56)","v":0.23925756893754818},{"$f":"'ODS subs method'!X28*'state population'!Y$181 /('state population'!Y27*'ODS subs method'!X$56)","v":0.25887720311846046},{"$f":"'ODS subs method'!Y28*'state population'!Z$181 /('state population'!Z27*'ODS subs method'!Y$56)","v":0.21420940183733866},{"$f":"'ODS subs method'!Z28*'state population'!AA$181 /('state population'!AA27*'ODS subs method'!Z$56)","v":0.21198521855976746},{"$f":"'ODS subs method'!AA28*'state population'!AB$181 /('state population'!AB27*'ODS subs method'!AA$56)","v":0.21221639973744233},{"$f":"'ODS subs method'!AB28*'state population'!AC$181 /('state population'!AC27*'ODS subs method'!AB$56)","v":0.21661149377867411},{"$f":"'ODS subs method'!AC28*'state population'!AD$181 /('state population'!AD27*'ODS subs method'!AC$56)","v":0.21850148137678022},{"$f":"'ODS subs method'!AD28*'state population'!AE$181 /('state population'!AE27*'ODS subs method'!AD$56)","v":0.22716925032429333},{"$f":"'ODS subs method'!AE28*'state population'!AF$181 /('state population'!AF27*'ODS subs method'!AE$56)","v":0.22822958051479555},{"$f":"'ODS subs method'!AF28*'state population'!AG$181 /('state population'!AG27*'ODS subs method'!AF$56)","v":0.21566008798319891},{"$f":"'ODS subs method'!AG28*'state population'!AH$181 /('state population'!AH27*'ODS subs method'!AG$56)","v":0.24571033536840772},{"$f":"'ODS subs method'!AH28*'state population'!AI$181 /('state population'!AI27*'ODS subs method'!AH$56)","v":0.2472292695415321}]
["Missouri","MO","CN",{"$f":"'ODS subs method'!C29*'state population'!D$186 /('state population'!D28*'ODS subs method'!C$56)","v":0.2361497344368147},{"$f":"'ODS subs method'!D29*'state population'!E$186 /('state population'!E28*'ODS subs method'!D$56)","v":0.23517986106494057},{"$f":"'ODS subs method'!E29*'state population'!F$186 /('state population'!F28*'ODS subs method'!E$56)","v":0.25938404350375388},{"$f":"'ODS subs method'!F29*'state population'!G$186 /('state population'!G28*'ODS subs method'!F$56)","v":0.2656920711360588},{"$f":"'ODS subs method'!G29*'state population'!H$186 /('state population'!H28*'ODS subs method'!G$56)","v":0.26748472381211968},{"$f":"'ODS subs method'!H29*'state population'!I$186 /('state population'!I28*'ODS subs method'!H$56)","v":0.26687711783117529},{"$f":"'ODS subs method'!I29*'state population'!J$186 /('state population'!J28*'ODS subs method'!I$56)","v":0.2655296511854216},{"$f":"'ODS subs method'!J29*'state population'!K$186 /('state population'!K28*'ODS subs method'!J$56)","v":0.26485405067100437},{"$f":"'ODS subs method'!K29*'state population'!L$186 /('state population'!L28*'ODS subs method'!K$56)","v":0.26394992491190178},{"$f":"'ODS subs method'!L29*'state population'!M$186 /('state population'!M28*'ODS subs method'!L$56)","v":0.26325362890151921},{"$f":"'ODS subs method'!M29*'state population'!N$186 /('state population'!N28*'ODS subs method'!M$56)","v":0.26303372288776977},{"$f":"'ODS subs method'!N29*'state population'!O$186 /('state population'!O28*'ODS subs method'!N$56)","v":0.26249685750998947},{"$f":"'ODS subs method'!O29*'state population'!P$186 /('state population'!P28*'ODS subs method'!O$56)","v":0.2613091863243403},{"$f":"'ODS subs method'!P29*'state population'!Q$186 /('state population'!Q28*'ODS subs method'!P$56)","v":0.26007216007341322},{"$f":"'ODS subs method'!Q29*'state population'!R$186 /('state population'!R28*'ODS subs method'!Q$56)","v":0.2590366941944886},{"$f":"'ODS subs method'!R29*'state population'!S$186 /('state population'!S28*'ODS subs method'!R$56)","v":0.25736565131768185},{"$f":"'ODS subs method'!S29*'state population'!T$186 /('state population'!T28*'ODS subs method'!S$56)","v":0.25583669577828327},{"$f":"'ODS subs method'!T29*'state population'!U$186 /('state population'!U28*'ODS subs method'!T$56)","v":0.25416417403924324},{"$f":"'ODS subs method'!U29*'state population'!V$186 /('state population'!V28*'ODS subs method'!U$56)","v":0.25258096822485809},{"$f":"'ODS subs method'!V29*'state population'!W$186 /('state population'!W28*'ODS subs method'!V$56)","v":0.24901395775116916},{"$f":"'ODS subs method'!W29*'state population'!X$186 /('state population'!X28*'ODS subs method'!W$56)","v":0.2598621010117283},{"$f":"'ODS subs method'!X29*'state population'!Y$186 /('state population'!Y28*'ODS subs method'!X$56)","v":0.25942938806295951},{"$f":"'ODS subs method'!Y29*'state population'!Z$186 /('state population'!Z28*'ODS subs method'!Y$56)","v":0.26469604334002406},{"$f":"'ODS subs method'!Z29*'state population'!AA$186 /('state population'!AA28*'ODS subs method'!Z$56)","v":0.2583554041016034},{"$f":"'ODS subs method'!AA29*'state population'!AB$186 /('state population'!AB28*'ODS subs method'!AA$56)","v":0.22734384127013249},{"$f":"'ODS subs method'!AB29*'state population'!AC$186 /('state population'!AC28*'ODS subs method'!AB$56)","v":0.2385788445583541},{"$f":"'ODS subs method'!AC29*'state population'!AD$186 /('state population'!AD28*'ODS subs method'!AC$56)","v":0.22083876985683443},{"$f":"'ODS subs method'!AD29*'state population'!AE$186 /('state population'!AE28*'ODS subs method'!AD$56)","v":0.23743502593793939},{"$f":"'ODS subs method'!AE29*'state population'!AF$186 /('state population'!AF28*'ODS subs method'!AE$56)","v":0.20207159089387752},{"$f":"'ODS subs method'!AF29*'state population'!AG$186 /('state population'!AG28*'ODS subs method'!AF$56)","v":0.20026332988313864},{"$f":"'ODS subs method'!AG29*'state population'!AH$186 /('state population'!AH28*'ODS subs method'!AG$56)","v":0.18166907892347517},{"$f":"'ODS subs method'!AH29*'state population'!AI$186 /('state population'!AI28*'ODS subs method'!AH$56)","v":0.17892361924935654}]
["Montana","MT","M",{"$f":"'ODS subs method'!C30*'state population'!D$183 /('state population'!D29*'ODS subs method'!C$56)","v":5.4261740316790562E-2},{"$f":"'ODS subs method'!D30*'state population'!E$183 /('state population'!E29*'ODS subs method'!D$56)","v":5.5052272115756029E-2},{"$f":"'ODS subs method'!E30*'state population'!F$183 /('state population'!F29*'ODS subs method'!E$56)","v":4.4370818124945532E-2},{"$f":"'ODS subs method'!F30*'state population'!G$183 /('state population'!G29*'ODS subs method'!F$56)","v":4.1668909187177965E-2},{"$f":"'ODS subs method'!G30*'state population'!H$183 /('state population'!H29*'ODS subs method'!G$56)","v":4.0879551798863586E-2},{"$f":"'ODS subs method'!H30*'state population'!I$183 /('state population'!I29*'ODS subs method'!H$56)","v":4.1254380492370131E-2},{"$f":"'ODS subs method'!I30*'state population'!J$183 /('state population'!J29*'ODS subs method'!I$56)","v":4.2015563550400065E-2},{"$f":"'ODS subs method'!J30*'state population'!K$183 /('state population'!K29*'ODS subs method'!J$56)","v":4.2402630751502704E-2},{"$f":"'ODS subs method'!K30*'state population'!L$183 /('state population'!L29*'ODS subs method'!K$56)","v":4.2899728847096953E-2},{"$f":"'ODS subs method'!L30*'state population'!M$183 /('state population'!M29*'ODS subs method'!L$56)","v":4.3285621778558103E-2},{"$f":"'ODS subs method'!M30*'state population'!N$183 /('state population'!N29*'ODS subs method'!M$56)","v":4.341693210603826E-2},{"$f":"'ODS subs method'!N30*'state population'!O$183 /('state population'!O29*'ODS subs method'!N$56)","v":4.3704864250962309E-2},{"$f":"'ODS subs method'!O30*'state population'!P$183 /('state population'!P29*'ODS subs method'!O$56)","v":4.4336000415050092E-2},{"$f":"'ODS subs method'!P30*'state population'!Q$183 /('state population'!Q29*'ODS subs method'!P$56)","v":4.499389091924054E-2},{"$f":"'ODS subs method'!Q30*'state population'!R$183 /('state population'!R29*'ODS subs method'!Q$56)","v":4.5544612347567189E-2},{"$f":"'ODS subs method'!R30*'state population'!S$183 /('state population'!S29*'ODS subs method'!R$56)","v":4.644501293037559E-2},{"$f":"'ODS subs method'!S30*'state population'!T$183 /('state population'!T29*'ODS subs method'!S$56)","v":4.7277142377117408E-2},{"$f":"'ODS subs method'!T30*'state population'!U$183 /('state population'!U29*'ODS subs method'!T$56)","v":4.8179287611365952E-2},{"$f":"'ODS subs method'!U30*'state population'!V$183 /('state population'!V29*'ODS subs method'!U$56)","v":4.9003918329161129E-2},{"$f":"'ODS subs method'!V30*'state population'!W$183 /('state population'!W29*'ODS subs method'!V$56)","v":4.9450099003411283E-2},{"$f":"'ODS subs method'!W30*'state population'!X$183 /('state population'!X29*'ODS subs method'!W$56)","v":4.6510481841829591E-2},{"$f":"'ODS subs method'!X30*'state population'!Y$183 /('state population'!Y29*'ODS subs method'!X$56)","v":4.1972083972405455E-2},{"$f":"'ODS subs method'!Y30*'state population'!Z$183 /('state population'!Z29*'ODS subs method'!Y$56)","v":5.5133630981857321E-2},{"$f":"'ODS subs method'!Z30*'state population'!AA$183 /('state population'!AA29*'ODS subs method'!Z$56)","v":4.143578490044391E-2},{"$f":"'ODS subs method'!AA30*'state population'!AB$183 /('state population'!AB29*'ODS subs method'!AA$56)","v":4.1669164349299452E-2},{"$f":"'ODS subs method'!AB30*'state population'!AC$183 /('state population'!AC29*'ODS subs method'!AB$56)","v":3.7131658789238499E-2},{"$f":"'ODS subs method'!AC30*'state population'!AD$183 /('state population'!AD29*'ODS subs method'!AC$56)","v":3.3847423640809442E-2},{"$f":"'ODS subs method'!AD30*'state population'!AE$183 /('state population'!AE29*'ODS subs method'!AD$56)","v":3.1395699046540847E-2},{"$f":"'ODS subs method'!AE30*'state population'!AF$183 /('state population'!AF29*'ODS subs method'!AE$56)","v":3.9573874436161234E-2},{"$f":"'ODS subs method'!AF30*'state population'!AG$183 /('state population'!AG29*'ODS subs method'!AF$56)","v":3.4938900740782777E-2},{"$f":"'ODS subs method'!AG30*'state population'!AH$183 /('state population'!AH29*'ODS subs method'!AG$56)","v":4.4092552013990413E-2},{"$f":"'ODS subs method'!AH30*'state population'!AI$183 /('state population'!AI29*'ODS subs method'!AH$56)","v":4.3684121611195149E-2}]
["Nebraska","NE","CN",{"$f":"'ODS subs method'!C31*'state population'!D$186 /('state population'!D30*'ODS subs method'!C$56)","v":0.23614973443681458},{"$f":"'ODS subs method'!D31*'state population'!E$186 /('state population'!E30*'ODS subs method'!D$56)","v":0.2351798610649406},{"$f":"'ODS subs method'!E31*'state population'!F$186 /('state population'!F30*'ODS subs method'!E$56)","v":0.25938404350375388},{"$f":"'ODS subs method'!F31*'state population'!G$186 /('state population'!G30*'ODS subs method'!F$56)","v":0.26569207113605892},{"$f":"'ODS subs method'!G31*'state population'!H$186 /('state population'!H30*'ODS subs method'!G$56)","v":0.26748472381211968},{"$f":"'ODS subs method'!H31*'state population'!I$186 /('state population'!I30*'ODS subs method'!H$56)","v":0.26687711783117529},{"$f":"'ODS subs method'!I31*'state population'!J$186 /('state population'!J30*'ODS subs method'!I$56)","v":0.26552965118542166},{"$f":"'ODS subs method'!J31*'state population'!K$186 /('state population'!K30*'ODS subs method'!J$56)","v":0.26485405067100437},{"$f":"'ODS subs method'!K31*'state population'!L$186 /('state population'!L30*'ODS subs method'!K$56)","v":0.26394992491190178},{"$f":"'ODS subs method'!L31*'state population'!M$186 /('state population'!M30*'ODS subs method'!L$56)","v":0.26325362890151927},{"$f":"'ODS subs method'!M31*'state population'!N$186 /('state population'!N30*'ODS subs method'!M$56)","v":0.26303372288776983},{"$f":"'ODS subs method'!N31*'state population'!O$186 /('state population'!O30*'ODS subs method'!N$56)","v":0.26249685750998952},{"$f":"'ODS subs method'!O31*'state population'!P$186 /('state population'!P30*'ODS subs method'!O$56)","v":0.2613091863243403},{"$f":"'ODS subs method'!P31*'state population'!Q$186 /('state population'!Q30*'ODS subs method'!P$56)","v":0.26007216007341316},{"$f":"'ODS subs method'!Q31*'state population'!R$186 /('state population'!R30*'ODS subs method'!Q$56)","v":0.2590366941944886},{"$f":"'ODS subs method'!R31*'state population'!S$186 /('state population'!S30*'ODS subs method'!R$56)","v":0.25736565131768185},{"$f":"'ODS subs method'!S31*'state population'!T$186 /('state population'!T30*'ODS subs method'!S$56)","v":0.25583669577828327},{"$f":"'ODS subs method'!T31*'state population'!U$186 /('state population'!U30*'ODS subs method'!T$56)","v":0.2541641740392433},{"$f":"'ODS subs method'!U31*'state population'!V$186 /('state population'!V30*'ODS subs method'!U$56)","v":0.25258096822485804},{"$f":"'ODS subs method'!V31*'state population'!W$186 /('state population'!W30*'ODS subs method'!V$56)","v":0.24901395775116916},{"$f":"'ODS subs method'!W31*'state population'!X$186 /('state population'!X30*'ODS subs method'!W$56)","v":0.25986210101172841},{"$f":"'ODS subs method'!X31*'state population'!Y$186 /('state population'!Y30*'ODS subs method'!X$56)","v":0.25942938806295945},{"$f":"'ODS subs method'!Y31*'state population'!Z$186 /('state population'!Z30*'ODS subs method'!Y$56)","v":0.26469604334002411},{"$f":"'ODS subs method'!Z31*'state population'!AA$186 /('state population'!AA30*'ODS subs method'!Z$56)","v":0.2583554041016034},{"$f":"'ODS subs method'!AA31*'state population'!AB$186 /('state population'!AB30*'ODS subs method'!AA$56)","v":0.22734384127013252},{"$f":"'ODS subs method'!AB31*'state population'!AC$186 /('state population'!AC30*'ODS subs method'!AB$56)","v":0.23857884455835415},{"$f":"'ODS subs method'!AC31*'state population'!AD$186 /('state population'!AD30*'ODS subs method'!AC$56)","v":0.22083876985683437},{"$f":"'ODS subs method'!AD31*'state population'!AE$186 /('state population'!AE30*'ODS subs method'!AD$56)","v":0.23743502593793944},{"$f":"'ODS subs method'!AE31*'state population'!AF$186 /('state population'!AF30*'ODS subs method'!AE$56)","v":0.20207159089387752},{"$f":"'ODS subs method'!AF31*'state population'!AG$186 /('state population'!AG30*'ODS subs method'!AF$56)","v":0.20026332988313861},{"$f":"'ODS subs method'!AG31*'state population'!AH$186 /('state population'!AH30*'ODS subs method'!AG$56)","v":0.1816690789234752},{"$f":"'ODS subs method'!AH31*'state population'!AI$186 /('state population'!AI30*'ODS subs method'!AH$56)","v":0.17892361924935654}]
["Nevada","NV","M",{"$f":"'ODS subs method'!C32*'state population'!D$183/('state population'!D31*'ODS subs method'!C$56)","v":5.4261740316790555E-2},{"$f":"'ODS subs method'!D32*'state population'!E$183/('state population'!E31*'ODS subs method'!D$56)","v":5.5052272115756036E-2},{"$f":"'ODS subs method'!E32*'state population'!F$183/('state population'!F31*'ODS subs method'!E$56)","v":4.4370818124945526E-2},{"$f":"'ODS subs method'!F32*'state population'!G$183/('state population'!G31*'ODS subs method'!F$56)","v":4.1668909187177951E-2},{"$f":"'ODS subs method'!G32*'state population'!H$183/('state population'!H31*'ODS subs method'!G$56)","v":4.0879551798863586E-2},{"$f":"'ODS subs method'!H32*'state population'!I$183/('state population'!I31*'ODS subs method'!H$56)","v":4.1254380492370145E-2},{"$f":"'ODS subs method'!I32*'state population'!J$183/('state population'!J31*'ODS subs method'!I$56)","v":4.2015563550400079E-2},{"$f":"'ODS subs method'!J32*'state population'!K$183/('state population'!K31*'ODS subs method'!J$56)","v":4.2402630751502711E-2},{"$f":"'ODS subs method'!K32*'state population'!L$183/('state population'!L31*'ODS subs method'!K$56)","v":4.2899728847096946E-2},{"$f":"'ODS subs method'!L32*'state population'!M$183/('state population'!M31*'ODS subs method'!L$56)","v":4.3285621778558103E-2},{"$f":"'ODS subs method'!M32*'state population'!N$183/('state population'!N31*'ODS subs method'!M$56)","v":4.3416932106038246E-2},{"$f":"'ODS subs method'!N32*'state population'!O$183/('state population'!O31*'ODS subs method'!N$56)","v":4.370486425096233E-2},{"$f":"'ODS subs method'!O32*'state population'!P$183/('state population'!P31*'ODS subs method'!O$56)","v":4.4336000415050078E-2},{"$f":"'ODS subs method'!P32*'state population'!Q$183/('state population'!Q31*'ODS subs method'!P$56)","v":4.4993890919240533E-2},{"$f":"'ODS subs method'!Q32*'state population'!R$183/('state population'!R31*'ODS subs method'!Q$56)","v":4.5544612347567182E-2},{"$f":"'ODS subs method'!R32*'state population'!S$183/('state population'!S31*'ODS subs method'!R$56)","v":4.644501293037559E-2},{"$f":"'ODS subs method'!S32*'state population'!T$183/('state population'!T31*'ODS subs method'!S$56)","v":4.7277142377117415E-2},{"$f":"'ODS subs method'!T32*'state population'!U$183/('state population'!U31*'ODS subs method'!T$56)","v":4.8179287611365931E-2},{"$f":"'ODS subs method'!U32*'state population'!V$183/('state population'!V31*'ODS subs method'!U$56)","v":4.9003918329161143E-2},{"$f":"'ODS subs method'!V32*'state population'!W$183/('state population'!W31*'ODS subs method'!V$56)","v":4.9450099003411296E-2},{"$f":"'ODS subs method'!W32*'state population'!X$183/('state population'!X31*'ODS subs method'!W$56)","v":4.6510481841829598E-2},{"$f":"'ODS subs method'!X32*'state population'!Y$183/('state population'!Y31*'ODS subs method'!X$56)","v":4.1972083972405448E-2},{"$f":"'ODS subs method'!Y32*'state population'!Z$183/('state population'!Z31*'ODS subs method'!Y$56)","v":5.51336309818573E-2},{"$f":"'ODS subs method'!Z32*'state population'!AA$183/('state population'!AA31*'ODS subs method'!Z$56)","v":4.143578490044391E-2},{"$f":"'ODS subs method'!AA32*'state population'!AB$183/('state population'!AB31*'ODS subs method'!AA$56)","v":4.1669164349299459E-2},{"$f":"'ODS subs method'!AB32*'state population'!AC$183/('state population'!AC31*'ODS subs method'!AB$56)","v":3.7131658789238499E-2},{"$f":"'ODS subs method'!AC32*'state population'!AD$183/('state population'!AD31*'ODS subs method'!AC$56)","v":3.3847423640809449E-2},{"$f":"'ODS subs method'!AD32*'state population'!AE$183/('state population'!AE31*'ODS subs method'!AD$56)","v":3.1395699046540861E-2},{"$f":"'ODS subs method'!AE32*'state population'!AF$183/('state population'!AF31*'ODS subs method'!AE$56)","v":3.9573874436161248E-2},{"$f":"'ODS subs method'!AF32*'state population'!AG$183/('state population'!AG31*'ODS subs method'!AF$56)","v":3.493890074078277E-2},{"$f":"'ODS subs method'!AG32*'state population'!AH$183/('state population'!AH31*'ODS subs method'!AG$56)","v":4.4092552013990413E-2},{"$f":"'ODS subs method'!AH32*'state population'!AI$183/('state population'!AI31*'ODS subs method'!AH$56)","v":4.3684121611195115E-2}]
["New Hampshire","NH","NE",{"$f":"'ODS subs method'!C33*'state population'!D$184 /('state population'!D32*'ODS subs method'!C$56)","v":0.2567189576777823},{"$f":"'ODS subs method'!D33*'state population'!E$184 /('state population'!E32*'ODS subs method'!D$56)","v":0.25495885897413945},{"$f":"'ODS subs method'!E33*'state population'!F$184 /('state population'!F32*'ODS subs method'!E$56)","v":0.2240301331743787},{"$f":"'ODS subs method'!F33*'state population'!G$184 /('state population'!G32*'ODS subs method'!F$56)","v":0.21478946623851594},{"$f":"'ODS subs method'!G33*'state population'!H$184 /('state population'!H32*'ODS subs method'!G$56)","v":0.21253695654540733},{"$f":"'ODS subs method'!H33*'state population'!I$184 /('state population'!I32*'ODS subs method'!H$56)","v":0.21295640716140288},{"$f":"'ODS subs method'!I33*'state population'!J$184 /('state population'!J32*'ODS subs method'!I$56)","v":0.21365251652593184},{"$f":"'ODS subs method'!J33*'state population'!K$184 /('state population'!K32*'ODS subs method'!J$56)","v":0.21358550479572616},{"$f":"'ODS subs method'!K33*'state population'!L$184 /('state population'!L32*'ODS subs method'!K$56)","v":0.21373373710957427},{"$f":"'ODS subs method'!L33*'state population'!M$184 /('state population'!M32*'ODS subs method'!L$56)","v":0.21367338464303601},{"$f":"'ODS subs method'!M33*'state population'!N$184 /('state population'!N32*'ODS subs method'!M$56)","v":0.21346737536684868},{"$f":"'ODS subs method'!N33*'state population'!O$184 /('state population'!O32*'ODS subs method'!N$56)","v":0.2134124394823155},{"$f":"'ODS subs method'!O33*'state population'!P$184 /('state population'!P32*'ODS subs method'!O$56)","v":0.21369233613146235},{"$f":"'ODS subs method'!P33*'state population'!Q$184 /('state population'!Q32*'ODS subs method'!P$56)","v":0.21398842620162972},{"$f":"'ODS subs method'!Q33*'state population'!R$184 /('state population'!R32*'ODS subs method'!Q$56)","v":0.21411784334638656},{"$f":"'ODS subs method'!R33*'state population'!S$184 /('state population'!S32*'ODS subs method'!R$56)","v":0.21435600820602935},{"$f":"'ODS subs method'!S33*'state population'!T$184 /('state population'!T32*'ODS subs method'!S$56)","v":0.21449286257896699},{"$f":"'ODS subs method'!T33*'state population'!U$184 /('state population'!U32*'ODS subs method'!T$56)","v":0.21470594632444059},{"$f":"'ODS subs method'!U33*'state population'!V$184 /('state population'!V32*'ODS subs method'!U$56)","v":0.21491676734325188},{"$f":"'ODS subs method'!V33*'state population'!W$184 /('state population'!W32*'ODS subs method'!V$56)","v":0.20720463342337705},{"$f":"'ODS subs method'!W33*'state population'!X$184 /('state population'!X32*'ODS subs method'!W$56)","v":0.18057210646699531},{"$f":"'ODS subs method'!X33*'state population'!Y$184 /('state population'!Y32*'ODS subs method'!X$56)","v":0.1861840185894752},{"$f":"'ODS subs method'!Y33*'state population'!Z$184 /('state population'!Z32*'ODS subs method'!Y$56)","v":0.19900434460910033},{"$f":"'ODS subs method'!Z33*'state population'!AA$184 /('state population'!AA32*'ODS subs method'!Z$56)","v":0.23058590647941304},{"$f":"'ODS subs method'!AA33*'state population'!AB$184 /('state population'!AB32*'ODS subs method'!AA$56)","v":0.25306061243119105},{"$f":"'ODS subs method'!AB33*'state population'!AC$184 /('state population'!AC32*'ODS subs method'!AB$56)","v":0.2368312183934754},{"$f":"'ODS subs method'!AC33*'state population'!AD$184 /('state population'!AD32*'ODS subs method'!AC$56)","v":0.23651801915220313},{"$f":"'ODS subs method'!AD33*'state population'!AE$184 /('state population'!AE32*'ODS subs method'!AD$56)","v":0.20277038831449878},{"$f":"'ODS subs method'!AE33*'state population'!AF$184 /('state population'!AF32*'ODS subs method'!AE$56)","v":0.22451526534430621},{"$f":"'ODS subs method'!AF33*'state population'!AG$184 /('state population'!AG32*'ODS subs method'!AF$56)","v":0.20921134836043162},{"$f":"'ODS subs method'!AG33*'state population'!AH$184 /('state population'!AH32*'ODS subs method'!AG$56)","v":0.22513665198467592},{"$f":"'ODS subs method'!AH33*'state population'!AI$184 /('state population'!AI32*'ODS subs method'!AH$56)","v":0.22557491765935658}]
["New Jersey","NJ","NE",{"$f":"'ODS subs method'!C34*'state population'!D$184 /('state population'!D33*'ODS subs method'!C$56)","v":0.25671895767778236},{"$f":"'ODS subs method'!D34*'state population'!E$184 /('state population'!E33*'ODS subs method'!D$56)","v":0.2549588589741395},{"$f":"'ODS subs method'!E34*'state population'!F$184 /('state population'!F33*'ODS subs method'!E$56)","v":0.22403013317437873},{"$f":"'ODS subs method'!F34*'state population'!G$184 /('state population'!G33*'ODS subs method'!F$56)","v":0.21478946623851597},{"$f":"'ODS subs method'!G34*'state population'!H$184 /('state population'!H33*'ODS subs method'!G$56)","v":0.21253695654540733},{"$f":"'ODS subs method'!H34*'state population'!I$184 /('state population'!I33*'ODS subs method'!H$56)","v":0.21295640716140291},{"$f":"'ODS subs method'!I34*'state population'!J$184 /('state population'!J33*'ODS subs method'!I$56)","v":0.21365251652593173},{"$f":"'ODS subs method'!J34*'state population'!K$184 /('state population'!K33*'ODS subs method'!J$56)","v":0.21358550479572616},{"$f":"'ODS subs method'!K34*'state population'!L$184 /('state population'!L33*'ODS subs method'!K$56)","v":0.21373373710957427},{"$f":"'ODS subs method'!L34*'state population'!M$184 /('state population'!M33*'ODS subs method'!L$56)","v":0.21367338464303601},{"$f":"'ODS subs method'!M34*'state population'!N$184 /('state population'!N33*'ODS subs method'!M$56)","v":0.21346737536684865},{"$f":"'ODS subs method'!N34*'state population'!O$184 /('state population'!O33*'ODS subs method'!N$56)","v":0.2134124394823155},{"$f":"'ODS subs method'!O34*'state population'!P$184 /('state population'!P33*'ODS subs method'!O$56)","v":0.2136923361314623},{"$f":"'ODS subs method'!P34*'state population'!Q$184 /('state population'!Q33*'ODS subs method'!P$56)","v":0.21398842620162981},{"$f":"'ODS subs method'!Q34*'state population'!R$184 /('state population'!R33*'ODS subs method'!Q$56)","v":0.21411784334638656},{"$f":"'ODS subs method'!R34*'state population'!S$184 /('state population'!S33*'ODS subs method'!R$56)","v":0.21435600820602935},{"$f":"'ODS subs method'!S34*'state population'!T$184 /('state population'!T33*'ODS subs method'!S$56)","v":0.21449286257896696},{"$f":"'ODS subs method'!T34*'state population'!U$184 /('state population'!U33*'ODS subs method'!T$56)","v":0.21470594632444054},{"$f":"'ODS subs method'!U34*'state population'!V$184 /('state population'!V33*'ODS subs method'!U$56)","v":0.21491676734325188},{"$f":"'ODS subs method'!V34*'state population'!W$184 /('state population'!W33*'ODS subs method'!V$56)","v":0.207204633423377},{"$f":"'ODS subs method'!W34*'state population'!X$184 /('state population'!X33*'ODS subs method'!W$56)","v":0.18057210646699534},{"$f":"'ODS subs method'!X34*'state population'!Y$184 /('state population'!Y33*'ODS subs method'!X$56)","v":0.18618401858947523},{"$f":"'ODS subs method'!Y34*'state population'!Z$184 /('state population'!Z33*'ODS subs method'!Y$56)","v":0.19900434460910035},{"$f":"'ODS subs method'!Z34*'state population'!AA$184 /('state population'!AA33*'ODS subs method'!Z$56)","v":0.23058590647941299},{"$f":"'ODS subs method'!AA34*'state population'!AB$184 /('state population'!AB33*'ODS subs method'!AA$56)","v":0.25306061243119093},{"$f":"'ODS subs method'!AB34*'state population'!AC$184 /('state population'!AC33*'ODS subs method'!AB$56)","v":0.2368312183934754},{"$f":"'ODS subs method'!AC34*'state population'!AD$184 /('state population'!AD33*'ODS subs method'!AC$56)","v":0.23651801915220316},{"$f":"'ODS subs method'!AD34*'state population'!AE$184 /('state population'!AE33*'ODS subs method'!AD$56)","v":0.20277038831449876},{"$f":"'ODS subs method'!AE34*'state population'!AF$184 /('state population'!AF33*'ODS subs method'!AE$56)","v":0.22451526534430616},{"$f":"'ODS subs method'!AF34*'state population'!AG$184 /('state population'!AG33*'ODS subs method'!AF$56)","v":0.20921134836043168},{"$f":"'ODS subs method'!AG34*'state population'!AH$184 /('state population'!AH33*'ODS subs method'!AG$56)","v":0.22513665198467589},{"$f":"'ODS subs method'!AH34*'state population'!AI$184 /('state population'!AI33*'ODS subs method'!AH$56)","v":0.22557491765935653}]
["New Mexico","NM","M",{"$f":"'ODS subs method'!C35*'state population'!D$183/('state population'!D34*'ODS subs method'!C$56)","v":5.4261740316790541E-2},{"$f":"'ODS subs method'!D35*'state population'!E$183/('state population'!E34*'ODS subs method'!D$56)","v":5.5052272115756036E-2},{"$f":"'ODS subs method'!E35*'state population'!F$183/('state population'!F34*'ODS subs method'!E$56)","v":4.4370818124945526E-2},{"$f":"'ODS subs method'!F35*'state population'!G$183/('state population'!G34*'ODS subs method'!F$56)","v":4.1668909187177958E-2},{"$f":"'ODS subs method'!G35*'state population'!H$183/('state population'!H34*'ODS subs method'!G$56)","v":4.0879551798863586E-2},{"$f":"'ODS subs method'!H35*'state population'!I$183/('state population'!I34*'ODS subs method'!H$56)","v":4.1254380492370138E-2},{"$f":"'ODS subs method'!I35*'state population'!J$183/('state population'!J34*'ODS subs method'!I$56)","v":4.2015563550400079E-2},{"$f":"'ODS subs method'!J35*'state population'!K$183/('state population'!K34*'ODS subs method'!J$56)","v":4.2402630751502711E-2},{"$f":"'ODS subs method'!K35*'state population'!L$183/('state population'!L34*'ODS subs method'!K$56)","v":4.2899728847096939E-2},{"$f":"'ODS subs method'!L35*'state population'!M$183/('state population'!M34*'ODS subs method'!L$56)","v":4.328562177855811E-2},{"$f":"'ODS subs method'!M35*'state population'!N$183/('state population'!N34*'ODS subs method'!M$56)","v":4.3416932106038253E-2},{"$f":"'ODS subs method'!N35*'state population'!O$183/('state population'!O34*'ODS subs method'!N$56)","v":4.3704864250962316E-2},{"$f":"'ODS subs method'!O35*'state population'!P$183/('state population'!P34*'ODS subs method'!O$56)","v":4.4336000415050092E-2},{"$f":"'ODS subs method'!P35*'state population'!Q$183/('state population'!Q34*'ODS subs method'!P$56)","v":4.499389091924054E-2},{"$f":"'ODS subs method'!Q35*'state population'!R$183/('state population'!R34*'ODS subs method'!Q$56)","v":4.5544612347567189E-2},{"$f":"'ODS subs method'!R35*'state population'!S$183/('state population'!S34*'ODS subs method'!R$56)","v":4.6445012930375583E-2},{"$f":"'ODS subs method'!S35*'state population'!T$183/('state population'!T34*'ODS subs method'!S$56)","v":4.7277142377117415E-2},{"$f":"'ODS subs method'!T35*'state population'!U$183/('state population'!U34*'ODS subs method'!T$56)","v":4.8179287611365945E-2},{"$f":"'ODS subs method'!U35*'state population'!V$183/('state population'!V34*'ODS subs method'!U$56)","v":4.9003918329161102E-2},{"$f":"'ODS subs method'!V35*'state population'!W$183/('state population'!W34*'ODS subs method'!V$56)","v":4.9450099003411303E-2},{"$f":"'ODS subs method'!W35*'state population'!X$183/('state population'!X34*'ODS subs method'!W$56)","v":4.6510481841829605E-2},{"$f":"'ODS subs method'!X35*'state population'!Y$183/('state population'!Y34*'ODS subs method'!X$56)","v":4.1972083972405448E-2},{"$f":"'ODS subs method'!Y35*'state population'!Z$183/('state population'!Z34*'ODS subs method'!Y$56)","v":5.5133630981857314E-2},{"$f":"'ODS subs method'!Z35*'state population'!AA$183/('state population'!AA34*'ODS subs method'!Z$56)","v":4.143578490044391E-2},{"$f":"'ODS subs method'!AA35*'state population'!AB$183/('state population'!AB34*'ODS subs method'!AA$56)","v":4.1669164349299466E-2},{"$f":"'ODS subs method'!AB35*'state population'!AC$183/('state population'!AC34*'ODS subs method'!AB$56)","v":3.7131658789238492E-2},{"$f":"'ODS subs method'!AC35*'state population'!AD$183/('state population'!AD34*'ODS subs method'!AC$56)","v":3.3847423640809442E-2},{"$f":"'ODS subs method'!AD35*'state population'!AE$183/('state population'!AE34*'ODS subs method'!AD$56)","v":3.1395699046540854E-2},{"$f":"'ODS subs method'!AE35*'state population'!AF$183/('state population'!AF34*'ODS subs method'!AE$56)","v":3.9573874436161234E-2},{"$f":"'ODS subs method'!AF35*'state population'!AG$183/('state population'!AG34*'ODS subs method'!AF$56)","v":3.493890074078277E-2},{"$f":"'ODS subs method'!AG35*'state population'!AH$183/('state population'!AH34*'ODS subs method'!AG$56)","v":4.409255201399042E-2},{"$f":"'ODS subs method'!AH35*'state population'!AI$183/('state population'!AI34*'ODS subs method'!AH$56)","v":4.3684121611195149E-2}]
["New York","NY","NE",{"$f":"'ODS subs method'!C36*'state population'!D$184 /('state population'!D35*'ODS subs method'!C$56)","v":0.25671895767778236},{"$f":"'ODS subs method'!D36*'state population'!E$184 /('state population'!E35*'ODS subs method'!D$56)","v":0.25495885897413945},{"$f":"'ODS subs method'!E36*'state population'!F$184 /('state population'!F35*'ODS subs method'!E$56)","v":0.2240301331743787},{"$f":"'ODS subs method'!F36*'state population'!G$184 /('state population'!G35*'ODS subs method'!F$56)","v":0.214789466238516},{"$f":"'ODS subs method'!G36*'state population'!H$184 /('state population'!H35*'ODS subs method'!G$56)","v":0.21253695654540736},{"$f":"'ODS subs method'!H36*'state population'!I$184 /('state population'!I35*'ODS subs method'!H$56)","v":0.21295640716140285},{"$f":"'ODS subs method'!I36*'state population'!J$184 /('state population'!J35*'ODS subs method'!I$56)","v":0.21365251652593181},{"$f":"'ODS subs method'!J36*'state population'!K$184 /('state population'!K35*'ODS subs method'!J$56)","v":0.21358550479572622},{"$f":"'ODS subs method'!K36*'state population'!L$184 /('state population'!L35*'ODS subs method'!K$56)","v":0.21373373710957433},{"$f":"'ODS subs method'!L36*'state population'!M$184 /('state population'!M35*'ODS subs method'!L$56)","v":0.21367338464303595},{"$f":"'ODS subs method'!M36*'state population'!N$184 /('state population'!N35*'ODS subs method'!M$56)","v":0.21346737536684865},{"$f":"'ODS subs method'!N36*'state population'!O$184 /('state population'!O35*'ODS subs method'!N$56)","v":0.21341243948231542},{"$f":"'ODS subs method'!O36*'state population'!P$184 /('state population'!P35*'ODS subs method'!O$56)","v":0.2136923361314623},{"$f":"'ODS subs method'!P36*'state population'!Q$184 /('state population'!Q35*'ODS subs method'!P$56)","v":0.21398842620162972},{"$f":"'ODS subs method'!Q36*'state population'!R$184 /('state population'!R35*'ODS subs method'!Q$56)","v":0.21411784334638667},{"$f":"'ODS subs method'!R36*'state population'!S$184 /('state population'!S35*'ODS subs method'!R$56)","v":0.21435600820602935},{"$f":"'ODS subs method'!S36*'state population'!T$184 /('state population'!T35*'ODS subs method'!S$56)","v":0.21449286257896694},{"$f":"'ODS subs method'!T36*'state population'!U$184 /('state population'!U35*'ODS subs method'!T$56)","v":0.21470594632444057},{"$f":"'ODS subs method'!U36*'state population'!V$184 /('state population'!V35*'ODS subs method'!U$56)","v":0.2149167673432518},{"$f":"'ODS subs method'!V36*'state population'!W$184 /('state population'!W35*'ODS subs method'!V$56)","v":0.20720463342337705},{"$f":"'ODS subs method'!W36*'state population'!X$184 /('state population'!X35*'ODS subs method'!W$56)","v":0.18057210646699526},{"$f":"'ODS subs method'!X36*'state population'!Y$184 /('state population'!Y35*'ODS subs method'!X$56)","v":0.1861840185894752},{"$f":"'ODS subs method'!Y36*'state population'!Z$184 /('state population'!Z35*'ODS subs method'!Y$56)","v":0.19900434460910033},{"$f":"'ODS subs method'!Z36*'state population'!AA$184 /('state population'!AA35*'ODS subs method'!Z$56)","v":0.23058590647941299},{"$f":"'ODS subs method'!AA36*'state population'!AB$184 /('state population'!AB35*'ODS subs method'!AA$56)","v":0.25306061243119105},{"$f":"'ODS subs method'!AB36*'state population'!AC$184 /('state population'!AC35*'ODS subs method'!AB$56)","v":0.2368312183934754},{"$f":"'ODS subs method'!AC36*'state population'!AD$184 /('state population'!AD35*'ODS subs method'!AC$56)","v":0.23651801915220316},{"$f":"'ODS subs method'!AD36*'state population'!AE$184 /('state population'!AE35*'ODS subs method'!AD$56)","v":0.20277038831449878},{"$f":"'ODS subs method'!AE36*'state population'!AF$184 /('state population'!AF35*'ODS subs method'!AE$56)","v":0.2245152653443061},{"$f":"'ODS subs method'!AF36*'state population'!AG$184 /('state population'!AG35*'ODS subs method'!AF$56)","v":0.20921134836043162},{"$f":"'ODS subs method'!AG36*'state population'!AH$184 /('state population'!AH35*'ODS subs method'!AG$56)","v":0.22513665198467583},{"$f":"'ODS subs method'!AH36*'state population'!AI$184 /('state population'!AI35*'ODS subs method'!AH$56)","v":0.22557491765935653}]
["North Carolina","NC","SE",{"$f":"'ODS subs method'!C37*'state population'!D$185 /('state population'!D36*'ODS subs method'!C$56)","v":0.11743368240204836},{"$f":"'ODS subs method'!D37*'state population'!E$185 /('state population'!E36*'ODS subs method'!D$56)","v":0.11849390784084715},{"$f":"'ODS subs method'!E37*'state population'!F$185 /('state population'!F36*'ODS subs method'!E$56)","v":0.13233887404744196},{"$f":"'ODS subs method'!F37*'state population'!G$185 /('state population'!G36*'ODS subs method'!F$56)","v":0.13757877375331859},{"$f":"'ODS subs method'!G37*'state population'!H$185 /('state population'!H36*'ODS subs method'!G$56)","v":0.13874014765592588},{"$f":"'ODS subs method'!H37*'state population'!I$185 /('state population'!I36*'ODS subs method'!H$56)","v":0.13866342185194419},{"$f":"'ODS subs method'!I37*'state population'!J$185 /('state population'!J36*'ODS subs method'!I$56)","v":0.13876697874312746},{"$f":"'ODS subs method'!J37*'state population'!K$185 /('state population'!K36*'ODS subs method'!J$56)","v":0.13927017602057234},{"$f":"'ODS subs method'!K37*'state population'!L$185 /('state population'!L36*'ODS subs method'!K$56)","v":0.1396718860254495},{"$f":"'ODS subs method'!L37*'state population'!M$185 /('state population'!M36*'ODS subs method'!L$56)","v":0.14025921671602279},{"$f":"'ODS subs method'!M37*'state population'!N$185 /('state population'!N36*'ODS subs method'!M$56)","v":0.14069750455080693},{"$f":"'ODS subs method'!N37*'state population'!O$185 /('state population'!O36*'ODS subs method'!N$56)","v":0.14118350305911978},{"$f":"'ODS subs method'!O37*'state population'!P$185 /('state population'!P36*'ODS subs method'!O$56)","v":0.1416707970286013},{"$f":"'ODS subs method'!P37*'state population'!Q$185 /('state population'!Q36*'ODS subs method'!P$56)","v":0.14215730263977525},{"$f":"'ODS subs method'!Q37*'state population'!R$185 /('state population'!R36*'ODS subs method'!Q$56)","v":0.14268347184153751},{"$f":"'ODS subs method'!R37*'state population'!S$185 /('state population'!S36*'ODS subs method'!R$56)","v":0.14356796507710681},{"$f":"'ODS subs method'!S37*'state population'!T$185 /('state population'!T36*'ODS subs method'!S$56)","v":0.1445140354442204},{"$f":"'ODS subs method'!T37*'state population'!U$185 /('state population'!U36*'ODS subs method'!T$56)","v":0.14548001337209299},{"$f":"'ODS subs method'!U37*'state population'!V$185 /('state population'!V36*'ODS subs method'!U$56)","v":0.14638018717700088},{"$f":"'ODS subs method'!V37*'state population'!W$185 /('state population'!W36*'ODS subs method'!V$56)","v":0.16664068898661255},{"$f":"'ODS subs method'!W37*'state population'!X$185 /('state population'!X36*'ODS subs method'!W$56)","v":0.16383344551011794},{"$f":"'ODS subs method'!X37*'state population'!Y$185 /('state population'!Y36*'ODS subs method'!X$56)","v":0.14707767714325354},{"$f":"'ODS subs method'!Y37*'state population'!Z$185 /('state population'!Z36*'ODS subs method'!Y$56)","v":0.1770817199780248},{"$f":"'ODS subs method'!Z37*'state population'!AA$185 /('state population'!AA36*'ODS subs method'!Z$56)","v":0.16154541677273923},{"$f":"'ODS subs method'!AA37*'state population'!AB$185 /('state population'!AB36*'ODS subs method'!AA$56)","v":0.16822860786986157},{"$f":"'ODS subs method'!AB37*'state population'!AC$185 /('state population'!AC36*'ODS subs method'!AB$56)","v":0.17349068730558143},{"$f":"'ODS subs method'!AC37*'state population'!AD$185 /('state population'!AD36*'ODS subs method'!AC$56)","v":0.19689193766760144},{"$f":"'ODS subs method'!AD37*'state population'!AE$185 /('state population'!AE36*'ODS subs method'!AD$56)","v":0.19628830031957784},{"$f":"'ODS subs method'!AE37*'state population'!AF$185 /('state population'!AF36*'ODS subs method'!AE$56)","v":0.21319829282416597},{"$f":"'ODS subs method'!AF37*'state population'!AG$185 /('state population'!AG36*'ODS subs method'!AF$56)","v":0.24215742636920884},{"$f":"'ODS subs method'!AG37*'state population'!AH$185 /('state population'!AH36*'ODS subs method'!AG$56)","v":0.2013770390629141},{"$f":"'ODS subs method'!AH37*'state population'!AI$185 /('state population'!AI36*'ODS subs method'!AH$56)","v":0.20370521265020955}]
["North Dakota","ND","CN",{"$f":"'ODS subs method'!C38*'state population'!D$186 /('state population'!D37*'ODS subs method'!C$56)","v":0.23614973443681461},{"$f":"'ODS subs method'!D38*'state population'!E$186 /('state population'!E37*'ODS subs method'!D$56)","v":0.23517986106494054},{"$f":"'ODS subs method'!E38*'state population'!F$186 /('state population'!F37*'ODS subs method'!E$56)","v":0.25938404350375383},{"$f":"'ODS subs method'!F38*'state population'!G$186 /('state population'!G37*'ODS subs method'!F$56)","v":0.2656920711360588},{"$f":"'ODS subs method'!G38*'state population'!H$186 /('state population'!H37*'ODS subs method'!G$56)","v":0.26748472381211974},{"$f":"'ODS subs method'!H38*'state population'!I$186 /('state population'!I37*'ODS subs method'!H$56)","v":0.26687711783117529},{"$f":"'ODS subs method'!I38*'state population'!J$186 /('state population'!J37*'ODS subs method'!I$56)","v":0.2655296511854216},{"$f":"'ODS subs method'!J38*'state population'!K$186 /('state population'!K37*'ODS subs method'!J$56)","v":0.26485405067100432},{"$f":"'ODS subs method'!K38*'state population'!L$186 /('state population'!L37*'ODS subs method'!K$56)","v":0.26394992491190172},{"$f":"'ODS subs method'!L38*'state population'!M$186 /('state population'!M37*'ODS subs method'!L$56)","v":0.26325362890151927},{"$f":"'ODS subs method'!M38*'state population'!N$186 /('state population'!N37*'ODS subs method'!M$56)","v":0.26303372288776983},{"$f":"'ODS subs method'!N38*'state population'!O$186 /('state population'!O37*'ODS subs method'!N$56)","v":0.26249685750998952},{"$f":"'ODS subs method'!O38*'state population'!P$186 /('state population'!P37*'ODS subs method'!O$56)","v":0.26130918632434019},{"$f":"'ODS subs method'!P38*'state population'!Q$186 /('state population'!Q37*'ODS subs method'!P$56)","v":0.26007216007341322},{"$f":"'ODS subs method'!Q38*'state population'!R$186 /('state population'!R37*'ODS subs method'!Q$56)","v":0.2590366941944886},{"$f":"'ODS subs method'!R38*'state population'!S$186 /('state population'!S37*'ODS subs method'!R$56)","v":0.25736565131768185},{"$f":"'ODS subs method'!S38*'state population'!T$186 /('state population'!T37*'ODS subs method'!S$56)","v":0.25583669577828333},{"$f":"'ODS subs method'!T38*'state population'!U$186 /('state population'!U37*'ODS subs method'!T$56)","v":0.25416417403924341},{"$f":"'ODS subs method'!U38*'state population'!V$186 /('state population'!V37*'ODS subs method'!U$56)","v":0.25258096822485804},{"$f":"'ODS subs method'!V38*'state population'!W$186 /('state population'!W37*'ODS subs method'!V$56)","v":0.24901395775116908},{"$f":"'ODS subs method'!W38*'state population'!X$186 /('state population'!X37*'ODS subs method'!W$56)","v":0.25986210101172835},{"$f":"'ODS subs method'!X38*'state population'!Y$186 /('state population'!Y37*'ODS subs method'!X$56)","v":0.25942938806295945},{"$f":"'ODS subs method'!Y38*'state population'!Z$186 /('state population'!Z37*'ODS subs method'!Y$56)","v":0.26469604334002411},{"$f":"'ODS subs method'!Z38*'state population'!AA$186 /('state population'!AA37*'ODS subs method'!Z$56)","v":0.25835540410160346},{"$f":"'ODS subs method'!AA38*'state population'!AB$186 /('state population'!AB37*'ODS subs method'!AA$56)","v":0.22734384127013252},{"$f":"'ODS subs method'!AB38*'state population'!AC$186 /('state population'!AC37*'ODS subs method'!AB$56)","v":0.23857884455835418},{"$f":"'ODS subs method'!AC38*'state population'!AD$186 /('state population'!AD37*'ODS subs method'!AC$56)","v":0.22083876985683448},{"$f":"'ODS subs method'!AD38*'state population'!AE$186 /('state population'!AE37*'ODS subs method'!AD$56)","v":0.2374350259379395},{"$f":"'ODS subs method'!AE38*'state population'!AF$186 /('state population'!AF37*'ODS subs method'!AE$56)","v":0.20207159089387755},{"$f":"'ODS subs method'!AF38*'state population'!AG$186 /('state population'!AG37*'ODS subs method'!AF$56)","v":0.20026332988313861},{"$f":"'ODS subs method'!AG38*'state population'!AH$186 /('state population'!AH37*'ODS subs method'!AG$56)","v":0.18166907892347517},{"$f":"'ODS subs method'!AH38*'state population'!AI$186 /('state population'!AI37*'ODS subs method'!AH$56)","v":0.1789236192493566}]
["Ohio","OH","CN",{"$f":"'ODS subs method'!C39*'state population'!D$186 /('state population'!D38*'ODS subs method'!C$56)","v":0.23614973443681464},{"$f":"'ODS subs method'!D39*'state population'!E$186 /('state population'!E38*'ODS subs method'!D$56)","v":0.23517986106494052},{"$f":"'ODS subs method'!E39*'state population'!F$186 /('state population'!F38*'ODS subs method'!E$56)","v":0.25938404350375377},{"$f":"'ODS subs method'!F39*'state population'!G$186 /('state population'!G38*'ODS subs method'!F$56)","v":0.26569207113605875},{"$f":"'ODS subs method'!G39*'state population'!H$186 /('state population'!H38*'ODS subs method'!G$56)","v":0.26748472381211968},{"$f":"'ODS subs method'!H39*'state population'!I$186 /('state population'!I38*'ODS subs method'!H$56)","v":0.26687711783117529},{"$f":"'ODS subs method'!I39*'state population'!J$186 /('state population'!J38*'ODS subs method'!I$56)","v":0.26552965118542166},{"$f":"'ODS subs method'!J39*'state population'!K$186 /('state population'!K38*'ODS subs method'!J$56)","v":0.26485405067100432},{"$f":"'ODS subs method'!K39*'state population'!L$186 /('state population'!L38*'ODS subs method'!K$56)","v":0.26394992491190178},{"$f":"'ODS subs method'!L39*'state population'!M$186 /('state population'!M38*'ODS subs method'!L$56)","v":0.26325362890151921},{"$f":"'ODS subs method'!M39*'state population'!N$186 /('state population'!N38*'ODS subs method'!M$56)","v":0.26303372288776977},{"$f":"'ODS subs method'!N39*'state population'!O$186 /('state population'!O38*'ODS subs method'!N$56)","v":0.26249685750998947},{"$f":"'ODS subs method'!O39*'state population'!P$186 /('state population'!P38*'ODS subs method'!O$56)","v":0.26130918632434019},{"$f":"'ODS subs method'!P39*'state population'!Q$186 /('state population'!Q38*'ODS subs method'!P$56)","v":0.26007216007341316},{"$f":"'ODS subs method'!Q39*'state population'!R$186 /('state population'!R38*'ODS subs method'!Q$56)","v":0.2590366941944886},{"$f":"'ODS subs method'!R39*'state population'!S$186 /('state population'!S38*'ODS subs method'!R$56)","v":0.25736565131768185},{"$f":"'ODS subs method'!S39*'state population'!T$186 /('state population'!T38*'ODS subs method'!S$56)","v":0.25583669577828333},{"$f":"'ODS subs method'!T39*'state population'!U$186 /('state population'!U38*'ODS subs method'!T$56)","v":0.25416417403924335},{"$f":"'ODS subs method'!U39*'state population'!V$186 /('state population'!V38*'ODS subs method'!U$56)","v":0.25258096822485809},{"$f":"'ODS subs method'!V39*'state population'!W$186 /('state population'!W38*'ODS subs method'!V$56)","v":0.24901395775116911},{"$f":"'ODS subs method'!W39*'state population'!X$186 /('state population'!X38*'ODS subs method'!W$56)","v":0.2598621010117283},{"$f":"'ODS subs method'!X39*'state population'!Y$186 /('state population'!Y38*'ODS subs method'!X$56)","v":0.25942938806295945},{"$f":"'ODS subs method'!Y39*'state population'!Z$186 /('state population'!Z38*'ODS subs method'!Y$56)","v":0.26469604334002411},{"$f":"'ODS subs method'!Z39*'state population'!AA$186 /('state population'!AA38*'ODS subs method'!Z$56)","v":0.25835540410160346},{"$f":"'ODS subs method'!AA39*'state population'!AB$186 /('state population'!AB38*'ODS subs method'!AA$56)","v":0.22734384127013257},{"$f":"'ODS subs method'!AB39*'state population'!AC$186 /('state population'!AC38*'ODS subs method'!AB$56)","v":0.23857884455835424},{"$f":"'ODS subs method'!AC39*'state population'!AD$186 /('state population'!AD38*'ODS subs method'!AC$56)","v":0.22083876985683443},{"$f":"'ODS subs method'!AD39*'state population'!AE$186 /('state population'!AE38*'ODS subs method'!AD$56)","v":0.23743502593793936},{"$f":"'ODS subs method'!AE39*'state population'!AF$186 /('state population'!AF38*'ODS subs method'!AE$56)","v":0.20207159089387744},{"$f":"'ODS subs method'!AF39*'state population'!AG$186 /('state population'!AG38*'ODS subs method'!AF$56)","v":0.20026332988313866},{"$f":"'ODS subs method'!AG39*'state population'!AH$186 /('state population'!AH38*'ODS subs method'!AG$56)","v":0.18166907892347522},{"$f":"'ODS subs method'!AH39*'state population'!AI$186 /('state population'!AI38*'ODS subs method'!AH$56)","v":0.17892361924935649}]
["Oklahoma","OK","CS",{"$f":"'ODS subs method'!C40*'state population'!D$181/('state population'!D39*'ODS subs method'!C$56)","v":0.1659402987611007},{"$f":"'ODS subs method'!D40*'state population'!E$181/('state population'!E39*'ODS subs method'!D$56)","v":0.16607887078388953},{"$f":"'ODS subs method'!E40*'state population'!F$181/('state population'!F39*'ODS subs method'!E$56)","v":0.20563769666904611},{"$f":"'ODS subs method'!F40*'state population'!G$181/('state population'!G39*'ODS subs method'!F$56)","v":0.21735025076345998},{"$f":"'ODS subs method'!G40*'state population'!H$181/('state population'!H39*'ODS subs method'!G$56)","v":0.2203237877344498},{"$f":"'ODS subs method'!H40*'state population'!I$181/('state population'!I39*'ODS subs method'!H$56)","v":0.21960304761081967},{"$f":"'ODS subs method'!I40*'state population'!J$181/('state population'!J39*'ODS subs method'!I$56)","v":0.21827005376555272},{"$f":"'ODS subs method'!J40*'state population'!K$181/('state population'!K39*'ODS subs method'!J$56)","v":0.21799582999789971},{"$f":"'ODS subs method'!K40*'state population'!L$181/('state population'!L39*'ODS subs method'!K$56)","v":0.21739627787562291},{"$f":"'ODS subs method'!L40*'state population'!M$181/('state population'!M39*'ODS subs method'!L$56)","v":0.21712775375362597},{"$f":"'ODS subs method'!M40*'state population'!N$181/('state population'!N39*'ODS subs method'!M$56)","v":0.21724126635518454},{"$f":"'ODS subs method'!N40*'state population'!O$181/('state population'!O39*'ODS subs method'!N$56)","v":0.21706406772197784},{"$f":"'ODS subs method'!O40*'state population'!P$181/('state population'!P39*'ODS subs method'!O$56)","v":0.21626115662226916},{"$f":"'ODS subs method'!P40*'state population'!Q$181/('state population'!Q39*'ODS subs method'!P$56)","v":0.21542760386795823},{"$f":"'ODS subs method'!Q40*'state population'!R$181/('state population'!R39*'ODS subs method'!Q$56)","v":0.21484449382647197},{"$f":"'ODS subs method'!R40*'state population'!S$181/('state population'!S39*'ODS subs method'!R$56)","v":0.21390348203444354},{"$f":"'ODS subs method'!S40*'state population'!T$181/('state population'!T39*'ODS subs method'!S$56)","v":0.21317886060722102},{"$f":"'ODS subs method'!T40*'state population'!U$181/('state population'!U39*'ODS subs method'!T$56)","v":0.21243665180304847},{"$f":"'ODS subs method'!U40*'state population'!V$181/('state population'!V39*'ODS subs method'!U$56)","v":0.2117240949265681},{"$f":"'ODS subs method'!V40*'state population'!W$181/('state population'!W39*'ODS subs method'!V$56)","v":0.24118119828718254},{"$f":"'ODS subs method'!W40*'state population'!X$181/('state population'!X39*'ODS subs method'!W$56)","v":0.23925756893754821},{"$f":"'ODS subs method'!X40*'state population'!Y$181/('state population'!Y39*'ODS subs method'!X$56)","v":0.25887720311846046},{"$f":"'ODS subs method'!Y40*'state population'!Z$181/('state population'!Z39*'ODS subs method'!Y$56)","v":0.21420940183733866},{"$f":"'ODS subs method'!Z40*'state population'!AA$181/('state population'!AA39*'ODS subs method'!Z$56)","v":0.21198521855976743},{"$f":"'ODS subs method'!AA40*'state population'!AB$181/('state population'!AB39*'ODS subs method'!AA$56)","v":0.21221639973744222},{"$f":"'ODS subs method'!AB40*'state population'!AC$181/('state population'!AC39*'ODS subs method'!AB$56)","v":0.21661149377867417},{"$f":"'ODS subs method'!AC40*'state population'!AD$181/('state population'!AD39*'ODS subs method'!AC$56)","v":0.21850148137678019},{"$f":"'ODS subs method'!AD40*'state population'!AE$181/('state population'!AE39*'ODS subs method'!AD$56)","v":0.22716925032429339},{"$f":"'ODS subs method'!AE40*'state population'!AF$181/('state population'!AF39*'ODS subs method'!AE$56)","v":0.22822958051479555},{"$f":"'ODS subs method'!AF40*'state population'!AG$181/('state population'!AG39*'ODS subs method'!AF$56)","v":0.21566008798319891},{"$f":"'ODS subs method'!AG40*'state population'!AH$181/('state population'!AH39*'ODS subs method'!AG$56)","v":0.24571033536840772},{"$f":"'ODS subs method'!AH40*'state population'!AI$181/('state population'!AI39*'ODS subs method'!AH$56)","v":0.24722926954153207}]
["Oregon","OR","W",{"$f":"'ODS subs method'!C41*'state population'!D$182 /('state population'!D40*'ODS subs method'!C$56)","v":0.15555916924281141},{"$f":"'ODS subs method'!D41*'state population'!E$182 /('state population'!E40*'ODS subs method'!D$56)","v":0.15639358856153476},{"$f":"'ODS subs method'!E41*'state population'!F$182 /('state population'!F40*'ODS subs method'!E$56)","v":0.11885676233323515},{"$f":"'ODS subs method'!F41*'state population'!G$182 /('state population'!G40*'ODS subs method'!F$56)","v":0.10712005906476879},{"$f":"'ODS subs method'!G41*'state population'!H$182 /('state population'!H40*'ODS subs method'!G$56)","v":0.10419120716570467},{"$f":"'ODS subs method'!H41*'state population'!I$182 /('state population'!I40*'ODS subs method'!H$56)","v":0.10491357986077605},{"$f":"'ODS subs method'!I41*'state population'!J$182 /('state population'!J40*'ODS subs method'!I$56)","v":0.10614596474235166},{"$f":"'ODS subs method'!J41*'state population'!K$182 /('state population'!K40*'ODS subs method'!J$56)","v":0.10632598827520705},{"$f":"'ODS subs method'!K41*'state population'!L$182 /('state population'!L40*'ODS subs method'!K$56)","v":0.10684143489119287},{"$f":"'ODS subs method'!L41*'state population'!M$182 /('state population'!M40*'ODS subs method'!L$56)","v":0.10694212935329954},{"$f":"'ODS subs method'!M41*'state population'!N$182 /('state population'!N40*'ODS subs method'!M$56)","v":0.10672997012822007},{"$f":"'ODS subs method'!N41*'state population'!O$182 /('state population'!O40*'ODS subs method'!N$56)","v":0.10681297304615005},{"$f":"'ODS subs method'!O41*'state population'!P$182 /('state population'!P40*'ODS subs method'!O$56)","v":0.10752227192834972},{"$f":"'ODS subs method'!P41*'state population'!Q$182 /('state population'!Q40*'ODS subs method'!P$56)","v":0.10827561016429116},{"$f":"'ODS subs method'!Q41*'state population'!R$182 /('state population'!R40*'ODS subs method'!Q$56)","v":0.10880620880865834},{"$f":"'ODS subs method'!R41*'state population'!S$182 /('state population'!S40*'ODS subs method'!R$56)","v":0.10955393324393949},{"$f":"'ODS subs method'!S41*'state population'!T$182 /('state population'!T40*'ODS subs method'!S$56)","v":0.11008725212777076},{"$f":"'ODS subs method'!T41*'state population'!U$182 /('state population'!U40*'ODS subs method'!T$56)","v":0.11064752269237438},{"$f":"'ODS subs method'!U41*'state population'!V$182 /('state population'!V40*'ODS subs method'!U$56)","v":0.1112050805411974},{"$f":"'ODS subs method'!V41*'state population'!W$182 /('state population'!W40*'ODS subs method'!V$56)","v":7.0802572052194243E-2},{"$f":"'ODS subs method'!W41*'state population'!X$182 /('state population'!X40*'ODS subs method'!W$56)","v":9.540513094756832E-2},{"$f":"'ODS subs method'!X41*'state population'!Y$182 /('state population'!Y40*'ODS subs method'!X$56)","v":9.195570137699445E-2},{"$f":"'ODS subs method'!Y41*'state population'!Z$182 /('state population'!Z40*'ODS subs method'!Y$56)","v":7.4860964284490628E-2},{"$f":"'ODS subs method'!Z41*'state population'!AA$182 /('state population'!AA40*'ODS subs method'!Z$56)","v":8.1549532699434019E-2},{"$f":"'ODS subs method'!AA41*'state population'!AB$182 /('state population'!AB40*'ODS subs method'!AA$56)","v":8.3277589263463403E-2},{"$f":"'ODS subs method'!AB41*'state population'!AC$182 /('state population'!AC40*'ODS subs method'!AB$56)","v":8.3427604344494255E-2},{"$f":"'ODS subs method'!AC41*'state population'!AD$182 /('state population'!AD40*'ODS subs method'!AC$56)","v":7.9595408108484964E-2},{"$f":"'ODS subs method'!AD41*'state population'!AE$182 /('state population'!AE40*'ODS subs method'!AD$56)","v":9.1974605457836714E-2},{"$f":"'ODS subs method'!AE41*'state population'!AF$182 /('state population'!AF40*'ODS subs method'!AE$56)","v":7.940872462964893E-2},{"$f":"'ODS subs method'!AF41*'state population'!AG$182 /('state population'!AG40*'ODS subs method'!AF$56)","v":8.507610853927601E-2},{"$f":"'ODS subs method'!AG41*'state population'!AH$182 /('state population'!AH40*'ODS subs method'!AG$56)","v":8.9324886918848545E-2},{"$f":"'ODS subs method'!AH41*'state population'!AI$182 /('state population'!AI40*'ODS subs method'!AH$56)","v":8.8251659025802301E-2}]
["Pennsylvania","PA","NE",{"$f":"'ODS subs method'!C42*'state population'!D$184 /('state population'!D41*'ODS subs method'!C$56)","v":0.2567189576777823},{"$f":"'ODS subs method'!D42*'state population'!E$184 /('state population'!E41*'ODS subs method'!D$56)","v":0.25495885897413945},{"$f":"'ODS subs method'!E42*'state population'!F$184 /('state population'!F41*'ODS subs method'!E$56)","v":0.22403013317437864},{"$f":"'ODS subs method'!F42*'state population'!G$184 /('state population'!G41*'ODS subs method'!F$56)","v":0.214789466238516},{"$f":"'ODS subs method'!G42*'state population'!H$184 /('state population'!H41*'ODS subs method'!G$56)","v":0.2125369565454073},{"$f":"'ODS subs method'!H42*'state population'!I$184 /('state population'!I41*'ODS subs method'!H$56)","v":0.21295640716140285},{"$f":"'ODS subs method'!I42*'state population'!J$184 /('state population'!J41*'ODS subs method'!I$56)","v":0.21365251652593178},{"$f":"'ODS subs method'!J42*'state population'!K$184 /('state population'!K41*'ODS subs method'!J$56)","v":0.21358550479572619},{"$f":"'ODS subs method'!K42*'state population'!L$184 /('state population'!L41*'ODS subs method'!K$56)","v":0.2137337371095743},{"$f":"'ODS subs method'!L42*'state population'!M$184 /('state population'!M41*'ODS subs method'!L$56)","v":0.21367338464303595},{"$f":"'ODS subs method'!M42*'state population'!N$184 /('state population'!N41*'ODS subs method'!M$56)","v":0.21346737536684865},{"$f":"'ODS subs method'!N42*'state population'!O$184 /('state population'!O41*'ODS subs method'!N$56)","v":0.21341243948231545},{"$f":"'ODS subs method'!O42*'state population'!P$184 /('state population'!P41*'ODS subs method'!O$56)","v":0.21369233613146235},{"$f":"'ODS subs method'!P42*'state population'!Q$184 /('state population'!Q41*'ODS subs method'!P$56)","v":0.21398842620162978},{"$f":"'ODS subs method'!Q42*'state population'!R$184 /('state population'!R41*'ODS subs method'!Q$56)","v":0.21411784334638659},{"$f":"'ODS subs method'!R42*'state population'!S$184 /('state population'!S41*'ODS subs method'!R$56)","v":0.21435600820602937},{"$f":"'ODS subs method'!S42*'state population'!T$184 /('state population'!T41*'ODS subs method'!S$56)","v":0.21449286257896699},{"$f":"'ODS subs method'!T42*'state population'!U$184 /('state population'!U41*'ODS subs method'!T$56)","v":0.21470594632444057},{"$f":"'ODS subs method'!U42*'state population'!V$184 /('state population'!V41*'ODS subs method'!U$56)","v":0.21491676734325182},{"$f":"'ODS subs method'!V42*'state population'!W$184 /('state population'!W41*'ODS subs method'!V$56)","v":0.20720463342337705},{"$f":"'ODS subs method'!W42*'state population'!X$184 /('state population'!X41*'ODS subs method'!W$56)","v":0.18057210646699529},{"$f":"'ODS subs method'!X42*'state population'!Y$184 /('state population'!Y41*'ODS subs method'!X$56)","v":0.1861840185894752},{"$f":"'ODS subs method'!Y42*'state population'!Z$184 /('state population'!Z41*'ODS subs method'!Y$56)","v":0.19900434460910033},{"$f":"'ODS subs method'!Z42*'state population'!AA$184 /('state population'!AA41*'ODS subs method'!Z$56)","v":0.23058590647941299},{"$f":"'ODS subs method'!AA42*'state population'!AB$184 /('state population'!AB41*'ODS subs method'!AA$56)","v":0.25306061243119099},{"$f":"'ODS subs method'!AB42*'state population'!AC$184 /('state population'!AC41*'ODS subs method'!AB$56)","v":0.23683121839347537},{"$f":"'ODS subs method'!AC42*'state population'!AD$184 /('state population'!AD41*'ODS subs method'!AC$56)","v":0.23651801915220308},{"$f":"'ODS subs method'!AD42*'state population'!AE$184 /('state population'!AE41*'ODS subs method'!AD$56)","v":0.20277038831449889},{"$f":"'ODS subs method'!AE42*'state population'!AF$184 /('state population'!AF41*'ODS subs method'!AE$56)","v":0.22451526534430621},{"$f":"'ODS subs method'!AF42*'state population'!AG$184 /('state population'!AG41*'ODS subs method'!AF$56)","v":0.20921134836043154},{"$f":"'ODS subs method'!AG42*'state population'!AH$184 /('state population'!AH41*'ODS subs method'!AG$56)","v":0.22513665198467581},{"$f":"'ODS subs method'!AH42*'state population'!AI$184 /('state population'!AI41*'ODS subs method'!AH$56)","v":0.22557491765935656}]
["Rhode Island","RI","NE",{"$f":"'ODS subs method'!C44*'state population'!D$184 /('state population'!D42*'ODS subs method'!C$56)","v":0.25671895767778236},{"$f":"'ODS subs method'!D44*'state population'!E$184 /('state population'!E42*'ODS subs method'!D$56)","v":0.25495885897413945},{"$f":"'ODS subs method'!E44*'state population'!F$184 /('state population'!F42*'ODS subs method'!E$56)","v":0.22403013317437867},{"$f":"'ODS subs method'!F44*'state population'!G$184 /('state population'!G42*'ODS subs method'!F$56)","v":0.214789466238516},{"$f":"'ODS subs method'!G44*'state population'!H$184 /('state population'!H42*'ODS subs method'!G$56)","v":0.21253695654540736},{"$f":"'ODS subs method'!H44*'state population'!I$184 /('state population'!I42*'ODS subs method'!H$56)","v":0.21295640716140288},{"$f":"'ODS subs method'!I44*'state population'!J$184 /('state population'!J42*'ODS subs method'!I$56)","v":0.21365251652593184},{"$f":"'ODS subs method'!J44*'state population'!K$184 /('state population'!K42*'ODS subs method'!J$56)","v":0.21358550479572616},{"$f":"'ODS subs method'!K44*'state population'!L$184 /('state population'!L42*'ODS subs method'!K$56)","v":0.2137337371095743},{"$f":"'ODS subs method'!L44*'state population'!M$184 /('state population'!M42*'ODS subs method'!L$56)","v":0.21367338464303598},{"$f":"'ODS subs method'!M44*'state population'!N$184 /('state population'!N42*'ODS subs method'!M$56)","v":0.21346737536684868},{"$f":"'ODS subs method'!N44*'state population'!O$184 /('state population'!O42*'ODS subs method'!N$56)","v":0.21341243948231536},{"$f":"'ODS subs method'!O44*'state population'!P$184 /('state population'!P42*'ODS subs method'!O$56)","v":0.2136923361314623},{"$f":"'ODS subs method'!P44*'state population'!Q$184 /('state population'!Q42*'ODS subs method'!P$56)","v":0.21398842620162975},{"$f":"'ODS subs method'!Q44*'state population'!R$184 /('state population'!R42*'ODS subs method'!Q$56)","v":0.21411784334638664},{"$f":"'ODS subs method'!R44*'state population'!S$184 /('state population'!S42*'ODS subs method'!R$56)","v":0.21435600820602937},{"$f":"'ODS subs method'!S44*'state population'!T$184 /('state population'!T42*'ODS subs method'!S$56)","v":0.21449286257896696},{"$f":"'ODS subs method'!T44*'state population'!U$184 /('state population'!U42*'ODS subs method'!T$56)","v":0.21470594632444057},{"$f":"'ODS subs method'!U44*'state population'!V$184 /('state population'!V42*'ODS subs method'!U$56)","v":0.21491676734325185},{"$f":"'ODS subs method'!V44*'state population'!W$184 /('state population'!W42*'ODS subs method'!V$56)","v":0.20720463342337703},{"$f":"'ODS subs method'!W44*'state population'!X$184 /('state population'!X42*'ODS subs method'!W$56)","v":0.18057210646699534},{"$f":"'ODS subs method'!X44*'state population'!Y$184 /('state population'!Y42*'ODS subs method'!X$56)","v":0.18618401858947523},{"$f":"'ODS subs method'!Y44*'state population'!Z$184 /('state population'!Z42*'ODS subs method'!Y$56)","v":0.19900434460910027},{"$f":"'ODS subs method'!Z44*'state population'!AA$184 /('state population'!AA42*'ODS subs method'!Z$56)","v":0.23058590647941302},{"$f":"'ODS subs method'!AA44*'state population'!AB$184 /('state population'!AB42*'ODS subs method'!AA$56)","v":0.25306061243119099},{"$f":"'ODS subs method'!AB44*'state population'!AC$184 /('state population'!AC42*'ODS subs method'!AB$56)","v":0.23683121839347535},{"$f":"'ODS subs method'!AC44*'state population'!AD$184 /('state population'!AD42*'ODS subs method'!AC$56)","v":0.23651801915220313},{"$f":"'ODS subs method'!AD44*'state population'!AE$184 /('state population'!AE42*'ODS subs method'!AD$56)","v":0.20277038831449881},{"$f":"'ODS subs method'!AE44*'state population'!AF$184 /('state population'!AF42*'ODS subs method'!AE$56)","v":0.22451526534430624},{"$f":"'ODS subs method'!AF44*'state population'!AG$184 /('state population'!AG42*'ODS subs method'!AF$56)","v":0.20921134836043159},{"$f":"'ODS subs method'!AG44*'state population'!AH$184 /('state population'!AH42*'ODS subs method'!AG$56)","v":0.22513665198467583},{"$f":"'ODS subs method'!AH44*'state population'!AI$184 /('state population'!AI42*'ODS subs method'!AH$56)","v":0.2255749176593565}]
["South Carolina","SC","SE",{"$f":"'ODS subs method'!C45*'state population'!D$185 /('state population'!D43*'ODS subs method'!C$56)","v":0.11743368240204839},{"$f":"'ODS subs method'!D45*'state population'!E$185 /('state population'!E43*'ODS subs method'!D$56)","v":0.11849390784084714},{"$f":"'ODS subs method'!E45*'state population'!F$185 /('state population'!F43*'ODS subs method'!E$56)","v":0.13233887404744193},{"$f":"'ODS subs method'!F45*'state population'!G$185 /('state population'!G43*'ODS subs method'!F$56)","v":0.13757877375331856},{"$f":"'ODS subs method'!G45*'state population'!H$185 /('state population'!H43*'ODS subs method'!G$56)","v":0.13874014765592591},{"$f":"'ODS subs method'!H45*'state population'!I$185 /('state population'!I43*'ODS subs method'!H$56)","v":0.13866342185194419},{"$f":"'ODS subs method'!I45*'state population'!J$185 /('state population'!J43*'ODS subs method'!I$56)","v":0.13876697874312743},{"$f":"'ODS subs method'!J45*'state population'!K$185 /('state population'!K43*'ODS subs method'!J$56)","v":0.1392701760205724},{"$f":"'ODS subs method'!K45*'state population'!L$185 /('state population'!L43*'ODS subs method'!K$56)","v":0.1396718860254495},{"$f":"'ODS subs method'!L45*'state population'!M$185 /('state population'!M43*'ODS subs method'!L$56)","v":0.14025921671602279},{"$f":"'ODS subs method'!M45*'state population'!N$185 /('state population'!N43*'ODS subs method'!M$56)","v":0.14069750455080693},{"$f":"'ODS subs method'!N45*'state population'!O$185 /('state population'!O43*'ODS subs method'!N$56)","v":0.14118350305911978},{"$f":"'ODS subs method'!O45*'state population'!P$185 /('state population'!P43*'ODS subs method'!O$56)","v":0.14167079702860125},{"$f":"'ODS subs method'!P45*'state population'!Q$185 /('state population'!Q43*'ODS subs method'!P$56)","v":0.14215730263977525},{"$f":"'ODS subs method'!Q45*'state population'!R$185 /('state population'!R43*'ODS subs method'!Q$56)","v":0.14268347184153751},{"$f":"'ODS subs method'!R45*'state population'!S$185 /('state population'!S43*'ODS subs method'!R$56)","v":0.14356796507710684},{"$f":"'ODS subs method'!S45*'state population'!T$185 /('state population'!T43*'ODS subs method'!S$56)","v":0.14451403544422042},{"$f":"'ODS subs method'!T45*'state population'!U$185 /('state population'!U43*'ODS subs method'!T$56)","v":0.14548001337209296},{"$f":"'ODS subs method'!U45*'state population'!V$185 /('state population'!V43*'ODS subs method'!U$56)","v":0.14638018717700091},{"$f":"'ODS subs method'!V45*'state population'!W$185 /('state population'!W43*'ODS subs method'!V$56)","v":0.16664068898661258},{"$f":"'ODS subs method'!W45*'state population'!X$185 /('state population'!X43*'ODS subs method'!W$56)","v":0.16383344551011791},{"$f":"'ODS subs method'!X45*'state population'!Y$185 /('state population'!Y43*'ODS subs method'!X$56)","v":0.14707767714325354},{"$f":"'ODS subs method'!Y45*'state population'!Z$185 /('state population'!Z43*'ODS subs method'!Y$56)","v":0.1770817199780248},{"$f":"'ODS subs method'!Z45*'state population'!AA$185 /('state population'!AA43*'ODS subs method'!Z$56)","v":0.16154541677273934},{"$f":"'ODS subs method'!AA45*'state population'!AB$185 /('state population'!AB43*'ODS subs method'!AA$56)","v":0.16822860786986157},{"$f":"'ODS subs method'!AB45*'state population'!AC$185 /('state population'!AC43*'ODS subs method'!AB$56)","v":0.17349068730558143},{"$f":"'ODS subs method'!AC45*'state population'!AD$185 /('state population'!AD43*'ODS subs method'!AC$56)","v":0.19689193766760138},{"$f":"'ODS subs method'!AD45*'state population'!AE$185 /('state population'!AE43*'ODS subs method'!AD$56)","v":0.19628830031957775},{"$f":"'ODS subs method'!AE45*'state population'!AF$185 /('state population'!AF43*'ODS subs method'!AE$56)","v":0.21319829282416602},{"$f":"'ODS subs method'!AF45*'state population'!AG$185 /('state population'!AG43*'ODS subs method'!AF$56)","v":0.24215742636920881},{"$f":"'ODS subs method'!AG45*'state population'!AH$185 /('state population'!AH43*'ODS subs method'!AG$56)","v":0.20137703906291415},{"$f":"'ODS subs method'!AH45*'state population'!AI$185 /('state population'!AI43*'ODS subs method'!AH$56)","v":0.20370521265020958}]
["South Dakota","SD","CN",{"$f":"'ODS subs method'!C46*'state population'!D$186 /('state population'!D44*'ODS subs method'!C$56)","v":0.23614973443681458},{"$f":"'ODS subs method'!D46*'state population'!E$186 /('state population'!E44*'ODS subs method'!D$56)","v":0.2351798610649406},{"$f":"'ODS subs method'!E46*'state population'!F$186 /('state population'!F44*'ODS subs method'!E$56)","v":0.25938404350375383},{"$f":"'ODS subs method'!F46*'state population'!G$186 /('state population'!G44*'ODS subs method'!F$56)","v":0.26569207113605875},{"$f":"'ODS subs method'!G46*'state population'!H$186 /('state population'!H44*'ODS subs method'!G$56)","v":0.26748472381211968},{"$f":"'ODS subs method'!H46*'state population'!I$186 /('state population'!I44*'ODS subs method'!H$56)","v":0.26687711783117524},{"$f":"'ODS subs method'!I46*'state population'!J$186 /('state population'!J44*'ODS subs method'!I$56)","v":0.26552965118542171},{"$f":"'ODS subs method'!J46*'state population'!K$186 /('state population'!K44*'ODS subs method'!J$56)","v":0.26485405067100443},{"$f":"'ODS subs method'!K46*'state population'!L$186 /('state population'!L44*'ODS subs method'!K$56)","v":0.26394992491190172},{"$f":"'ODS subs method'!L46*'state population'!M$186 /('state population'!M44*'ODS subs method'!L$56)","v":0.26325362890151932},{"$f":"'ODS subs method'!M46*'state population'!N$186 /('state population'!N44*'ODS subs method'!M$56)","v":0.26303372288776977},{"$f":"'ODS subs method'!N46*'state population'!O$186 /('state population'!O44*'ODS subs method'!N$56)","v":0.26249685750998952},{"$f":"'ODS subs method'!O46*'state population'!P$186 /('state population'!P44*'ODS subs method'!O$56)","v":0.26130918632434019},{"$f":"'ODS subs method'!P46*'state population'!Q$186 /('state population'!Q44*'ODS subs method'!P$56)","v":0.26007216007341311},{"$f":"'ODS subs method'!Q46*'state population'!R$186 /('state population'!R44*'ODS subs method'!Q$56)","v":0.25903669419448855},{"$f":"'ODS subs method'!R46*'state population'!S$186 /('state population'!S44*'ODS subs method'!R$56)","v":0.25736565131768191},{"$f":"'ODS subs method'!S46*'state population'!T$186 /('state population'!T44*'ODS subs method'!S$56)","v":0.25583669577828327},{"$f":"'ODS subs method'!T46*'state population'!U$186 /('state population'!U44*'ODS subs method'!T$56)","v":0.25416417403924341},{"$f":"'ODS subs method'!U46*'state population'!V$186 /('state population'!V44*'ODS subs method'!U$56)","v":0.25258096822485809},{"$f":"'ODS subs method'!V46*'state population'!W$186 /('state population'!W44*'ODS subs method'!V$56)","v":0.24901395775116913},{"$f":"'ODS subs method'!W46*'state population'!X$186 /('state population'!X44*'ODS subs method'!W$56)","v":0.2598621010117283},{"$f":"'ODS subs method'!X46*'state population'!Y$186 /('state population'!Y44*'ODS subs method'!X$56)","v":0.25942938806295951},{"$f":"'ODS subs method'!Y46*'state population'!Z$186 /('state population'!Z44*'ODS subs method'!Y$56)","v":0.26469604334002395},{"$f":"'ODS subs method'!Z46*'state population'!AA$186 /('state population'!AA44*'ODS subs method'!Z$56)","v":0.25835540410160335},{"$f":"'ODS subs method'!AA46*'state population'!AB$186 /('state population'!AB44*'ODS subs method'!AA$56)","v":0.22734384127013257},{"$f":"'ODS subs method'!AB46*'state population'!AC$186 /('state population'!AC44*'ODS subs method'!AB$56)","v":0.23857884455835424},{"$f":"'ODS subs method'!AC46*'state population'!AD$186 /('state population'!AD44*'ODS subs method'!AC$56)","v":0.2208387698568344},{"$f":"'ODS subs method'!AD46*'state population'!AE$186 /('state population'!AE44*'ODS subs method'!AD$56)","v":0.23743502593793939},{"$f":"'ODS subs method'!AE46*'state population'!AF$186 /('state population'!AF44*'ODS subs method'!AE$56)","v":0.20207159089387744},{"$f":"'ODS subs method'!AF46*'state population'!AG$186 /('state population'!AG44*'ODS subs method'!AF$56)","v":0.20026332988313852},{"$f":"'ODS subs method'!AG46*'state population'!AH$186 /('state population'!AH44*'ODS subs method'!AG$56)","v":0.18166907892347514},{"$f":"'ODS subs method'!AH46*'state population'!AI$186 /('state population'!AI44*'ODS subs method'!AH$56)","v":0.17892361924935657}]
["Tennessee","TN","CS",{"$f":"'ODS subs method'!C47*'state population'!D$181 /('state population'!D45*'ODS subs method'!C$56)","v":0.16594029876110064},{"$f":"'ODS subs method'!D47*'state population'!E$181 /('state population'!E45*'ODS subs method'!D$56)","v":0.16607887078388958},{"$f":"'ODS subs method'!E47*'state population'!F$181 /('state population'!F45*'ODS subs method'!E$56)","v":0.20563769666904613},{"$f":"'ODS subs method'!F47*'state population'!G$181 /('state population'!G45*'ODS subs method'!F$56)","v":0.2173502507634599},{"$f":"'ODS subs method'!G47*'state population'!H$181 /('state population'!H45*'ODS subs method'!G$56)","v":0.2203237877344498},{"$f":"'ODS subs method'!H47*'state population'!I$181 /('state population'!I45*'ODS subs method'!H$56)","v":0.21960304761081967},{"$f":"'ODS subs method'!I47*'state population'!J$181 /('state population'!J45*'ODS subs method'!I$56)","v":0.2182700537655527},{"$f":"'ODS subs method'!J47*'state population'!K$181 /('state population'!K45*'ODS subs method'!J$56)","v":0.21799582999789971},{"$f":"'ODS subs method'!K47*'state population'!L$181 /('state population'!L45*'ODS subs method'!K$56)","v":0.21739627787562291},{"$f":"'ODS subs method'!L47*'state population'!M$181 /('state population'!M45*'ODS subs method'!L$56)","v":0.21712775375362597},{"$f":"'ODS subs method'!M47*'state population'!N$181 /('state population'!N45*'ODS subs method'!M$56)","v":0.21724126635518459},{"$f":"'ODS subs method'!N47*'state population'!O$181 /('state population'!O45*'ODS subs method'!N$56)","v":0.21706406772197784},{"$f":"'ODS subs method'!O47*'state population'!P$181 /('state population'!P45*'ODS subs method'!O$56)","v":0.21626115662226919},{"$f":"'ODS subs method'!P47*'state population'!Q$181 /('state population'!Q45*'ODS subs method'!P$56)","v":0.21542760386795815},{"$f":"'ODS subs method'!Q47*'state population'!R$181 /('state population'!R45*'ODS subs method'!Q$56)","v":0.21484449382647197},{"$f":"'ODS subs method'!R47*'state population'!S$181 /('state population'!S45*'ODS subs method'!R$56)","v":0.21390348203444359},{"$f":"'ODS subs method'!S47*'state population'!T$181 /('state population'!T45*'ODS subs method'!S$56)","v":0.21317886060722099},{"$f":"'ODS subs method'!T47*'state population'!U$181 /('state population'!U45*'ODS subs method'!T$56)","v":0.21243665180304844},{"$f":"'ODS subs method'!U47*'state population'!V$181 /('state population'!V45*'ODS subs method'!U$56)","v":0.21172409492656802},{"$f":"'ODS subs method'!V47*'state population'!W$181 /('state population'!W45*'ODS subs method'!V$56)","v":0.24118119828718271},{"$f":"'ODS subs method'!W47*'state population'!X$181 /('state population'!X45*'ODS subs method'!W$56)","v":0.23925756893754827},{"$f":"'ODS subs method'!X47*'state population'!Y$181 /('state population'!Y45*'ODS subs method'!X$56)","v":0.25887720311846046},{"$f":"'ODS subs method'!Y47*'state population'!Z$181 /('state population'!Z45*'ODS subs method'!Y$56)","v":0.21420940183733861},{"$f":"'ODS subs method'!Z47*'state population'!AA$181 /('state population'!AA45*'ODS subs method'!Z$56)","v":0.21198521855976743},{"$f":"'ODS subs method'!AA47*'state population'!AB$181 /('state population'!AB45*'ODS subs method'!AA$56)","v":0.21221639973744222},{"$f":"'ODS subs method'!AB47*'state population'!AC$181 /('state population'!AC45*'ODS subs method'!AB$56)","v":0.21661149377867409},{"$f":"'ODS subs method'!AC47*'state population'!AD$181 /('state population'!AD45*'ODS subs method'!AC$56)","v":0.21850148137678022},{"$f":"'ODS subs method'!AD47*'state population'!AE$181 /('state population'!AE45*'ODS subs method'!AD$56)","v":0.22716925032429333},{"$f":"'ODS subs method'!AE47*'state population'!AF$181 /('state population'!AF45*'ODS subs method'!AE$56)","v":0.22822958051479561},{"$f":"'ODS subs method'!AF47*'state population'!AG$181 /('state population'!AG45*'ODS subs method'!AF$56)","v":0.21566008798319899},{"$f":"'ODS subs method'!AG47*'state population'!AH$181 /('state population'!AH45*'ODS subs method'!AG$56)","v":0.24571033536840781},{"$f":"'ODS subs method'!AH47*'state population'!AI$181 /('state population'!AI45*'ODS subs method'!AH$56)","v":0.24722926954153213}]
["Texas","TX","CS",{"$f":"'ODS subs method'!C48*'state population'!D$181 /('state population'!D46*'ODS subs method'!C$56)","v":0.1659402987611007},{"$f":"'ODS subs method'!D48*'state population'!E$181 /('state population'!E46*'ODS subs method'!D$56)","v":0.16607887078388953},{"$f":"'ODS subs method'!E48*'state population'!F$181 /('state population'!F46*'ODS subs method'!E$56)","v":0.20563769666904613},{"$f":"'ODS subs method'!F48*'state population'!G$181 /('state population'!G46*'ODS subs method'!F$56)","v":0.21735025076345993},{"$f":"'ODS subs method'!G48*'state population'!H$181 /('state population'!H46*'ODS subs method'!G$56)","v":0.22032378773444986},{"$f":"'ODS subs method'!H48*'state population'!I$181 /('state population'!I46*'ODS subs method'!H$56)","v":0.21960304761081964},{"$f":"'ODS subs method'!I48*'state population'!J$181 /('state population'!J46*'ODS subs method'!I$56)","v":0.21827005376555272},{"$f":"'ODS subs method'!J48*'state population'!K$181 /('state population'!K46*'ODS subs method'!J$56)","v":0.21799582999789968},{"$f":"'ODS subs method'!K48*'state population'!L$181 /('state population'!L46*'ODS subs method'!K$56)","v":0.21739627787562296},{"$f":"'ODS subs method'!L48*'state population'!M$181 /('state population'!M46*'ODS subs method'!L$56)","v":0.217127753753626},{"$f":"'ODS subs method'!M48*'state population'!N$181 /('state population'!N46*'ODS subs method'!M$56)","v":0.21724126635518459},{"$f":"'ODS subs method'!N48*'state population'!O$181 /('state population'!O46*'ODS subs method'!N$56)","v":0.21706406772197789},{"$f":"'ODS subs method'!O48*'state population'!P$181 /('state population'!P46*'ODS subs method'!O$56)","v":0.21626115662226914},{"$f":"'ODS subs method'!P48*'state population'!Q$181 /('state population'!Q46*'ODS subs method'!P$56)","v":0.21542760386795817},{"$f":"'ODS subs method'!Q48*'state population'!R$181 /('state population'!R46*'ODS subs method'!Q$56)","v":0.21484449382647203},{"$f":"'ODS subs method'!R48*'state population'!S$181 /('state population'!S46*'ODS subs method'!R$56)","v":0.21390348203444359},{"$f":"'ODS subs method'!S48*'state population'!T$181 /('state population'!T46*'ODS subs method'!S$56)","v":0.21317886060722099},{"$f":"'ODS subs method'!T48*'state population'!U$181 /('state population'!U46*'ODS subs method'!T$56)","v":0.21243665180304849},{"$f":"'ODS subs method'!U48*'state population'!V$181 /('state population'!V46*'ODS subs method'!U$56)","v":0.21172409492656805},{"$f":"'ODS subs method'!V48*'state population'!W$181 /('state population'!W46*'ODS subs method'!V$56)","v":0.24118119828718276},{"$f":"'ODS subs method'!W48*'state population'!X$181 /('state population'!X46*'ODS subs method'!W$56)","v":0.23925756893754824},{"$f":"'ODS subs method'!X48*'state population'!Y$181 /('state population'!Y46*'ODS subs method'!X$56)","v":0.25887720311846052},{"$f":"'ODS subs method'!Y48*'state population'!Z$181 /('state population'!Z46*'ODS subs method'!Y$56)","v":0.21420940183733866},{"$f":"'ODS subs method'!Z48*'state population'!AA$181 /('state population'!AA46*'ODS subs method'!Z$56)","v":0.21198521855976746},{"$f":"'ODS subs method'!AA48*'state population'!AB$181 /('state population'!AB46*'ODS subs method'!AA$56)","v":0.21221639973744227},{"$f":"'ODS subs method'!AB48*'state population'!AC$181 /('state population'!AC46*'ODS subs method'!AB$56)","v":0.21661149377867411},{"$f":"'ODS subs method'!AC48*'state population'!AD$181 /('state population'!AD46*'ODS subs method'!AC$56)","v":0.21850148137678022},{"$f":"'ODS subs method'!AD48*'state population'!AE$181 /('state population'!AE46*'ODS subs method'!AD$56)","v":0.22716925032429344},{"$f":"'ODS subs method'!AE48*'state population'!AF$181 /('state population'!AF46*'ODS subs method'!AE$56)","v":0.22822958051479553},{"$f":"'ODS subs method'!AF48*'state population'!AG$181 /('state population'!AG46*'ODS subs method'!AF$56)","v":0.21566008798319897},{"$f":"'ODS subs method'!AG48*'state population'!AH$181 /('state population'!AH46*'ODS subs method'!AG$56)","v":0.24571033536840789},{"$f":"'ODS subs method'!AH48*'state population'!AI$181 /('state population'!AI46*'ODS subs method'!AH$56)","v":0.24722926954153202}]
["Utah","UT","M",{"$f":"'ODS subs method'!C49*'state population'!D$183 /('state population'!D47*'ODS subs method'!C$56)","v":5.4261740316790541E-2},{"$f":"'ODS subs method'!D49*'state population'!E$183 /('state population'!E47*'ODS subs method'!D$56)","v":5.5052272115756036E-2},{"$f":"'ODS subs method'!E49*'state population'!F$183 /('state population'!F47*'ODS subs method'!E$56)","v":4.4370818124945526E-2},{"$f":"'ODS subs method'!F49*'state population'!G$183 /('state population'!G47*'ODS subs method'!F$56)","v":4.1668909187177951E-2},{"$f":"'ODS subs method'!G49*'state population'!H$183 /('state population'!H47*'ODS subs method'!G$56)","v":4.0879551798863586E-2},{"$f":"'ODS subs method'!H49*'state population'!I$183 /('state population'!I47*'ODS subs method'!H$56)","v":4.1254380492370145E-2},{"$f":"'ODS subs method'!I49*'state population'!J$183 /('state population'!J47*'ODS subs method'!I$56)","v":4.2015563550400065E-2},{"$f":"'ODS subs method'!J49*'state population'!K$183 /('state population'!K47*'ODS subs method'!J$56)","v":4.2402630751502704E-2},{"$f":"'ODS subs method'!K49*'state population'!L$183 /('state population'!L47*'ODS subs method'!K$56)","v":4.2899728847096946E-2},{"$f":"'ODS subs method'!L49*'state population'!M$183 /('state population'!M47*'ODS subs method'!L$56)","v":4.3285621778558103E-2},{"$f":"'ODS subs method'!M49*'state population'!N$183 /('state population'!N47*'ODS subs method'!M$56)","v":4.3416932106038239E-2},{"$f":"'ODS subs method'!N49*'state population'!O$183 /('state population'!O47*'ODS subs method'!N$56)","v":4.3704864250962323E-2},{"$f":"'ODS subs method'!O49*'state population'!P$183 /('state population'!P47*'ODS subs method'!O$56)","v":4.4336000415050099E-2},{"$f":"'ODS subs method'!P49*'state population'!Q$183 /('state population'!Q47*'ODS subs method'!P$56)","v":4.4993890919240533E-2},{"$f":"'ODS subs method'!Q49*'state population'!R$183 /('state population'!R47*'ODS subs method'!Q$56)","v":4.5544612347567189E-2},{"$f":"'ODS subs method'!R49*'state population'!S$183 /('state population'!S47*'ODS subs method'!R$56)","v":4.6445012930375597E-2},{"$f":"'ODS subs method'!S49*'state population'!T$183 /('state population'!T47*'ODS subs method'!S$56)","v":4.7277142377117422E-2},{"$f":"'ODS subs method'!T49*'state population'!U$183 /('state population'!U47*'ODS subs method'!T$56)","v":4.8179287611365945E-2},{"$f":"'ODS subs method'!U49*'state population'!V$183 /('state population'!V47*'ODS subs method'!U$56)","v":4.9003918329161122E-2},{"$f":"'ODS subs method'!V49*'state population'!W$183 /('state population'!W47*'ODS subs method'!V$56)","v":4.9450099003411296E-2},{"$f":"'ODS subs method'!W49*'state population'!X$183 /('state population'!X47*'ODS subs method'!W$56)","v":4.6510481841829605E-2},{"$f":"'ODS subs method'!X49*'state population'!Y$183 /('state population'!Y47*'ODS subs method'!X$56)","v":4.1972083972405448E-2},{"$f":"'ODS subs method'!Y49*'state population'!Z$183 /('state population'!Z47*'ODS subs method'!Y$56)","v":5.5133630981857328E-2},{"$f":"'ODS subs method'!Z49*'state population'!AA$183 /('state population'!AA47*'ODS subs method'!Z$56)","v":4.1435784900443917E-2},{"$f":"'ODS subs method'!AA49*'state population'!AB$183 /('state population'!AB47*'ODS subs method'!AA$56)","v":4.1669164349299473E-2},{"$f":"'ODS subs method'!AB49*'state population'!AC$183 /('state population'!AC47*'ODS subs method'!AB$56)","v":3.7131658789238499E-2},{"$f":"'ODS subs method'!AC49*'state population'!AD$183 /('state population'!AD47*'ODS subs method'!AC$56)","v":3.3847423640809442E-2},{"$f":"'ODS subs method'!AD49*'state population'!AE$183 /('state population'!AE47*'ODS subs method'!AD$56)","v":3.1395699046540854E-2},{"$f":"'ODS subs method'!AE49*'state population'!AF$183 /('state population'!AF47*'ODS subs method'!AE$56)","v":3.9573874436161234E-2},{"$f":"'ODS subs method'!AF49*'state population'!AG$183 /('state population'!AG47*'ODS subs method'!AF$56)","v":3.493890074078277E-2},{"$f":"'ODS subs method'!AG49*'state population'!AH$183 /('state population'!AH47*'ODS subs method'!AG$56)","v":4.4092552013990427E-2},{"$f":"'ODS subs method'!AH49*'state population'!AI$183 /('state population'!AI47*'ODS subs method'!AH$56)","v":4.368412161119517E-2}]
["Vermont","VT","NE",{"$f":"'ODS subs method'!C50*'state population'!D$184 /('state population'!D48*'ODS subs method'!C$56)","v":0.2567189576777823},{"$f":"'ODS subs method'!D50*'state population'!E$184 /('state population'!E48*'ODS subs method'!D$56)","v":0.25495885897413939},{"$f":"'ODS subs method'!E50*'state population'!F$184 /('state population'!F48*'ODS subs method'!E$56)","v":0.2240301331743787},{"$f":"'ODS subs method'!F50*'state population'!G$184 /('state population'!G48*'ODS subs method'!F$56)","v":0.21478946623851602},{"$f":"'ODS subs method'!G50*'state population'!H$184 /('state population'!H48*'ODS subs method'!G$56)","v":0.21253695654540727},{"$f":"'ODS subs method'!H50*'state population'!I$184 /('state population'!I48*'ODS subs method'!H$56)","v":0.21295640716140285},{"$f":"'ODS subs method'!I50*'state population'!J$184 /('state population'!J48*'ODS subs method'!I$56)","v":0.21365251652593178},{"$f":"'ODS subs method'!J50*'state population'!K$184 /('state population'!K48*'ODS subs method'!J$56)","v":0.21358550479572616},{"$f":"'ODS subs method'!K50*'state population'!L$184 /('state population'!L48*'ODS subs method'!K$56)","v":0.2137337371095743},{"$f":"'ODS subs method'!L50*'state population'!M$184 /('state population'!M48*'ODS subs method'!L$56)","v":0.21367338464303598},{"$f":"'ODS subs method'!M50*'state population'!N$184 /('state population'!N48*'ODS subs method'!M$56)","v":0.21346737536684862},{"$f":"'ODS subs method'!N50*'state population'!O$184 /('state population'!O48*'ODS subs method'!N$56)","v":0.21341243948231545},{"$f":"'ODS subs method'!O50*'state population'!P$184 /('state population'!P48*'ODS subs method'!O$56)","v":0.21369233613146232},{"$f":"'ODS subs method'!P50*'state population'!Q$184 /('state population'!Q48*'ODS subs method'!P$56)","v":0.21398842620162969},{"$f":"'ODS subs method'!Q50*'state population'!R$184 /('state population'!R48*'ODS subs method'!Q$56)","v":0.21411784334638667},{"$f":"'ODS subs method'!R50*'state population'!S$184 /('state population'!S48*'ODS subs method'!R$56)","v":0.21435600820602937},{"$f":"'ODS subs method'!S50*'state population'!T$184 /('state population'!T48*'ODS subs method'!S$56)","v":0.21449286257896699},{"$f":"'ODS subs method'!T50*'state population'!U$184 /('state population'!U48*'ODS subs method'!T$56)","v":0.21470594632444059},{"$f":"'ODS subs method'!U50*'state population'!V$184 /('state population'!V48*'ODS subs method'!U$56)","v":0.21491676734325188},{"$f":"'ODS subs method'!V50*'state population'!W$184 /('state population'!W48*'ODS subs method'!V$56)","v":0.20720463342337705},{"$f":"'ODS subs method'!W50*'state population'!X$184 /('state population'!X48*'ODS subs method'!W$56)","v":0.18057210646699534},{"$f":"'ODS subs method'!X50*'state population'!Y$184 /('state population'!Y48*'ODS subs method'!X$56)","v":0.1861840185894752},{"$f":"'ODS subs method'!Y50*'state population'!Z$184 /('state population'!Z48*'ODS subs method'!Y$56)","v":0.19900434460910044},{"$f":"'ODS subs method'!Z50*'state population'!AA$184 /('state population'!AA48*'ODS subs method'!Z$56)","v":0.23058590647941293},{"$f":"'ODS subs method'!AA50*'state population'!AB$184 /('state population'!AB48*'ODS subs method'!AA$56)","v":0.25306061243119093},{"$f":"'ODS subs method'!AB50*'state population'!AC$184 /('state population'!AC48*'ODS subs method'!AB$56)","v":0.23683121839347535},{"$f":"'ODS subs method'!AC50*'state population'!AD$184 /('state population'!AD48*'ODS subs method'!AC$56)","v":0.23651801915220313},{"$f":"'ODS subs method'!AD50*'state population'!AE$184 /('state population'!AE48*'ODS subs method'!AD$56)","v":0.20277038831449884},{"$f":"'ODS subs method'!AE50*'state population'!AF$184 /('state population'!AF48*'ODS subs method'!AE$56)","v":0.22451526534430624},{"$f":"'ODS subs method'!AF50*'state population'!AG$184 /('state population'!AG48*'ODS subs method'!AF$56)","v":0.20921134836043162},{"$f":"'ODS subs method'!AG50*'state population'!AH$184 /('state population'!AH48*'ODS subs method'!AG$56)","v":0.22513665198467586},{"$f":"'ODS subs method'!AH50*'state population'!AI$184 /('state population'!AI48*'ODS subs method'!AH$56)","v":0.22557491765935653}]
["Virginia","VA","NE",{"$f":"'ODS subs method'!C51*'state population'!D$184 /('state population'!D49*'ODS subs method'!C$56)","v":0.25671895767778241},{"$f":"'ODS subs method'!D51*'state population'!E$184 /('state population'!E49*'ODS subs method'!D$56)","v":0.2549588589741395},{"$f":"'ODS subs method'!E51*'state population'!F$184 /('state population'!F49*'ODS subs method'!E$56)","v":0.2240301331743787},{"$f":"'ODS subs method'!F51*'state population'!G$184 /('state population'!G49*'ODS subs method'!F$56)","v":0.214789466238516},{"$f":"'ODS subs method'!G51*'state population'!H$184 /('state population'!H49*'ODS subs method'!G$56)","v":0.21253695654540736},{"$f":"'ODS subs method'!H51*'state population'!I$184 /('state population'!I49*'ODS subs method'!H$56)","v":0.21295640716140288},{"$f":"'ODS subs method'!I51*'state population'!J$184 /('state population'!J49*'ODS subs method'!I$56)","v":0.21365251652593181},{"$f":"'ODS subs method'!J51*'state population'!K$184 /('state population'!K49*'ODS subs method'!J$56)","v":0.21358550479572616},{"$f":"'ODS subs method'!K51*'state population'!L$184 /('state population'!L49*'ODS subs method'!K$56)","v":0.21373373710957425},{"$f":"'ODS subs method'!L51*'state population'!M$184 /('state population'!M49*'ODS subs method'!L$56)","v":0.21367338464303598},{"$f":"'ODS subs method'!M51*'state population'!N$184 /('state population'!N49*'ODS subs method'!M$56)","v":0.21346737536684862},{"$f":"'ODS subs method'!N51*'state population'!O$184 /('state population'!O49*'ODS subs method'!N$56)","v":0.2134124394823155},{"$f":"'ODS subs method'!O51*'state population'!P$184 /('state population'!P49*'ODS subs method'!O$56)","v":0.2136923361314623},{"$f":"'ODS subs method'!P51*'state population'!Q$184 /('state population'!Q49*'ODS subs method'!P$56)","v":0.21398842620162975},{"$f":"'ODS subs method'!Q51*'state population'!R$184 /('state population'!R49*'ODS subs method'!Q$56)","v":0.21411784334638656},{"$f":"'ODS subs method'!R51*'state population'!S$184 /('state population'!S49*'ODS subs method'!R$56)","v":0.21435600820602932},{"$f":"'ODS subs method'!S51*'state population'!T$184 /('state population'!T49*'ODS subs method'!S$56)","v":0.21449286257896702},{"$f":"'ODS subs method'!T51*'state population'!U$184 /('state population'!U49*'ODS subs method'!T$56)","v":0.21470594632444059},{"$f":"'ODS subs method'!U51*'state population'!V$184 /('state population'!V49*'ODS subs method'!U$56)","v":0.21491676734325188},{"$f":"'ODS subs method'!V51*'state population'!W$184 /('state population'!W49*'ODS subs method'!V$56)","v":0.207204633423377},{"$f":"'ODS subs method'!W51*'state population'!X$184 /('state population'!X49*'ODS subs method'!W$56)","v":0.18057210646699531},{"$f":"'ODS subs method'!X51*'state population'!Y$184 /('state population'!Y49*'ODS subs method'!X$56)","v":0.18618401858947517},{"$f":"'ODS subs method'!Y51*'state population'!Z$184 /('state population'!Z49*'ODS subs method'!Y$56)","v":0.19900434460910038},{"$f":"'ODS subs method'!Z51*'state population'!AA$184 /('state population'!AA49*'ODS subs method'!Z$56)","v":0.23058590647941302},{"$f":"'ODS subs method'!AA51*'state population'!AB$184 /('state population'!AB49*'ODS subs method'!AA$56)","v":0.25306061243119099},{"$f":"'ODS subs method'!AB51*'state population'!AC$184 /('state population'!AC49*'ODS subs method'!AB$56)","v":0.23683121839347548},{"$f":"'ODS subs method'!AC51*'state population'!AD$184 /('state population'!AD49*'ODS subs method'!AC$56)","v":0.23651801915220313},{"$f":"'ODS subs method'!AD51*'state population'!AE$184 /('state population'!AE49*'ODS subs method'!AD$56)","v":0.20277038831449884},{"$f":"'ODS subs method'!AE51*'state population'!AF$184 /('state population'!AF49*'ODS subs method'!AE$56)","v":0.22451526534430619},{"$f":"'ODS subs method'!AF51*'state population'!AG$184 /('state population'!AG49*'ODS subs method'!AF$56)","v":0.20921134836043168},{"$f":"'ODS subs method'!AG51*'state population'!AH$184 /('state population'!AH49*'ODS subs method'!AG$56)","v":0.22513665198467595},{"$f":"'ODS subs method'!AH51*'state population'!AI$184 /('state population'!AI49*'ODS subs method'!AH$56)","v":0.22557491765935656}]
["Washington","WA","W",{"$f":"'ODS subs method'!C52*'state population'!D$182 /('state population'!D50*'ODS subs method'!C$56)","v":0.15555916924281138},{"$f":"'ODS subs method'!D52*'state population'!E$182 /('state population'!E50*'ODS subs method'!D$56)","v":0.15639358856153474},{"$f":"'ODS subs method'!E52*'state population'!F$182 /('state population'!F50*'ODS subs method'!E$56)","v":0.11885676233323515},{"$f":"'ODS subs method'!F52*'state population'!G$182 /('state population'!G50*'ODS subs method'!F$56)","v":0.10712005906476881},{"$f":"'ODS subs method'!G52*'state population'!H$182 /('state population'!H50*'ODS subs method'!G$56)","v":0.10419120716570468},{"$f":"'ODS subs method'!H52*'state population'!I$182 /('state population'!I50*'ODS subs method'!H$56)","v":0.10491357986077605},{"$f":"'ODS subs method'!I52*'state population'!J$182 /('state population'!J50*'ODS subs method'!I$56)","v":0.10614596474235169},{"$f":"'ODS subs method'!J52*'state population'!K$182 /('state population'!K50*'ODS subs method'!J$56)","v":0.10632598827520706},{"$f":"'ODS subs method'!K52*'state population'!L$182 /('state population'!L50*'ODS subs method'!K$56)","v":0.10684143489119288},{"$f":"'ODS subs method'!L52*'state population'!M$182 /('state population'!M50*'ODS subs method'!L$56)","v":0.10694212935329953},{"$f":"'ODS subs method'!M52*'state population'!N$182 /('state population'!N50*'ODS subs method'!M$56)","v":0.10672997012822008},{"$f":"'ODS subs method'!N52*'state population'!O$182 /('state population'!O50*'ODS subs method'!N$56)","v":0.10681297304615001},{"$f":"'ODS subs method'!O52*'state population'!P$182 /('state population'!P50*'ODS subs method'!O$56)","v":0.10752227192834975},{"$f":"'ODS subs method'!P52*'state population'!Q$182 /('state population'!Q50*'ODS subs method'!P$56)","v":0.10827561016429119},{"$f":"'ODS subs method'!Q52*'state population'!R$182 /('state population'!R50*'ODS subs method'!Q$56)","v":0.10880620880865838},{"$f":"'ODS subs method'!R52*'state population'!S$182 /('state population'!S50*'ODS subs method'!R$56)","v":0.1095539332439395},{"$f":"'ODS subs method'!S52*'state population'!T$182 /('state population'!T50*'ODS subs method'!S$56)","v":0.11008725212777078},{"$f":"'ODS subs method'!T52*'state population'!U$182 /('state population'!U50*'ODS subs method'!T$56)","v":0.11064752269237439},{"$f":"'ODS subs method'!U52*'state population'!V$182 /('state population'!V50*'ODS subs method'!U$56)","v":0.11120508054119742},{"$f":"'ODS subs method'!V52*'state population'!W$182 /('state population'!W50*'ODS subs method'!V$56)","v":7.0802572052194229E-2},{"$f":"'ODS subs method'!W52*'state population'!X$182 /('state population'!X50*'ODS subs method'!W$56)","v":9.540513094756832E-2},{"$f":"'ODS subs method'!X52*'state population'!Y$182 /('state population'!Y50*'ODS subs method'!X$56)","v":9.195570137699445E-2},{"$f":"'ODS subs method'!Y52*'state population'!Z$182 /('state population'!Z50*'ODS subs method'!Y$56)","v":7.4860964284490641E-2},{"$f":"'ODS subs method'!Z52*'state population'!AA$182 /('state population'!AA50*'ODS subs method'!Z$56)","v":8.1549532699434032E-2},{"$f":"'ODS subs method'!AA52*'state population'!AB$182 /('state population'!AB50*'ODS subs method'!AA$56)","v":8.3277589263463347E-2},{"$f":"'ODS subs method'!AB52*'state population'!AC$182 /('state population'!AC50*'ODS subs method'!AB$56)","v":8.3427604344494283E-2},{"$f":"'ODS subs method'!AC52*'state population'!AD$182 /('state population'!AD50*'ODS subs method'!AC$56)","v":7.9595408108484991E-2},{"$f":"'ODS subs method'!AD52*'state population'!AE$182 /('state population'!AE50*'ODS subs method'!AD$56)","v":9.19746054578367E-2},{"$f":"'ODS subs method'!AE52*'state population'!AF$182 /('state population'!AF50*'ODS subs method'!AE$56)","v":7.9408724629648972E-2},{"$f":"'ODS subs method'!AF52*'state population'!AG$182 /('state population'!AG50*'ODS subs method'!AF$56)","v":8.5076108539276038E-2},{"$f":"'ODS subs method'!AG52*'state population'!AH$182 /('state population'!AH50*'ODS subs method'!AG$56)","v":8.9324886918848531E-2},{"$f":"'ODS subs method'!AH52*'state population'!AI$182 /('state population'!AI50*'ODS subs method'!AH$56)","v":8.8251659025802287E-2}]
["West Virginia","WV","NE",{"$f":"'ODS subs method'!C53*'state population'!D$184 /('state population'!D51*'ODS subs method'!C$56)","v":0.2567189576777823},{"$f":"'ODS subs method'!D53*'state population'!E$184 /('state population'!E51*'ODS subs method'!D$56)","v":0.25495885897413945},{"$f":"'ODS subs method'!E53*'state population'!F$184 /('state population'!F51*'ODS subs method'!E$56)","v":0.22403013317437873},{"$f":"'ODS subs method'!F53*'state population'!G$184 /('state population'!G51*'ODS subs method'!F$56)","v":0.214789466238516},{"$f":"'ODS subs method'!G53*'state population'!H$184 /('state population'!H51*'ODS subs method'!G$56)","v":0.21253695654540736},{"$f":"'ODS subs method'!H53*'state population'!I$184 /('state population'!I51*'ODS subs method'!H$56)","v":0.21295640716140288},{"$f":"'ODS subs method'!I53*'state population'!J$184 /('state population'!J51*'ODS subs method'!I$56)","v":0.21365251652593184},{"$f":"'ODS subs method'!J53*'state population'!K$184 /('state population'!K51*'ODS subs method'!J$56)","v":0.21358550479572619},{"$f":"'ODS subs method'!K53*'state population'!L$184 /('state population'!L51*'ODS subs method'!K$56)","v":0.21373373710957427},{"$f":"'ODS subs method'!L53*'state population'!M$184 /('state population'!M51*'ODS subs method'!L$56)","v":0.21367338464303595},{"$f":"'ODS subs method'!M53*'state population'!N$184 /('state population'!N51*'ODS subs method'!M$56)","v":0.21346737536684859},{"$f":"'ODS subs method'!N53*'state population'!O$184 /('state population'!O51*'ODS subs method'!N$56)","v":0.21341243948231545},{"$f":"'ODS subs method'!O53*'state population'!P$184 /('state population'!P51*'ODS subs method'!O$56)","v":0.21369233613146235},{"$f":"'ODS subs method'!P53*'state population'!Q$184 /('state population'!Q51*'ODS subs method'!P$56)","v":0.21398842620162969},{"$f":"'ODS subs method'!Q53*'state population'!R$184 /('state population'!R51*'ODS subs method'!Q$56)","v":0.21411784334638656},{"$f":"'ODS subs method'!R53*'state population'!S$184 /('state population'!S51*'ODS subs method'!R$56)","v":0.2143560082060294},{"$f":"'ODS subs method'!S53*'state population'!T$184 /('state population'!T51*'ODS subs method'!S$56)","v":0.21449286257896694},{"$f":"'ODS subs method'!T53*'state population'!U$184 /('state population'!U51*'ODS subs method'!T$56)","v":0.21470594632444054},{"$f":"'ODS subs method'!U53*'state population'!V$184 /('state population'!V51*'ODS subs method'!U$56)","v":0.21491676734325185},{"$f":"'ODS subs method'!V53*'state population'!W$184 /('state population'!W51*'ODS subs method'!V$56)","v":0.20720463342337705},{"$f":"'ODS subs method'!W53*'state population'!X$184 /('state population'!X51*'ODS subs method'!W$56)","v":0.18057210646699531},{"$f":"'ODS subs method'!X53*'state population'!Y$184 /('state population'!Y51*'ODS subs method'!X$56)","v":0.18618401858947517},{"$f":"'ODS subs method'!Y53*'state population'!Z$184 /('state population'!Z51*'ODS subs method'!Y$56)","v":0.19900434460910038},{"$f":"'ODS subs method'!Z53*'state population'!AA$184 /('state population'!AA51*'ODS subs method'!Z$56)","v":0.23058590647941299},{"$f":"'ODS subs method'!AA53*'state population'!AB$184 /('state population'!AB51*'ODS subs method'!AA$56)","v":0.25306061243119099},{"$f":"'ODS subs method'!AB53*'state population'!AC$184 /('state population'!AC51*'ODS subs method'!AB$56)","v":0.23683121839347532},{"$f":"'ODS subs method'!AC53*'state population'!AD$184 /('state population'!AD51*'ODS subs method'!AC$56)","v":0.23651801915220313},{"$f":"'ODS subs method'!AD53*'state population'!AE$184 /('state population'!AE51*'ODS subs method'!AD$56)","v":0.20277038831449876},{"$f":"'ODS subs method'!AE53*'state population'!AF$184 /('state population'!AF51*'ODS subs method'!AE$56)","v":0.22451526534430613},{"$f":"'ODS subs method'!AF53*'state population'!AG$184 /('state population'!AG51*'ODS subs method'!AF$56)","v":0.20921134836043156},{"$f":"'ODS subs method'!AG53*'state population'!AH$184 /('state population'!AH51*'ODS subs method'!AG$56)","v":0.22513665198467589},{"$f":"'ODS subs method'!AH53*'state population'!AI$184 /('state population'!AI51*'ODS subs method'!AH$56)","v":0.22557491765935653}]
["Wisconsin","WI","CN",{"$f":"'ODS subs method'!C54*'state population'!D$186 /('state population'!D52*'ODS subs method'!C$56)","v":0.23614973443681467},{"$f":"'ODS subs method'!D54*'state population'!E$186 /('state population'!E52*'ODS subs method'!D$56)","v":0.23517986106494054},{"$f":"'ODS subs method'!E54*'state population'!F$186 /('state population'!F52*'ODS subs method'!E$56)","v":0.25938404350375377},{"$f":"'ODS subs method'!F54*'state population'!G$186 /('state population'!G52*'ODS subs method'!F$56)","v":0.2656920711360588},{"$f":"'ODS subs method'!G54*'state population'!H$186 /('state population'!H52*'ODS subs method'!G$56)","v":0.2674847238121198},{"$f":"'ODS subs method'!H54*'state population'!I$186 /('state population'!I52*'ODS subs method'!H$56)","v":0.26687711783117524},{"$f":"'ODS subs method'!I54*'state population'!J$186 /('state population'!J52*'ODS subs method'!I$56)","v":0.2655296511854216},{"$f":"'ODS subs method'!J54*'state population'!K$186 /('state population'!K52*'ODS subs method'!J$56)","v":0.26485405067100432},{"$f":"'ODS subs method'!K54*'state population'!L$186 /('state population'!L52*'ODS subs method'!K$56)","v":0.26394992491190189},{"$f":"'ODS subs method'!L54*'state population'!M$186 /('state population'!M52*'ODS subs method'!L$56)","v":0.26325362890151927},{"$f":"'ODS subs method'!M54*'state population'!N$186 /('state population'!N52*'ODS subs method'!M$56)","v":0.26303372288776983},{"$f":"'ODS subs method'!N54*'state population'!O$186 /('state population'!O52*'ODS subs method'!N$56)","v":0.26249685750998958},{"$f":"'ODS subs method'!O54*'state population'!P$186 /('state population'!P52*'ODS subs method'!O$56)","v":0.26130918632434025},{"$f":"'ODS subs method'!P54*'state population'!Q$186 /('state population'!Q52*'ODS subs method'!P$56)","v":0.26007216007341322},{"$f":"'ODS subs method'!Q54*'state population'!R$186 /('state population'!R52*'ODS subs method'!Q$56)","v":0.2590366941944886},{"$f":"'ODS subs method'!R54*'state population'!S$186 /('state population'!S52*'ODS subs method'!R$56)","v":0.25736565131768191},{"$f":"'ODS subs method'!S54*'state population'!T$186 /('state population'!T52*'ODS subs method'!S$56)","v":0.25583669577828333},{"$f":"'ODS subs method'!T54*'state population'!U$186 /('state population'!U52*'ODS subs method'!T$56)","v":0.2541641740392433},{"$f":"'ODS subs method'!U54*'state population'!V$186 /('state population'!V52*'ODS subs method'!U$56)","v":0.25258096822485809},{"$f":"'ODS subs method'!V54*'state population'!W$186 /('state population'!W52*'ODS subs method'!V$56)","v":0.24901395775116919},{"$f":"'ODS subs method'!W54*'state population'!X$186 /('state population'!X52*'ODS subs method'!W$56)","v":0.25986210101172846},{"$f":"'ODS subs method'!X54*'state population'!Y$186 /('state population'!Y52*'ODS subs method'!X$56)","v":0.25942938806295945},{"$f":"'ODS subs method'!Y54*'state population'!Z$186 /('state population'!Z52*'ODS subs method'!Y$56)","v":0.264696043340024},{"$f":"'ODS subs method'!Z54*'state population'!AA$186 /('state population'!AA52*'ODS subs method'!Z$56)","v":0.25835540410160335},{"$f":"'ODS subs method'!AA54*'state population'!AB$186 /('state population'!AB52*'ODS subs method'!AA$56)","v":0.22734384127013255},{"$f":"'ODS subs method'!AB54*'state population'!AC$186 /('state population'!AC52*'ODS subs method'!AB$56)","v":0.23857884455835418},{"$f":"'ODS subs method'!AC54*'state population'!AD$186 /('state population'!AD52*'ODS subs method'!AC$56)","v":0.22083876985683443},{"$f":"'ODS subs method'!AD54*'state population'!AE$186 /('state population'!AE52*'ODS subs method'!AD$56)","v":0.2374350259379393},{"$f":"'ODS subs method'!AE54*'state population'!AF$186 /('state population'!AF52*'ODS subs method'!AE$56)","v":0.20207159089387741},{"$f":"'ODS subs method'!AF54*'state population'!AG$186 /('state population'!AG52*'ODS subs method'!AF$56)","v":0.20026332988313858},{"$f":"'ODS subs method'!AG54*'state population'!AH$186 /('state population'!AH52*'ODS subs method'!AG$56)","v":0.18166907892347528},{"$f":"'ODS subs method'!AH54*'state population'!AI$186 /('state population'!AI52*'ODS subs method'!AH$56)","v":0.17892361924935657}]
["Wyoming","WY","M",{"$f":"'ODS subs method'!C55*'state population'!D$183 /('state population'!D53*'ODS subs method'!C$56)","v":5.4261740316790541E-2},{"$f":"'ODS subs method'!D55*'state population'!E$183 /('state population'!E53*'ODS subs method'!D$56)","v":5.5052272115756043E-2},{"$f":"'ODS subs method'!E55*'state population'!F$183 /('state population'!F53*'ODS subs method'!E$56)","v":4.4370818124945519E-2},{"$f":"'ODS subs method'!F55*'state population'!G$183 /('state population'!G53*'ODS subs method'!F$56)","v":4.1668909187177951E-2},{"$f":"'ODS subs method'!G55*'state population'!H$183 /('state population'!H53*'ODS subs method'!G$56)","v":4.087955179886358E-2},{"$f":"'ODS subs method'!H55*'state population'!I$183 /('state population'!I53*'ODS subs method'!H$56)","v":4.1254380492370145E-2},{"$f":"'ODS subs method'!I55*'state population'!J$183 /('state population'!J53*'ODS subs method'!I$56)","v":4.2015563550400072E-2},{"$f":"'ODS subs method'!J55*'state population'!K$183 /('state population'!K53*'ODS subs method'!J$56)","v":4.2402630751502711E-2},{"$f":"'ODS subs method'!K55*'state population'!L$183 /('state population'!L53*'ODS subs method'!K$56)","v":4.2899728847096953E-2},{"$f":"'ODS subs method'!L55*'state population'!M$183 /('state population'!M53*'ODS subs method'!L$56)","v":4.3285621778558103E-2},{"$f":"'ODS subs method'!M55*'state population'!N$183 /('state population'!N53*'ODS subs method'!M$56)","v":4.3416932106038246E-2},{"$f":"'ODS subs method'!N55*'state population'!O$183 /('state population'!O53*'ODS subs method'!N$56)","v":4.3704864250962323E-2},{"$f":"'ODS subs method'!O55*'state population'!P$183 /('state population'!P53*'ODS subs method'!O$56)","v":4.4336000415050092E-2},{"$f":"'ODS subs method'!P55*'state population'!Q$183 /('state population'!Q53*'ODS subs method'!P$56)","v":4.499389091924054E-2},{"$f":"'ODS subs method'!Q55*'state population'!R$183 /('state population'!R53*'ODS subs method'!Q$56)","v":4.5544612347567189E-2},{"$f":"'ODS subs method'!R55*'state population'!S$183 /('state population'!S53*'ODS subs method'!R$56)","v":4.644501293037559E-2},{"$f":"'ODS subs method'!S55*'state population'!T$183 /('state population'!T53*'ODS subs method'!S$56)","v":4.7277142377117415E-2},{"$f":"'ODS subs method'!T55*'state population'!U$183 /('state population'!U53*'ODS subs method'!T$56)","v":4.8179287611365924E-2},{"$f":"'ODS subs method'!U55*'state population'!V$183 /('state population'!V53*'ODS subs method'!U$56)","v":4.9003918329161129E-2},{"$f":"'ODS subs method'!V55*'state population'!W$183 /('state population'!W53*'ODS subs method'!V$56)","v":4.9450099003411289E-2},{"$f":"'ODS subs method'!W55*'state population'!X$183 /('state population'!X53*'ODS subs method'!W$56)","v":4.6510481841829605E-2},{"$f":"'ODS subs method'!X55*'state population'!Y$183 /('state population'!Y53*'ODS subs method'!X$56)","v":4.1972083972405448E-2},{"$f":"'ODS subs method'!Y55*'state population'!Z$183 /('state population'!Z53*'ODS subs method'!Y$56)","v":5.5133630981857307E-2},{"$f":"'ODS subs method'!Z55*'state population'!AA$183 /('state population'!AA53*'ODS subs method'!Z$56)","v":4.1435784900443889E-2},{"$f":"'ODS subs method'!AA55*'state population'!AB$183 /('state population'!AB53*'ODS subs method'!AA$56)","v":4.1669164349299466E-2},{"$f":"'ODS subs method'!AB55*'state population'!AC$183 /('state population'!AC53*'ODS subs method'!AB$56)","v":3.7131658789238506E-2},{"$f":"'ODS subs method'!AC55*'state population'!AD$183 /('state population'!AD53*'ODS subs method'!AC$56)","v":3.3847423640809428E-2},{"$f":"'ODS subs method'!AD55*'state population'!AE$183 /('state population'!AE53*'ODS subs method'!AD$56)","v":3.1395699046540861E-2},{"$f":"'ODS subs method'!AE55*'state population'!AF$183 /('state population'!AF53*'ODS subs method'!AE$56)","v":3.9573874436161234E-2},{"$f":"'ODS subs method'!AF55*'state population'!AG$183 /('state population'!AG53*'ODS subs method'!AF$56)","v":3.4938900740782784E-2},{"$f":"'ODS subs method'!AG55*'state population'!AH$183 /('state population'!AH53*'ODS subs method'!AG$56)","v":4.4092552013990413E-2},{"$f":"'ODS subs method'!AH55*'state population'!AI$183 /('state population'!AI53*'ODS subs method'!AH$56)","v":4.3684121611195136E-2}]
[]
[]
["Regional Populations"]
[null,null,"Region",1990,1991,1992,1993,1994,1995,1996,1997,1998,1999,2000,2001,2002,2003,2004,2005,2006,2007,2008,2009,2010,2011,2012,2013,2014,2015,2016,2017,2018,2019,2020,2021,2022,2023,2024,2025]
[null,null,"CS",{"$f":"INDEX($C$116:$AH$122,MATCH($C181,$C$116:$C$122,0),D$180-1990+2)*INDEX($D$59:$AG$59,1,D$180-1990+1)","v":42001190.000000007},{"$f":"INDEX($C$116:$AH$122,MATCH($C181,$C$116:$C$122,0),E$180-1990+2)*INDEX($D$59:$AG$59,1,E$180-1990+1)","v":42596672},{"$f":"INDEX($C$116:$AH$122,MATCH($C181,$C$116:$C$122,0),F$180-1990+2)*INDEX($D$59:$AG$59,1,F$180-1990+1)","v":43282201},{"$f":"INDEX($C$116:$AH$122,MATCH($C181,$C$116:$C$122,0),G$180-1990+2)*INDEX($D$59:$AG$59,1,G$180-1990+1)","v":44005720},{"$f":"INDEX($C$116:$AH$122,MATCH($C181,$C$116:$C$122,0),H$180-1990+2)*INDEX($D$59:$AG$59,1,H$180-1990+1)","v":44716249},{"$f":"INDEX($C$116:$AH$122,MATCH($C181,$C$116:$C$122,0),I$180-1990+2)*INDEX($D$59:$AG$59,1,I$180-1990+1)","v":45414958.999999993},{"$f":"INDEX($C$116:$AH$122,MATCH($C181,$C$116:$C$122,0),J$180-1990+2)*INDEX($D$59:$AG$59,1,J$180-1990+1)","v":46066822},{"$f":"INDEX($C$116:$AH$122,MATCH($C181,$C$116:$C$122,0),K$180-1990+2)*INDEX($D$59:$AG$59,1,K$180-1990+1)","v":46732313.999999993},{"$f":"INDEX($C$116:$AH$122,MATCH($C181,$C$116:$C$122,0),L$180-1990+2)*INDEX($D$59:$AG$59,1,L$180-1990+1)","v":47394328},{"$f":"INDEX($C$116:$AH$122,MATCH($C181,$C$116:$C$122,0),M$180-1990+2)*INDEX($D$59:$AG$59,1,M$180-1990+1)","v":48023346},{"$f":"INDEX($C$116:$AH$122,MATCH($C181,$C$116:$C$122,0),N$180-1990+2)*INDEX($D$59:$AG$59,1,N$180-1990+1)","v":48602603},{"$f":"INDEX($C$116:$AH$122,MATCH($C181,$C$116:$C$122,0),O$180-1990+2)*INDEX($D$59:$AG$59,1,O$180-1990+1)","v":49095717.000000007},{"$f":"INDEX($C$116:$AH$122,MATCH($C181,$C$116:$C$122,0),P$180-1990+2)*INDEX($D$59:$AG$59,1,P$180-1990+1)","v":49607162},{"$f":"INDEX($C$116:$AH$122,MATCH($C181,$C$116:$C$122,0),Q$180-1990+2)*INDEX($D$59:$AG$59,1,Q$180-1990+1)","v":50118466},{"$f":"INDEX($C$116:$AH$122,MATCH($C181,$C$116:$C$122,0),R$180-1990+2)*INDEX($D$59:$AG$59,1,R$180-1990+1)","v":50697829},{"$f":"INDEX($C$116:$AH$122,MATCH($C181,$C$116:$C$122,0),S$180-1990+2)*INDEX($D$59:$AG$59,1,S$180-1990+1)","v":51333992.000000007},{"$f":"INDEX($C$116:$AH$122,MATCH($C181,$C$116:$C$122,0),T$180-1990+2)*INDEX($D$59:$AG$59,1,T$180-1990+1)","v":51920060},{"$f":"INDEX($C$116:$AH$122,MATCH($C181,$C$116:$C$122,0),U$180-1990+2)*INDEX($D$59:$AG$59,1,U$180-1990+1)","v":52724152},{"$f":"INDEX($C$116:$AH$122,MATCH($C181,$C$116:$C$122,0),V$180-1990+2)*INDEX($D$59:$AG$59,1,V$180-1990+1)","v":53491456},{"$f":"INDEX($C$116:$AH$122,MATCH($C181,$C$116:$C$122,0),W$180-1990+2)*INDEX($D$59:$AG$59,1,W$180-1990+1)","v":54247629},{"$f":"INDEX($C$116:$AH$122,MATCH($C181,$C$116:$C$122,0),X$180-1990+2)*INDEX($D$59:$AG$59,1,X$180-1990+1)","v":54928655},{"$f":"INDEX($C$116:$AH$122,MATCH($C181,$C$116:$C$122,0),Y$180-1990+2)*INDEX($D$59:$AG$59,1,Y$180-1990+1)","v":55501514.000000007},{"$f":"INDEX($C$116:$AH$122,MATCH($C181,$C$116:$C$122,0),Z$180-1990+2)*INDEX($D$59:$AG$59,1,Z$180-1990+1)","v":56103230.999999993},{"$f":"INDEX($C$116:$AH$122,MATCH($C181,$C$116:$C$122,0),AA$180-1990+2)*INDEX($D$59:$AG$59,1,AA$180-1990+1)","v":56645310},{"$f":"INDEX($C$116:$AH$122,MATCH($C181,$C$116:$C$122,0),AB$180-1990+2)*INDEX($D$59:$AG$59,1,AB$180-1990+1)","v":57254214},{"$f":"INDEX($C$116:$AH$122,MATCH($C181,$C$116:$C$122,0),AC$180-1990+2)*INDEX($D$59:$AG$59,1,AC$180-1990+1)","v":57895292.999999993},{"$f":"INDEX($C$116:$AH$122,MATCH($C181,$C$116:$C$122,0),AD$180-1990+2)*INDEX($D$59:$AG$59,1,AD$180-1990+1)","v":58464369.999999993},{"$f":"INDEX($C$116:$AH$122,MATCH($C181,$C$116:$C$122,0),AE$180-1990+2)*INDEX($D$59:$AG$59,1,AE$180-1990+1)","v":58941155},{"$f":"INDEX($C$116:$AH$122,MATCH($C181,$C$116:$C$122,0),AF$180-1990+2)*INDEX($D$59:$AG$59,1,AF$180-1990+1)","v":59361623},{"$f":"INDEX($C$116:$AH$122,MATCH($C181,$C$116:$C$122,0),AG$180-1990+2)*INDEX($D$59:$AG$59,1,AG$180-1990+1)","v":59815602},{"$f":"INDEX($C$116:$AH$122,MATCH($C181,$C$116:$C$122,0),AH$180-1990+2)*INDEX($D$59:$AH$59,1,AH$180-1990+1)","v":60248869},{"$f":"INDEX($C$116:$AI$122,MATCH($C181,$C$116:$C$122,0),AI$180-1990+2)*INDEX($D$59:$AI$59,1,AI$180-1990+1)","v":60638971.999999993}]
[null,null,"W",{"$f":"INDEX($C$116:$AH$122,MATCH($C182,$C$116:$C$122,0),D$180-1990+2)*INDEX($D$59:$AG$59,1,D$180-1990+1)","v":39389714},{"$f":"INDEX($C$116:$AH$122,MATCH($C182,$C$116:$C$122,0),E$180-1990+2)*INDEX($D$59:$AG$59,1,E$180-1990+1)","v":40131814},{"$f":"INDEX($C$116:$AH$122,MATCH($C182,$C$116:$C$122,0),F$180-1990+2)*INDEX($D$59:$AG$59,1,F$180-1990+1)","v":40874520.000000007},{"$f":"INDEX($C$116:$AH$122,MATCH($C182,$C$116:$C$122,0),G$180-1990+2)*INDEX($D$59:$AG$59,1,G$180-1990+1)","v":41386407},{"$f":"INDEX($C$116:$AH$122,MATCH($C182,$C$116:$C$122,0),H$180-1990+2)*INDEX($D$59:$AG$59,1,H$180-1990+1)","v":41771704},{"$f":"INDEX($C$116:$AH$122,MATCH($C182,$C$116:$C$122,0),I$180-1990+2)*INDEX($D$59:$AG$59,1,I$180-1990+1)","v":42163244},{"$f":"INDEX($C$116:$AH$122,MATCH($C182,$C$116:$C$122,0),J$180-1990+2)*INDEX($D$59:$AG$59,1,J$180-1990+1)","v":42648022.000000007},{"$f":"INDEX($C$116:$AH$122,MATCH($C182,$C$116:$C$122,0),K$180-1990+2)*INDEX($D$59:$AG$59,1,K$180-1990+1)","v":43289675},{"$f":"INDEX($C$116:$AH$122,MATCH($C182,$C$116:$C$122,0),L$180-1990+2)*INDEX($D$59:$AG$59,1,L$180-1990+1)","v":43944851},{"$f":"INDEX($C$116:$AH$122,MATCH($C182,$C$116:$C$122,0),M$180-1990+2)*INDEX($D$59:$AG$59,1,M$180-1990+1)","v":44570788},{"$f":"INDEX($C$116:$AH$122,MATCH($C182,$C$116:$C$122,0),N$180-1990+2)*INDEX($D$59:$AG$59,1,N$180-1990+1)","v":45169679},{"$f":"INDEX($C$116:$AH$122,MATCH($C182,$C$116:$C$122,0),O$180-1990+2)*INDEX($D$59:$AG$59,1,O$180-1990+1)","v":45792779},{"$f":"INDEX($C$116:$AH$122,MATCH($C182,$C$116:$C$122,0),P$180-1990+2)*INDEX($D$59:$AG$59,1,P$180-1990+1)","v":46319566.000000007},{"$f":"INDEX($C$116:$AH$122,MATCH($C182,$C$116:$C$122,0),Q$180-1990+2)*INDEX($D$59:$AG$59,1,Q$180-1990+1)","v":46804218},{"$f":"INDEX($C$116:$AH$122,MATCH($C182,$C$116:$C$122,0),R$180-1990+2)*INDEX($D$59:$AG$59,1,R$180-1990+1)","v":47255539.000000007},{"$f":"INDEX($C$116:$AH$122,MATCH($C182,$C$116:$C$122,0),S$180-1990+2)*INDEX($D$59:$AG$59,1,S$180-1990+1)","v":47658125},{"$f":"INDEX($C$116:$AH$122,MATCH($C182,$C$116:$C$122,0),T$180-1990+2)*INDEX($D$59:$AG$59,1,T$180-1990+1)","v":48047871.000000007},{"$f":"INDEX($C$116:$AH$122,MATCH($C182,$C$116:$C$122,0),U$180-1990+2)*INDEX($D$59:$AG$59,1,U$180-1990+1)","v":48430290},{"$f":"INDEX($C$116:$AH$122,MATCH($C182,$C$116:$C$122,0),V$180-1990+2)*INDEX($D$59:$AG$59,1,V$180-1990+1)","v":48954983.999999993},{"$f":"INDEX($C$116:$AH$122,MATCH($C182,$C$116:$C$122,0),W$180-1990+2)*INDEX($D$59:$AG$59,1,W$180-1990+1)","v":49482866.999999993},{"$f":"INDEX($C$116:$AH$122,MATCH($C182,$C$116:$C$122,0),X$180-1990+2)*INDEX($D$59:$AG$59,1,X$180-1990+1)","v":49978159.000000007},{"$f":"INDEX($C$116:$AH$122,MATCH($C182,$C$116:$C$122,0),Y$180-1990+2)*INDEX($D$59:$AG$59,1,Y$180-1990+1)","v":50438373.000000007},{"$f":"INDEX($C$116:$AH$122,MATCH($C182,$C$116:$C$122,0),Z$180-1990+2)*INDEX($D$59:$AG$59,1,Z$180-1990+1)","v":50869261},{"$f":"INDEX($C$116:$AH$122,MATCH($C182,$C$116:$C$122,0),AA$180-1990+2)*INDEX($D$59:$AG$59,1,AA$180-1990+1)","v":51290578},{"$f":"INDEX($C$116:$AH$122,MATCH($C182,$C$116:$C$122,0),AB$180-1990+2)*INDEX($D$59:$AG$59,1,AB$180-1990+1)","v":51762094},{"$f":"INDEX($C$116:$AH$122,MATCH($C182,$C$116:$C$122,0),AC$180-1990+2)*INDEX($D$59:$AG$59,1,AC$180-1990+1)","v":52251554.000000007},{"$f":"INDEX($C$116:$AH$122,MATCH($C182,$C$116:$C$122,0),AD$180-1990+2)*INDEX($D$59:$AG$59,1,AD$180-1990+1)","v":52713877.999999993},{"$f":"INDEX($C$116:$AH$122,MATCH($C182,$C$116:$C$122,0),AE$180-1990+2)*INDEX($D$59:$AG$59,1,AE$180-1990+1)","v":53079776},{"$f":"INDEX($C$116:$AH$122,MATCH($C182,$C$116:$C$122,0),AF$180-1990+2)*INDEX($D$59:$AG$59,1,AF$180-1990+1)","v":53307519.999999993},{"$f":"INDEX($C$116:$AH$122,MATCH($C182,$C$116:$C$122,0),AG$180-1990+2)*INDEX($D$59:$AG$59,1,AG$180-1990+1)","v":53416968.000000007},{"$f":"INDEX($C$116:$AH$122,MATCH($C182,$C$116:$C$122,0),AH$180-1990+2)*INDEX($D$59:$AH$59,1,AH$180-1990+1)","v":53644419},{"$f":"INDEX($C$116:$AI$122,MATCH($C182,$C$116:$C$122,0),AI$180-1990+2)*INDEX($D$59:$AI$59,1,AI$180-1990+1)","v":53396909}]
[null,null,"M",{"$f":"INDEX($C$116:$AH$122,MATCH($C183,$C$116:$C$122,0),D$180-1990+2)*INDEX($D$59:$AG$59,1,D$180-1990+1)","v":13731485},{"$f":"INDEX($C$116:$AH$122,MATCH($C183,$C$116:$C$122,0),E$180-1990+2)*INDEX($D$59:$AG$59,1,E$180-1990+1)","v":14117207.000000004},{"$f":"INDEX($C$116:$AH$122,MATCH($C183,$C$116:$C$122,0),F$180-1990+2)*INDEX($D$59:$AG$59,1,F$180-1990+1)","v":14558993},{"$f":"INDEX($C$116:$AH$122,MATCH($C183,$C$116:$C$122,0),G$180-1990+2)*INDEX($D$59:$AG$59,1,G$180-1990+1)","v":15051855.999999998},{"$f":"INDEX($C$116:$AH$122,MATCH($C183,$C$116:$C$122,0),H$180-1990+2)*INDEX($D$59:$AG$59,1,H$180-1990+1)","v":15598128},{"$f":"INDEX($C$116:$AH$122,MATCH($C183,$C$116:$C$122,0),I$180-1990+2)*INDEX($D$59:$AG$59,1,I$180-1990+1)","v":16114336},{"$f":"INDEX($C$116:$AH$122,MATCH($C183,$C$116:$C$122,0),J$180-1990+2)*INDEX($D$59:$AG$59,1,J$180-1990+1)","v":16571037.999999996},{"$f":"INDEX($C$116:$AH$122,MATCH($C183,$C$116:$C$122,0),K$180-1990+2)*INDEX($D$59:$AG$59,1,K$180-1990+1)","v":17021846},{"$f":"INDEX($C$116:$AH$122,MATCH($C183,$C$116:$C$122,0),L$180-1990+2)*INDEX($D$59:$AG$59,1,L$180-1990+1)","v":17448164},{"$f":"INDEX($C$116:$AH$122,MATCH($C183,$C$116:$C$122,0),M$180-1990+2)*INDEX($D$59:$AG$59,1,M$180-1990+1)","v":17861083.999999996},{"$f":"INDEX($C$116:$AH$122,MATCH($C183,$C$116:$C$122,0),N$180-1990+2)*INDEX($D$59:$AG$59,1,N$180-1990+1)","v":18269456.999999996},{"$f":"INDEX($C$116:$AH$122,MATCH($C183,$C$116:$C$122,0),O$180-1990+2)*INDEX($D$59:$AG$59,1,O$180-1990+1)","v":18634548},{"$f":"INDEX($C$116:$AH$122,MATCH($C183,$C$116:$C$122,0),P$180-1990+2)*INDEX($D$59:$AG$59,1,P$180-1990+1)","v":18992632.000000004},{"$f":"INDEX($C$116:$AH$122,MATCH($C183,$C$116:$C$122,0),Q$180-1990+2)*INDEX($D$59:$AG$59,1,Q$180-1990+1)","v":19312120},{"$f":"INDEX($C$116:$AH$122,MATCH($C183,$C$116:$C$122,0),R$180-1990+2)*INDEX($D$59:$AG$59,1,R$180-1990+1)","v":19709944},{"$f":"INDEX($C$116:$AH$122,MATCH($C183,$C$116:$C$122,0),S$180-1990+2)*INDEX($D$59:$AG$59,1,S$180-1990+1)","v":20175601},{"$f":"INDEX($C$116:$AH$122,MATCH($C183,$C$116:$C$122,0),T$180-1990+2)*INDEX($D$59:$AG$59,1,T$180-1990+1)","v":20703893.999999996},{"$f":"INDEX($C$116:$AH$122,MATCH($C183,$C$116:$C$122,0),U$180-1990+2)*INDEX($D$59:$AG$59,1,U$180-1990+1)","v":21165124},{"$f":"INDEX($C$116:$AH$122,MATCH($C183,$C$116:$C$122,0),V$180-1990+2)*INDEX($D$59:$AG$59,1,V$180-1990+1)","v":21554191},{"$f":"INDEX($C$116:$AH$122,MATCH($C183,$C$116:$C$122,0),W$180-1990+2)*INDEX($D$59:$AG$59,1,W$180-1990+1)","v":21858508.999999996},{"$f":"INDEX($C$116:$AH$122,MATCH($C183,$C$116:$C$122,0),X$180-1990+2)*INDEX($D$59:$AG$59,1,X$180-1990+1)","v":22123471.000000004},{"$f":"INDEX($C$116:$AH$122,MATCH($C183,$C$116:$C$122,0),Y$180-1990+2)*INDEX($D$59:$AG$59,1,Y$180-1990+1)","v":22353215},{"$f":"INDEX($C$116:$AH$122,MATCH($C183,$C$116:$C$122,0),Z$180-1990+2)*INDEX($D$59:$AG$59,1,Z$180-1990+1)","v":22613269},{"$f":"INDEX($C$116:$AH$122,MATCH($C183,$C$116:$C$122,0),AA$180-1990+2)*INDEX($D$59:$AG$59,1,AA$180-1990+1)","v":22882856.999999996},{"$f":"INDEX($C$116:$AH$122,MATCH($C183,$C$116:$C$122,0),AB$180-1990+2)*INDEX($D$59:$AG$59,1,AB$180-1990+1)","v":23171072},{"$f":"INDEX($C$116:$AH$122,MATCH($C183,$C$116:$C$122,0),AC$180-1990+2)*INDEX($D$59:$AG$59,1,AC$180-1990+1)","v":23499744.999999996},{"$f":"INDEX($C$116:$AH$122,MATCH($C183,$C$116:$C$122,0),AD$180-1990+2)*INDEX($D$59:$AG$59,1,AD$180-1990+1)","v":23856378.000000004},{"$f":"INDEX($C$116:$AH$122,MATCH($C183,$C$116:$C$122,0),AE$180-1990+2)*INDEX($D$59:$AG$59,1,AE$180-1990+1)","v":24187591},{"$f":"INDEX($C$116:$AH$122,MATCH($C183,$C$116:$C$122,0),AF$180-1990+2)*INDEX($D$59:$AG$59,1,AF$180-1990+1)","v":24533961},{"$f":"INDEX($C$116:$AH$122,MATCH($C183,$C$116:$C$122,0),AG$180-1990+2)*INDEX($D$59:$AG$59,1,AG$180-1990+1)","v":24883416.000000004},{"$f":"INDEX($C$116:$AH$122,MATCH($C183,$C$116:$C$122,0),AH$180-1990+2)*INDEX($D$59:$AH$59,1,AH$180-1990+1)","v":24986847},{"$f":"INDEX($C$116:$AI$122,MATCH($C183,$C$116:$C$122,0),AI$180-1990+2)*INDEX($D$59:$AI$59,1,AI$180-1990+1)","v":25270225}]
[null,null,"NE",{"$f":"INDEX($C$116:$AH$122,MATCH($C184,$C$116:$C$122,0),D$180-1990+2)*INDEX($D$59:$AG$59,1,D$180-1990+1)","v":65000638},{"$f":"INDEX($C$116:$AH$122,MATCH($C184,$C$116:$C$122,0),E$180-1990+2)*INDEX($D$59:$AG$59,1,E$180-1990+1)","v":65418523.000000007},{"$f":"INDEX($C$116:$AH$122,MATCH($C184,$C$116:$C$122,0),F$180-1990+2)*INDEX($D$59:$AG$59,1,F$180-1990+1)","v":65884271.999999993},{"$f":"INDEX($C$116:$AH$122,MATCH($C184,$C$116:$C$122,0),G$180-1990+2)*INDEX($D$59:$AG$59,1,G$180-1990+1)","v":66378694.000000007},{"$f":"INDEX($C$116:$AH$122,MATCH($C184,$C$116:$C$122,0),H$180-1990+2)*INDEX($D$59:$AG$59,1,H$180-1990+1)","v":66779609.999999993},{"$f":"INDEX($C$116:$AH$122,MATCH($C184,$C$116:$C$122,0),I$180-1990+2)*INDEX($D$59:$AG$59,1,I$180-1990+1)","v":67153060.000000015},{"$f":"INDEX($C$116:$AH$122,MATCH($C184,$C$116:$C$122,0),J$180-1990+2)*INDEX($D$59:$AG$59,1,J$180-1990+1)","v":67512366},{"$f":"INDEX($C$116:$AH$122,MATCH($C184,$C$116:$C$122,0),K$180-1990+2)*INDEX($D$59:$AG$59,1,K$180-1990+1)","v":67870212},{"$f":"INDEX($C$116:$AH$122,MATCH($C184,$C$116:$C$122,0),L$180-1990+2)*INDEX($D$59:$AG$59,1,L$180-1990+1)","v":68272380},{"$f":"INDEX($C$116:$AH$122,MATCH($C184,$C$116:$C$122,0),M$180-1990+2)*INDEX($D$59:$AG$59,1,M$180-1990+1)","v":68755460.000000015},{"$f":"INDEX($C$116:$AH$122,MATCH($C184,$C$116:$C$122,0),N$180-1990+2)*INDEX($D$59:$AG$59,1,N$180-1990+1)","v":69248585.999999985},{"$f":"INDEX($C$116:$AH$122,MATCH($C184,$C$116:$C$122,0),O$180-1990+2)*INDEX($D$59:$AG$59,1,O$180-1990+1)","v":69660259},{"$f":"INDEX($C$116:$AH$122,MATCH($C184,$C$116:$C$122,0),P$180-1990+2)*INDEX($D$59:$AG$59,1,P$180-1990+1)","v":70055918},{"$f":"INDEX($C$116:$AH$122,MATCH($C184,$C$116:$C$122,0),Q$180-1990+2)*INDEX($D$59:$AG$59,1,Q$180-1990+1)","v":70396499},{"$f":"INDEX($C$116:$AH$122,MATCH($C184,$C$116:$C$122,0),R$180-1990+2)*INDEX($D$59:$AG$59,1,R$180-1990+1)","v":70661038},{"$f":"INDEX($C$116:$AH$122,MATCH($C184,$C$116:$C$122,0),S$180-1990+2)*INDEX($D$59:$AG$59,1,S$180-1990+1)","v":70853492.000000015},{"$f":"INDEX($C$116:$AH$122,MATCH($C184,$C$116:$C$122,0),T$180-1990+2)*INDEX($D$59:$AG$59,1,T$180-1990+1)","v":71081612},{"$f":"INDEX($C$116:$AH$122,MATCH($C184,$C$116:$C$122,0),U$180-1990+2)*INDEX($D$59:$AG$59,1,U$180-1990+1)","v":71337975},{"$f":"INDEX($C$116:$AH$122,MATCH($C184,$C$116:$C$122,0),V$180-1990+2)*INDEX($D$59:$AG$59,1,V$180-1990+1)","v":71698807.000000015},{"$f":"INDEX($C$116:$AH$122,MATCH($C184,$C$116:$C$122,0),W$180-1990+2)*INDEX($D$59:$AG$59,1,W$180-1990+1)","v":72121159},{"$f":"INDEX($C$116:$AH$122,MATCH($C184,$C$116:$C$122,0),X$180-1990+2)*INDEX($D$59:$AG$59,1,X$180-1990+1)","v":72552746},{"$f":"INDEX($C$116:$AH$122,MATCH($C184,$C$116:$C$122,0),Y$180-1990+2)*INDEX($D$59:$AG$59,1,Y$180-1990+1)","v":72935482.000000015},{"$f":"INDEX($C$116:$AH$122,MATCH($C184,$C$116:$C$122,0),Z$180-1990+2)*INDEX($D$59:$AG$59,1,Z$180-1990+1)","v":73267193},{"$f":"INDEX($C$116:$AH$122,MATCH($C184,$C$116:$C$122,0),AA$180-1990+2)*INDEX($D$59:$AG$59,1,AA$180-1990+1)","v":73524222},{"$f":"INDEX($C$116:$AH$122,MATCH($C184,$C$116:$C$122,0),AB$180-1990+2)*INDEX($D$59:$AG$59,1,AB$180-1990+1)","v":73744136},{"$f":"INDEX($C$116:$AH$122,MATCH($C184,$C$116:$C$122,0),AC$180-1990+2)*INDEX($D$59:$AG$59,1,AC$180-1990+1)","v":73871032},{"$f":"INDEX($C$116:$AH$122,MATCH($C184,$C$116:$C$122,0),AD$180-1990+2)*INDEX($D$59:$AG$59,1,AD$180-1990+1)","v":73958442},{"$f":"INDEX($C$116:$AH$122,MATCH($C184,$C$116:$C$122,0),AE$180-1990+2)*INDEX($D$59:$AG$59,1,AE$180-1990+1)","v":74056284},{"$f":"INDEX($C$116:$AH$122,MATCH($C184,$C$116:$C$122,0),AF$180-1990+2)*INDEX($D$59:$AG$59,1,AF$180-1990+1)","v":74114701},{"$f":"INDEX($C$116:$AH$122,MATCH($C184,$C$116:$C$122,0),AG$180-1990+2)*INDEX($D$59:$AG$59,1,AG$180-1990+1)","v":74094714.000000015},{"$f":"INDEX($C$116:$AH$122,MATCH($C184,$C$116:$C$122,0),AH$180-1990+2)*INDEX($D$59:$AH$59,1,AH$180-1990+1)","v":75802133},{"$f":"INDEX($C$116:$AI$122,MATCH($C184,$C$116:$C$122,0),AI$180-1990+2)*INDEX($D$59:$AI$59,1,AI$180-1990+1)","v":75423634}]
[null,null,"SE",{"$f":"INDEX($C$116:$AH$122,MATCH($C185,$C$116:$C$122,0),D$180-1990+2)*INDEX($D$59:$AG$59,1,D$180-1990+1)","v":29711080},{"$f":"INDEX($C$116:$AH$122,MATCH($C185,$C$116:$C$122,0),E$180-1990+2)*INDEX($D$59:$AG$59,1,E$180-1990+1)","v":30377487},{"$f":"INDEX($C$116:$AH$122,MATCH($C185,$C$116:$C$122,0),F$180-1990+2)*INDEX($D$59:$AG$59,1,F$180-1990+1)","v":30985434},{"$f":"INDEX($C$116:$AH$122,MATCH($C185,$C$116:$C$122,0),G$180-1990+2)*INDEX($D$59:$AG$59,1,G$180-1990+1)","v":31611557},{"$f":"INDEX($C$116:$AH$122,MATCH($C185,$C$116:$C$122,0),H$180-1990+2)*INDEX($D$59:$AG$59,1,H$180-1990+1)","v":32289404},{"$f":"INDEX($C$116:$AH$122,MATCH($C185,$C$116:$C$122,0),I$180-1990+2)*INDEX($D$59:$AG$59,1,I$180-1990+1)","v":32959544.000000004},{"$f":"INDEX($C$116:$AH$122,MATCH($C185,$C$116:$C$122,0),J$180-1990+2)*INDEX($D$59:$AG$59,1,J$180-1990+1)","v":33651299},{"$f":"INDEX($C$116:$AH$122,MATCH($C185,$C$116:$C$122,0),K$180-1990+2)*INDEX($D$59:$AG$59,1,K$180-1990+1)","v":34387923.999999993},{"$f":"INDEX($C$116:$AH$122,MATCH($C185,$C$116:$C$122,0),L$180-1990+2)*INDEX($D$59:$AG$59,1,L$180-1990+1)","v":35078450.999999993},{"$f":"INDEX($C$116:$AH$122,MATCH($C185,$C$116:$C$122,0),M$180-1990+2)*INDEX($D$59:$AG$59,1,M$180-1990+1)","v":35729428.999999993},{"$f":"INDEX($C$116:$AH$122,MATCH($C185,$C$116:$C$122,0),N$180-1990+2)*INDEX($D$59:$AG$59,1,N$180-1990+1)","v":36380655},{"$f":"INDEX($C$116:$AH$122,MATCH($C185,$C$116:$C$122,0),O$180-1990+2)*INDEX($D$59:$AG$59,1,O$180-1990+1)","v":37009121},{"$f":"INDEX($C$116:$AH$122,MATCH($C185,$C$116:$C$122,0),P$180-1990+2)*INDEX($D$59:$AG$59,1,P$180-1990+1)","v":37631621.999999993},{"$f":"INDEX($C$116:$AH$122,MATCH($C185,$C$116:$C$122,0),Q$180-1990+2)*INDEX($D$59:$AG$59,1,Q$180-1990+1)","v":38199676},{"$f":"INDEX($C$116:$AH$122,MATCH($C185,$C$116:$C$122,0),R$180-1990+2)*INDEX($D$59:$AG$59,1,R$180-1990+1)","v":38948642.999999993},{"$f":"INDEX($C$116:$AH$122,MATCH($C185,$C$116:$C$122,0),S$180-1990+2)*INDEX($D$59:$AG$59,1,S$180-1990+1)","v":39743516.999999993},{"$f":"INDEX($C$116:$AH$122,MATCH($C185,$C$116:$C$122,0),T$180-1990+2)*INDEX($D$59:$AG$59,1,T$180-1990+1)","v":40597920},{"$f":"INDEX($C$116:$AH$122,MATCH($C185,$C$116:$C$122,0),U$180-1990+2)*INDEX($D$59:$AG$59,1,U$180-1990+1)","v":41279977},{"$f":"INDEX($C$116:$AH$122,MATCH($C185,$C$116:$C$122,0),V$180-1990+2)*INDEX($D$59:$AG$59,1,V$180-1990+1)","v":41870593},{"$f":"INDEX($C$116:$AH$122,MATCH($C185,$C$116:$C$122,0),W$180-1990+2)*INDEX($D$59:$AG$59,1,W$180-1990+1)","v":42312928},{"$f":"INDEX($C$116:$AH$122,MATCH($C185,$C$116:$C$122,0),X$180-1990+2)*INDEX($D$59:$AG$59,1,X$180-1990+1)","v":42768784.000000007},{"$f":"INDEX($C$116:$AH$122,MATCH($C185,$C$116:$C$122,0),Y$180-1990+2)*INDEX($D$59:$AG$59,1,Y$180-1990+1)","v":43190805},{"$f":"INDEX($C$116:$AH$122,MATCH($C185,$C$116:$C$122,0),Z$180-1990+2)*INDEX($D$59:$AG$59,1,Z$180-1990+1)","v":43676433},{"$f":"INDEX($C$116:$AH$122,MATCH($C185,$C$116:$C$122,0),AA$180-1990+2)*INDEX($D$59:$AG$59,1,AA$180-1990+1)","v":44140455.999999993},{"$f":"INDEX($C$116:$AH$122,MATCH($C185,$C$116:$C$122,0),AB$180-1990+2)*INDEX($D$59:$AG$59,1,AB$180-1990+1)","v":44689237},{"$f":"INDEX($C$116:$AH$122,MATCH($C185,$C$116:$C$122,0),AC$180-1990+2)*INDEX($D$59:$AG$59,1,AC$180-1990+1)","v":45335688},{"$f":"INDEX($C$116:$AH$122,MATCH($C185,$C$116:$C$122,0),AD$180-1990+2)*INDEX($D$59:$AG$59,1,AD$180-1990+1)","v":46060512.000000007},{"$f":"INDEX($C$116:$AH$122,MATCH($C185,$C$116:$C$122,0),AE$180-1990+2)*INDEX($D$59:$AG$59,1,AE$180-1990+1)","v":46696980},{"$f":"INDEX($C$116:$AH$122,MATCH($C185,$C$116:$C$122,0),AF$180-1990+2)*INDEX($D$59:$AG$59,1,AF$180-1990+1)","v":47257375.000000007},{"$f":"INDEX($C$116:$AH$122,MATCH($C185,$C$116:$C$122,0),AG$180-1990+2)*INDEX($D$59:$AG$59,1,AG$180-1990+1)","v":47779162},{"$f":"INDEX($C$116:$AH$122,MATCH($C185,$C$116:$C$122,0),AH$180-1990+2)*INDEX($D$59:$AH$59,1,AH$180-1990+1)","v":47883637.999999993},{"$f":"INDEX($C$116:$AI$122,MATCH($C185,$C$116:$C$122,0),AI$180-1990+2)*INDEX($D$59:$AI$59,1,AI$180-1990+1)","v":48322561}]
[null,null,"CN",{"$f":"INDEX($C$116:$AH$122,MATCH($C186,$C$116:$C$122,0),D$180-1990+2)*INDEX($D$59:$AG$59,1,D$180-1990+1)","v":59788707.000000007},{"$f":"INDEX($C$116:$AH$122,MATCH($C186,$C$116:$C$122,0),E$180-1990+2)*INDEX($D$59:$AG$59,1,E$180-1990+1)","v":60339238.000000007},{"$f":"INDEX($C$116:$AH$122,MATCH($C186,$C$116:$C$122,0),F$180-1990+2)*INDEX($D$59:$AG$59,1,F$180-1990+1)","v":60928803.999999985},{"$f":"INDEX($C$116:$AH$122,MATCH($C186,$C$116:$C$122,0),G$180-1990+2)*INDEX($D$59:$AG$59,1,G$180-1990+1)","v":61484353.999999993},{"$f":"INDEX($C$116:$AH$122,MATCH($C186,$C$116:$C$122,0),H$180-1990+2)*INDEX($D$59:$AG$59,1,H$180-1990+1)","v":61970725.999999993},{"$f":"INDEX($C$116:$AH$122,MATCH($C186,$C$116:$C$122,0),I$180-1990+2)*INDEX($D$59:$AG$59,1,I$180-1990+1)","v":62473249.999999993},{"$f":"INDEX($C$116:$AH$122,MATCH($C186,$C$116:$C$122,0),J$180-1990+2)*INDEX($D$59:$AG$59,1,J$180-1990+1)","v":62944737},{"$f":"INDEX($C$116:$AH$122,MATCH($C186,$C$116:$C$122,0),K$180-1990+2)*INDEX($D$59:$AG$59,1,K$180-1990+1)","v":63344954.000000007},{"$f":"INDEX($C$116:$AH$122,MATCH($C186,$C$116:$C$122,0),L$180-1990+2)*INDEX($D$59:$AG$59,1,L$180-1990+1)","v":63715930},{"$f":"INDEX($C$116:$AH$122,MATCH($C186,$C$116:$C$122,0),M$180-1990+2)*INDEX($D$59:$AG$59,1,M$180-1990+1)","v":64100060.999999993},{"$f":"INDEX($C$116:$AH$122,MATCH($C186,$C$116:$C$122,0),N$180-1990+2)*INDEX($D$59:$AG$59,1,N$180-1990+1)","v":64491430.999999993},{"$f":"INDEX($C$116:$AH$122,MATCH($C186,$C$116:$C$122,0),O$180-1990+2)*INDEX($D$59:$AG$59,1,O$180-1990+1)","v":64776531},{"$f":"INDEX($C$116:$AH$122,MATCH($C186,$C$116:$C$122,0),P$180-1990+2)*INDEX($D$59:$AG$59,1,P$180-1990+1)","v":65018293},{"$f":"INDEX($C$116:$AH$122,MATCH($C186,$C$116:$C$122,0),Q$180-1990+2)*INDEX($D$59:$AG$59,1,Q$180-1990+1)","v":65276953.999999993},{"$f":"INDEX($C$116:$AH$122,MATCH($C186,$C$116:$C$122,0),R$180-1990+2)*INDEX($D$59:$AG$59,1,R$180-1990+1)","v":65532305.000000007},{"$f":"INDEX($C$116:$AH$122,MATCH($C186,$C$116:$C$122,0),S$180-1990+2)*INDEX($D$59:$AG$59,1,S$180-1990+1)","v":65751871.999999993},{"$f":"INDEX($C$116:$AH$122,MATCH($C186,$C$116:$C$122,0),T$180-1990+2)*INDEX($D$59:$AG$59,1,T$180-1990+1)","v":66028555.000000007},{"$f":"INDEX($C$116:$AH$122,MATCH($C186,$C$116:$C$122,0),U$180-1990+2)*INDEX($D$59:$AG$59,1,U$180-1990+1)","v":66293689},{"$f":"INDEX($C$116:$AH$122,MATCH($C186,$C$116:$C$122,0),V$180-1990+2)*INDEX($D$59:$AG$59,1,V$180-1990+1)","v":66523935},{"$f":"INDEX($C$116:$AH$122,MATCH($C186,$C$116:$C$122,0),W$180-1990+2)*INDEX($D$59:$AG$59,1,W$180-1990+1)","v":66748437.000000007},{"$f":"INDEX($C$116:$AH$122,MATCH($C186,$C$116:$C$122,0),X$180-1990+2)*INDEX($D$59:$AG$59,1,X$180-1990+1)","v":66975328},{"$f":"INDEX($C$116:$AH$122,MATCH($C186,$C$116:$C$122,0),Y$180-1990+2)*INDEX($D$59:$AG$59,1,Y$180-1990+1)","v":67164092},{"$f":"INDEX($C$116:$AH$122,MATCH($C186,$C$116:$C$122,0),Z$180-1990+2)*INDEX($D$59:$AG$59,1,Z$180-1990+1)","v":67348274.999999985},{"$f":"INDEX($C$116:$AH$122,MATCH($C186,$C$116:$C$122,0),AA$180-1990+2)*INDEX($D$59:$AG$59,1,AA$180-1990+1)","v":67576524},{"$f":"INDEX($C$116:$AH$122,MATCH($C186,$C$116:$C$122,0),AB$180-1990+2)*INDEX($D$59:$AG$59,1,AB$180-1990+1)","v":67765576},{"$f":"INDEX($C$116:$AH$122,MATCH($C186,$C$116:$C$122,0),AC$180-1990+2)*INDEX($D$59:$AG$59,1,AC$180-1990+1)","v":67885682},{"$f":"INDEX($C$116:$AH$122,MATCH($C186,$C$116:$C$122,0),AD$180-1990+2)*INDEX($D$59:$AG$59,1,AD$180-1990+1)","v":68018175.00000003},{"$f":"INDEX($C$116:$AH$122,MATCH($C186,$C$116:$C$122,0),AE$180-1990+2)*INDEX($D$59:$AG$59,1,AE$180-1990+1)","v":68160342},{"$f":"INDEX($C$116:$AH$122,MATCH($C186,$C$116:$C$122,0),AF$180-1990+2)*INDEX($D$59:$AG$59,1,AF$180-1990+1)","v":68263019},{"$f":"INDEX($C$116:$AH$122,MATCH($C186,$C$116:$C$122,0),AG$180-1990+2)*INDEX($D$59:$AG$59,1,AG$180-1990+1)","v":68340091.000000015},{"$f":"INDEX($C$116:$AH$122,MATCH($C186,$C$116:$C$122,0),AH$180-1990+2)*INDEX($D$59:$AH$59,1,AH$180-1990+1)","v":68935174},{"$f":"INDEX($C$116:$AI$122,MATCH($C186,$C$116:$C$122,0),AI$180-1990+2)*INDEX($D$59:$AI$59,1,AI$180-1990+1)","v":68841444}]
[null,null,"N/A",{"$f":"\"N/A\"","v":"N/A"},{"$f":"\"N/A\"","v":"N/A"},"N/A","N/A","N/A","N/A","N/A","N/A","N/A","N/A","N/A","N/A","N/A","N/A","N/A","N/A","N/A","N/A","N/A","N/A","N/A","N/A","N/A","N/A","N/A","N/A","N/A","N/A","N/A","N/A","N/A","N/A"]

{"sheet":"List Data","index":35,"n_rows":56,"n_cols":7,"rows_kept":56,"cut":false,"hidden":false,"merged":[]}
[]
[null,null,null,"Adipic"]
["XX",{"$f":"VLOOKUP(StateID,StateRange,2,FALSE)","v":"Select a State . . ."},{"$f":"VLOOKUP(StateID,StateRange,3,FALSE)","v":1},{"$f":"VLOOKUP(StateID,StateRange,4,FALSE)","v":0}]
["XX","Select a State . . .",1,0]
["AL","Alabama",2,0]
["AK","Alaska",3,0]
["AZ","Arizona",4,0]
["AR","Arkansas",5,0]
["CA","California",6,0]
["CO","Colorado",7,0]
["CT","Connecticut",8,0]
["DC","District of Columbia",9,0]
["DE","Delaware",10,0]
["FL","Florida",11,1]
["GA","Georgia",12,0,null,"VersionNumber",1]
["HI","Hawaii",13,0,null,"VersionDate","2024-01-31"]
["ID","Idaho",14,0]
["IL","Illinois",15,0]
["IN","Indiana",16,0]
["IA","Iowa",17,0]
["KS","Kansas",18,0]
["KY","Kentucky",19,0]
["LA","Louisiana",20,0]
["ME","Maine",21,0]
["MD","Maryland",22,0]
["MA","Massachusetts",23,0]
["MI","Michigan",24,0]
["MN","Minnesota",25,0]
["MS","Mississippi",26,0]
["MO","Missouri",27,0]
["MT","Montana",28,0]
["NE","Nebraska",29,0]
["NV","Nevada",30,0]
["NH","New Hampshire",31,0]
["NJ","New Jersey",32,0]
["NM","New Mexico",33,0]
["NY","New York",34,0]
["NC","North Carolina",35,0]
["ND","North Dakota",36,0]
["OH","Ohio",37,0]
["OK","Oklahoma",38,0]
["OR","Oregon",39,0]
["PA","Pennsylvania",40,0]
["PR","Puerto Rico",41,0]
["RI","Rhode Island",42,0]
["SC","South Carolina",43,0]
["SD","South Dakota",44,0]
["TN","Tennessee",45,0]
["TX","Texas",46,1]
["UT","Utah",47,0]
["VT","Vermont",48,0]
["VA","Virginia",49,1]
["WA","Washington",50,0]
["WV","West Virginia",51,0]
["WI","Wisconsin",52,0]
["WY","Wyoming",53,0]